Workbook

Sheet Suivi des dépenses
A1: Ressources/ Dépenses | D1: Janv | E1: Fév | F1: Mars | G1: Avril | H1: Mai | I1: Juin | J1: Juil | K1: Août | L1: Sept | M1: Oct | N1: Nov | O1: Déc | P1: Total sur l'année | Q1: Moyenne sur l'année | V1: années | W1: total dépenses | X1: total ressources | Y1: total épargne
A2: Solde du mois précédent | V2: 2018
A3: RESSOURCES | B3: Salaire | D3: 0 | E3: 932 | F3: 1950 | G3: 1950 | H3: 1950 | I3: 1950 | J3: 1950 | K3: 1950 | L3: 1950 | M3: 1950 | N3: 1950 | O3: 1950 | P3: =SUM(D3:O3) -> 20432 | Q3: =IF(SUM(D3:O3)=0,"",AVERAGE(D3:O3)) -> 1702.6667 | V3: 2019
B4: Allocation chômage / RMI ,,, | P4: =SUM(D4:O4) -> 0 | Q4: =IF(SUM(D4:O4)=0,"",AVERAGE(D4:O4)) | V4: 2020
B5: Revenu de formation | P5: =SUM(D5:O5) -> 0 | Q5: =IF(SUM(D5:O5)=0,"",AVERAGE(D5:O5)) | V5: 2021
B6: Bourse étudiante | P6: =SUM(D6:O6) -> 0 | Q6: =IF(SUM(D6:O6)=0,"",AVERAGE(D6:O6))
B7: Aide de la famille | D7: 200 | E7: 200 | F7: 200 | P7: =SUM(D7:O7) -> 600 | Q7: =IF(SUM(D7:O7)=0,"",AVERAGE(D7:O7)) -> 200
B8: Aide au logement | D8: 307 | P8: =SUM(D8:O8) -> 307 | Q8: =IF(SUM(D8:O8)=0,"",AVERAGE(D8:O8)) -> 307
B9: Primes 4 euros/j
B10: Tickets restaurants
B11: Prime
B13: Autres | F13: 171 | G13: 171 | H13: 171 | I13: 171 | J13: 171 | K13: 171 | L13: 171 | M13: 171 | N13: 171 | O13: 171 | P13: =SUM(D13:O13) -> 1710 | Q13: =IF(SUM(D13:O13)=0,"",AVERAGE(D13:O13)) -> 171
B14: Total ressources | D14: =SUM(D3:D13) -> 507 | E14: =SUM(E3:E13) -> 1132 | F14: =SUM(F3:F13) -> 2321 | G14: =SUM(G3:G13) -> 2121 | H14: =SUM(H3:H13) -> 2121 | I14: =SUM(I3:I13) -> 2121 | J14: =SUM(J3:J13) -> 2121 | K14: =SUM(K3:K13) -> 2121 | ... P14: =SUM(P3:P13) -> 23049 | Q14: =IF(SUM(D14:O14)=0,"",AVERAGE(D3:O13)) -> 886.5
A15: DEPENSES FIXES | B15: Logement | C15: Loyer et charges | D15: 540 | E15: 540 | F15: 540 | G15: 540 | H15: 540 | I15: 540 | J15: 540 | K15: 540 | L15: 540 | M15: 540 | N15: 540 | O15: 540 | P15: =SUM(D15:O15) -> 6480 | Q15: =IF(SUM(D15:O15)=0,"",AVERAGE(D15:O15)) -> 540
C16: Eau | P16: =SUM(D16:O16) -> 0 | Q16: =IF(SUM(D16:O16)=0,"",AVERAGE(D16:O16))
C17: Electricité | P17: =SUM(D17:O17) -> 0 | Q17: =IF(SUM(D17:O17)=0,"",AVERAGE(D17:O17))
C18: Gaz | P18: =SUM(D18:O18) -> 0 | Q18: =IF(SUM(D18:O18)=0,"",AVERAGE(D18:O18))
C19: Internet | D19: 39.99
C20: Téléphone | D20: 15.99 | E20: 15.99 | F20: 15.99 | G20: 15.99 | H20: 15.99 | I20: 15.99 | J20: 15.99 | K20: 15.99 | L20: 15.99 | M20: 15.99 | N20: 15.99 | O20: 15.99 | P20: =SUM(D20:O20) -> 191.88 | Q20: =IF(SUM(D20:O20)=0,"",AVERAGE(D20:O20)) -> 15.99
C21: Assurance habitation | E21: 18 | F21: 18 | G21: 18 | H21: 18 | I21: 18 | J21: 18 | K21: 18 | L21: 18 | M21: 18 | P21: =SUM(D21:O21) -> 162 | Q21: =IF(SUM(D21:O21)=0,"",AVERAGE(D21:O21)) -> 18
C22: Taxe d'habitation | P22: =SUM(D22:O22) -> 0 | Q22: =IF(SUM(D22:O22)=0,"",AVERAGE(D22:O22))
B23: Caddie (alimentation et hygiène) | E23: 200 | F23: 200 | G23: 200 | H23: 200 | I23: 200 | J23: 200 | K23: 200 | L23: 200 | M23: 200 | N23: 200 | O23: 200 | P23: =SUM(D23:O23) -> 2200 | Q23: =IF(SUM(D23:O23)=0,"",AVERAGE(D23:O23)) -> 200
B24: Santé | C24: Mutuelle | E24: 37 | F24: 37 | G24: 37 | H24: 37 | I24: 37 | J24: 37 | K24: 37 | L24: 37 | M24: 37 | N24: 37 | O24: 37 | P24: =SUM(D24:O24) -> 407 | Q24: =IF(SUM(D24:O24)=0,"",AVERAGE(D24:O24)) -> 37
C25: Sécurité sociale étudiante | P25: =SUM(D25:O25) -> 0 | Q25: =IF(SUM(D25:O25)=0,"",AVERAGE(D25:O25))
B26: Transport | C26: Assurance véhicule | P26: =SUM(D26:O26) -> 0 | Q26: =IF(SUM(D26:O26)=0,"",AVERAGE(D26:O26))
C27: Carburant | P27: =SUM(D27:O27) -> 0 | Q27: =IF(SUM(D27:O27)=0,"",AVERAGE(D27:O27))
C28: autre | D28: =7.45+22.8+7.45+98.5 -> 136.2
C29: Abonnement/billet bus ou train | E29: 68.93 | F29: 68.93 | G29: 68.93 | H29: 68.93 | I29: 68.93 | J29: 68.93 | K29: 68.93 | L29: 68.93 | M29: 68.93 | N29: 68.93 | O29: 68.93 | P29: =SUM(D29:O29) -> 758.23 | Q29: =IF(SUM(D29:O29)=0,"",AVERAGE(D29:O29)) -> 68.93
B30: Etude et formation | P30: =SUM(D30:O30) -> 0 | Q30: =IF(SUM(D30:O30)=0,"",AVERAGE(D30:O30))
B31: Crédit en cours | E31: 491.69 | F31: 491.69 | G31: 491.69 | H31: 491.69 | I31: 491.69 | J31: 491.69 | K31: 491.69 | L31: 491.69 | M31: 491.69 | N31: 491.69 | O31: 491.69 | P31: =SUM(D31:O31) -> 5408.59 | Q31: =IF(SUM(D31:O31)=0,"",AVERAGE(D31:O31)) -> 491.69
B32: Autres | E32: 188.99 | F32: 188.99 | G32: 188.99 | H32: 188.99 | I32: 188.99 | J32: 188.99 | K32: 188.99 | L32: 188.99 | M32: 188.99 | N32: 188.99 | O32: 188.99 | P32: =SUM(D32:O32) -> 2078.89 | Q32: =IF(SUM(D32:O32)=0,"",AVERAGE(D32:O32)) -> 188.99
B33: Total dépenses fixes | D33: =SUM(D15:D32) -> 732.18 | E33: =SUM(E15:E32) -> 1560.6 | F33: =SUM(F15:F32) -> 1560.6 | G33: =SUM(G15:G32) -> 1560.6 | H33: =SUM(H15:H32) -> 1560.6 | I33: =SUM(I15:I32) -> 1560.6 | J33: =SUM(J15:J32) -> 1560.6 | K33: =SUM(K15:K32) -> 1560.6 | ... O33: =SUM(O15:O32) -> 1542.6 | P33: =SUM(D33:O33) -> 17862.78 | Q33: =IF(SUM(D15:O32)=0,"",AVERAGE(D15:O32)) -> 198.47533
A34: RESTE A VIVRE (ressources - dépenses fixes) | D34: =D14-D33 -> -225.18 | E34: =E14-E33 -> -428.6 | F34: =F14-F33 -> 760.4 | G34: =G14-G33 -> 560.4 | H34: =H14-H33 -> 560.4 | I34: =I14-I33 -> 560.4 | J34: =J14-J33 -> 560.4 | K34: =K14-K33 -> 560.4 | ... O34: =O14-O33 -> 578.4 | P34: =SUM(D34:O34) -> 5186.22
A35: DEPENSES OCCASIONELLES | B35: Frais médicaux | P35: =SUM(D35:O35) -> 0 | Q35: =IF(SUM(D35:O35)=0,"",AVERAGE(D35:O35))
B36: Entretien / réparation véhicule | P36: =SUM(D36:O36) -> 0 | Q36: =IF(SUM(D36:O36)=0,"",AVERAGE(D36:O36))
B37: Habillement / esthétique | D37: 62.36 | P37: =SUM(D37:O37) -> 62.36 | Q37: =IF(SUM(D37:O37)=0,"",AVERAGE(D37:O37)) -> 62.36
B38: Abonnement multimédia | P38: =SUM(D38:O38) -> 0 | Q38: =IF(SUM(D38:O38)=0,"",AVERAGE(D38:O38))
B39: Sorties / loisirs | P39: =SUM(D39:O39) -> 0 | Q39: =IF(SUM(D39:O39)=0,"",AVERAGE(D39:O39))
B40: Vacances | D40: =3.9+18.4 -> 22.3 | P40: =SUM(D40:O40) -> 22.3 | Q40: =IF(SUM(D40:O40)=0,"",AVERAGE(D40:O40)) -> 22.3
B41: Autres | P41: =SUM(D41:O41) -> 0 | Q41: =IF(SUM(D41:O41)=0,"",AVERAGE(D41:O41))
...

Sheet Comptes_Detaillés
A1: Ressources/Dépenses | D1: Janv | E1: Fév | F1: Mars | G1: Avril | H1: Mai | I1: Juin | J1: Juil | K1: Août | L1: Sept | M1: Oct | N1: Nov | O1: Déc | P1: Total sur l'année | Q1: Moyenne sur l'année
D2: =C2+1 -> 1 | E2: =D2+1 -> 2 | F2: =E2+1 -> 3 | G2: =F2+1 -> 4 | H2: =G2+1 -> 5 | I2: =H2+1 -> 6 | J2: =I2+1 -> 7 | K2: =J2+1 -> 8 | ... O2: =N2+1 -> 12
A3: Solde du mois précédent | D3: 2796.7 | E3: =D53 -> 2747.78 | F3: =E53 -> 33.54 | G3: =F53 -> 741.22 | H3: =G53 | I3: =H53 | J3: =I53 | K3: =J53 | L3: =K53 | ... O3: =N53 | P3: =SUM(D3:O3) -> 6319.24 | Q3: =AVERAGE(D3:P3) -> 2527.696
A4: RESSOURCES | B4: Salaire | D4: 0 | E4: 992.88 | F4: 1933.56 | P4: =IF(SUM(D4:O4)=0,"",SUM(D4:O4)) -> 2926.44 | Q4: =IF(SUM(D4:O4)=0,"",AVERAGE(D4:O4)) -> 975.48
B5: Aide de la famille | D5: 50 | P5: =IF(SUM(D5:O5)=0,"",SUM(D5:O5)) -> 50 | Q5: =IF(SUM(D5:O5)=0,"",AVERAGE(D5:O5)) -> 50
B6: Pension alimentaire | D6: 200 | F6: 200 | P6: =IF(SUM(D6:O6)=0,"",SUM(D6:O6)) -> 400 | Q6: =IF(SUM(D6:O6)=0,"",AVERAGE(D6:O6)) -> 200
B7: Aide au logement | D7: 307 | E7: 307 | F7: 307 | P7: =IF(SUM(D7:O7)=0,"",SUM(D7:O7)) -> 921 | Q7: =IF(SUM(D7:O7)=0,"",AVERAGE(D7:O7)) -> 307
B8: Tickets restaurants | P8: =IF(SUM(D8:O8)=0,"",SUM(D8:O8)) | Q8: =IF(SUM(D8:O8)=0,"",AVERAGE(D8:O8))
B9: Remboursement abo RATP | F9: 22.8 | P9: =IF(SUM(D9:O9)=0,"",SUM(D9:O9)) -> 22.8 | Q9: =IF(SUM(D9:O9)=0,"",AVERAGE(D9:O9)) -> 22.8
B10: Prime | P10: =IF(SUM(D10:O10)=0,"",SUM(D10:O10)) | Q10: =IF(SUM(D10:O10)=0,"",AVERAGE(D10:O10))
B11: Banque | D11: 6.72 | E11: 6.72 | P11: =IF(SUM(D11:O11)=0,"",SUM(D11:O11)) -> 13.44 | Q11: =IF(SUM(D11:O11)=0,"",AVERAGE(D11:O11)) -> 6.72
B12: Autres | D12: =200+330 -> 530 | F12: 134.45 | P12: =IF(SUM(D12:O12)=0,"",SUM(D12:O12)) -> 664.45 | Q12: =IF(SUM(D12:O12)=0,"",AVERAGE(D12:O12)) -> 332.225
B13: Total ressources | D13: =SUM(D4:D12) -> 1093.72 | E13: =SUM(E4:E12) -> 1306.6 | F13: =SUM(F4:F12) -> 2597.81 | G13: =SUM(G4:G12) -> 0 | H13: =SUM(H4:H12) -> 0 | I13: =SUM(I4:I12) -> 0 | J13: =SUM(J4:J12) -> 0 | K13: =SUM(K4:K12) -> 0 | ... O13: =SUM(O4:O12) -> 0 | P13: =SUM(D13:O13) -> 4998.13 | Q13: =IF(SUM(D13:O13)=0,"",AVERAGE(D13:O13)) -> 416.51083
A14: DEPENSES FIXES | B14: Logement | C14: Loyer et charges | D14: 490 | E14: 490 | F14: 490 | G14: 490 | H14: 490 | I14: 490 | J14: 490 | K14: 490 | L14: 490 | M14: 490 | N14: 490 | O14: 490 | P14: =IF(SUM(D14:O14)=0,"",SUM(D14:O14)) -> 5880 | Q14: =IF(SUM(D14:O14)=0,"",AVERAGE(D14:O14)) -> 490
C15: Eau | P15: =IF(SUM(D15:O15)=0,"",SUM(D15:O15)) | Q15: =IF(SUM(D15:O15)=0,"",AVERAGE(D15:O15))
C16: Electricité | P16: =IF(SUM(D16:O16)=0,"",SUM(D16:O16)) | Q16: =IF(SUM(D16:O16)=0,"",AVERAGE(D16:O16))
C17: Gaz | P17: =IF(SUM(D17:O17)=0,"",SUM(D17:O17)) | Q17: =IF(SUM(D17:O17)=0,"",AVERAGE(D17:O17))
C18: Internet | D18: 39.99 | E18: 39.99 | F18: 39.99 | G18: 39.99 | H18: 39.99 | I18: 39.99 | J18: 39.99 | K18: 39.99 | L18: 39.99 | M18: 39.99 | N18: 39.99 | O18: 39.99 | P18: =IF(SUM(D18:O18)=0,"",SUM(D18:O18)) -> 479.88 | Q18: =IF(SUM(D18:O18)=0,"",AVERAGE(D18:O18)) -> 39.99
C19: Téléphone | D19: 15.99 | E19: 15.99 | F19: 15.99 | G19: 15.99 | H19: 15.99 | I19: 15.99 | J19: 15.99 | K19: 15.99 | L19: 15.99 | M19: 15.99 | N19: 15.99 | O19: 15.99 | P19: =IF(SUM(D19:O19)=0,"",SUM(D19:O19)) -> 191.88 | Q19: =IF(SUM(D19:O19)=0,"",AVERAGE(D19:O19)) -> 15.99
C20: Assurance habitation | P20: =IF(SUM(D20:O20)=0,"",SUM(D20:O20)) | Q20: =IF(SUM(D20:O20)=0,"",AVERAGE(D20:O20))
C21: Taxe d'habitation | P21: =IF(SUM(D21:O21)=0,"",SUM(D21:O21)) | Q21: =IF(SUM(D21:O21)=0,"",AVERAGE(D21:O21))
C22: Autre | P22: =IF(SUM(D22:O22)=0,"",SUM(D22:O22)) | Q22: =IF(SUM(D22:O22)=0,"",AVERAGE(D22:O22))
B23: Alimentation midi | D23: 10 | E23: =80+40 -> 120 | F23: =40 -> 40 | P23: =IF(SUM(D23:O23)=0,"",SUM(D23:O23)) -> 170 | Q23: =IF(SUM(D23:O23)=0,"",AVERAGE(D23:O23)) -> 56.666667
B24: alimentation soir et entretien | D24: 7.32 | E24: =14.9+8.8 -> 23.7 | P24: =IF(SUM(D24:O24)=0,"",SUM(D24:O24)) -> 31.02 | Q24: =IF(SUM(D24:O24)=0,"",AVERAGE(D24:O24)) -> 15.51
B25: Santé | C25: Mutuelle | P25: =IF(SUM(D25:O25)=0,"",SUM(D25:O25)) | Q25: =IF(SUM(D25:O25)=0,"",AVERAGE(D25:O25))
C26: Sécurité sociale | P26: =IF(SUM(D26:O26)=0,"",SUM(D26:O26)) | Q26: =IF(SUM(D26:O26)=0,"",AVERAGE(D26:O26))
B27: Transport | C27: Abonnement RATP | D27: =22.8+22.8+22.8+22.8 -> 91.2 | E27: 75.2 | F27: 75.2 | G27: 75.2 | H27: 75.2 | I27: 75.2 | J27: 75.2 | K27: 75.2 | L27: 75.2 | M27: 75.2 | N27: 75.2 | O27: 75.2 | P27: =IF(SUM(D27:O27)=0,"",SUM(D27:O27)) -> 918.4 | Q27: =IF(SUM(D27:O27)=0,"",AVERAGE(D27:O27)) -> 76.533333
C28: Abonnement TGV | D28: 79 | E28: 79 | F28: 82.8 | G28: 79 | H28: 79 | I28: 79 | J28: 79 | K28: 79 | L28: 79 | M28: 79 | N28: 79 | O28: 79 | P28: =IF(SUM(D28:O28)=0,"",SUM(D28:O28)) -> 951.8 | Q28: =IF(SUM(D28:O28)=0,"",AVERAGE(D28:O28)) -> 79.316667
C29: Autre | D29: =7.45+7.45+98.5 -> 113.4 | P29: =IF(SUM(D29:O29)=0,"",SUM(D29:O29)) -> 113.4 | Q29: =IF(SUM(D29:O29)=0,"",AVERAGE(D29:O29)) -> 113.4
B30: Crédit en cours | C30: Crédit étudiant | D30: 47.76 | E30: 491.69 | F30: 491.69 | G30: 491.69 | H30: 491.69 | I30: 491.69 | J30: 491.69 | K30: 491.69 | L30: 491.69 | M30: 491.69 | N30: 491.69 | O30: 491.69 | P30: =IF(SUM(D30:O30)=0,"",SUM(D30:O30)) -> 5456.35 | Q30: =IF(SUM(D30:O30)=0,"",AVERAGE(D30:O30)) -> 454.69583
C31: Crédit immo | P31: =IF(SUM(D31:O31)=0,"",SUM(D31:O31)) | Q31: =IF(SUM(D31:O31)=0,"",AVERAGE(D31:O31))
C32: Crédit conso | P32: =IF(SUM(D32:O32)=0,"",SUM(D32:O32)) | Q32: =IF(SUM(D32:O32)=0,"",AVERAGE(D32:O32))
B33: Banque | D33: =0.52+6.8 -> 7.32 | E33: =6.8+0.52 -> 7.32 | P33: =IF(SUM(D33:O33)=0,"",SUM(D33:O33)) -> 14.64
B34: Autres | P34: =IF(SUM(D34:O34)=0,"",SUM(D34:O34)) | Q34: =IF(SUM(D34:O34)=0,"",AVERAGE(D34:O34))
B35: Total dépenses fixes | D35: =SUM(D14:D34) -> 901.98 | E35: =SUM(E14:E34) -> 1342.89 | F35: =SUM(F14:F34) -> 1235.67 | G35: =SUM(G14:G34) -> 1191.87 | H35: =SUM(H14:H34) -> 1191.87 | I35: =SUM(I14:I34) -> 1191.87 | J35: =SUM(J14:J34) -> 1191.87 | K35: =SUM(K14:K34) -> 1191.87 | ... O35: =SUM(O14:O34) -> 1191.87 | P35: =SUM(D35:O35) -> 14207.37 | Q35: =AVERAGE(D35:O35) -> 1183.9475
A36: RESTE A VIVRE | D36: =IF(D4="","",D13-D35) -> 191.74 | E36: =IF(E4="","",E13-E35) -> -36.29 | F36: =IF(F4="","",F13-F35) -> 1362.14 | G36: =IF(G4="","",G13-G35) | H36: =IF(H4="","",H13-H35) | I36: =IF(I4="","",I13-I35) | J36: =IF(J4="","",J13-J35) | K36: =IF(K4="","",K13-K35) | ... O36: =IF(O4="","",O13-O35) | P36: =SUM(D36:O36) -> 1517.59 | Q36: =AVERAGE(D36:O36) -> 505.86333
A37: DEPENSES OCCASIONELLES | B37: Frais médicaux | P37: =IF(SUM(D37:O37)=0,"",SUM(D37:O37)) | Q37: =IF(SUM(D37:O37)=0,"",AVERAGE(D37:O37))
B38: Habillement / esthétique | D38: 62.36 | E38: 12.95 | P38: =IF(SUM(D38:O38)=0,"",SUM(D38:O38)) -> 75.31 | Q38: =IF(SUM(D38:O38)=0,"",AVERAGE(D38:O38)) -> 37.655
B39: Abonnement multimédia | P39: =IF(SUM(D39:O39)=0,"",SUM(D39:O39)) | Q39: =IF(SUM(D39:O39)=0,"",AVERAGE(D39:O39))
B40: Sorties / loisirs | P40: =IF(SUM(D40:O40)=0,"",SUM(D40:O40)) | Q40: =IF(SUM(D40:O40)=0,"",AVERAGE(D40:O40))
...

Sheet Objectifs
B3: Objectifs Année N | C3: Argent nécessaire objectifs | D3: =SUM(G3,G6) -> 15000 | E3: ="Société Générale : " &Comptes_Banques!$H$2 &"€" -> Société Générale : 3200€ | F3: Argent nécessaire | G3: =IF(AND(I3="",K3="",M3="",O3="",Q3="",S3="",U3="",W3=""),"",SUM(I3:W3)) -> 9000 | H3: Objectif apport | I3: 7000 | J3: Objectif épargne | K3: 2000 | L3: Objectif | N3: Objectif | P3: Objectif | R3: Objectif | T3: Objectif | V3: Objectif
F4: Argent nécessaire | G4: =IF(G3="","",G3-Comptes_Banques!$H$2) -> 5800 | H4: Argent nécessaire | I4: =IF(I3="","",I3-Comptes_Banques!$H$2) -> 3800 | J4: Argent nécessaire | K4: =IF(K3="","",K3-Comptes_Banques!$H$2) -> -1200 | L4: Argent nécessaire | M4: =IF(M3="","",M3-Comptes_Banques!$H$2) | N4: Argent nécessaire | O4: =IF(O3="","",O3-Comptes_Banques!$H$2) | P4: Argent nécessaire | Q4: =IF(Q3="","",Q3-Comptes_Banques!$H$2) | R4: Argent nécessaire | S4: =IF(S3="","",S3-Comptes_Banques!$H$2) | T4: Argent nécessaire | U4: =IF(U3="","",U3-Comptes_Banques!$H$2) | V4: Argent nécessaire | W4: =IF(W3="","",W3-Comptes_Banques!$H$2)
C5: Argent nécessaire pour objectif | D5: =IF(D3="","",D3-Comptes_Banques!$J$2) -> 9162.72 | F5: Objectif atteint à | G5: =IF(G3="","",100-(100*(G4/G3))) -> 35.555556 | H5: Objectif atteint à | I5: =IF(I3="","",100-(100*(I4/I3))) -> 45.714286 | J5: Objectif atteint à | K5: =IF(K3="","",100-(100*(K4/K3))) -> 160 | L5: Objectif atteint à | M5: =IF(M3="","0",100-(100*(M4/M3))) -> 0 | N5: objectif atteint à | O5: =IF(O3="","0",100-(100*(O4/O3))) -> 0 | P5: objectif atteint à | Q5: =IF(Q3="","0",100-(100*(Q4/Q3))) -> 0 | R5: objectif atteint à | S5: =IF(S3="","0",100-(100*(S4/S3))) -> 0 | T5: objectif atteint à | U5: =IF(U3="","0",100-(100*(U4/U3))) -> 0 | V5: objectif atteint à | W5: =IF(W3="","0",100-(100*(W4/W3))) -> 0
E6: ="Crédit Mutuel : " & Comptes_Banques!$H$4 & "€" -> Crédit Mutuel : 2637.28€ | F6: Argent nécessaire | G6: =IF(AND(I6="",K6="",M6="",O6="",Q6="",S6="",U6="",W6=""),"",SUM(I6:W6)) -> 6000 | H6: Année "esprit tranquille" | I6: 6000 | J6: Objectif | L6: Objectif | N6: Objectif | P6: Objectif | R6: Objectif | T6: Objectif | V6: Objectif
C7: Objectif atteint à | D7: =IF(D3="","",100-(100*(D5/D3))) -> 38.9152 | F7: Argent nécessaire | G7: =IF(G6="","",G6-Comptes_Banques!$H$4) -> 3362.72 | H7: Argent nécessaire | I7: =IF(I6="","",I6-(Comptes_Detaillés!$B$60+IF(Comptes_Detaillés!$P$62="",0,Comptes_Detaillés!$P$62))) -> 3362.72 | J7: Argent nécessaire | K7: =IF(K6="","",K6-Comptes_Detaillés!V56) | L7: Argent nécessaire | M7: =IF(M6="","",M6-Comptes_Detaillés!X56) | N7: Argent nécessaire | O7: =IF(O6="","",O6-Comptes_Detaillés!T56) | P7: Argent nécessaire | Q7: =IF(Q6="","",Q6-Comptes_Detaillés!V56) | R7: Argent nécessaire | S7: =IF(S6="","",S6-Comptes_Detaillés!X56) | T7: Argent nécessaire | U7: =IF(U6="","",U6-Comptes_Detaillés!Z56) | V7: Argent nécessaire | W7: =IF(W6="","",W6-Comptes_Detaillés!AB56)
F8: Objectif atteint à | G8: =IF(G6="","0",100-(100*(G7/G6))) -> 43.954667 | H8: Objectif atteint à | I8: =IF(I6="","",100-(100*(I7/I6))) -> 43.954667 | J8: Objectif atteint à | K8: =IF(K6="","0",100-(100*(K7/K6))) -> 0 | L8: Objectif atteint à | M8: =IF(M6="","0",100-(100*(M7/M6))) -> 0 | N8: Objectif atteint à | O8: =IF(O6="","0",100-(100*(O7/O6))) -> 0 | P8: Objectif atteint à | Q8: =IF(Q6="","0",100-(100*(Q7/Q6))) -> 0 | R8: Objectif atteint à | S8: =IF(S6="","0",100-(100*(S7/S6))) -> 0 | T8: Objectif atteint à | U8: =IF(U6="","0",100-(100*(U7/U6))) -> 0 | V8: Objectif atteint à | W8: =IF(W6="","0",100-(100*(W7/W6))) -> 0
B10: Objectifs Année N + 1 | C10: Argent nécessaire objectifs | D10: =SUM(G10,G13) -> 0 | E10: ="Société Générale : " &Comptes_Banques!$H$2 &"€" -> Société Générale : 3200€ | F10: Argent nécessaire | G10: =IF(AND(I10="",K10="",M10="",O10="",Q10="",S10="",U10="",W10=""),"",SUM(I10:W10)) | H10: Objectif apport | J10: Objectif épargne | L10: objectif | N10: Objectif course F1 | P10: Objectif | R10: Objectif | T10: Objectif | V10: Objectif
F11: Argent nécessaire | G11: =IF(G10="","",G10-Comptes_Banques!$H$2) | H11: Argent nécessaire | I11: =IF(I10="","",I10-Comptes_Banques!$H$2) | J11: Argent nécessaire | K11: =IF(K10="","",K10-Comptes_Banques!$H$2) | L11: Argent nécessaire | M11: =IF(M10="","",M10-Comptes_Banques!$H$2) | N11: Argent nécessaire | O11: =IF(O10="","",O10-Comptes_Banques!$H$2) | P11: Argent nécessaire | Q11: =IF(Q10="","",Q10-Comptes_Banques!$H$2) | R11: Argent nécessaire | S11: =IF(S10="","",S10-Comptes_Banques!$H$2) | T11: Argent nécessaire | U11: =IF(U10="","",U10-Comptes_Banques!$H$2) | V11: Argent nécessaire | W11: =IF(W10="","",W10-Comptes_Banques!$H$2)
C12: Argent nécessaire pour objectif | D12: =IF(D10="","",D10-Comptes_Banques!$J$2) -> -5837.28 | F12: Objectif atteint à | G12: =IF(G10="","0",100-(100*(G11/G10))) -> 0 | H12: Objectif atteint à | I12: =IF(I10="","",100-(100*(I11/I10))) | J12: Objectif atteint à | K12: =IF(K10="","",100-(100*(K11/K10))) | L12: Objectif atteint à | M12: =IF(M10="","0",100-(100*(M11/M10))) -> 0 | N12: objectif atteint à | O12: =IF(O10="","0",100-(100*(O11/O10))) -> 0 | P12: objectif atteint à | Q12: =IF(Q10="","0",100-(100*(Q11/Q10))) -> 0 | R12: objectif atteint à | S12: =IF(S10="","0",100-(100*(S11/S10))) -> 0 | T12: objectif atteint à | U12: =IF(U10="","0",100-(100*(U11/U10))) -> 0 | V12: objectif atteint à | W12: =IF(W10="","0",100-(100*(W11/W10))) -> 0
E13: ="Crédit Mutuel : " & Comptes_Banques!$H$4 & "€" -> Crédit Mutuel : 2637.28€ | F13: Argent nécessaire | G13: =IF(AND(I13="",K13="",M13="",O13="",Q13="",S13="",U13="",W13=""),"",SUM(I13:W13)) | H13: Année "esprit tranquille" | J13: Objectif | L13: Objectif | N13: Objectif | P13: Objectif | R13: Objectif | T13: Objectif | V13: Objectif
C14: Objectif atteint à | D14: =IF(D10="","",100-(100*(D12/D10))) -> #DIV/0! | F14: Argent nécessaire | G14: =IF(G13="","",G13-Comptes_Banques!$H$4) | H14: Argent nécessaire | I14: =IF(I13="","",I13-(Comptes_Detaillés!$B$60+IF(Comptes_Detaillés!$P$62="",0,Comptes_Detaillés!$P$62))) | J14: Argent nécessaire | K14: =IF(K13="","",K13-Comptes_Detaillés!V63) | L14: Argent nécessaire | M14: =IF(M13="","",M13-Comptes_Detaillés!X63) | N14: Argent nécessaire | O14: =IF(O13="","",O13-Comptes_Detaillés!T63) | P14: Argent nécessaire | Q14: =IF(Q13="","",Q13-Comptes_Detaillés!V63) | R14: Argent nécessaire | S14: =IF(S13="","",S13-Comptes_Detaillés!X63) | T14: Argent nécessaire | U14: =IF(U13="","",U13-Comptes_Detaillés!Z63) | V14: Argent nécessaire | W14: =IF(W13="","",W13-Comptes_Detaillés!AB63)
F15: Objectif atteint à | G15: =IF(G13="","0",100-(100*(G14/G13))) -> 0 | H15: Objectif atteint à | I15: =IF(I13="","",100-(100*(I14/I13))) | J15: Objectif atteint à | K15: =IF(K13="","0",100-(100*(K14/K13))) -> 0 | L15: Objectif atteint à | M15: =IF(M13="","0",100-(100*(M14/M13))) -> 0 | N15: Objectif atteint à | O15: =IF(O13="","0",100-(100*(O14/O13))) -> 0 | P15: Objectif atteint à | Q15: =IF(Q13="","0",100-(100*(Q14/Q13))) -> 0 | R15: Objectif atteint à | S15: =IF(S13="","0",100-(100*(S14/S13))) -> 0 | T15: Objectif atteint à | U15: =IF(U13="","0",100-(100*(U14/U13))) -> 0 | V15: Objectif atteint à | W15: =IF(W13="","0",100-(100*(W14/W13))) -> 0
B17: Objectifs Année N + 2 | C17: Argent nécessaire objectifs | D17: =SUM(G17,G20) -> 0 | E17: ="Société Générale : " &Comptes_Banques!$H$2 &"€" -> Société Générale : 3200€ | F17: Argent nécessaire | G17: =IF(AND(I17="",K17="",M17="",O17="",Q17="",S17="",U17="",W17=""),"",SUM(I17:W17)) | H17: Objectif apport | J17: Objectif épargne | L17: Objectif | N17: Objectif | P17: Objectif | R17: Objectif | T17: Objectif | V17: Objectif
F18: Argent nécessaire | G18: =IF(G17="","",G17-Comptes_Banques!$H$2) | H18: Argent nécessaire | I18: =IF(I17="","",I17-Comptes_Banques!$H$2) | J18: Argent nécessaire | K18: =IF(K17="","",K17-Comptes_Banques!$H$2) | L18: Argent nécessaire | M18: =IF(M17="","",M17-Comptes_Banques!$H$2) | N18: Argent nécessaire | O18: =IF(O17="","",O17-Comptes_Banques!$H$2) | P18: Argent nécessaire | Q18: =IF(Q17="","",Q17-Comptes_Banques!$H$2) | R18: Argent nécessaire | S18: =IF(S17="","",S17-Comptes_Banques!$H$2) | T18: Argent nécessaire | U18: =IF(U17="","",U17-Comptes_Banques!$H$2) | V18: Argent nécessaire | W18: =IF(W17="","",W17-Comptes_Banques!$H$2)
C19: Argent nécessaire pour objectif | D19: =IF(D17="","",D17-Comptes_Banques!$J$2) -> -5837.28 | F19: Objectif atteint à | G19: =IF(G17="","0",100-(100*(G18/G17))) -> 0 | H19: Objectif atteint à | I19: =IF(I17="","",100-(100*(I18/I17))) | J19: Objectif atteint à | K19: =IF(K17="","",100-(100*(K18/K17))) | L19: Objectif atteint à | M19: =IF(M17="","0",100-(100*(M18/M17))) -> 0 | N19: objectif atteint à | O19: =IF(O17="","0",100-(100*(O18/O17))) -> 0 | P19: objectif atteint à | Q19: =IF(Q17="","0",100-(100*(Q18/Q17))) -> 0 | R19: objectif atteint à | S19: =IF(S17="","0",100-(100*(S18/S17))) -> 0 | T19: objectif atteint à | U19: =IF(U17="","0",100-(100*(U18/U17))) -> 0 | V19: objectif atteint à | W19: =IF(W17="","0",100-(100*(W18/W17))) -> 0
E20: ="Crédit Mutuel : " & Comptes_Banques!$H$4 & "€" -> Crédit Mutuel : 2637.28€ | F20: Argent nécessaire | G20: =IF(AND(I20="",K20="",M20="",O20="",Q20="",S20="",U20="",W20=""),"",SUM(I20:W20)) | H20: Année "esprit tranquille" | J20: Objectif | L20: Objectif | N20: Objectif | P20: Objectif | R20: Objectif | T20: Objectif | V20: Objectif
C21: Objectif atteint à | D21: =IF(D17="","",100-(100*(D19/D17))) -> #DIV/0! | F21: Argent nécessaire | G21: =IF(G20="","",G20-Comptes_Banques!$H$4) | H21: Argent nécessaire | I21: =IF(I20="","",I20-(Comptes_Detaillés!$B$60+IF(Comptes_Detaillés!$P$62="",0,Comptes_Detaillés!$P$62))) | J21: Argent nécessaire | K21: =IF(K20="","",K20-Comptes_Detaillés!V70) | L21: Argent nécessaire | M21: =IF(M20="","",M20-Comptes_Detaillés!X70) | N21: Argent nécessaire | O21: =IF(O20="","",O20-Comptes_Detaillés!T70) | P21: Argent nécessaire | Q21: =IF(Q20="","",Q20-Comptes_Detaillés!V70) | R21: Argent nécessaire | S21: =IF(S20="","",S20-Comptes_Detaillés!X70) | T21: Argent nécessaire | U21: =IF(U20="","",U20-Comptes_Detaillés!Z70) | V21: Argent nécessaire | W21: =IF(W20="","",W20-Comptes_Detaillés!AB70)
F22: Objectif atteint à | G22: =IF(G20="","0",100-(100*(G21/G20))) -> 0 | H22: Objectif atteint à | I22: =IF(I20="","",100-(100*(I21/I20))) | J22: Objectif atteint à | K22: =IF(K20="","0",100-(100*(K21/K20))) -> 0 | L22: Objectif atteint à | M22: =IF(M20="","0",100-(100*(M21/M20))) -> 0 | N22: Objectif atteint à | O22: =IF(O20="","0",100-(100*(O21/O20))) -> 0 | P22: Objectif atteint à | Q22: =IF(Q20="","0",100-(100*(Q21/Q20))) -> 0 | R22: Objectif atteint à | S22: =IF(S20="","0",100-(100*(S21/S20))) -> 0 | T22: Objectif atteint à | U22: =IF(U20="","0",100-(100*(U21/U20))) -> 0 | V22: Objectif atteint à | W22: =IF(W20="","0",100-(100*(W21/W20))) -> 0
B24: Objectifs Année N + 3 | C24: Argent nécessaire objectifs | D24: =SUM(G24,G27) -> 0 | E24: ="Société Générale : " &Comptes_Banques!$H$2 &"€" -> Société Générale : 3200€ | F24: Argent nécessaire | G24: =IF(AND(I24="",K24="",M24="",O24="",Q24="",S24="",U24="",W24=""),"",SUM(I24:W24)) | H24: Objectif apport | J24: Objectif épargne | L24: Objectif | N24: Objectif | P24: Objectif | R24: Objectif | T24: Objectif | V24: Objectif
F25: Argent nécessaire | G25: =IF(G24="","",G24-Comptes_Banques!$H$2) | H25: Argent nécessaire | I25: =IF(I24="","",I24-Comptes_Banques!$H$2) | J25: Argent nécessaire | K25: =IF(K24="","",K24-Comptes_Banques!$H$2) | L25: Argent nécessaire | M25: =IF(M24="","",M24-Comptes_Banques!$H$2) | N25: Argent nécessaire | O25: =IF(O24="","",O24-Comptes_Banques!$H$2) | P25: Argent nécessaire | Q25: =IF(Q24="","",Q24-Comptes_Banques!$H$2) | R25: Argent nécessaire | S25: =IF(S24="","",S24-Comptes_Banques!$H$2) | T25: Argent nécessaire | U25: =IF(U24="","",U24-Comptes_Banques!$H$2) | V25: Argent nécessaire | W25: =IF(W24="","",W24-Comptes_Banques!$H$2)
C26: Argent nécessaire pour objectif | D26: =IF(D24="","",D24-Comptes_Banques!$J$2) -> -5837.28 | F26: Objectif atteint à | G26: =IF(G24="","0",100-(100*(G25/G24))) -> 0 | H26: Objectif atteint à | I26: =IF(I24="","",100-(100*(I25/I24))) | J26: Objectif atteint à | K26: =IF(K24="","",100-(100*(K25/K24))) | L26: Objectif atteint à | M26: =IF(M24="","0",100-(100*(M25/M24))) -> 0 | N26: objectif atteint à | O26: =IF(O24="","0",100-(100*(O25/O24))) -> 0 | P26: objectif atteint à | Q26: =IF(Q24="","0",100-(100*(Q25/Q24))) -> 0 | R26: objectif atteint à | S26: =IF(S24="","0",100-(100*(S25/S24))) -> 0 | T26: objectif atteint à | U26: =IF(U24="","0",100-(100*(U25/U24))) -> 0 | V26: objectif atteint à | W26: =IF(W24="","0",100-(100*(W25/W24))) -> 0
E27: ="Crédit Mutuel : " & Comptes_Banques!$H$4 & "€" -> Crédit Mutuel : 2637.28€ | F27: Argent nécessaire | G27: =IF(AND(I27="",K27="",M27="",O27="",Q27="",S27="",U27="",W27=""),"",SUM(I27:W27)) | H27: Année "esprit tranquille" | J27: Objectif | L27: Objectif | N27: Objectif | P27: Objectif | R27: Objectif | T27: Objectif | V27: Objectif
C28: Objectif atteint à | D28: =IF(D24="","",100-(100*(D26/D24))) -> #DIV/0! | F28: Argent nécessaire | G28: =IF(G27="","",G27-Comptes_Banques!$H$4) | H28: Argent nécessaire | I28: =IF(I27="","",I27-(Comptes_Detaillés!$B$60+IF(Comptes_Detaillés!$P$62="",0,Comptes_Detaillés!$P$62))) | J28: Argent nécessaire | K28: =IF(K27="","",K27-Comptes_Detaillés!V77) | L28: Argent nécessaire | M28: =IF(M27="","",M27-Comptes_Detaillés!X77) | N28: Argent nécessaire | O28: =IF(O27="","",O27-Comptes_Detaillés!T77) | P28: Argent nécessaire | Q28: =IF(Q27="","",Q27-Comptes_Detaillés!V77) | R28: Argent nécessaire | S28: =IF(S27="","",S27-Comptes_Detaillés!X77) | T28: Argent nécessaire | U28: =IF(U27="","",U27-Comptes_Detaillés!Z77) | V28: Argent nécessaire | W28: =IF(W27="","",W27-Comptes_Detaillés!AB77)
F29: Objectif atteint à | G29: =IF(G27="","0",100-(100*(G28/G27))) -> 0 | H29: Objectif atteint à | I29: =IF(I27="","",100-(100*(I28/I27))) | J29: Objectif atteint à | K29: =IF(K27="","0",100-(100*(K28/K27))) -> 0 | L29: Objectif atteint à | M29: =IF(M27="","0",100-(100*(M28/M27))) -> 0 | N29: Objectif atteint à | O29: =IF(O27="","0",100-(100*(O28/O27))) -> 0 | P29: Objectif atteint à | Q29: =IF(Q27="","0",100-(100*(Q28/Q27))) -> 0 | R29: Objectif atteint à | S29: =IF(S27="","0",100-(100*(S28/S27))) -> 0 | T29: Objectif atteint à | U29: =IF(U27="","0",100-(100*(U28/U27))) -> 0 | V29: Objectif atteint à | W29: =IF(W27="","0",100-(100*(W28/W27))) -> 0
B31: Objectifs Année N + 4 | C31: Argent nécessaire objectifs | D31: =SUM(G31,G34) -> 0 | E31: ="Société Générale : " &Comptes_Banques!$H$2 &"€" -> Société Générale : 3200€ | F31: Argent nécessaire | G31: =IF(AND(I31="",K31="",M31="",O31="",Q31="",S31="",U31="",W31=""),"",SUM(I31:W31)) | H31: Objectif apport | J31: Objectif épargne | L31: Objectif | N31: Objectif | P31: Objectif | R31: Objectif | T31: Objectif | V31: Objectif
F32: Argent nécessaire | G32: =IF(G31="","",G31-Comptes_Banques!$H$2) | H32: Argent nécessaire | I32: =IF(I31="","",I31-Comptes_Banques!$H$2) | J32: Argent nécessaire | K32: =IF(K31="","",K31-Comptes_Banques!$H$2) | L32: Argent nécessaire | M32: =IF(M31="","",M31-Comptes_Banques!$H$2) | N32: Argent nécessaire | O32: =IF(O31="","",O31-Comptes_Banques!$H$2) | P32: Argent nécessaire | Q32: =IF(Q31="","",Q31-Comptes_Banques!$H$2) | R32: Argent nécessaire | S32: =IF(S31="","",S31-Comptes_Banques!$H$2) | T32: Argent nécessaire | U32: =IF(U31="","",U31-Comptes_Banques!$H$2) | V32: Argent nécessaire | W32: =IF(W31="","",W31-Comptes_Banques!$H$2)
C33: Argent nécessaire pour objectif | D33: =IF(D31="","",D31-Comptes_Banques!$J$2) -> -5837.28 | F33: Objectif atteint à | G33: =IF(G31="","0",100-(100*(G32/G31))) -> 0 | H33: Objectif atteint à | I33: =IF(I31="","",100-(100*(I32/I31))) | J33: Objectif atteint à | K33: =IF(K31="","",100-(100*(K32/K31))) | L33: Objectif atteint à | M33: =IF(M31="","0",100-(100*(M32/M31))) -> 0 | N33: objectif atteint à | O33: =IF(O31="","0",100-(100*(O32/O31))) -> 0 | P33: objectif atteint à | Q33: =IF(Q31="","0",100-(100*(Q32/Q31))) -> 0 | R33: objectif atteint à | S33: =IF(S31="","0",100-(100*(S32/S31))) -> 0 | T33: objectif atteint à | U33: =IF(U31="","0",100-(100*(U32/U31))) -> 0 | V33: objectif atteint à | W33: =IF(W31="","0",100-(100*(W32/W31))) -> 0
E34: ="Crédit Mutuel : " & Comptes_Banques!$H$4 & "€" -> Crédit Mutuel : 2637.28€ | F34: Argent nécessaire | G34: =IF(AND(I34="",K34="",M34="",O34="",Q34="",S34="",U34="",W34=""),"",SUM(I34:W34)) | H34: Année "esprit tranquille" | J34: Objectif | L34: Objectif | N34: Objectif | P34: Objectif | R34: Objectif | T34: Objectif | V34: Objectif
C35: Objectif atteint à | D35: =IF(D31="","",100-(100*(D33/D31))) -> #DIV/0! | F35: Argent nécessaire | G35: =IF(G34="","",G34-Comptes_Banques!$H$4) | H35: Argent nécessaire | I35: =IF(I34="","",I34-(Comptes_Detaillés!$B$60+IF(Comptes_Detaillés!$P$62="",0,Comptes_Detaillés!$P$62))) | J35: Argent nécessaire | K35: =IF(K34="","",K34-Comptes_Detaillés!V84) | L35: Argent nécessaire | M35: =IF(M34="","",M34-Comptes_Detaillés!X84) | N35: Argent nécessaire | O35: =IF(O34="","",O34-Comptes_Detaillés!T84) | P35: Argent nécessaire | Q35: =IF(Q34="","",Q34-Comptes_Detaillés!V84) | R35: Argent nécessaire | S35: =IF(S34="","",S34-Comptes_Detaillés!X84) | T35: Argent nécessaire | U35: =IF(U34="","",U34-Comptes_Detaillés!Z84) | V35: Argent nécessaire | W35: =IF(W34="","",W34-Comptes_Detaillés!AB84)
F36: Objectif atteint à | G36: =IF(G34="","0",100-(100*(G35/G34))) -> 0 | H36: Objectif atteint à | I36: =IF(I34="","",100-(100*(I35/I34))) | J36: Objectif atteint à | K36: =IF(K34="","0",100-(100*(K35/K34))) -> 0 | L36: Objectif atteint à | M36: =IF(M34="","0",100-(100*(M35/M34))) -> 0 | N36: Objectif atteint à | O36: =IF(O34="","0",100-(100*(O35/O34))) -> 0 | P36: Objectif atteint à | Q36: =IF(Q34="","0",100-(100*(Q35/Q34))) -> 0 | R36: Objectif atteint à | S36: =IF(S34="","0",100-(100*(S35/S34))) -> 0 | T36: Objectif atteint à | U36: =IF(U34="","0",100-(100*(U35/U34))) -> 0 | V36: Objectif atteint à | W36: =IF(W34="","0",100-(100*(W35/W34))) -> 0
B38: Objectifs Année N + 5 | C38: Argent nécessaire objectifs | D38: =SUM(G38,G41) -> 0 | E38: ="Société Générale : " &Comptes_Banques!$H$2 &"€" -> Société Générale : 3200€ | F38: Argent nécessaire | G38: =IF(AND(I38="",K38="",M38="",O38="",Q38="",S38="",U38="",W38=""),"",SUM(I38:W38)) | H38: Objectif apport | J38: Objectif épargne | L38: Objectif JO 2022 | N38: Objectif | P38: Objectif | R38: Objectif | T38: Objectif | V38: Objectif
F39: Argent nécessaire | G39: =IF(G38="","",G38-Comptes_Banques!$H$2) | H39: Argent nécessaire | I39: =IF(I38="","",I38-Comptes_Banques!$H$2) | J39: Argent nécessaire | K39: =IF(K38="","",K38-Comptes_Banques!$H$2) | L39: Argent nécessaire | M39: =IF(M38="","",M38-Comptes_Banques!$H$2) | N39: Argent nécessaire | O39: =IF(O38="","",O38-Comptes_Banques!$H$2) | P39: Argent nécessaire | Q39: =IF(Q38="","",Q38-Comptes_Banques!$H$2) | R39: Argent nécessaire | S39: =IF(S38="","",S38-Comptes_Banques!$H$2) | T39: Argent nécessaire | U39: =IF(U38="","",U38-Comptes_Banques!$H$2) | V39: Argent nécessaire | W39: =IF(W38="","",W38-Comptes_Banques!$H$2)
C40: Argent nécessaire pour objectif | D40: =IF(D38="","",D38-Comptes_Banques!$J$2) -> -5837.28 | F40: Objectif atteint à | G40: =IF(G38="","0",100-(100*(G39/G38))) -> 0 | H40: Objectif atteint à | I40: =IF(I38="","",100-(100*(I39/I38))) | J40: Objectif atteint à | K40: =IF(K38="","",100-(100*(K39/K38))) | L40: Objectif atteint à | M40: =IF(M38="","0",100-(100*(M39/M38))) -> 0 | N40: objectif atteint à | O40: =IF(O38="","0",100-(100*(O39/O38))) -> 0 | P40: objectif atteint à | Q40: =IF(Q38="","0",100-(100*(Q39/Q38))) -> 0 | R40: objectif atteint à | S40: =IF(S38="","0",100-(100*(S39/S38))) -> 0 | T40: objectif atteint à | U40: =IF(U38="","0",100-(100*(U39/U38))) -> 0 | V40: objectif atteint à | W40: =IF(W38="","0",100-(100*(W39/W38))) -> 0
E41: ="Crédit Mutuel : " & Comptes_Banques!$H$4 & "€" -> Crédit Mutuel : 2637.28€ | F41: Argent nécessaire | G41: =IF(AND(I41="",K41="",M41="",O41="",Q41="",S41="",U41="",W41=""),"",SUM(I41:W41)) | H41: Année "esprit tranquille" | J41: Objectif | L41: Objectif | N41: Objectif | P41: Objectif | R41: Objectif | T41: Objectif | V41: Objectif
C42: Objectif atteint à | D42: =IF(D38="","",100-(100*(D40/D38))) -> #DIV/0! | F42: Argent nécessaire | G42: =IF(G41="","",G41-Comptes_Banques!$H$4) | H42: Argent nécessaire | I42: =IF(I41="","",I41-(Comptes_Detaillés!$B$60+IF(Comptes_Detaillés!$P$62="",0,Comptes_Detaillés!$P$62))) | J42: Argent nécessaire | K42: =IF(K41="","",K41-Comptes_Detaillés!V91) | L42: Argent nécessaire | M42: =IF(M41="","",M41-Comptes_Detaillés!X91) | N42: Argent nécessaire | O42: =IF(O41="","",O41-Comptes_Detaillés!T91) | P42: Argent nécessaire | Q42: =IF(Q41="","",Q41-Comptes_Detaillés!V91) | R42: Argent nécessaire | S42: =IF(S41="","",S41-Comptes_Detaillés!X91) | T42: Argent nécessaire | U42: =IF(U41="","",U41-Comptes_Detaillés!Z91) | V42: Argent nécessaire | W42: =IF(W41="","",W41-Comptes_Detaillés!AB91)
F43: Objectif atteint à | G43: =IF(G41="","0",100-(100*(G42/G41))) -> 0 | H43: Objectif atteint à | I43: =IF(I41="","",100-(100*(I42/I41))) | J43: Objectif atteint à | K43: =IF(K41="","0",100-(100*(K42/K41))) -> 0 | L43: Objectif atteint à | M43: =IF(M41="","0",100-(100*(M42/M41))) -> 0 | N43: Objectif atteint à | O43: =IF(O41="","0",100-(100*(O42/O41))) -> 0 | P43: Objectif atteint à | Q43: =IF(Q41="","0",100-(100*(Q42/Q41))) -> 0 | R43: Objectif atteint à | S43: =IF(S41="","0",100-(100*(S42/S41))) -> 0 | T43: Objectif atteint à | U43: =IF(U41="","0",100-(100*(U42/U41))) -> 0 | V43: Objectif atteint à | W43: =IF(W41="","0",100-(100*(W42/W41))) -> 0

Sheet Comptes_Banques
B2: Société Générale | C2: Epargne année N-1 | D2: 0 | E2: Epargne | F2: =Comptes_Detaillés!P56 -> 1200 | G2: Total | H2: =SUM(F2:F3,D2:D3) -> 3200 | I2: Argent disponible sans compte courant | J2: =SUM(H2:H4) -> 5837.28 | K2: Argent disponible | L2: =Comptes_Detaillés!B65 -> 6578.5
C3: Epargne LDD N-1 | D3: 0 | E3: Epargne LDD | F3: =Comptes_Detaillés!P57 -> 2000
B4: Crédit Mutuel | C4: Livret A année N-1 | D4: 2627.28 | E4: Livret A | F4: =Comptes_Detaillés!P60 -> 10 | H4: =SUM(F4,D4) -> 2637.28

Sheet récapitulatif
B2: années | C2: total dépenses | D2: total ressources | E2: total épargne | F2: balance moyenne
B3: 2018 | C3: =Comptes_Detaillés!P50 -> 14570.44 | D3: =Comptes_Detaillés!P13 -> 4998.13 | E3: =Comptes_Detaillés!B66 -> 0 | F3: =Comptes_Detaillés!Q51 -> 384.84
B4: 2019
B5: 2020
B6: 2021
