Workbook
Name Investissements: Tableau4[Investissements]
Name ListeCategories: Feuil4!$B$2:$D$2
Name listetableau2: #REF!
Name listetableaux: #REF!
Name ListeTypes: Feuil4!$B$2:$D$2
Name Rentrées: Tableau2[Rentrées]
Name sortie: #REF!
Name Sorties: Tableau3[Sorties]
Name sortiesfixes: #REF!

Sheet Budget
B2: Rentrée d'Argent | D2: Janvier | E2: Février | F2: Mars | G2: Avril | H2: Mai | I2: Juin | J2: Juillet | K2: Août | L2: Septembre | M2: Octobre | N2: Novembre | O2: Décembre | P2: Total
C3: Salaire | D3: 1400 | E3: 1400 | F3: 1400 | G3: 1400 | H3: 1400 | I3: 1400 | J3: 1400 | K3: 1400 | L3: 1400 | M3: 2000 | N3: 2000 | O3: 2000 | P3: =SUM(D3:O3) -> 18600
C4: Bourse | K4: 1000 | M4: 1000 | O4: 1000 | P4: =SUM(D4:O4) -> 3000
B5: Total | D5: =SUM(D3:D4) -> 1400 | E5: =SUM(E3:E4) -> 1400 | F5: =SUM(F3:F4) -> 1400 | G5: =SUM(G3:G4) -> 1400 | H5: =SUM(H3:H4) -> 1400 | I5: =SUM(I3:I4) -> 1400 | J5: =SUM(J3:J4) -> 1400 | K5: =SUM(K3:K4) -> 2400 | ... P5: =SUM(P3:P4) -> 21600
B7: Répartition | D7: Janvier | E7: Février | F7: Mars | G7: Avril | H7: Mai | I7: Juin | J7: Juillet | K7: Août | L7: Septembre | M7: Octobre | N7: Novembre | O7: Décembre | P7: Total
C8: Investissement | D8: =D5*D9 -> 420 | E8: =E5*E9 -> 420 | F8: =F5*F9 -> 420 | G8: =G5*G9 -> 420 | H8: =H5*H9 -> 420 | I8: =I5*I9 -> 420 | J8: =J5*J9 -> 420 | K8: =K5*K9 -> 720 | ... O8: =O5*O9 -> 900 | P8: =SUM(D8:O8) -> 6480
C9: Investissement Pourcentage | D9: 0.3 | E9: 0.3 | F9: 0.3 | G9: 0.3 | H9: 0.3 | I9: 0.3 | J9: 0.3 | K9: 0.3 | L9: 0.3 | M9: 0.3 | N9: 0.3 | O9: 0.3
C10: Sorties Fixes | D10: =D5*D11 -> 700 | E10: =E5*E11 -> 700 | F10: =F5*F11 -> 700 | G10: =G5*G11 -> 700 | H10: =H5*H11 -> 700 | I10: =I5*I11 -> 700 | J10: =J5*J11 -> 700 | K10: =K5*K11 -> 1200 | ... O10: =O5*O11 -> 1500 | P10: =SUM(D10:O10) -> 10800
C11: Sorties Fixes Pourcentage | D11: 0.5 | E11: 0.5 | F11: 0.5 | G11: 0.5 | H11: 0.5 | I11: 0.5 | J11: 0.5 | K11: 0.5 | L11: 0.5 | M11: 0.5 | N11: 0.5 | O11: 0.5
C12: Sorties Variables | D12: =D5*D13 -> 280 | E12: =E5*E13 -> 280 | F12: =F5*F13 -> 280 | G12: =G5*G13 -> 280 | H12: =H5*H13 -> 280 | I12: =I5*I13 -> 280 | J12: =J5*J13 -> 280 | K12: =K5*K13 -> 480 | ... O12: =O5*O13 -> 600 | P12: =SUM(D12:O12) -> 4320
C13: Sorties Variables Pourcentage | D13: 0.2 | E13: 0.2 | F13: 0.2 | G13: 0.2 | H13: 0.2 | I13: 0.2 | J13: 0.2 | K13: 0.2 | L13: 0.2 | M13: 0.2 | N13: 0.2 | O13: 0.2
B14: Total | D14: =SUM(D8,D10,D12) -> 1400 | E14: =SUM(E8,E10,E12) -> 1400 | F14: =SUM(F8,F10,F12) -> 1400 | G14: =SUM(G8,G10,G12) -> 1400 | H14: =SUM(H8,H10,H12) -> 1400 | I14: =SUM(I8,I10,I12) -> 1400 | J14: =SUM(J8,J10,J12) -> 1400 | K14: =SUM(K8,K10,K12) -> 2400 | ... P14: =SUM(P8,P10,P12) -> 21600
B16: Sorties d'Argent Fixes | D16: Janvier | E16: Février | F16: Mars | G16: Avril | H16: Mai | I16: Juin | J16: Juillet | K16: Août | L16: Septembre | M16: Octobre | N16: Novembre | O16: Décembre | P16: Total
C17: Assurance | D17: 0 | E17: 0 | F17: 0 | G17: 0 | H17: 0 | I17: 0 | J17: 0 | K17: 0 | L17: 0 | M17: 0 | N17: 0 | O17: 0 | P17: =SUM(D17:O17) -> 0
C18: Banque | D18: 12 | E18: 12 | F18: 12 | G18: 12 | H18: 12 | I18: 12 | J18: 12 | K18: 12 | L18: 12 | M18: 12 | N18: 12 | O18: 12 | P18: =SUM(D18:O18) -> 144
C19: Complémentaire | D19: 0 | E19: 0 | F19: 0 | G19: 0 | H19: 0 | I19: 0 | J19: 0 | K19: 0 | L19: 0 | M19: 0 | N19: 90 | O19: 90 | P19: =SUM(D19:O19) -> 180
C20: Internet | D20: 39.99 | E20: 39.99 | F20: 39.99 | G20: 39.99 | H20: 39.99 | I20: 39.99 | J20: 39.99 | K20: 39.99 | L20: 39.99 | M20: 39.99 | N20: 39.99 | O20: 39.99 | P20: =SUM(D20:O20) -> 479.88
C21: Prêt Étudiant | D21: 375 | E21: 375 | F21: 375 | G21: 375 | H21: 375 | I21: 375 | J21: 375 | K21: 375 | L21: 375 | M21: 375 | N21: 375 | O21: 375 | P21: =SUM(D21:O21) -> 4500
C22: Téléphone | D22: 15.9 | E22: 15.9 | F22: 15.9 | G22: 15.9 | H22: 15.9 | I22: 15.9 | J22: 15.9 | K22: 15.9 | L22: 15.9 | M22: 15.9 | N22: 15.9 | O22: 15.9 | P22: =SUM(D22:O22) -> 190.8
B23: Total | D23: =SUM(D17:D22) -> 442.89 | E23: =SUM(E17:E22) -> 442.89 | F23: =SUM(F17:F22) -> 442.89 | G23: =SUM(G17:G22) -> 442.89 | H23: =SUM(H17:H22) -> 442.89 | I23: =SUM(I17:I22) -> 442.89 | J23: =SUM(J17:J22) -> 442.89 | K23: =SUM(K17:K22) -> 442.89 | ... P23: =SUM(P17:P22) -> 5494.68
B25: Sorties d'Argent Variables | D25: Janvier | E25: Février | F25: Mars | G25: Avril | H25: Mai | I25: Juin | J25: Juillet | K25: Août | L25: Septembre | M25: Octobre | N25: Novembre | O25: Décembre | P25: Total
C26: Autres | D26: 0 | E26: 0 | F26: 0 | G26: 0 | H26: 0 | I26: 0 | J26: 0 | K26: 0 | L26: 0 | M26: 0 | N26: 0 | O26: 0 | P26: =SUM(D26:O26) -> 0
C27: Cadeaux | D27: 0 | E27: 0 | F27: 0 | G27: 0 | H27: 0 | I27: 0 | J27: 0 | K27: 0 | L27: 0 | M27: 0 | N27: 0 | O27: 0 | P27: =SUM(D27:O27) -> 0
C28: Habillement | D28: 0 | E28: 0 | F28: 0 | G28: 0 | H28: 0 | I28: 0 | J28: 0 | K28: 0 | L28: 0 | M28: 0 | N28: 0 | O28: 0 | P28: =SUM(D28:O28) -> 0
C29: Loisirs | D29: 0 | E29: 0 | F29: 0 | G29: 0 | H29: 0 | I29: 0 | J29: 0 | K29: 0 | L29: 0 | M29: 0 | N29: 0 | O29: 0 | P29: =SUM(D29:O29) -> 0
C30: Médecin | D30: 0 | E30: 0 | F30: 0 | G30: 0 | H30: 0 | I30: 0 | J30: 0 | K30: 0 | L30: 0 | M30: 0 | N30: 0 | O30: 0 | P30: =SUM(D30:O30) -> 0
C31: Paypal | D31: 40 | E31: 40 | F31: 40 | G31: 40 | H31: 40 | I31: 40 | J31: 40 | K31: 40 | L31: 40 | M31: 40 | N31: 40 | O31: 40 | P31: =SUM(D31:O31) -> 480
C32: Prop Firms | D32: 150 | E32: 150 | F32: 150 | G32: 150 | H32: 150 | I32: 150 | J32: 150 | K32: 150 | L32: 150 | M32: 150 | N32: 150 | O32: 150 | P32: =SUM(D32:O32) -> 1800
C33: Restaurant | D33: 0 | E33: 0 | F33: 0 | G33: 0 | H33: 0 | I33: 0 | J33: 0 | K33: 0 | L33: 0 | M33: 0 | N33: 0 | O33: 0 | P33: =SUM(D33:O33) -> 0
C34: Sport | D34: 0 | E34: 0 | F34: 0 | G34: 0 | H34: 0 | I34: 0 | J34: 0 | K34: 0 | L34: 0 | M34: 0 | N34: 0 | O34: 0 | P34: =SUM(D34:O34) -> 0
C35: Transport | D35: 0 | E35: 0 | F35: 0 | G35: 0 | H35: 0 | I35: 0 | J35: 0 | K35: 0 | L35: 0 | M35: 0 | N35: 0 | O35: 0 | P35: =SUM(D35:O35) -> 0
C36: Vacances | D36: 0 | E36: 0 | F36: 0 | G36: 0 | H36: 0 | I36: 0 | J36: 0 | K36: 0 | L36: 0 | M36: 0 | N36: 0 | O36: 0 | P36: =SUM(D36:O36) -> 0
B37: Total | D37: =SUM(D26:D36) -> 190 | E37: =SUM(E26:E36) -> 190 | F37: =SUM(F26:F36) -> 190 | G37: =SUM(G26:G36) -> 190 | H37: =SUM(H26:H36) -> 190 | I37: =SUM(I26:I36) -> 190 | J37: =SUM(J26:J36) -> 190 | K37: =SUM(K26:K36) -> 190 | ... P37: =SUM(P26:P36) -> 2280
B39: Investissements | D39: Janvier | E39: Février | F39: Mars | G39: Avril | H39: Mai | I39: Juin | J39: Juillet | K39: Août | L39: Septembre | M39: Octobre | N39: Novembre | O39: Décembre | P39: Total
C40: Bourse | D40: 100 | E40: 100 | F40: 100 | G40: 100 | H40: 100 | I40: 100 | J40: 100 | K40: 100 | L40: 100 | M40: 100 | N40: 100 | O40: 100 | P40: =SUM(D40:O40) -> 1200
C41: LDD | D41: 100 | E41: 100 | F41: 100 | G41: 100 | H41: 100 | I41: 100 | J41: 100 | K41: 100 | L41: 100 | M41: 100 | N41: 100 | O41: 100 | P41: =SUM(D41:O41) -> 1200
C42: Livret A | D42: 100 | E42: 100 | F42: 100 | G42: 100 | H42: 100 | I42: 100 | J42: 100 | K42: 100 | L42: 100 | M42: 100 | N42: 100 | O42: 100 | P42: =SUM(D42:O42) -> 1200
C43: Physique | D43: 100 | E43: 100 | F43: 100 | G43: 100 | H43: 100 | I43: 100 | J43: 100 | K43: 100 | L43: 100 | M43: 100 | N43: 100 | O43: 100 | P43: =SUM(D43:O43) -> 1200
B44: Total | D44: =SUM(D40:D43) -> 400 | E44: =SUM(E40:E43) -> 400 | F44: =SUM(F40:F43) -> 400 | G44: =SUM(G40:G43) -> 400 | H44: =SUM(H40:H43) -> 400 | I44: =SUM(I40:I43) -> 400 | J44: =SUM(J40:J43) -> 400 | K44: =SUM(K40:K43) -> 400 | ... P44: =SUM(P40:P43) -> 4800

Sheet Reel
B2: Soldes Comptes | D2: Janvier | E2: Février | F2: Mars | G2: Avril | H2: Mai | I2: Juin | J2: Juillet | K2: Août | L2: Septembre | M2: Octobre | N2: Novembre | O2: Décembre | P2: N-1
C3: Compte Courant | D3: =SUM(P3,D12)-SUM(D15,D17,D19) -> 0 | E3: =SUM(D3,E12)-SUM(E15,E17,E19) -> 0 | F3: =SUM(E3,F12)-SUM(F15,F17,F19) -> 0 | G3: =SUM(F3,G12)-SUM(G15,G17,G19) -> 0 | H3: =SUM(G3,H12)-SUM(H15,H17,H19) -> 0 | I3: =SUM(H3,I12)-SUM(I15,I17,I19) -> 0 | J3: =SUM(I3,J12)-SUM(J15,J17,J19) -> 0 | K3: =SUM(J3,K12)-SUM(K15,K17,K19) -> 0 | L3: =SUM(K3,L12)-SUM(L15,L17,L19) -> 0 | ... O3: =SUM(N3,O12)-SUM(O15,O17,O19) -> 0
C4: LDD | D4: =SUM(P4,D49) -> 0 | E4: =SUM(D4,E49) -> 0 | F4: =SUM(E4,F49) -> 0 | G4: =SUM(F4,G49) -> 0 | H4: =SUM(G4,H49) -> 0 | I4: =SUM(H4,I49) -> 0 | J4: =SUM(I4,J49) -> 0 | K4: =SUM(J4,K49) -> 0 | L4: =SUM(K4,L49) -> 0 | ... O4: =SUM(N4,O49) -> 0
C5: Livret A | D5: =SUM(P5,D50) -> 0 | E5: =SUM(D5,E50) -> 0 | F5: =SUM(E5,F50) -> 0 | G5: =SUM(F5,G50) -> 0 | H5: =SUM(G5,H50) -> 0 | I5: =SUM(H5,I50) -> 0 | J5: =SUM(I5,J50) -> 0 | K5: =SUM(J5,K50) -> 0 | L5: =SUM(K5,L50) -> 0 | ... O5: =SUM(N5,O50) -> 0
B6: Total | D6: =SUM(D3:D5) -> 0 | E6: =SUM(E3:E5) -> 0 | F6: =SUM(F3:F5) -> 0 | G6: =SUM(G3:G5) -> 0 | H6: =SUM(H3:H5) -> 0 | I6: =SUM(I3:I5) -> 0 | J6: =SUM(J3:J5) -> 0 | K6: =SUM(K3:K5) -> 0 | ... P6: =SUM(P3:P5) -> 0
B8: Rentrées d'Argent | D8: Janvier | E8: Février | F8: Mars | G8: Avril | H8: Mai | I8: Juin | J8: Juillet | K8: Août | L8: Septembre | M8: Octobre | N8: Novembre | O8: Décembre | P8: Total
C9: Salaire | D9: 0 | E9: 0 | F9: 0 | G9: 0 | H9: 0 | I9: 0 | J9: 0 | K9: 0 | L9: 0 | M9: 0 | N9: 0 | O9: 0 | P9: =SUM(D9:O9) -> 0
C10: Bourse | D10: 0 | E10: 0 | F10: 0 | G10: 0 | H10: 0 | I10: 0 | J10: 0 | K10: 0 | L10: 0 | M10: 0 | N10: 0 | O10: 0
C11: Autre | D11: 0 | E11: 0 | F11: 0 | G11: 0 | H11: 0 | I11: 0 | J11: 0 | K11: 0 | L11: 0 | M11: 0 | N11: 0 | O11: 0 | P11: =SUM(D11:O11) -> 0
B12: Total | D12: =SUM(D9:D11) -> 0 | E12: =SUM(E9:E11) -> 0 | F12: =SUM(F9:F11) -> 0 | G12: =SUM(G9:G11) -> 0 | H12: =SUM(H9:H11) -> 0 | I12: =SUM(I9:I11) -> 0 | J12: =SUM(J9:J11) -> 0 | K12: =SUM(K9:K11) -> 0 | ... P12: =SUM(P9:P11) -> 0
B14: Répartition | D14: Janvier | E14: Février | F14: Mars | G14: Avril | H14: Mai | I14: Juin | J14: Juillet | K14: Août | L14: Septembre | M14: Octobre | N14: Novembre | O14: Décembre | P14: Total
C15: Investissement | D15: =D52 -> 0 | E15: =E52 -> 0 | F15: =F52 -> 0 | G15: =G52 -> 0 | H15: =H52 -> 0 | I15: =I52 -> 0 | J15: =J52 -> 0 | K15: =K52 -> 0 | ... O15: =O52 -> 0 | P15: =SUM(D15:O15) -> 0
C16: Investissement Pourcentage | D16: =D15/Budget!D8 -> 0 | E16: =E15/Budget!E8 -> 0 | F16: =F15/Budget!F8 -> 0 | G16: =G15/Budget!G8 -> 0 | H16: =H15/Budget!H8 -> 0 | I16: =I15/Budget!I8 -> 0 | J16: =J15/Budget!J8 -> 0 | K16: =K15/Budget!K8 -> 0 | ... O16: =O15/Budget!O8 -> 0
C17: Sorties Fixes | D17: =D31 -> 0 | E17: =E31 -> 0 | F17: =F31 -> 0 | G17: =G31 -> 0 | H17: =H31 -> 0 | I17: =I31 -> 0 | J17: =J31 -> 0 | K17: =K31 -> 0 | ... O17: =O31 -> 0 | P17: =SUM(D17:O17) -> 0
C18: Sorties Fixes Pourcentage | D18: =D17/Budget!D10 -> 0 | E18: =E17/Budget!E10 -> 0 | F18: =F17/Budget!F10 -> 0 | G18: =G17/Budget!G10 -> 0 | H18: =H17/Budget!H10 -> 0 | I18: =I17/Budget!I10 -> 0 | J18: =J17/Budget!J10 -> 0 | K18: =K17/Budget!K10 -> 0 | ... O18: =O17/Budget!O10 -> 0
C19: Sorties Variables | D19: =D45 -> 0 | E19: =E45 -> 0 | F19: =F45 -> 0 | G19: =G45 -> 0 | H19: =H45 -> 0 | I19: =I45 -> 0 | J19: =J45 -> 0 | K19: =K45 -> 0 | ... O19: =O45 -> 0 | P19: =SUM(D19:O19) -> 0
C20: Sorties Variables Pourcentage | D20: =D19/Budget!D12 -> 0 | E20: =E19/Budget!E12 -> 0 | F20: =F19/Budget!F12 -> 0 | G20: =G19/Budget!G12 -> 0 | H20: =H19/Budget!H12 -> 0 | I20: =I19/Budget!I12 -> 0 | J20: =J19/Budget!J12 -> 0 | K20: =K19/Budget!K12 -> 0 | ... O20: =O19/Budget!O12 -> 0
B21: Total | D21: =SUM(D15,D17,D19) -> 0 | E21: =SUM(E15,E17,E19) -> 0 | F21: =SUM(F15,F17,F19) -> 0 | G21: =SUM(G15,G17,G19) -> 0 | H21: =SUM(H15,H17,H19) -> 0 | I21: =SUM(I15,I17,I19) -> 0 | J21: =SUM(J15,J17,J19) -> 0 | K21: =SUM(K15,K17,K19) -> 0 | ... P21: =SUM(P15,P17,P19) -> 0
B22: Pourcentage Total | D22: =D21/Budget!D14 -> 0 | E22: =E21/Budget!E14 -> 0 | F22: =F21/Budget!F14 -> 0 | G22: =G21/Budget!G14 -> 0 | H22: =H21/Budget!H14 -> 0 | I22: =I21/Budget!I14 -> 0 | J22: =J21/Budget!J14 -> 0 | K22: =K21/Budget!K14 -> 0 | ... O22: =O21/Budget!O14 -> 0
B24: Sorties Fixes | D24: Janvier | E24: Février | F24: Mars | G24: Avril | H24: Mai | I24: Juin | J24: Juillet | K24: Août | L24: Septembre | M24: Octobre | N24: Novembre | O24: Décembre | P24: Total
C25: Assurance | D25: 0 | E25: 0 | F25: 0 | G25: 0 | H25: 0 | I25: 0 | J25: 0 | K25: 0 | L25: 0 | M25: 0 | N25: 0 | O25: 0 | P25: =SUM(D25:O25) -> 0
C26: Banque | D26: 0 | E26: 0 | F26: 0 | G26: 0 | H26: 0 | I26: 0 | J26: 0 | K26: 0 | L26: 0 | M26: 0 | N26: 0 | O26: 0 | P26: =SUM(D26:O26) -> 0
C27: Complémentaire | D27: 0 | E27: 0 | F27: 0 | G27: 0 | H27: 0 | I27: 0 | J27: 0 | K27: 0 | L27: 0 | M27: 0 | N27: 0 | O27: 0 | P27: =SUM(D27:O27) -> 0
C28: Internet | D28: 0 | E28: 0 | F28: 0 | G28: 0 | H28: 0 | I28: 0 | J28: 0 | K28: 0 | L28: 0 | M28: 0 | N28: 0 | O28: 0 | P28: =SUM(D28:O28) -> 0
C29: Prêt Étudiant | D29: 0 | E29: 0 | F29: 0 | G29: 0 | H29: 0 | I29: 0 | J29: 0 | K29: 0 | L29: 0 | M29: 0 | N29: 0 | O29: 0 | P29: =SUM(D29:O29) -> 0
C30: Téléphone | D30: 0 | E30: 0 | F30: 0 | G30: 0 | H30: 0 | I30: 0 | J30: 0 | K30: 0 | L30: 0 | M30: 0 | N30: 0 | O30: 0 | P30: =SUM(D30:O30) -> 0
B31: Total | D31: =SUM(D25:D30) -> 0 | E31: =SUM(E25:E30) -> 0 | F31: =SUM(F25:F30) -> 0 | G31: =SUM(G25:G30) -> 0 | H31: =SUM(H25:H30) -> 0 | I31: =SUM(I25:I30) -> 0 | J31: =SUM(J25:J30) -> 0 | K31: =SUM(K25:K30) -> 0 | ... P31: =SUM(P25:P30) -> 0
B33: Sorties Variables | D33: Janvier | E33: Février | F33: Mars | G33: Avril | H33: Mai | I33: Juin | J33: Juillet | K33: Août | L33: Septembre | M33: Octobre | N33: Novembre | O33: Décembre | P33: Total
C34: Autres | D34: 0 | E34: 0 | F34: 0 | G34: 0 | H34: 0 | I34: 0 | J34: 0 | K34: 0 | L34: 0 | M34: 0 | N34: 0 | O34: 0 | P34: =SUM(D34:O34) -> 0
C35: Cadeaux | D35: 0 | E35: 0 | F35: 0 | G35: 0 | H35: 0 | I35: 0 | J35: 0 | K35: 0 | L35: 0 | M35: 0 | N35: 0 | O35: 0 | P35: =SUM(D35:O35) -> 0
C36: Habillement | D36: 0 | E36: 0 | F36: 0 | G36: 0 | H36: 0 | I36: 0 | J36: 0 | K36: 0 | L36: 0 | M36: 0 | N36: 0 | O36: 0 | P36: =SUM(D36:O36) -> 0
C37: Loisirs | D37: 0 | E37: 0 | F37: 0 | G37: 0 | H37: 0 | I37: 0 | J37: 0 | K37: 0 | L37: 0 | M37: 0 | N37: 0 | O37: 0 | P37: =SUM(D37:O37) -> 0
C38: Médecin | D38: 0 | E38: 0 | F38: 0 | G38: 0 | H38: 0 | I38: 0 | J38: 0 | K38: 0 | L38: 0 | M38: 0 | N38: 0 | O38: 0 | P38: =SUM(D38:O38) -> 0
C39: Paypal | D39: 0 | E39: 0 | F39: 0 | G39: 0 | H39: 0 | I39: 0 | J39: 0 | K39: 0 | L39: 0 | M39: 0 | N39: 0 | O39: 0 | P39: =SUM(D39:O39) -> 0
C40: Prop Firms | D40: 0 | E40: 0 | F40: 0 | G40: 0 | H40: 0 | I40: 0 | J40: 0 | K40: 0 | L40: 0 | M40: 0 | N40: 0 | O40: 0 | P40: =SUM(D40:O40) -> 0
C41: Restaurant | D41: 0 | E41: 0 | F41: 0 | G41: 0 | H41: 0 | I41: 0 | J41: 0 | K41: 0 | L41: 0 | M41: 0 | N41: 0 | O41: 0 | P41: =SUM(D41:O41) -> 0
C42: Sport | D42: 0 | E42: 0 | F42: 0 | G42: 0 | H42: 0 | I42: 0 | J42: 0 | K42: 0 | L42: 0 | M42: 0 | N42: 0 | O42: 0 | P42: =SUM(D42:O42) -> 0
C43: Transport | D43: 0 | E43: 0 | F43: 0 | G43: 0 | H43: 0 | I43: 0 | J43: 0 | K43: 0 | L43: 0 | M43: 0 | N43: 0 | O43: 0 | P43: =SUM(D43:O43) -> 0
C44: Vacances | D44: 0 | E44: 0 | F44: 0 | G44: 0 | H44: 0 | I44: 0 | J44: 0 | K44: 0 | L44: 0 | M44: 0 | N44: 0 | O44: 0 | P44: =SUM(D44:O44) -> 0
B45: Total | D45: =SUM(D34:D44) -> 0 | E45: =SUM(E34:E44) -> 0 | F45: =SUM(F34:F44) -> 0 | G45: =SUM(G34:G44) -> 0 | H45: =SUM(H34:H44) -> 0 | I45: =SUM(I34:I44) -> 0 | J45: =SUM(J34:J44) -> 0 | K45: =SUM(K34:K44) -> 0 | ... P45: =SUM(P34:P44) -> 0
...

Sheet Feuil3
B2: Date | C2: Type | D2: Catégorie | E2: Montant | F2: Détails | J2: juin
B3: 45048 | C3: Sorties | D3: Autres | E3: 5
B4: 45079 | C4: Sorties | D4: Autres | E4: 10
B5: 45091 | C5: Sorties | D5: Autres | E5: 5
B6: 45093 | C6: Sorties | D6: Internet | E6: 5
B7: 45109 | C7: Sorties | D7: Autres | E7: 5
K9: addition tout le mois
K10: =SUMPRODUCT((MONTH(Tableau1[Date])=MONTH(1&J2))*Tableau1[Montant]) -> 20
K14: addition catégories
J15: Autres | K15: =SUMIF(Tableau1[Catégorie],J15,Tableau1[Montant]) -> 25
K18: addition mois et catégorie
J19: Autres | K19: =AND(SUMPRODUCT((MONTH(Tableau1[Date])=MONTH(1&J2))*Tableau1[Montant]),SUMIF(Tableau1[Catégorie],J19,Tableau1[Montant])) -> TRUE

Sheet Feuil4
B2: Investissements | C2: Rentrées | D2: Sorties
B3: Bourse | C3: Autre | D3: Assurance
B4: LDD | C4: Bourse | D4: Autres
B5: Livret A | C5: Salaire | D5: Banque
B6: Physique | D6: Cadeaux
D7: Complémentaire
D8: Habillement
D9: Internet
D10: Loisirs
D11: Médecin
D12: Paypal
D13: Prêt Étudiant
D14: Prop Firms
D15: Restaurant
D16: Sport
D17: Téléphone
D18: Transport
D19: Vacances
