Workbook

Sheet Feuil1
A1: Nº | B1: Départements | C1: Habitants (2015) | D1: Superficie (en km²) | E1: Préfecture | F1: Région | G1: Nom Commercial | H1: Tel Commercial | I1: Mail | J1: Couleur
A2: 1 | B2: Ain | C2: 631877 | D2: 5 762 | E2: Bourg-en-Bresse | F2: Auvergne-Rhône-Alpes | G2: Jean Dupont1 | H2: =VLOOKUP($G2,Feuil4!$A:$D,2,FALSE) -> 00-00-01 | I2: =VLOOKUP($G2,Feuil4!$A:$D,3,FALSE) -> jdaaa1
A3: 3 | B3: Allier | C3: 341613 | D3: 7 340 | E3: Moulins | F3: Auvergne-Rhône-Alpes | G3: Jean Dupont1 | H3: =VLOOKUP($G3,Feuil4!$A:$D,2,FALSE) -> 00-00-01 | I3: =VLOOKUP($G3,Feuil4!$A:$D,3,FALSE) -> jdaaa1
A4: 7 | B4: Ardèche | C4: 324209 | D4: 5 529 | E4: Privas | F4: Auvergne-Rhône-Alpes | G4: Jean Dupont2 | H4: =VLOOKUP($G4,Feuil4!$A:$D,2,FALSE) -> 00-00-02 | I4: =VLOOKUP($G4,Feuil4!$A:$D,3,FALSE) -> jdaaa2
A5: 15 | B5: Cantal | C5: 146219 | D5: 5 726 | E5: Aurillac | F5: Auvergne-Rhône-Alpes | G5: Jean Dupont15 | H5: =VLOOKUP($G5,Feuil4!$A:$D,2,FALSE) -> 00-00-15 | I5: =VLOOKUP($G5,Feuil4!$A:$D,3,FALSE) -> jdaaa15
A6: 26 | B6: Drôme | C6: 504637 | D6: 6 530 | E6: Valence | F6: Auvergne-Rhône-Alpes | G6: Jean Dupont15 | H6: =VLOOKUP($G6,Feuil4!$A:$D,2,FALSE) -> 00-00-15 | I6: =VLOOKUP($G6,Feuil4!$A:$D,3,FALSE) -> jdaaa15
A7: 38 | B7: Isère | C7: 1251060 | D7: 7 431 | E7: Grenoble | F7: Auvergne-Rhône-Alpes | G7: Jean Dupont21 | H7: =VLOOKUP($G7,Feuil4!$A:$D,2,FALSE) -> 00-00-21 | I7: =VLOOKUP($G7,Feuil4!$A:$D,3,FALSE) -> jdaaa21
A8: 42 | B8: Loire | C8: 759411 | D8: 4 781 | E8: Saint-Étienne | F8: Auvergne-Rhône-Alpes | G8: Jean Dupont21 | H8: =VLOOKUP($G8,Feuil4!$A:$D,2,FALSE) -> 00-00-21 | I8: =VLOOKUP($G8,Feuil4!$A:$D,3,FALSE) -> jdaaa21
A9: 43 | B9: Haute-Loire | C9: 227034 | D9: 4 977 | E9: Le Puy-en-Velay | F9: Auvergne-Rhône-Alpes | G9: Jean Dupont21 | H9: =VLOOKUP($G9,Feuil4!$A:$D,2,FALSE) -> 00-00-21 | I9: =VLOOKUP($G9,Feuil4!$A:$D,3,FALSE) -> jdaaa21
A10: 63 | B10: Puy-de-Dôme | C10: 647501 | D10: 7 970 | E10: Clermont-Ferrand | F10: Auvergne-Rhône-Alpes | G10: Jean Dupont21 | H10: =VLOOKUP($G10,Feuil4!$A:$D,2,FALSE) -> 00-00-21 | I10: =VLOOKUP($G10,Feuil4!$A:$D,3,FALSE) -> jdaaa21
A11: 69 | B11: Rhone | C11: 1821995 | D11: 3 248 | E11: Lyon | F11: Auvergne-Rhône-Alpes | G11: Jean Dupont21 | H11: =VLOOKUP($G11,Feuil4!$A:$D,2,FALSE) -> 00-00-21 | I11: =VLOOKUP($G11,Feuil4!$A:$D,3,FALSE) -> jdaaa21
A12: 73 | B12: Savoie | C12: 428204 | D12: 6 028 | E12: Chambéry | F12: Auvergne-Rhône-Alpes | G12: NA | H12: =VLOOKUP($G12,Feuil4!$A:$D,2,FALSE) -> 0 | I12: =VLOOKUP($G12,Feuil4!$A:$D,3,FALSE) -> 0
A13: 74 | B13: Haute-Savoie | C13: 793938 | D13: 4 388 | E13: Annecy | F13: Auvergne-Rhône-Alpes | G13: NA | H13: =VLOOKUP($G13,Feuil4!$A:$D,2,FALSE) -> 0 | I13: =VLOOKUP($G13,Feuil4!$A:$D,3,FALSE) -> 0
... A20: 89 | B20: Yonne | C20: 340903 | D20: 7 427 | E20: Auxerre | F20: Bourgogne-Franche-Comté | G20: NA | H20: =VLOOKUP($G20,Feuil4!$A:$D,2,FALSE) -> 0 | I20: =VLOOKUP($G20,Feuil4!$A:$D,3,FALSE) -> 0
A21: 90 | B21: Territoire de Belfort | C21: 144483 | D21: 609 | E21: Belfort | F21: Bourgogne-Franche-Comté | G21: NA | H21: =VLOOKUP($G21,Feuil4!$A:$D,2,FALSE) -> 0 | I21: =VLOOKUP($G21,Feuil4!$A:$D,3,FALSE) -> 0
A22: 22 | B22: Côtes-d'Armor | C22: 598357 | D22: 6 878 | E22: Saint-Brieuc | F22: Bretagne | G22: NA | H22: =VLOOKUP($G22,Feuil4!$A:$D,2,FALSE) -> 0 | I22: =VLOOKUP($G22,Feuil4!$A:$D,3,FALSE) -> 0
A23: 29 | B23: Finistère | C23: 907796 | D23: 6 733 | E23: Quimper | F23: Bretagne | G23: NA | H23: =VLOOKUP($G23,Feuil4!$A:$D,2,FALSE) -> 0 | I23: =VLOOKUP($G23,Feuil4!$A:$D,3,FALSE) -> 0
A24: 35 | B24: Ille-et-Vilaine | C24: 1042884 | D24: 6 775 | E24: Rennes | F24: Bretagne | G24: NA | H24: =VLOOKUP($G24,Feuil4!$A:$D,2,FALSE) -> 0 | I24: =VLOOKUP($G24,Feuil4!$A:$D,3,FALSE) -> 0
A25: 56 | B25: Morbihan | C25: 744813 | D25: 6 823 | E25: Vannes | F25: Bretagne | G25: NA | H25: =VLOOKUP($G25,Feuil4!$A:$D,2,FALSE) -> 0 | I25: =VLOOKUP($G25,Feuil4!$A:$D,3,FALSE) -> 0
A26: 18 | B26: Cher | C26: 308992 | D26: 7 235 | E26: Bourges | F26: Centre-Val de Loire | G26: NA | H26: =VLOOKUP($G26,Feuil4!$A:$D,2,FALSE) -> 0 | I26: =VLOOKUP($G26,Feuil4!$A:$D,3,FALSE) -> 0
A27: 28 | B27: Eure-et-Loir | C27: 434035 | D27: 5 880 | E27: Chartres | F27: Centre-Val de Loire | G27: NA | H27: =VLOOKUP($G27,Feuil4!$A:$D,2,FALSE) -> 0 | I27: =VLOOKUP($G27,Feuil4!$A:$D,3,FALSE) -> 0
A28: 36 | B28: Indre | C28: 224200 | D28: 6 785 | E28: Châteauroux | F28: Centre-Val de Loire | G28: NA | H28: =VLOOKUP($G28,Feuil4!$A:$D,2,FALSE) -> 0 | I28: =VLOOKUP($G28,Feuil4!$A:$D,3,FALSE) -> 0
A29: 37 | B29: Indre-et-Loire | C29: 604966 | D29: 6 127 | E29: Tours | F29: Centre-Val de Loire | G29: NA | H29: =VLOOKUP($G29,Feuil4!$A:$D,2,FALSE) -> 0 | I29: =VLOOKUP($G29,Feuil4!$A:$D,3,FALSE) -> 0
A30: 41 | B30: Loir-et-Cher | C30: 333050 | D30: 6 343 | E30: Blois | F30: Centre-Val de Loire | G30: NA | H30: =VLOOKUP($G30,Feuil4!$A:$D,2,FALSE) -> 0 | I30: =VLOOKUP($G30,Feuil4!$A:$D,3,FALSE) -> 0
A31: 45 | B31: Loiret | C31: 673349 | D31: 6 775 | E31: Orléans | F31: Centre-Val de Loire | G31: NA | H31: =VLOOKUP($G31,Feuil4!$A:$D,2,FALSE) -> 0 | I31: =VLOOKUP($G31,Feuil4!$A:$D,3,FALSE) -> 0
A32: 2A | B32: Corse-du-Sud | C32: 152730 | D32: 4 014 | E32: Ajaccio | F32: Corse | G32: NA | H32: =VLOOKUP($G32,Feuil4!$A:$D,2,FALSE) -> 0 | I32: =VLOOKUP($G32,Feuil4!$A:$D,3,FALSE) -> 0
A33: 2B | B33: Haute-Corse | C33: 174553 | D33: 4 666 | E33: Bastia | F33: Corse | G33: NA | H33: =VLOOKUP($G33,Feuil4!$A:$D,2,FALSE) -> 0 | I33: =VLOOKUP($G33,Feuil4!$A:$D,3,FALSE) -> 0
A34: 8 | B34: Ardennes | C34: 277752 | D34: 5 229 | E34: Charleville-Mézières | F34: Grand Est | G34: NA | H34: =VLOOKUP($G34,Feuil4!$A:$D,2,FALSE) -> 0 | I34: =VLOOKUP($G34,Feuil4!$A:$D,3,FALSE) -> 0
A35: 10 | B35: Aube | C35: 309056 | D35: 6 004 | E35: Troyes | F35: Grand Est | G35: NA | H35: =VLOOKUP($G35,Feuil4!$A:$D,2,FALSE) -> 0 | I35: =VLOOKUP($G35,Feuil4!$A:$D,3,FALSE) -> 0
A36: 51 | B36: Marne | C36: 572293 | D36: 8 162 | E36: Châlons-en-Champagne | F36: Grand Est | G36: NA | H36: =VLOOKUP($G36,Feuil4!$A:$D,2,FALSE) -> 0 | I36: =VLOOKUP($G36,Feuil4!$A:$D,3,FALSE) -> 0
A37: 52 | B37: Haute-Marne | C37: 179154 | D37: 6 211 | E37: Chaumont | F37: Grand Est | G37: NA | H37: =VLOOKUP($G37,Feuil4!$A:$D,2,FALSE) -> 0 | I37: =VLOOKUP($G37,Feuil4!$A:$D,3,FALSE) -> 0
A38: 54 | B38: Meurthe-et-Moselle | C38: 734403 | D38: 5 246 | E38: Nancy | F38: Grand Est | G38: NA | H38: =VLOOKUP($G38,Feuil4!$A:$D,2,FALSE) -> 0 | I38: =VLOOKUP($G38,Feuil4!$A:$D,3,FALSE) -> 0
A39: 55 | B39: Meuse | C39: 190626 | D39: 6 211 | E39: Bar-le-Duc | F39: Grand Est | G39: NA | H39: =VLOOKUP($G39,Feuil4!$A:$D,2,FALSE) -> 0 | I39: =VLOOKUP($G39,Feuil4!$A:$D,3,FALSE) -> 0
A40: 57 | B40: Moselle | C40: 1044486 | D40: 6 216 | E40: Metz | F40: Grand Est | G40: NA | H40: =VLOOKUP($G40,Feuil4!$A:$D,2,FALSE) -> 0 | I40: =VLOOKUP($G40,Feuil4!$A:$D,3,FALSE) -> 0
A41: 67 | B41: Bas-Rhin | C41: 1116658 | D41: 4 755 | E41: Strasbourg | F41: Grand Est | G41: NA | H41: =VLOOKUP($G41,Feuil4!$A:$D,2,FALSE) -> 0 | I41: =VLOOKUP($G41,Feuil4!$A:$D,3,FALSE) -> 0
A42: 68 | B42: Haut-Rhin | C42: 762607 | D42: 3 525 | E42: Colmar | F42: Grand Est | G42: NA | H42: =VLOOKUP($G42,Feuil4!$A:$D,2,FALSE) -> 0 | I42: =VLOOKUP($G42,Feuil4!$A:$D,3,FALSE) -> 0
A43: 88 | B43: Vosges | C43: 372016 | D43: 5 874 | E43: Épinal | F43: Grand Est | G43: NA | H43: =VLOOKUP($G43,Feuil4!$A:$D,2,FALSE) -> 0 | I43: =VLOOKUP($G43,Feuil4!$A:$D,3,FALSE) -> 0
A44: 2 | B44: Aisne | C44: 538659 | D44: 7 369 | E44: Laon | F44: Hauts-de-France | G44: NA | H44: =VLOOKUP($G44,Feuil4!$A:$D,2,FALSE) -> 0 | I44: =VLOOKUP($G44,Feuil4!$A:$D,3,FALSE) -> 0
A45: 59 | B45: Nord | C45: 2605238 | D45: 5 743 | E45: Lille | F45: Hauts-de-France | G45: NA | H45: =VLOOKUP($G45,Feuil4!$A:$D,2,FALSE) -> 0 | I45: =VLOOKUP($G45,Feuil4!$A:$D,3,FALSE) -> 0
... A48: 80 | B48: Somme | C48: 571879 | D48: 6 170 | E48: Amiens | F48: Hauts-de-France | G48: NA | H48: =VLOOKUP($G48,Feuil4!$A:$D,2,FALSE) -> 0 | I48: =VLOOKUP($G48,Feuil4!$A:$D,3,FALSE) -> 0
A49: 75 | B49: Paris | F49: Île-de-France | G49: NA | H49: =VLOOKUP($G49,Feuil4!$A:$D,2,FALSE) -> 0 | I49: =VLOOKUP($G49,Feuil4!$A:$D,3,FALSE) -> 0
A50: 77 | B50: Seine-et-Marne | C50: 1390121 | D50: 5 915 | E50: Melun | F50: Île-de-France | G50: NA | H50: =VLOOKUP($G50,Feuil4!$A:$D,2,FALSE) -> 0 | I50: =VLOOKUP($G50,Feuil4!$A:$D,3,FALSE) -> 0
A51: 78 | B51: Yvelines | C51: 1427291 | D51: 2 284 | E51: Versailles | F51: Île-de-France | G51: NA | H51: =VLOOKUP($G51,Feuil4!$A:$D,2,FALSE) -> 0 | I51: =VLOOKUP($G51,Feuil4!$A:$D,3,FALSE) -> 0
A52: 91 | B52: Essonne | C52: 1276233 | D52: 1 804 | E52: Évry | F52: Île-de-France | G52: NA | H52: =VLOOKUP($G52,Feuil4!$A:$D,2,FALSE) -> 0 | I52: =VLOOKUP($G52,Feuil4!$A:$D,3,FALSE) -> 0
A53: 92 | B53: Hauts-de-Seine | C53: 1601569 | D53: 176 | E53: Nanterre | F53: Île-de-France | G53: NA | H53: =VLOOKUP($G53,Feuil4!$A:$D,2,FALSE) -> 0 | I53: =VLOOKUP($G53,Feuil4!$A:$D,3,FALSE) -> 0
A54: 93 | B54: Seine-Saint-Denis | C54: 1592663 | D54: 236 | E54: Bobigny | F54: Île-de-France | G54: NA | H54: =VLOOKUP($G54,Feuil4!$A:$D,2,FALSE) -> 0 | I54: =VLOOKUP($G54,Feuil4!$A:$D,3,FALSE) -> 0
A55: 94 | B55: Val-de-Marne | C55: 1372389 | D55: 245 | E55: Créteil | F55: Île-de-France | G55: NA | H55: =VLOOKUP($G55,Feuil4!$A:$D,2,FALSE) -> 0 | I55: =VLOOKUP($G55,Feuil4!$A:$D,3,FALSE) -> 0
A56: 95 | B56: Val-d'Oise | C56: 1215390 | D56: 1 246 | E56: Cergy | F56: Île-de-France | G56: NA | H56: =VLOOKUP($G56,Feuil4!$A:$D,2,FALSE) -> 0 | I56: =VLOOKUP($G56,Feuil4!$A:$D,3,FALSE) -> 0
A57: 14 | B57: Calvados | C57: 693579 | D57: 5 548 | E57: Caen | F57: Normandie | G57: NA | H57: =VLOOKUP($G57,Feuil4!$A:$D,2,FALSE) -> 0 | I57: =VLOOKUP($G57,Feuil4!$A:$D,3,FALSE) -> 0
A58: 27 | B58: Eure | C58: 601948 | D58: 6 040 | E58: Évreux | F58: Normandie | G58: NA | H58: =VLOOKUP($G58,Feuil4!$A:$D,2,FALSE) -> 0 | I58: =VLOOKUP($G58,Feuil4!$A:$D,3,FALSE) -> 0
A59: 50 | B59: Manche | C59: 499287 | D59: 5 938 | E59: Saint-Lô | F59: Normandie | G59: NA | H59: =VLOOKUP($G59,Feuil4!$A:$D,2,FALSE) -> 0 | I59: =VLOOKUP($G59,Feuil4!$A:$D,3,FALSE) -> 0
A60: 61 | B60: Orne | C60: 286618 | D60: 6 103 | E60: Alençon | F60: Normandie | G60: NA | H60: =VLOOKUP($G60,Feuil4!$A:$D,2,FALSE) -> 0 | I60: =VLOOKUP($G60,Feuil4!$A:$D,3,FALSE) -> 0
A61: 76 | B61: Seine-Maritime | C61: 1257699 | D61: 6 278 | E61: Rouen | F61: Normandie | G61: NA | H61: =VLOOKUP($G61,Feuil4!$A:$D,2,FALSE) -> 0 | I61: =VLOOKUP($G61,Feuil4!$A:$D,3,FALSE) -> 0
A62: 16 | B62: Charente | C62: 353613 | D62: 5 956 | E62: Angoulême | F62: Nouvelle-Aquitaine | G62: NA | H62: =VLOOKUP($G62,Feuil4!$A:$D,2,FALSE) -> 0 | I62: =VLOOKUP($G62,Feuil4!$A:$D,3,FALSE) -> 0
A63: 17 | B63: Charente-Maritime | C63: 639938 | D63: 6 864 | E63: La Rochelle | F63: Nouvelle-Aquitaine | G63: NA | H63: =VLOOKUP($G63,Feuil4!$A:$D,2,FALSE) -> 0 | I63: =VLOOKUP($G63,Feuil4!$A:$D,3,FALSE) -> 0
A64: 19 | B64: Corrèze | C64: 241871 | D64: 5 857 | E64: Tulle | F64: Nouvelle-Aquitaine | G64: NA | H64: =VLOOKUP($G64,Feuil4!$A:$D,2,FALSE) -> 0 | I64: =VLOOKUP($G64,Feuil4!$A:$D,3,FALSE) -> 0
A65: 23 | B65: Creuse | C65: 120365 | D65: 5 565 | E65: Guéret | F65: Nouvelle-Aquitaine | G65: NA | H65: =VLOOKUP($G65,Feuil4!$A:$D,2,FALSE) -> 0 | I65: =VLOOKUP($G65,Feuil4!$A:$D,3,FALSE) -> 0
A66: 24 | B66: Dordogne | C66: 415417 | D66: 9 060 | E66: Périgueux | F66: Nouvelle-Aquitaine | G66: NA | H66: =VLOOKUP($G66,Feuil4!$A:$D,2,FALSE) -> 0 | I66: =VLOOKUP($G66,Feuil4!$A:$D,3,FALSE) -> 0
A67: 33 | B67: Gironde | C67: 1548478 | D67: 10 725 | E67: Bordeaux | F67: Nouvelle-Aquitaine | G67: NA | H67: =VLOOKUP($G67,Feuil4!$A:$D,2,FALSE) -> 0 | I67: =VLOOKUP($G67,Feuil4!$A:$D,3,FALSE) -> 0
... A97: 84 | B97: Vaucluse | C97: 557548 | D97: 3 576 | E97: Avignon | F97: Provence-Alpes-Côte d'Azur | G97: NA | H97: =VLOOKUP($G97,Feuil4!$A:$D,2,FALSE) -> 0 | I97: =VLOOKUP($G97,Feuil4!$A:$D,3,FALSE) -> 0

Sheet Feuil4
A1: Nom Commercial | B1: Tel Commercial | C1: Mail Commercial | D1: Couleur
A2: Jean Dupont1 | B2: 00-00-01 | C2: jdaaa1
A3: Jean Dupont2 | B3: 00-00-02 | C3: jdaaa2
A4: Jean Dupont3 | B4: 00-00-03 | C4: jdaaa3
A5: Jean Dupont4 | B5: 00-00-04 | C5: jdaaa4
A6: Jean Dupont5 | B6: 00-00-05 | C6: jdaaa5
A7: Jean Dupont6 | B7: 00-00-06 | C7: jdaaa6
A8: Jean Dupont7 | B8: 00-00-07 | C8: jdaaa7
A9: Jean Dupont8 | B9: 00-00-08 | C9: jdaaa8
A10: Jean Dupont9 | B10: 00-00-09 | C10: jdaaa9
A11: Jean Dupont10 | B11: 00-00-10 | C11: jdaaa10
A12: Jean Dupont11 | B12: 00-00-11 | C12: jdaaa11
A13: Jean Dupont12 | B13: 00-00-12 | C13: jdaaa12
... A25: Jean Dupont24 | B25: 00-00-24 | C25: jdaaa24
A26: NA
A27: En cours de recrutement
