Workbook

Sheet IDF
A1: ILE DE France | B1: Lundi | D1: Mardi | F1: Mercredi | H1: Jeudi | J1: Vendredi | L1: Samedi | N1: Dimanche
B2: 43136 | C2: 43136 | D2: 43137 | E2: 43137 | F2: 43138 | G2: 43138 | H2: 43139 | I2: 43139 | J2: 43140 | K2: 43140 | L2: 43141 | M2: 43141 | N2: 43142 | O2: 43142
B3: Midi | C3: Soir | D3: Midi | E3: Soir | F3: Midi | G3: Soir | H3: Midi | I3: Soir | J3: Midi | K3: Soir | L3: Midi | M3: Soir | N3: Midi | O3: Midi
A4: Madame A
A9: Monsieur B
A14: Madame C
A19: Madame D
A24: Monsieur E
A86: Constants ILE DE France | B86: Lundi | D86: Mardi | F86: Mercredi | H86: Jeudi | J86: Vendredi | L86: Samedi | N86: Dimanche
B87: =B2 -> 43136 | C87: =C2 -> 43136 | D87: =D2 -> 43137 | E87: =E2 -> 43137 | F87: =F2 -> 43138 | G87: =G2 -> 43138 | H87: =H2 -> 43139 | I87: =I2 -> 43139 | ... O87: =O2 -> 43142
B88: Midi | C88: Soir | D88: Midi | E88: Soir | F88: Midi | G88: Soir | H88: Midi | I88: Soir | J88: Midi | K88: Soir | L88: Midi | M88: Soir | N88: Midi | O88: Midi
A89: Tomate | B89: =COUNTIF(B4:B83,"Tomate") -> 0 | C89: =COUNTIF(C4:C83,"Tomate") -> 0 | D89: =COUNTIF(D4:D83,"Tomate") -> 0 | E89: =COUNTIF(E4:E83,"Tomate") -> 0 | F89: =COUNTIF(F4:F83,"Tomate") -> 0 | G89: =COUNTIF(G4:G83,"Tomate") -> 0 | H89: =COUNTIF(H4:H83,"Tomate") -> 0 | I89: =COUNTIF(I4:I83,"Tomate") -> 0 | ... O89: =COUNTIF(O4:O83,"Tomate") -> 0
A90: Pâté | B90: =COUNTIF(B4:B83,"Pâté") -> 0 | C90: =COUNTIF(C4:C83,"Pâté") -> 0 | D90: =COUNTIF(D4:D83,"Pâté") -> 0 | E90: =COUNTIF(E4:E83,"Pâté") -> 0 | F90: =COUNTIF(F4:F83,"Pâté") -> 0 | G90: =COUNTIF(G4:G83,"Pâté") -> 0 | H90: =COUNTIF(H4:H83,"Pâté") -> 0 | I90: =COUNTIF(I4:I83,"Pâté") -> 0 | ... O90: =COUNTIF(O4:O83,"Pâté") -> 0
A91: Jambon | B91: =COUNTIF(B4:B83,"Jambon") -> 0 | C91: =COUNTIF(C4:C83,"Jambon") -> 0 | D91: =COUNTIF(D4:D83,"Jambon") -> 0 | E91: =COUNTIF(E4:E83,"Jambon") -> 0 | F91: =COUNTIF(F4:F83,"Jambon") -> 0 | G91: =COUNTIF(G4:G83,"Jambon") -> 0 | H91: =COUNTIF(H4:H83,"Jambon") -> 0 | I91: =COUNTIF(I4:I83,"Jambon") -> 0 | ... O91: =COUNTIF(O4:O83,"Jambon") -> 0
A92: Poisson pané | B92: =COUNTIF(B4:B83,"Poisson pané") -> 0 | C92: =COUNTIF(C4:C83,"Poisson pané") -> 0 | D92: =COUNTIF(D4:D83,"Poisson pané") -> 0 | E92: =COUNTIF(E4:E83,"Poisson pané") -> 0 | F92: =COUNTIF(F4:F83,"Poisson pané") -> 0 | G92: =COUNTIF(G4:G83,"Poisson pané") -> 0 | H92: =COUNTIF(H4:H83,"Poisson pané") -> 0 | I92: =COUNTIF(I4:I83,"Poisson pané") -> 0 | ... O92: =COUNTIF(O4:O83,"Poisson pané") -> 0
A93: Purée | B93: =COUNTIF(B4:B83,"Purée") -> 0 | C93: =COUNTIF(C4:C83,"Purée") -> 0 | D93: =COUNTIF(D4:D83,"Purée") -> 0 | E93: =COUNTIF(E4:E83,"Purée") -> 0 | F93: =COUNTIF(F4:F83,"Purée") -> 0 | G93: =COUNTIF(G4:G83,"Purée") -> 0 | H93: =COUNTIF(H4:H83,"Purée") -> 0 | I93: =COUNTIF(I4:I83,"Purée") -> 0 | ... O93: =COUNTIF(O4:O83,"Purée") -> 0
A94: Haricot vert | B94: =COUNTIF(B4:B83,"Haricot vert") -> 0 | C94: =COUNTIF(C4:C83,"Haricot vert") -> 0 | D94: =COUNTIF(D4:D83,"Haricot vert") -> 0 | E94: =COUNTIF(E4:E83,"Haricot vert") -> 0 | F94: =COUNTIF(F4:F83,"Haricot vert") -> 0 | G94: =COUNTIF(G4:G83,"Haricot vert") -> 0 | H94: =COUNTIF(H4:H83,"Haricot vert") -> 0 | I94: =COUNTIF(I4:I83,"Haricot vert") -> 0 | ... O94: =COUNTIF(O4:O83,"Haricot vert") -> 0
A95: Fruit | B95: =COUNTIF(B4:B83,"Fruit") -> 0 | C95: =COUNTIF(C4:C83,"Fruit") -> 0 | D95: =COUNTIF(D4:D83,"Fruit") -> 0 | E95: =COUNTIF(E4:E83,"Fruit") -> 0 | F95: =COUNTIF(F4:F83,"Fruit") -> 0 | G95: =COUNTIF(G4:G83,"Fruit") -> 0 | H95: =COUNTIF(H4:H83,"Fruit") -> 0 | I95: =COUNTIF(I4:I83,"Fruit") -> 0 | ... O95: =COUNTIF(O4:O83,"Fruit") -> 0
A96: Compote | B96: =COUNTIF(B4:B83,"Compote") -> 0 | C96: =COUNTIF(C4:C83,"Compote") -> 0 | D96: =COUNTIF(D4:D83,"Compote") -> 0 | E96: =COUNTIF(E4:E83,"Compote") -> 0 | F96: =COUNTIF(F4:F83,"Compote") -> 0 | G96: =COUNTIF(G4:G83,"Compote") -> 0 | H96: =COUNTIF(H4:H83,"Compote") -> 0 | I96: =COUNTIF(I4:I83,"Compote") -> 0 | ... O96: =COUNTIF(O4:O83,"Compote") -> 0

Sheet ECRINS
A1: LES ECRINS | B1: Lundi | D1: Mardi | F1: Mercredi | H1: Jeudi | J1: Vendredi | L1: Samedi | N1: Dimanche
B2: =IDF!B2 -> 43136 | C2: =IDF!C2 -> 43136 | D2: =IDF!D2 -> 43137 | E2: =IDF!E2 -> 43137 | F2: =IDF!F2 -> 43138 | G2: =IDF!G2 -> 43138 | H2: =IDF!H2 -> 43139 | I2: =IDF!I2 -> 43139 | ... O2: =IDF!O2 -> 43142
B3: Midi | C3: Soir | D3: Midi | E3: Soir | F3: Midi | G3: Soir | H3: Midi | I3: Soir | J3: Midi | K3: Soir | L3: Midi | M3: Soir | N3: Midi | O3: Midi
A86: Constants ECRINS | B86: Lundi | D86: Mardi | F86: Mercredi | H86: Jeudi | J86: Vendredi | L86: Samedi | N86: Dimanche
B87: =IDF!B87 -> 43136 | C87: =IDF!C87 -> 43136 | D87: =IDF!D87 -> 43137 | E87: =IDF!E87 -> 43137 | F87: =IDF!F87 -> 43138 | G87: =IDF!G87 -> 43138 | H87: =IDF!H87 -> 43139 | I87: =IDF!I87 -> 43139 | ... O87: =IDF!O87 -> 43142
B88: Midi | C88: Soir | D88: Midi | E88: Soir | F88: Midi | G88: Soir | H88: Midi | I88: Soir | J88: Midi | K88: Soir | L88: Midi | M88: Soir | N88: Midi | O88: Midi
A89: Tomate | B89: =COUNTIF(B4:B83,"Tomate") -> 0 | C89: =COUNTIF(C4:C83,"Tomate") -> 0 | D89: =COUNTIF(D4:D83,"Tomate") -> 0 | E89: =COUNTIF(E4:E83,"Tomate") -> 0 | F89: =COUNTIF(F4:F83,"Tomate") -> 0 | G89: =COUNTIF(G4:G83,"Tomate") -> 0 | H89: =COUNTIF(H4:H83,"Tomate") -> 0 | I89: =COUNTIF(I4:I83,"Tomate") -> 0 | ... O89: =COUNTIF(O4:O83,"Tomate") -> 0
A90: Pâté | B90: =COUNTIF(B4:B83,"Pâté") -> 0 | C90: =COUNTIF(C4:C83,"Pâté") -> 0 | D90: =COUNTIF(D4:D83,"Pâté") -> 0 | E90: =COUNTIF(E4:E83,"Pâté") -> 0 | F90: =COUNTIF(F4:F83,"Pâté") -> 0 | G90: =COUNTIF(G4:G83,"Pâté") -> 0 | H90: =COUNTIF(H4:H83,"Pâté") -> 0 | I90: =COUNTIF(I4:I83,"Pâté") -> 0 | ... O90: =COUNTIF(O4:O83,"Pâté") -> 0
A91: Jambon | B91: =COUNTIF(B4:B83,"Jambon") -> 0 | C91: =COUNTIF(C4:C83,"Jambon") -> 0 | D91: =COUNTIF(D4:D83,"Jambon") -> 0 | E91: =COUNTIF(E4:E83,"Jambon") -> 0 | F91: =COUNTIF(F4:F83,"Jambon") -> 0 | G91: =COUNTIF(G4:G83,"Jambon") -> 0 | H91: =COUNTIF(H4:H83,"Jambon") -> 0 | I91: =COUNTIF(I4:I83,"Jambon") -> 0 | ... O91: =COUNTIF(O4:O83,"Jambon") -> 0
A92: Poisson pané | B92: =COUNTIF(B4:B83,"Poisson pané") -> 0 | C92: =COUNTIF(C4:C83,"Poisson pané") -> 0 | D92: =COUNTIF(D4:D83,"Poisson pané") -> 0 | E92: =COUNTIF(E4:E83,"Poisson pané") -> 0 | F92: =COUNTIF(F4:F83,"Poisson pané") -> 0 | G92: =COUNTIF(G4:G83,"Poisson pané") -> 0 | H92: =COUNTIF(H4:H83,"Poisson pané") -> 0 | I92: =COUNTIF(I4:I83,"Poisson pané") -> 0 | ... O92: =COUNTIF(O4:O83,"Poisson pané") -> 0
A93: Purée | B93: =COUNTIF(B4:B83,"Purée") -> 0 | C93: =COUNTIF(C4:C83,"Purée") -> 0 | D93: =COUNTIF(D4:D83,"Purée") -> 0 | E93: =COUNTIF(E4:E83,"Purée") -> 0 | F93: =COUNTIF(F4:F83,"Purée") -> 0 | G93: =COUNTIF(G4:G83,"Purée") -> 0 | H93: =COUNTIF(H4:H83,"Purée") -> 0 | I93: =COUNTIF(I4:I83,"Purée") -> 0 | ... O93: =COUNTIF(O4:O83,"Purée") -> 0
A94: Haricot vert | B94: =COUNTIF(B4:B83,"Haricot vert") -> 0 | C94: =COUNTIF(C4:C83,"Haricot vert") -> 0 | D94: =COUNTIF(D4:D83,"Haricot vert") -> 0 | E94: =COUNTIF(E4:E83,"Haricot vert") -> 0 | F94: =COUNTIF(F4:F83,"Haricot vert") -> 0 | G94: =COUNTIF(G4:G83,"Haricot vert") -> 0 | H94: =COUNTIF(H4:H83,"Haricot vert") -> 0 | I94: =COUNTIF(I4:I83,"Haricot vert") -> 0 | ... O94: =COUNTIF(O4:O83,"Haricot vert") -> 0
A95: Fruit | B95: =COUNTIF(B4:B83,"Fruit") -> 0 | C95: =COUNTIF(C4:C83,"Fruit") -> 0 | D95: =COUNTIF(D4:D83,"Fruit") -> 0 | E95: =COUNTIF(E4:E83,"Fruit") -> 0 | F95: =COUNTIF(F4:F83,"Fruit") -> 0 | G95: =COUNTIF(G4:G83,"Fruit") -> 0 | H95: =COUNTIF(H4:H83,"Fruit") -> 0 | I95: =COUNTIF(I4:I83,"Fruit") -> 0 | ... O95: =COUNTIF(O4:O83,"Fruit") -> 0
A96: Compote | B96: =COUNTIF(B4:B83,"Compote") -> 0 | C96: =COUNTIF(C4:C83,"Compote") -> 0 | D96: =COUNTIF(D4:D83,"Compote") -> 0 | E96: =COUNTIF(E4:E83,"Compote") -> 0 | F96: =COUNTIF(F4:F83,"Compote") -> 0 | G96: =COUNTIF(G4:G83,"Compote") -> 0 | H96: =COUNTIF(H4:H83,"Compote") -> 0 | I96: =COUNTIF(I4:I83,"Compote") -> 0 | ... O96: =COUNTIF(O4:O83,"Compote") -> 0

Sheet CORNOUAILLES
A1: CORNOUAILLES | B1: Lundi | D1: Mardi | F1: Mercredi | H1: Jeudi | J1: Vendredi | L1: Samedi | N1: Dimanche
B2: =IDF!B2 -> 43136 | C2: =IDF!C2 -> 43136 | D2: =IDF!D2 -> 43137 | E2: =IDF!E2 -> 43137 | F2: =IDF!F2 -> 43138 | G2: =IDF!G2 -> 43138 | H2: =IDF!H2 -> 43139 | I2: =IDF!I2 -> 43139 | ... O2: =IDF!O2 -> 43142
B3: Midi | C3: Soir | D3: Midi | E3: Soir | F3: Midi | G3: Soir | H3: Midi | I3: Soir | J3: Midi | K3: Soir | L3: Midi | M3: Soir | N3: Midi | O3: Midi
A86: Constants CORNOUAILLES | B86: Lundi | D86: Mardi | F86: Mercredi | H86: Jeudi | J86: Vendredi | L86: Samedi | N86: Dimanche
B87: =IDF!B87 -> 43136 | C87: =IDF!C87 -> 43136 | D87: =IDF!D87 -> 43137 | E87: =IDF!E87 -> 43137 | F87: =IDF!F87 -> 43138 | G87: =IDF!G87 -> 43138 | H87: =IDF!H87 -> 43139 | I87: =IDF!I87 -> 43139 | ... O87: =IDF!O87 -> 43142
B88: Midi | C88: Soir | D88: Midi | E88: Soir | F88: Midi | G88: Soir | H88: Midi | I88: Soir | J88: Midi | K88: Soir | L88: Midi | M88: Soir | N88: Midi | O88: Midi
A89: Tomate | B89: =COUNTIF(B4:B83,"Tomate") -> 0 | C89: =COUNTIF(C4:C83,"Tomate") -> 0 | D89: =COUNTIF(D4:D83,"Tomate") -> 0 | E89: =COUNTIF(E4:E83,"Tomate") -> 0 | F89: =COUNTIF(F4:F83,"Tomate") -> 0 | G89: =COUNTIF(G4:G83,"Tomate") -> 0 | H89: =COUNTIF(H4:H83,"Tomate") -> 0 | I89: =COUNTIF(I4:I83,"Tomate") -> 0 | ... O89: =COUNTIF(O4:O83,"Tomate") -> 0
A90: Pâté | B90: =COUNTIF(B4:B83,"Pâté") -> 0 | C90: =COUNTIF(C4:C83,"Pâté") -> 0 | D90: =COUNTIF(D4:D83,"Pâté") -> 0 | E90: =COUNTIF(E4:E83,"Pâté") -> 0 | F90: =COUNTIF(F4:F83,"Pâté") -> 0 | G90: =COUNTIF(G4:G83,"Pâté") -> 0 | H90: =COUNTIF(H4:H83,"Pâté") -> 0 | I90: =COUNTIF(I4:I83,"Pâté") -> 0 | ... O90: =COUNTIF(O4:O83,"Pâté") -> 0
A91: Jambon | B91: =COUNTIF(B4:B83,"Jambon") -> 0 | C91: =COUNTIF(C4:C83,"Jambon") -> 0 | D91: =COUNTIF(D4:D83,"Jambon") -> 0 | E91: =COUNTIF(E4:E83,"Jambon") -> 0 | F91: =COUNTIF(F4:F83,"Jambon") -> 0 | G91: =COUNTIF(G4:G83,"Jambon") -> 0 | H91: =COUNTIF(H4:H83,"Jambon") -> 0 | I91: =COUNTIF(I4:I83,"Jambon") -> 0 | ... O91: =COUNTIF(O4:O83,"Jambon") -> 0
A92: Poisson pané | B92: =COUNTIF(B4:B83,"Poisson pané") -> 0 | C92: =COUNTIF(C4:C83,"Poisson pané") -> 0 | D92: =COUNTIF(D4:D83,"Poisson pané") -> 0 | E92: =COUNTIF(E4:E83,"Poisson pané") -> 0 | F92: =COUNTIF(F4:F83,"Poisson pané") -> 0 | G92: =COUNTIF(G4:G83,"Poisson pané") -> 0 | H92: =COUNTIF(H4:H83,"Poisson pané") -> 0 | I92: =COUNTIF(I4:I83,"Poisson pané") -> 0 | ... O92: =COUNTIF(O4:O83,"Poisson pané") -> 0
A93: Purée | B93: =COUNTIF(B4:B83,"Purée") -> 0 | C93: =COUNTIF(C4:C83,"Purée") -> 0 | D93: =COUNTIF(D4:D83,"Purée") -> 0 | E93: =COUNTIF(E4:E83,"Purée") -> 0 | F93: =COUNTIF(F4:F83,"Purée") -> 0 | G93: =COUNTIF(G4:G83,"Purée") -> 0 | H93: =COUNTIF(H4:H83,"Purée") -> 0 | I93: =COUNTIF(I4:I83,"Purée") -> 0 | ... O93: =COUNTIF(O4:O83,"Purée") -> 0
A94: Haricot vert | B94: =COUNTIF(B4:B83,"Haricot vert") -> 0 | C94: =COUNTIF(C4:C83,"Haricot vert") -> 0 | D94: =COUNTIF(D4:D83,"Haricot vert") -> 0 | E94: =COUNTIF(E4:E83,"Haricot vert") -> 0 | F94: =COUNTIF(F4:F83,"Haricot vert") -> 0 | G94: =COUNTIF(G4:G83,"Haricot vert") -> 0 | H94: =COUNTIF(H4:H83,"Haricot vert") -> 0 | I94: =COUNTIF(I4:I83,"Haricot vert") -> 0 | ... O94: =COUNTIF(O4:O83,"Haricot vert") -> 0
A95: Fruit | B95: =COUNTIF(B4:B83,"Fruit") -> 0 | C95: =COUNTIF(C4:C83,"Fruit") -> 0 | D95: =COUNTIF(D4:D83,"Fruit") -> 0 | E95: =COUNTIF(E4:E83,"Fruit") -> 0 | F95: =COUNTIF(F4:F83,"Fruit") -> 0 | G95: =COUNTIF(G4:G83,"Fruit") -> 0 | H95: =COUNTIF(H4:H83,"Fruit") -> 0 | I95: =COUNTIF(I4:I83,"Fruit") -> 0 | ... O95: =COUNTIF(O4:O83,"Fruit") -> 0
A96: Compote | B96: =COUNTIF(B4:B83,"Compote") -> 0 | C96: =COUNTIF(C4:C83,"Compote") -> 0 | D96: =COUNTIF(D4:D83,"Compote") -> 0 | E96: =COUNTIF(E4:E83,"Compote") -> 0 | F96: =COUNTIF(F4:F83,"Compote") -> 0 | G96: =COUNTIF(G4:G83,"Compote") -> 0 | H96: =COUNTIF(H4:H83,"Compote") -> 0 | I96: =COUNTIF(I4:I83,"Compote") -> 0 | ... O96: =COUNTIF(O4:O83,"Compote") -> 0

Sheet RHENAN
A1: RHENAN | B1: Lundi | D1: Mardi | F1: Mercredi | H1: Jeudi | J1: Vendredi | L1: Samedi | N1: Dimanche
B2: =IDF!B2 -> 43136 | C2: =IDF!C2 -> 43136 | D2: =IDF!D2 -> 43137 | E2: =IDF!E2 -> 43137 | F2: =IDF!F2 -> 43138 | G2: =IDF!G2 -> 43138 | H2: =IDF!H2 -> 43139 | I2: =IDF!I2 -> 43139 | ... O2: =IDF!O2 -> 43142
B3: Midi | C3: Soir | D3: Midi | E3: Soir | F3: Midi | G3: Soir | H3: Midi | I3: Soir | J3: Midi | K3: Soir | L3: Midi | M3: Soir | N3: Midi | O3: Midi
A86: Constants RHENAN | B86: Lundi | D86: Mardi | F86: Mercredi | H86: Jeudi | J86: Vendredi | L86: Samedi | N86: Dimanche
B87: =IDF!B87 -> 43136 | C87: =IDF!C87 -> 43136 | D87: =IDF!D87 -> 43137 | E87: =IDF!E87 -> 43137 | F87: =IDF!F87 -> 43138 | G87: =IDF!G87 -> 43138 | H87: =IDF!H87 -> 43139 | I87: =IDF!I87 -> 43139 | ... O87: =IDF!O87 -> 43142
B88: Midi | C88: Soir | D88: Midi | E88: Soir | F88: Midi | G88: Soir | H88: Midi | I88: Soir | J88: Midi | K88: Soir | L88: Midi | M88: Soir | N88: Midi | O88: Midi
A89: Tomate | B89: =COUNTIF(B4:B83,"Tomate") -> 0 | C89: =COUNTIF(C4:C83,"Tomate") -> 0 | D89: =COUNTIF(D4:D83,"Tomate") -> 0 | E89: =COUNTIF(E4:E83,"Tomate") -> 0 | F89: =COUNTIF(F4:F83,"Tomate") -> 0 | G89: =COUNTIF(G4:G83,"Tomate") -> 0 | H89: =COUNTIF(H4:H83,"Tomate") -> 0 | I89: =COUNTIF(I4:I83,"Tomate") -> 0 | ... O89: =COUNTIF(O4:O83,"Tomate") -> 0
A90: Pâté | B90: =COUNTIF(B4:B83,"Pâté") -> 0 | C90: =COUNTIF(C4:C83,"Pâté") -> 0 | D90: =COUNTIF(D4:D83,"Pâté") -> 0 | E90: =COUNTIF(E4:E83,"Pâté") -> 0 | F90: =COUNTIF(F4:F83,"Pâté") -> 0 | G90: =COUNTIF(G4:G83,"Pâté") -> 0 | H90: =COUNTIF(H4:H83,"Pâté") -> 0 | I90: =COUNTIF(I4:I83,"Pâté") -> 0 | ... O90: =COUNTIF(O4:O83,"Pâté") -> 0
A91: Jambon | B91: =COUNTIF(B4:B83,"Jambon") -> 0 | C91: =COUNTIF(C4:C83,"Jambon") -> 0 | D91: =COUNTIF(D4:D83,"Jambon") -> 0 | E91: =COUNTIF(E4:E83,"Jambon") -> 0 | F91: =COUNTIF(F4:F83,"Jambon") -> 0 | G91: =COUNTIF(G4:G83,"Jambon") -> 0 | H91: =COUNTIF(H4:H83,"Jambon") -> 0 | I91: =COUNTIF(I4:I83,"Jambon") -> 0 | ... O91: =COUNTIF(O4:O83,"Jambon") -> 0
A92: Poisson pané | B92: =COUNTIF(B4:B83,"Poisson pané") -> 0 | C92: =COUNTIF(C4:C83,"Poisson pané") -> 0 | D92: =COUNTIF(D4:D83,"Poisson pané") -> 0 | E92: =COUNTIF(E4:E83,"Poisson pané") -> 0 | F92: =COUNTIF(F4:F83,"Poisson pané") -> 0 | G92: =COUNTIF(G4:G83,"Poisson pané") -> 0 | H92: =COUNTIF(H4:H83,"Poisson pané") -> 0 | I92: =COUNTIF(I4:I83,"Poisson pané") -> 0 | ... O92: =COUNTIF(O4:O83,"Poisson pané") -> 0
A93: Purée | B93: =COUNTIF(B4:B83,"Purée") -> 0 | C93: =COUNTIF(C4:C83,"Purée") -> 0 | D93: =COUNTIF(D4:D83,"Purée") -> 0 | E93: =COUNTIF(E4:E83,"Purée") -> 0 | F93: =COUNTIF(F4:F83,"Purée") -> 0 | G93: =COUNTIF(G4:G83,"Purée") -> 0 | H93: =COUNTIF(H4:H83,"Purée") -> 0 | I93: =COUNTIF(I4:I83,"Purée") -> 0 | ... O93: =COUNTIF(O4:O83,"Purée") -> 0
A94: Haricot vert | B94: =COUNTIF(B4:B83,"Haricot vert") -> 0 | C94: =COUNTIF(C4:C83,"Haricot vert") -> 0 | D94: =COUNTIF(D4:D83,"Haricot vert") -> 0 | E94: =COUNTIF(E4:E83,"Haricot vert") -> 0 | F94: =COUNTIF(F4:F83,"Haricot vert") -> 0 | G94: =COUNTIF(G4:G83,"Haricot vert") -> 0 | H94: =COUNTIF(H4:H83,"Haricot vert") -> 0 | I94: =COUNTIF(I4:I83,"Haricot vert") -> 0 | ... O94: =COUNTIF(O4:O83,"Haricot vert") -> 0
A95: Fruit | B95: =COUNTIF(B4:B83,"Fruit") -> 0 | C95: =COUNTIF(C4:C83,"Fruit") -> 0 | D95: =COUNTIF(D4:D83,"Fruit") -> 0 | E95: =COUNTIF(E4:E83,"Fruit") -> 0 | F95: =COUNTIF(F4:F83,"Fruit") -> 0 | G95: =COUNTIF(G4:G83,"Fruit") -> 0 | H95: =COUNTIF(H4:H83,"Fruit") -> 0 | I95: =COUNTIF(I4:I83,"Fruit") -> 0 | ... O95: =COUNTIF(O4:O83,"Fruit") -> 0
A96: Compote | B96: =COUNTIF(B4:B83,"Compote") -> 0 | C96: =COUNTIF(C4:C83,"Compote") -> 0 | D96: =COUNTIF(D4:D83,"Compote") -> 0 | E96: =COUNTIF(E4:E83,"Compote") -> 0 | F96: =COUNTIF(F4:F83,"Compote") -> 0 | G96: =COUNTIF(G4:G83,"Compote") -> 0 | H96: =COUNTIF(H4:H83,"Compote") -> 0 | I96: =COUNTIF(I4:I83,"Compote") -> 0 | ... O96: =COUNTIF(O4:O83,"Compote") -> 0

Sheet BRABANT
A1: BRABANT | B1: Lundi | D1: Mardi | F1: Mercredi | H1: Jeudi | J1: Vendredi | L1: Samedi | N1: Dimanche
B2: =IDF!B2 -> 43136 | C2: =IDF!C2 -> 43136 | D2: =IDF!D2 -> 43137 | E2: =IDF!E2 -> 43137 | F2: =IDF!F2 -> 43138 | G2: =IDF!G2 -> 43138 | H2: =IDF!H2 -> 43139 | I2: =IDF!I2 -> 43139 | ... O2: =IDF!O2 -> 43142
B3: Midi | C3: Soir | D3: Midi | E3: Soir | F3: Midi | G3: Soir | H3: Midi | I3: Soir | J3: Midi | K3: Soir | L3: Midi | M3: Soir | N3: Midi | O3: Midi
A86: Constants BRABANT | B86: Lundi | D86: Mardi | F86: Mercredi | H86: Jeudi | J86: Vendredi | L86: Samedi | N86: Dimanche
B87: =IDF!B87 -> 43136 | C87: =IDF!C87 -> 43136 | D87: =IDF!D87 -> 43137 | E87: =IDF!E87 -> 43137 | F87: =IDF!F87 -> 43138 | G87: =IDF!G87 -> 43138 | H87: =IDF!H87 -> 43139 | I87: =IDF!I87 -> 43139 | ... O87: =IDF!O87 -> 43142
B88: Midi | C88: Soir | D88: Midi | E88: Soir | F88: Midi | G88: Soir | H88: Midi | I88: Soir | J88: Midi | K88: Soir | L88: Midi | M88: Soir | N88: Midi | O88: Midi
A89: Tomate | B89: =COUNTIF(B4:B83,"Tomate") -> 0 | C89: =COUNTIF(C4:C83,"Tomate") -> 0 | D89: =COUNTIF(D4:D83,"Tomate") -> 0 | E89: =COUNTIF(E4:E83,"Tomate") -> 0 | F89: =COUNTIF(F4:F83,"Tomate") -> 0 | G89: =COUNTIF(G4:G83,"Tomate") -> 0 | H89: =COUNTIF(H4:H83,"Tomate") -> 0 | I89: =COUNTIF(I4:I83,"Tomate") -> 0 | ... O89: =COUNTIF(O4:O83,"Tomate") -> 0
A90: Pâté | B90: =COUNTIF(B4:B83,"Pâté") -> 0 | C90: =COUNTIF(C4:C83,"Pâté") -> 0 | D90: =COUNTIF(D4:D83,"Pâté") -> 0 | E90: =COUNTIF(E4:E83,"Pâté") -> 0 | F90: =COUNTIF(F4:F83,"Pâté") -> 0 | G90: =COUNTIF(G4:G83,"Pâté") -> 0 | H90: =COUNTIF(H4:H83,"Pâté") -> 0 | I90: =COUNTIF(I4:I83,"Pâté") -> 0 | ... O90: =COUNTIF(O4:O83,"Pâté") -> 0
A91: Jambon | B91: =COUNTIF(B4:B83,"Jambon") -> 0 | C91: =COUNTIF(C4:C83,"Jambon") -> 0 | D91: =COUNTIF(D4:D83,"Jambon") -> 0 | E91: =COUNTIF(E4:E83,"Jambon") -> 0 | F91: =COUNTIF(F4:F83,"Jambon") -> 0 | G91: =COUNTIF(G4:G83,"Jambon") -> 0 | H91: =COUNTIF(H4:H83,"Jambon") -> 0 | I91: =COUNTIF(I4:I83,"Jambon") -> 0 | ... O91: =COUNTIF(O4:O83,"Jambon") -> 0
A92: Poisson pané | B92: =COUNTIF(B4:B83,"Poisson pané") -> 0 | C92: =COUNTIF(C4:C83,"Poisson pané") -> 0 | D92: =COUNTIF(D4:D83,"Poisson pané") -> 0 | E92: =COUNTIF(E4:E83,"Poisson pané") -> 0 | F92: =COUNTIF(F4:F83,"Poisson pané") -> 0 | G92: =COUNTIF(G4:G83,"Poisson pané") -> 0 | H92: =COUNTIF(H4:H83,"Poisson pané") -> 0 | I92: =COUNTIF(I4:I83,"Poisson pané") -> 0 | ... O92: =COUNTIF(O4:O83,"Poisson pané") -> 0
A93: Purée | B93: =COUNTIF(B4:B83,"Purée") -> 0 | C93: =COUNTIF(C4:C83,"Purée") -> 0 | D93: =COUNTIF(D4:D83,"Purée") -> 0 | E93: =COUNTIF(E4:E83,"Purée") -> 0 | F93: =COUNTIF(F4:F83,"Purée") -> 0 | G93: =COUNTIF(G4:G83,"Purée") -> 0 | H93: =COUNTIF(H4:H83,"Purée") -> 0 | I93: =COUNTIF(I4:I83,"Purée") -> 0 | ... O93: =COUNTIF(O4:O83,"Purée") -> 0
A94: Haricot vert | B94: =COUNTIF(B4:B83,"Haricot vert") -> 0 | C94: =COUNTIF(C4:C83,"Haricot vert") -> 0 | D94: =COUNTIF(D4:D83,"Haricot vert") -> 0 | E94: =COUNTIF(E4:E83,"Haricot vert") -> 0 | F94: =COUNTIF(F4:F83,"Haricot vert") -> 0 | G94: =COUNTIF(G4:G83,"Haricot vert") -> 0 | H94: =COUNTIF(H4:H83,"Haricot vert") -> 0 | I94: =COUNTIF(I4:I83,"Haricot vert") -> 0 | ... O94: =COUNTIF(O4:O83,"Haricot vert") -> 0
A95: Fruit | B95: =COUNTIF(B4:B83,"Fruit") -> 0 | C95: =COUNTIF(C4:C83,"Fruit") -> 0 | D95: =COUNTIF(D4:D83,"Fruit") -> 0 | E95: =COUNTIF(E4:E83,"Fruit") -> 0 | F95: =COUNTIF(F4:F83,"Fruit") -> 0 | G95: =COUNTIF(G4:G83,"Fruit") -> 0 | H95: =COUNTIF(H4:H83,"Fruit") -> 0 | I95: =COUNTIF(I4:I83,"Fruit") -> 0 | ... O95: =COUNTIF(O4:O83,"Fruit") -> 0
A96: Compote | B96: =COUNTIF(B4:B83,"Compote") -> 0 | C96: =COUNTIF(C4:C83,"Compote") -> 0 | D96: =COUNTIF(D4:D83,"Compote") -> 0 | E96: =COUNTIF(E4:E83,"Compote") -> 0 | F96: =COUNTIF(F4:F83,"Compote") -> 0 | G96: =COUNTIF(G4:G83,"Compote") -> 0 | H96: =COUNTIF(H4:H83,"Compote") -> 0 | I96: =COUNTIF(I4:I83,"Compote") -> 0 | ... O96: =COUNTIF(O4:O83,"Compote") -> 0

Sheet AMOR
A1: AMOR | B1: Lundi | D1: Mardi | F1: Mercredi | H1: Jeudi | J1: Vendredi | L1: Samedi | N1: Dimanche
B2: =IDF!B2 -> 43136 | C2: =IDF!C2 -> 43136 | D2: =IDF!D2 -> 43137 | E2: =IDF!E2 -> 43137 | F2: =IDF!F2 -> 43138 | G2: =IDF!G2 -> 43138 | H2: =IDF!H2 -> 43139 | I2: =IDF!I2 -> 43139 | ... O2: =IDF!O2 -> 43142
B3: Midi | C3: Soir | D3: Midi | E3: Soir | F3: Midi | G3: Soir | H3: Midi | I3: Soir | J3: Midi | K3: Soir | L3: Midi | M3: Soir | N3: Midi | O3: Midi
A86: Constants AMOR | B86: Lundi | D86: Mardi | F86: Mercredi | H86: Jeudi | J86: Vendredi | L86: Samedi | N86: Dimanche
B87: =IDF!B87 -> 43136 | C87: =IDF!C87 -> 43136 | D87: =IDF!D87 -> 43137 | E87: =IDF!E87 -> 43137 | F87: =IDF!F87 -> 43138 | G87: =IDF!G87 -> 43138 | H87: =IDF!H87 -> 43139 | I87: =IDF!I87 -> 43139 | ... O87: =IDF!O87 -> 43142
B88: Midi | C88: Soir | D88: Midi | E88: Soir | F88: Midi | G88: Soir | H88: Midi | I88: Soir | J88: Midi | K88: Soir | L88: Midi | M88: Soir | N88: Midi | O88: Midi
A89: Tomate | B89: =COUNTIF(B4:B83,"Tomate") -> 0 | C89: =COUNTIF(C4:C83,"Tomate") -> 0 | D89: =COUNTIF(D4:D83,"Tomate") -> 0 | E89: =COUNTIF(E4:E83,"Tomate") -> 0 | F89: =COUNTIF(F4:F83,"Tomate") -> 0 | G89: =COUNTIF(G4:G83,"Tomate") -> 0 | H89: =COUNTIF(H4:H83,"Tomate") -> 0 | I89: =COUNTIF(I4:I83,"Tomate") -> 0 | ... O89: =COUNTIF(O4:O83,"Tomate") -> 0
A90: Pâté | B90: =COUNTIF(B4:B83,"Pâté") -> 0 | C90: =COUNTIF(C4:C83,"Pâté") -> 0 | D90: =COUNTIF(D4:D83,"Pâté") -> 0 | E90: =COUNTIF(E4:E83,"Pâté") -> 0 | F90: =COUNTIF(F4:F83,"Pâté") -> 0 | G90: =COUNTIF(G4:G83,"Pâté") -> 0 | H90: =COUNTIF(H4:H83,"Pâté") -> 0 | I90: =COUNTIF(I4:I83,"Pâté") -> 0 | ... O90: =COUNTIF(O4:O83,"Pâté") -> 0
A91: Jambon | B91: =COUNTIF(B4:B83,"Jambon") -> 0 | C91: =COUNTIF(C4:C83,"Jambon") -> 0 | D91: =COUNTIF(D4:D83,"Jambon") -> 0 | E91: =COUNTIF(E4:E83,"Jambon") -> 0 | F91: =COUNTIF(F4:F83,"Jambon") -> 0 | G91: =COUNTIF(G4:G83,"Jambon") -> 0 | H91: =COUNTIF(H4:H83,"Jambon") -> 0 | I91: =COUNTIF(I4:I83,"Jambon") -> 0 | ... O91: =COUNTIF(O4:O83,"Jambon") -> 0
A92: Poisson pané | B92: =COUNTIF(B4:B83,"Poisson pané") -> 0 | C92: =COUNTIF(C4:C83,"Poisson pané") -> 0 | D92: =COUNTIF(D4:D83,"Poisson pané") -> 0 | E92: =COUNTIF(E4:E83,"Poisson pané") -> 0 | F92: =COUNTIF(F4:F83,"Poisson pané") -> 0 | G92: =COUNTIF(G4:G83,"Poisson pané") -> 0 | H92: =COUNTIF(H4:H83,"Poisson pané") -> 0 | I92: =COUNTIF(I4:I83,"Poisson pané") -> 0 | ... O92: =COUNTIF(O4:O83,"Poisson pané") -> 0
A93: Purée | B93: =COUNTIF(B4:B83,"Purée") -> 0 | C93: =COUNTIF(C4:C83,"Purée") -> 0 | D93: =COUNTIF(D4:D83,"Purée") -> 0 | E93: =COUNTIF(E4:E83,"Purée") -> 0 | F93: =COUNTIF(F4:F83,"Purée") -> 0 | G93: =COUNTIF(G4:G83,"Purée") -> 0 | H93: =COUNTIF(H4:H83,"Purée") -> 0 | I93: =COUNTIF(I4:I83,"Purée") -> 0 | ... O93: =COUNTIF(O4:O83,"Purée") -> 0
A94: Haricot vert | B94: =COUNTIF(B4:B83,"Haricot vert") -> 0 | C94: =COUNTIF(C4:C83,"Haricot vert") -> 0 | D94: =COUNTIF(D4:D83,"Haricot vert") -> 0 | E94: =COUNTIF(E4:E83,"Haricot vert") -> 0 | F94: =COUNTIF(F4:F83,"Haricot vert") -> 0 | G94: =COUNTIF(G4:G83,"Haricot vert") -> 0 | H94: =COUNTIF(H4:H83,"Haricot vert") -> 0 | I94: =COUNTIF(I4:I83,"Haricot vert") -> 0 | ... O94: =COUNTIF(O4:O83,"Haricot vert") -> 0
A95: Fruit | B95: =COUNTIF(B4:B83,"Fruit") -> 0 | C95: =COUNTIF(C4:C83,"Fruit") -> 0 | D95: =COUNTIF(D4:D83,"Fruit") -> 0 | E95: =COUNTIF(E4:E83,"Fruit") -> 0 | F95: =COUNTIF(F4:F83,"Fruit") -> 0 | G95: =COUNTIF(G4:G83,"Fruit") -> 0 | H95: =COUNTIF(H4:H83,"Fruit") -> 0 | I95: =COUNTIF(I4:I83,"Fruit") -> 0 | ... O95: =COUNTIF(O4:O83,"Fruit") -> 0
A96: Compote | B96: =COUNTIF(B4:B83,"Compote") -> 0 | C96: =COUNTIF(C4:C83,"Compote") -> 0 | D96: =COUNTIF(D4:D83,"Compote") -> 0 | E96: =COUNTIF(E4:E83,"Compote") -> 0 | F96: =COUNTIF(F4:F83,"Compote") -> 0 | G96: =COUNTIF(G4:G83,"Compote") -> 0 | H96: =COUNTIF(H4:H83,"Compote") -> 0 | I96: =COUNTIF(I4:I83,"Compote") -> 0 | ... O96: =COUNTIF(O4:O83,"Compote") -> 0

Sheet PERIGORD
A1: PERIGORD | B1: Lundi | D1: Mardi | F1: Mercredi | H1: Jeudi | J1: Vendredi | L1: Samedi | N1: Dimanche
B2: =IDF!B2 -> 43136 | C2: =IDF!C2 -> 43136 | D2: =IDF!D2 -> 43137 | E2: =IDF!E2 -> 43137 | F2: =IDF!F2 -> 43138 | G2: =IDF!G2 -> 43138 | H2: =IDF!H2 -> 43139 | I2: =IDF!I2 -> 43139 | ... O2: =IDF!O2 -> 43142
B3: Midi | C3: Soir | D3: Midi | E3: Soir | F3: Midi | G3: Soir | H3: Midi | I3: Soir | J3: Midi | K3: Soir | L3: Midi | M3: Soir | N3: Midi | O3: Midi
A86: Constants PERIGORD | B86: Lundi | D86: Mardi | F86: Mercredi | H86: Jeudi | J86: Vendredi | L86: Samedi | N86: Dimanche
B87: =IDF!B87 -> 43136 | C87: =IDF!C87 -> 43136 | D87: =IDF!D87 -> 43137 | E87: =IDF!E87 -> 43137 | F87: =IDF!F87 -> 43138 | G87: =IDF!G87 -> 43138 | H87: =IDF!H87 -> 43139 | I87: =IDF!I87 -> 43139 | ... O87: =IDF!O87 -> 43142
B88: Midi | C88: Soir | D88: Midi | E88: Soir | F88: Midi | G88: Soir | H88: Midi | I88: Soir | J88: Midi | K88: Soir | L88: Midi | M88: Soir | N88: Midi | O88: Midi
A89: Tomate | B89: =COUNTIF(B4:B83,"Tomate") -> 0 | C89: =COUNTIF(C4:C83,"Tomate") -> 0 | D89: =COUNTIF(D4:D83,"Tomate") -> 0 | E89: =COUNTIF(E4:E83,"Tomate") -> 0 | F89: =COUNTIF(F4:F83,"Tomate") -> 0 | G89: =COUNTIF(G4:G83,"Tomate") -> 0 | H89: =COUNTIF(H4:H83,"Tomate") -> 0 | I89: =COUNTIF(I4:I83,"Tomate") -> 0 | ... O89: =COUNTIF(O4:O83,"Tomate") -> 0
A90: Pâté | B90: =COUNTIF(B4:B83,"Pâté") -> 0 | C90: =COUNTIF(C4:C83,"Pâté") -> 0 | D90: =COUNTIF(D4:D83,"Pâté") -> 0 | E90: =COUNTIF(E4:E83,"Pâté") -> 0 | F90: =COUNTIF(F4:F83,"Pâté") -> 0 | G90: =COUNTIF(G4:G83,"Pâté") -> 0 | H90: =COUNTIF(H4:H83,"Pâté") -> 0 | I90: =COUNTIF(I4:I83,"Pâté") -> 0 | ... O90: =COUNTIF(O4:O83,"Pâté") -> 0
A91: Jambon | B91: =COUNTIF(B4:B83,"Jambon") -> 0 | C91: =COUNTIF(C4:C83,"Jambon") -> 0 | D91: =COUNTIF(D4:D83,"Jambon") -> 0 | E91: =COUNTIF(E4:E83,"Jambon") -> 0 | F91: =COUNTIF(F4:F83,"Jambon") -> 0 | G91: =COUNTIF(G4:G83,"Jambon") -> 0 | H91: =COUNTIF(H4:H83,"Jambon") -> 0 | I91: =COUNTIF(I4:I83,"Jambon") -> 0 | ... O91: =COUNTIF(O4:O83,"Jambon") -> 0
A92: Poisson pané | B92: =COUNTIF(B4:B83,"Poisson pané") -> 0 | C92: =COUNTIF(C4:C83,"Poisson pané") -> 0 | D92: =COUNTIF(D4:D83,"Poisson pané") -> 0 | E92: =COUNTIF(E4:E83,"Poisson pané") -> 0 | F92: =COUNTIF(F4:F83,"Poisson pané") -> 0 | G92: =COUNTIF(G4:G83,"Poisson pané") -> 0 | H92: =COUNTIF(H4:H83,"Poisson pané") -> 0 | I92: =COUNTIF(I4:I83,"Poisson pané") -> 0 | ... O92: =COUNTIF(O4:O83,"Poisson pané") -> 0
A93: Purée | B93: =COUNTIF(B4:B83,"Purée") -> 0 | C93: =COUNTIF(C4:C83,"Purée") -> 0 | D93: =COUNTIF(D4:D83,"Purée") -> 0 | E93: =COUNTIF(E4:E83,"Purée") -> 0 | F93: =COUNTIF(F4:F83,"Purée") -> 0 | G93: =COUNTIF(G4:G83,"Purée") -> 0 | H93: =COUNTIF(H4:H83,"Purée") -> 0 | I93: =COUNTIF(I4:I83,"Purée") -> 0 | ... O93: =COUNTIF(O4:O83,"Purée") -> 0
A94: Haricot vert | B94: =COUNTIF(B4:B83,"Haricot vert") -> 0 | C94: =COUNTIF(C4:C83,"Haricot vert") -> 0 | D94: =COUNTIF(D4:D83,"Haricot vert") -> 0 | E94: =COUNTIF(E4:E83,"Haricot vert") -> 0 | F94: =COUNTIF(F4:F83,"Haricot vert") -> 0 | G94: =COUNTIF(G4:G83,"Haricot vert") -> 0 | H94: =COUNTIF(H4:H83,"Haricot vert") -> 0 | I94: =COUNTIF(I4:I83,"Haricot vert") -> 0 | ... O94: =COUNTIF(O4:O83,"Haricot vert") -> 0
A95: Fruit | B95: =COUNTIF(B4:B83,"Fruit") -> 0 | C95: =COUNTIF(C4:C83,"Fruit") -> 0 | D95: =COUNTIF(D4:D83,"Fruit") -> 0 | E95: =COUNTIF(E4:E83,"Fruit") -> 0 | F95: =COUNTIF(F4:F83,"Fruit") -> 0 | G95: =COUNTIF(G4:G83,"Fruit") -> 0 | H95: =COUNTIF(H4:H83,"Fruit") -> 0 | I95: =COUNTIF(I4:I83,"Fruit") -> 0 | ... O95: =COUNTIF(O4:O83,"Fruit") -> 0
A96: Compote | B96: =COUNTIF(B4:B83,"Compote") -> 0 | C96: =COUNTIF(C4:C83,"Compote") -> 0 | D96: =COUNTIF(D4:D83,"Compote") -> 0 | E96: =COUNTIF(E4:E83,"Compote") -> 0 | F96: =COUNTIF(F4:F83,"Compote") -> 0 | G96: =COUNTIF(G4:G83,"Compote") -> 0 | H96: =COUNTIF(H4:H83,"Compote") -> 0 | I96: =COUNTIF(I4:I83,"Compote") -> 0 | ... O96: =COUNTIF(O4:O83,"Compote") -> 0

Sheet SANCY
A1: SANCY | B1: Lundi | D1: Mardi | F1: Mercredi | H1: Jeudi | J1: Vendredi | L1: Samedi | N1: Dimanche
B2: =IDF!B2 -> 43136 | C2: =IDF!C2 -> 43136 | D2: =IDF!D2 -> 43137 | E2: =IDF!E2 -> 43137 | F2: =IDF!F2 -> 43138 | G2: =IDF!G2 -> 43138 | H2: =IDF!H2 -> 43139 | I2: =IDF!I2 -> 43139 | ... O2: =IDF!O2 -> 43142
B3: Midi | C3: Soir | D3: Midi | E3: Soir | F3: Midi | G3: Soir | H3: Midi | I3: Soir | J3: Midi | K3: Soir | L3: Midi | M3: Soir | N3: Midi | O3: Midi
A86: Constants SANCY | B86: Lundi | D86: Mardi | F86: Mercredi | H86: Jeudi | J86: Vendredi | L86: Samedi | N86: Dimanche
B87: =IDF!B87 -> 43136 | C87: =IDF!C87 -> 43136 | D87: =IDF!D87 -> 43137 | E87: =IDF!E87 -> 43137 | F87: =IDF!F87 -> 43138 | G87: =IDF!G87 -> 43138 | H87: =IDF!H87 -> 43139 | I87: =IDF!I87 -> 43139 | ... O87: =IDF!O87 -> 43142
B88: Midi | C88: Soir | D88: Midi | E88: Soir | F88: Midi | G88: Soir | H88: Midi | I88: Soir | J88: Midi | K88: Soir | L88: Midi | M88: Soir | N88: Midi | O88: Midi
A89: Tomate | B89: =COUNTIF(B4:B83,"Tomate") -> 0 | C89: =COUNTIF(C4:C83,"Tomate") -> 0 | D89: =COUNTIF(D4:D83,"Tomate") -> 0 | E89: =COUNTIF(E4:E83,"Tomate") -> 0 | F89: =COUNTIF(F4:F83,"Tomate") -> 0 | G89: =COUNTIF(G4:G83,"Tomate") -> 0 | H89: =COUNTIF(H4:H83,"Tomate") -> 0 | I89: =COUNTIF(I4:I83,"Tomate") -> 0 | ... O89: =COUNTIF(O4:O83,"Tomate") -> 0
A90: Pâté | B90: =COUNTIF(B4:B83,"Pâté") -> 0 | C90: =COUNTIF(C4:C83,"Pâté") -> 0 | D90: =COUNTIF(D4:D83,"Pâté") -> 0 | E90: =COUNTIF(E4:E83,"Pâté") -> 0 | F90: =COUNTIF(F4:F83,"Pâté") -> 0 | G90: =COUNTIF(G4:G83,"Pâté") -> 0 | H90: =COUNTIF(H4:H83,"Pâté") -> 0 | I90: =COUNTIF(I4:I83,"Pâté") -> 0 | ... O90: =COUNTIF(O4:O83,"Pâté") -> 0
A91: Jambon | B91: =COUNTIF(B4:B83,"Jambon") -> 0 | C91: =COUNTIF(C4:C83,"Jambon") -> 0 | D91: =COUNTIF(D4:D83,"Jambon") -> 0 | E91: =COUNTIF(E4:E83,"Jambon") -> 0 | F91: =COUNTIF(F4:F83,"Jambon") -> 0 | G91: =COUNTIF(G4:G83,"Jambon") -> 0 | H91: =COUNTIF(H4:H83,"Jambon") -> 0 | I91: =COUNTIF(I4:I83,"Jambon") -> 0 | ... O91: =COUNTIF(O4:O83,"Jambon") -> 0
A92: Poisson pané | B92: =COUNTIF(B4:B83,"Poisson pané") -> 0 | C92: =COUNTIF(C4:C83,"Poisson pané") -> 0 | D92: =COUNTIF(D4:D83,"Poisson pané") -> 0 | E92: =COUNTIF(E4:E83,"Poisson pané") -> 0 | F92: =COUNTIF(F4:F83,"Poisson pané") -> 0 | G92: =COUNTIF(G4:G83,"Poisson pané") -> 0 | H92: =COUNTIF(H4:H83,"Poisson pané") -> 0 | I92: =COUNTIF(I4:I83,"Poisson pané") -> 0 | ... O92: =COUNTIF(O4:O83,"Poisson pané") -> 0
A93: Purée | B93: =COUNTIF(B4:B83,"Purée") -> 0 | C93: =COUNTIF(C4:C83,"Purée") -> 0 | D93: =COUNTIF(D4:D83,"Purée") -> 0 | E93: =COUNTIF(E4:E83,"Purée") -> 0 | F93: =COUNTIF(F4:F83,"Purée") -> 0 | G93: =COUNTIF(G4:G83,"Purée") -> 0 | H93: =COUNTIF(H4:H83,"Purée") -> 0 | I93: =COUNTIF(I4:I83,"Purée") -> 0 | ... O93: =COUNTIF(O4:O83,"Purée") -> 0
A94: Haricot vert | B94: =COUNTIF(B4:B83,"Haricot vert") -> 0 | C94: =COUNTIF(C4:C83,"Haricot vert") -> 0 | D94: =COUNTIF(D4:D83,"Haricot vert") -> 0 | E94: =COUNTIF(E4:E83,"Haricot vert") -> 0 | F94: =COUNTIF(F4:F83,"Haricot vert") -> 0 | G94: =COUNTIF(G4:G83,"Haricot vert") -> 0 | H94: =COUNTIF(H4:H83,"Haricot vert") -> 0 | I94: =COUNTIF(I4:I83,"Haricot vert") -> 0 | ... O94: =COUNTIF(O4:O83,"Haricot vert") -> 0
A95: Fruit | B95: =COUNTIF(B4:B83,"Fruit") -> 0 | C95: =COUNTIF(C4:C83,"Fruit") -> 0 | D95: =COUNTIF(D4:D83,"Fruit") -> 0 | E95: =COUNTIF(E4:E83,"Fruit") -> 0 | F95: =COUNTIF(F4:F83,"Fruit") -> 0 | G95: =COUNTIF(G4:G83,"Fruit") -> 0 | H95: =COUNTIF(H4:H83,"Fruit") -> 0 | I95: =COUNTIF(I4:I83,"Fruit") -> 0 | ... O95: =COUNTIF(O4:O83,"Fruit") -> 0
A96: Compote | B96: =COUNTIF(B4:B83,"Compote") -> 0 | C96: =COUNTIF(C4:C83,"Compote") -> 0 | D96: =COUNTIF(D4:D83,"Compote") -> 0 | E96: =COUNTIF(E4:E83,"Compote") -> 0 | F96: =COUNTIF(F4:F83,"Compote") -> 0 | G96: =COUNTIF(G4:G83,"Compote") -> 0 | H96: =COUNTIF(H4:H83,"Compote") -> 0 | I96: =COUNTIF(I4:I83,"Compote") -> 0 | ... O96: =COUNTIF(O4:O83,"Compote") -> 0

Sheet CHARTREUSE
A1: CHARTREUSE | B1: Lundi | D1: Mardi | F1: Mercredi | H1: Jeudi | J1: Vendredi | L1: Samedi | N1: Dimanche
B2: =IDF!B2 -> 43136 | C2: =IDF!C2 -> 43136 | D2: =IDF!D2 -> 43137 | E2: =IDF!E2 -> 43137 | F2: =IDF!F2 -> 43138 | G2: =IDF!G2 -> 43138 | H2: =IDF!H2 -> 43139 | I2: =IDF!I2 -> 43139 | ... O2: =IDF!O2 -> 43142
B3: Midi | C3: Soir | D3: Midi | E3: Soir | F3: Midi | G3: Soir | H3: Midi | I3: Soir | J3: Midi | K3: Soir | L3: Midi | M3: Soir | N3: Midi | O3: Midi
A86: Constants CHARTREUSE | B86: Lundi | D86: Mardi | F86: Mercredi | H86: Jeudi | J86: Vendredi | L86: Samedi | N86: Dimanche
B87: =IDF!B87 -> 43136 | C87: =IDF!C87 -> 43136 | D87: =IDF!D87 -> 43137 | E87: =IDF!E87 -> 43137 | F87: =IDF!F87 -> 43138 | G87: =IDF!G87 -> 43138 | H87: =IDF!H87 -> 43139 | I87: =IDF!I87 -> 43139 | ... O87: =IDF!O87 -> 43142
B88: Midi | C88: Soir | D88: Midi | E88: Soir | F88: Midi | G88: Soir | H88: Midi | I88: Soir | J88: Midi | K88: Soir | L88: Midi | M88: Soir | N88: Midi | O88: Midi
A89: Tomate | B89: =COUNTIF(B4:B83,"Tomate") -> 0 | C89: =COUNTIF(C4:C83,"Tomate") -> 0 | D89: =COUNTIF(D4:D83,"Tomate") -> 0 | E89: =COUNTIF(E4:E83,"Tomate") -> 0 | F89: =COUNTIF(F4:F83,"Tomate") -> 0 | G89: =COUNTIF(G4:G83,"Tomate") -> 0 | H89: =COUNTIF(H4:H83,"Tomate") -> 0 | I89: =COUNTIF(I4:I83,"Tomate") -> 0 | ... O89: =COUNTIF(O4:O83,"Tomate") -> 0
A90: Pâté | B90: =COUNTIF(B4:B83,"Pâté") -> 0 | C90: =COUNTIF(C4:C83,"Pâté") -> 0 | D90: =COUNTIF(D4:D83,"Pâté") -> 0 | E90: =COUNTIF(E4:E83,"Pâté") -> 0 | F90: =COUNTIF(F4:F83,"Pâté") -> 0 | G90: =COUNTIF(G4:G83,"Pâté") -> 0 | H90: =COUNTIF(H4:H83,"Pâté") -> 0 | I90: =COUNTIF(I4:I83,"Pâté") -> 0 | ... O90: =COUNTIF(O4:O83,"Pâté") -> 0
A91: Jambon | B91: =COUNTIF(B4:B83,"Jambon") -> 0 | C91: =COUNTIF(C4:C83,"Jambon") -> 0 | D91: =COUNTIF(D4:D83,"Jambon") -> 0 | E91: =COUNTIF(E4:E83,"Jambon") -> 0 | F91: =COUNTIF(F4:F83,"Jambon") -> 0 | G91: =COUNTIF(G4:G83,"Jambon") -> 0 | H91: =COUNTIF(H4:H83,"Jambon") -> 0 | I91: =COUNTIF(I4:I83,"Jambon") -> 0 | ... O91: =COUNTIF(O4:O83,"Jambon") -> 0
A92: Poisson pané | B92: =COUNTIF(B4:B83,"Poisson pané") -> 0 | C92: =COUNTIF(C4:C83,"Poisson pané") -> 0 | D92: =COUNTIF(D4:D83,"Poisson pané") -> 0 | E92: =COUNTIF(E4:E83,"Poisson pané") -> 0 | F92: =COUNTIF(F4:F83,"Poisson pané") -> 0 | G92: =COUNTIF(G4:G83,"Poisson pané") -> 0 | H92: =COUNTIF(H4:H83,"Poisson pané") -> 0 | I92: =COUNTIF(I4:I83,"Poisson pané") -> 0 | ... O92: =COUNTIF(O4:O83,"Poisson pané") -> 0
A93: Purée | B93: =COUNTIF(B4:B83,"Purée") -> 0 | C93: =COUNTIF(C4:C83,"Purée") -> 0 | D93: =COUNTIF(D4:D83,"Purée") -> 0 | E93: =COUNTIF(E4:E83,"Purée") -> 0 | F93: =COUNTIF(F4:F83,"Purée") -> 0 | G93: =COUNTIF(G4:G83,"Purée") -> 0 | H93: =COUNTIF(H4:H83,"Purée") -> 0 | I93: =COUNTIF(I4:I83,"Purée") -> 0 | ... O93: =COUNTIF(O4:O83,"Purée") -> 0
A94: Haricot vert | B94: =COUNTIF(B4:B83,"Haricot vert") -> 0 | C94: =COUNTIF(C4:C83,"Haricot vert") -> 0 | D94: =COUNTIF(D4:D83,"Haricot vert") -> 0 | E94: =COUNTIF(E4:E83,"Haricot vert") -> 0 | F94: =COUNTIF(F4:F83,"Haricot vert") -> 0 | G94: =COUNTIF(G4:G83,"Haricot vert") -> 0 | H94: =COUNTIF(H4:H83,"Haricot vert") -> 0 | I94: =COUNTIF(I4:I83,"Haricot vert") -> 0 | ... O94: =COUNTIF(O4:O83,"Haricot vert") -> 0
A95: Fruit | B95: =COUNTIF(B4:B83,"Fruit") -> 0 | C95: =COUNTIF(C4:C83,"Fruit") -> 0 | D95: =COUNTIF(D4:D83,"Fruit") -> 0 | E95: =COUNTIF(E4:E83,"Fruit") -> 0 | F95: =COUNTIF(F4:F83,"Fruit") -> 0 | G95: =COUNTIF(G4:G83,"Fruit") -> 0 | H95: =COUNTIF(H4:H83,"Fruit") -> 0 | I95: =COUNTIF(I4:I83,"Fruit") -> 0 | ... O95: =COUNTIF(O4:O83,"Fruit") -> 0
A96: Compote | B96: =COUNTIF(B4:B83,"Compote") -> 0 | C96: =COUNTIF(C4:C83,"Compote") -> 0 | D96: =COUNTIF(D4:D83,"Compote") -> 0 | E96: =COUNTIF(E4:E83,"Compote") -> 0 | F96: =COUNTIF(F4:F83,"Compote") -> 0 | G96: =COUNTIF(G4:G83,"Compote") -> 0 | H96: =COUNTIF(H4:H83,"Compote") -> 0 | I96: =COUNTIF(I4:I83,"Compote") -> 0 | ... O96: =COUNTIF(O4:O83,"Compote") -> 0

Sheet AVESNOIS
A1: AVESNOIS | B1: Lundi | D1: Mardi | F1: Mercredi | H1: Jeudi | J1: Vendredi | L1: Samedi | N1: Dimanche
B2: =IDF!B2 -> 43136 | C2: =IDF!C2 -> 43136 | D2: =IDF!D2 -> 43137 | E2: =IDF!E2 -> 43137 | F2: =IDF!F2 -> 43138 | G2: =IDF!G2 -> 43138 | H2: =IDF!H2 -> 43139 | I2: =IDF!I2 -> 43139 | ... O2: =IDF!O2 -> 43142
B3: Midi | C3: Soir | D3: Midi | E3: Soir | F3: Midi | G3: Soir | H3: Midi | I3: Soir | J3: Midi | K3: Soir | L3: Midi | M3: Soir | N3: Midi | O3: Midi
A86: Constants AVESNOIS | B86: Lundi | D86: Mardi | F86: Mercredi | H86: Jeudi | J86: Vendredi | L86: Samedi | N86: Dimanche
B87: =IDF!B87 -> 43136 | C87: =IDF!C87 -> 43136 | D87: =IDF!D87 -> 43137 | E87: =IDF!E87 -> 43137 | F87: =IDF!F87 -> 43138 | G87: =IDF!G87 -> 43138 | H87: =IDF!H87 -> 43139 | I87: =IDF!I87 -> 43139 | ... O87: =IDF!O87 -> 43142
B88: Midi | C88: Soir | D88: Midi | E88: Soir | F88: Midi | G88: Soir | H88: Midi | I88: Soir | J88: Midi | K88: Soir | L88: Midi | M88: Soir | N88: Midi | O88: Midi
A89: Tomate | B89: =COUNTIF(B4:B83,"Tomate") -> 0 | C89: =COUNTIF(C4:C83,"Tomate") -> 0 | D89: =COUNTIF(D4:D83,"Tomate") -> 0 | E89: =COUNTIF(E4:E83,"Tomate") -> 0 | F89: =COUNTIF(F4:F83,"Tomate") -> 0 | G89: =COUNTIF(G4:G83,"Tomate") -> 0 | H89: =COUNTIF(H4:H83,"Tomate") -> 0 | I89: =COUNTIF(I4:I83,"Tomate") -> 0 | ... O89: =COUNTIF(O4:O83,"Tomate") -> 0
A90: Pâté | B90: =COUNTIF(B4:B83,"Pâté") -> 0 | C90: =COUNTIF(C4:C83,"Pâté") -> 0 | D90: =COUNTIF(D4:D83,"Pâté") -> 0 | E90: =COUNTIF(E4:E83,"Pâté") -> 0 | F90: =COUNTIF(F4:F83,"Pâté") -> 0 | G90: =COUNTIF(G4:G83,"Pâté") -> 0 | H90: =COUNTIF(H4:H83,"Pâté") -> 0 | I90: =COUNTIF(I4:I83,"Pâté") -> 0 | ... O90: =COUNTIF(O4:O83,"Pâté") -> 0
A91: Jambon | B91: =COUNTIF(B4:B83,"Jambon") -> 0 | C91: =COUNTIF(C4:C83,"Jambon") -> 0 | D91: =COUNTIF(D4:D83,"Jambon") -> 0 | E91: =COUNTIF(E4:E83,"Jambon") -> 0 | F91: =COUNTIF(F4:F83,"Jambon") -> 0 | G91: =COUNTIF(G4:G83,"Jambon") -> 0 | H91: =COUNTIF(H4:H83,"Jambon") -> 0 | I91: =COUNTIF(I4:I83,"Jambon") -> 0 | ... O91: =COUNTIF(O4:O83,"Jambon") -> 0
A92: Poisson pané | B92: =COUNTIF(B4:B83,"Poisson pané") -> 0 | C92: =COUNTIF(C4:C83,"Poisson pané") -> 0 | D92: =COUNTIF(D4:D83,"Poisson pané") -> 0 | E92: =COUNTIF(E4:E83,"Poisson pané") -> 0 | F92: =COUNTIF(F4:F83,"Poisson pané") -> 0 | G92: =COUNTIF(G4:G83,"Poisson pané") -> 0 | H92: =COUNTIF(H4:H83,"Poisson pané") -> 0 | I92: =COUNTIF(I4:I83,"Poisson pané") -> 0 | ... O92: =COUNTIF(O4:O83,"Poisson pané") -> 0
A93: Purée | B93: =COUNTIF(B4:B83,"Purée") -> 0 | C93: =COUNTIF(C4:C83,"Purée") -> 0 | D93: =COUNTIF(D4:D83,"Purée") -> 0 | E93: =COUNTIF(E4:E83,"Purée") -> 0 | F93: =COUNTIF(F4:F83,"Purée") -> 0 | G93: =COUNTIF(G4:G83,"Purée") -> 0 | H93: =COUNTIF(H4:H83,"Purée") -> 0 | I93: =COUNTIF(I4:I83,"Purée") -> 0 | ... O93: =COUNTIF(O4:O83,"Purée") -> 0
A94: Haricot vert | B94: =COUNTIF(B4:B83,"Haricot vert") -> 0 | C94: =COUNTIF(C4:C83,"Haricot vert") -> 0 | D94: =COUNTIF(D4:D83,"Haricot vert") -> 0 | E94: =COUNTIF(E4:E83,"Haricot vert") -> 0 | F94: =COUNTIF(F4:F83,"Haricot vert") -> 0 | G94: =COUNTIF(G4:G83,"Haricot vert") -> 0 | H94: =COUNTIF(H4:H83,"Haricot vert") -> 0 | I94: =COUNTIF(I4:I83,"Haricot vert") -> 0 | ... O94: =COUNTIF(O4:O83,"Haricot vert") -> 0
A95: Fruit | B95: =COUNTIF(B4:B83,"Fruit") -> 0 | C95: =COUNTIF(C4:C83,"Fruit") -> 0 | D95: =COUNTIF(D4:D83,"Fruit") -> 0 | E95: =COUNTIF(E4:E83,"Fruit") -> 0 | F95: =COUNTIF(F4:F83,"Fruit") -> 0 | G95: =COUNTIF(G4:G83,"Fruit") -> 0 | H95: =COUNTIF(H4:H83,"Fruit") -> 0 | I95: =COUNTIF(I4:I83,"Fruit") -> 0 | ... O95: =COUNTIF(O4:O83,"Fruit") -> 0
A96: Compote | B96: =COUNTIF(B4:B83,"Compote") -> 0 | C96: =COUNTIF(C4:C83,"Compote") -> 0 | D96: =COUNTIF(D4:D83,"Compote") -> 0 | E96: =COUNTIF(E4:E83,"Compote") -> 0 | F96: =COUNTIF(F4:F83,"Compote") -> 0 | G96: =COUNTIF(G4:G83,"Compote") -> 0 | H96: =COUNTIF(H4:H83,"Compote") -> 0 | I96: =COUNTIF(I4:I83,"Compote") -> 0 | ... O96: =COUNTIF(O4:O83,"Compote") -> 0

Sheet IROISE
A1: IROISE | B1: Lundi | D1: Mardi | F1: Mercredi | H1: Jeudi | J1: Vendredi | L1: Samedi | N1: Dimanche
B2: =IDF!B2 -> 43136 | C2: =IDF!C2 -> 43136 | D2: =IDF!D2 -> 43137 | E2: =IDF!E2 -> 43137 | F2: =IDF!F2 -> 43138 | G2: =IDF!G2 -> 43138 | H2: =IDF!H2 -> 43139 | I2: =IDF!I2 -> 43139 | ... O2: =IDF!O2 -> 43142
B3: Midi | C3: Soir | D3: Midi | E3: Soir | F3: Midi | G3: Soir | H3: Midi | I3: Soir | J3: Midi | K3: Soir | L3: Midi | M3: Soir | N3: Midi | O3: Midi
A86: Constants IROISE | B86: Lundi | D86: Mardi | F86: Mercredi | H86: Jeudi | J86: Vendredi | L86: Samedi | N86: Dimanche
B87: =IDF!B87 -> 43136 | C87: =IDF!C87 -> 43136 | D87: =IDF!D87 -> 43137 | E87: =IDF!E87 -> 43137 | F87: =IDF!F87 -> 43138 | G87: =IDF!G87 -> 43138 | H87: =IDF!H87 -> 43139 | I87: =IDF!I87 -> 43139 | ... O87: =IDF!O87 -> 43142
B88: Midi | C88: Soir | D88: Midi | E88: Soir | F88: Midi | G88: Soir | H88: Midi | I88: Soir | J88: Midi | K88: Soir | L88: Midi | M88: Soir | N88: Midi | O88: Midi
A89: Tomate | B89: =COUNTIF(B4:B83,"Tomate") -> 0 | C89: =COUNTIF(C4:C83,"Tomate") -> 0 | D89: =COUNTIF(D4:D83,"Tomate") -> 0 | E89: =COUNTIF(E4:E83,"Tomate") -> 0 | F89: =COUNTIF(F4:F83,"Tomate") -> 0 | G89: =COUNTIF(G4:G83,"Tomate") -> 0 | H89: =COUNTIF(H4:H83,"Tomate") -> 0 | I89: =COUNTIF(I4:I83,"Tomate") -> 0 | ... O89: =COUNTIF(O4:O83,"Tomate") -> 0
A90: Pâté | B90: =COUNTIF(B4:B83,"Pâté") -> 0 | C90: =COUNTIF(C4:C83,"Pâté") -> 0 | D90: =COUNTIF(D4:D83,"Pâté") -> 0 | E90: =COUNTIF(E4:E83,"Pâté") -> 0 | F90: =COUNTIF(F4:F83,"Pâté") -> 0 | G90: =COUNTIF(G4:G83,"Pâté") -> 0 | H90: =COUNTIF(H4:H83,"Pâté") -> 0 | I90: =COUNTIF(I4:I83,"Pâté") -> 0 | ... O90: =COUNTIF(O4:O83,"Pâté") -> 0
A91: Jambon | B91: =COUNTIF(B4:B83,"Jambon") -> 0 | C91: =COUNTIF(C4:C83,"Jambon") -> 0 | D91: =COUNTIF(D4:D83,"Jambon") -> 0 | E91: =COUNTIF(E4:E83,"Jambon") -> 0 | F91: =COUNTIF(F4:F83,"Jambon") -> 0 | G91: =COUNTIF(G4:G83,"Jambon") -> 0 | H91: =COUNTIF(H4:H83,"Jambon") -> 0 | I91: =COUNTIF(I4:I83,"Jambon") -> 0 | ... O91: =COUNTIF(O4:O83,"Jambon") -> 0
A92: Poisson pané | B92: =COUNTIF(B4:B83,"Poisson pané") -> 0 | C92: =COUNTIF(C4:C83,"Poisson pané") -> 0 | D92: =COUNTIF(D4:D83,"Poisson pané") -> 0 | E92: =COUNTIF(E4:E83,"Poisson pané") -> 0 | F92: =COUNTIF(F4:F83,"Poisson pané") -> 0 | G92: =COUNTIF(G4:G83,"Poisson pané") -> 0 | H92: =COUNTIF(H4:H83,"Poisson pané") -> 0 | I92: =COUNTIF(I4:I83,"Poisson pané") -> 0 | ... O92: =COUNTIF(O4:O83,"Poisson pané") -> 0
A93: Purée | B93: =COUNTIF(B4:B83,"Purée") -> 0 | C93: =COUNTIF(C4:C83,"Purée") -> 0 | D93: =COUNTIF(D4:D83,"Purée") -> 0 | E93: =COUNTIF(E4:E83,"Purée") -> 0 | F93: =COUNTIF(F4:F83,"Purée") -> 0 | G93: =COUNTIF(G4:G83,"Purée") -> 0 | H93: =COUNTIF(H4:H83,"Purée") -> 0 | I93: =COUNTIF(I4:I83,"Purée") -> 0 | ... O93: =COUNTIF(O4:O83,"Purée") -> 0
A94: Haricot vert | B94: =COUNTIF(B4:B83,"Haricot vert") -> 0 | C94: =COUNTIF(C4:C83,"Haricot vert") -> 0 | D94: =COUNTIF(D4:D83,"Haricot vert") -> 0 | E94: =COUNTIF(E4:E83,"Haricot vert") -> 0 | F94: =COUNTIF(F4:F83,"Haricot vert") -> 0 | G94: =COUNTIF(G4:G83,"Haricot vert") -> 0 | H94: =COUNTIF(H4:H83,"Haricot vert") -> 0 | I94: =COUNTIF(I4:I83,"Haricot vert") -> 0 | ... O94: =COUNTIF(O4:O83,"Haricot vert") -> 0
A95: Fruit | B95: =COUNTIF(B4:B83,"Fruit") -> 0 | C95: =COUNTIF(C4:C83,"Fruit") -> 0 | D95: =COUNTIF(D4:D83,"Fruit") -> 0 | E95: =COUNTIF(E4:E83,"Fruit") -> 0 | F95: =COUNTIF(F4:F83,"Fruit") -> 0 | G95: =COUNTIF(G4:G83,"Fruit") -> 0 | H95: =COUNTIF(H4:H83,"Fruit") -> 0 | I95: =COUNTIF(I4:I83,"Fruit") -> 0 | ... O95: =COUNTIF(O4:O83,"Fruit") -> 0
A96: Compote | B96: =COUNTIF(B4:B83,"Compote") -> 0 | C96: =COUNTIF(C4:C83,"Compote") -> 0 | D96: =COUNTIF(D4:D83,"Compote") -> 0 | E96: =COUNTIF(E4:E83,"Compote") -> 0 | F96: =COUNTIF(F4:F83,"Compote") -> 0 | G96: =COUNTIF(G4:G83,"Compote") -> 0 | H96: =COUNTIF(H4:H83,"Compote") -> 0 | I96: =COUNTIF(I4:I83,"Compote") -> 0 | ... O96: =COUNTIF(O4:O83,"Compote") -> 0

Sheet FORET NOIRE
A1: FORET NOIRE | B1: Lundi | D1: Mardi | F1: Mercredi | H1: Jeudi | J1: Vendredi | L1: Samedi | N1: Dimanche
B2: =IDF!B2 -> 43136 | C2: =IDF!C2 -> 43136 | D2: =IDF!D2 -> 43137 | E2: =IDF!E2 -> 43137 | F2: =IDF!F2 -> 43138 | G2: =IDF!G2 -> 43138 | H2: =IDF!H2 -> 43139 | I2: =IDF!I2 -> 43139 | ... O2: =IDF!O2 -> 43142
B3: Midi | C3: Soir | D3: Midi | E3: Soir | F3: Midi | G3: Soir | H3: Midi | I3: Soir | J3: Midi | K3: Soir | L3: Midi | M3: Soir | N3: Midi | O3: Midi
A86: Constants FORET NOIRE | B86: Lundi | D86: Mardi | F86: Mercredi | H86: Jeudi | J86: Vendredi | L86: Samedi | N86: Dimanche
B87: =IDF!B87 -> 43136 | C87: =IDF!C87 -> 43136 | D87: =IDF!D87 -> 43137 | E87: =IDF!E87 -> 43137 | F87: =IDF!F87 -> 43138 | G87: =IDF!G87 -> 43138 | H87: =IDF!H87 -> 43139 | I87: =IDF!I87 -> 43139 | ... O87: =IDF!O87 -> 43142
B88: Midi | C88: Soir | D88: Midi | E88: Soir | F88: Midi | G88: Soir | H88: Midi | I88: Soir | J88: Midi | K88: Soir | L88: Midi | M88: Soir | N88: Midi | O88: Midi
A89: Tomate | B89: =COUNTIF(B4:B83,"Tomate") -> 0 | C89: =COUNTIF(C4:C83,"Tomate") -> 0 | D89: =COUNTIF(D4:D83,"Tomate") -> 0 | E89: =COUNTIF(E4:E83,"Tomate") -> 0 | F89: =COUNTIF(F4:F83,"Tomate") -> 0 | G89: =COUNTIF(G4:G83,"Tomate") -> 0 | H89: =COUNTIF(H4:H83,"Tomate") -> 0 | I89: =COUNTIF(I4:I83,"Tomate") -> 0 | ... O89: =COUNTIF(O4:O83,"Tomate") -> 0
A90: Pâté | B90: =COUNTIF(B4:B83,"Pâté") -> 0 | C90: =COUNTIF(C4:C83,"Pâté") -> 0 | D90: =COUNTIF(D4:D83,"Pâté") -> 0 | E90: =COUNTIF(E4:E83,"Pâté") -> 0 | F90: =COUNTIF(F4:F83,"Pâté") -> 0 | G90: =COUNTIF(G4:G83,"Pâté") -> 0 | H90: =COUNTIF(H4:H83,"Pâté") -> 0 | I90: =COUNTIF(I4:I83,"Pâté") -> 0 | ... O90: =COUNTIF(O4:O83,"Pâté") -> 0
A91: Jambon | B91: =COUNTIF(B4:B83,"Jambon") -> 0 | C91: =COUNTIF(C4:C83,"Jambon") -> 0 | D91: =COUNTIF(D4:D83,"Jambon") -> 0 | E91: =COUNTIF(E4:E83,"Jambon") -> 0 | F91: =COUNTIF(F4:F83,"Jambon") -> 0 | G91: =COUNTIF(G4:G83,"Jambon") -> 0 | H91: =COUNTIF(H4:H83,"Jambon") -> 0 | I91: =COUNTIF(I4:I83,"Jambon") -> 0 | ... O91: =COUNTIF(O4:O83,"Jambon") -> 0
A92: Poisson pané | B92: =COUNTIF(B4:B83,"Poisson pané") -> 0 | C92: =COUNTIF(C4:C83,"Poisson pané") -> 0 | D92: =COUNTIF(D4:D83,"Poisson pané") -> 0 | E92: =COUNTIF(E4:E83,"Poisson pané") -> 0 | F92: =COUNTIF(F4:F83,"Poisson pané") -> 0 | G92: =COUNTIF(G4:G83,"Poisson pané") -> 0 | H92: =COUNTIF(H4:H83,"Poisson pané") -> 0 | I92: =COUNTIF(I4:I83,"Poisson pané") -> 0 | ... O92: =COUNTIF(O4:O83,"Poisson pané") -> 0
A93: Purée | B93: =COUNTIF(B4:B83,"Purée") -> 0 | C93: =COUNTIF(C4:C83,"Purée") -> 0 | D93: =COUNTIF(D4:D83,"Purée") -> 0 | E93: =COUNTIF(E4:E83,"Purée") -> 0 | F93: =COUNTIF(F4:F83,"Purée") -> 0 | G93: =COUNTIF(G4:G83,"Purée") -> 0 | H93: =COUNTIF(H4:H83,"Purée") -> 0 | I93: =COUNTIF(I4:I83,"Purée") -> 0 | ... O93: =COUNTIF(O4:O83,"Purée") -> 0
A94: Haricot vert | B94: =COUNTIF(B4:B83,"Haricot vert") -> 0 | C94: =COUNTIF(C4:C83,"Haricot vert") -> 0 | D94: =COUNTIF(D4:D83,"Haricot vert") -> 0 | E94: =COUNTIF(E4:E83,"Haricot vert") -> 0 | F94: =COUNTIF(F4:F83,"Haricot vert") -> 0 | G94: =COUNTIF(G4:G83,"Haricot vert") -> 0 | H94: =COUNTIF(H4:H83,"Haricot vert") -> 0 | I94: =COUNTIF(I4:I83,"Haricot vert") -> 0 | ... O94: =COUNTIF(O4:O83,"Haricot vert") -> 0
A95: Fruit | B95: =COUNTIF(B4:B83,"Fruit") -> 0 | C95: =COUNTIF(C4:C83,"Fruit") -> 0 | D95: =COUNTIF(D4:D83,"Fruit") -> 0 | E95: =COUNTIF(E4:E83,"Fruit") -> 0 | F95: =COUNTIF(F4:F83,"Fruit") -> 0 | G95: =COUNTIF(G4:G83,"Fruit") -> 0 | H95: =COUNTIF(H4:H83,"Fruit") -> 0 | I95: =COUNTIF(I4:I83,"Fruit") -> 0 | ... O95: =COUNTIF(O4:O83,"Fruit") -> 0
A96: Compote | B96: =COUNTIF(B4:B83,"Compote") -> 0 | C96: =COUNTIF(C4:C83,"Compote") -> 0 | D96: =COUNTIF(D4:D83,"Compote") -> 0 | E96: =COUNTIF(E4:E83,"Compote") -> 0 | F96: =COUNTIF(F4:F83,"Compote") -> 0 | G96: =COUNTIF(G4:G83,"Compote") -> 0 | H96: =COUNTIF(H4:H83,"Compote") -> 0 | I96: =COUNTIF(I4:I83,"Compote") -> 0 | ... O96: =COUNTIF(O4:O83,"Compote") -> 0

Sheet LIMAGNE
A1: LIMAGNE | B1: Lundi | D1: Mardi | F1: Mercredi | H1: Jeudi | J1: Vendredi | L1: Samedi | N1: Dimanche
B2: =IDF!B2 -> 43136 | C2: =IDF!C2 -> 43136 | D2: =IDF!D2 -> 43137 | E2: =IDF!E2 -> 43137 | F2: =IDF!F2 -> 43138 | G2: =IDF!G2 -> 43138 | H2: =IDF!H2 -> 43139 | I2: =IDF!I2 -> 43139 | ... O2: =IDF!O2 -> 43142
B3: Midi | C3: Soir | D3: Midi | E3: Soir | F3: Midi | G3: Soir | H3: Midi | I3: Soir | J3: Midi | K3: Soir | L3: Midi | M3: Soir | N3: Midi | O3: Midi
A86: Constants LIMAGNE | B86: Lundi | D86: Mardi | F86: Mercredi | H86: Jeudi | J86: Vendredi | L86: Samedi | N86: Dimanche
B87: =IDF!B87 -> 43136 | C87: =IDF!C87 -> 43136 | D87: =IDF!D87 -> 43137 | E87: =IDF!E87 -> 43137 | F87: =IDF!F87 -> 43138 | G87: =IDF!G87 -> 43138 | H87: =IDF!H87 -> 43139 | I87: =IDF!I87 -> 43139 | ... O87: =IDF!O87 -> 43142
B88: Midi | C88: Soir | D88: Midi | E88: Soir | F88: Midi | G88: Soir | H88: Midi | I88: Soir | J88: Midi | K88: Soir | L88: Midi | M88: Soir | N88: Midi | O88: Midi
A89: Tomate | B89: =COUNTIF(B4:B83,"Tomate") -> 0 | C89: =COUNTIF(C4:C83,"Tomate") -> 0 | D89: =COUNTIF(D4:D83,"Tomate") -> 0 | E89: =COUNTIF(E4:E83,"Tomate") -> 0 | F89: =COUNTIF(F4:F83,"Tomate") -> 0 | G89: =COUNTIF(G4:G83,"Tomate") -> 0 | H89: =COUNTIF(H4:H83,"Tomate") -> 0 | I89: =COUNTIF(I4:I83,"Tomate") -> 0 | ... O89: =COUNTIF(O4:O83,"Tomate") -> 0
A90: Pâté | B90: =COUNTIF(B4:B83,"Pâté") -> 0 | C90: =COUNTIF(C4:C83,"Pâté") -> 0 | D90: =COUNTIF(D4:D83,"Pâté") -> 0 | E90: =COUNTIF(E4:E83,"Pâté") -> 0 | F90: =COUNTIF(F4:F83,"Pâté") -> 0 | G90: =COUNTIF(G4:G83,"Pâté") -> 0 | H90: =COUNTIF(H4:H83,"Pâté") -> 0 | I90: =COUNTIF(I4:I83,"Pâté") -> 0 | ... O90: =COUNTIF(O4:O83,"Pâté") -> 0
A91: Jambon | B91: =COUNTIF(B4:B83,"Jambon") -> 0 | C91: =COUNTIF(C4:C83,"Jambon") -> 0 | D91: =COUNTIF(D4:D83,"Jambon") -> 0 | E91: =COUNTIF(E4:E83,"Jambon") -> 0 | F91: =COUNTIF(F4:F83,"Jambon") -> 0 | G91: =COUNTIF(G4:G83,"Jambon") -> 0 | H91: =COUNTIF(H4:H83,"Jambon") -> 0 | I91: =COUNTIF(I4:I83,"Jambon") -> 0 | ... O91: =COUNTIF(O4:O83,"Jambon") -> 0
A92: Poisson pané | B92: =COUNTIF(B4:B83,"Poisson pané") -> 0 | C92: =COUNTIF(C4:C83,"Poisson pané") -> 0 | D92: =COUNTIF(D4:D83,"Poisson pané") -> 0 | E92: =COUNTIF(E4:E83,"Poisson pané") -> 0 | F92: =COUNTIF(F4:F83,"Poisson pané") -> 0 | G92: =COUNTIF(G4:G83,"Poisson pané") -> 0 | H92: =COUNTIF(H4:H83,"Poisson pané") -> 0 | I92: =COUNTIF(I4:I83,"Poisson pané") -> 0 | ... O92: =COUNTIF(O4:O83,"Poisson pané") -> 0
A93: Purée | B93: =COUNTIF(B4:B83,"Purée") -> 0 | C93: =COUNTIF(C4:C83,"Purée") -> 0 | D93: =COUNTIF(D4:D83,"Purée") -> 0 | E93: =COUNTIF(E4:E83,"Purée") -> 0 | F93: =COUNTIF(F4:F83,"Purée") -> 0 | G93: =COUNTIF(G4:G83,"Purée") -> 0 | H93: =COUNTIF(H4:H83,"Purée") -> 0 | I93: =COUNTIF(I4:I83,"Purée") -> 0 | ... O93: =COUNTIF(O4:O83,"Purée") -> 0
A94: Haricot vert | B94: =COUNTIF(B4:B83,"Haricot vert") -> 0 | C94: =COUNTIF(C4:C83,"Haricot vert") -> 0 | D94: =COUNTIF(D4:D83,"Haricot vert") -> 0 | E94: =COUNTIF(E4:E83,"Haricot vert") -> 0 | F94: =COUNTIF(F4:F83,"Haricot vert") -> 0 | G94: =COUNTIF(G4:G83,"Haricot vert") -> 0 | H94: =COUNTIF(H4:H83,"Haricot vert") -> 0 | I94: =COUNTIF(I4:I83,"Haricot vert") -> 0 | ... O94: =COUNTIF(O4:O83,"Haricot vert") -> 0
A95: Fruit | B95: =COUNTIF(B4:B83,"Fruit") -> 0 | C95: =COUNTIF(C4:C83,"Fruit") -> 0 | D95: =COUNTIF(D4:D83,"Fruit") -> 0 | E95: =COUNTIF(E4:E83,"Fruit") -> 0 | F95: =COUNTIF(F4:F83,"Fruit") -> 0 | G95: =COUNTIF(G4:G83,"Fruit") -> 0 | H95: =COUNTIF(H4:H83,"Fruit") -> 0 | I95: =COUNTIF(I4:I83,"Fruit") -> 0 | ... O95: =COUNTIF(O4:O83,"Fruit") -> 0
A96: Compote | B96: =COUNTIF(B4:B83,"Compote") -> 0 | C96: =COUNTIF(C4:C83,"Compote") -> 0 | D96: =COUNTIF(D4:D83,"Compote") -> 0 | E96: =COUNTIF(E4:E83,"Compote") -> 0 | F96: =COUNTIF(F4:F83,"Compote") -> 0 | G96: =COUNTIF(G4:G83,"Compote") -> 0 | H96: =COUNTIF(H4:H83,"Compote") -> 0 | I96: =COUNTIF(I4:I83,"Compote") -> 0 | ... O96: =COUNTIF(O4:O83,"Compote") -> 0

Sheet GASCOGNE
A1: GASCOGNE | B1: Lundi | D1: Mardi | F1: Mercredi | H1: Jeudi | J1: Vendredi | L1: Samedi | N1: Dimanche
B2: =IDF!B2 -> 43136 | C2: =IDF!C2 -> 43136 | D2: =IDF!D2 -> 43137 | E2: =IDF!E2 -> 43137 | F2: =IDF!F2 -> 43138 | G2: =IDF!G2 -> 43138 | H2: =IDF!H2 -> 43139 | I2: =IDF!I2 -> 43139 | ... O2: =IDF!O2 -> 43142
B3: Midi | C3: Soir | D3: Midi | E3: Soir | F3: Midi | G3: Soir | H3: Midi | I3: Soir | J3: Midi | K3: Soir | L3: Midi | M3: Soir | N3: Midi | O3: Midi
A86: Constants GASCOGNE | B86: Lundi | D86: Mardi | F86: Mercredi | H86: Jeudi | J86: Vendredi | L86: Samedi | N86: Dimanche
B87: =IDF!B87 -> 43136 | C87: =IDF!C87 -> 43136 | D87: =IDF!D87 -> 43137 | E87: =IDF!E87 -> 43137 | F87: =IDF!F87 -> 43138 | G87: =IDF!G87 -> 43138 | H87: =IDF!H87 -> 43139 | I87: =IDF!I87 -> 43139 | ... O87: =IDF!O87 -> 43142
B88: Midi | C88: Soir | D88: Midi | E88: Soir | F88: Midi | G88: Soir | H88: Midi | I88: Soir | J88: Midi | K88: Soir | L88: Midi | M88: Soir | N88: Midi | O88: Midi
A89: Tomate | B89: =COUNTIF(B4:B83,"Tomate") -> 0 | C89: =COUNTIF(C4:C83,"Tomate") -> 0 | D89: =COUNTIF(D4:D83,"Tomate") -> 0 | E89: =COUNTIF(E4:E83,"Tomate") -> 0 | F89: =COUNTIF(F4:F83,"Tomate") -> 0 | G89: =COUNTIF(G4:G83,"Tomate") -> 0 | H89: =COUNTIF(H4:H83,"Tomate") -> 0 | I89: =COUNTIF(I4:I83,"Tomate") -> 0 | ... O89: =COUNTIF(O4:O83,"Tomate") -> 0
A90: Pâté | B90: =COUNTIF(B4:B83,"Pâté") -> 0 | C90: =COUNTIF(C4:C83,"Pâté") -> 0 | D90: =COUNTIF(D4:D83,"Pâté") -> 0 | E90: =COUNTIF(E4:E83,"Pâté") -> 0 | F90: =COUNTIF(F4:F83,"Pâté") -> 0 | G90: =COUNTIF(G4:G83,"Pâté") -> 0 | H90: =COUNTIF(H4:H83,"Pâté") -> 0 | I90: =COUNTIF(I4:I83,"Pâté") -> 0 | ... O90: =COUNTIF(O4:O83,"Pâté") -> 0
A91: Jambon | B91: =COUNTIF(B4:B83,"Jambon") -> 0 | C91: =COUNTIF(C4:C83,"Jambon") -> 0 | D91: =COUNTIF(D4:D83,"Jambon") -> 0 | E91: =COUNTIF(E4:E83,"Jambon") -> 0 | F91: =COUNTIF(F4:F83,"Jambon") -> 0 | G91: =COUNTIF(G4:G83,"Jambon") -> 0 | H91: =COUNTIF(H4:H83,"Jambon") -> 0 | I91: =COUNTIF(I4:I83,"Jambon") -> 0 | ... O91: =COUNTIF(O4:O83,"Jambon") -> 0
A92: Poisson pané | B92: =COUNTIF(B4:B83,"Poisson pané") -> 0 | C92: =COUNTIF(C4:C83,"Poisson pané") -> 0 | D92: =COUNTIF(D4:D83,"Poisson pané") -> 0 | E92: =COUNTIF(E4:E83,"Poisson pané") -> 0 | F92: =COUNTIF(F4:F83,"Poisson pané") -> 0 | G92: =COUNTIF(G4:G83,"Poisson pané") -> 0 | H92: =COUNTIF(H4:H83,"Poisson pané") -> 0 | I92: =COUNTIF(I4:I83,"Poisson pané") -> 0 | ... O92: =COUNTIF(O4:O83,"Poisson pané") -> 0
A93: Purée | B93: =COUNTIF(B4:B83,"Purée") -> 0 | C93: =COUNTIF(C4:C83,"Purée") -> 0 | D93: =COUNTIF(D4:D83,"Purée") -> 0 | E93: =COUNTIF(E4:E83,"Purée") -> 0 | F93: =COUNTIF(F4:F83,"Purée") -> 0 | G93: =COUNTIF(G4:G83,"Purée") -> 0 | H93: =COUNTIF(H4:H83,"Purée") -> 0 | I93: =COUNTIF(I4:I83,"Purée") -> 0 | ... O93: =COUNTIF(O4:O83,"Purée") -> 0
A94: Haricot vert | B94: =COUNTIF(B4:B83,"Haricot vert") -> 0 | C94: =COUNTIF(C4:C83,"Haricot vert") -> 0 | D94: =COUNTIF(D4:D83,"Haricot vert") -> 0 | E94: =COUNTIF(E4:E83,"Haricot vert") -> 0 | F94: =COUNTIF(F4:F83,"Haricot vert") -> 0 | G94: =COUNTIF(G4:G83,"Haricot vert") -> 0 | H94: =COUNTIF(H4:H83,"Haricot vert") -> 0 | I94: =COUNTIF(I4:I83,"Haricot vert") -> 0 | ... O94: =COUNTIF(O4:O83,"Haricot vert") -> 0
A95: Fruit | B95: =COUNTIF(B4:B83,"Fruit") -> 0 | C95: =COUNTIF(C4:C83,"Fruit") -> 0 | D95: =COUNTIF(D4:D83,"Fruit") -> 0 | E95: =COUNTIF(E4:E83,"Fruit") -> 0 | F95: =COUNTIF(F4:F83,"Fruit") -> 0 | G95: =COUNTIF(G4:G83,"Fruit") -> 0 | H95: =COUNTIF(H4:H83,"Fruit") -> 0 | I95: =COUNTIF(I4:I83,"Fruit") -> 0 | ... O95: =COUNTIF(O4:O83,"Fruit") -> 0
A96: Compote | B96: =COUNTIF(B4:B83,"Compote") -> 0 | C96: =COUNTIF(C4:C83,"Compote") -> 0 | D96: =COUNTIF(D4:D83,"Compote") -> 0 | E96: =COUNTIF(E4:E83,"Compote") -> 0 | F96: =COUNTIF(F4:F83,"Compote") -> 0 | G96: =COUNTIF(G4:G83,"Compote") -> 0 | H96: =COUNTIF(H4:H83,"Compote") -> 0 | I96: =COUNTIF(I4:I83,"Compote") -> 0 | ... O96: =COUNTIF(O4:O83,"Compote") -> 0

Sheet VANOISE
A1: VANOISE | B1: Lundi | D1: Mardi | F1: Mercredi | H1: Jeudi | J1: Vendredi | L1: Samedi | N1: Dimanche
B2: =IDF!B2 -> 43136 | C2: =IDF!C2 -> 43136 | D2: =IDF!D2 -> 43137 | E2: =IDF!E2 -> 43137 | F2: =IDF!F2 -> 43138 | G2: =IDF!G2 -> 43138 | H2: =IDF!H2 -> 43139 | I2: =IDF!I2 -> 43139 | ... O2: =IDF!O2 -> 43142
B3: Midi | C3: Soir | D3: Midi | E3: Soir | F3: Midi | G3: Soir | H3: Midi | I3: Soir | J3: Midi | K3: Soir | L3: Midi | M3: Soir | N3: Midi | O3: Midi
A86: Constants VANOISE | B86: Lundi | D86: Mardi | F86: Mercredi | H86: Jeudi | J86: Vendredi | L86: Samedi | N86: Dimanche
B87: =IDF!B87 -> 43136 | C87: =IDF!C87 -> 43136 | D87: =IDF!D87 -> 43137 | E87: =IDF!E87 -> 43137 | F87: =IDF!F87 -> 43138 | G87: =IDF!G87 -> 43138 | H87: =IDF!H87 -> 43139 | I87: =IDF!I87 -> 43139 | ... O87: =IDF!O87 -> 43142
B88: Midi | C88: Soir | D88: Midi | E88: Soir | F88: Midi | G88: Soir | H88: Midi | I88: Soir | J88: Midi | K88: Soir | L88: Midi | M88: Soir | N88: Midi | O88: Midi
A89: Tomate | B89: =COUNTIF(B4:B83,"Tomate") -> 0 | C89: =COUNTIF(C4:C83,"Tomate") -> 0 | D89: =COUNTIF(D4:D83,"Tomate") -> 0 | E89: =COUNTIF(E4:E83,"Tomate") -> 0 | F89: =COUNTIF(F4:F83,"Tomate") -> 0 | G89: =COUNTIF(G4:G83,"Tomate") -> 0 | H89: =COUNTIF(H4:H83,"Tomate") -> 0 | I89: =COUNTIF(I4:I83,"Tomate") -> 0 | ... O89: =COUNTIF(O4:O83,"Tomate") -> 0
A90: Pâté | B90: =COUNTIF(B4:B83,"Pâté") -> 0 | C90: =COUNTIF(C4:C83,"Pâté") -> 0 | D90: =COUNTIF(D4:D83,"Pâté") -> 0 | E90: =COUNTIF(E4:E83,"Pâté") -> 0 | F90: =COUNTIF(F4:F83,"Pâté") -> 0 | G90: =COUNTIF(G4:G83,"Pâté") -> 0 | H90: =COUNTIF(H4:H83,"Pâté") -> 0 | I90: =COUNTIF(I4:I83,"Pâté") -> 0 | ... O90: =COUNTIF(O4:O83,"Pâté") -> 0
A91: Jambon | B91: =COUNTIF(B4:B83,"Jambon") -> 0 | C91: =COUNTIF(C4:C83,"Jambon") -> 0 | D91: =COUNTIF(D4:D83,"Jambon") -> 0 | E91: =COUNTIF(E4:E83,"Jambon") -> 0 | F91: =COUNTIF(F4:F83,"Jambon") -> 0 | G91: =COUNTIF(G4:G83,"Jambon") -> 0 | H91: =COUNTIF(H4:H83,"Jambon") -> 0 | I91: =COUNTIF(I4:I83,"Jambon") -> 0 | ... O91: =COUNTIF(O4:O83,"Jambon") -> 0
A92: Poisson pané | B92: =COUNTIF(B4:B83,"Poisson pané") -> 0 | C92: =COUNTIF(C4:C83,"Poisson pané") -> 0 | D92: =COUNTIF(D4:D83,"Poisson pané") -> 0 | E92: =COUNTIF(E4:E83,"Poisson pané") -> 0 | F92: =COUNTIF(F4:F83,"Poisson pané") -> 0 | G92: =COUNTIF(G4:G83,"Poisson pané") -> 0 | H92: =COUNTIF(H4:H83,"Poisson pané") -> 0 | I92: =COUNTIF(I4:I83,"Poisson pané") -> 0 | ... O92: =COUNTIF(O4:O83,"Poisson pané") -> 0
A93: Purée | B93: =COUNTIF(B4:B83,"Purée") -> 0 | C93: =COUNTIF(C4:C83,"Purée") -> 0 | D93: =COUNTIF(D4:D83,"Purée") -> 0 | E93: =COUNTIF(E4:E83,"Purée") -> 0 | F93: =COUNTIF(F4:F83,"Purée") -> 0 | G93: =COUNTIF(G4:G83,"Purée") -> 0 | H93: =COUNTIF(H4:H83,"Purée") -> 0 | I93: =COUNTIF(I4:I83,"Purée") -> 0 | ... O93: =COUNTIF(O4:O83,"Purée") -> 0
A94: Haricot vert | B94: =COUNTIF(B4:B83,"Haricot vert") -> 0 | C94: =COUNTIF(C4:C83,"Haricot vert") -> 0 | D94: =COUNTIF(D4:D83,"Haricot vert") -> 0 | E94: =COUNTIF(E4:E83,"Haricot vert") -> 0 | F94: =COUNTIF(F4:F83,"Haricot vert") -> 0 | G94: =COUNTIF(G4:G83,"Haricot vert") -> 0 | H94: =COUNTIF(H4:H83,"Haricot vert") -> 0 | I94: =COUNTIF(I4:I83,"Haricot vert") -> 0 | ... O94: =COUNTIF(O4:O83,"Haricot vert") -> 0
A95: Fruit | B95: =COUNTIF(B4:B83,"Fruit") -> 0 | C95: =COUNTIF(C4:C83,"Fruit") -> 0 | D95: =COUNTIF(D4:D83,"Fruit") -> 0 | E95: =COUNTIF(E4:E83,"Fruit") -> 0 | F95: =COUNTIF(F4:F83,"Fruit") -> 0 | G95: =COUNTIF(G4:G83,"Fruit") -> 0 | H95: =COUNTIF(H4:H83,"Fruit") -> 0 | I95: =COUNTIF(I4:I83,"Fruit") -> 0 | ... O95: =COUNTIF(O4:O83,"Fruit") -> 0
A96: Compote | B96: =COUNTIF(B4:B83,"Compote") -> 0 | C96: =COUNTIF(C4:C83,"Compote") -> 0 | D96: =COUNTIF(D4:D83,"Compote") -> 0 | E96: =COUNTIF(E4:E83,"Compote") -> 0 | F96: =COUNTIF(F4:F83,"Compote") -> 0 | G96: =COUNTIF(G4:G83,"Compote") -> 0 | H96: =COUNTIF(H4:H83,"Compote") -> 0 | I96: =COUNTIF(I4:I83,"Compote") -> 0 | ... O96: =COUNTIF(O4:O83,"Compote") -> 0

Sheet RECAP CUISINE
A1: Constants ILE DE France | B1: Lundi | D1: Mardi | F1: Mercredi | H1: Jeudi | J1: Vendredi | L1: Samedi | N1: Dimanche
B2: =IDF!B2 -> 43136 | C2: =IDF!C2 -> 43136 | D2: =IDF!D2 -> 43137 | E2: =IDF!E2 -> 43137 | F2: =IDF!F2 -> 43138 | G2: =IDF!G2 -> 43138 | H2: =IDF!H2 -> 43139 | I2: =IDF!I2 -> 43139 | ... O2: =IDF!O2 -> 43142
B3: Midi | C3: Soir | D3: Midi | E3: Soir | F3: Midi | G3: Soir | H3: Midi | I3: Soir | J3: Midi | K3: Soir | L3: Midi | M3: Soir | N3: Midi | O3: Midi
A4: Tomate | B4: =IDF!B89 -> 0 | C4: =IDF!C89 -> 0 | D4: =IDF!D89 -> 0 | E4: =IDF!E89 -> 0 | F4: =IDF!F89 -> 0 | G4: =IDF!G89 -> 0 | H4: =IDF!H89 -> 0 | I4: =IDF!I89 -> 0 | ... O4: =IDF!O89 -> 0
A5: Pâté | B5: =IDF!B90 -> 0 | C5: =IDF!C90 -> 0 | D5: =IDF!D90 -> 0 | E5: =IDF!E90 -> 0 | F5: =IDF!F90 -> 0 | G5: =IDF!G90 -> 0 | H5: =IDF!H90 -> 0 | I5: =IDF!I90 -> 0 | ... O5: =IDF!O90 -> 0
A6: Jambon | B6: =IDF!B91 -> 0 | C6: =IDF!C91 -> 0 | D6: =IDF!D91 -> 0 | E6: =IDF!E91 -> 0 | F6: =IDF!F91 -> 0 | G6: =IDF!G91 -> 0 | H6: =IDF!H91 -> 0 | I6: =IDF!I91 -> 0 | ... O6: =IDF!O91 -> 0
A7: Poisson pané | B7: =IDF!B92 -> 0 | C7: =IDF!C92 -> 0 | D7: =IDF!D92 -> 0 | E7: =IDF!E92 -> 0 | F7: =IDF!F92 -> 0 | G7: =IDF!G92 -> 0 | H7: =IDF!H92 -> 0 | I7: =IDF!I92 -> 0 | ... O7: =IDF!O92 -> 0
A8: Purée | B8: =IDF!B93 -> 0 | C8: =IDF!C93 -> 0 | D8: =IDF!D93 -> 0 | E8: =IDF!E93 -> 0 | F8: =IDF!F93 -> 0 | G8: =IDF!G93 -> 0 | H8: =IDF!H93 -> 0 | I8: =IDF!I93 -> 0 | ... O8: =IDF!O93 -> 0
A9: Haricot vert | B9: =IDF!B94 -> 0 | C9: =IDF!C94 -> 0 | D9: =IDF!D94 -> 0 | E9: =IDF!E94 -> 0 | F9: =IDF!F94 -> 0 | G9: =IDF!G94 -> 0 | H9: =IDF!H94 -> 0 | I9: =IDF!I94 -> 0 | ... O9: =IDF!O94 -> 0
A10: Fruit | B10: =IDF!B95 -> 0 | C10: =IDF!C95 -> 0 | D10: =IDF!D95 -> 0 | E10: =IDF!E95 -> 0 | F10: =IDF!F95 -> 0 | G10: =IDF!G95 -> 0 | H10: =IDF!H95 -> 0 | I10: =IDF!I95 -> 0 | ... O10: =IDF!O95 -> 0
A11: Compote | B11: =IDF!B96 -> 0 | C11: =IDF!C96 -> 0 | D11: =IDF!D96 -> 0 | E11: =IDF!E96 -> 0 | F11: =IDF!F96 -> 0 | G11: =IDF!G96 -> 0 | H11: =IDF!H96 -> 0 | I11: =IDF!I96 -> 0 | ... O11: =IDF!O96 -> 0
A13: Constants LES ECRINS | B13: Lundi | D13: Mardi | F13: Mercredi | H13: Jeudi | J13: Vendredi | L13: Samedi | N13: Dimanche
B14: =B2 -> 43136 | C14: =C2 -> 43136 | D14: =D2 -> 43137 | E14: =E2 -> 43137 | F14: =F2 -> 43138 | G14: =G2 -> 43138 | H14: =H2 -> 43139 | I14: =I2 -> 43139 | ... O14: =O2 -> 43142
B15: Midi | C15: Soir | D15: Midi | E15: Soir | F15: Midi | G15: Soir | H15: Midi | I15: Soir | J15: Midi | K15: Soir | L15: Midi | M15: Soir | N15: Midi | O15: Midi
A16: Tomate | B16: =ECRINS!B89 -> 0 | C16: =ECRINS!C89 -> 0 | D16: =ECRINS!D89 -> 0 | E16: =ECRINS!E89 -> 0 | F16: =ECRINS!F89 -> 0 | G16: =ECRINS!G89 -> 0 | H16: =ECRINS!H89 -> 0 | I16: =ECRINS!I89 -> 0 | ... O16: =ECRINS!O89 -> 0
A17: Pâté | B17: =ECRINS!B90 -> 0 | C17: =ECRINS!C90 -> 0 | D17: =ECRINS!D90 -> 0 | E17: =ECRINS!E90 -> 0 | F17: =ECRINS!F90 -> 0 | G17: =ECRINS!G90 -> 0 | H17: =ECRINS!H90 -> 0 | I17: =ECRINS!I90 -> 0 | ... O17: =ECRINS!O90 -> 0
A18: Jambon | B18: =ECRINS!B91 -> 0 | C18: =ECRINS!C91 -> 0 | D18: =ECRINS!D91 -> 0 | E18: =ECRINS!E91 -> 0 | F18: =ECRINS!F91 -> 0 | G18: =ECRINS!G91 -> 0 | H18: =ECRINS!H91 -> 0 | I18: =ECRINS!I91 -> 0 | ... O18: =ECRINS!O91 -> 0
A19: Poisson pané | B19: =ECRINS!B92 -> 0 | C19: =ECRINS!C92 -> 0 | D19: =ECRINS!D92 -> 0 | E19: =ECRINS!E92 -> 0 | F19: =ECRINS!F92 -> 0 | G19: =ECRINS!G92 -> 0 | H19: =ECRINS!H92 -> 0 | I19: =ECRINS!I92 -> 0 | ... O19: =ECRINS!O92 -> 0
A20: Purée | B20: =ECRINS!B93 -> 0 | C20: =ECRINS!C93 -> 0 | D20: =ECRINS!D93 -> 0 | E20: =ECRINS!E93 -> 0 | F20: =ECRINS!F93 -> 0 | G20: =ECRINS!G93 -> 0 | H20: =ECRINS!H93 -> 0 | I20: =ECRINS!I93 -> 0 | ... O20: =ECRINS!O93 -> 0
A21: Haricot vert | B21: =ECRINS!B94 -> 0 | C21: =ECRINS!C94 -> 0 | D21: =ECRINS!D94 -> 0 | E21: =ECRINS!E94 -> 0 | F21: =ECRINS!F94 -> 0 | G21: =ECRINS!G94 -> 0 | H21: =ECRINS!H94 -> 0 | I21: =ECRINS!I94 -> 0 | ... O21: =ECRINS!O94 -> 0
A22: Fruit | B22: =ECRINS!B95 -> 0 | C22: =ECRINS!C95 -> 0 | D22: =ECRINS!D95 -> 0 | E22: =ECRINS!E95 -> 0 | F22: =ECRINS!F95 -> 0 | G22: =ECRINS!G95 -> 0 | H22: =ECRINS!H95 -> 0 | I22: =ECRINS!I95 -> 0 | ... O22: =ECRINS!O95 -> 0
A23: Compote | B23: =ECRINS!B96 -> 0 | C23: =ECRINS!C96 -> 0 | D23: =ECRINS!D96 -> 0 | E23: =ECRINS!E96 -> 0 | F23: =ECRINS!F96 -> 0 | G23: =ECRINS!G96 -> 0 | H23: =ECRINS!H96 -> 0 | I23: =ECRINS!I96 -> 0 | ... O23: =ECRINS!O96 -> 0
A25: Constants CORNOUAILLES | B25: Lundi | D25: Mardi | F25: Mercredi | H25: Jeudi | J25: Vendredi | L25: Samedi | N25: Dimanche
B26: =B2 -> 43136 | C26: =C2 -> 43136 | D26: =D2 -> 43137 | E26: =E2 -> 43137 | F26: =F2 -> 43138 | G26: =G2 -> 43138 | H26: =H2 -> 43139 | I26: =I2 -> 43139 | ... O26: =O2 -> 43142
B27: Midi | C27: Soir | D27: Midi | E27: Soir | F27: Midi | G27: Soir | H27: Midi | I27: Soir | J27: Midi | K27: Soir | L27: Midi | M27: Soir | N27: Midi | O27: Midi
A28: Tomate | B28: =CORNOUAILLES!B89 -> 0 | C28: =CORNOUAILLES!C89 -> 0 | D28: =CORNOUAILLES!D89 -> 0 | E28: =CORNOUAILLES!E89 -> 0 | F28: =CORNOUAILLES!F89 -> 0 | G28: =CORNOUAILLES!G89 -> 0 | H28: =CORNOUAILLES!H89 -> 0 | I28: =CORNOUAILLES!I89 -> 0 | ... O28: =CORNOUAILLES!O89 -> 0
A29: Pâté | B29: =CORNOUAILLES!B90 -> 0 | C29: =CORNOUAILLES!C90 -> 0 | D29: =CORNOUAILLES!D90 -> 0 | E29: =CORNOUAILLES!E90 -> 0 | F29: =CORNOUAILLES!F90 -> 0 | G29: =CORNOUAILLES!G90 -> 0 | H29: =CORNOUAILLES!H90 -> 0 | I29: =CORNOUAILLES!I90 -> 0 | ... O29: =CORNOUAILLES!O90 -> 0
A30: Jambon | B30: =CORNOUAILLES!B91 -> 0 | C30: =CORNOUAILLES!C91 -> 0 | D30: =CORNOUAILLES!D91 -> 0 | E30: =CORNOUAILLES!E91 -> 0 | F30: =CORNOUAILLES!F91 -> 0 | G30: =CORNOUAILLES!G91 -> 0 | H30: =CORNOUAILLES!H91 -> 0 | I30: =CORNOUAILLES!I91 -> 0 | ... O30: =CORNOUAILLES!O91 -> 0
A31: Poisson pané | B31: =CORNOUAILLES!B92 -> 0 | C31: =CORNOUAILLES!C92 -> 0 | D31: =CORNOUAILLES!D92 -> 0 | E31: =CORNOUAILLES!E92 -> 0 | F31: =CORNOUAILLES!F92 -> 0 | G31: =CORNOUAILLES!G92 -> 0 | H31: =CORNOUAILLES!H92 -> 0 | I31: =CORNOUAILLES!I92 -> 0 | ... O31: =CORNOUAILLES!O92 -> 0
A32: Purée | B32: =CORNOUAILLES!B93 -> 0 | C32: =CORNOUAILLES!C93 -> 0 | D32: =CORNOUAILLES!D93 -> 0 | E32: =CORNOUAILLES!E93 -> 0 | F32: =CORNOUAILLES!F93 -> 0 | G32: =CORNOUAILLES!G93 -> 0 | H32: =CORNOUAILLES!H93 -> 0 | I32: =CORNOUAILLES!I93 -> 0 | ... O32: =CORNOUAILLES!O93 -> 0
A33: Haricot vert | B33: =CORNOUAILLES!B94 -> 0 | C33: =CORNOUAILLES!C94 -> 0 | D33: =CORNOUAILLES!D94 -> 0 | E33: =CORNOUAILLES!E94 -> 0 | F33: =CORNOUAILLES!F94 -> 0 | G33: =CORNOUAILLES!G94 -> 0 | H33: =CORNOUAILLES!H94 -> 0 | I33: =CORNOUAILLES!I94 -> 0 | ... O33: =CORNOUAILLES!O94 -> 0
A34: Fruit | B34: =CORNOUAILLES!B95 -> 0 | C34: =CORNOUAILLES!C95 -> 0 | D34: =CORNOUAILLES!D95 -> 0 | E34: =CORNOUAILLES!E95 -> 0 | F34: =CORNOUAILLES!F95 -> 0 | G34: =CORNOUAILLES!G95 -> 0 | H34: =CORNOUAILLES!H95 -> 0 | I34: =CORNOUAILLES!I95 -> 0 | ... O34: =CORNOUAILLES!O95 -> 0
A35: Compote | B35: =CORNOUAILLES!B96 -> 0 | C35: =CORNOUAILLES!C96 -> 0 | D35: =CORNOUAILLES!D96 -> 0 | E35: =CORNOUAILLES!E96 -> 0 | F35: =CORNOUAILLES!F96 -> 0 | G35: =CORNOUAILLES!G96 -> 0 | H35: =CORNOUAILLES!H96 -> 0 | I35: =CORNOUAILLES!I96 -> 0 | ... O35: =CORNOUAILLES!O96 -> 0
A37: Constants RHENAN | B37: Lundi | D37: Mardi | F37: Mercredi | H37: Jeudi | J37: Vendredi | L37: Samedi | N37: Dimanche
B38: =B2 -> 43136 | C38: =C2 -> 43136 | D38: =D2 -> 43137 | E38: =E2 -> 43137 | F38: =F2 -> 43138 | G38: =G2 -> 43138 | H38: =H2 -> 43139 | I38: =I2 -> 43139 | ... O38: =O2 -> 43142
B39: Midi | C39: Soir | D39: Midi | E39: Soir | F39: Midi | G39: Soir | H39: Midi | I39: Soir | J39: Midi | K39: Soir | L39: Midi | M39: Soir | N39: Midi | O39: Midi
A40: Tomate | B40: =RHENAN!B89 -> 0 | C40: =RHENAN!C89 -> 0 | D40: =RHENAN!D89 -> 0 | E40: =RHENAN!E89 -> 0 | F40: =RHENAN!F89 -> 0 | G40: =RHENAN!G89 -> 0 | H40: =RHENAN!H89 -> 0 | I40: =RHENAN!I89 -> 0 | ... O40: =RHENAN!O89 -> 0
A41: Pâté | B41: =RHENAN!B90 -> 0 | C41: =RHENAN!C90 -> 0 | D41: =RHENAN!D90 -> 0 | E41: =RHENAN!E90 -> 0 | F41: =RHENAN!F90 -> 0 | G41: =RHENAN!G90 -> 0 | H41: =RHENAN!H90 -> 0 | I41: =RHENAN!I90 -> 0 | ... O41: =RHENAN!O90 -> 0
A42: Jambon | B42: =RHENAN!B91 -> 0 | C42: =RHENAN!C91 -> 0 | D42: =RHENAN!D91 -> 0 | E42: =RHENAN!E91 -> 0 | F42: =RHENAN!F91 -> 0 | G42: =RHENAN!G91 -> 0 | H42: =RHENAN!H91 -> 0 | I42: =RHENAN!I91 -> 0 | ... O42: =RHENAN!O91 -> 0
A43: Poisson pané | B43: =RHENAN!B92 -> 0 | C43: =RHENAN!C92 -> 0 | D43: =RHENAN!D92 -> 0 | E43: =RHENAN!E92 -> 0 | F43: =RHENAN!F92 -> 0 | G43: =RHENAN!G92 -> 0 | H43: =RHENAN!H92 -> 0 | I43: =RHENAN!I92 -> 0 | ... O43: =RHENAN!O92 -> 0
A44: Purée | B44: =RHENAN!B93 -> 0 | C44: =RHENAN!C93 -> 0 | D44: =RHENAN!D93 -> 0 | E44: =RHENAN!E93 -> 0 | F44: =RHENAN!F93 -> 0 | G44: =RHENAN!G93 -> 0 | H44: =RHENAN!H93 -> 0 | I44: =RHENAN!I93 -> 0 | ... O44: =RHENAN!O93 -> 0
A45: Haricot vert | B45: =RHENAN!B94 -> 0 | C45: =RHENAN!C94 -> 0 | D45: =RHENAN!D94 -> 0 | E45: =RHENAN!E94 -> 0 | F45: =RHENAN!F94 -> 0 | G45: =RHENAN!G94 -> 0 | H45: =RHENAN!H94 -> 0 | I45: =RHENAN!I94 -> 0 | ... O45: =RHENAN!O94 -> 0
A46: Fruit | B46: =RHENAN!B95 -> 0 | C46: =RHENAN!C95 -> 0 | D46: =RHENAN!D95 -> 0 | E46: =RHENAN!E95 -> 0 | F46: =RHENAN!F95 -> 0 | G46: =RHENAN!G95 -> 0 | H46: =RHENAN!H95 -> 0 | I46: =RHENAN!I95 -> 0 | ... O46: =RHENAN!O95 -> 0
A47: Compote | B47: =RHENAN!B96 -> 0 | C47: =RHENAN!C96 -> 0 | D47: =RHENAN!D96 -> 0 | E47: =RHENAN!E96 -> 0 | F47: =RHENAN!F96 -> 0 | G47: =RHENAN!G96 -> 0 | H47: =RHENAN!H96 -> 0 | I47: =RHENAN!I96 -> 0 | ... O47: =RHENAN!O96 -> 0
A49: Constants BRABANT | B49: Lundi | D49: Mardi | F49: Mercredi | H49: Jeudi | J49: Vendredi | L49: Samedi | N49: Dimanche
B50: =B2 -> 43136 | C50: =C2 -> 43136 | D50: =D2 -> 43137 | E50: =E2 -> 43137 | F50: =F2 -> 43138 | G50: =G2 -> 43138 | H50: =H2 -> 43139 | I50: =I2 -> 43139 | ... O50: =O2 -> 43142
B51: Midi | C51: Soir | D51: Midi | E51: Soir | F51: Midi | G51: Soir | H51: Midi | I51: Soir | J51: Midi | K51: Soir | L51: Midi | M51: Soir | N51: Midi | O51: Midi
A52: Tomate | B52: =BRABANT!B89 -> 0 | C52: =BRABANT!C89 -> 0 | D52: =BRABANT!D89 -> 0 | E52: =BRABANT!E89 -> 0 | F52: =BRABANT!F89 -> 0 | G52: =BRABANT!G89 -> 0 | H52: =BRABANT!H89 -> 0 | I52: =BRABANT!I89 -> 0 | ... O52: =BRABANT!O89 -> 0
A53: Pâté | B53: =BRABANT!B90 -> 0 | C53: =BRABANT!C90 -> 0 | D53: =BRABANT!D90 -> 0 | E53: =BRABANT!E90 -> 0 | F53: =BRABANT!F90 -> 0 | G53: =BRABANT!G90 -> 0 | H53: =BRABANT!H90 -> 0 | I53: =BRABANT!I90 -> 0 | ... O53: =BRABANT!O90 -> 0
A54: Jambon | B54: =BRABANT!B91 -> 0 | C54: =BRABANT!C91 -> 0 | D54: =BRABANT!D91 -> 0 | E54: =BRABANT!E91 -> 0 | F54: =BRABANT!F91 -> 0 | G54: =BRABANT!G91 -> 0 | H54: =BRABANT!H91 -> 0 | I54: =BRABANT!I91 -> 0 | ... O54: =BRABANT!O91 -> 0
A55: Poisson pané | B55: =BRABANT!B92 -> 0 | C55: =BRABANT!C92 -> 0 | D55: =BRABANT!D92 -> 0 | E55: =BRABANT!E92 -> 0 | F55: =BRABANT!F92 -> 0 | G55: =BRABANT!G92 -> 0 | H55: =BRABANT!H92 -> 0 | I55: =BRABANT!I92 -> 0 | ... O55: =BRABANT!O92 -> 0
A56: Purée | B56: =BRABANT!B93 -> 0 | C56: =BRABANT!C93 -> 0 | D56: =BRABANT!D93 -> 0 | E56: =BRABANT!E93 -> 0 | F56: =BRABANT!F93 -> 0 | G56: =BRABANT!G93 -> 0 | H56: =BRABANT!H93 -> 0 | I56: =BRABANT!I93 -> 0 | ... O56: =BRABANT!O93 -> 0
A57: Haricot vert | B57: =BRABANT!B94 -> 0 | C57: =BRABANT!C94 -> 0 | D57: =BRABANT!D94 -> 0 | E57: =BRABANT!E94 -> 0 | F57: =BRABANT!F94 -> 0 | G57: =BRABANT!G94 -> 0 | H57: =BRABANT!H94 -> 0 | I57: =BRABANT!I94 -> 0 | ... O57: =BRABANT!O94 -> 0
A58: Fruit | B58: =BRABANT!B95 -> 0 | C58: =BRABANT!C95 -> 0 | D58: =BRABANT!D95 -> 0 | E58: =BRABANT!E95 -> 0 | F58: =BRABANT!F95 -> 0 | G58: =BRABANT!G95 -> 0 | H58: =BRABANT!H95 -> 0 | I58: =BRABANT!I95 -> 0 | ... O58: =BRABANT!O95 -> 0
A59: Compote | B59: =BRABANT!B96 -> 0 | C59: =BRABANT!C96 -> 0 | D59: =BRABANT!D96 -> 0 | E59: =BRABANT!E96 -> 0 | F59: =BRABANT!F96 -> 0 | G59: =BRABANT!G96 -> 0 | H59: =BRABANT!H96 -> 0 | I59: =BRABANT!I96 -> 0 | ... O59: =BRABANT!O96 -> 0
A61: Constants AMOR | B61: Lundi | D61: Mardi | F61: Mercredi | H61: Jeudi | J61: Vendredi | L61: Samedi | N61: Dimanche
B62: =B2 -> 43136 | C62: =C2 -> 43136 | D62: =D2 -> 43137 | E62: =E2 -> 43137 | F62: =F2 -> 43138 | G62: =G2 -> 43138 | H62: =H2 -> 43139 | I62: =I2 -> 43139 | ... O62: =O2 -> 43142
B63: Midi | C63: Soir | D63: Midi | E63: Soir | F63: Midi | G63: Soir | H63: Midi | I63: Soir | J63: Midi | K63: Soir | L63: Midi | M63: Soir | N63: Midi | O63: Midi
A64: Tomate | B64: =AMOR!B89 -> 0 | C64: =AMOR!C89 -> 0 | D64: =AMOR!D89 -> 0 | E64: =AMOR!E89 -> 0 | F64: =AMOR!F89 -> 0 | G64: =AMOR!G89 -> 0 | H64: =AMOR!H89 -> 0 | I64: =AMOR!I89 -> 0 | ... O64: =AMOR!O89 -> 0
A65: Pâté | B65: =AMOR!B90 -> 0 | C65: =AMOR!C90 -> 0 | D65: =AMOR!D90 -> 0 | E65: =AMOR!E90 -> 0 | F65: =AMOR!F90 -> 0 | G65: =AMOR!G90 -> 0 | H65: =AMOR!H90 -> 0 | I65: =AMOR!I90 -> 0 | ... O65: =AMOR!O90 -> 0
A66: Jambon | B66: =AMOR!B91 -> 0 | C66: =AMOR!C91 -> 0 | D66: =AMOR!D91 -> 0 | E66: =AMOR!E91 -> 0 | F66: =AMOR!F91 -> 0 | G66: =AMOR!G91 -> 0 | H66: =AMOR!H91 -> 0 | I66: =AMOR!I91 -> 0 | ... O66: =AMOR!O91 -> 0
A67: Poisson pané | B67: =AMOR!B92 -> 0 | C67: =AMOR!C92 -> 0 | D67: =AMOR!D92 -> 0 | E67: =AMOR!E92 -> 0 | F67: =AMOR!F92 -> 0 | G67: =AMOR!G92 -> 0 | H67: =AMOR!H92 -> 0 | I67: =AMOR!I92 -> 0 | ... O67: =AMOR!O92 -> 0
A68: Purée | B68: =AMOR!B93 -> 0 | C68: =AMOR!C93 -> 0 | D68: =AMOR!D93 -> 0 | E68: =AMOR!E93 -> 0 | F68: =AMOR!F93 -> 0 | G68: =AMOR!G93 -> 0 | H68: =AMOR!H93 -> 0 | I68: =AMOR!I93 -> 0 | ... O68: =AMOR!O93 -> 0
A69: Haricot vert | B69: =AMOR!B94 -> 0 | C69: =AMOR!C94 -> 0 | D69: =AMOR!D94 -> 0 | E69: =AMOR!E94 -> 0 | F69: =AMOR!F94 -> 0 | G69: =AMOR!G94 -> 0 | H69: =AMOR!H94 -> 0 | I69: =AMOR!I94 -> 0 | ... O69: =AMOR!O94 -> 0
A70: Fruit | B70: =AMOR!B95 -> 0 | C70: =AMOR!C95 -> 0 | D70: =AMOR!D95 -> 0 | E70: =AMOR!E95 -> 0 | F70: =AMOR!F95 -> 0 | G70: =AMOR!G95 -> 0 | H70: =AMOR!H95 -> 0 | I70: =AMOR!I95 -> 0 | ... O70: =AMOR!O95 -> 0
A71: Compote | B71: =AMOR!B96 -> 0 | C71: =AMOR!C96 -> 0 | D71: =AMOR!D96 -> 0 | E71: =AMOR!E96 -> 0 | F71: =AMOR!F96 -> 0 | G71: =AMOR!G96 -> 0 | H71: =AMOR!H96 -> 0 | I71: =AMOR!I96 -> 0 | ... O71: =AMOR!O96 -> 0
A73: Constants PERIGORD | B73: Lundi | D73: Mardi | F73: Mercredi | H73: Jeudi | J73: Vendredi | L73: Samedi | N73: Dimanche
B74: =B2 -> 43136 | C74: =C2 -> 43136 | D74: =D2 -> 43137 | E74: =E2 -> 43137 | F74: =F2 -> 43138 | G74: =G2 -> 43138 | H74: =H2 -> 43139 | I74: =I2 -> 43139 | ... O74: =O2 -> 43142
B75: Midi | C75: Soir | D75: Midi | E75: Soir | F75: Midi | G75: Soir | H75: Midi | I75: Soir | J75: Midi | K75: Soir | L75: Midi | M75: Soir | N75: Midi | O75: Midi
A76: Tomate | B76: =PERIGORD!B89 -> 0 | C76: =PERIGORD!C89 -> 0 | D76: =PERIGORD!D89 -> 0 | E76: =PERIGORD!E89 -> 0 | F76: =PERIGORD!F89 -> 0 | G76: =PERIGORD!G89 -> 0 | H76: =PERIGORD!H89 -> 0 | I76: =PERIGORD!I89 -> 0 | ... O76: =PERIGORD!O89 -> 0
A77: Pâté | B77: =PERIGORD!B90 -> 0 | C77: =PERIGORD!C90 -> 0 | D77: =PERIGORD!D90 -> 0 | E77: =PERIGORD!E90 -> 0 | F77: =PERIGORD!F90 -> 0 | G77: =PERIGORD!G90 -> 0 | H77: =PERIGORD!H90 -> 0 | I77: =PERIGORD!I90 -> 0 | ... O77: =PERIGORD!O90 -> 0
A78: Jambon | B78: =PERIGORD!B91 -> 0 | C78: =PERIGORD!C91 -> 0 | D78: =PERIGORD!D91 -> 0 | E78: =PERIGORD!E91 -> 0 | F78: =PERIGORD!F91 -> 0 | G78: =PERIGORD!G91 -> 0 | H78: =PERIGORD!H91 -> 0 | I78: =PERIGORD!I91 -> 0 | ... O78: =PERIGORD!O91 -> 0
A79: Poisson pané | B79: =PERIGORD!B92 -> 0 | C79: =PERIGORD!C92 -> 0 | D79: =PERIGORD!D92 -> 0 | E79: =PERIGORD!E92 -> 0 | F79: =PERIGORD!F92 -> 0 | G79: =PERIGORD!G92 -> 0 | H79: =PERIGORD!H92 -> 0 | I79: =PERIGORD!I92 -> 0 | ... O79: =PERIGORD!O92 -> 0
A80: Purée | B80: =PERIGORD!B93 -> 0 | C80: =PERIGORD!C93 -> 0 | D80: =PERIGORD!D93 -> 0 | E80: =PERIGORD!E93 -> 0 | F80: =PERIGORD!F93 -> 0 | G80: =PERIGORD!G93 -> 0 | H80: =PERIGORD!H93 -> 0 | I80: =PERIGORD!I93 -> 0 | ... O80: =PERIGORD!O93 -> 0
A81: Haricot vert | B81: =PERIGORD!B94 -> 0 | C81: =PERIGORD!C94 -> 0 | D81: =PERIGORD!D94 -> 0 | E81: =PERIGORD!E94 -> 0 | F81: =PERIGORD!F94 -> 0 | G81: =PERIGORD!G94 -> 0 | H81: =PERIGORD!H94 -> 0 | I81: =PERIGORD!I94 -> 0 | ... O81: =PERIGORD!O94 -> 0
A82: Fruit | B82: =PERIGORD!B95 -> 0 | C82: =PERIGORD!C95 -> 0 | D82: =PERIGORD!D95 -> 0 | E82: =PERIGORD!E95 -> 0 | F82: =PERIGORD!F95 -> 0 | G82: =PERIGORD!G95 -> 0 | H82: =PERIGORD!H95 -> 0 | I82: =PERIGORD!I95 -> 0 | ... O82: =PERIGORD!O95 -> 0
A83: Compote | B83: =PERIGORD!B96 -> 0 | C83: =PERIGORD!C96 -> 0 | D83: =PERIGORD!D96 -> 0 | E83: =PERIGORD!E96 -> 0 | F83: =PERIGORD!F96 -> 0 | G83: =PERIGORD!G96 -> 0 | H83: =PERIGORD!H96 -> 0 | I83: =PERIGORD!I96 -> 0 | ... O83: =PERIGORD!O96 -> 0
A85: Constants SANCY | B85: Lundi | D85: Mardi | F85: Mercredi | H85: Jeudi | J85: Vendredi | L85: Samedi | N85: Dimanche
B86: =B2 -> 43136 | C86: =C2 -> 43136 | D86: =D2 -> 43137 | E86: =E2 -> 43137 | F86: =F2 -> 43138 | G86: =G2 -> 43138 | H86: =H2 -> 43139 | I86: =I2 -> 43139 | ... O86: =O2 -> 43142
B87: Midi | C87: Soir | D87: Midi | E87: Soir | F87: Midi | G87: Soir | H87: Midi | I87: Soir | J87: Midi | K87: Soir | L87: Midi | M87: Soir | N87: Midi | O87: Midi
A88: Tomate | B88: =SANCY!B89 -> 0 | C88: =SANCY!C89 -> 0 | D88: =SANCY!D89 -> 0 | E88: =SANCY!E89 -> 0 | F88: =SANCY!F89 -> 0 | G88: =SANCY!G89 -> 0 | H88: =SANCY!H89 -> 0 | I88: =SANCY!I89 -> 0 | ... O88: =SANCY!O89 -> 0
A89: Pâté | B89: =SANCY!B90 -> 0 | C89: =SANCY!C90 -> 0 | D89: =SANCY!D90 -> 0 | E89: =SANCY!E90 -> 0 | F89: =SANCY!F90 -> 0 | G89: =SANCY!G90 -> 0 | H89: =SANCY!H90 -> 0 | I89: =SANCY!I90 -> 0 | ... O89: =SANCY!O90 -> 0
A90: Jambon | B90: =SANCY!B91 -> 0 | C90: =SANCY!C91 -> 0 | D90: =SANCY!D91 -> 0 | E90: =SANCY!E91 -> 0 | F90: =SANCY!F91 -> 0 | G90: =SANCY!G91 -> 0 | H90: =SANCY!H91 -> 0 | I90: =SANCY!I91 -> 0 | ... O90: =SANCY!O91 -> 0
A91: Poisson pané | B91: =SANCY!B92 -> 0 | C91: =SANCY!C92 -> 0 | D91: =SANCY!D92 -> 0 | E91: =SANCY!E92 -> 0 | F91: =SANCY!F92 -> 0 | G91: =SANCY!G92 -> 0 | H91: =SANCY!H92 -> 0 | I91: =SANCY!I92 -> 0 | ... O91: =SANCY!O92 -> 0
A92: Purée | B92: =SANCY!B93 -> 0 | C92: =SANCY!C93 -> 0 | D92: =SANCY!D93 -> 0 | E92: =SANCY!E93 -> 0 | F92: =SANCY!F93 -> 0 | G92: =SANCY!G93 -> 0 | H92: =SANCY!H93 -> 0 | I92: =SANCY!I93 -> 0 | ... O92: =SANCY!O93 -> 0
A93: Haricot vert | B93: =SANCY!B94 -> 0 | C93: =SANCY!C94 -> 0 | D93: =SANCY!D94 -> 0 | E93: =SANCY!E94 -> 0 | F93: =SANCY!F94 -> 0 | G93: =SANCY!G94 -> 0 | H93: =SANCY!H94 -> 0 | I93: =SANCY!I94 -> 0 | ... O93: =SANCY!O94 -> 0
A94: Fruit | B94: =SANCY!B95 -> 0 | C94: =SANCY!C95 -> 0 | D94: =SANCY!D95 -> 0 | E94: =SANCY!E95 -> 0 | F94: =SANCY!F95 -> 0 | G94: =SANCY!G95 -> 0 | H94: =SANCY!H95 -> 0 | I94: =SANCY!I95 -> 0 | ... O94: =SANCY!O95 -> 0
A95: Compote | B95: =SANCY!B96 -> 0 | C95: =SANCY!C96 -> 0 | D95: =SANCY!D96 -> 0 | E95: =SANCY!E96 -> 0 | F95: =SANCY!F96 -> 0 | G95: =SANCY!G96 -> 0 | H95: =SANCY!H96 -> 0 | I95: =SANCY!I96 -> 0 | ... O95: =SANCY!O96 -> 0
A97: Constants CHARTREUSE | B97: Lundi | D97: Mardi | F97: Mercredi | H97: Jeudi | J97: Vendredi | L97: Samedi | N97: Dimanche
B98: =B2 -> 43136 | C98: =C2 -> 43136 | D98: =D2 -> 43137 | E98: =E2 -> 43137 | F98: =F2 -> 43138 | G98: =G2 -> 43138 | H98: =H2 -> 43139 | I98: =I2 -> 43139 | ... O98: =O2 -> 43142
B99: Midi | C99: Soir | D99: Midi | E99: Soir | F99: Midi | G99: Soir | H99: Midi | I99: Soir | J99: Midi | K99: Soir | L99: Midi | M99: Soir | N99: Midi | O99: Midi
A100: Tomate | B100: =CHARTREUSE!B89 -> 0 | C100: =CHARTREUSE!C89 -> 0 | D100: =CHARTREUSE!D89 -> 0 | E100: =CHARTREUSE!E89 -> 0 | F100: =CHARTREUSE!F89 -> 0 | G100: =CHARTREUSE!G89 -> 0 | H100: =CHARTREUSE!H89 -> 0 | I100: =CHARTREUSE!I89 -> 0 | ... O100: =CHARTREUSE!O89 -> 0
A101: Pâté | B101: =CHARTREUSE!B90 -> 0 | C101: =CHARTREUSE!C90 -> 0 | D101: =CHARTREUSE!D90 -> 0 | E101: =CHARTREUSE!E90 -> 0 | F101: =CHARTREUSE!F90 -> 0 | G101: =CHARTREUSE!G90 -> 0 | H101: =CHARTREUSE!H90 -> 0 | I101: =CHARTREUSE!I90 -> 0 | ... O101: =CHARTREUSE!O90 -> 0
A102: Jambon | B102: =CHARTREUSE!B91 -> 0 | C102: =CHARTREUSE!C91 -> 0 | D102: =CHARTREUSE!D91 -> 0 | E102: =CHARTREUSE!E91 -> 0 | F102: =CHARTREUSE!F91 -> 0 | G102: =CHARTREUSE!G91 -> 0 | H102: =CHARTREUSE!H91 -> 0 | I102: =CHARTREUSE!I91 -> 0 | ... O102: =CHARTREUSE!O91 -> 0
A103: Poisson pané | B103: =CHARTREUSE!B92 -> 0 | C103: =CHARTREUSE!C92 -> 0 | D103: =CHARTREUSE!D92 -> 0 | E103: =CHARTREUSE!E92 -> 0 | F103: =CHARTREUSE!F92 -> 0 | G103: =CHARTREUSE!G92 -> 0 | H103: =CHARTREUSE!H92 -> 0 | I103: =CHARTREUSE!I92 -> 0 | ... O103: =CHARTREUSE!O92 -> 0
A104: Purée | B104: =CHARTREUSE!B93 -> 0 | C104: =CHARTREUSE!C93 -> 0 | D104: =CHARTREUSE!D93 -> 0 | E104: =CHARTREUSE!E93 -> 0 | F104: =CHARTREUSE!F93 -> 0 | G104: =CHARTREUSE!G93 -> 0 | H104: =CHARTREUSE!H93 -> 0 | I104: =CHARTREUSE!I93 -> 0 | ... O104: =CHARTREUSE!O93 -> 0
A105: Haricot vert | B105: =CHARTREUSE!B94 -> 0 | C105: =CHARTREUSE!C94 -> 0 | D105: =CHARTREUSE!D94 -> 0 | E105: =CHARTREUSE!E94 -> 0 | F105: =CHARTREUSE!F94 -> 0 | G105: =CHARTREUSE!G94 -> 0 | H105: =CHARTREUSE!H94 -> 0 | I105: =CHARTREUSE!I94 -> 0 | ... O105: =CHARTREUSE!O94 -> 0
A106: Fruit | B106: =CHARTREUSE!B95 -> 0 | C106: =CHARTREUSE!C95 -> 0 | D106: =CHARTREUSE!D95 -> 0 | E106: =CHARTREUSE!E95 -> 0 | F106: =CHARTREUSE!F95 -> 0 | G106: =CHARTREUSE!G95 -> 0 | H106: =CHARTREUSE!H95 -> 0 | I106: =CHARTREUSE!I95 -> 0 | ... O106: =CHARTREUSE!O95 -> 0
A107: Compote | B107: =CHARTREUSE!B96 -> 0 | C107: =CHARTREUSE!C96 -> 0 | D107: =CHARTREUSE!D96 -> 0 | E107: =CHARTREUSE!E96 -> 0 | F107: =CHARTREUSE!F96 -> 0 | G107: =CHARTREUSE!G96 -> 0 | H107: =CHARTREUSE!H96 -> 0 | I107: =CHARTREUSE!I96 -> 0 | ... O107: =CHARTREUSE!O96 -> 0
A109: Constants AVESNOIS | B109: Lundi | D109: Mardi | F109: Mercredi | H109: Jeudi | J109: Vendredi | L109: Samedi | N109: Dimanche
...

Sheet données NE PAS SUPPRIMER
A1: Constants
A2: Tomate
A3: Pâté
A4: Jambon
A5: Poisson pané
A6: Purée
A7: Haricot vert
A8: Fruit
A9: Compote
