Workbook

Sheet IDF
A1: ILE DE France | B1: Lundi | D1: Mardi | F1: Mercredi | H1: Jeudi | J1: Vendredi | L1: Samedi | N1: Dimanche
B2: 43136 | C2: 43136 | D2: 43137 | E2: 43137 | F2: 43138 | G2: 43138 | H2: 43139 | I2: 43139 | J2: 43140 | K2: 43140 | L2: 43141 | M2: 43141 | N2: 43142 | O2: 43142
B3: Midi | C3: Soir | D3: Midi | E3: Soir | F3: Midi | G3: Soir | H3: Midi | I3: Soir | J3: Midi | K3: Soir | L3: Midi | M3: Soir | N3: Midi | O3: Midi
A4: Madame A
A9: Monsieur B
A14: Madame C
A19: Madame D
A24: Monsieur E
A86: Constants ILE DE France | B86: Lundi | D86: Mardi | F86: Mercredi | H86: Jeudi | J86: Vendredi | L86: Samedi | N86: Dimanche
B87: =B2 -> 43136 | C87: =C2 -> 43136 | D87: =D2 -> 43137 | E87: =E2 -> 43137 | F87: =F2 -> 43138 | G87: =G2 -> 43138 | H87: =H2 -> 43139 | I87: =I2 -> 43139 | ... O87: =O2 -> 43142
B88: Midi | C88: Soir | D88: Midi | E88: Soir | F88: Midi | G88: Soir | H88: Midi | I88: Soir | J88: Midi | K88: Soir | L88: Midi | M88: Soir | N88: Midi | O88: Midi
A89: Tomate | B89: =COUNTIF(B4:B83,"Tomate") -> 0 | C89: =COUNTIF(C4:C83,"Tomate") -> 0 | D89: =COUNTIF(D4:D83,"Tomate") -> 0 | E89: =COUNTIF(E4:E83,"Tomate") -> 0 | F89: =COUNTIF(F4:F83,"Tomate") -> 0 | G89: =COUNTIF(G4:G83,"Tomate") -> 0 | H89: =COUNTIF(H4:H83,"Tomate") -> 0 | I89: =COUNTIF(I4:I83,"Tomate") -> 0 | ... O89: =COUNTIF(O4:O83,"Tomate") -> 0
A90: Pâté | B90: =COUNTIF(B4:B83,"Pâté") -> 0 | C90: =COUNTIF(C4:C83,"Pâté") -> 0 | D90: =COUNTIF(D4:D83,"Pâté") -> 0 | E90: =COUNTIF(E4:E83,"Pâté") -> 0 | F90: =COUNTIF(F4:F83,"Pâté") -> 0 | G90: =COUNTIF(G4:G83,"Pâté") -> 0 | H90: =COUNTIF(H4:H83,"Pâté") -> 0 | I90: =COUNTIF(I4:I83,"Pâté") -> 0 | ... O90: =COUNTIF(O4:O83,"Pâté") -> 0
A91: Jambon | B91: =COUNTIF(B4:B83,"Jambon") -> 0 | C91: =COUNTIF(C4:C83,"Jambon") -> 0 | D91: =COUNTIF(D4:D83,"Jambon") -> 0 | E91: =COUNTIF(E4:E83,"Jambon") -> 0 | F91: =COUNTIF(F4:F83,"Jambon") -> 0 | G91: =COUNTIF(G4:G83,"Jambon") -> 0 | H91: =COUNTIF(H4:H83,"Jambon") -> 0 | I91: =COUNTIF(I4:I83,"Jambon") -> 0 | ... O91: =COUNTIF(O4:O83,"Jambon") -> 0
A92: Poisson pané | B92: =COUNTIF(B4:B83,"Poisson pané") -> 0 | C92: =COUNTIF(C4:C83,"Poisson pané") -> 0 | D92: =COUNTIF(D4:D83,"Poisson pané") -> 0 | E92: =COUNTIF(E4:E83,"Poisson pané") -> 0 | F92: =COUNTIF(F4:F83,"Poisson pané") -> 0 | G92: =COUNTIF(G4:G83,"Poisson pané") -> 0 | H92: =COUNTIF(H4:H83,"Poisson pané") -> 0 | I92: =COUNTIF(I4:I83,"Poisson pané") -> 0 | ... O92: =COUNTIF(O4:O83,"Poisson pané") -> 0
A93: Purée | B93: =COUNTIF(B4:B83,"Purée") -> 0 | C93: =COUNTIF(C4:C83,"Purée") -> 0 | D93: =COUNTIF(D4:D83,"Purée") -> 0 | E93: =COUNTIF(E4:E83,"Purée") -> 0 | F93: =COUNTIF(F4:F83,"Purée") -> 0 | G93: =COUNTIF(G4:G83,"Purée") -> 0 | H93: =COUNTIF(H4:H83,"Purée") -> 0 | I93: =COUNTIF(I4:I83,"Purée") -> 0 | ... O93: =COUNTIF(O4:O83,"Purée") -> 0
A94: Haricot vert | B94: =COUNTIF(B4:B83,"Haricot vert") -> 0 | C94: =COUNTIF(C4:C83,"Haricot vert") -> 0 | D94: =COUNTIF(D4:D83,"Haricot vert") -> 0 | E94: =COUNTIF(E4:E83,"Haricot vert") -> 0 | F94: =COUNTIF(F4:F83,"Haricot vert") -> 0 | G94: =COUNTIF(G4:G83,"Haricot vert") -> 0 | H94: =COUNTIF(H4:H83,"Haricot vert") -> 0 | I94: =COUNTIF(I4:I83,"Haricot vert") -> 0 | ... O94: =COUNTIF(O4:O83,"Haricot vert") -> 0
A95: Fruit | B95: =COUNTIF(B4:B83,"Fruit") -> 0 | C95: =COUNTIF(C4:C83,"Fruit") -> 0 | D95: =COUNTIF(D4:D83,"Fruit") -> 0 | E95: =COUNTIF(E4:E83,"Fruit") -> 0 | F95: =COUNTIF(F4:F83,"Fruit") -> 0 | G95: =COUNTIF(G4:G83,"Fruit") -> 0 | H95: =COUNTIF(H4:H83,"Fruit") -> 0 | I95: =COUNTIF(I4:I83,"Fruit") -> 0 | ... O95: =COUNTIF(O4:O83,"Fruit") -> 0
A96: Compote | B96: =COUNTIF(B4:B83,"Compote") -> 0 | C96: =COUNTIF(C4:C83,"Compote") -> 0 | D96: =COUNTIF(D4:D83,"Compote") -> 0 | E96: =COUNTIF(E4:E83,"Compote") -> 0 | F96: =COUNTIF(F4:F83,"Compote") -> 0 | G96: =COUNTIF(G4:G83,"Compote") -> 0 | H96: =COUNTIF(H4:H83,"Compote") -> 0 | I96: =COUNTIF(I4:I83,"Compote") -> 0 | ... O96: =COUNTIF(O4:O83,"Compote") -> 0

Sheet ECRINS
A1: LES ECRINS | B1: Lundi | D1: Mardi | F1: Mercredi | H1: Jeudi | J1: Vendredi | L1: Samedi | N1: Dimanche
B2: =IDF!B2 -> 43136 | C2: =IDF!C2 -> 43136 | D2: =IDF!D2 -> 43137 | E2: =IDF!E2 -> 43137 | F2: =IDF!F2 -> 43138 | G2: =IDF!G2 -> 43138 | H2: =IDF!H2 -> 43139 | I2: =IDF!I2 -> 43139 | ... O2: =IDF!O2 -> 43142
B3: Midi | C3: Soir | D3: Midi | E3: Soir | F3: Midi | G3: Soir | H3: Midi | I3: Soir | J3: Midi | K3: Soir | L3: Midi | M3: Soir | N3: Midi | O3: Midi
A86: Constants ECRINS | B86: Lundi | D86: Mardi | F86: Mercredi | H86: Jeudi | J86: Vendredi | L86: Samedi | N86: Dimanche
B87: =IDF!B87 -> 43136 | C87: =IDF!C87 -> 43136 | D87: =IDF!D87 -> 43137 | E87: =IDF!E87 -> 43137 | F87: =IDF!F87 -> 43138 | G87: =IDF!G87 -> 43138 | H87: =IDF!H87 -> 43139 | I87: =IDF!I87 -> 43139 | ... O87: =IDF!O87 -> 43142
B88: Midi | C88: Soir | D88: Midi | E88: Soir | F88: Midi | G88: Soir | H88: Midi | I88: Soir | J88: Midi | K88: Soir | L88: Midi | M88: Soir | N88: Midi | O88: Midi
A89: Tomate | B89: =COUNTIF(B4:B83,"Tomate") -> 0 | C89: =COUNTIF(C4:C83,"Tomate") -> 0 | D89: =COUNTIF(D4:D83,"Tomate") -> 0 | E89: =COUNTIF(E4:E83,"Tomate") -> 0 | F89: =COUNTIF(F4:F83,"Tomate") -> 0 | G89: =COUNTIF(G4:G83,"Tomate") -> 0 | H89: =COUNTIF(H4:H83,"Tomate") -> 0 | I89: =COUNTIF(I4:I83,"Tomate") -> 0 | ... O89: =COUNTIF(O4:O83,"Tomate") -> 0
A90: Pâté | B90: =COUNTIF(B4:B83,"Pâté") -> 0 | C90: =COUNTIF(C4:C83,"Pâté") -> 0 | D90: =COUNTIF(D4:D83,"Pâté") -> 0 | E90: =COUNTIF(E4:E83,"Pâté") -> 0 | F90: =COUNTIF(F4:F83,"Pâté") -> 0 | G90: =COUNTIF(G4:G83,"Pâté") -> 0 | H90: =COUNTIF(H4:H83,"Pâté") -> 0 | I90: =COUNTIF(I4:I83,"Pâté") -> 0 | ... O90: =COUNTIF(O4:O83,"Pâté") -> 0
A91: Jambon | B91: =COUNTIF(B4:B83,"Jambon") -> 0 | C91: =COUNTIF(C4:C83,"Jambon") -> 0 | D91: =COUNTIF(D4:D83,"Jambon") -> 0 | E91: =COUNTIF(E4:E83,"Jambon") -> 0 | F91: =COUNTIF(F4:F83,"Jambon") -> 0 | G91: =COUNTIF(G4:G83,"Jambon") -> 0 | H91: =COUNTIF(H4:H83,"Jambon") -> 0 | I91: =COUNTIF(I4:I83,"Jambon") -> 0 | ... O91: =COUNTIF(O4:O83,"Jambon") -> 0
A92: Poisson pané | B92: =COUNTIF(B4:B83,"Poisson pané") -> 0 | C92: =COUNTIF(C4:C83,"Poisson pané") -> 0 | D92: =COUNTIF(D4:D83,"Poisson pané") -> 0 | E92: =COUNTIF(E4:E83,"Poisson pané") -> 0 | F92: =COUNTIF(F4:F83,"Poisson pané") -> 0 | G92: =COUNTIF(G4:G83,"Poisson pané") -> 0 | H92: =COUNTIF(H4:H83,"Poisson pané") -> 0 | I92: =COUNTIF(I4:I83,"Poisson pané") -> 0 | ... O92: =COUNTIF(O4:O83,"Poisson pané") -> 0
A93: Purée | B93: =COUNTIF(B4:B83,"Purée") -> 0 | C93: =COUNTIF(C4:C83,"Purée") -> 0 | D93: =COUNTIF(D4:D83,"Purée") -> 0 | E93: =COUNTIF(E4:E83,"Purée") -> 0 | F93: =COUNTIF(F4:F83,"Purée") -> 0 | G93: =COUNTIF(G4:G83,"Purée") -> 0 | H93: =COUNTIF(H4:H83,"Purée") -> 0 | I93: =COUNTIF(I4:I83,"Purée") -> 0 | ... O93: =COUNTIF(O4:O83,"Purée") -> 0
A94: Haricot vert | B94: =COUNTIF(B4:B83,"Haricot vert") -> 0 | C94: =COUNTIF(C4:C83,"Haricot vert") -> 0 | D94: =COUNTIF(D4:D83,"Haricot vert") -> 0 | E94: =COUNTIF(E4:E83,"Haricot vert") -> 0 | F94: =COUNTIF(F4:F83,"Haricot vert") -> 0 | G94: =COUNTIF(G4:G83,"Haricot vert") -> 0 | H94: =COUNTIF(H4:H83,"Haricot vert") -> 0 | I94: =COUNTIF(I4:I83,"Haricot vert") -> 0 | ... O94: =COUNTIF(O4:O83,"Haricot vert") -> 0
A95: Fruit | B95: =COUNTIF(B4:B83,"Fruit") -> 0 | C95: =COUNTIF(C4:C83,"Fruit") -> 0 | D95: =COUNTIF(D4:D83,"Fruit") -> 0 | E95: =COUNTIF(E4:E83,"Fruit") -> 0 | F95: =COUNTIF(F4:F83,"Fruit") -> 0 | G95: =COUNTIF(G4:G83,"Fruit") -> 0 | H95: =COUNTIF(H4:H83,"Fruit") -> 0 | I95: =COUNTIF(I4:I83,"Fruit") -> 0 | ... O95: =COUNTIF(O4:O83,"Fruit") -> 0
A96: Compote | B96: =COUNTIF(B4:B83,"Compote") -> 0 | C96: =COUNTIF(C4:C83,"Compote") -> 0 | D96: =COUNTIF(D4:D83,"Compote") -> 0 | E96: =COUNTIF(E4:E83,"Compote") -> 0 | F96: =COUNTIF(F4:F83,"Compote") -> 0 | G96: =COUNTIF(G4:G83,"Compote") -> 0 | H96: =COUNTIF(H4:H83,"Compote") -> 0 | I96: =COUNTIF(I4:I83,"Compote") -> 0 | ... O96: =COUNTIF(O4:O83,"Compote") -> 0

Sheet CORNOUAILLES
A1: CORNOUAILLES | B1: Lundi | D1: Mardi | F1: Mercredi | H1: Jeudi | J1: Vendredi | L1: Samedi | N1: Dimanche
B2: =IDF!B2 -> 43136 | C2: =IDF!C2 -> 43136 | D2: =IDF!D2 -> 43137 | E2: =IDF!E2 -> 43137 | F2: =IDF!F2 -> 43138 | G2: =IDF!G2 -> 43138 | H2: =IDF!H2 -> 43139 | I2: =IDF!I2 -> 43139 | ... O2: =IDF!O2 -> 43142
B3: Midi | C3: Soir | D3: Midi | E3: Soir | F3: Midi | G3: Soir | H3: Midi | I3: Soir | J3: Midi | K3: Soir | L3: Midi | M3: Soir | N3: Midi | O3: Midi
A86: Constants CORNOUAILLES | B86: Lundi | D86: Mardi | F86: Mercredi | H86: Jeudi | J86: Vendredi | L86: Samedi | N86: Dimanche
B87: =IDF!B87 -> 43136 | C87: =IDF!C87 -> 43136 | D87: =IDF!D87 -> 43137 | E87: =IDF!E87 -> 43137 | F87: =IDF!F87 -> 43138 | G87: =IDF!G87 -> 43138 | H87: =IDF!H87 -> 43139 | I87: =IDF!I87 -> 43139 | ... O87: =IDF!O87 -> 43142
B88: Midi | C88: Soir | D88: Midi | E88: Soir | F88: Midi | G88: Soir | H88: Midi | I88: Soir | J88: Midi | K88: Soir | L88: Midi | M88: Soir | N88: Midi | O88: Midi
A89: Tomate | B89: =COUNTIF(B4:B83,"Tomate") -> 0 | C89: =COUNTIF(C4:C83,"Tomate") -> 0 | D89: =COUNTIF(D4:D83,"Tomate") -> 0 | E89: =COUNTIF(E4:E83,"Tomate") -> 0 | F89: =COUNTIF(F4:F83,"Tomate") -> 0 | G89: =COUNTIF(G4:G83,"Tomate") -> 0 | H89: =COUNTIF(H4:H83,"Tomate") -> 0 | I89: =COUNTIF(I4:I83,"Tomate") -> 0 | ... O89: =COUNTIF(O4:O83,"Tomate") -> 0
A90: Pâté | B90: =COUNTIF(B4:B83,"Pâté") -> 0 | C90: =COUNTIF(C4:C83,"Pâté") -> 0 | D90: =COUNTIF(D4:D83,"Pâté") -> 0 | E90: =COUNTIF(E4:E83,"Pâté") -> 0 | F90: =COUNTIF(F4:F83,"Pâté") -> 0 | G90: =COUNTIF(G4:G83,"Pâté") -> 0 | H90: =COUNTIF(H4:H83,"Pâté") -> 0 | I90: =COUNTIF(I4:I83,"Pâté") -> 0 | ... O90: =COUNTIF(O4:O83,"Pâté") -> 0
A91: Jambon | B91: =COUNTIF(B4:B83,"Jambon") -> 0 | C91: =COUNTIF(C4:C83,"Jambon") -> 0 | D91: =COUNTIF(D4:D83,"Jambon") -> 0 | E91: =COUNTIF(E4:E83,"Jambon") -> 0 | F91: =COUNTIF(F4:F83,"Jambon") -> 0 | G91: =COUNTIF(G4:G83,"Jambon") -> 0 | H91: =COUNTIF(H4:H83,"Jambon") -> 0 | I91: =COUNTIF(I4:I83,"Jambon") -> 0 | ... O91: =COUNTIF(O4:O83,"Jambon") -> 0
A92: Poisson pané | B92: =COUNTIF(B4:B83,"Poisson pané") -> 0 | C92: =COUNTIF(C4:C83,"Poisson pané") -> 0 | D92: =COUNTIF(D4:D83,"Poisson pané") -> 0 | E92: =COUNTIF(E4:E83,"Poisson pané") -> 0 | F92: =COUNTIF(F4:F83,"Poisson pané") -> 0 | G92: =COUNTIF(G4:G83,"Poisson pané") -> 0 | H92: =COUNTIF(H4:H83,"Poisson pané") -> 0 | I92: =COUNTIF(I4:I83,"Poisson pané") -> 0 | ... O92: =COUNTIF(O4:O83,"Poisson pané") -> 0
A93: Purée | B93: =COUNTIF(B4:B83,"Purée") -> 0 | C93: =COUNTIF(C4:C83,"Purée") -> 0 | D93: =COUNTIF(D4:D83,"Purée") -> 0 | E93: =COUNTIF(E4:E83,"Purée") -> 0 | F93: =COUNTIF(F4:F83,"Purée") -> 0 | G93: =COUNTIF(G4:G83,"Purée") -> 0 | H93: =COUNTIF(H4:H83,"Purée") -> 0 | I93: =COUNTIF(I4:I83,"Purée") -> 0 | ... O93: =COUNTIF(O4:O83,"Purée") -> 0
A94: Haricot vert | B94: =COUNTIF(B4:B83,"Haricot vert") -> 0 | C94: =COUNTIF(C4:C83,"Haricot vert") -> 0 | D94: =COUNTIF(D4:D83,"Haricot vert") -> 0 | E94: =COUNTIF(E4:E83,"Haricot vert") -> 0 | F94: =COUNTIF(F4:F83,"Haricot vert") -> 0 | G94: =COUNTIF(G4:G83,"Haricot vert") -> 0 | H94: =COUNTIF(H4:H83,"Haricot vert") -> 0 | I94: =COUNTIF(I4:I83,"Haricot vert") -> 0 | ... O94: =COUNTIF(O4:O83,"Haricot vert") -> 0
A95: Fruit | B95: =COUNTIF(B4:B83,"Fruit") -> 0 | C95: =COUNTIF(C4:C83,"Fruit") -> 0 | D95: =COUNTIF(D4:D83,"Fruit") -> 0 | E95: =COUNTIF(E4:E83,"Fruit") -> 0 | F95: =COUNTIF(F4:F83,"Fruit") -> 0 | G95: =COUNTIF(G4:G83,"Fruit") -> 0 | H95: =COUNTIF(H4:H83,"Fruit") -> 0 | I95: =COUNTIF(I4:I83,"Fruit") -> 0 | ... O95: =COUNTIF(O4:O83,"Fruit") -> 0
A96: Compote | B96: =COUNTIF(B4:B83,"Compote") -> 0 | C96: =COUNTIF(C4:C83,"Compote") -> 0 | D96: =COUNTIF(D4:D83,"Compote") -> 0 | E96: =COUNTIF(E4:E83,"Compote") -> 0 | F96: =COUNTIF(F4:F83,"Compote") -> 0 | G96: =COUNTIF(G4:G83,"Compote") -> 0 | H96: =COUNTIF(H4:H83,"Compote") -> 0 | I96: =COUNTIF(I4:I83,"Compote") -> 0 | ... O96: =COUNTIF(O4:O83,"Compote") -> 0

Sheet RHENAN
A1: RHENAN | B1: Lundi | D1: Mardi | F1: Mercredi | H1: Jeudi | J1: Vendredi | L1: Samedi | N1: Dimanche
B2: =IDF!B2 -> 43136 | C2: =IDF!C2 -> 43136 | D2: =IDF!D2 -> 43137 | E2: =IDF!E2 -> 43137 | F2: =IDF!F2 -> 43138 | G2: =IDF!G2 -> 43138 | H2: =IDF!H2 -> 43139 | I2: =IDF!I2 -> 43139 | ... O2: =IDF!O2 -> 43142
B3: Midi | C3: Soir | D3: Midi | E3: Soir | F3: Midi | G3: Soir | H3: Midi | I3: Soir | J3: Midi | K3: Soir | L3: Midi | M3: Soir | N3: Midi | O3: Midi
A86: Constants RHENAN | B86: Lundi | D86: Mardi | F86: Mercredi | H86: Jeudi | J86: Vendredi | L86: Samedi | N86: Dimanche
B87: =IDF!B87 -> 43136 | C87: =IDF!C87 -> 43136 | D87: =IDF!D87 -> 43137 | E87: =IDF!E87 -> 43137 | F87: =IDF!F87 -> 43138 | G87: =IDF!G87 -> 43138 | H87: =IDF!H87 -> 43139 | I87: =IDF!I87 -> 43139 | ... O87: =IDF!O87 -> 43142
B88: Midi | C88: Soir | D88: Midi | E88: Soir | F88: Midi | G88: Soir | H88: Midi | I88: Soir | J88: Midi | K88: Soir | L88: Midi | M88: Soir | N88: Midi | O88: Midi
A89: Tomate | B89: =COUNTIF(B4:B83,"Tomate") -> 0 | C89: =COUNTIF(C4:C83,"Tomate") -> 0 | D89: =COUNTIF(D4:D83,"Tomate") -> 0 | E89: =COUNTIF(E4:E83,"Tomate") -> 0 | F89: =COUNTIF(F4:F83,"Tomate") -> 0 | G89: =COUNTIF(G4:G83,"Tomate") -> 0 | H89: =COUNTIF(H4:H83,"Tomate") -> 0 | I89: =COUNTIF(I4:I83,"Tomate") -> 0 | ... O89: =COUNTIF(O4:O83,"Tomate") -> 0
A90: Pâté | B90: =COUNTIF(B4:B83,"Pâté") -> 0 | C90: =COUNTIF(C4:C83,"Pâté") -> 0 | D90: =COUNTIF(D4:D83,"Pâté") -> 0 | E90: =COUNTIF(E4:E83,"Pâté") -> 0 | F90: =COUNTIF(F4:F83,"Pâté") -> 0 | G90: =COUNTIF(G4:G83,"Pâté") -> 0 | H90: =COUNTIF(H4:H83,"Pâté") -> 0 | I90: =COUNTIF(I4:I83,"Pâté") -> 0 | ... O90: =COUNTIF(O4:O83,"Pâté") -> 0
A91: Jambon | B91: =COUNTIF(B4:B83,"Jambon") -> 0 | C91: =COUNTIF(C4:C83,"Jambon") -> 0 | D91: =COUNTIF(D4:D83,"Jambon") -> 0 | E91: =COUNTIF(E4:E83,"Jambon") -> 0 | F91: =COUNTIF(F4:F83,"Jambon") -> 0 | G91: =COUNTIF(G4:G83,"Jambon") -> 0 | H91: =COUNTIF(H4:H83,"Jambon") -> 0 | I91: =COUNTIF(I4:I83,"Jambon") -> 0 | ... O91: =COUNTIF(O4:O83,"Jambon") -> 0
A92: Poisson pané | B92: =COUNTIF(B4:B83,"Poisson pané") -> 0 | C92: =COUNTIF(C4:C83,"Poisson pané") -> 0 | D92: =COUNTIF(D4:D83,"Poisson pané") -> 0 | E92: =COUNTIF(E4:E83,"Poisson pané") -> 0 | F92: =COUNTIF(F4:F83,"Poisson pané") -> 0 | G92: =COUNTIF(G4:G83,"Poisson pané") -> 0 | H92: =COUNTIF(H4:H83,"Poisson pané") -> 0 | I92: =COUNTIF(I4:I83,"Poisson pané") -> 0 | ... O92: =COUNTIF(O4:O83,"Poisson pané") -> 0
A93: Purée | B93: =COUNTIF(B4:B83,"Purée") -> 0 | C93: =COUNTIF(C4:C83,"Purée") -> 0 | D93: =COUNTIF(D4:D83,"Purée") -> 0 | E93: =COUNTIF(E4:E83,"Purée") -> 0 | F93: =COUNTIF(F4:F83,"Purée") -> 0 | G93: =COUNTIF(G4:G83,"Purée") -> 0 | H93: =COUNTIF(H4:H83,"Purée") -> 0 | I93: =COUNTIF(I4:I83,"Purée") -> 0 | ... O93: =COUNTIF(O4:O83,"Purée") -> 0
A94: Haricot vert | B94: =COUNTIF(B4:B83,"Haricot vert") -> 0 | C94: =COUNTIF(C4:C83,"Haricot vert") -> 0 | D94: =COUNTIF(D4:D83,"Haricot vert") -> 0 | E94: =COUNTIF(E4:E83,"Haricot vert") -> 0 | F94: =COUNTIF(F4:F83,"Haricot vert") -> 0 | G94: =COUNTIF(G4:G83,"Haricot vert") -> 0 | H94: =COUNTIF(H4:H83,"Haricot vert") -> 0 | I94: =COUNTIF(I4:I83,"Haricot vert") -> 0 | ... O94: =COUNTIF(O4:O83,"Haricot vert") -> 0
A95: Fruit | B95: =COUNTIF(B4:B83,"Fruit") -> 0 | C95: =COUNTIF(C4:C83,"Fruit") -> 0 | D95: =COUNTIF(D4:D83,"Fruit") -> 0 | E95: =COUNTIF(E4:E83,"Fruit") -> 0 | F95: =COUNTIF(F4:F83,"Fruit") -> 0 | G95: =COUNTIF(G4:G83,"Fruit") -> 0 | H95: =COUNTIF(H4:H83,"Fruit") -> 0 | I95: =COUNTIF(I4:I83,"Fruit") -> 0 | ... O95: =COUNTIF(O4:O83,"Fruit") -> 0
A96: Compote | B96: =COUNTIF(B4:B83,"Compote") -> 0 | C96: =COUNTIF(C4:C83,"Compote") -> 0 | D96: =COUNTIF(D4:D83,"Compote") -> 0 | E96: =COUNTIF(E4:E83,"Compote") -> 0 | F96: =COUNTIF(F4:F83,"Compote") -> 0 | G96: =COUNTIF(G4:G83,"Compote") -> 0 | H96: =COUNTIF(H4:H83,"Compote") -> 0 | I96: =COUNTIF(I4:I83,"Compote") -> 0 | ... O96: =COUNTIF(O4:O83,"Compote") -> 0

Sheet BRABANT
A1: BRABANT | B1: Lundi | D1: Mardi | F1: Mercredi | H1: Jeudi | J1: Vendredi | L1: Samedi | N1: Dimanche
B2: =IDF!B2 -> 43136 | C2: =IDF!C2 -> 43136 | D2: =IDF!D2 -> 43137 | E2: =IDF!E2 -> 43137 | F2: =IDF!F2 -> 43138 | G2: =IDF!G2 -> 43138 | H2: =IDF!H2 -> 43139 | I2: =IDF!I2 -> 43139 | ... O2: =IDF!O2 -> 43142
B3: Midi | C3: Soir | D3: Midi | E3: Soir | F3: Midi | G3: Soir | H3: Midi | I3: Soir | J3: Midi | K3: Soir | L3: Midi | M3: Soir | N3: Midi | O3: Midi
A86: Constants BRABANT | B86: Lundi | D86: Mardi | F86: Mercredi | H86: Jeudi | J86: Vendredi | L86: Samedi | N86: Dimanche
B87: =IDF!B87 -> 43136 | C87: =IDF!C87 -> 43136 | D87: =IDF!D87 -> 43137 | E87: =IDF!E87 -> 43137 | F87: =IDF!F87 -> 43138 | G87: =IDF!G87 -> 43138 | H87: =IDF!H87 -> 43139 | I87: =IDF!I87 -> 43139 | ... O87: =IDF!O87 -> 43142
B88: Midi | C88: Soir | D88: Midi | E88: Soir | F88: Midi | G88: Soir | H88: Midi | I88: Soir | J88: Midi | K88: Soir | L88: Midi | M88: Soir | N88: Midi | O88: Midi
A89: Tomate | B89: =COUNTIF(B4:B83,"Tomate") -> 0 | C89: =COUNTIF(C4:C83,"Tomate") -> 0 | D89: =COUNTIF(D4:D83,"Tomate") -> 0 | E89: =COUNTIF(E4:E83,"Tomate") -> 0 | F89: =COUNTIF(F4:F83,"Tomate") -> 0 | G89: =COUNTIF(G4:G83,"Tomate") -> 0 | H89: =COUNTIF(H4:H83,"Tomate") -> 0 | I89: =COUNTIF(I4:I83,"Tomate") -> 0 | ... O89: =COUNTIF(O4:O83,"Tomate") -> 0
A90: Pâté | B90: =COUNTIF(B4:B83,"Pâté") -> 0 | C90: =COUNTIF(C4:C83,"Pâté") -> 0 | D90: =COUNTIF(D4:D83,"Pâté") -> 0 | E90: =COUNTIF(E4:E83,"Pâté") -> 0 | F90: =COUNTIF(F4:F83,"Pâté") -> 0 | G90: =COUNTIF(G4:G83,"Pâté") -> 0 | H90: =COUNTIF(H4:H83,"Pâté") -> 0 | I90: =COUNTIF(I4:I83,"Pâté") -> 0 | ... O90: =COUNTIF(O4:O83,"Pâté") -> 0
A91: Jambon | B91: =COUNTIF(B4:B83,"Jambon") -> 0 | C91: =COUNTIF(C4:C83,"Jambon") -> 0 | D91: =COUNTIF(D4:D83,"Jambon") -> 0 | E91: =COUNTIF(E4:E83,"Jambon") -> 0 | F91: =COUNTIF(F4:F83,"Jambon") -> 0 | G91: =COUNTIF(G4:G83,"Jambon") -> 0 | H91: =COUNTIF(H4:H83,"Jambon") -> 0 | I91: =COUNTIF(I4:I83,"Jambon") -> 0 | ... O91: =COUNTIF(O4:O83,"Jambon") -> 0
A92: Poisson pané | B92: =COUNTIF(B4:B83,"Poisson pané") -> 0 | C92: =COUNTIF(C4:C83,"Poisson pané") -> 0 | D92: =COUNTIF(D4:D83,"Poisson pané") -> 0 | E92: =COUNTIF(E4:E83,"Poisson pané") -> 0 | F92: =COUNTIF(F4:F83,"Poisson pané") -> 0 | G92: =COUNTIF(G4:G83,"Poisson pané") -> 0 | H92: =COUNTIF(H4:H83,"Poisson pané") -> 0 | I92: =COUNTIF(I4:I83,"Poisson pané") -> 0 | ... O92: =COUNTIF(O4:O83,"Poisson pané") -> 0
A93: Purée | B93: =COUNTIF(B4:B83,"Purée") -> 0 | C93: =COUNTIF(C4:C83,"Purée") -> 0 | D93: =COUNTIF(D4:D83,"Purée") -> 0 | E93: =COUNTIF(E4:E83,"Purée") -> 0 | F93: =COUNTIF(F4:F83,"Purée") -> 0 | G93: =COUNTIF(G4:G83,"Purée") -> 0 | H93: =COUNTIF(H4:H83,"Purée") -> 0 | I93: =COUNTIF(I4:I83,"Purée") -> 0 | ... O93: =COUNTIF(O4:O83,"Purée") -> 0
A94: Haricot vert | B94: =COUNTIF(B4:B83,"Haricot vert") -> 0 | C94: =COUNTIF(C4:C83,"Haricot vert") -> 0 | D94: =COUNTIF(D4:D83,"Haricot vert") -> 0 | E94: =COUNTIF(E4:E83,"Haricot vert") -> 0 | F94: =COUNTIF(F4:F83,"Haricot vert") -> 0 | G94: =COUNTIF(G4:G83,"Haricot vert") -> 0 | H94: =COUNTIF(H4:H83,"Haricot vert") -> 0 | I94: =COUNTIF(I4:I83,"Haricot vert") -> 0 | ... O94: =COUNTIF(O4:O83,"Haricot vert") -> 0
A95: Fruit | B95: =COUNTIF(B4:B83,"Fruit") -> 0 | C95: =COUNTIF(C4:C83,"Fruit") -> 0 | D95: =COUNTIF(D4:D83,"Fruit") -> 0 | E95: =COUNTIF(E4:E83,"Fruit") -> 0 | F95: =COUNTIF(F4:F83,"Fruit") -> 0 | G95: =COUNTIF(G4:G83,"Fruit") -> 0 | H95: =COUNTIF(H4:H83,"Fruit") -> 0 | I95: =COUNTIF(I4:I83,"Fruit") -> 0 | ... O95: =COUNTIF(O4:O83,"Fruit") -> 0
A96: Compote | B96: =COUNTIF(B4:B83,"Compote") -> 0 | C96: =COUNTIF(C4:C83,"Compote") -> 0 | D96: =COUNTIF(D4:D83,"Compote") -> 0 | E96: =COUNTIF(E4:E83,"Compote") -> 0 | F96: =COUNTIF(F4:F83,"Compote") -> 0 | G96: =COUNTIF(G4:G83,"Compote") -> 0 | H96: =COUNTIF(H4:H83,"Compote") -> 0 | I96: =COUNTIF(I4:I83,"Compote") -> 0 | ... O96: =COUNTIF(O4:O83,"Compote") -> 0

Sheet AMOR
A1: AMOR | B1: Lundi | D1: Mardi | F1: Mercredi | H1: Jeudi | J1: Vendredi | L1: Samedi | N1: Dimanche
B2: =IDF!B2 -> 43136 | C2: =IDF!C2 -> 43136 | D2: =IDF!D2 -> 43137 | E2: =IDF!E2 -> 43137 | F2: =IDF!F2 -> 43138 | G2: =IDF!G2 -> 43138 | H2: =IDF!H2 -> 43139 | I2: =IDF!I2 -> 43139 | ... O2: =IDF!O2 -> 43142
B3: Midi | C3: Soir | D3: Midi | E3: Soir | F3: Midi | G3: Soir | H3: Midi | I3: Soir | J3: Midi | K3: Soir | L3: Midi | M3: Soir | N3: Midi | O3: Midi
A86: Constants AMOR | B86: Lundi | D86: Mardi | F86: Mercredi | H86: Jeudi | J86: Vendredi | L86: Samedi | N86: Dimanche
B87: =IDF!B87 -> 43136 | C87: =IDF!C87 -> 43136 | D87: =IDF!D87 -> 43137 | E87: =IDF!E87 -> 43137 | F87: =IDF!F87 -> 43138 | G87: =IDF!G87 -> 43138 | H87: =IDF!H87 -> 43139 | I87: =IDF!I87 -> 43139 | ... O87: =IDF!O87 -> 43142
B88: Midi | C88: Soir | D88: Midi | E88: Soir | F88: Midi | G88: Soir | H88: Midi | I88: Soir | J88: Midi | K88: Soir | L88: Midi | M88: Soir | N88: Midi | O88: Midi
A89: Tomate | B89: =COUNTIF(B4:B83,"Tomate") -> 0 | C89: =COUNTIF(C4:C83,"Tomate") -> 0 | D89: =COUNTIF(D4:D83,"Tomate") -> 0 | E89: =COUNTIF(E4:E83,"Tomate") -> 0 | F89: =COUNTIF(F4:F83,"Tomate") -> 0 | G89: =COUNTIF(G4:G83,"Tomate") -> 0 | H89: =COUNTIF(H4:H83,"Tomate") -> 0 | I89: =COUNTIF(I4:I83,"Tomate") -> 0 | ... O89: =COUNTIF(O4:O83,"Tomate") -> 0
A90: Pâté | B90: =COUNTIF(B4:B83,"Pâté") -> 0 | C90: =COUNTIF(C4:C83,"Pâté") -> 0 | D90: =COUNTIF(D4:D83,"Pâté") -> 0 | E90: =COUNTIF(E4:E83,"Pâté") -> 0 | F90: =COUNTIF(F4:F83,"Pâté") -> 0 | G90: =COUNTIF(G4:G83,"Pâté") -> 0 | H90: =COUNTIF(H4:H83,"Pâté") -> 0 | I90: =COUNTIF(I4:I83,"Pâté") -> 0 | ... O90: =COUNTIF(O4:O83,"Pâté") -> 0
A91: Jambon | B91: =COUNTIF(B4:B83,"Jambon") -> 0 | C91: =COUNTIF(C4:C83,"Jambon") -> 0 | D91: =COUNTIF(D4:D83,"Jambon") -> 0 | E91: =COUNTIF(E4:E83,"Jambon") -> 0 | F91: =COUNTIF(F4:F83,"Jambon") -> 0 | G91: =COUNTIF(G4:G83,"Jambon") -> 0 | H91: =COUNTIF(H4:H83,"Jambon") -> 0 | I91: =COUNTIF(I4:I83,"Jambon") -> 0 | ... O91: =COUNTIF(O4:O83,"Jambon") -> 0
A92: Poisson pané | B92: =COUNTIF(B4:B83,"Poisson pané") -> 0 | C92: =COUNTIF(C4:C83,"Poisson pané") -> 0 | D92: =COUNTIF(D4:D83,"Poisson pané") -> 0 | E92: =COUNTIF(E4:E83,"Poisson pané") -> 0 | F92: =COUNTIF(F4:F83,"Poisson pané") -> 0 | G92: =COUNTIF(G4:G83,"Poisson pané") -> 0 | H92: =COUNTIF(H4:H83,"Poisson pané") -> 0 | I92: =COUNTIF(I4:I83,"Poisson pané") -> 0 | ... O92: =COUNTIF(O4:O83,"Poisson pané") -> 0
A93: Purée | B93: =COUNTIF(B4:B83,"Purée") -> 0 | C93: =COUNTIF(C4:C83,"Purée") -> 0 | D93: =COUNTIF(D4:D83,"Purée") -> 0 | E93: =COUNTIF(E4:E83,"Purée") -> 0 | F93: =COUNTIF(F4:F83,"Purée") -> 0 | G93: =COUNTIF(G4:G83,"Purée") -> 0 | H93: =COUNTIF(H4:H83,"Purée") -> 0 | I93: =COUNTIF(I4:I83,"Purée") -> 0 | ... O93: =COUNTIF(O4:O83,"Purée") -> 0
A94: Haricot vert | B94: =COUNTIF(B4:B83,"Haricot vert") -> 0 | C94: =COUNTIF(C4:C83,"Haricot vert") -> 0 | D94: =COUNTIF(D4:D83,"Haricot vert") -> 0 | E94: =COUNTIF(E4:E83,"Haricot vert") -> 0 | F94: =COUNTIF(F4:F83,"Haricot vert") -> 0 | G94: =COUNTIF(G4:G83,"Haricot vert") -> 0 | H94: =COUNTIF(H4:H83,"Haricot vert") -> 0 | I94: =COUNTIF(I4:I83,"Haricot vert") -> 0 | ... O94: =COUNTIF(O4:O83,"Haricot vert") -> 0
A95: Fruit | B95: =COUNTIF(B4:B83,"Fruit") -> 0 | C95: =COUNTIF(C4:C83,"Fruit") -> 0 | D95: =COUNTIF(D4:D83,"Fruit") -> 0 | E95: =COUNTIF(E4:E83,"Fruit") -> 0 | F95: =COUNTIF(F4:F83,"Fruit") -> 0 | G95: =COUNTIF(G4:G83,"Fruit") -> 0 | H95: =COUNTIF(H4:H83,"Fruit") -> 0 | I95: =COUNTIF(I4:I83,"Fruit") -> 0 | ... O95: =COUNTIF(O4:O83,"Fruit") -> 0
A96: Compote | B96: =COUNTIF(B4:B83,"Compote") -> 0 | C96: =COUNTIF(C4:C83,"Compote") -> 0 | D96: =COUNTIF(D4:D83,"Compote") -> 0 | E96: =COUNTIF(E4:E83,"Compote") -> 0 | F96: =COUNTIF(F4:F83,"Compote") -> 0 | G96: =COUNTIF(G4:G83,"Compote") -> 0 | H96: =COUNTIF(H4:H83,"Compote") -> 0 | I96: =COUNTIF(I4:I83,"Compote") -> 0 | ... O96: =COUNTIF(O4:O83,"Compote") -> 0

Sheet PERIGORD
A1: PERIGORD | B1: Lundi | D1: Mardi | F1: Mercredi | H1: Jeudi | J1: Vendredi | L1: Samedi | N1: Dimanche
B2: =IDF!B2 -> 43136 | C2: =IDF!C2 -> 43136 | D2: =IDF!D2 -> 43137 | E2: =IDF!E2 -> 43137 | F2: =IDF!F2 -> 43138 | G2: =IDF!G2 -> 43138 | H2: =IDF!H2 -> 43139 | I2: =IDF!I2 -> 43139 | ... O2: =IDF!O2 -> 43142
B3: Midi | C3: Soir | D3: Midi | E3: Soir | F3: Midi | G3: Soir | H3: Midi | I3: Soir | J3: Midi | K3: Soir | L3: Midi | M3: Soir | N3: Midi | O3: Midi
A86: Constants PERIGORD | B86: Lundi | D86: Mardi | F86: Mercredi | H86: Jeudi | J86: Vendredi | L86: Samedi | N86: Dimanche
B87: =IDF!B87 -> 43136 | C87: =IDF!C87 -> 43136 | D87: =IDF!D87 -> 43137 | E87: =IDF!E87 -> 43137 | F87: =IDF!F87 -> 43138 | G87: =IDF!G87 -> 43138 | H87: =IDF!H87 -> 43139 | I87: =IDF!I87 -> 43139 | ... O87: =IDF!O87 -> 43142
B88: Midi | C88: Soir | D88: Midi | E88: Soir | F88: Midi | G88: Soir | H88: Midi | I88: Soir | J88: Midi | K88: Soir | L88: Midi | M88: Soir | N88: Midi | O88: Midi
A89: Tomate | B89: =COUNTIF(B4:B83,"Tomate") -> 0 | C89: =COUNTIF(C4:C83,"Tomate") -> 0 | D89: =COUNTIF(D4:D83,"Tomate") -> 0 | E89: =COUNTIF(E4:E83,"Tomate") -> 0 | F89: =COUNTIF(F4:F83,"Tomate") -> 0 | G89: =COUNTIF(G4:G83,"Tomate") -> 0 | H89: =COUNTIF(H4:H83,"Tomate") -> 0 | I89: =COUNTIF(I4:I83,"Tomate") -> 0 | ... O89: =COUNTIF(O4:O83,"Tomate") -> 0
A90: Pâté | B90: =COUNTIF(B4:B83,"Pâté") -> 0 | C90: =COUNTIF(C4:C83,"Pâté") -> 0 | D90: =COUNTIF(D4:D83,"Pâté") -> 0 | E90: =COUNTIF(E4:E83,"Pâté") -> 0 | F90: =COUNTIF(F4:F83,"Pâté") -> 0 | G90: =COUNTIF(G4:G83,"Pâté") -> 0 | H90: =COUNTIF(H4:H83,"Pâté") -> 0 | I90: =COUNTIF(I4:I83,"Pâté") -> 0 | ... O90: =COUNTIF(O4:O83,"Pâté") -> 0
A91: Jambon | B91: =COUNTIF(B4:B83,"Jambon") -> 0 | C91: =COUNTIF(C4:C83,"Jambon") -> 0 | D91: =COUNTIF(D4:D83,"Jambon") -> 0 | E91: =COUNTIF(E4:E83,"Jambon") -> 0 | F91: =COUNTIF(F4:F83,"Jambon") -> 0 | G91: =COUNTIF(G4:G83,"Jambon") -> 0 | H91: =COUNTIF(H4:H83,"Jambon") -> 0 | I91: =COUNTIF(I4:I83,"Jambon") -> 0 | ... O91: =COUNTIF(O4:O83,"Jambon") -> 0
A92: Poisson pané | B92: =COUNTIF(B4:B83,"Poisson pané") -> 0 | C92: =COUNTIF(C4:C83,"Poisson pané") -> 0 | D92: =COUNTIF(D4:D83,"Poisson pané") -> 0 | E92: =COUNTIF(E4:E83,"Poisson pané") -> 0 | F92: =COUNTIF(F4:F83,"Poisson pané") -> 0 | G92: =COUNTIF(G4:G83,"Poisson pané") -> 0 | H92: =COUNTIF(H4:H83,"Poisson pané") -> 0 | I92: =COUNTIF(I4:I83,"Poisson pané") -> 0 | ... O92: =COUNTIF(O4:O83,"Poisson pané") -> 0
A93: Purée | B93: =COUNTIF(B4:B83,"Purée") -> 0 | C93: =COUNTIF(C4:C83,"Purée") -> 0 | D93: =COUNTIF(D4:D83,"Purée") -> 0 | E93: =COUNTIF(E4:E83,"Purée") -> 0 | F93: =COUNTIF(F4:F83,"Purée") -> 0 | G93: =COUNTIF(G4:G83,"Purée") -> 0 | H93: =COUNTIF(H4:H83,"Purée") -> 0 | I93: =COUNTIF(I4:I83,"Purée") -> 0 | ... O93: =COUNTIF(O4:O83,"Purée") -> 0
A94: Haricot vert | B94: =COUNTIF(B4:B83,"Haricot vert") -> 0 | C94: =COUNTIF(C4:C83,"Haricot vert") -> 0 | D94: =COUNTIF(D4:D83,"Haricot vert") -> 0 | E94: =COUNTIF(E4:E83,"Haricot vert") -> 0 | F94: =COUNTIF(F4:F83,"Haricot vert") -> 0 | G94: =COUNTIF(G4:G83,"Haricot vert") -> 0 | H94: =COUNTIF(H4:H83,"Haricot vert") -> 0 | I94: =COUNTIF(I4:I83,"Haricot vert") -> 0 | ... O94: =COUNTIF(O4:O83,"Haricot vert") -> 0
A95: Fruit | B95: =COUNTIF(B4:B83,"Fruit") -> 0 | C95: =COUNTIF(C4:C83,"Fruit") -> 0 | D95: =COUNTIF(D4:D83,"Fruit") -> 0 | E95: =COUNTIF(E4:E83,"Fruit") -> 0 | F95: =COUNTIF(F4:F83,"Fruit") -> 0 | G95: =COUNTIF(G4:G83,"Fruit") -> 0 | H95: =COUNTIF(H4:H83,"Fruit") -> 0 | I95: =COUNTIF(I4:I83,"Fruit") -> 0 | ... O95: =COUNTIF(O4:O83,"Fruit") -> 0
A96: Compote | B96: =COUNTIF(B4:B83,"Compote") -> 0 | C96: =COUNTIF(C4:C83,"Compote") -> 0 | D96: =COUNTIF(D4:D83,"Compote") -> 0 | E96: =COUNTIF(E4:E83,"Compote") -> 0 | F96: =COUNTIF(F4:F83,"Compote") -> 0 | G96: =COUNTIF(G4:G83,"Compote") -> 0 | H96: =COUNTIF(H4:H83,"Compote") -> 0 | I96: =COUNTIF(I4:I83,"Compote") -> 0 | ... O96: =COUNTIF(O4:O83,"Compote") -> 0

Sheet SANCY
A1: SANCY | B1: Lundi | D1: Mardi | F1: Mercredi | H1: Jeudi | J1: Vendredi | L1: Samedi | N1: Dimanche
B2: =IDF!B2 -> 43136 | C2: =IDF!C2 -> 43136 | D2: =IDF!D2 -> 43137 | E2: =IDF!E2 -> 43137 | F2: =IDF!F2 -> 43138 | G2: =IDF!G2 -> 43138 | H2: =IDF!H2 -> 43139 | I2: =IDF!I2 -> 43139 | ... O2: =IDF!O2 -> 43142
B3: Midi | C3: Soir | D3: Midi | E3: Soir | F3: Midi | G3: Soir | H3: Midi | I3: Soir | J3: Midi | K3: Soir | L3: Midi | M3: Soir | N3: Midi | O3: Midi
A86: Constants SANCY | B86: Lundi | D86: Mardi | F86: Mercredi | H86: Jeudi | J86: Vendredi | L86: Samedi | N86: Dimanche
B87: =IDF!B87 -> 43136 | C87: =IDF!C87 -> 43136 | D87: =IDF!D87 -> 43137 | E87: =IDF!E87 -> 43137 | F87: =IDF!F87 -> 43138 | G87: =IDF!G87 -> 43138 | H87: =IDF!H87 -> 43139 | I87: =IDF!I87 -> 43139 | ... O87: =IDF!O87 -> 43142
B88: Midi | C88: Soir | D88: Midi | E88: Soir | F88: Midi | G88: Soir | H88: Midi | I88: Soir | J88: Midi | K88: Soir | L88: Midi | M88: Soir | N88: Midi | O88: Midi
A89: Tomate | B89: =COUNTIF(B4:B83,"Tomate") -> 0 | C89: =COUNTIF(C4:C83,"Tomate") -> 0 | D89: =COUNTIF(D4:D83,"Tomate") -> 0 | E89: =COUNTIF(E4:E83,"Tomate") -> 0 | F89: =COUNTIF(F4:F83,"Tomate") -> 0 | G89: =COUNTIF(G4:G83,"Tomate") -> 0 | H89: =COUNTIF(H4:H83,"Tomate") -> 0 | I89: =COUNTIF(I4:I83,"Tomate") -> 0 | ... O89: =COUNTIF(O4:O83,"Tomate") -> 0
A90: Pâté | B90: =COUNTIF(B4:B83,"Pâté") -> 0 | C90: =COUNTIF(C4:C83,"Pâté") -> 0 | D90: =COUNTIF(D4:D83,"Pâté") -> 0 | E90: =COUNTIF(E4:E83,"Pâté") -> 0 | F90: =COUNTIF(F4:F83,"Pâté") -> 0 | G90: =COUNTIF(G4:G83,"Pâté") -> 0 | H90: =COUNTIF(H4:H83,"Pâté") -> 0 | I90: =COUNTIF(I4:I83,"Pâté") -> 0 | ... O90: =COUNTIF(O4:O83,"Pâté") -> 0
A91: Jambon | B91: =COUNTIF(B4:B83,"Jambon") -> 0 | C91: =COUNTIF(C4:C83,"Jambon") -> 0 | D91: =COUNTIF(D4:D83,"Jambon") -> 0 | E91: =COUNTIF(E4:E83,"Jambon") -> 0 | F91: =COUNTIF(F4:F83,"Jambon") -> 0 | G91: =COUNTIF(G4:G83,"Jambon") -> 0 | H91: =COUNTIF(H4:H83,"Jambon") -> 0 | I91: =COUNTIF(I4:I83,"Jambon") -> 0 | ... O91: =COUNTIF(O4:O83,"Jambon") -> 0
A92: Poisson pané | B92: =COUNTIF(B4:B83,"Poisson pané") -> 0 | C92: =COUNTIF(C4:C83,"Poisson pané") -> 0 | D92: =COUNTIF(D4:D83,"Poisson pané") -> 0 | E92: =COUNTIF(E4:E83,"Poisson pané") -> 0 | F92: =COUNTIF(F4:F83,"Poisson pané") -> 0 | G92: =COUNTIF(G4:G83,"Poisson pané") -> 0 | H92: =COUNTIF(H4:H83,"Poisson pané") -> 0 | I92: =COUNTIF(I4:I83,"Poisson pané") -> 0 | ... O92: =COUNTIF(O4:O83,"Poisson pané") -> 0
A93: Purée | B93: =COUNTIF(B4:B83,"Purée") -> 0 | C93: =COUNTIF(C4:C83,"Purée") -> 0 | D93: =COUNTIF(D4:D83,"Purée") -> 0 | E93: =COUNTIF(E4:E83,"Purée") -> 0 | F93: =COUNTIF(F4:F83,"Purée") -> 0 | G93: =COUNTIF(G4:G83,"Purée") -> 0 | H93: =COUNTIF(H4:H83,"Purée") -> 0 | I93: =COUNTIF(I4:I83,"Purée") -> 0 | ... O93: =COUNTIF(O4:O83,"Purée") -> 0
A94: Haricot vert | B94: =COUNTIF(B4:B83,"Haricot vert") -> 0 | C94: =COUNTIF(C4:C83,"Haricot vert") -> 0 | D94: =COUNTIF(D4:D83,"Haricot vert") -> 0 | E94: =COUNTIF(E4:E83,"Haricot vert") -> 0 | F94: =COUNTIF(F4:F83,"Haricot vert") -> 0 | G94: =COUNTIF(G4:G83,"Haricot vert") -> 0 | H94: =COUNTIF(H4:H83,"Haricot vert") -> 0 | I94: =COUNTIF(I4:I83,"Haricot vert") -> 0 | ... O94: =COUNTIF(O4:O83,"Haricot vert") -> 0
A95: Fruit | B95: =COUNTIF(B4:B83,"Fruit") -> 0 | C95: =COUNTIF(C4:C83,"Fruit") -> 0 | D95: =COUNTIF(D4:D83,"Fruit") -> 0 | E95: =COUNTIF(E4:E83,"Fruit") -> 0 | F95: =COUNTIF(F4:F83,"Fruit") -> 0 | G95: =COUNTIF(G4:G83,"Fruit") -> 0 | H95: =COUNTIF(H4:H83,"Fruit") -> 0 | I95: =COUNTIF(I4:I83,"Fruit") -> 0 | ... O95: =COUNTIF(O4:O83,"Fruit") -> 0
A96: Compote | B96: =COUNTIF(B4:B83,"Compote") -> 0 | C96: =COUNTIF(C4:C83,"Compote") -> 0 | D96: =COUNTIF(D4:D83,"Compote") -> 0 | E96: =COUNTIF(E4:E83,"Compote") -> 0 | F96: =COUNTIF(F4:F83,"Compote") -> 0 | G96: =COUNTIF(G4:G83,"Compote") -> 0 | H96: =COUNTIF(H4:H83,"Compote") -> 0 | I96: =COUNTIF(I4:I83,"Compote") -> 0 | ... O96: =COUNTIF(O4:O83,"Compote") -> 0

Sheet CHARTREUSE
A1: CHARTREUSE | B1: Lundi | D1: Mardi | F1: Mercredi | H1: Jeudi | J1: Vendredi | L1: Samedi | N1: Dimanche
B2: =IDF!B2 -> 43136 | C2: =IDF!C2 -> 43136 | D2: =IDF!D2 -> 43137 | E2: =IDF!E2 -> 43137 | F2: =IDF!F2 -> 43138 | G2: =IDF!G2 -> 43138 | H2: =IDF!H2 -> 43139 | I2: =IDF!I2 -> 43139 | ... O2: =IDF!O2 -> 43142
B3: Midi | C3: Soir | D3: Midi | E3: Soir | F3: Midi | G3: Soir | H3: Midi | I3: Soir | J3: Midi | K3: Soir | L3: Midi | M3: Soir | N3: Midi | O3: Midi
A86: Constants CHARTREUSE | B86: Lundi | D86: Mardi | F86: Mercredi | H86: Jeudi | J86: Vendredi | L86: Samedi | N86: Dimanche
B87: =IDF!B87 -> 43136 | C87: =IDF!C87 -> 43136 | D87: =IDF!D87 -> 43137 | E87: =IDF!E87 -> 43137 | F87: =IDF!F87 -> 43138 | G87: =IDF!G87 -> 43138 | H87: =IDF!H87 -> 43139 | I87: =IDF!I87 -> 43139 | ... O87: =IDF!O87 -> 43142
B88: Midi | C88: Soir | D88: Midi | E88: Soir | F88: Midi | G88: Soir | H88: Midi | I88: Soir | J88: Midi | K88: Soir | L88: Midi | M88: Soir | N88: Midi | O88: Midi
A89: Tomate | B89: =COUNTIF(B4:B83,"Tomate") -> 0 | C89: =COUNTIF(C4:C83,"Tomate") -> 0 | D89: =COUNTIF(D4:D83,"Tomate") -> 0 | E89: =COUNTIF(E4:E83,"Tomate") -> 0 | F89: =COUNTIF(F4:F83,"Tomate") -> 0 | G89: =COUNTIF(G4:G83,"Tomate") -> 0 | H89: =COUNTIF(H4:H83,"Tomate") -> 0 | I89: =COUNTIF(I4:I83,"Tomate") -> 0 | ... O89: =COUNTIF(O4:O83,"Tomate") -> 0
A90: Pâté | B90: =COUNTIF(B4:B83,"Pâté") -> 0 | C90: =COUNTIF(C4:C83,"Pâté") -> 0 | D90: =COUNTIF(D4:D83,"Pâté") -> 0 | E90: =COUNTIF(E4:E83,"Pâté") -> 0 | F90: =COUNTIF(F4:F83,"Pâté") -> 0 | G90: =COUNTIF(G4:G83,"Pâté") -> 0 | H90: =COUNTIF(H4:H83,"Pâté") -> 0 | I90: =COUNTIF(I4:I83,"Pâté") -> 0 | ... O90: =COUNTIF(O4:O83,"Pâté") -> 0
A91: Jambon | B91: =COUNTIF(B4:B83,"Jambon") -> 0 | C91: =COUNTIF(C4:C83,"Jambon") -> 0 | D91: =COUNTIF(D4:D83,"Jambon") -> 0 | E91: =COUNTIF(E4:E83,"Jambon") -> 0 | F91: =COUNTIF(F4:F83,"Jambon") -> 0 | G91: =COUNTIF(G4:G83,"Jambon") -> 0 | H91: =COUNTIF(H4:H83,"Jambon") -> 0 | I91: =COUNTIF(I4:I83,"Jambon") -> 0 | ... O91: =COUNTIF(O4:O83,"Jambon") -> 0
A92: Poisson pané | B92: =COUNTIF(B4:B83,"Poisson pané") -> 0 | C92: =COUNTIF(C4:C83,"Poisson pané") -> 0 | D92: =COUNTIF(D4:D83,"Poisson pané") -> 0 | E92: =COUNTIF(E4:E83,"Poisson pané") -> 0 | F92: =COUNTIF(F4:F83,"Poisson pané") -> 0 | G92: =COUNTIF(G4:G83,"Poisson pané") -> 0 | H92: =COUNTIF(H4:H83,"Poisson pané") -> 0 | I92: =COUNTIF(I4:I83,"Poisson pané") -> 0 | ... O92: =COUNTIF(O4:O83,"Poisson pané") -> 0
A93: Purée | B93: =COUNTIF(B4:B83,"Purée") -> 0 | C93: =COUNTIF(C4:C83,"Purée") -> 0 | D93: =COUNTIF(D4:D83,"Purée") -> 0 | E93: =COUNTIF(E4:E83,"Purée") -> 0 | F93: =COUNTIF(F4:F83,"Purée") -> 0 | G93: =COUNTIF(G4:G83,"Purée") -> 0 | H93: =COUNTIF(H4:H83,"Purée") -> 0 | I93: =COUNTIF(I4:I83,"Purée") -> 0 | ... O93: =COUNTIF(O4:O83,"Purée") -> 0
A94: Haricot vert | B94: =COUNTIF(B4:B83,"Haricot vert") -> 0 | C94: =COUNTIF(C4:C83,"Haricot vert") -> 0 | D94: =COUNTIF(D4:D83,"Haricot vert") -> 0 | E94: =COUNTIF(E4:E83,"Haricot vert") -> 0 | F94: =COUNTIF(F4:F83,"Haricot vert") -> 0 | G94: =COUNTIF(G4:G83,"Haricot vert") -> 0 | H94: =COUNTIF(H4:H83,"Haricot vert") -> 0 | I94: =COUNTIF(I4:I83,"Haricot vert") -> 0 | ... O94: =COUNTIF(O4:O83,"Haricot vert") -> 0
A95: Fruit | B95: =COUNTIF(B4:B83,"Fruit") -> 0 | C95: =COUNTIF(C4:C83,"Fruit") -> 0 | D95: =COUNTIF(D4:D83,"Fruit") -> 0 | E95: =COUNTIF(E4:E83,"Fruit") -> 0 | F95: =COUNTIF(F4:F83,"Fruit") -> 0 | G95: =COUNTIF(G4:G83,"Fruit") -> 0 | H95: =COUNTIF(H4:H83,"Fruit") -> 0 | I95: =COUNTIF(I4:I83,"Fruit") -> 0 | ... O95: =COUNTIF(O4:O83,"Fruit") -> 0
A96: Compote | B96: =COUNTIF(B4:B83,"Compote") -> 0 | C96: =COUNTIF(C4:C83,"Compote") -> 0 | D96: =COUNTIF(D4:D83,"Compote") -> 0 | E96: =COUNTIF(E4:E83,"Compote") -> 0 | F96: =COUNTIF(F4:F83,"Compote") -> 0 | G96: =COUNTIF(G4:G83,"Compote") -> 0 | H96: =COUNTIF(H4:H83,"Compote") -> 0 | I96: =COUNTIF(I4:I83,"Compote") -> 0 | ... O96: =COUNTIF(O4:O83,"Compote") -> 0

Sheet AVESNOIS
A1: AVESNOIS | B1: Lundi | D1: Mardi | F1: Mercredi | H1: Jeudi | J1: Vendredi | L1: Samedi | N1: Dimanche
B2: =IDF!B2 -> 43136 | C2: =IDF!C2 -> 43136 | D2: =IDF!D2 -> 43137 | E2: =IDF!E2 -> 43137 | F2: =IDF!F2 -> 43138 | G2: =IDF!G2 -> 43138 | H2: =IDF!H2 -> 43139 | I2: =IDF!I2 -> 43139 | ... O2: =IDF!O2 -> 43142
B3: Midi | C3: Soir | D3: Midi | E3: Soir | F3: Midi | G3: Soir | H3: Midi | I3: Soir | J3: Midi | K3: Soir | L3: Midi | M3: Soir | N3: Midi | O3: Midi
A86: Constants AVESNOIS | B86: Lundi | D86: Mardi | F86: Mercredi | H86: Jeudi | J86: Vendredi | L86: Samedi | N86: Dimanche
B87: =IDF!B87 -> 43136 | C87: =IDF!C87 -> 43136 | D87: =IDF!D87 -> 43137 | E87: =IDF!E87 -> 43137 | F87: =IDF!F87 -> 43138 | G87: =IDF!G87 -> 43138 | H87: =IDF!H87 -> 43139 | I87: =IDF!I87 -> 43139 | ... O87: =IDF!O87 -> 43142
B88: Midi | C88: Soir | D88: Midi | E88: Soir | F88: Midi | G88: Soir | H88: Midi | I88: Soir | J88: Midi | K88: Soir | L88: Midi | M88: Soir | N88: Midi | O88: Midi
A89: Tomate | B89: =COUNTIF(B4:B83,"Tomate") -> 0 | C89: =COUNTIF(C4:C83,"Tomate") -> 0 | D89: =COUNTIF(D4:D83,"Tomate") -> 0 | E89: =COUNTIF(E4:E83,"Tomate") -> 0 | F89: =COUNTIF(F4:F83,"Tomate") -> 0 | G89: =COUNTIF(G4:G83,"Tomate") -> 0 | H89: =COUNTIF(H4:H83,"Tomate") -> 0 | I89: =COUNTIF(I4:I83,"Tomate") -> 0 | ... O89: =COUNTIF(O4:O83,"Tomate") -> 0
A90: Pâté | B90: =COUNTIF(B4:B83,"Pâté") -> 0 | C90: =COUNTIF(C4:C83,"Pâté") -> 0 | D90: =COUNTIF(D4:D83,"Pâté") -> 0 | E90: =COUNTIF(E4:E83,"Pâté") -> 0 | F90: =COUNTIF(F4:F83,"Pâté") -> 0 | G90: =COUNTIF(G4:G83,"Pâté") -> 0 | H90: =COUNTIF(H4:H83,"Pâté") -> 0 | I90: =COUNTIF(I4:I83,"Pâté") -> 0 | ... O90: =COUNTIF(O4:O83,"Pâté") -> 0
A91: Jambon | B91: =COUNTIF(B4:B83,"Jambon") -> 0 | C91: =COUNTIF(C4:C83,"Jambon") -> 0 | D91: =COUNTIF(D4:D83,"Jambon") -> 0 | E91: =COUNTIF(E4:E83,"Jambon") -> 0 | F91: =COUNTIF(F4:F83,"Jambon") -> 0 | G91: =COUNTIF(G4:G83,"Jambon") -> 0 | H91: =COUNTIF(H4:H83,"Jambon") -> 0 | I91: =COUNTIF(I4:I83,"Jambon") -> 0 | ... O91: =COUNTIF(O4:O83,"Jambon") -> 0
A92: Poisson pané | B92: =COUNTIF(B4:B83,"Poisson pané") -> 0 | C92: =COUNTIF(C4:C83,"Poisson pané") -> 0 | D92: =COUNTIF(D4:D83,"Poisson pané") -> 0 | E92: =COUNTIF(E4:E83,"Poisson pané") -> 0 | F92: =COUNTIF(F4:F83,"Poisson pané") -> 0 | G92: =COUNTIF(G4:G83,"Poisson pané") -> 0 | H92: =COUNTIF(H4:H83,"Poisson pané") -> 0 | I92: =COUNTIF(I4:I83,"Poisson pané") -> 0 | ... O92: =COUNTIF(O4:O83,"Poisson pané") -> 0
A93: Purée | B93: =COUNTIF(B4:B83,"Purée") -> 0 | C93: =COUNTIF(C4:C83,"Purée") -> 0 | D93: =COUNTIF(D4:D83,"Purée") -> 0 | E93: =COUNTIF(E4:E83,"Purée") -> 0 | F93: =COUNTIF(F4:F83,"Purée") -> 0 | G93: =COUNTIF(G4:G83,"Purée") -> 0 | H93: =COUNTIF(H4:H83,"Purée") -> 0 | I93: =COUNTIF(I4:I83,"Purée") -> 0 | ... O93: =COUNTIF(O4:O83,"Purée") -> 0
A94: Haricot vert | B94: =COUNTIF(B4:B83,"Haricot vert") -> 0 | C94: =COUNTIF(C4:C83,"Haricot vert") -> 0 | D94: =COUNTIF(D4:D83,"Haricot vert") -> 0 | E94: =COUNTIF(E4:E83,"Haricot vert") -> 0 | F94: =COUNTIF(F4:F83,"Haricot vert") -> 0 | G94: =COUNTIF(G4:G83,"Haricot vert") -> 0 | H94: =COUNTIF(H4:H83,"Haricot vert") -> 0 | I94: =COUNTIF(I4:I83,"Haricot vert") -> 0 | ... O94: =COUNTIF(O4:O83,"Haricot vert") -> 0
A95: Fruit | B95: =COUNTIF(B4:B83,"Fruit") -> 0 | C95: =COUNTIF(C4:C83,"Fruit") -> 0 | D95: =COUNTIF(D4:D83,"Fruit") -> 0 | E95: =COUNTIF(E4:E83,"Fruit") -> 0 | F95: =COUNTIF(F4:F83,"Fruit") -> 0 | G95: =COUNTIF(G4:G83,"Fruit") -> 0 | H95: =COUNTIF(H4:H83,"Fruit") -> 0 | I95: =COUNTIF(I4:I83,"Fruit") -> 0 | ... O95: =COUNTIF(O4:O83,"Fruit") -> 0
A96: Compote | B96: =COUNTIF(B4:B83,"Compote") -> 0 | C96: =COUNTIF(C4:C83,"Compote") -> 0 | D96: =COUNTIF(D4:D83,"Compote") -> 0 | E96: =COUNTIF(E4:E83,"Compote") -> 0 | F96: =COUNTIF(F4:F83,"Compote") -> 0 | G96: =COUNTIF(G4:G83,"Compote") -> 0 | H96: =COUNTIF(H4:H83,"Compote") -> 0 | I96: =COUNTIF(I4:I83,"Compote") -> 0 | ... O96: =COUNTIF(O4:O83,"Compote") -> 0

Sheet IROISE
A1: IROISE | B1: Lundi | D1: Mardi | F1: Mercredi | H1: Jeudi | J1: Vendredi | L1: Samedi | N1: Dimanche
B2: =IDF!B2 -> 43136 | C2: =IDF!C2 -> 43136 | D2: =IDF!D2 -> 43137 | E2: =IDF!E2 -> 43137 | F2: =IDF!F2 -> 43138 | G2: =IDF!G2 -> 43138 | H2: =IDF!H2 -> 43139 | I2: =IDF!I2 -> 43139 | ... O2: =IDF!O2 -> 43142
B3: Midi | C3: Soir | D3: Midi | E3: Soir | F3: Midi | G3: Soir | H3: Midi | I3: Soir | J3: Midi | K3: Soir | L3: Midi | M3: Soir | N3: Midi | O3: Midi
A86: Constants IROISE | B86: Lundi | D86: Mardi | F86: Mercredi | H86: Jeudi | J86: Vendredi | L86: Samedi | N86: Dimanche
B87: =IDF!B87 -> 43136 | C87: =IDF!C87 -> 43136 | D87: =IDF!D87 -> 43137 | E87: =IDF!E87 -> 43137 | F87: =IDF!F87 -> 43138 | G87: =IDF!G87 -> 43138 | H87: =IDF!H87 -> 43139 | I87: =IDF!I87 -> 43139 | ... O87: =IDF!O87 -> 43142
B88: Midi | C88: Soir | D88: Midi | E88: Soir | F88: Midi | G88: Soir | H88: Midi | I88: Soir | J88: Midi | K88: Soir | L88: Midi | M88: Soir | N88: Midi | O88: Midi
A89: Tomate | B89: =COUNTIF(B4:B83,"Tomate") -> 0 | C89: =COUNTIF(C4:C83,"Tomate") -> 0 | D89: =COUNTIF(D4:D83,"Tomate") -> 0 | E89: =COUNTIF(E4:E83,"Tomate") -> 0 | F89: =COUNTIF(F4:F83,"Tomate") -> 0 | G89: =COUNTIF(G4:G83,"Tomate") -> 0 | H89: =COUNTIF(H4:H83,"Tomate") -> 0 | I89: =COUNTIF(I4:I83,"Tomate") -> 0 | ... O89: =COUNTIF(O4:O83,"Tomate") -> 0
A90: Pâté | B90: =COUNTIF(B4:B83,"Pâté") -> 0 | C90: =COUNTIF(C4:C83,"Pâté") -> 0 | D90: =COUNTIF(D4:D83,"Pâté") -> 0 | E90: =COUNTIF(E4:E83,"Pâté") -> 0 | F90: =COUNTIF(F4:F83,"Pâté") -> 0 | G90: =COUNTIF(G4:G83,"Pâté") -> 0 | H90: =COUNTIF(H4:H83,"Pâté") -> 0 | I90: =COUNTIF(I4:I83,"Pâté") -> 0 | ... O90: =COUNTIF(O4:O83,"Pâté") -> 0
A91: Jambon | B91: =COUNTIF(B4:B83,"Jambon") -> 0 | C91: =COUNTIF(C4:C83,"Jambon") -> 0 | D91: =COUNTIF(D4:D83,"Jambon") -> 0 | E91: =COUNTIF(E4:E83,"Jambon") -> 0 | F91: =COUNTIF(F4:F83,"Jambon") -> 0 | G91: =COUNTIF(G4:G83,"Jambon") -> 0 | H91: =COUNTIF(H4:H83,"Jambon") -> 0 | I91: =COUNTIF(I4:I83,"Jambon") -> 0 | ... O91: =COUNTIF(O4:O83,"Jambon") -> 0
A92: Poisson pané | B92: =COUNTIF(B4:B83,"Poisson pané") -> 0 | C92: =COUNTIF(C4:C83,"Poisson pané") -> 0 | D92: =COUNTIF(D4:D83,"Poisson pané") -> 0 | E92: =COUNTIF(E4:E83,"Poisson pané") -> 0 | F92: =COUNTIF(F4:F83,"Poisson pané") -> 0 | G92: =COUNTIF(G4:G83,"Poisson pané") -> 0 | H92: =COUNTIF(H4:H83,"Poisson pané") -> 0 | I92: =COUNTIF(I4:I83,"Poisson pané") -> 0 | ... O92: =COUNTIF(O4:O83,"Poisson pané") -> 0
A93: Purée | B93: =COUNTIF(B4:B83,"Purée") -> 0 | C93: =COUNTIF(C4:C83,"Purée") -> 0 | D93: =COUNTIF(D4:D83,"Purée") -> 0 | E93: =COUNTIF(E4:E83,"Purée") -> 0 | F93: =COUNTIF(F4:F83,"Purée") -> 0 | G93: =COUNTIF(G4:G83,"Purée") -> 0 | H93: =COUNTIF(H4:H83,"Purée") -> 0 | I93: =COUNTIF(I4:I83,"Purée") -> 0 | ... O93: =COUNTIF(O4:O83,"Purée") -> 0
A94: Haricot vert | B94: =COUNTIF(B4:B83,"Haricot vert") -> 0 | C94: =COUNTIF(C4:C83,"Haricot vert") -> 0 | D94: =COUNTIF(D4:D83,"Haricot vert") -> 0 | E94: =COUNTIF(E4:E83,"Haricot vert") -> 0 | F94: =COUNTIF(F4:F83,"Haricot vert") -> 0 | G94: =COUNTIF(G4:G83,"Haricot vert") -> 0 | H94: =COUNTIF(H4:H83,"Haricot vert") -> 0 | I94: =COUNTIF(I4:I83,"Haricot vert") -> 0 | ... O94: =COUNTIF(O4:O83,"Haricot vert") -> 0
A95: Fruit | B95: =COUNTIF(B4:B83,"Fruit") -> 0 | C95: =COUNTIF(C4:C83,"Fruit") -> 0 | D95: =COUNTIF(D4:D83,"Fruit") -> 0 | E95: =COUNTIF(E4:E83,"Fruit") -> 0 | F95: =COUNTIF(F4:F83,"Fruit") -> 0 | G95: =COUNTIF(G4:G83,"Fruit") -> 0 | H95: =COUNTIF(H4:H83,"Fruit") -> 0 | I95: =COUNTIF(I4:I83,"Fruit") -> 0 | ... O95: =COUNTIF(O4:O83,"Fruit") -> 0
A96: Compote | B96: =COUNTIF(B4:B83,"Compote") -> 0 | C96: =COUNTIF(C4:C83,"Compote") -> 0 | D96: =COUNTIF(D4:D83,"Compote") -> 0 | E96: =COUNTIF(E4:E83,"Compote") -> 0 | F96: =COUNTIF(F4:F83,"Compote") -> 0 | G96: =COUNTIF(G4:G83,"Compote") -> 0 | H96: =COUNTIF(H4:H83,"Compote") -> 0 | I96: =COUNTIF(I4:I83,"Compote") -> 0 | ... O96: =COUNTIF(O4:O83,"Compote") -> 0

Sheet FORET NOIRE
A1: FORET NOIRE | B1: Lundi | D1: Mardi | F1: Mercredi | H1: Jeudi | J1: Vendredi | L1: Samedi | N1: Dimanche
B2: =IDF!B2 -> 43136 | C2: =IDF!C2 -> 43136 | D2: =IDF!D2 -> 43137 | E2: =IDF!E2 -> 43137 | F2: =IDF!F2 -> 43138 | G2: =IDF!G2 -> 43138 | H2: =IDF!H2 -> 43139 | I2: =IDF!I2 -> 43139 | ... O2: =IDF!O2 -> 43142
B3: Midi | C3: Soir | D3: Midi | E3: Soir | F3: Midi | G3: Soir | H3: Midi | I3: Soir | J3: Midi | K3: Soir | L3: Midi | M3: Soir | N3: Midi | O3: Midi
A86: Constants FORET NOIRE | B86: Lundi | D86: Mardi | F86: Mercredi | H86: Jeudi | J86: Vendredi | L86: Samedi | N86: Dimanche
B87: =IDF!B87 -> 43136 | C87: =IDF!C87 -> 43136 | D87: =IDF!D87 -> 43137 | E87: =IDF!E87 -> 43137 | F87: =IDF!F87 -> 43138 | G87: =IDF!G87 -> 43138 | H87: =IDF!H87 -> 43139 | I87: =IDF!I87 -> 43139 | ... O87: =IDF!O87 -> 43142
B88: Midi | C88: Soir | D88: Midi | E88: Soir | F88: Midi | G88: Soir | H88: Midi | I88: Soir | J88: Midi | K88: Soir | L88: Midi | M88: Soir | N88: Midi | O88: Midi
A89: Tomate | B89: =COUNTIF(B4:B83,"Tomate") -> 0 | C89: =COUNTIF(C4:C83,"Tomate") -> 0 | D89: =COUNTIF(D4:D83,"Tomate") -> 0 | E89: =COUNTIF(E4:E83,"Tomate") -> 0 | F89: =COUNTIF(F4:F83,"Tomate") -> 0 | G89: =COUNTIF(G4:G83,"Tomate") -> 0 | H89: =COUNTIF(H4:H83,"Tomate") -> 0 | I89: =COUNTIF(I4:I83,"Tomate") -> 0 | ... O89: =COUNTIF(O4:O83,"Tomate") -> 0
A90: Pâté | B90: =COUNTIF(B4:B83,"Pâté") -> 0 | C90: =COUNTIF(C4:C83,"Pâté") -> 0 | D90: =COUNTIF(D4:D83,"Pâté") -> 0 | E90: =COUNTIF(E4:E83,"Pâté") -> 0 | F90: =COUNTIF(F4:F83,"Pâté") -> 0 | G90: =COUNTIF(G4:G83,"Pâté") -> 0 | H90: =COUNTIF(H4:H83,"Pâté") -> 0 | I90: =COUNTIF(I4:I83,"Pâté") -> 0 | ... O90: =COUNTIF(O4:O83,"Pâté") -> 0
A91: Jambon | B91: =COUNTIF(B4:B83,"Jambon") -> 0 | C91: =COUNTIF(C4:C83,"Jambon") -> 0 | D91: =COUNTIF(D4:D83,"Jambon") -> 0 | E91: =COUNTIF(E4:E83,"Jambon") -> 0 | F91: =COUNTIF(F4:F83,"Jambon") -> 0 | G91: =COUNTIF(G4:G83,"Jambon") -> 0 | H91: =COUNTIF(H4:H83,"Jambon") -> 0 | I91: =COUNTIF(I4:I83,"Jambon") -> 0 | ... O91: =COUNTIF(O4:O83,"Jambon") -> 0
A92: Poisson pané | B92: =COUNTIF(B4:B83,"Poisson pané") -> 0 | C92: =COUNTIF(C4:C83,"Poisson pané") -> 0 | D92: =COUNTIF(D4:D83,"Poisson pané") -> 0 | E92: =COUNTIF(E4:E83,"Poisson pané") -> 0 | F92: =COUNTIF(F4:F83,"Poisson pané") -> 0 | G92: =COUNTIF(G4:G83,"Poisson pané") -> 0 | H92: =COUNTIF(H4:H83,"Poisson pané") -> 0 | I92: =COUNTIF(I4:I83,"Poisson pané") -> 0 | ... O92: =COUNTIF(O4:O83,"Poisson pané") -> 0
A93: Purée | B93: =COUNTIF(B4:B83,"Purée") -> 0 | C93: =COUNTIF(C4:C83,"Purée") -> 0 | D93: =COUNTIF(D4:D83,"Purée") -> 0 | E93: =COUNTIF(E4:E83,"Purée") -> 0 | F93: =COUNTIF(F4:F83,"Purée") -> 0 | G93: =COUNTIF(G4:G83,"Purée") -> 0 | H93: =COUNTIF(H4:H83,"Purée") -> 0 | I93: =COUNTIF(I4:I83,"Purée") -> 0 | ... O93: =COUNTIF(O4:O83,"Purée") -> 0
A94: Haricot vert | B94: =COUNTIF(B4:B83,"Haricot vert") -> 0 | C94: =COUNTIF(C4:C83,"Haricot vert") -> 0 | D94: =COUNTIF(D4:D83,"Haricot vert") -> 0 | E94: =COUNTIF(E4:E83,"Haricot vert") -> 0 | F94: =COUNTIF(F4:F83,"Haricot vert") -> 0 | G94: =COUNTIF(G4:G83,"Haricot vert") -> 0 | H94: =COUNTIF(H4:H83,"Haricot vert") -> 0 | I94: =COUNTIF(I4:I83,"Haricot vert") -> 0 | ... O94: =COUNTIF(O4:O83,"Haricot vert") -> 0
A95: Fruit | B95: =COUNTIF(B4:B83,"Fruit") -> 0 | C95: =COUNTIF(C4:C83,"Fruit") -> 0 | D95: =COUNTIF(D4:D83,"Fruit") -> 0 | E95: =COUNTIF(E4:E83,"Fruit") -> 0 | F95: =COUNTIF(F4:F83,"Fruit") -> 0 | G95: =COUNTIF(G4:G83,"Fruit") -> 0 | H95: =COUNTIF(H4:H83,"Fruit") -> 0 | I95: =COUNTIF(I4:I83,"Fruit") -> 0 | ... O95: =COUNTIF(O4:O83,"Fruit") -> 0
A96: Compote | B96: =COUNTIF(B4:B83,"Compote") -> 0 | C96: =COUNTIF(C4:C83,"Compote") -> 0 | D96: =COUNTIF(D4:D83,"Compote") -> 0 | E96: =COUNTIF(E4:E83,"Compote") -> 0 | F96: =COUNTIF(F4:F83,"Compote") -> 0 | G96: =COUNTIF(G4:G83,"Compote") -> 0 | H96: =COUNTIF(H4:H83,"Compote") -> 0 | I96: =COUNTIF(I4:I83,"Compote") -> 0 | ... O96: =COUNTIF(O4:O83,"Compote") -> 0

Sheet LIMAGNE
A1: LIMAGNE | B1: Lundi | D1: Mardi | F1: Mercredi | H1: Jeudi | J1: Vendredi | L1: Samedi | N1: Dimanche
B2: =IDF!B2 -> 43136 | C2: =IDF!C2 -> 43136 | D2: =IDF!D2 -> 43137 | E2: =IDF!E2 -> 43137 | F2: =IDF!F2 -> 43138 | G2: =IDF!G2 -> 43138 | H2: =IDF!H2 -> 43139 | I2: =IDF!I2 -> 43139 | ... O2: =IDF!O2 -> 43142
B3: Midi | C3: Soir | D3: Midi | E3: Soir | F3: Midi | G3: Soir | H3: Midi | I3: Soir | J3: Midi | K3: Soir | L3: Midi | M3: Soir | N3: Midi | O3: Midi
A86: Constants LIMAGNE | B86: Lundi | D86: Mardi | F86: Mercredi | H86: Jeudi | J86: Vendredi | L86: Samedi | N86: Dimanche
B87: =IDF!B87 -> 43136 | C87: =IDF!C87 -> 43136 | D87: =IDF!D87 -> 43137 | E87: =IDF!E87 -> 43137 | F87: =IDF!F87 -> 43138 | G87: =IDF!G87 -> 43138 | H87: =IDF!H87 -> 43139 | I87: =IDF!I87 -> 43139 | ... O87: =IDF!O87 -> 43142
B88: Midi | C88: Soir | D88: Midi | E88: Soir | F88: Midi | G88: Soir | H88: Midi | I88: Soir | J88: Midi | K88: Soir | L88: Midi | M88: Soir | N88: Midi | O88: Midi
A89: Tomate | B89: =COUNTIF(B4:B83,"Tomate") -> 0 | C89: =COUNTIF(C4:C83,"Tomate") -> 0 | D89: =COUNTIF(D4:D83,"Tomate") -> 0 | E89: =COUNTIF(E4:E83,"Tomate") -> 0 | F89: =COUNTIF(F4:F83,"Tomate") -> 0 | G89: =COUNTIF(G4:G83,"Tomate") -> 0 | H89: =COUNTIF(H4:H83,"Tomate") -> 0 | I89: =COUNTIF(I4:I83,"Tomate") -> 0 | ... O89: =COUNTIF(O4:O83,"Tomate") -> 0
A90: Pâté | B90: =COUNTIF(B4:B83,"Pâté") -> 0 | C90: =COUNTIF(C4:C83,"Pâté") -> 0 | D90: =COUNTIF(D4:D83,"Pâté") -> 0 | E90: =COUNTIF(E4:E83,"Pâté") -> 0 | F90: =COUNTIF(F4:F83,"Pâté") -> 0 | G90: =COUNTIF(G4:G83,"Pâté") -> 0 | H90: =COUNTIF(H4:H83,"Pâté") -> 0 | I90: =COUNTIF(I4:I83,"Pâté") -> 0 | ... O90: =COUNTIF(O4:O83,"Pâté") -> 0
A91: Jambon | B91: =COUNTIF(B4:B83,"Jambon") -> 0 | C91: =COUNTIF(C4:C83,"Jambon") -> 0 | D91: =COUNTIF(D4:D83,"Jambon") -> 0 | E91: =COUNTIF(E4:E83,"Jambon") -> 0 | F91: =COUNTIF(F4:F83,"Jambon") -> 0 | G91: =COUNTIF(G4:G83,"Jambon") -> 0 | H91: =COUNTIF(H4:H83,"Jambon") -> 0 | I91: =COUNTIF(I4:I83,"Jambon") -> 0 | ... O91: =COUNTIF(O4:O83,"Jambon") -> 0
A92: Poisson pané | B92: =COUNTIF(B4:B83,"Poisson pané") -> 0 | C92: =COUNTIF(C4:C83,"Poisson pané") -> 0 | D92: =COUNTIF(D4:D83,"Poisson pané") -> 0 | E92: =COUNTIF(E4:E83,"Poisson pané") -> 0 | F92: =COUNTIF(F4:F83,"Poisson pané") -> 0 | G92: =COUNTIF(G4:G83,"Poisson pané") -> 0 | H92: =COUNTIF(H4:H83,"Poisson pané") -> 0 | I92: =COUNTIF(I4:I83,"Poisson pané") -> 0 | ... O92: =COUNTIF(O4:O83,"Poisson pané") -> 0
A93: Purée | B93: =COUNTIF(B4:B83,"Purée") -> 0 | C93: =COUNTIF(C4:C83,"Purée") -> 0 | D93: =COUNTIF(D4:D83,"Purée") -> 0 | E93: =COUNTIF(E4:E83,"Purée") -> 0 | F93: =COUNTIF(F4:F83,"Purée") -> 0 | G93: =COUNTIF(G4:G83,"Purée") -> 0 | H93: =COUNTIF(H4:H83,"Purée") -> 0 | I93: =COUNTIF(I4:I83,"Purée") -> 0 | ... O93: =COUNTIF(O4:O83,"Purée") -> 0
A94: Haricot vert | B94: =COUNTIF(B4:B83,"Haricot vert") -> 0 | C94: =COUNTIF(C4:C83,"Haricot vert") -> 0 | D94: =COUNTIF(D4:D83,"Haricot vert") -> 0 | E94: =COUNTIF(E4:E83,"Haricot vert") -> 0 | F94: =COUNTIF(F4:F83,"Haricot vert") -> 0 | G94: =COUNTIF(G4:G83,"Haricot vert") -> 0 | H94: =COUNTIF(H4:H83,"Haricot vert") -> 0 | I94: =COUNTIF(I4:I83,"Haricot vert") -> 0 | ... O94: =COUNTIF(O4:O83,"Haricot vert") -> 0
A95: Fruit | B95: =COUNTIF(B4:B83,"Fruit") -> 0 | C95: =COUNTIF(C4:C83,"Fruit") -> 0 | D95: =COUNTIF(D4:D83,"Fruit") -> 0 | E95: =COUNTIF(E4:E83,"Fruit") -> 0 | F95: =COUNTIF(F4:F83,"Fruit") -> 0 | G95: =COUNTIF(G4:G83,"Fruit") -> 0 | H95: =COUNTIF(H4:H83,"Fruit") -> 0 | I95: =COUNTIF(I4:I83,"Fruit") -> 0 | ... O95: =COUNTIF(O4:O83,"Fruit") -> 0
A96: Compote | B96: =COUNTIF(B4:B83,"Compote") -> 0 | C96: =COUNTIF(C4:C83,"Compote") -> 0 | D96: =COUNTIF(D4:D83,"Compote") -> 0 | E96: =COUNTIF(E4:E83,"Compote") -> 0 | F96: =COUNTIF(F4:F83,"Compote") -> 0 | G96: =COUNTIF(G4:G83,"Compote") -> 0 | H96: =COUNTIF(H4:H83,"Compote") -> 0 | I96: =COUNTIF(I4:I83,"Compote") -> 0 | ... O96: =COUNTIF(O4:O83,"Compote") -> 0

Sheet GASCOGNE
A1: GASCOGNE | B1: Lundi | D1: Mardi | F1: Mercredi | H1: Jeudi | J1: Vendredi | L1: Samedi | N1: Dimanche
B2: =IDF!B2 -> 43136 | C2: =IDF!C2 -> 43136 | D2: =IDF!D2 -> 43137 | E2: =IDF!E2 -> 43137 | F2: =IDF!F2 -> 43138 | G2: =IDF!G2 -> 43138 | H2: =IDF!H2 -> 43139 | I2: =IDF!I2 -> 43139 | ... O2: =IDF!O2 -> 43142
B3: Midi | C3: Soir | D3: Midi | E3: Soir | F3: Midi | G3: Soir | H3: Midi | I3: Soir | J3: Midi | K3: Soir | L3: Midi | M3: Soir | N3: Midi | O3: Midi
A86: Constants GASCOGNE | B86: Lundi | D86: Mardi | F86: Mercredi | H86: Jeudi | J86: Vendredi | L86: Samedi | N86: Dimanche
B87: =IDF!B87 -> 43136 | C87: =IDF!C87 -> 43136 | D87: =IDF!D87 -> 43137 | E87: =IDF!E87 -> 43137 | F87: =IDF!F87 -> 43138 | G87: =IDF!G87 -> 43138 | H87: =IDF!H87 -> 43139 | I87: =IDF!I87 -> 43139 | ... O87: =IDF!O87 -> 43142
B88: Midi | C88: Soir | D88: Midi | E88: Soir | F88: Midi | G88: Soir | H88: Midi | I88: Soir | J88: Midi | K88: Soir | L88: Midi | M88: Soir | N88: Midi | O88: Midi
A89: Tomate | B89: =COUNTIF(B4:B83,"Tomate") -> 0 | C89: =COUNTIF(C4:C83,"Tomate") -> 0 | D89: =COUNTIF(D4:D83,"Tomate") -> 0 | E89: =COUNTIF(E4:E83,"Tomate") -> 0 | F89: =COUNTIF(F4:F83,"Tomate") -> 0 | G89: =COUNTIF(G4:G83,"Tomate") -> 0 | H89: =COUNTIF(H4:H83,"Tomate") -> 0 | I89: =COUNTIF(I4:I83,"Tomate") -> 0 | ... O89: =COUNTIF(O4:O83,"Tomate") -> 0
A90: Pâté | B90: =COUNTIF(B4:B83,"Pâté") -> 0 | C90: =COUNTIF(C4:C83,"Pâté") -> 0 | D90: =COUNTIF(D4:D83,"Pâté") -> 0 | E90: =COUNTIF(E4:E83,"Pâté") -> 0 | F90: =COUNTIF(F4:F83,"Pâté") -> 0 | G90: =COUNTIF(G4:G83,"Pâté") -> 0 | H90: =COUNTIF(H4:H83,"Pâté") -> 0 | I90: =COUNTIF(I4:I83,"Pâté") -> 0 | ... O90: =COUNTIF(O4:O83,"Pâté") -> 0
A91: Jambon | B91: =COUNTIF(B4:B83,"Jambon") -> 0 | C91: =COUNTIF(C4:C83,"Jambon") -> 0 | D91: =COUNTIF(D4:D83,"Jambon") -> 0 | E91: =COUNTIF(E4:E83,"Jambon") -> 0 | F91: =COUNTIF(F4:F83,"Jambon") -> 0 | G91: =COUNTIF(G4:G83,"Jambon") -> 0 | H91: =COUNTIF(H4:H83,"Jambon") -> 0 | I91: =COUNTIF(I4:I83,"Jambon") -> 0 | ... O91: =COUNTIF(O4:O83,"Jambon") -> 0
A92: Poisson pané | B92: =COUNTIF(B4:B83,"Poisson pané") -> 0 | C92: =COUNTIF(C4:C83,"Poisson pané") -> 0 | D92: =COUNTIF(D4:D83,"Poisson pané") -> 0 | E92: =COUNTIF(E4:E83,"Poisson pané") -> 0 | F92: =COUNTIF(F4:F83,"Poisson pané") -> 0 | G92: =COUNTIF(G4:G83,"Poisson pané") -> 0 | H92: =COUNTIF(H4:H83,"Poisson pané") -> 0 | I92: =COUNTIF(I4:I83,"Poisson pané") -> 0 | ... O92: =COUNTIF(O4:O83,"Poisson pané") -> 0
A93: Purée | B93: =COUNTIF(B4:B83,"Purée") -> 0 | C93: =COUNTIF(C4:C83,"Purée") -> 0 | D93: =COUNTIF(D4:D83,"Purée") -> 0 | E93: =COUNTIF(E4:E83,"Purée") -> 0 | F93: =COUNTIF(F4:F83,"Purée") -> 0 | G93: =COUNTIF(G4:G83,"Purée") -> 0 | H93: =COUNTIF(H4:H83,"Purée") -> 0 | I93: =COUNTIF(I4:I83,"Purée") -> 0 | ... O93: =COUNTIF(O4:O83,"Purée") -> 0
A94: Haricot vert | B94: =COUNTIF(B4:B83,"Haricot vert") -> 0 | C94: =COUNTIF(C4:C83,"Haricot vert") -> 0 | D94: =COUNTIF(D4:D83,"Haricot vert") -> 0 | E94: =COUNTIF(E4:E83,"Haricot vert") -> 0 | F94: =COUNTIF(F4:F83,"Haricot vert") -> 0 | G94: =COUNTIF(G4:G83,"Haricot vert") -> 0 | H94: =COUNTIF(H4:H83,"Haricot vert") -> 0 | I94: =COUNTIF(I4:I83,"Haricot vert") -> 0 | ... O94: =COUNTIF(O4:O83,"Haricot vert") -> 0
A95: Fruit | B95: =COUNTIF(B4:B83,"Fruit") -> 0 | C95: =COUNTIF(C4:C83,"Fruit") -> 0 | D95: =COUNTIF(D4:D83,"Fruit") -> 0 | E95: =COUNTIF(E4:E83,"Fruit") -> 0 | F95: =COUNTIF(F4:F83,"Fruit") -> 0 | G95: =COUNTIF(G4:G83,"Fruit") -> 0 | H95: =COUNTIF(H4:H83,"Fruit") -> 0 | I95: =COUNTIF(I4:I83,"Fruit") -> 0 | ... O95: =COUNTIF(O4:O83,"Fruit") -> 0
A96: Compote | B96: =COUNTIF(B4:B83,"Compote") -> 0 | C96: =COUNTIF(C4:C83,"Compote") -> 0 | D96: =COUNTIF(D4:D83,"Compote") -> 0 | E96: =COUNTIF(E4:E83,"Compote") -> 0 | F96: =COUNTIF(F4:F83,"Compote") -> 0 | G96: =COUNTIF(G4:G83,"Compote") -> 0 | H96: =COUNTIF(H4:H83,"Compote") -> 0 | I96: =COUNTIF(I4:I83,"Compote") -> 0 | ... O96: =COUNTIF(O4:O83,"Compote") -> 0

Sheet VANOISE
A1: VANOISE | B1: Lundi | D1: Mardi | F1: Mercredi | H1: Jeudi | J1: Vendredi | L1: Samedi | N1: Dimanche
B2: =IDF!B2 -> 43136 | C2: =IDF!C2 -> 43136 | D2: =IDF!D2 -> 43137 | E2: =IDF!E2 -> 43137 | F2: =IDF!F2 -> 43138 | G2: =IDF!G2 -> 43138 | H2: =IDF!H2 -> 43139 | I2: =IDF!I2 -> 43139 | ... O2: =IDF!O2 -> 43142
B3: Midi | C3: Soir | D3: Midi | E3: Soir | F3: Midi | G3: Soir | H3: Midi | I3: Soir | J3: Midi | K3: Soir | L3: Midi | M3: Soir | N3: Midi | O3: Midi
A86: Constants VANOISE | B86: Lundi | D86: Mardi | F86: Mercredi | H86: Jeudi | J86: Vendredi | L86: Samedi | N86: Dimanche
B87: =IDF!B87 -> 43136 | C87: =IDF!C87 -> 43136 | D87: =IDF!D87 -> 43137 | E87: =IDF!E87 -> 43137 | F87: =IDF!F87 -> 43138 | G87: =IDF!G87 -> 43138 | H87: =IDF!H87 -> 43139 | I87: =IDF!I87 -> 43139 | ... O87: =IDF!O87 -> 43142
B88: Midi | C88: Soir | D88: Midi | E88: Soir | F88: Midi | G88: Soir | H88: Midi | I88: Soir | J88: Midi | K88: Soir | L88: Midi | M88: Soir | N88: Midi | O88: Midi
A89: Tomate | B89: =COUNTIF(B4:B83,"Tomate") -> 0 | C89: =COUNTIF(C4:C83,"Tomate") -> 0 | D89: =COUNTIF(D4:D83,"Tomate") -> 0 | E89: =COUNTIF(E4:E83,"Tomate") -> 0 | F89: =COUNTIF(F4:F83,"Tomate") -> 0 | G89: =COUNTIF(G4:G83,"Tomate") -> 0 | H89: =COUNTIF(H4:H83,"Tomate") -> 0 | I89: =COUNTIF(I4:I83,"Tomate") -> 0 | ... O89: =COUNTIF(O4:O83,"Tomate") -> 0
A90: Pâté | B90: =COUNTIF(B4:B83,"Pâté") -> 0 | C90: =COUNTIF(C4:C83,"Pâté") -> 0 | D90: =COUNTIF(D4:D83,"Pâté") -> 0 | E90: =COUNTIF(E4:E83,"Pâté") -> 0 | F90: =COUNTIF(F4:F83,"Pâté") -> 0 | G90: =COUNTIF(G4:G83,"Pâté") -> 0 | H90: =COUNTIF(H4:H83,"Pâté") -> 0 | I90: =COUNTIF(I4:I83,"Pâté") -> 0 | ... O90: =COUNTIF(O4:O83,"Pâté") -> 0
A91: Jambon | B91: =COUNTIF(B4:B83,"Jambon") -> 0 | C91: =COUNTIF(C4:C83,"Jambon") -> 0 | D91: =COUNTIF(D4:D83,"Jambon") -> 0 | E91: =COUNTIF(E4:E83,"Jambon") -> 0 | F91: =COUNTIF(F4:F83,"Jambon") -> 0 | G91: =COUNTIF(G4:G83,"Jambon") -> 0 | H91: =COUNTIF(H4:H83,"Jambon") -> 0 | I91: =COUNTIF(I4:I83,"Jambon") -> 0 | ... O91: =COUNTIF(O4:O83,"Jambon") -> 0
A92: Poisson pané | B92: =COUNTIF(B4:B83,"Poisson pané") -> 0 | C92: =COUNTIF(C4:C83,"Poisson pané") -> 0 | D92: =COUNTIF(D4:D83,"Poisson pané") -> 0 | E92: =COUNTIF(E4:E83,"Poisson pané") -> 0 | F92: =COUNTIF(F4:F83,"Poisson pané") -> 0 | G92: =COUNTIF(G4:G83,"Poisson pané") -> 0 | H92: =COUNTIF(H4:H83,"Poisson pané") -> 0 | I92: =COUNTIF(I4:I83,"Poisson pané") -> 0 | ... O92: =COUNTIF(O4:O83,"Poisson pané") -> 0
A93: Purée | B93: =COUNTIF(B4:B83,"Purée") -> 0 | C93: =COUNTIF(C4:C83,"Purée") -> 0 | D93: =COUNTIF(D4:D83,"Purée") -> 0 | E93: =COUNTIF(E4:E83,"Purée") -> 0 | F93: =COUNTIF(F4:F83,"Purée") -> 0 | G93: =COUNTIF(G4:G83,"Purée") -> 0 | H93: =COUNTIF(H4:H83,"Purée") -> 0 | I93: =COUNTIF(I4:I83,"Purée") -> 0 | ... O93: =COUNTIF(O4:O83,"Purée") -> 0
A94: Haricot vert | B94: =COUNTIF(B4:B83,"Haricot vert") -> 0 | C94: =COUNTIF(C4:C83,"Haricot vert") -> 0 | D94: =COUNTIF(D4:D83,"Haricot vert") -> 0 | E94: =COUNTIF(E4:E83,"Haricot vert") -> 0 | F94: =COUNTIF(F4:F83,"Haricot vert") -> 0 | G94: =COUNTIF(G4:G83,"Haricot vert") -> 0 | H94: =COUNTIF(H4:H83,"Haricot vert") -> 0 | I94: =COUNTIF(I4:I83,"Haricot vert") -> 0 | ... O94: =COUNTIF(O4:O83,"Haricot vert") -> 0
A95: Fruit | B95: =COUNTIF(B4:B83,"Fruit") -> 0 | C95: =COUNTIF(C4:C83,"Fruit") -> 0 | D95: =COUNTIF(D4:D83,"Fruit") -> 0 | E95: =COUNTIF(E4:E83,"Fruit") -> 0 | F95: =COUNTIF(F4:F83,"Fruit") -> 0 | G95: =COUNTIF(G4:G83,"Fruit") -> 0 | H95: =COUNTIF(H4:H83,"Fruit") -> 0 | I95: =COUNTIF(I4:I83,"Fruit") -> 0 | ... O95: =COUNTIF(O4:O83,"Fruit") -> 0
A96: Compote | B96: =COUNTIF(B4:B83,"Compote") -> 0 | C96: =COUNTIF(C4:C83,"Compote") -> 0 | D96: =COUNTIF(D4:D83,"Compote") -> 0 | E96: =COUNTIF(E4:E83,"Compote") -> 0 | F96: =COUNTIF(F4:F83,"Compote") -> 0 | G96: =COUNTIF(G4:G83,"Compote") -> 0 | H96: =COUNTIF(H4:H83,"Compote") -> 0 | I96: =COUNTIF(I4:I83,"Compote") -> 0 | ... O96: =COUNTIF(O4:O83,"Compote") -> 0

Sheet RECAP CUISINE
A1: Constants ILE DE France | B1: Lundi | D1: Mardi | F1: Mercredi | H1: Jeudi | J1: Vendredi | L1: Samedi | N1: Dimanche
B2: =IDF!B2 -> 43136 | C2: =IDF!C2 -> 43136 | D2: =IDF!D2 -> 43137 | E2: =IDF!E2 -> 43137 | F2: =IDF!F2 -> 43138 | G2: =IDF!G2 -> 43138 | H2: =IDF!H2 -> 43139 | I2: =IDF!I2 -> 43139 | ... O2: =IDF!O2 -> 43142
B3: Midi | C3: Soir | D3: Midi | E3: Soir | F3: Midi | G3: Soir | H3: Midi | I3: Soir | J3: Midi | K3: Soir | L3: Midi | M3: Soir | N3: Midi | O3: Midi
