Workbook
Name Autre: 'liste postes'!$K$3
Name Diplôme1: Listes!$D$3
Name Diplôme10: Listes!$M$3
Name Diplôme2: Listes!$E$3:$E$6
Name Diplôme3: Listes!$F$3:$F$4
Name Diplôme4: Listes!$G$3
Name Diplôme5: Listes!$H$3
Name Diplôme6: Listes!$I$3:$I$6
Name Diplôme7: Listes!$J$3
Name Diplôme8: Listes!$K$3
Name Diplôme9: Listes!$L$3
Name Filière: 'liste postes'!$G$3:$G$5
Name Filière2: 'liste postes'!$F$3:$F$7
Name Filière3: 'liste postes'!$G$3:$G$5
Name Filière4: 'liste postes'!$H$3:$H$4
Name Filière5: 'liste postes'!$I$3:$I$4
Name Filière6: 'liste postes'!$J$3:$J$4

Sheet Recueil
B2: Alternance - Etat des lieux et besoins pour 2018
A4: VOTRE ETABLISSEMENT
A5: FONCIA AQUITAINE
A6: VOTRE STRUCTURE
A7: STRUCTURE2
A9: Etat des lieux - alternants présents en 2017
A11: Nom du valideur | B11: OF | C11: diplôme | D11: Date de début | E11: Date de fin | F11: Manager | G11: Tuteur | H11: Séquence
A12: =VLOOKUP($H12,'BDD SOURCE 2017'!$A$1:$N$343,5,FALSE) -> VALIDEUR | B12: =VLOOKUP($H12,'BDD SOURCE 2017'!$A$1:$N$343,13,FALSE) -> 42982 | C12: =VLOOKUP($H12,'BDD SOURCE 2017'!$A$1:$N$343,10,FALSE) -> diplôme | D12: =VLOOKUP($H12,'BDD SOURCE 2017'!$A$1:$N$343,16,FALSE) -> #REF! | E12: =VLOOKUP($H12,'BDD SOURCE 2017'!$A$1:$N$343,17,FALSE) -> #REF! | F12: =VLOOKUP($H12,'BDD SOURCE 2017'!$A$1:$N$343,6,FALSE) -> MANAGER | G12: =VLOOKUP($H12,'BDD SOURCE 2017'!$A$1:$N$343,9,FALSE) -> OF | H12: 1
A13: =VLOOKUP($H13,'BDD SOURCE 2017'!$A$1:$N$343,5,FALSE) -> VALIDEUR | B13: =VLOOKUP($H13,'BDD SOURCE 2017'!$A$1:$N$343,13,FALSE) -> 42674 | C13: =VLOOKUP($H13,'BDD SOURCE 2017'!$A$1:$N$343,10,FALSE) -> diplôme | D13: =VLOOKUP($H13,'BDD SOURCE 2017'!$A$1:$N$343,16,FALSE) -> #REF! | E13: =VLOOKUP($H13,'BDD SOURCE 2017'!$A$1:$N$343,17,FALSE) -> #REF! | F13: =VLOOKUP($H13,'BDD SOURCE 2017'!$A$1:$N$343,6,FALSE) -> MANAGER | G13: =VLOOKUP($H13,'BDD SOURCE 2017'!$A$1:$N$343,9,FALSE) -> OF | H13: 2
A14: =VLOOKUP($H14,'BDD SOURCE 2017'!$A$1:$N$343,5,FALSE) -> VALIDEUR | B14: =VLOOKUP($H14,'BDD SOURCE 2017'!$A$1:$N$343,13,FALSE) -> 43045 | C14: =VLOOKUP($H14,'BDD SOURCE 2017'!$A$1:$N$343,10,FALSE) -> diplôme | D14: =VLOOKUP($H14,'BDD SOURCE 2017'!$A$1:$N$343,16,FALSE) -> #REF! | E14: =VLOOKUP($H14,'BDD SOURCE 2017'!$A$1:$N$343,17,FALSE) -> #REF! | F14: =VLOOKUP($H14,'BDD SOURCE 2017'!$A$1:$N$343,6,FALSE) -> MANAGER | G14: =VLOOKUP($H14,'BDD SOURCE 2017'!$A$1:$N$343,9,FALSE) -> OF | H14: 3
A15: =VLOOKUP($H15,'BDD SOURCE 2017'!$A$1:$N$343,5,FALSE) -> VALIDEUR | B15: =VLOOKUP($H15,'BDD SOURCE 2017'!$A$1:$N$343,13,FALSE) -> 42723 | C15: =VLOOKUP($H15,'BDD SOURCE 2017'!$A$1:$N$343,10,FALSE) -> diplôme | D15: =VLOOKUP($H15,'BDD SOURCE 2017'!$A$1:$N$343,16,FALSE) -> #REF! | E15: =VLOOKUP($H15,'BDD SOURCE 2017'!$A$1:$N$343,17,FALSE) -> #REF! | F15: =VLOOKUP($H15,'BDD SOURCE 2017'!$A$1:$N$343,6,FALSE) -> MANAGER | G15: =VLOOKUP($H15,'BDD SOURCE 2017'!$A$1:$N$343,9,FALSE) -> OF | H15: 4
A16: =VLOOKUP($H16,'BDD SOURCE 2017'!$A$1:$N$343,5,FALSE) -> VALIDEUR | B16: =VLOOKUP($H16,'BDD SOURCE 2017'!$A$1:$N$343,13,FALSE) -> 42857 | C16: =VLOOKUP($H16,'BDD SOURCE 2017'!$A$1:$N$343,10,FALSE) -> diplôme | D16: =VLOOKUP($H16,'BDD SOURCE 2017'!$A$1:$N$343,16,FALSE) -> #REF! | E16: =VLOOKUP($H16,'BDD SOURCE 2017'!$A$1:$N$343,17,FALSE) -> #REF! | F16: =VLOOKUP($H16,'BDD SOURCE 2017'!$A$1:$N$343,6,FALSE) -> MANAGER | G16: =VLOOKUP($H16,'BDD SOURCE 2017'!$A$1:$N$343,9,FALSE) -> OF | H16: 5
A17: =VLOOKUP($H17,'BDD SOURCE 2017'!$A$1:$N$343,5,FALSE) -> VALIDEUR | B17: =VLOOKUP($H17,'BDD SOURCE 2017'!$A$1:$N$343,13,FALSE) -> 42982 | C17: =VLOOKUP($H17,'BDD SOURCE 2017'!$A$1:$N$343,10,FALSE) -> diplôme | D17: =VLOOKUP($H17,'BDD SOURCE 2017'!$A$1:$N$343,16,FALSE) -> #REF! | E17: =VLOOKUP($H17,'BDD SOURCE 2017'!$A$1:$N$343,17,FALSE) -> #REF! | F17: =VLOOKUP($H17,'BDD SOURCE 2017'!$A$1:$N$343,6,FALSE) -> MANAGER | G17: =VLOOKUP($H17,'BDD SOURCE 2017'!$A$1:$N$343,9,FALSE) -> OF | H17: 6
A18: =VLOOKUP($H18,'BDD SOURCE 2017'!$A$1:$N$343,5,FALSE) -> VALIDEUR | B18: =VLOOKUP($H18,'BDD SOURCE 2017'!$A$1:$N$343,13,FALSE) -> 42955 | C18: =VLOOKUP($H18,'BDD SOURCE 2017'!$A$1:$N$343,10,FALSE) -> diplôme | D18: =VLOOKUP($H18,'BDD SOURCE 2017'!$A$1:$N$343,16,FALSE) -> #REF! | E18: =VLOOKUP($H18,'BDD SOURCE 2017'!$A$1:$N$343,17,FALSE) -> #REF! | F18: =VLOOKUP($H18,'BDD SOURCE 2017'!$A$1:$N$343,6,FALSE) -> MANAGER | G18: =VLOOKUP($H18,'BDD SOURCE 2017'!$A$1:$N$343,9,FALSE) -> OF | H18: 7
A19: =VLOOKUP($H19,'BDD SOURCE 2017'!$A$1:$N$343,5,FALSE) -> VALIDEUR | B19: =VLOOKUP($H19,'BDD SOURCE 2017'!$A$1:$N$343,13,FALSE) -> 42989 | C19: =VLOOKUP($H19,'BDD SOURCE 2017'!$A$1:$N$343,10,FALSE) -> diplôme | D19: =VLOOKUP($H19,'BDD SOURCE 2017'!$A$1:$N$343,16,FALSE) -> #REF! | E19: =VLOOKUP($H19,'BDD SOURCE 2017'!$A$1:$N$343,17,FALSE) -> #REF! | F19: =VLOOKUP($H19,'BDD SOURCE 2017'!$A$1:$N$343,6,FALSE) -> MANAGER | G19: =VLOOKUP($H19,'BDD SOURCE 2017'!$A$1:$N$343,9,FALSE) -> OF | H19: 8
A20: =VLOOKUP($H20,'BDD SOURCE 2017'!$A$1:$N$343,5,FALSE) -> VALIDEUR | B20: =VLOOKUP($H20,'BDD SOURCE 2017'!$A$1:$N$343,13,FALSE) -> 42625 | C20: =VLOOKUP($H20,'BDD SOURCE 2017'!$A$1:$N$343,10,FALSE) -> diplôme | D20: =VLOOKUP($H20,'BDD SOURCE 2017'!$A$1:$N$343,16,FALSE) -> #REF! | E20: =VLOOKUP($H20,'BDD SOURCE 2017'!$A$1:$N$343,17,FALSE) -> #REF! | F20: =VLOOKUP($H20,'BDD SOURCE 2017'!$A$1:$N$343,6,FALSE) -> MANAGER | G20: =VLOOKUP($H20,'BDD SOURCE 2017'!$A$1:$N$343,9,FALSE) -> OF | H20: 9
A21: =VLOOKUP($H21,'BDD SOURCE 2017'!$A$1:$N$343,5,FALSE) -> VALIDEUR | B21: =VLOOKUP($H21,'BDD SOURCE 2017'!$A$1:$N$343,13,FALSE) -> 42614 | C21: =VLOOKUP($H21,'BDD SOURCE 2017'!$A$1:$N$343,10,FALSE) -> diplôme | D21: =VLOOKUP($H21,'BDD SOURCE 2017'!$A$1:$N$343,16,FALSE) -> #REF! | E21: =VLOOKUP($H21,'BDD SOURCE 2017'!$A$1:$N$343,17,FALSE) -> #REF! | F21: =VLOOKUP($H21,'BDD SOURCE 2017'!$A$1:$N$343,6,FALSE) -> MANAGER | G21: =VLOOKUP($H21,'BDD SOURCE 2017'!$A$1:$N$343,9,FALSE) -> OF | H21: 10
A22: =VLOOKUP($H22,'BDD SOURCE 2017'!$A$1:$N$343,5,FALSE) -> VALIDEUR | B22: =VLOOKUP($H22,'BDD SOURCE 2017'!$A$1:$N$343,13,FALSE) -> 42807 | C22: =VLOOKUP($H22,'BDD SOURCE 2017'!$A$1:$N$343,10,FALSE) -> diplôme | D22: =VLOOKUP($H22,'BDD SOURCE 2017'!$A$1:$N$343,16,FALSE) -> #REF! | E22: =VLOOKUP($H22,'BDD SOURCE 2017'!$A$1:$N$343,17,FALSE) -> #REF! | F22: =VLOOKUP($H22,'BDD SOURCE 2017'!$A$1:$N$343,6,FALSE) -> MANAGER | G22: =VLOOKUP($H22,'BDD SOURCE 2017'!$A$1:$N$343,9,FALSE) -> OF | H22: 11
A24: Besoins prévisionnels pour 2018
A26: Type de diplôme | B26: Organisme de formation | C26: Filière métier | D26: Poste occupé | E26: Nom de l'alternant (si connu) | F26: Commentaires | G26: Date de début souhaitée | H26: Date de fin | I26: Durée théorique (heures) | J26: Reste à charge | K26: Nom du valideur | L26: Nom du tuteur | M26: Ancienneté du tuteur dans la fonction | N26: Formation tuteur O/N | O26: Nombre d'alternants à charge pour ce tuteur | P26: Faisabilité du projet | Q26: Nature du contrat | R26: Structure
A27: Diplôme4 | J27: =VLOOKUP(B27,#REF!,3,FALSE) -> #REF! | R27: =IF($A27="","",$A$7) -> STRUCTURE2
J28: =VLOOKUP(B28,#REF!,3,FALSE) -> #REF! | R28: =IF($A28="","",$A$7)
A29: Diplôme6 | J29: =VLOOKUP(B29,#REF!,3,FALSE) -> #REF! | R29: =IF($A29="","",$A$7) -> STRUCTURE2
J30: =VLOOKUP(B30,#REF!,3,FALSE) -> #REF! | R30: =IF($A30="","",$A$7)
J31: =VLOOKUP(B31,#REF!,3,FALSE) -> #REF! | R31: =IF($A31="","",$A$7)
J32: =VLOOKUP(B32,#REF!,3,FALSE) -> #REF! | R32: =IF($A32="","",$A$7)
J33: =VLOOKUP(B33,#REF!,3,FALSE) -> #REF! | R33: =IF($A33="","",$A$7)
J34: =VLOOKUP(B34,#REF!,3,FALSE) -> #REF! | R34: =IF($A34="","",$A$7)
J35: =VLOOKUP(B35,#REF!,3,FALSE) -> #REF! | R35: =IF($A35="","",$A$7)
J36: =VLOOKUP(B36,#REF!,3,FALSE) -> #REF! | R36: =IF($A36="","",$A$7)
J37: =VLOOKUP(B37,#REF!,3,FALSE) -> #REF! | R37: =IF($A37="","",$A$7)
J38: =VLOOKUP(B38,#REF!,3,FALSE) -> #REF! | R38: =IF($A38="","",$A$7)
J39: =VLOOKUP(B39,#REF!,3,FALSE) -> #REF! | R39: =IF($A39="","",$A$7)

Sheet Listes
A1: STRUCTURE | B1: Etablissements
A2: STRUCTURE1 | B2: Etablissement 1 | D2: Diplôme1 | E2: Diplôme2 | F2: Diplôme3 | G2: Diplôme4 | H2: Diplôme5 | I2: Diplôme6 | J2: Diplôme7 | K2: Diplôme8 | L2: Diplôme9 | M2: Diplôme10
A3: STRUCTURE2 | B3: Etablissement 2 | D3: Ecole1 | E3: Ecole1 | F3: Ecole1 | G3: Ecole1 | H3: Ecole1 | I3: Ecole1 | J3: Ecole1 | K3: Ecole1 | L3: Ecole1 | M3: Ecole1
A4: STRUCTURE3 | B4: Etablissement 3 | E4: Ecole2 | F4: Ecole2 | I4: Ecole2
A5: STRUCTURE4 | B5: Etablissement 4 | E5: Ecole3 | I5: Ecole3
A6: STRUCTURE5 | B6: Etablissement 5 | E6: Ecole4 | I6: Ecole4
A7: STRUCTURE6 | B7: Etablissement 6
A8: STRUCTURE7 | B8: Etablissement 7
A9: STRUCTURE8 | B9: Etablissement 8
A10: STRUCTURE9 | B10: Etablissement 9
A11: STRUCTURE10 | B11: Etablissement 10 | C11: Nature du contrat
A12: STRUCTURE11 | B12: Etablissement 11 | C12: Contrat pro
A13: STRUCTURE12 | B13: Etablissement 12 | C13: Contrat d'apprentissage
A14: STRUCTURE13 | B14: Etablissement 13
A15: STRUCTURE14 | B15: Etablissement 14
A16: STRUCTURE15 | B16: Etablissement 15
A17: STRUCTURE16 | B17: Etablissement 16
A18: STRUCTURE17 | B18: Etablissement 17
A19: STRUCTURE18 | B19: Etablissement 18
A20: STRUCTURE19 | B20: Etablissement 19
A21: STRUCTURE20 | B21: Etablissement 20
A22: STRUCTURE21 | B22: Etablissement 21
A23: STRUCTURE22 | B23: Etablissement 22
A24: STRUCTURE23 | B24: Etablissement 23
A25: STRUCTURE24 | B25: Etablissement 24

Sheet liste postes
F2: Filière2 | G2: Filière3 | H2: Filière4 | I2: Filière5 | J2: Filière6 | K2: Autre
F3: poste | G3: poste | H3: poste | I3: poste | J3: poste | K3: Renseigner_le_poste_en_commentaire
F4: poste | G4: poste | H4: poste | I4: poste | J4: poste
F5: poste | G5: poste
F6: poste
F7: poste
B66: Oui | D66: + de 2 ans | E66: 1
B67: Non | D67: - de 2ans | E67: 2
E68: 3
E69: + de 3

Sheet BDD SOURCE 2017
A1: SEQUENCE | B1: STRUCTURE | C1: occurrence | D1: Salarié | E1: Nom du valideur | F1: Contact Entreprise | G1: Nature | H1: Tuteur | I1: OF | J1: Formation | K1: Région | L1: Poste | M1: Date début | N1: date Fin
A2: =IF($C2=0,0,SUM($C$2:C2)) -> 0 | B2: STRUCTURE1 | C2: =IF($B2=Recueil!$A$7,1,0) -> 0 | D2: ALTERNANT | E2: VALIDEUR | F2: MANAGER | G2: NATURE | H2: TUTEUR | I2: OF | J2: diplôme | K2: FILIALE | L2: poste | M2: 42982 | N2: 43281
A3: =IF($C3=0,0,SUM($C$2:C3)) -> 1 | B3: STRUCTURE2 | C3: =IF($B3=Recueil!$A$7,1,0) -> 1 | D3: ALTERNANT | E3: VALIDEUR | F3: MANAGER | G3: NATURE | H3: TUTEUR | I3: OF | J3: diplôme | K3: IDF | L3: poste | M3: 42982 | N3: 43350
A4: =IF($C4=0,0,SUM($C$2:C4)) -> 0 | B4: STRUCTURE3 | C4: =IF($B4=Recueil!$A$7,1,0) -> 0 | D4: ALTERNANT | E4: VALIDEUR | F4: MANAGER | G4: NATURE | H4: TUTEUR | I4: OF | J4: diplôme | K4: IDF | L4: poste | M4: 42614 | N4: 43708
A5: =IF($C5=0,0,SUM($C$2:C5)) -> 0 | B5: STRUCTURE4 | C5: =IF($B5=Recueil!$A$7,1,0) -> 0 | D5: ALTERNANT | E5: VALIDEUR | F5: MANAGER | G5: NATURE | H5: TUTEUR | I5: OF | J5: diplôme | K5: IDF | L5: poste | M5: 42982 | N5: 43373
A6: =IF($C6=0,0,SUM($C$2:C6)) -> 0 | B6: STRUCTURE5 | C6: =IF($B6=Recueil!$A$7,1,0) -> 0 | D6: ALTERNANT | E6: VALIDEUR | F6: MANAGER | G6: NATURE | H6: TUTEUR | I6: OF | J6: diplôme | K6: IDF | L6: poste | M6: 43009 | N6: 43373
A7: =IF($C7=0,0,SUM($C$2:C7)) -> 0 | B7: STRUCTURE6 | C7: =IF($B7=Recueil!$A$7,1,0) -> 0 | D7: ALTERNANT | E7: VALIDEUR | F7: MANAGER | G7: NATURE | H7: TUTEUR | I7: OF | J7: diplôme | K7: IDF | L7: poste | M7: 42989 | N7: 43353
A8: =IF($C8=0,0,SUM($C$2:C8)) -> 0 | B8: STRUCTURE7 | C8: =IF($B8=Recueil!$A$7,1,0) -> 0 | D8: ALTERNANT | E8: VALIDEUR | F8: MANAGER | G8: NATURE | H8: TUTEUR | I8: OF | J8: diplôme | K8: IDF | L8: poste | M8: 42982 | N8: 43708
A9: =IF($C9=0,0,SUM($C$2:C9)) -> 0 | B9: STRUCTURE8 | C9: =IF($B9=Recueil!$A$7,1,0) -> 0 | D9: ALTERNANT | E9: VALIDEUR | F9: MANAGER | G9: NATURE | H9: TUTEUR | I9: OF | J9: diplôme | K9: IDF | L9: poste | M9: 42989 | N9: 43358
A10: =IF($C10=0,0,SUM($C$2:C10)) -> 0 | B10: STRUCTURE9 | C10: =IF($B10=Recueil!$A$7,1,0) -> 0 | D10: ALTERNANT | E10: VALIDEUR | F10: MANAGER | G10: NATURE | H10: TUTEUR | I10: OF | J10: diplôme | K10: IDF | L10: poste | M10: 42996 | N10: 44091
A11: =IF($C11=0,0,SUM($C$2:C11)) -> 0 | B11: STRUCTURE10 | C11: =IF($B11=Recueil!$A$7,1,0) -> 0 | D11: ALTERNANT | E11: VALIDEUR | F11: MANAGER | G11: NATURE | H11: TUTEUR | I11: OF | J11: diplôme | K11: IDF | L11: poste | M11: 43007 | N11: 43738
A12: =IF($C12=0,0,SUM($C$2:C12)) -> 0 | B12: STRUCTURE11 | C12: =IF($B12=Recueil!$A$7,1,0) -> 0 | D12: ALTERNANT | E12: VALIDEUR | F12: MANAGER | G12: NATURE | H12: TUTEUR | I12: OF | J12: diplôme | K12: NORD EST | L12: poste | M12: 43003 | N12: 43707
A13: =IF($C13=0,0,SUM($C$2:C13)) -> 0 | B13: STRUCTURE12 | C13: =IF($B13=Recueil!$A$7,1,0) -> 0 | D13: ALTERNANT | E13: VALIDEUR | F13: MANAGER | G13: NATURE | H13: TUTEUR | I13: OF | J13: diplôme | K13: NORD EST | L13: poste | M13: 43003 | N13: 43677
... A343: =IF($C343=0,0,SUM($C$2:C343)) -> 0 | B343: STRUCTURE19 | C343: =IF($B343=Recueil!$A$7,1,0) -> 0 | D343: ALTERNANT | E343: VALIDEUR | F343: MANAGER | G343: NATURE | H343: TUTEUR | I343: OF | J343: diplôme | K343: FILIALE | L343: poste | M343: 43017 | N343: 43677
