Workbook
Name Stellen: '[1]BASE DATA'!$A$6:$A$9

Sheet Distribution
A1: Bonus Calculation
C2: Septembre
A3: Magasin | B3: chef de magasin | C3: droit au bonus
A4: 1208001 | B4: Helmut | C4: =VLOOKUP(A4,Bonus!$A$2:$M$172,10,FALSE) -> 0
A5: 1208002 | B5: Helmut | C5: =VLOOKUP(A5,Bonus!$A$2:$M$172,10,FALSE) -> 0
A6: 1208003 | B6: Helmut | C6: =VLOOKUP(A6,Bonus!$A$2:$M$172,10,FALSE) -> 470.49851
A7: 1208004 | B7: Helmut | C7: =VLOOKUP(A7,Bonus!$A$2:$M$172,10,FALSE) -> 110.90638
A8: 1208005 | B8: Helmut | C8: =VLOOKUP(A8,Bonus!$A$2:$M$172,10,FALSE) -> n/a | D8: => par exemple devrait etre "7,5% Bruttogehalt"
A9: 1208006 | B9: Helmut | C9: =VLOOKUP(A9,Bonus!$A$2:$M$172,10,FALSE) -> 0
A10: 1208007 | B10: Helmut | C10: =VLOOKUP(A10,Bonus!$A$2:$M$172,10,FALSE) -> 7,5% Bruttogehalt
A11: 1208008 | B11: Helmut | C11: =VLOOKUP(A11,Bonus!$A$2:$M$172,10,FALSE) -> 381.15388
A12: 1208009 | B12: Helmut | C12: =VLOOKUP(A12,Bonus!$A$2:$M$172,10,FALSE) -> 0
A13: 1208010 | B13: Helmut | C13: =VLOOKUP(A13,Bonus!$A$2:$M$172,10,FALSE) -> 137.80681
A14: 1208011 | B14: Helmut | C14: =VLOOKUP(A14,Bonus!$A$2:$M$172,10,FALSE) -> 214.77798
A15: 1208012 | B15: Helmut | C15: =VLOOKUP(A15,Bonus!$A$2:$M$172,10,FALSE) -> 0
A16: 1208013 | B16: Helmut | C16: =VLOOKUP(A16,Bonus!$A$2:$M$172,10,FALSE) -> 7,5% Bruttogehalt
A17: 1208014 | B17: Helmut | C17: =VLOOKUP(A17,Bonus!$A$2:$M$172,10,FALSE) -> 7,5% Bruttogehalt
A18: 1208015 | B18: Helmut | C18: =VLOOKUP(A18,Bonus!$A$2:$M$172,10,FALSE) -> 23.030946
A19: 1208016 | B19: Helmut | C19: =VLOOKUP(A19,Bonus!$A$2:$M$172,10,FALSE) -> 97.228692
A20: 1208017 | B20: Helmut | C20: =VLOOKUP(A20,Bonus!$A$2:$M$172,10,FALSE) -> 7,5% Bruttogehalt
... A141: 1208145 | B141: Helmut | C141: =VLOOKUP(A141,Bonus!$A$2:$M$172,10,FALSE) -> 7,5% Bruttogehalt
A142: 1208156

Sheet Bonus
A1: Store | B1: Jan | C1: Feb | D1: Mar | E1: Apr | F1: May | G1: Jun | H1: Jul | I1: Aug | J1: Sep | K1: Oct | L1: Nov | M1: Dec
A2: 1208001 | B2: 7,5% Bruttogehalt | C2: 6.6893265 | D2: 7,5% Bruttogehalt | E2: 100.24236 | F2: 7,5% Bruttogehalt | G2: 0 | H2: 7,5% Bruttogehalt | I2: 7,5% Bruttogehalt | J2: 0 | K2: 0 | L2: 7,5% Bruttogehalt | M2: nv
A3: 1208002 | B3: 0 | C3: 7,5% Bruttogehalt | D3: 0 | E3: 0 | F3: 0 | G3: 0 | H3: 7,5% Bruttogehalt | I3: 0 | J3: 0 | K3: 0 | L3: 0 | M3: nv
A4: 1208038 | B4: 240.48531 | C4: 0 | D4: 292.69844 | E4: 7,5% Bruttogehalt | F4: 7,5% Bruttogehalt | G4: 317.36287 | H4: 7,5% Bruttogehalt | I4: 7,5% Bruttogehalt | J4: 7,5% Bruttogehalt | K4: 7,5% Bruttogehalt | L4: 309.53952 | M4: nv
A5: 1208047 | B5: 0.5654025 | C5: 7,5% Bruttogehalt | D5: 170.36447 | E5: 69.319683 | F5: 7,5% Bruttogehalt | G5: 47.674188 | H5: 7,5% Bruttogehalt | I5: 253.50152 | J5: 401.23321 | K5: 306.53896 | L5: 156.58818 | M5: nv
A6: 1208048 | B6: 0 | C6: 7,5% Bruttogehalt | D6: 0 | E6: 7,5% Bruttogehalt | F6: 0 | G6: 0 | H6: 7,5% Bruttogehalt | I6: 0 | J6: 0 | K6: 0 | L6: 0 | M6: nv
A7: 1208075 | B7: 0 | C7: 0 | D7: 46.188229 | E7: 0 | F7: 97.421828 | G7: 138.9375 | H7: 280.53 | I7: 155.47464 | J7: 0 | K7: 104.85643 | L7: 151.82624 | M7: nv
A8: 1208083 | B8: 0 | C8: 73.902906 | D8: 7,5% Bruttogehalt | E8: 307.40711 | F8: 7,5% Bruttogehalt | G8: 265.66015 | H8: 7,5% Bruttogehalt | I8: 7,5% Bruttogehalt | J8: 7,5% Bruttogehalt | K8: 248.75377 | L8: 249.50057 | M8: nv
A9: 1208085 | B9: 0 | C9: 0 | D9: 13.875412 | E9: 0 | F9: 7,5% Bruttogehalt | G9: 0 | H9: 7,5% Bruttogehalt | I9: 0 | J9: 7,5% Bruttogehalt | K9: 78.631124 | L9: 7,5% Bruttogehalt | M9: nv
A10: 1208136 | B10: 7,5% Bruttogehalt | C10: 0 | D10: 0 | E10: 0 | F10: 7,5% Bruttogehalt | G10: 0 | H10: 7,5% Bruttogehalt | I10: 7,5% Bruttogehalt | J10: 0 | K10: 0 | L10: 0 | M10: nv
A11: 1208138 | B11: 97.78869 | C11: 0 | D11: 0 | E11: 7,5% Bruttogehalt | F11: 0 | G11: 0 | H11: 7,5% Bruttogehalt | I11: 7,5% Bruttogehalt | J11: 85.756959 | K11: 111.77526 | L11: 122.92254 | M11: nv
A12: 1208144 | B12: 0 | C12: 0 | D12: 0 | E12: 0 | F12: 7,5% Bruttogehalt | G12: 0 | H12: 7,5% Bruttogehalt | I12: 7,5% Bruttogehalt | J12: 25.194735 | K12: 7,5% Bruttogehalt | L12: 7,5% Bruttogehalt | M12: nv
A13: District
A14: 1208034 | B14: n/a | C14: n/a | D14: n/a | E14: 0 | F14: 0 | G14: 0 | H14: 397.5075 | I14: 120.28792 | J14: 41.813122 | K14: 217.63317 | L14: 0 | M14: nv
A15: 1208058 | B15: n/a | C15: n/a | D15: n/a | E15: 7,5% Bruttogehalt | F15: 7,5% Bruttogehalt | G15: 0 | H15: 7,5% Bruttogehalt | I15: 0 | J15: 501.41475 | K15: 699.67158 | L15: 555.01383 | M15: nv
A16: 1208059 | B16: n/a | C16: n/a | D16: n/a | E16: 0 | F16: 19.127214 | G16: 0 | H16: 234.5625 | I16: 197.87076 | J16: 0 | K16: 0 | L16: 94.345915 | M16: nv
A17: 1208063 | B17: n/a | C17: n/a | D17: n/a | E17: 0 | F17: 0 | G17: 0 | H17: 7,5% Bruttogehalt | I17: 0 | J17: 0 | K17: 0 | L17: 0 | M17: nv
A18: 1208086 | B18: n/a | C18: n/a | D18: n/a | E18: 135.55706 | F18: 0 | G18: 0 | H18: 7,5% Bruttogehalt | I18: 64.852214 | J18: 198.61482 | K18: 207.15576 | L18: 0 | M18: nv
A19: 1208090 | B19: n/a | C19: n/a | D19: n/a | E19: 0 | F19: 0 | G19: 7,5% Bruttogehalt | H19: 7,5% Bruttogehalt | I19: 177.41207 | J19: 15.976867 | K19: 75.191746 | L19: 7,5% Bruttogehalt | M19: nv
A20: District
A21: 1208036 | B21: 0 | C21: 30.813431 | D21: 0 | E21: 7,5% Bruttogehalt | F21: 75.05694 | G21: 7,5% Bruttogehalt | H21: 7,5% Bruttogehalt | I21: 0 | J21: 138.68525 | K21: 7,5% Bruttogehalt | L21: 7,5% Bruttogehalt | M21: nv
A22: 1208040 | B22: 7,5% Bruttogehalt | C22: 0 | D22: 0 | E22: 7,5% Bruttogehalt | F22: 0 | G22: 0 | H22: 7,5% Bruttogehalt | I22: 7,5% Bruttogehalt | J22: 7,5% Bruttogehalt | K22: 7,5% Bruttogehalt | L22: 7,5% Bruttogehalt | M22: nv
A23: 1208053 | B23: 169.66713 | C23: 9.6659685 | D23: 286.50254 | E23: 7,5% Bruttogehalt | F23: 433.30657 | G23: 7,5% Bruttogehalt | H23: 7,5% Bruttogehalt | I23: 334.54063 | J23: 7,5% Bruttogehalt | K23: 7,5% Bruttogehalt | L23: 263.50476 | M23: nv
A24: 1208057 | B24: 7,5% Bruttogehalt | C24: 7,5% Bruttogehalt | D24: 386.12626 | E24: 760.71184 | F24: 569.1387 | G24: 751.97434 | H24: 919.5525 | I24: 1007.4071 | J24: 7,5% Bruttogehalt | K24: 7,5% Bruttogehalt | L24: 425.72905 | M24: nv
A25: 1208088 | B25: 0 | C25: 7,5% Bruttogehalt | D25: 0 | E25: 0 | F25: 0 | G25: 0 | H25: 7,5% Bruttogehalt | I25: 7.1434755 | J25: 7,5% Bruttogehalt | K25: 7,5% Bruttogehalt | L25: 7,5% Bruttogehalt | M25: nv
A26: 1208089 | B26: 0 | C26: 0 | D26: 0 | E26: 7,5% Bruttogehalt | F26: 0 | G26: 7,5% Bruttogehalt | H26: 7,5% Bruttogehalt | I26: 7,5% Bruttogehalt | J26: 7,5% Bruttogehalt | K26: 7,5% Bruttogehalt | L26: 7,5% Bruttogehalt | M26: nv
A27: 1208100 | B27: 7,5% Bruttogehalt | C27: 7,5% Bruttogehalt | D27: 414.73465 | E27: 7,5% Bruttogehalt | F27: 7,5% Bruttogehalt | G27: 7,5% Bruttogehalt | H27: 7,5% Bruttogehalt | I27: 7,5% Bruttogehalt | J27: 554.12671 | K27: 800.65466 | L27: 233.66572 | M27: nv
A28: 1208105 | B28: 7,5% Bruttogehalt | C28: 0 | D28: 0 | E28: 0 | F28: 7,5% Bruttogehalt | G28: 7,5% Bruttogehalt | H28: 7,5% Bruttogehalt | I28: 347.50684 | J28: 7,5% Bruttogehalt | K28: 255.5675 | L28: 7,5% Bruttogehalt | M28: nv
A29: 1208152 | B29: 0 | C29: 0 | D29: 0 | E29: 0 | F29: 0 | G29: 0 | H29: 0 | I29: 0 | J29: 0 | K29: 0 | L29: 0 | M29: nv
A30: District
A31: 1208061 | B31: 11.686856 | C31: 7,5% Bruttogehalt | D31: 7,5% Bruttogehalt | E31: 7,5% Bruttogehalt | F31: 7,5% Bruttogehalt | G31: 7,5% Bruttogehalt | H31: 7,5% Bruttogehalt | I31: 7,5% Bruttogehalt | J31: 7,5% Bruttogehalt | K31: 7,5% Bruttogehalt | L31: 7,5% Bruttogehalt | M31: nv
A32: 1208096 | B32: 0 | C32: 7,5% Bruttogehalt | D32: 0 | E32: 107.27957 | F32: 234.88965 | G32: 230.16014 | H32: 7,5% Bruttogehalt | I32: 7,5% Bruttogehalt | J32: 7,5% Bruttogehalt | K32: 7,5% Bruttogehalt | L32: 7,5% Bruttogehalt | M32: nv
A33: 1208107 | B33: 0 | C33: 7,5% Bruttogehalt | D33: 0 | E33: 0 | F33: 100.99794 | G33: 0 | H33: 214.6275 | I33: 149.15144 | J33: 165.31774 | K33: 1.440207 | L33: 0 | M33: nv
A34: 1208111 | B34: 0 | C34: 0 | D34: 0 | E34: 0 | F34: 7,5% Bruttogehalt | G34: 7,5% Bruttogehalt | H34: 7,5% Bruttogehalt | I34: 476.91151 | J34: 287.26889 | K34: 236.93455 | L34: 0 | M34: nv
A35: 1208117 | B35: 0 | C35: 7,5% Bruttogehalt | D35: 0 | E35: 0 | F35: 0 | G35: 0 | H35: 0 | I35: 0 | J35: 0 | K35: n/a | L35: n/a | M35: n/a
A36: 1208034 | B36: 7,5% Bruttogehalt | C36: 0 | D36: 0 | E36: n/a | F36: n/a | G36: n/a | H36: n/a | I36: n/a | J36: n/a | K36: n/a | L36: n/a | M36: n/a
A37: 1208058 | B37: 7,5% Bruttogehalt | C37: 7,5% Bruttogehalt | D37: 44.765059 | E37: n/a | F37: n/a | G37: n/a | H37: n/a | I37: n/a | J37: n/a | K37: n/a | L37: n/a | M37: n/a
A38: 1208059 | B38: 0 | C38: 0 | D38: 0 | E38: n/a | F38: n/a | G38: n/a | H38: n/a | I38: n/a | J38: n/a | K38: n/a | L38: n/a | M38: n/a
A39: 1208063 | B39: 0 | C39: 0 | D39: 0 | E39: n/a | F39: n/a | G39: n/a | H39: n/a | I39: n/a | J39: n/a | K39: n/a | L39: n/a | M39: n/a
A40: 1208086 | B40: 7,5% Bruttogehalt | C40: 0 | D40: 0 | E40: n/a | F40: n/a | G40: n/a | H40: n/a | I40: n/a | J40: n/a | K40: n/a | L40: n/a | M40: n/a
A41: 1208090 | B41: 0 | C41: 0 | D41: 0 | E41: n/a | F41: n/a | G41: n/a | H41: n/a | I41: n/a | J41: n/a | K41: n/a | L41: n/a | M41: n/a
A42: District
A43: 1208031 | B43: 0 | C43: 0 | D43: 0 | E43: 0 | F43: 0 | G43: 0 | H43: 11.25 | I43: 0 | J43: 0 | K43: 0 | L43: 0 | M43: nv
A44: 1208049 | B44: 0 | C44: 7,5% Bruttogehalt | D44: 0 | E44: 106.19808 | F44: 7,5% Bruttogehalt | G44: 7,5% Bruttogehalt | H44: 7,5% Bruttogehalt | I44: 7,5% Bruttogehalt | J44: 271.34109 | K44: 7,5% Bruttogehalt | L44: 37.397065 | M44: nv
A45: 1208068 | B45: 0 | C45: 0 | D45: 0 | E45: 0 | F45: 0 | G45: 0 | H45: 84.2625 | I45: 0 | J45: 0 | K45: 47.160041 | L45: 106.29758 | M45: nv
A46: 1208069 | B46: 110.99335 | C46: 0 | D46: 0 | E46: 0 | F46: 7,5% Bruttogehalt | G46: 0 | H46: 103.1175 | I46: 7,5% Bruttogehalt | J46: n/a | K46: n/a | L46: n/a | M46: n/a
A47: 1208070 | B47: 158.11584 | C47: 67.288554 | D47: 105.40712 | E47: 213.77949 | F47: 238.21606 | G47: 136.81099 | H47: 343.17 | I47: 287.11696 | J47: 221.98543 | K47: 7,5% Bruttogehalt | L47: 7,5% Bruttogehalt | M47: nv
A48: 1208119 | B48: 0 | C48: 178.1685 | D48: 0 | E48: 262.64678 | F48: 0 | G48: 0 | H48: 250.8525 | I48: 83.640704 | J48: 158.52199 | K48: 339.07222 | L48: 7,5% Bruttogehalt | M48: nv
A49: 1208137 | B49: 0 | C49: 7,5% Bruttogehalt | D49: 0 | E49: 0 | F49: 35.323119 | G49: 0 | H49: 7,5% Bruttogehalt | I49: 0 | J49: 7,5% Bruttogehalt | K49: 76.208188 | L49: 0 | M49: nv
A50: 1208141 | B50: 0 | C50: 0 | D50: 7,5% Bruttogehalt | E50: 0 | F50: 0 | G50: 0 | H50: 7,5% Bruttogehalt | I50: 0 | J50: 0 | K50: 0 | L50: 0 | M50: nv
A51: District
A52: 1208017 | B52: 0 | C52: 7,5% Bruttogehalt | D52: 0 | E52: 0 | F52: 0 | G52: 0 | H52: 7,5% Bruttogehalt | I52: 7,5% Bruttogehalt | J52: 7,5% Bruttogehalt | K52: 7,5% Bruttogehalt | L52: 7,5% Bruttogehalt | M52: nv
A53: 1208025 | B53: 7,5% Bruttogehalt | C53: 0 | D53: 34.282768 | E53: 201.08922 | F53: 7,5% Bruttogehalt | G53: 7,5% Bruttogehalt | H53: 7,5% Bruttogehalt | I53: 7,5% Bruttogehalt | J53: 128.27083 | K53: 7,5% Bruttogehalt | L53: 7,5% Bruttogehalt | M53: nv
A54: 1208030 | B54: 0 | C54: 0 | D54: 0 | E54: 0 | F54: 0 | G54: 7,5% Bruttogehalt | H54: 7,5% Bruttogehalt | I54: 7,5% Bruttogehalt | J54: 7,5% Bruttogehalt | K54: 7,5% Bruttogehalt | L54: 7,5% Bruttogehalt | M54: nv
A55: 1208032 | B55: 0 | C55: 7,5% Bruttogehalt | D55: 0 | E55: 0 | F55: 7,5% Bruttogehalt | G55: 7,5% Bruttogehalt | H55: 7,5% Bruttogehalt | I55: 7,5% Bruttogehalt | J55: 7,5% Bruttogehalt | K55: 7,5% Bruttogehalt | L55: 0 | M55: nv
A56: 1208033 | B56: 0 | C56: 0 | D56: 0 | E56: 0 | F56: 0 | G56: 0 | H56: 7,5% Bruttogehalt | I56: 7,5% Bruttogehalt | J56: 0 | K56: 7,5% Bruttogehalt | L56: 7,5% Bruttogehalt | M56: nv
A57: 1208035 | B57: 7,5% Bruttogehalt | C57: 7,5% Bruttogehalt | D57: 117.04122 | E57: 7,5% Bruttogehalt | F57: 0 | G57: 7,5% Bruttogehalt | H57: 7,5% Bruttogehalt | I57: 7,5% Bruttogehalt | J57: 7,5% Bruttogehalt | K57: 7,5% Bruttogehalt | L57: 7,5% Bruttogehalt | M57: nv
A58: 1208041 | B58: 445.56838 | C58: 364.75209 | D58: 528.30777 | E58: 7,5% Bruttogehalt | F58: 7,5% Bruttogehalt | G58: 664.76951 | H58: 7,5% Bruttogehalt | I58: 534.90632 | J58: 7,5% Bruttogehalt | K58: 7,5% Bruttogehalt | L58: 7,5% Bruttogehalt | M58: nv
A59: 1208062 | B59: 0 | C59: 0 | D59: 0 | E59: 0 | F59: 7,5% Bruttogehalt | G59: 0 | H59: 7,5% Bruttogehalt | I59: 28.78047 | J59: 7,5% Bruttogehalt | K59: 7,5% Bruttogehalt | L59: 7,5% Bruttogehalt | M59: nv
A60: 1208064 | B60: 0 | C60: 0 | D60: 0 | E60: 0 | F60: 0 | G60: 16.462467 | H60: 0 | I60: 44.04343 | J60: 0 | K60: 8.3538315 | L60: 7,5% Bruttogehalt | M60: nv
A61: 1208065 | B61: 7,5% Bruttogehalt | C61: 7,5% Bruttogehalt | D61: 0 | E61: 0 | F61: 7,5% Bruttogehalt | G61: 7,5% Bruttogehalt | H61: 7,5% Bruttogehalt | I61: 7,5% Bruttogehalt | J61: 0 | K61: 0 | L61: 7,5% Bruttogehalt | M61: nv
A62: 1208071 | B62: 0 | C62: 7,5% Bruttogehalt | D62: 89.731503 | E62: 44.408043 | F62: 7,5% Bruttogehalt | G62: 7,5% Bruttogehalt | H62: 7,5% Bruttogehalt | I62: 7,5% Bruttogehalt | J62: 7,5% Bruttogehalt | K62: 7,5% Bruttogehalt | L62: 7,5% Bruttogehalt | M62: nv
A63: 1208113 | B63: 78.577632 | C63: 90.749115 | D63: 269.57461 | E63: 326.05611 | F63: 7,5% Bruttogehalt | G63: 7,5% Bruttogehalt | H63: 7,5% Bruttogehalt | I63: 7,5% Bruttogehalt | J63: 393.3501 | K63: 458.42118 | L63: 328.11571 | M63: nv
A64: 1208122 | B64: 0 | C64: 9.1576305 | D64: 0 | E64: 0 | F64: 7,5% Bruttogehalt | G64: 88.691436 | H64: 7,5% Bruttogehalt | I64: 0 | J64: 99.723982 | K64: 7,5% Bruttogehalt | L64: 8.8396695 | M64: nv
A65: 1208153 | B65: 0 | C65: 0 | D65: 0 | E65: 0 | F65: 0 | G65: 0 | H65: 0 | I65: 7,5% Bruttogehalt | J65: 0 | K65: 0 | L65: 7,5% Bruttogehalt | M65: nv
A66: District
A67: 1208009 | B67: 78.594948 | C67: 19.526377 | D67: 0 | E67: 0 | F67: 0 | G67: 0 | H67: 7,5% Bruttogehalt | I67: 0 | J67: 0 | K67: 98.28495 | L67: 7,5% Bruttogehalt | M67: nv
A68: 1208027 | B68: 7,5% Bruttogehalt | C68: 7,5% Bruttogehalt | D68: 7,5% Bruttogehalt | E68: 102.63867 | F68: 32.723492 | G68: 10.119186 | H68: 7,5% Bruttogehalt | I68: 352.3906 | J68: 163.6412 | K68: 7,5% Bruttogehalt | L68: 7,5% Bruttogehalt | M68: nv
A69: 1208092 | B69: 125.38215 | C69: 40.037072 | D69: 70.478555 | E69: 0 | F69: 0 | G69: 0.8921565 | H69: 112.5225 | I69: 46.678788 | J69: 115.01709 | K69: 0 | L69: 152.70036 | M69: nv
A70: 1208132 | B70: 0 | C70: 0 | D70: 0 | E70: 0 | F70: 0 | G70: 0 | H70: 0 | I70: 0 | J70: 0 | K70: 17.125911 | L70: 0 | M70: nv
A71: 1208142 | B71: 0 | C71: 0 | D71: 0 | E71: 0 | F71: 0 | G71: 0 | H71: 18.6525 | I71: 70.07544 | J71: 15.776221 | K71: 40.440937 | L71: 0 | M71: nv
A72: 1208143 | B72: 0 | C72: 0 | D72: 15.274012 | E72: 0 | F72: 7,5% Bruttogehalt | G72: 19.482107 | H72: 9.135 | I72: 75.442248 | J72: 52.524994 | K72: 0 | L72: 7,5% Bruttogehalt | M72: nv
A73: District
A74: 1208003 | B74: 7,5% Bruttogehalt | C74: 0 | D74: 161.63114 | E74: 447.18526 | F74: 311.04206 | G74: 321.29443 | H74: 7,5% Bruttogehalt | I74: 631.10979 | J74: 470.49851 | K74: 653.80376 | L74: 72.340146 | M74: nv
A75: 1208022 | B75: 0 | C75: 0 | D75: 47.805966 | E75: 7,5% Bruttogehalt | F75: 0 | G75: 0 | H75: 0 | I75: 0 | J75: 0 | K75: 0 | L75: 85.850923 | M75: nv
A76: 1208087 | B76: 0 | C76: 40.671211 | D76: 11.061126 | E76: 7,5% Bruttogehalt | F76: 79.977559 | G76: 164.65625 | H76: 210.78 | I76: 461.79659 | J76: 205.3354 | K76: 181.79331 | L76: 0 | M76: nv
A77: 1208095 | B77: 75.212082 | C77: 0 | D77: 132.51077 | E77: 7,5% Bruttogehalt | F77: 182.60442 | G77: 226.72004 | H77: 7,5% Bruttogehalt | I77: 306.66954 | J77: 7,5% Bruttogehalt | K77: 7,5% Bruttogehalt | L77: 7,5% Bruttogehalt | M77: nv
A78: 1208101 | B78: 0 | C78: 0 | D78: 14.770039 | E78: 154.88368 | F78: 0 | G78: 71.39043 | H78: 0 | I78: 94.872541 | J78: 0 | K78: 148.56039 | L78: 0 | M78: nv
A79: 1208102 | B79: 0 | C79: 0 | D79: 0 | E79: 0 | F79: 0 | G79: 0 | H79: 102.24 | I79: 58.467056 | J79: 0 | K79: 78.166431 | L79: 0 | M79: nv
A80: 1208139 | B80: 0 | C80: 0 | D80: 0 | E80: 0 | F80: 44.843562 | G80: 0 | H80: 34.6725 | I80: 0 | J80: 60.337859 | K80: 0 | L80: 0 | M80: nv
A81: District
A82: 1208004 | B82: 7,5% Bruttogehalt | C82: 7,5% Bruttogehalt | D82: 0 | E82: 7,5% Bruttogehalt | F82: 158.31076 | G82: 98.807868 | H82: 7,5% Bruttogehalt | I82: 7,5% Bruttogehalt | J82: 110.90638 | K82: 7,5% Bruttogehalt | L82: 7,5% Bruttogehalt | M82: nv
A83: 1208005 | B83: 7,5% Bruttogehalt | C83: 0 | D83: 0 | E83: 0 | F83: 6.699276 | G83: 7,5% Bruttogehalt | H83: 7,5% Bruttogehalt | I83: 7,5% Bruttogehalt | J83: n/a | K83: n/a | L83: n/a | M83: n/a
A84: 1208013 | B84: 0 | C84: 0 | D84: 7,5% Bruttogehalt | E84: 0 | F84: 0 | G84: 7,5% Bruttogehalt | H84: 7,5% Bruttogehalt | I84: 0 | J84: 7,5% Bruttogehalt | K84: n/a | L84: n/a | M84: n/a
A85: 1208042 | B85: 232.7017 | C85: 0 | D85: 134.90932 | E85: 236.61274 | F85: 224.00321 | G85: 7,5% Bruttogehalt | H85: 7,5% Bruttogehalt | I85: 7,5% Bruttogehalt | J85: 7,5% Bruttogehalt | K85: 7,5% Bruttogehalt | L85: 7,5% Bruttogehalt | M85: nv
A86: 1208043 | B86: 15.804994 | C86: 7,5% Bruttogehalt | D86: 0 | E86: 7,5% Bruttogehalt | F86: 7,5% Bruttogehalt | G86: 47.377593 | H86: 7,5% Bruttogehalt | I86: 7,5% Bruttogehalt | J86: 7,5% Bruttogehalt | K86: 7,5% Bruttogehalt | L86: 57.983063 | M86: nv
A87: 1208052 | B87: 7,5% Bruttogehalt | C87: 0 | D87: 33.700712 | E87: 7,5% Bruttogehalt | F87: 7,5% Bruttogehalt | G87: 0 | H87: 7,5% Bruttogehalt | I87: 7,5% Bruttogehalt | J87: 7,5% Bruttogehalt | K87: 0 | L87: 0 | M87: nv
A88: 1208077 | B88: 7,5% Bruttogehalt | C88: 0 | D88: 0 | E88: 0 | F88: 45.456853 | G88: 0 | H88: 7,5% Bruttogehalt | I88: 0 | J88: 0 | K88: 7,5% Bruttogehalt | L88: 7,5% Bruttogehalt | M88: nv
A89: 1208078 | B89: 0 | C89: 7,5% Bruttogehalt | D89: 0 | E89: 7,5% Bruttogehalt | F89: 0 | G89: 7,5% Bruttogehalt | H89: 7,5% Bruttogehalt | I89: 7,5% Bruttogehalt | J89: 0 | K89: 7,5% Bruttogehalt | L89: 7,5% Bruttogehalt | M89: nv
A90: 1208080 | B90: 0 | C90: 0 | D90: 7,5% Bruttogehalt | E90: 7,5% Bruttogehalt | F90: 0 | G90: 0 | H90: 7,5% Bruttogehalt | I90: 0 | J90: 7,5% Bruttogehalt | K90: 7,5% Bruttogehalt | L90: 7,5% Bruttogehalt | M90: nv
A91: 1208093 | B91: 0 | C91: 0 | D91: 0 | E91: 0 | F91: 7,5% Bruttogehalt | G91: 7,5% Bruttogehalt | H91: 7,5% Bruttogehalt | I91: 0 | J91: n/a | K91: n/a | L91: n/a | M91: n/a
A92: 1208106 | B92: 90.696406 | C92: 69.680322 | D92: 82.84603 | E92: 0 | F92: 158.35534 | G92: 6.8333355 | H92: 128.745 | I92: 7,5% Bruttogehalt | J92: n/a | K92: n/a | L92: n/a | M92: n/a
A93: 1208120 | B93: 7,5% Bruttogehalt | C93: 0 | D93: 0 | E93: 7,5% Bruttogehalt | F93: 0 | G93: 0 | H93: 7,5% Bruttogehalt | I93: 0 | J93: 0 | K93: 0 | L93: 7,5% Bruttogehalt | M93: nv
A94: District
A95: 1208007 | B95: 0 | C95: 0 | D95: 150.88331 | E95: 7,5% Bruttogehalt | F95: 131.86462 | G95: 7,5% Bruttogehalt | H95: 7,5% Bruttogehalt | I95: 325.40128 | J95: 7,5% Bruttogehalt | K95: 7,5% Bruttogehalt | L95: 7,5% Bruttogehalt | M95: nv
A96: 1208010 | B96: 0 | C96: 7,5% Bruttogehalt | D96: 0 | E96: 193.3905 | F96: 227.81372 | G96: 7,5% Bruttogehalt | H96: 7,5% Bruttogehalt | I96: 7,5% Bruttogehalt | J96: 137.80681 | K96: 7,5% Bruttogehalt | L96: 2.015955 | M96: nv
A97: 1208016 | B97: 0 | C97: 7,5% Bruttogehalt | D97: 0 | E97: 7,5% Bruttogehalt | F97: 0 | G97: 0 | H97: 7,5% Bruttogehalt | I97: 47.759935 | J97: 97.228692 | K97: 74.393977 | L97: 114.26647 | M97: nv
A98: 1208024 | B98: 349.9579 | C98: 0 | D98: 7,5% Bruttogehalt | E98: 7,5% Bruttogehalt | F98: 356.34431 | G98: 310.32025 | H98: 7,5% Bruttogehalt | I98: 248.98484 | J98: 418.97541 | K98: 446.39442 | L98: 7,5% Bruttogehalt | M98: nv
A99: 1208028 | B99: 109.99608 | C99: 7,5% Bruttogehalt | D99: 7,5% Bruttogehalt | E99: 7,5% Bruttogehalt | F99: 7,5% Bruttogehalt | G99: 7,5% Bruttogehalt | H99: 7,5% Bruttogehalt | I99: 214.42672 | J99: 7,5% Bruttogehalt | K99: 354.198 | L99: 223.89278 | M99: nv
A100: 1208037 | B100: 7,5% Bruttogehalt | C100: 7,5% Bruttogehalt | D100: 0 | E100: 0 | F100: 0 | G100: 0 | H100: 7,5% Bruttogehalt | I100: 0 | J100: 7.153056 | K100: 48.255867 | L100: 53.314231 | M100: nv
...
