Workbook
Name Stellen: '[1]BASE DATA'!$A$6:$A$9

Sheet Distribution
A1: Bonus Calculation
C2: Septembre
A3: Magasin | B3: chef de magasin | C3: droit au bonus
A4: 1208001 | B4: Helmut | C4: =VLOOKUP(A4,Bonus!$A$2:$M$172,10,FALSE) -> 0
A5: 1208002 | B5: Helmut | C5: =VLOOKUP(A5,Bonus!$A$2:$M$172,10,FALSE) -> 0
A6: 1208003 | B6: Helmut | C6: =VLOOKUP(A6,Bonus!$A$2:$M$172,10,FALSE) -> 470.49851
A7: 1208004 | B7: Helmut | C7: =VLOOKUP(A7,Bonus!$A$2:$M$172,10,FALSE) -> 110.90638
A8: 1208005 | B8: Helmut | C8: =VLOOKUP(A8,Bonus!$A$2:$M$172,10,FALSE) -> n/a | D8: => par exemple devrait etre "7,5% Bruttogehalt"
A9: 1208006 | B9: Helmut | C9: =VLOOKUP(A9,Bonus!$A$2:$M$172,10,FALSE) -> 0
A10: 1208007 | B10: Helmut | C10: =VLOOKUP(A10,Bonus!$A$2:$M$172,10,FALSE) -> 7,5% Bruttogehalt
A11: 1208008 | B11: Helmut | C11: =VLOOKUP(A11,Bonus!$A$2:$M$172,10,FALSE) -> 381.15388
A12: 1208009 | B12: Helmut | C12: =VLOOKUP(A12,Bonus!$A$2:$M$172,10,FALSE) -> 0
A13: 1208010 | B13: Helmut | C13: =VLOOKUP(A13,Bonus!$A$2:$M$172,10,FALSE) -> 137.80681
A14: 1208011 | B14: Helmut | C14: =VLOOKUP(A14,Bonus!$A$2:$M$172,10,FALSE) -> 214.77798
A15: 1208012 | B15: Helmut | C15: =VLOOKUP(A15,Bonus!$A$2:$M$172,10,FALSE) -> 0
A16: 1208013 | B16: Helmut | C16: =VLOOKUP(A16,Bonus!$A$2:$M$172,10,FALSE) -> 7,5% Bruttogehalt
A17: 1208014 | B17: Helmut | C17: =VLOOKUP(A17,Bonus!$A$2:$M$172,10,FALSE) -> 7,5% Bruttogehalt
A18: 1208015 | B18: Helmut | C18: =VLOOKUP(A18,Bonus!$A$2:$M$172,10,FALSE) -> 23.030946
A19: 1208016 | B19: Helmut | C19: =VLOOKUP(A19,Bonus!$A$2:$M$172,10,FALSE) -> 97.228692
A20: 1208017 | B20: Helmut | C20: =VLOOKUP(A20,Bonus!$A$2:$M$172,10,FALSE) -> 7,5% Bruttogehalt
... A141: 1208145 | B141: Helmut | C141: =VLOOKUP(A141,Bonus!$A$2:$M$172,10,FALSE) -> 7,5% Bruttogehalt
A142: 1208156

Sheet Bonus
A1: Store | B1: Jan | C1: Feb | D1: Mar | E1: Apr | F1: May | G1: Jun | H1: Jul | I1: Aug | J1: Sep | K1: Oct | L1: Nov | M1: Dec
A2: 1208001 | B2: 7,5% Bruttogehalt | C2: 6.6893265 | D2: 7,5% Bruttogehalt | E2: 100.24236 | F2: 7,5% Bruttogehalt | G2: 0 | H2: 7,5% Bruttogehalt | I2: 7,5% Bruttogehalt | J2: 0 | K2: 0 | L2: 7,5% Bruttogehalt | M2: nv
A3: 1208002 | B3: 0 | C3: 7,5% Bruttogehalt | D3: 0 | E3: 0 | F3: 0 | G3: 0 | H3: 7,5% Bruttogehalt | I3: 0 | J3: 0 | K3: 0 | L3: 0 | M3: nv
A4: 1208038 | B4: 240.48531 | C4: 0 | D4: 292.69844 | E4: 7,5% Bruttogehalt | F4: 7,5% Bruttogehalt | G4: 317.36287 | H4: 7,5% Bruttogehalt | I4: 7,5% Bruttogehalt | J4: 7,5% Bruttogehalt | K4: 7,5% Bruttogehalt | L4: 309.53952 | M4: nv
A5: 1208047 | B5: 0.5654025 | C5: 7,5% Bruttogehalt | D5: 170.36447 | E5: 69.319683 | F5: 7,5% Bruttogehalt | G5: 47.674188 | H5: 7,5% Bruttogehalt | I5: 253.50152 | J5: 401.23321 | K5: 306.53896 | L5: 156.58818 | M5: nv
A6: 1208048 | B6: 0 | C6: 7,5% Bruttogehalt | D6: 0 | E6: 7,5% Bruttogehalt | F6: 0 | G6: 0 | H6: 7,5% Bruttogehalt | I6: 0 | J6: 0 | K6: 0 | L6: 0 | M6: nv
A7: 1208075 | B7: 0 | C7: 0 | D7: 46.188229 | E7: 0 | F7: 97.421828 | G7: 138.9375 | H7: 280.53 | I7: 155.47464 | J7: 0 | K7: 104.85643 | L7: 151.82624 | M7: nv
A8: 1208083 | B8: 0 | C8: 73.902906 | D8: 7,5% Bruttogehalt | E8: 307.40711 | F8: 7,5% Bruttogehalt | G8: 265.66015 | H8: 7,5% Bruttogehalt | I8: 7,5% Bruttogehalt | J8: 7,5% Bruttogehalt | K8: 248.75377 | L8: 249.50057 | M8: nv
A9: 1208085 | B9: 0 | C9: 0 | D9: 13.875412 | E9: 0 | F9: 7,5% Bruttogehalt | G9: 0 | H9: 7,5% Bruttogehalt | I9: 0 | J9: 7,5% Bruttogehalt | K9: 78.631124 | L9: 7,5% Bruttogehalt | M9: nv
A10: 1208136 | B10: 7,5% Bruttogehalt | C10: 0 | D10: 0 | E10: 0 | F10: 7,5% Bruttogehalt | G10: 0 | H10: 7,5% Bruttogehalt | I10: 7,5% Bruttogehalt | J10: 0 | K10: 0 | L10: 0 | M10: nv
A11: 1208138 | B11: 97.78869 | C11: 0 | D11: 0 | E11: 7,5% Bruttogehalt | F11: 0 | G11: 0 | H11: 7,5% Bruttogehalt | I11: 7,5% Bruttogehalt | J11: 85.756959 | K11: 111.77526 | L11: 122.92254 | M11: nv
A12: 1208144 | B12: 0 | C12: 0 | D12: 0 | E12: 0 | F12: 7,5% Bruttogehalt | G12: 0 | H12: 7,5% Bruttogehalt | I12: 7,5% Bruttogehalt | J12: 25.194735 | K12: 7,5% Bruttogehalt | L12: 7,5% Bruttogehalt | M12: nv
A13: District
A14: 1208034 | B14: n/a | C14: n/a | D14: n/a | E14: 0 | F14: 0 | G14: 0 | H14: 397.5075 | I14: 120.28792 | J14: 41.813122 | K14: 217.63317 | L14: 0 | M14: nv
A15: 1208058 | B15: n/a | C15: n/a | D15: n/a | E15: 7,5% Bruttogehalt | F15: 7,5% Bruttogehalt | G15: 0 | H15: 7,5% Bruttogehalt | I15: 0 | J15: 501.41475 | K15: 699.67158 | L15: 555.01383 | M15: nv
A16: 1208059 | B16: n/a | C16: n/a | D16: n/a | E16: 0 | F16: 19.127214 | G16: 0 | H16: 234.5625 | I16: 197.87076 | J16: 0 | K16: 0 | L16: 94.345915 | M16: nv
A17: 1208063 | B17: n/a | C17: n/a | D17: n/a | E17: 0 | F17: 0 | G17: 0 | H17: 7,5% Bruttogehalt | I17: 0 | J17: 0 | K17: 0 | L17: 0 | M17: nv
A18: 1208086 | B18: n/a | C18: n/a | D18: n/a | E18: 135.55706 | F18: 0 | G18: 0 | H18: 7,5% Bruttogehalt | I18: 64.852214 | J18: 198.61482 | K18: 207.15576 | L18: 0 | M18: nv
A19: 1208090 | B19: n/a | C19: n/a | D19: n/a | E19: 0 | F19: 0 | G19: 7,5% Bruttogehalt | H19: 7,5% Bruttogehalt | I19: 177.41207 | J19: 15.976867 | K19: 75.191746 | L19: 7,5% Bruttogehalt | M19: nv
A20: District
A21: 1208036 | B21: 0 | C21: 30.813431 | D21: 0 | E21: 7,5% Bruttogehalt | F21: 75.05694 | G21: 7,5% Bruttogehalt | H21: 7,5% Bruttogehalt | I21: 0 | J21: 138.68525 | K21: 7,5% Bruttogehalt | L21: 7,5% Bruttogehalt | M21: nv
A22: 1208040 | B22: 7,5% Bruttogehalt | C22: 0 | D22: 0 | E22: 7,5% Bruttogehalt | F22: 0 | G22: 0 | H22: 7,5% Bruttogehalt | I22: 7,5% Bruttogehalt | J22: 7,5% Bruttogehalt | K22: 7,5% Bruttogehalt | L22: 7,5% Bruttogehalt | M22: nv
A23: 1208053 | B23: 169.66713 | C23: 9.6659685 | D23: 286.50254 | E23: 7,5% Bruttogehalt | F23: 433.30657 | G23: 7,5% Bruttogehalt | H23: 7,5% Bruttogehalt | I23: 334.54063 | J23: 7,5% Bruttogehalt | K23: 7,5% Bruttogehalt | L23: 263.50476 | M23: nv
A24: 1208057 | B24: 7,5% Bruttogehalt | C24: 7,5% Bruttogehalt | D24: 386.12626 | E24: 760.71184 | F24: 569.1387 | G24: 751.97434 | H24: 919.5525 | I24: 1007.4071 | J24: 7,5% Bruttogehalt | K24: 7,5% Bruttogehalt | L24: 425.72905 | M24: nv
A25: 1208088 | B25: 0 | C25: 7,5% Bruttogehalt | D25: 0 | E25: 0 | F25: 0 | G25: 0 | H25: 7,5% Bruttogehalt | I25: 7.1434755 | J25: 7,5% Bruttogehalt | K25: 7,5% Bruttogehalt | L25: 7,5% Bruttogehalt | M25: nv
A26: 1208089 | B26: 0 | C26: 0 | D26: 0 | E26: 7,5% Bruttogehalt | F26: 0 | G26: 7,5% Bruttogehalt | H26: 7,5% Bruttogehalt | I26: 7,5% Bruttogehalt | J26: 7,5% Bruttogehalt | K26: 7,5% Bruttogehalt | L26: 7,5% Bruttogehalt | M26: nv
A27: 1208100 | B27: 7,5% Bruttogehalt | C27: 7,5% Bruttogehalt | D27: 414.73465 | E27: 7,5% Bruttogehalt | F27: 7,5% Bruttogehalt | G27: 7,5% Bruttogehalt | H27: 7,5% Bruttogehalt | I27: 7,5% Bruttogehalt | J27: 554.12671 | K27: 800.65466 | L27: 233.66572 | M27: nv
A28: 1208105 | B28: 7,5% Bruttogehalt | C28: 0 | D28: 0 | E28: 0 | F28: 7,5% Bruttogehalt | G28: 7,5% Bruttogehalt | H28: 7,5% Bruttogehalt | I28: 347.50684 | J28: 7,5% Bruttogehalt | K28: 255.5675 | L28: 7,5% Bruttogehalt | M28: nv
A29: 1208152 | B29: 0 | C29: 0 | D29: 0 | E29: 0 | F29: 0 | G29: 0 | H29: 0 | I29: 0 | J29: 0 | K29: 0 | L29: 0 | M29: nv
A30: District
A31: 1208061 | B31: 11.686856 | C31: 7,5% Bruttogehalt | D31: 7,5% Bruttogehalt | E31: 7,5% Bruttogehalt | F31: 7,5% Bruttogehalt | G31: 7,5% Bruttogehalt | H31: 7,5% Bruttogehalt | I31: 7,5% Bruttogehalt | J31: 7,5% Bruttogehalt | K31: 7,5% Bruttogehalt | L31: 7,5% Bruttogehalt | M31: nv
A32: 1208096 | B32: 0 | C32: 7,5% Bruttogehalt | D32: 0 | E32: 107.27957 | F32: 234.88965 | G32: 230.16014 | H32: 7,5% Bruttogehalt | I32: 7,5% Bruttogehalt | J32: 7,5% Bruttogehalt | K32: 7,5% Bruttogehalt | L32: 7,5% Bruttogehalt | M32: nv
A33: 1208107 | B33: 0 | C33: 7,5% Bruttogehalt | D33: 0 | E33: 0 | F33: 100.99794 | G33: 0 | H33: 214.6275 | I33: 149.15144 | J33: 165.31774 | K33: 1.440207 | L33: 0 | M33: nv
A34: 1208111 | B34: 0 | C34: 0 | D34: 0 | E34: 0 | F34: 7,5% Bruttogehalt | G34: 7,5% Bruttogehalt | H34: 7,5% Bruttogehalt | I34: 476.91151 | J34: 287.26889 | K34: 236.93455 | L34: 0 | M34: nv
A35: 1208117 | B35: 0 | C35: 7,5% Bruttogehalt | D35: 0 | E35: 0 | F35: 0 | G35: 0 | H35: 0 | I35: 0 | J35: 0 | K35: n/a | L35: n/a | M35: n/a
A36: 1208034 | B36: 7,5% Bruttogehalt | C36: 0 | D36: 0 | E36: n/a | F36: n/a | G36: n/a | H36: n/a | I36: n/a | J36: n/a | K36: n/a | L36: n/a | M36: n/a
A37: 1208058 | B37: 7,5% Bruttogehalt | C37: 7,5% Bruttogehalt | D37: 44.765059 | E37: n/a | F37: n/a | G37: n/a | H37: n/a | I37: n/a | J37: n/a | K37: n/a | L37: n/a | M37: n/a
A38: 1208059 | B38: 0 | C38: 0 | D38: 0 | E38: n/a | F38: n/a | G38: n/a | H38: n/a | I38: n/a | J38: n/a | K38: n/a | L38: n/a | M38: n/a
A39: 1208063 | B39: 0 | C39: 0 | D39: 0 | E39: n/a | F39: n/a | G39: n/a | H39: n/a | I39: n/a | J39: n/a | K39: n/a | L39: n/a | M39: n/a
A40: 1208086 | B40: 7,5% Bruttogehalt | C40: 0 | D40: 0 | E40: n/a | F40: n/a | G40: n/a | H40: n/a | I40: n/a | J40: n/a | K40: n/a | L40: n/a | M40: n/a
...
