Workbook

Sheet Janvier
J1: Feuille de présence mensuelle
B2: CT Construction
B4: 32 avenue Pasteur | G4: Période : | I4: 01/01/2018 au 31/01/2018
B5: BP 32
B6: 78580 Maule | G6: Employé :
B9: Jour | C9: Chantier | D9: Arrivée | E9: Départ | F9: Heures normales | G9: Heures supplémentaires | H9: Maladie | I9: Vacances | J9: Sans solde
B10: 43101 | F10: =MIN(7,(E10-D10)*24) -> 0 | G10: =MAX(0,(E10-D10)*24-8) -> 0
B11: 43102 | D11: 0.375 | E11: 0.70833333 | F11: =MIN(7,(E11-D11)*24) -> 7 | G11: =MAX(0,(E11-D11)*24-8) -> 0
B12: 43103 | D12: 0.375 | E12: 0.70833333 | F12: =MIN(7,(E12-D12)*24) -> 7 | G12: =MAX(0,(E12-D12)*24-8) -> 0
B13: 43104 | D13: 0.375 | E13: 0.70833333 | F13: =MIN(7,(E13-D13)*24) -> 7 | G13: =MAX(0,(E13-D13)*24-8) -> 0
B14: 43105 | D14: 0.375 | E14: 0.70833333 | F14: =MIN(7,(E14-D14)*24) -> 7 | G14: =MAX(0,(E14-D14)*24-8) -> 0
B15: 43106 | F15: =MIN(7,(E15-D15)*24) -> 0 | G15: =MAX(0,(E15-D15)*24-8)+F15 -> 0
B16: 43107
B17: 43108 | D17: 0.375 | E17: 0.70833333 | F17: =MIN(7,(E17-D17)*24) -> 7 | G17: =MAX(0,(E17-D17)*24-8) -> 0
B18: 43109 | D18: 0.375 | E18: 0.70833333 | F18: =MIN(7,(E18-D18)*24) -> 7 | G18: =MAX(0,(E18-D18)*24-8) -> 0
B19: 43110 | D19: 0.375 | E19: 0.70833333 | F19: =MIN(7,(E19-D19)*24) -> 7 | G19: =MAX(0,(E19-D19)*24-8) -> 0
B20: 43111 | D20: 0.375 | E20: 0.70833333 | F20: =MIN(7,(E20-D20)*24) -> 7 | G20: =MAX(0,(E20-D20)*24-8) -> 0
B21: 43112 | D21: 0.375 | E21: 0.70833333 | F21: =MIN(7,(E21-D21)*24) -> 7 | G21: =MAX(0,(E21-D21)*24-8) -> 0
B22: 43113 | F22: =MIN(7,(E22-D22)*24) -> 0 | G22: =MAX(0,(E22-D22)*24-8)+F22 -> 0
B23: 43114
B24: 43115 | D24: 0.375 | E24: 0.70833333 | F24: =MIN(7,(E24-D24)*24) -> 7 | G24: =MAX(0,(E24-D24)*24-8) -> 0
B25: 43116 | D25: 0.375 | E25: 0.70833333 | F25: =MIN(7,(E25-D25)*24) -> 7 | G25: =MAX(0,(E25-D25)*24-8) -> 0
B26: 43117 | D26: 0.375 | E26: 0.70833333 | F26: =MIN(7,(E26-D26)*24) -> 7 | G26: =MAX(0,(E26-D26)*24-8) -> 0
B27: 43118 | D27: 0.375 | E27: 0.70833333 | F27: =MIN(7,(E27-D27)*24) -> 7 | G27: =MAX(0,(E27-D27)*24-8) -> 0
B28: 43119 | D28: 0.375 | E28: 0.70833333 | F28: =MIN(7,(E28-D28)*24) -> 7 | G28: =MAX(0,(E28-D28)*24-8) -> 0
B29: 43120 | F29: =MIN(7,(E29-D29)*24) -> 0 | G29: =MAX(0,(E29-D29)*24-8)+F29 -> 0
B30: 43121
B31: 43122 | D31: 0.375 | E31: 0.70833333 | F31: =MIN(7,(E31-D31)*24) -> 7 | G31: =MAX(0,(E31-D31)*24-8) -> 0
B32: 43123 | D32: 0.375 | E32: 0.70833333 | F32: =MIN(7,(E32-D32)*24) -> 7 | G32: =MAX(0,(E32-D32)*24-8) -> 0
B33: 43124 | D33: 0.375 | E33: 0.70833333 | F33: =MIN(7,(E33-D33)*24) -> 7 | G33: =MAX(0,(E33-D33)*24-8) -> 0
B34: 43125 | D34: 0.375 | E34: 0.70833333 | F34: =MIN(7,(E34-D34)*24) -> 7 | G34: =MAX(0,(E34-D34)*24-8) -> 0
B35: 43126 | D35: 0.375 | E35: 0.70833333 | F35: =MIN(7,(E35-D35)*24) -> 7 | G35: =MAX(0,(E35-D35)*24-8) -> 0
B36: 43127 | F36: =MIN(7,(E36-D36)*24) -> 0 | G36: =MAX(0,(E36-D36)*24-8)+F36 -> 0
B37: 43128
B38: 43129 | D38: 0.375 | E38: 0.70833333 | F38: =MIN(7,(E38-D38)*24) -> 7 | G38: =MAX(0,(E38-D38)*24-8) -> 0
B39: 43130 | D39: 0.375 | E39: 0.70833333 | F39: =MIN(7,(E39-D39)*24) -> 7 | G39: =MAX(0,(E39-D39)*24-8) -> 0
B40: 43131 | D40: 0.375 | E40: 0.70833333 | F40: =MIN(7,(E40-D40)*24) -> 7 | G40: =MAX(0,(E40-D40)*24-8) -> 0
E41: Heures totales | F41: =SUM(F10:F40)-F36-F29-F22-F15 -> 154 | G41: =SUM(G10:G36) -> 0 | H41: =SUM(H10:H40) -> 0 | I41: =SUM(I10:I40) -> 0 | J41: =SUM(J10:J40) -> 0
E43: Heures normales | F43: Heures supplémentaires à 25% | G43: Heures supplémentaires à 50% | H43: Maladie | I43: Vacances | J43: Congés sans solde
E44: 151.67 | F44: =G41-G44 -> 0 | G44: =Calculs!G5 -> 0 | H44: =H41 -> 0 | I44: =I41 -> 0 | J44: =J41 -> 0

Sheet Février
K1: Feuille de présence mensuelle
B2: CT Construction
B4: 32 avenue Pasteur | H4: Période : | J4: 01/02/2018 au 28/02/2018
B5: BP 32
B6: 78580 Maule | H6: Employé :
B9: Jour | C9: Arrivée | D9: Départ | E9: Arrivée | F9: Départ | G9: Heures normales | H9: Heures supplémentaires | I9: Maladie | J9: Vacances | K9: Sans solde
B10: 43132 | G10: =IF((((D10-C10)+(F10-E10))*24)>7,7,((D10-C10)+(F10-E10))*24) -> 0 | H10: =IF(((D10-C10)+(F10-E10))*24>7,((D10-C10)+(F10-E10))*24-7,0) -> 0
B11: 43133 | G11: =IF((((D11-C11)+(F11-E11))*24)>7,7,((D11-C11)+(F11-E11))*24) -> 0 | H11: =IF(((D11-C11)+(F11-E11))*24>7,((D11-C11)+(F11-E11))*24-7,0) -> 0
B12: 43134 | G12: =IF((((D12-C12)+(F12-E12))*24)>7,7,((D12-C12)+(F12-E12))*24) -> 0 | H12: =IF(((D12-C12)+(F12-E12))*24>7,((D12-C12)+(F12-E12))*24-7,0)+G12 -> 0
B13: 43135
B14: 43136 | G14: =IF((((D14-C14)+(F14-E14))*24)>7,7,((D14-C14)+(F14-E14))*24) -> 0 | H14: =IF(((D14-C14)+(F14-E14))*24>7,((D14-C14)+(F14-E14))*24-7,0) -> 0
B15: 43137 | G15: =IF((((D15-C15)+(F15-E15))*24)>7,7,((D15-C15)+(F15-E15))*24) -> 0 | H15: =IF(((D15-C15)+(F15-E15))*24>7,((D15-C15)+(F15-E15))*24-7,0) -> 0
B16: 43138 | G16: =IF((((D16-C16)+(F16-E16))*24)>7,7,((D16-C16)+(F16-E16))*24) -> 0 | H16: =IF(((D16-C16)+(F16-E16))*24>7,((D16-C16)+(F16-E16))*24-7,0) -> 0
B17: 43139 | G17: =IF((((D17-C17)+(F17-E17))*24)>7,7,((D17-C17)+(F17-E17))*24) -> 0 | H17: =IF(((D17-C17)+(F17-E17))*24>7,((D17-C17)+(F17-E17))*24-7,0) -> 0
B18: 43140 | G18: =IF((((D18-C18)+(F18-E18))*24)>7,7,((D18-C18)+(F18-E18))*24) -> 0 | H18: =IF(((D18-C18)+(F18-E18))*24>7,((D18-C18)+(F18-E18))*24-7,0) -> 0
B19: 43141 | G19: =IF((((D19-C19)+(F19-E19))*24)>7,7,((D19-C19)+(F19-E19))*24) -> 0 | H19: =IF(((D19-C19)+(F19-E19))*24>7,((D19-C19)+(F19-E19))*24-7,0)+G19 -> 0
B20: 43142
B21: 43143 | G21: =IF((((D21-C21)+(F21-E21))*24)>7,7,((D21-C21)+(F21-E21))*24) -> 0 | H21: =IF(((D21-C21)+(F21-E21))*24>7,((D21-C21)+(F21-E21))*24-7,0) -> 0
B22: 43144 | G22: =IF((((D22-C22)+(F22-E22))*24)>7,7,((D22-C22)+(F22-E22))*24) -> 0 | H22: =IF(((D22-C22)+(F22-E22))*24>7,((D22-C22)+(F22-E22))*24-7,0) -> 0
B23: 43145 | G23: =IF((((D23-C23)+(F23-E23))*24)>7,7,((D23-C23)+(F23-E23))*24) -> 0 | H23: =IF(((D23-C23)+(F23-E23))*24>7,((D23-C23)+(F23-E23))*24-7,0) -> 0
B24: 43146 | G24: =IF((((D24-C24)+(F24-E24))*24)>7,7,((D24-C24)+(F24-E24))*24) -> 0 | H24: =IF(((D24-C24)+(F24-E24))*24>7,((D24-C24)+(F24-E24))*24-7,0) -> 0
B25: 43147 | G25: =IF((((D25-C25)+(F25-E25))*24)>7,7,((D25-C25)+(F25-E25))*24) -> 0 | H25: =IF(((D25-C25)+(F25-E25))*24>7,((D25-C25)+(F25-E25))*24-7,0) -> 0
B26: 43148 | G26: =IF((((D26-C26)+(F26-E26))*24)>7,7,((D26-C26)+(F26-E26))*24) -> 0 | H26: =IF(((D26-C26)+(F26-E26))*24>7,((D26-C26)+(F26-E26))*24-7,0)+G26 -> 0
B27: 43149
B28: 43150 | G28: =IF((((D28-C28)+(F28-E28))*24)>7,7,((D28-C28)+(F28-E28))*24) -> 0 | H28: =IF(((D28-C28)+(F28-E28))*24>7,((D28-C28)+(F28-E28))*24-7,0) -> 0
B29: 43151 | G29: =IF((((D29-C29)+(F29-E29))*24)>7,7,((D29-C29)+(F29-E29))*24) -> 0 | H29: =IF(((D29-C29)+(F29-E29))*24>7,((D29-C29)+(F29-E29))*24-7,0) -> 0
B30: 43152 | G30: =IF((((D30-C30)+(F30-E30))*24)>7,7,((D30-C30)+(F30-E30))*24) -> 0 | H30: =IF(((D30-C30)+(F30-E30))*24>7,((D30-C30)+(F30-E30))*24-7,0) -> 0
B31: 43153 | G31: =IF((((D31-C31)+(F31-E31))*24)>7,7,((D31-C31)+(F31-E31))*24) -> 0 | H31: =IF(((D31-C31)+(F31-E31))*24>7,((D31-C31)+(F31-E31))*24-7,0) -> 0
B32: 43154 | G32: =IF((((D32-C32)+(F32-E32))*24)>7,7,((D32-C32)+(F32-E32))*24) -> 0 | H32: =IF(((D32-C32)+(F32-E32))*24>7,((D32-C32)+(F32-E32))*24-7,0) -> 0
B33: 43155 | G33: =IF((((D33-C33)+(F33-E33))*24)>7,7,((D33-C33)+(F33-E33))*24) -> 0 | H33: =IF(((D33-C33)+(F33-E33))*24>7,((D33-C33)+(F33-E33))*24-7,0)+G33 -> 0
B34: 43156
B35: 43157 | G35: =IF((((D35-C35)+(F35-E35))*24)>7,7,((D35-C35)+(F35-E35))*24) -> 0 | H35: =IF(((D35-C35)+(F35-E35))*24>7,((D35-C35)+(F35-E35))*24-7,0) -> 0
B36: 43158 | G36: =IF((((D36-C36)+(F36-E36))*24)>7,7,((D36-C36)+(F36-E36))*24) -> 0 | H36: =IF(((D36-C36)+(F36-E36))*24>7,((D36-C36)+(F36-E36))*24-7,0) -> 0
B37: 43159 | G37: =IF((((D37-C37)+(F37-E37))*24)>7,7,((D37-C37)+(F37-E37))*24) -> 0 | H37: =IF(((D37-C37)+(F37-E37))*24>7,((D37-C37)+(F37-E37))*24-7,0) -> 0
F38: Heures totales | G38: =SUM(G10:G37)-G33-G26-G19-G12 -> 0 | H38: =SUM(H10:H33)+SUM(Janvier!G38:G40) -> 0 | I38: =SUM(I10:I37) -> 0 | J38: =SUM(J10:J37) -> 0 | K38: =SUM(K10:K37) -> 0
F40: Heures normales | G40: Heures supplémentaires à 25% | H40: Heures supplémentaires à 50% | I40: Maladie | J40: Vacances | K40: Congés sans solde
E41: Heures | F41: 151.67 | G41: =H38-H41 -> 0 | H41: =Calculs!G9 -> 0 | I41: =I38 -> 0 | J41: =J38 -> 0 | K41: =K38 -> 0

Sheet Mars
K1: Feuille de présence mensuelle
B2: CT Construction
B4: 32 avenue Pasteur | H4: Période : | J4: 01/03/2018 au 31/03/2018
B5: BP 32
B6: 78580 Maule | H6: Employé :
B9: Jour | C9: Arrivée | D9: Départ | E9: Arrivée | F9: Départ | G9: Heures normales | H9: Heures supplémentaires | I9: Maladie | J9: Vacances | K9: Sans solde
B10: 43160 | G10: =IF((((D10-C10)+(F10-E10))*24)>7,7,((D10-C10)+(F10-E10))*24) -> 0 | H10: =IF(((D10-C10)+(F10-E10))*24>7,((D10-C10)+(F10-E10))*24-7,0) -> 0
B11: 43161 | G11: =IF((((D11-C11)+(F11-E11))*24)>7,7,((D11-C11)+(F11-E11))*24) -> 0 | H11: =IF(((D11-C11)+(F11-E11))*24>7,((D11-C11)+(F11-E11))*24-7,0) -> 0
B12: 43162 | G12: =IF((((D12-C12)+(F12-E12))*24)>7,7,((D12-C12)+(F12-E12))*24) -> 0 | H12: =IF(((D12-C12)+(F12-E12))*24>7,((D12-C12)+(F12-E12))*24-7,0)+G12 -> 0
B13: 43163
B14: 43164 | G14: =IF((((D14-C14)+(F14-E14))*24)>7,7,((D14-C14)+(F14-E14))*24) -> 0 | H14: =IF(((D14-C14)+(F14-E14))*24>7,((D14-C14)+(F14-E14))*24-7,0) -> 0
B15: 43165 | G15: =IF((((D15-C15)+(F15-E15))*24)>7,7,((D15-C15)+(F15-E15))*24) -> 0 | H15: =IF(((D15-C15)+(F15-E15))*24>7,((D15-C15)+(F15-E15))*24-7,0) -> 0
B16: 43166 | G16: =IF((((D16-C16)+(F16-E16))*24)>7,7,((D16-C16)+(F16-E16))*24) -> 0 | H16: =IF(((D16-C16)+(F16-E16))*24>7,((D16-C16)+(F16-E16))*24-7,0) -> 0
B17: 43167 | G17: =IF((((D17-C17)+(F17-E17))*24)>7,7,((D17-C17)+(F17-E17))*24) -> 0 | H17: =IF(((D17-C17)+(F17-E17))*24>7,((D17-C17)+(F17-E17))*24-7,0) -> 0
B18: 43168 | G18: =IF((((D18-C18)+(F18-E18))*24)>7,7,((D18-C18)+(F18-E18))*24) -> 0 | H18: =IF(((D18-C18)+(F18-E18))*24>7,((D18-C18)+(F18-E18))*24-7,0) -> 0
B19: 43169 | G19: =IF((((D19-C19)+(F19-E19))*24)>7,7,((D19-C19)+(F19-E19))*24) -> 0 | H19: =IF(((D19-C19)+(F19-E19))*24>7,((D19-C19)+(F19-E19))*24-7,0)+G19 -> 0
B20: 43170
B21: 43171 | G21: =IF((((D21-C21)+(F21-E21))*24)>7,7,((D21-C21)+(F21-E21))*24) -> 0 | H21: =IF(((D21-C21)+(F21-E21))*24>7,((D21-C21)+(F21-E21))*24-7,0) -> 0
B22: 43172 | G22: =IF((((D22-C22)+(F22-E22))*24)>7,7,((D22-C22)+(F22-E22))*24) -> 0 | H22: =IF(((D22-C22)+(F22-E22))*24>7,((D22-C22)+(F22-E22))*24-7,0) -> 0
B23: 43173 | G23: =IF((((D23-C23)+(F23-E23))*24)>7,7,((D23-C23)+(F23-E23))*24) -> 0 | H23: =IF(((D23-C23)+(F23-E23))*24>7,((D23-C23)+(F23-E23))*24-7,0) -> 0
B24: 43174 | G24: =IF((((D24-C24)+(F24-E24))*24)>7,7,((D24-C24)+(F24-E24))*24) -> 0 | H24: =IF(((D24-C24)+(F24-E24))*24>7,((D24-C24)+(F24-E24))*24-7,0) -> 0
B25: 43175 | G25: =IF((((D25-C25)+(F25-E25))*24)>7,7,((D25-C25)+(F25-E25))*24) -> 0 | H25: =IF(((D25-C25)+(F25-E25))*24>7,((D25-C25)+(F25-E25))*24-7,0) -> 0
B26: 43176 | G26: =IF((((D26-C26)+(F26-E26))*24)>7,7,((D26-C26)+(F26-E26))*24) -> 0 | H26: =IF(((D26-C26)+(F26-E26))*24>7,((D26-C26)+(F26-E26))*24-7,0)+G26 -> 0
B27: 43177
B28: 43178 | G28: =IF((((D28-C28)+(F28-E28))*24)>7,7,((D28-C28)+(F28-E28))*24) -> 0 | H28: =IF(((D28-C28)+(F28-E28))*24>7,((D28-C28)+(F28-E28))*24-7,0) -> 0
B29: 43179 | G29: =IF((((D29-C29)+(F29-E29))*24)>7,7,((D29-C29)+(F29-E29))*24) -> 0 | H29: =IF(((D29-C29)+(F29-E29))*24>7,((D29-C29)+(F29-E29))*24-7,0) -> 0
B30: 43180 | G30: =IF((((D30-C30)+(F30-E30))*24)>7,7,((D30-C30)+(F30-E30))*24) -> 0 | H30: =IF(((D30-C30)+(F30-E30))*24>7,((D30-C30)+(F30-E30))*24-7,0) -> 0
B31: 43181 | G31: =IF((((D31-C31)+(F31-E31))*24)>7,7,((D31-C31)+(F31-E31))*24) -> 0 | H31: =IF(((D31-C31)+(F31-E31))*24>7,((D31-C31)+(F31-E31))*24-7,0) -> 0
B32: 43182 | G32: =IF((((D32-C32)+(F32-E32))*24)>7,7,((D32-C32)+(F32-E32))*24) -> 0 | H32: =IF(((D32-C32)+(F32-E32))*24>7,((D32-C32)+(F32-E32))*24-7,0) -> 0
B33: 43183 | G33: =IF((((D33-C33)+(F33-E33))*24)>7,7,((D33-C33)+(F33-E33))*24) -> 0 | H33: =IF(((D33-C33)+(F33-E33))*24>7,((D33-C33)+(F33-E33))*24-7,0)+G33 -> 0
B34: 43184
B35: 43185 | G35: =IF((((D35-C35)+(F35-E35))*24)>7,7,((D35-C35)+(F35-E35))*24) -> 0 | H35: =IF(((D35-C35)+(F35-E35))*24>7,((D35-C35)+(F35-E35))*24-7,0) -> 0
B36: 43186 | G36: =IF((((D36-C36)+(F36-E36))*24)>7,7,((D36-C36)+(F36-E36))*24) -> 0 | H36: =IF(((D36-C36)+(F36-E36))*24>7,((D36-C36)+(F36-E36))*24-7,0) -> 0
B37: 43187 | G37: =IF((((D37-C37)+(F37-E37))*24)>7,7,((D37-C37)+(F37-E37))*24) -> 0 | H37: =IF(((D37-C37)+(F37-E37))*24>7,((D37-C37)+(F37-E37))*24-7,0) -> 0
B38: 43188 | G38: =IF((((D38-C38)+(F38-E38))*24)>7,7,((D38-C38)+(F38-E38))*24) -> 0 | H38: =IF(((D38-C38)+(F38-E38))*24>7,((D38-C38)+(F38-E38))*24-7,0) -> 0
B39: 43189 | G39: =IF((((D39-C39)+(F39-E39))*24)>7,7,((D39-C39)+(F39-E39))*24) -> 0 | H39: =IF(((D39-C39)+(F39-E39))*24>7,((D39-C39)+(F39-E39))*24-7,0) -> 0
B40: 43190 | G40: =IF((((D40-C40)+(F40-E40))*24)>7,7,((D40-C40)+(F40-E40))*24) -> 0 | H40: =IF(((D40-C40)+(F40-E40))*24>7,((D40-C40)+(F40-E40))*24-7,0)+G40 -> 0
F41: Heures totales | G41: =SUM(G10:G40)-G40-G33-G26-G19-G12 -> 0 | H41: =SUM(H10:H40)+SUM(Février!H35:H37) -> 0 | I41: =SUM(I10:I40) -> 0 | J41: =SUM(J10:J40) -> 0 | K41: =SUM(K10:K40) -> 0
F43: Heures normales | G43: Heures supplémentaires à 25% | H43: Heures supplémentaires à 50% | I43: Maladie | J43: Vacances | K43: Congés sans solde
E44: Heures | F44: 151.67 | G44: =H41-H44 -> 0 | H44: =Calculs!G14 -> 0 | I44: =I41 -> 0 | J44: =J41 -> 0 | K44: =K41 -> 0

Sheet Avril
K1: Feuille de présence mensuelle
B2: CT Construction
B4: 32 avenue Pasteur | H4: Période : | J4: 01/04/2018 au 30/04/2018
B5: BP 32
B6: 78580 Maule | H6: Employé :
B9: Jour | C9: Arrivée | D9: Départ | E9: Arrivée | F9: Départ | G9: Heures normales | H9: Heures supplémentaires | I9: Maladie | J9: Vacances | K9: Sans solde
B10: 43191
B11: 43192 | G11: =IF((((D11-C11)+(F11-E11))*24)>7,7,((D11-C11)+(F11-E11))*24) -> 0 | H11: =IF(((D11-C11)+(F11-E11))*24>7,((D11-C11)+(F11-E11))*24-7,0) -> 0
B12: 43193 | G12: =IF((((D12-C12)+(F12-E12))*24)>7,7,((D12-C12)+(F12-E12))*24) -> 0 | H12: =IF(((D12-C12)+(F12-E12))*24>7,((D12-C12)+(F12-E12))*24-7,0) -> 0
B13: 43194 | G13: =IF((((D13-C13)+(F13-E13))*24)>7,7,((D13-C13)+(F13-E13))*24) -> 0 | H13: =IF(((D13-C13)+(F13-E13))*24>7,((D13-C13)+(F13-E13))*24-7,0) -> 0
B14: 43195 | G14: =IF((((D14-C14)+(F14-E14))*24)>7,7,((D14-C14)+(F14-E14))*24) -> 0 | H14: =IF(((D14-C14)+(F14-E14))*24>7,((D14-C14)+(F14-E14))*24-7,0) -> 0
B15: 43196 | G15: =IF((((D15-C15)+(F15-E15))*24)>7,7,((D15-C15)+(F15-E15))*24) -> 0 | H15: =IF(((D15-C15)+(F15-E15))*24>7,((D15-C15)+(F15-E15))*24-7,0) -> 0
B16: 43197 | G16: =IF((((D16-C16)+(F16-E16))*24)>7,7,((D16-C16)+(F16-E16))*24) -> 0 | H16: =IF(((D16-C16)+(F16-E16))*24>7,((D16-C16)+(F16-E16))*24-7,0)+G16 -> 0
B17: 43198
B18: 43199 | G18: =IF((((D18-C18)+(F18-E18))*24)>7,7,((D18-C18)+(F18-E18))*24) -> 0 | H18: =IF(((D18-C18)+(F18-E18))*24>7,((D18-C18)+(F18-E18))*24-7,0) -> 0
B19: 43200 | G19: =IF((((D19-C19)+(F19-E19))*24)>7,7,((D19-C19)+(F19-E19))*24) -> 0 | H19: =IF(((D19-C19)+(F19-E19))*24>7,((D19-C19)+(F19-E19))*24-7,0) -> 0
B20: 43201 | G20: =IF((((D20-C20)+(F20-E20))*24)>7,7,((D20-C20)+(F20-E20))*24) -> 0 | H20: =IF(((D20-C20)+(F20-E20))*24>7,((D20-C20)+(F20-E20))*24-7,0) -> 0
B21: 43202 | G21: =IF((((D21-C21)+(F21-E21))*24)>7,7,((D21-C21)+(F21-E21))*24) -> 0 | H21: =IF(((D21-C21)+(F21-E21))*24>7,((D21-C21)+(F21-E21))*24-7,0) -> 0
B22: 43203 | G22: =IF((((D22-C22)+(F22-E22))*24)>7,7,((D22-C22)+(F22-E22))*24) -> 0 | H22: =IF(((D22-C22)+(F22-E22))*24>7,((D22-C22)+(F22-E22))*24-7,0) -> 0
B23: 43204 | G23: =IF((((D23-C23)+(F23-E23))*24)>7,7,((D23-C23)+(F23-E23))*24) -> 0 | H23: =IF(((D23-C23)+(F23-E23))*24>7,((D23-C23)+(F23-E23))*24-7,0)+G23 -> 0
B24: 43205
B25: 43206 | G25: =IF((((D25-C25)+(F25-E25))*24)>7,7,((D25-C25)+(F25-E25))*24) -> 0 | H25: =IF(((D25-C25)+(F25-E25))*24>7,((D25-C25)+(F25-E25))*24-7,0) -> 0
B26: 43207 | G26: =IF((((D26-C26)+(F26-E26))*24)>7,7,((D26-C26)+(F26-E26))*24) -> 0 | H26: =IF(((D26-C26)+(F26-E26))*24>7,((D26-C26)+(F26-E26))*24-7,0) -> 0
B27: 43208 | G27: =IF((((D27-C27)+(F27-E27))*24)>7,7,((D27-C27)+(F27-E27))*24) -> 0 | H27: =IF(((D27-C27)+(F27-E27))*24>7,((D27-C27)+(F27-E27))*24-7,0) -> 0
B28: 43209 | G28: =IF((((D28-C28)+(F28-E28))*24)>7,7,((D28-C28)+(F28-E28))*24) -> 0 | H28: =IF(((D28-C28)+(F28-E28))*24>7,((D28-C28)+(F28-E28))*24-7,0) -> 0
B29: 43210 | G29: =IF((((D29-C29)+(F29-E29))*24)>7,7,((D29-C29)+(F29-E29))*24) -> 0 | H29: =IF(((D29-C29)+(F29-E29))*24>7,((D29-C29)+(F29-E29))*24-7,0) -> 0
B30: 43211 | G30: =IF((((D30-C30)+(F30-E30))*24)>7,7,((D30-C30)+(F30-E30))*24) -> 0 | H30: =IF(((D30-C30)+(F30-E30))*24>7,((D30-C30)+(F30-E30))*24-7,0)+G30 -> 0
B31: 43212
B32: 43213 | G32: =IF((((D32-C32)+(F32-E32))*24)>7,7,((D32-C32)+(F32-E32))*24) -> 0 | H32: =IF(((D32-C32)+(F32-E32))*24>7,((D32-C32)+(F32-E32))*24-7,0) -> 0
B33: 43214 | G33: =IF((((D33-C33)+(F33-E33))*24)>7,7,((D33-C33)+(F33-E33))*24) -> 0 | H33: =IF(((D33-C33)+(F33-E33))*24>7,((D33-C33)+(F33-E33))*24-7,0) -> 0
B34: 43215 | G34: =IF((((D34-C34)+(F34-E34))*24)>7,7,((D34-C34)+(F34-E34))*24) -> 0 | H34: =IF(((D34-C34)+(F34-E34))*24>7,((D34-C34)+(F34-E34))*24-7,0) -> 0
B35: 43216 | G35: =IF((((D35-C35)+(F35-E35))*24)>7,7,((D35-C35)+(F35-E35))*24) -> 0 | H35: =IF(((D35-C35)+(F35-E35))*24>7,((D35-C35)+(F35-E35))*24-7,0) -> 0
B36: 43217 | G36: =IF((((D36-C36)+(F36-E36))*24)>7,7,((D36-C36)+(F36-E36))*24) -> 0 | H36: =IF(((D36-C36)+(F36-E36))*24>7,((D36-C36)+(F36-E36))*24-7,0) -> 0
B37: 43218 | G37: =IF((((D37-C37)+(F37-E37))*24)>7,7,((D37-C37)+(F37-E37))*24) -> 0 | H37: =IF(((D37-C37)+(F37-E37))*24>7,((D37-C37)+(F37-E37))*24-7,0)+G37 -> 0
B38: 43219
B39: 43220 | G39: =IF((((D39-C39)+(F39-E39))*24)>7,7,((D39-C39)+(F39-E39))*24) -> 0 | H39: =IF(((D39-C39)+(F39-E39))*24>7,((D39-C39)+(F39-E39))*24-7,0) -> 0
F40: Heures totales | G40: =SUM(G10:G39)-G37-G30-G23-G16 -> 0 | H40: =SUM(H10:H37) -> 0 | I40: =SUM(I10:I39) -> 0 | J40: =SUM(J10:J39) -> 0 | K40: =SUM(K10:K39) -> 0
F42: Heures normales | G42: Heures supplémentaires à 25% | H42: Heures supplémentaires à 50% | I42: Maladie | J42: Vacances | K42: Congés sans solde
E43: Heures | F43: 151.67 | G43: =H40-H43 -> 0 | H43: =Calculs!G18 -> 0 | I43: =I40 -> 0 | J43: =J40 -> 0 | K43: =K40 -> 0

Sheet Mai
K1: Feuille de présence mensuelle
B2: CT Construction
B4: 32 avenue Pasteur | H4: Période : | J4: 01/05/2018 au 31/05/2018
B5: BP 32
B6: 78580 Maule | H6: Employé :
B9: Jour | C9: Arrivée | D9: Départ | E9: Arrivée | F9: Départ | G9: Heures normales | H9: Heures supplémentaires | I9: Maladie | J9: Vacances | K9: Sans solde
B10: 43221 | G10: =IF((((D10-C10)+(F10-E10))*24)>7,7,((D10-C10)+(F10-E10))*24) -> 0 | H10: =IF(((D10-C10)+(F10-E10))*24>7,((D10-C10)+(F10-E10))*24-7,0) -> 0
B11: 43222 | G11: =IF((((D11-C11)+(F11-E11))*24)>7,7,((D11-C11)+(F11-E11))*24) -> 0 | H11: =IF(((D11-C11)+(F11-E11))*24>7,((D11-C11)+(F11-E11))*24-7,0) -> 0
B12: 43223 | G12: =IF((((D12-C12)+(F12-E12))*24)>7,7,((D12-C12)+(F12-E12))*24) -> 0 | H12: =IF(((D12-C12)+(F12-E12))*24>7,((D12-C12)+(F12-E12))*24-7,0) -> 0
B13: 43224 | G13: =IF((((D13-C13)+(F13-E13))*24)>7,7,((D13-C13)+(F13-E13))*24) -> 0 | H13: =IF(((D13-C13)+(F13-E13))*24>7,((D13-C13)+(F13-E13))*24-7,0) -> 0
B14: 43225 | G14: =IF((((D14-C14)+(F14-E14))*24)>7,7,((D14-C14)+(F14-E14))*24) -> 0 | H14: =IF(((D14-C14)+(F14-E14))*24>7,((D14-C14)+(F14-E14))*24-7,0)+G14 -> 0
B15: 43226
B16: 43227 | G16: =IF((((D16-C16)+(F16-E16))*24)>7,7,((D16-C16)+(F16-E16))*24) -> 0 | H16: =IF(((D16-C16)+(F16-E16))*24>7,((D16-C16)+(F16-E16))*24-7,0) -> 0
B17: 43228 | G17: =IF((((D17-C17)+(F17-E17))*24)>7,7,((D17-C17)+(F17-E17))*24) -> 0 | H17: =IF(((D17-C17)+(F17-E17))*24>7,((D17-C17)+(F17-E17))*24-7,0) -> 0
B18: 43229 | G18: =IF((((D18-C18)+(F18-E18))*24)>7,7,((D18-C18)+(F18-E18))*24) -> 0 | H18: =IF(((D18-C18)+(F18-E18))*24>7,((D18-C18)+(F18-E18))*24-7,0) -> 0
B19: 43230 | G19: =IF((((D19-C19)+(F19-E19))*24)>7,7,((D19-C19)+(F19-E19))*24) -> 0 | H19: =IF(((D19-C19)+(F19-E19))*24>7,((D19-C19)+(F19-E19))*24-7,0) -> 0
B20: 43231 | G20: =IF((((D20-C20)+(F20-E20))*24)>7,7,((D20-C20)+(F20-E20))*24) -> 0 | H20: =IF(((D20-C20)+(F20-E20))*24>7,((D20-C20)+(F20-E20))*24-7,0) -> 0
B21: 43232 | G21: =IF((((D21-C21)+(F21-E21))*24)>7,7,((D21-C21)+(F21-E21))*24) -> 0 | H21: =IF(((D21-C21)+(F21-E21))*24>7,((D21-C21)+(F21-E21))*24-7,0)+G21 -> 0
B22: 43233
B23: 43234 | G23: =IF((((D23-C23)+(F23-E23))*24)>7,7,((D23-C23)+(F23-E23))*24) -> 0 | H23: =IF(((D23-C23)+(F23-E23))*24>7,((D23-C23)+(F23-E23))*24-7,0) -> 0
B24: 43235 | G24: =IF((((D24-C24)+(F24-E24))*24)>7,7,((D24-C24)+(F24-E24))*24) -> 0 | H24: =IF(((D24-C24)+(F24-E24))*24>7,((D24-C24)+(F24-E24))*24-7,0) -> 0
B25: 43236 | G25: =IF((((D25-C25)+(F25-E25))*24)>7,7,((D25-C25)+(F25-E25))*24) -> 0 | H25: =IF(((D25-C25)+(F25-E25))*24>7,((D25-C25)+(F25-E25))*24-7,0) -> 0
B26: 43237 | G26: =IF((((D26-C26)+(F26-E26))*24)>7,7,((D26-C26)+(F26-E26))*24) -> 0 | H26: =IF(((D26-C26)+(F26-E26))*24>7,((D26-C26)+(F26-E26))*24-7,0) -> 0
B27: 43238 | G27: =IF((((D27-C27)+(F27-E27))*24)>7,7,((D27-C27)+(F27-E27))*24) -> 0 | H27: =IF(((D27-C27)+(F27-E27))*24>7,((D27-C27)+(F27-E27))*24-7,0) -> 0
B28: 43239 | G28: =IF((((D28-C28)+(F28-E28))*24)>7,7,((D28-C28)+(F28-E28))*24) -> 0 | H28: =IF(((D28-C28)+(F28-E28))*24>7,((D28-C28)+(F28-E28))*24-7,0)+G28 -> 0
B29: 43240
B30: 43241 | G30: =IF((((D30-C30)+(F30-E30))*24)>7,7,((D30-C30)+(F30-E30))*24) -> 0 | H30: =IF(((D30-C30)+(F30-E30))*24>7,((D30-C30)+(F30-E30))*24-7,0) -> 0
B31: 43242 | G31: =IF((((D31-C31)+(F31-E31))*24)>7,7,((D31-C31)+(F31-E31))*24) -> 0 | H31: =IF(((D31-C31)+(F31-E31))*24>7,((D31-C31)+(F31-E31))*24-7,0) -> 0
B32: 43243 | G32: =IF((((D32-C32)+(F32-E32))*24)>7,7,((D32-C32)+(F32-E32))*24) -> 0 | H32: =IF(((D32-C32)+(F32-E32))*24>7,((D32-C32)+(F32-E32))*24-7,0) -> 0
B33: 43244 | G33: =IF((((D33-C33)+(F33-E33))*24)>7,7,((D33-C33)+(F33-E33))*24) -> 0 | H33: =IF(((D33-C33)+(F33-E33))*24>7,((D33-C33)+(F33-E33))*24-7,0) -> 0
B34: 43245 | G34: =IF((((D34-C34)+(F34-E34))*24)>7,7,((D34-C34)+(F34-E34))*24) -> 0 | H34: =IF(((D34-C34)+(F34-E34))*24>7,((D34-C34)+(F34-E34))*24-7,0) -> 0
B35: 43246 | G35: =IF((((D35-C35)+(F35-E35))*24)>7,7,((D35-C35)+(F35-E35))*24) -> 0 | H35: =IF(((D35-C35)+(F35-E35))*24>7,((D35-C35)+(F35-E35))*24-7,0)+G35 -> 0
B36: 43247
B37: 43248 | G37: =IF((((D37-C37)+(F37-E37))*24)>7,7,((D37-C37)+(F37-E37))*24) -> 0 | H37: =IF(((D37-C37)+(F37-E37))*24>7,((D37-C37)+(F37-E37))*24-7,0) -> 0
B38: 43249 | G38: =IF((((D38-C38)+(F38-E38))*24)>7,7,((D38-C38)+(F38-E38))*24) -> 0 | H38: =IF(((D38-C38)+(F38-E38))*24>7,((D38-C38)+(F38-E38))*24-7,0) -> 0
B39: 43250 | G39: =IF((((D39-C39)+(F39-E39))*24)>7,7,((D39-C39)+(F39-E39))*24) -> 0 | H39: =IF(((D39-C39)+(F39-E39))*24>7,((D39-C39)+(F39-E39))*24-7,0) -> 0
B40: 43251 | G40: =IF((((D40-C40)+(F40-E40))*24)>7,7,((D40-C40)+(F40-E40))*24) -> 0 | H40: =IF(((D40-C40)+(F40-E40))*24>7,((D40-C40)+(F40-E40))*24-7,0) -> 0
F41: Heures totales | G41: =SUM(G10:G40)-G35-G28-G21-G14 -> 0 | H41: =SUM(H10:H35)+SUM(Avril!H39) -> 0 | I41: =SUM(I10:I40) -> 0 | J41: =SUM(J10:J40) -> 0 | K41: =SUM(K10:K40) -> 0
F43: Heures normales | G43: Heures supplémentaires à 25% | H43: Heures supplémentaires à 50% | I43: Maladie | J43: Vacances | K43: Congés sans solde
E44: Heures | F44: 151.67 | G44: =H41-H44 -> 0 | H44: =Calculs!G22 -> 0 | I44: =I41 -> 0 | J44: =J41 -> 0 | K44: =K41 -> 0

Sheet Juin
K1: Feuille de présence mensuelle
B2: CT Construction
B4: 32 avenue Pasteur | H4: Période : | J4: 01/06/2018 au 30/06/2018
B5: BP 32
B6: 78580 Maule | H6: Employé :
B9: Jour | C9: Arrivée | D9: Départ | E9: Arrivée | F9: Départ | G9: Heures normales | H9: Heures supplémentaires | I9: Maladie | J9: Vacances | K9: Sans solde
B10: 43252 | G10: =IF((((D10-C10)+(F10-E10))*24)>7,7,((D10-C10)+(F10-E10))*24) -> 0 | H10: =IF(((D10-C10)+(F10-E10))*24>7,((D10-C10)+(F10-E10))*24-7,0) -> 0
B11: 43253 | G11: =IF((((D11-C11)+(F11-E11))*24)>7,7,((D11-C11)+(F11-E11))*24) -> 0 | H11: =IF(((D11-C11)+(F11-E11))*24>7,((D11-C11)+(F11-E11))*24-7,0)+G11 -> 0
B12: 43254
B13: 43255 | G13: =IF((((D13-C13)+(F13-E13))*24)>7,7,((D13-C13)+(F13-E13))*24) -> 0 | H13: =IF(((D13-C13)+(F13-E13))*24>7,((D13-C13)+(F13-E13))*24-7,0) -> 0
B14: 43256 | G14: =IF((((D14-C14)+(F14-E14))*24)>7,7,((D14-C14)+(F14-E14))*24) -> 0 | H14: =IF(((D14-C14)+(F14-E14))*24>7,((D14-C14)+(F14-E14))*24-7,0) -> 0
B15: 43257 | G15: =IF((((D15-C15)+(F15-E15))*24)>7,7,((D15-C15)+(F15-E15))*24) -> 0 | H15: =IF(((D15-C15)+(F15-E15))*24>7,((D15-C15)+(F15-E15))*24-7,0) -> 0
B16: 43258 | G16: =IF((((D16-C16)+(F16-E16))*24)>7,7,((D16-C16)+(F16-E16))*24) -> 0 | H16: =IF(((D16-C16)+(F16-E16))*24>7,((D16-C16)+(F16-E16))*24-7,0) -> 0
B17: 43259 | G17: =IF((((D17-C17)+(F17-E17))*24)>7,7,((D17-C17)+(F17-E17))*24) -> 0 | H17: =IF(((D17-C17)+(F17-E17))*24>7,((D17-C17)+(F17-E17))*24-7,0) -> 0
B18: 43260 | G18: =IF((((D18-C18)+(F18-E18))*24)>7,7,((D18-C18)+(F18-E18))*24) -> 0 | H18: =IF(((D18-C18)+(F18-E18))*24>7,((D18-C18)+(F18-E18))*24-7,0)+G18 -> 0
B19: 43261
B20: 43262 | G20: =IF((((D20-C20)+(F20-E20))*24)>7,7,((D20-C20)+(F20-E20))*24) -> 0 | H20: =IF(((D20-C20)+(F20-E20))*24>7,((D20-C20)+(F20-E20))*24-7,0) -> 0
B21: 43263 | G21: =IF((((D21-C21)+(F21-E21))*24)>7,7,((D21-C21)+(F21-E21))*24) -> 0 | H21: =IF(((D21-C21)+(F21-E21))*24>7,((D21-C21)+(F21-E21))*24-7,0) -> 0
B22: 43264 | G22: =IF((((D22-C22)+(F22-E22))*24)>7,7,((D22-C22)+(F22-E22))*24) -> 0 | H22: =IF(((D22-C22)+(F22-E22))*24>7,((D22-C22)+(F22-E22))*24-7,0) -> 0
B23: 43265 | G23: =IF((((D23-C23)+(F23-E23))*24)>7,7,((D23-C23)+(F23-E23))*24) -> 0 | H23: =IF(((D23-C23)+(F23-E23))*24>7,((D23-C23)+(F23-E23))*24-7,0) -> 0
B24: 43266 | G24: =IF((((D24-C24)+(F24-E24))*24)>7,7,((D24-C24)+(F24-E24))*24) -> 0 | H24: =IF(((D24-C24)+(F24-E24))*24>7,((D24-C24)+(F24-E24))*24-7,0) -> 0
B25: 43267 | G25: =IF((((D25-C25)+(F25-E25))*24)>7,7,((D25-C25)+(F25-E25))*24) -> 0 | H25: =IF(((D25-C25)+(F25-E25))*24>7,((D25-C25)+(F25-E25))*24-7,0)+G25 -> 0
B26: 43268
B27: 43269 | G27: =IF((((D27-C27)+(F27-E27))*24)>7,7,((D27-C27)+(F27-E27))*24) -> 0 | H27: =IF(((D27-C27)+(F27-E27))*24>7,((D27-C27)+(F27-E27))*24-7,0) -> 0
B28: 43270 | G28: =IF((((D28-C28)+(F28-E28))*24)>7,7,((D28-C28)+(F28-E28))*24) -> 0 | H28: =IF(((D28-C28)+(F28-E28))*24>7,((D28-C28)+(F28-E28))*24-7,0) -> 0
B29: 43271 | G29: =IF((((D29-C29)+(F29-E29))*24)>7,7,((D29-C29)+(F29-E29))*24) -> 0 | H29: =IF(((D29-C29)+(F29-E29))*24>7,((D29-C29)+(F29-E29))*24-7,0) -> 0
B30: 43272 | G30: =IF((((D30-C30)+(F30-E30))*24)>7,7,((D30-C30)+(F30-E30))*24) -> 0 | H30: =IF(((D30-C30)+(F30-E30))*24>7,((D30-C30)+(F30-E30))*24-7,0) -> 0
B31: 43273 | G31: =IF((((D31-C31)+(F31-E31))*24)>7,7,((D31-C31)+(F31-E31))*24) -> 0 | H31: =IF(((D31-C31)+(F31-E31))*24>7,((D31-C31)+(F31-E31))*24-7,0) -> 0
B32: 43274 | G32: =IF((((D32-C32)+(F32-E32))*24)>7,7,((D32-C32)+(F32-E32))*24) -> 0 | H32: =IF(((D32-C32)+(F32-E32))*24>7,((D32-C32)+(F32-E32))*24-7,0)+G32 -> 0
B33: 43275
B34: 43276 | G34: =IF((((D34-C34)+(F34-E34))*24)>7,7,((D34-C34)+(F34-E34))*24) -> 0 | H34: =IF(((D34-C34)+(F34-E34))*24>7,((D34-C34)+(F34-E34))*24-7,0) -> 0
B35: 43277 | G35: =IF((((D35-C35)+(F35-E35))*24)>7,7,((D35-C35)+(F35-E35))*24) -> 0 | H35: =IF(((D35-C35)+(F35-E35))*24>7,((D35-C35)+(F35-E35))*24-7,0) -> 0
B36: 43278 | G36: =IF((((D36-C36)+(F36-E36))*24)>7,7,((D36-C36)+(F36-E36))*24) -> 0 | H36: =IF(((D36-C36)+(F36-E36))*24>7,((D36-C36)+(F36-E36))*24-7,0) -> 0
B37: 43279 | G37: =IF((((D37-C37)+(F37-E37))*24)>7,7,((D37-C37)+(F37-E37))*24) -> 0 | H37: =IF(((D37-C37)+(F37-E37))*24>7,((D37-C37)+(F37-E37))*24-7,0) -> 0
B38: 43280 | G38: =IF((((D38-C38)+(F38-E38))*24)>7,7,((D38-C38)+(F38-E38))*24) -> 0 | H38: =IF(((D38-C38)+(F38-E38))*24>7,((D38-C38)+(F38-E38))*24-7,0) -> 0
B39: 43281 | G39: =IF((((D39-C39)+(F39-E39))*24)>7,7,((D39-C39)+(F39-E39))*24) -> 0 | H39: =IF(((D39-C39)+(F39-E39))*24>7,((D39-C39)+(F39-E39))*24-7,0)+G39 -> 0
F40: Heures totales | G40: =SUM(G10:G39)-G39-G32-G25-G18-G11 -> 0 | H40: =SUM(H10:H39)+SUM(Mai!H37:H40) -> 0 | I40: =SUM(I10:I39) -> 0 | J40: =SUM(J10:J39) -> 0 | K40: =SUM(K10:K39) -> 0
F42: Heures normales | G42: Heures supplémentaires à 25% | H42: Heures supplémentaires à 50% | I42: Maladie | J42: Vacances | K42: Congés sans solde
E43: Heures | F43: 151.67 | G43: =H40-H43 -> 0 | H43: =Calculs!G27 -> 0 | I43: =I40 -> 0 | J43: =J40 -> 0 | K43: =K40 -> 0

Sheet Juillet
K1: Feuille de présence mensuelle
B2: CT Construction
B4: 32 avenue Pasteur | H4: Période : | J4: 01/07/2018 au 31/07/2018
B5: BP 32
B6: 78580 Maule | H6: Employé :
B9: Jour | C9: Arrivée | D9: Départ | E9: Arrivée | F9: Départ | G9: Heures normales | H9: Heures supplémentaires | I9: Maladie | J9: Vacances | K9: Sans solde
B10: 43282
B11: 43283 | G11: =IF((((D11-C11)+(F11-E11))*24)>7,7,((D11-C11)+(F11-E11))*24) -> 0 | H11: =IF(((D11-C11)+(F11-E11))*24>7,((D11-C11)+(F11-E11))*24-7,0) -> 0
B12: 43284 | G12: =IF((((D12-C12)+(F12-E12))*24)>7,7,((D12-C12)+(F12-E12))*24) -> 0 | H12: =IF(((D12-C12)+(F12-E12))*24>7,((D12-C12)+(F12-E12))*24-7,0) -> 0
B13: 43285 | G13: =IF((((D13-C13)+(F13-E13))*24)>7,7,((D13-C13)+(F13-E13))*24) -> 0 | H13: =IF(((D13-C13)+(F13-E13))*24>7,((D13-C13)+(F13-E13))*24-7,0) -> 0
B14: 43286 | G14: =IF((((D14-C14)+(F14-E14))*24)>7,7,((D14-C14)+(F14-E14))*24) -> 0 | H14: =IF(((D14-C14)+(F14-E14))*24>7,((D14-C14)+(F14-E14))*24-7,0) -> 0
B15: 43287 | G15: =IF((((D15-C15)+(F15-E15))*24)>7,7,((D15-C15)+(F15-E15))*24) -> 0 | H15: =IF(((D15-C15)+(F15-E15))*24>7,((D15-C15)+(F15-E15))*24-7,0) -> 0
B16: 43288 | G16: =IF((((D16-C16)+(F16-E16))*24)>7,7,((D16-C16)+(F16-E16))*24) -> 0 | H16: =IF(((D16-C16)+(F16-E16))*24>7,((D16-C16)+(F16-E16))*24-7,0)+G16 -> 0
B17: 43289
B18: 43290 | G18: =IF((((D18-C18)+(F18-E18))*24)>7,7,((D18-C18)+(F18-E18))*24) -> 0 | H18: =IF(((D18-C18)+(F18-E18))*24>7,((D18-C18)+(F18-E18))*24-7,0) -> 0
B19: 43291 | G19: =IF((((D19-C19)+(F19-E19))*24)>7,7,((D19-C19)+(F19-E19))*24) -> 0 | H19: =IF(((D19-C19)+(F19-E19))*24>7,((D19-C19)+(F19-E19))*24-7,0) -> 0
B20: 43292 | G20: =IF((((D20-C20)+(F20-E20))*24)>7,7,((D20-C20)+(F20-E20))*24) -> 0 | H20: =IF(((D20-C20)+(F20-E20))*24>7,((D20-C20)+(F20-E20))*24-7,0) -> 0
B21: 43293 | G21: =IF((((D21-C21)+(F21-E21))*24)>7,7,((D21-C21)+(F21-E21))*24) -> 0 | H21: =IF(((D21-C21)+(F21-E21))*24>7,((D21-C21)+(F21-E21))*24-7,0) -> 0
B22: 43294 | G22: =IF((((D22-C22)+(F22-E22))*24)>7,7,((D22-C22)+(F22-E22))*24) -> 0 | H22: =IF(((D22-C22)+(F22-E22))*24>7,((D22-C22)+(F22-E22))*24-7,0) -> 0
B23: 43295 | G23: =IF((((D23-C23)+(F23-E23))*24)>7,7,((D23-C23)+(F23-E23))*24) -> 0 | H23: =IF(((D23-C23)+(F23-E23))*24>7,((D23-C23)+(F23-E23))*24-7,0)+G23 -> 0
B24: 43296
B25: 43297 | G25: =IF((((D25-C25)+(F25-E25))*24)>7,7,((D25-C25)+(F25-E25))*24) -> 0 | H25: =IF(((D25-C25)+(F25-E25))*24>7,((D25-C25)+(F25-E25))*24-7,0) -> 0
B26: 43298 | G26: =IF((((D26-C26)+(F26-E26))*24)>7,7,((D26-C26)+(F26-E26))*24) -> 0 | H26: =IF(((D26-C26)+(F26-E26))*24>7,((D26-C26)+(F26-E26))*24-7,0) -> 0
B27: 43299 | G27: =IF((((D27-C27)+(F27-E27))*24)>7,7,((D27-C27)+(F27-E27))*24) -> 0 | H27: =IF(((D27-C27)+(F27-E27))*24>7,((D27-C27)+(F27-E27))*24-7,0) -> 0
B28: 43300 | G28: =IF((((D28-C28)+(F28-E28))*24)>7,7,((D28-C28)+(F28-E28))*24) -> 0 | H28: =IF(((D28-C28)+(F28-E28))*24>7,((D28-C28)+(F28-E28))*24-7,0) -> 0
B29: 43301 | G29: =IF((((D29-C29)+(F29-E29))*24)>7,7,((D29-C29)+(F29-E29))*24) -> 0 | H29: =IF(((D29-C29)+(F29-E29))*24>7,((D29-C29)+(F29-E29))*24-7,0) -> 0
B30: 43302 | G30: =IF((((D30-C30)+(F30-E30))*24)>7,7,((D30-C30)+(F30-E30))*24) -> 0 | H30: =IF(((D30-C30)+(F30-E30))*24>7,((D30-C30)+(F30-E30))*24-7,0)+G30 -> 0
B31: 43303
B32: 43304 | G32: =IF((((D32-C32)+(F32-E32))*24)>7,7,((D32-C32)+(F32-E32))*24) -> 0 | H32: =IF(((D32-C32)+(F32-E32))*24>7,((D32-C32)+(F32-E32))*24-7,0) -> 0
B33: 43305 | G33: =IF((((D33-C33)+(F33-E33))*24)>7,7,((D33-C33)+(F33-E33))*24) -> 0 | H33: =IF(((D33-C33)+(F33-E33))*24>7,((D33-C33)+(F33-E33))*24-7,0) -> 0
B34: 43306 | G34: =IF((((D34-C34)+(F34-E34))*24)>7,7,((D34-C34)+(F34-E34))*24) -> 0 | H34: =IF(((D34-C34)+(F34-E34))*24>7,((D34-C34)+(F34-E34))*24-7,0) -> 0
B35: 43307 | G35: =IF((((D35-C35)+(F35-E35))*24)>7,7,((D35-C35)+(F35-E35))*24) -> 0 | H35: =IF(((D35-C35)+(F35-E35))*24>7,((D35-C35)+(F35-E35))*24-7,0) -> 0
B36: 43308 | G36: =IF((((D36-C36)+(F36-E36))*24)>7,7,((D36-C36)+(F36-E36))*24) -> 0 | H36: =IF(((D36-C36)+(F36-E36))*24>7,((D36-C36)+(F36-E36))*24-7,0) -> 0
B37: 43309 | G37: =IF((((D37-C37)+(F37-E37))*24)>7,7,((D37-C37)+(F37-E37))*24) -> 0 | H37: =IF(((D37-C37)+(F37-E37))*24>7,((D37-C37)+(F37-E37))*24-7,0)+G37 -> 0
B38: 43310
B39: 43311 | G39: =IF((((D39-C39)+(F39-E39))*24)>7,7,((D39-C39)+(F39-E39))*24) -> 0 | H39: =IF(((D39-C39)+(F39-E39))*24>7,((D39-C39)+(F39-E39))*24-7,0) -> 0
B40: 43312 | G40: =IF((((D40-C40)+(F40-E40))*24)>7,7,((D40-C40)+(F40-E40))*24) -> 0 | H40: =IF(((D40-C40)+(F40-E40))*24>7,((D40-C40)+(F40-E40))*24-7,0) -> 0
F41: Heures totales | G41: =SUM(G10:G40)-G37-G30-G23-G16 -> 0 | H41: =SUM(H10:H37) -> 0 | I41: =SUM(I10:I40) -> 0 | J41: =SUM(J10:J40) -> 0 | K41: =SUM(K10:K40) -> 0
F43: Heures normales | G43: Heures supplémentaires à 25% | H43: Heures supplémentaires à 50% | I43: Maladie | J43: Vacances | K43: Congés sans solde
E44: Heures | F44: 151.67 | G44: =H41-H44 -> 0 | H44: =Calculs!G31 -> 0 | I44: =I41 -> 0 | J44: =J41 -> 0 | K44: =K41 -> 0

Sheet Août
K1: Feuille de présence mensuelle
B2: CT Construction
B4: 32 avenue Pasteur | H4: Période : | J4: 01/08/2018 au 31/08/2018
B5: BP 32
B6: 78580 Maule | H6: Employé :
B9: Jour | C9: Arrivée | D9: Départ | E9: Arrivée | F9: Départ | G9: Heures normales | H9: Heures supplémentaires | I9: Maladie | J9: Vacances | K9: Sans solde
B10: 43313 | G10: =IF((((D10-C10)+(F10-E10))*24)>7,7,((D10-C10)+(F10-E10))*24) -> 0 | H10: =IF(((D10-C10)+(F10-E10))*24>7,((D10-C10)+(F10-E10))*24-7,0) -> 0
B11: 43314 | G11: =IF((((D11-C11)+(F11-E11))*24)>7,7,((D11-C11)+(F11-E11))*24) -> 0 | H11: =IF(((D11-C11)+(F11-E11))*24>7,((D11-C11)+(F11-E11))*24-7,0) -> 0
B12: 43315 | G12: =IF((((D12-C12)+(F12-E12))*24)>7,7,((D12-C12)+(F12-E12))*24) -> 0 | H12: =IF(((D12-C12)+(F12-E12))*24>7,((D12-C12)+(F12-E12))*24-7,0) -> 0
B13: 43316 | G13: =IF((((D13-C13)+(F13-E13))*24)>7,7,((D13-C13)+(F13-E13))*24) -> 0 | H13: =IF(((D13-C13)+(F13-E13))*24>7,((D13-C13)+(F13-E13))*24-7,0)+G13 -> 0
B14: 43317
B15: 43318 | G15: =IF((((D15-C15)+(F15-E15))*24)>7,7,((D15-C15)+(F15-E15))*24) -> 0 | H15: =IF(((D15-C15)+(F15-E15))*24>7,((D15-C15)+(F15-E15))*24-7,0) -> 0
B16: 43319 | G16: =IF((((D16-C16)+(F16-E16))*24)>7,7,((D16-C16)+(F16-E16))*24) -> 0 | H16: =IF(((D16-C16)+(F16-E16))*24>7,((D16-C16)+(F16-E16))*24-7,0) -> 0
B17: 43320 | G17: =IF((((D17-C17)+(F17-E17))*24)>7,7,((D17-C17)+(F17-E17))*24) -> 0 | H17: =IF(((D17-C17)+(F17-E17))*24>7,((D17-C17)+(F17-E17))*24-7,0) -> 0
B18: 43321 | G18: =IF((((D18-C18)+(F18-E18))*24)>7,7,((D18-C18)+(F18-E18))*24) -> 0 | H18: =IF(((D18-C18)+(F18-E18))*24>7,((D18-C18)+(F18-E18))*24-7,0) -> 0
B19: 43322 | G19: =IF((((D19-C19)+(F19-E19))*24)>7,7,((D19-C19)+(F19-E19))*24) -> 0 | H19: =IF(((D19-C19)+(F19-E19))*24>7,((D19-C19)+(F19-E19))*24-7,0) -> 0
B20: 43323 | G20: =IF((((D20-C20)+(F20-E20))*24)>7,7,((D20-C20)+(F20-E20))*24) -> 0 | H20: =IF(((D20-C20)+(F20-E20))*24>7,((D20-C20)+(F20-E20))*24-7,0)+G20 -> 0
B21: 43324
B22: 43325 | G22: =IF((((D22-C22)+(F22-E22))*24)>7,7,((D22-C22)+(F22-E22))*24) -> 0 | H22: =IF(((D22-C22)+(F22-E22))*24>7,((D22-C22)+(F22-E22))*24-7,0) -> 0
B23: 43326 | G23: =IF((((D23-C23)+(F23-E23))*24)>7,7,((D23-C23)+(F23-E23))*24) -> 0 | H23: =IF(((D23-C23)+(F23-E23))*24>7,((D23-C23)+(F23-E23))*24-7,0) -> 0
B24: 43327 | G24: =IF((((D24-C24)+(F24-E24))*24)>7,7,((D24-C24)+(F24-E24))*24) -> 0 | H24: =IF(((D24-C24)+(F24-E24))*24>7,((D24-C24)+(F24-E24))*24-7,0) -> 0
B25: 43328 | G25: =IF((((D25-C25)+(F25-E25))*24)>7,7,((D25-C25)+(F25-E25))*24) -> 0 | H25: =IF(((D25-C25)+(F25-E25))*24>7,((D25-C25)+(F25-E25))*24-7,0) -> 0
B26: 43329 | G26: =IF((((D26-C26)+(F26-E26))*24)>7,7,((D26-C26)+(F26-E26))*24) -> 0 | H26: =IF(((D26-C26)+(F26-E26))*24>7,((D26-C26)+(F26-E26))*24-7,0) -> 0
B27: 43330 | G27: =IF((((D27-C27)+(F27-E27))*24)>7,7,((D27-C27)+(F27-E27))*24) -> 0 | H27: =IF(((D27-C27)+(F27-E27))*24>7,((D27-C27)+(F27-E27))*24-7,0)+G27 -> 0
B28: 43331
B29: 43332 | G29: =IF((((D29-C29)+(F29-E29))*24)>7,7,((D29-C29)+(F29-E29))*24) -> 0 | H29: =IF(((D29-C29)+(F29-E29))*24>7,((D29-C29)+(F29-E29))*24-7,0) -> 0
B30: 43333 | G30: =IF((((D30-C30)+(F30-E30))*24)>7,7,((D30-C30)+(F30-E30))*24) -> 0 | H30: =IF(((D30-C30)+(F30-E30))*24>7,((D30-C30)+(F30-E30))*24-7,0) -> 0
B31: 43334 | G31: =IF((((D31-C31)+(F31-E31))*24)>7,7,((D31-C31)+(F31-E31))*24) -> 0 | H31: =IF(((D31-C31)+(F31-E31))*24>7,((D31-C31)+(F31-E31))*24-7,0) -> 0
B32: 43335 | G32: =IF((((D32-C32)+(F32-E32))*24)>7,7,((D32-C32)+(F32-E32))*24) -> 0 | H32: =IF(((D32-C32)+(F32-E32))*24>7,((D32-C32)+(F32-E32))*24-7,0) -> 0
B33: 43336 | G33: =IF((((D33-C33)+(F33-E33))*24)>7,7,((D33-C33)+(F33-E33))*24) -> 0 | H33: =IF(((D33-C33)+(F33-E33))*24>7,((D33-C33)+(F33-E33))*24-7,0) -> 0
B34: 43337 | G34: =IF((((D34-C34)+(F34-E34))*24)>7,7,((D34-C34)+(F34-E34))*24) -> 0 | H34: =IF(((D34-C34)+(F34-E34))*24>7,((D34-C34)+(F34-E34))*24-7,0)+G34 -> 0
B35: 43338
B36: 43339 | G36: =IF((((D36-C36)+(F36-E36))*24)>7,7,((D36-C36)+(F36-E36))*24) -> 0 | H36: =IF(((D36-C36)+(F36-E36))*24>7,((D36-C36)+(F36-E36))*24-7,0) -> 0
B37: 43340 | G37: =IF((((D37-C37)+(F37-E37))*24)>7,7,((D37-C37)+(F37-E37))*24) -> 0 | H37: =IF(((D37-C37)+(F37-E37))*24>7,((D37-C37)+(F37-E37))*24-7,0) -> 0
B38: 43341 | G38: =IF((((D38-C38)+(F38-E38))*24)>7,7,((D38-C38)+(F38-E38))*24) -> 0 | H38: =IF(((D38-C38)+(F38-E38))*24>7,((D38-C38)+(F38-E38))*24-7,0) -> 0
B39: 43342 | G39: =IF((((D39-C39)+(F39-E39))*24)>7,7,((D39-C39)+(F39-E39))*24) -> 0 | H39: =IF(((D39-C39)+(F39-E39))*24>7,((D39-C39)+(F39-E39))*24-7,0) -> 0
B40: 43343 | G40: =IF((((D40-C40)+(F40-E40))*24)>7,7,((D40-C40)+(F40-E40))*24) -> 0 | H40: =IF(((D40-C40)+(F40-E40))*24>7,((D40-C40)+(F40-E40))*24-7,0) -> 0
F41: Heures totales | G41: =SUM(G10:G40)-G34-G27-G20-G13 -> 0 | H41: =SUM(H10:H34)+SUM(Juillet!H39:H40) -> 0 | I41: =SUM(I10:I40) -> 0 | J41: =SUM(J10:J40) -> 0 | K41: =SUM(K10:K40) -> 0
F43: Heures normales | G43: Heures supplémentaires à 25% | H43: Heures supplémentaires à 50% | I43: Maladie | J43: Vacances | K43: Congés sans solde
E44: Heures | F44: 151.67 | G44: =H41-H44 -> 0 | H44: =Calculs!G35 -> 0 | I44: =I41 -> 0 | J44: =J41 -> 0 | K44: =K41 -> 0

Sheet Septembre
K1: Feuille de présence mensuelle
B2: CT Construction
B4: 32 avenue Pasteur | H4: Période : | J4: 01/09/2018 au 30/09/2018
B5: BP 32
B6: 78580 Maule | H6: Employé :
B9: Jour | C9: Arrivée | D9: Départ | E9: Arrivée | F9: Départ | G9: Heures normales | H9: Heures supplémentaires | I9: Maladie | J9: Vacances | K9: Sans solde
B10: 43344 | G10: =IF((((D10-C10)+(F10-E10))*24)>7,7,((D10-C10)+(F10-E10))*24) -> 0 | H10: =IF(((D10-C10)+(F10-E10))*24>7,((D10-C10)+(F10-E10))*24-7,0)+G10 -> 0
B11: 43345
B12: 43346 | G12: =IF((((D12-C12)+(F12-E12))*24)>7,7,((D12-C12)+(F12-E12))*24) -> 0 | H12: =IF(((D12-C12)+(F12-E12))*24>7,((D12-C12)+(F12-E12))*24-7,0) -> 0
B13: 43347 | G13: =IF((((D13-C13)+(F13-E13))*24)>7,7,((D13-C13)+(F13-E13))*24) -> 0 | H13: =IF(((D13-C13)+(F13-E13))*24>7,((D13-C13)+(F13-E13))*24-7,0) -> 0
B14: 43348 | G14: =IF((((D14-C14)+(F14-E14))*24)>7,7,((D14-C14)+(F14-E14))*24) -> 0 | H14: =IF(((D14-C14)+(F14-E14))*24>7,((D14-C14)+(F14-E14))*24-7,0) -> 0
B15: 43349 | G15: =IF((((D15-C15)+(F15-E15))*24)>7,7,((D15-C15)+(F15-E15))*24) -> 0 | H15: =IF(((D15-C15)+(F15-E15))*24>7,((D15-C15)+(F15-E15))*24-7,0) -> 0
B16: 43350 | G16: =IF((((D16-C16)+(F16-E16))*24)>7,7,((D16-C16)+(F16-E16))*24) -> 0 | H16: =IF(((D16-C16)+(F16-E16))*24>7,((D16-C16)+(F16-E16))*24-7,0) -> 0
B17: 43351 | G17: =IF((((D17-C17)+(F17-E17))*24)>7,7,((D17-C17)+(F17-E17))*24) -> 0 | H17: =IF(((D17-C17)+(F17-E17))*24>7,((D17-C17)+(F17-E17))*24-7,0)+G17 -> 0
B18: 43352
B19: 43353 | G19: =IF((((D19-C19)+(F19-E19))*24)>7,7,((D19-C19)+(F19-E19))*24) -> 0 | H19: =IF(((D19-C19)+(F19-E19))*24>7,((D19-C19)+(F19-E19))*24-7,0) -> 0
B20: 43354 | G20: =IF((((D20-C20)+(F20-E20))*24)>7,7,((D20-C20)+(F20-E20))*24) -> 0 | H20: =IF(((D20-C20)+(F20-E20))*24>7,((D20-C20)+(F20-E20))*24-7,0) -> 0
B21: 43355 | G21: =IF((((D21-C21)+(F21-E21))*24)>7,7,((D21-C21)+(F21-E21))*24) -> 0 | H21: =IF(((D21-C21)+(F21-E21))*24>7,((D21-C21)+(F21-E21))*24-7,0) -> 0
B22: 43356 | G22: =IF((((D22-C22)+(F22-E22))*24)>7,7,((D22-C22)+(F22-E22))*24) -> 0 | H22: =IF(((D22-C22)+(F22-E22))*24>7,((D22-C22)+(F22-E22))*24-7,0) -> 0
B23: 43357 | G23: =IF((((D23-C23)+(F23-E23))*24)>7,7,((D23-C23)+(F23-E23))*24) -> 0 | H23: =IF(((D23-C23)+(F23-E23))*24>7,((D23-C23)+(F23-E23))*24-7,0) -> 0
B24: 43358 | G24: =IF((((D24-C24)+(F24-E24))*24)>7,7,((D24-C24)+(F24-E24))*24) -> 0 | H24: =IF(((D24-C24)+(F24-E24))*24>7,((D24-C24)+(F24-E24))*24-7,0)+G24 -> 0
B25: 43359
B26: 43360 | G26: =IF((((D26-C26)+(F26-E26))*24)>7,7,((D26-C26)+(F26-E26))*24) -> 0 | H26: =IF(((D26-C26)+(F26-E26))*24>7,((D26-C26)+(F26-E26))*24-7,0) -> 0
B27: 43361 | G27: =IF((((D27-C27)+(F27-E27))*24)>7,7,((D27-C27)+(F27-E27))*24) -> 0 | H27: =IF(((D27-C27)+(F27-E27))*24>7,((D27-C27)+(F27-E27))*24-7,0) -> 0
B28: 43362 | G28: =IF((((D28-C28)+(F28-E28))*24)>7,7,((D28-C28)+(F28-E28))*24) -> 0 | H28: =IF(((D28-C28)+(F28-E28))*24>7,((D28-C28)+(F28-E28))*24-7,0) -> 0
B29: 43363 | G29: =IF((((D29-C29)+(F29-E29))*24)>7,7,((D29-C29)+(F29-E29))*24) -> 0 | H29: =IF(((D29-C29)+(F29-E29))*24>7,((D29-C29)+(F29-E29))*24-7,0) -> 0
B30: 43364 | G30: =IF((((D30-C30)+(F30-E30))*24)>7,7,((D30-C30)+(F30-E30))*24) -> 0 | H30: =IF(((D30-C30)+(F30-E30))*24>7,((D30-C30)+(F30-E30))*24-7,0) -> 0
B31: 43365 | G31: =IF((((D31-C31)+(F31-E31))*24)>7,7,((D31-C31)+(F31-E31))*24) -> 0 | H31: =IF(((D31-C31)+(F31-E31))*24>7,((D31-C31)+(F31-E31))*24-7,0)+G31 -> 0
B32: 43366
B33: 43367 | G33: =IF((((D33-C33)+(F33-E33))*24)>7,7,((D33-C33)+(F33-E33))*24) -> 0 | H33: =IF(((D33-C33)+(F33-E33))*24>7,((D33-C33)+(F33-E33))*24-7,0) -> 0
B34: 43368 | G34: =IF((((D34-C34)+(F34-E34))*24)>7,7,((D34-C34)+(F34-E34))*24) -> 0 | H34: =IF(((D34-C34)+(F34-E34))*24>7,((D34-C34)+(F34-E34))*24-7,0) -> 0
B35: 43369 | G35: =IF((((D35-C35)+(F35-E35))*24)>7,7,((D35-C35)+(F35-E35))*24) -> 0 | H35: =IF(((D35-C35)+(F35-E35))*24>7,((D35-C35)+(F35-E35))*24-7,0) -> 0
B36: 43370 | G36: =IF((((D36-C36)+(F36-E36))*24)>7,7,((D36-C36)+(F36-E36))*24) -> 0 | H36: =IF(((D36-C36)+(F36-E36))*24>7,((D36-C36)+(F36-E36))*24-7,0) -> 0
B37: 43371 | G37: =IF((((D37-C37)+(F37-E37))*24)>7,7,((D37-C37)+(F37-E37))*24) -> 0 | H37: =IF(((D37-C37)+(F37-E37))*24>7,((D37-C37)+(F37-E37))*24-7,0) -> 0
B38: 43372 | G38: =IF((((D38-C38)+(F38-E38))*24)>7,7,((D38-C38)+(F38-E38))*24) -> 0 | H38: =IF(((D38-C38)+(F38-E38))*24>7,((D38-C38)+(F38-E38))*24-7,0)+G38 -> 0
B39: 43373
F40: Heures totales | G40: =SUM(G10:G39)-G38-G31-G24-G17-G10 -> 0 | H40: =SUM(H10:H39)+SUM(Août!H36:H40) -> 0 | I40: =SUM(I10:I39) -> 0 | J40: =SUM(J10:J39) -> 0 | K40: =SUM(K10:K39) -> 0
F42: Heures normales | G42: Heures supplémentaires à 25% | H42: Heures supplémentaires à 50% | I42: Maladie | J42: Vacances | K42: Congés sans solde
E43: Heures | F43: 151.67 | G43: =H40-H43 -> 0 | H43: =Calculs!G40 -> 0 | I43: =I40 -> 0 | J43: =J40 -> 0 | K43: =K40 -> 0

Sheet Octobre
K1: Feuille de présence mensuelle
B2: CT Construction
B4: 32 avenue Pasteur | H4: Période : | J4: 01/10/2018 au 31/10/2018
B5: BP 32
B6: 78580 Maule | H6: Employé :
B9: Jour | C9: Arrivée | D9: Départ | E9: Arrivée | F9: Départ | G9: Heures normales | H9: Heures supplémentaires | I9: Maladie | J9: Vacances | K9: Sans solde
B10: 43374 | G10: =IF((((D10-C10)+(F10-E10))*24)>7,7,((D10-C10)+(F10-E10))*24) -> 0 | H10: =IF(((D10-C10)+(F10-E10))*24>7,((D10-C10)+(F10-E10))*24-7,0) -> 0
B11: 43375 | G11: =IF((((D11-C11)+(F11-E11))*24)>7,7,((D11-C11)+(F11-E11))*24) -> 0 | H11: =IF(((D11-C11)+(F11-E11))*24>7,((D11-C11)+(F11-E11))*24-7,0) -> 0
B12: 43376 | G12: =IF((((D12-C12)+(F12-E12))*24)>7,7,((D12-C12)+(F12-E12))*24) -> 0 | H12: =IF(((D12-C12)+(F12-E12))*24>7,((D12-C12)+(F12-E12))*24-7,0) -> 0
B13: 43377 | G13: =IF((((D13-C13)+(F13-E13))*24)>7,7,((D13-C13)+(F13-E13))*24) -> 0 | H13: =IF(((D13-C13)+(F13-E13))*24>7,((D13-C13)+(F13-E13))*24-7,0) -> 0
B14: 43378 | G14: =IF((((D14-C14)+(F14-E14))*24)>7,7,((D14-C14)+(F14-E14))*24) -> 0 | H14: =IF(((D14-C14)+(F14-E14))*24>7,((D14-C14)+(F14-E14))*24-7,0) -> 0
B15: 43379 | G15: =IF((((D15-C15)+(F15-E15))*24)>7,7,((D15-C15)+(F15-E15))*24) -> 0 | H15: =IF(((D15-C15)+(F15-E15))*24>7,((D15-C15)+(F15-E15))*24-7,0)+G15 -> 0
B16: 43380
B17: 43381 | G17: =IF((((D17-C17)+(F17-E17))*24)>7,7,((D17-C17)+(F17-E17))*24) -> 0 | H17: =IF(((D17-C17)+(F17-E17))*24>7,((D17-C17)+(F17-E17))*24-7,0) -> 0
B18: 43382 | G18: =IF((((D18-C18)+(F18-E18))*24)>7,7,((D18-C18)+(F18-E18))*24) -> 0 | H18: =IF(((D18-C18)+(F18-E18))*24>7,((D18-C18)+(F18-E18))*24-7,0) -> 0
B19: 43383 | G19: =IF((((D19-C19)+(F19-E19))*24)>7,7,((D19-C19)+(F19-E19))*24) -> 0 | H19: =IF(((D19-C19)+(F19-E19))*24>7,((D19-C19)+(F19-E19))*24-7,0) -> 0
B20: 43384 | G20: =IF((((D20-C20)+(F20-E20))*24)>7,7,((D20-C20)+(F20-E20))*24) -> 0 | H20: =IF(((D20-C20)+(F20-E20))*24>7,((D20-C20)+(F20-E20))*24-7,0) -> 0
B21: 43385 | G21: =IF((((D21-C21)+(F21-E21))*24)>7,7,((D21-C21)+(F21-E21))*24) -> 0 | H21: =IF(((D21-C21)+(F21-E21))*24>7,((D21-C21)+(F21-E21))*24-7,0) -> 0
B22: 43386 | G22: =IF((((D22-C22)+(F22-E22))*24)>7,7,((D22-C22)+(F22-E22))*24) -> 0 | H22: =IF(((D22-C22)+(F22-E22))*24>7,((D22-C22)+(F22-E22))*24-7,0)+G22 -> 0
B23: 43387
B24: 43388 | G24: =IF((((D24-C24)+(F24-E24))*24)>7,7,((D24-C24)+(F24-E24))*24) -> 0 | H24: =IF(((D24-C24)+(F24-E24))*24>7,((D24-C24)+(F24-E24))*24-7,0) -> 0
B25: 43389 | G25: =IF((((D25-C25)+(F25-E25))*24)>7,7,((D25-C25)+(F25-E25))*24) -> 0 | H25: =IF(((D25-C25)+(F25-E25))*24>7,((D25-C25)+(F25-E25))*24-7,0) -> 0
B26: 43390 | G26: =IF((((D26-C26)+(F26-E26))*24)>7,7,((D26-C26)+(F26-E26))*24) -> 0 | H26: =IF(((D26-C26)+(F26-E26))*24>7,((D26-C26)+(F26-E26))*24-7,0) -> 0
B27: 43391 | G27: =IF((((D27-C27)+(F27-E27))*24)>7,7,((D27-C27)+(F27-E27))*24) -> 0 | H27: =IF(((D27-C27)+(F27-E27))*24>7,((D27-C27)+(F27-E27))*24-7,0) -> 0
B28: 43392 | G28: =IF((((D28-C28)+(F28-E28))*24)>7,7,((D28-C28)+(F28-E28))*24) -> 0 | H28: =IF(((D28-C28)+(F28-E28))*24>7,((D28-C28)+(F28-E28))*24-7,0) -> 0
B29: 43393 | G29: =IF((((D29-C29)+(F29-E29))*24)>7,7,((D29-C29)+(F29-E29))*24) -> 0 | H29: =IF(((D29-C29)+(F29-E29))*24>7,((D29-C29)+(F29-E29))*24-7,0)+G29 -> 0
B30: 43394
B31: 43395 | G31: =IF((((D31-C31)+(F31-E31))*24)>7,7,((D31-C31)+(F31-E31))*24) -> 0 | H31: =IF(((D31-C31)+(F31-E31))*24>7,((D31-C31)+(F31-E31))*24-7,0) -> 0
B32: 43396 | G32: =IF((((D32-C32)+(F32-E32))*24)>7,7,((D32-C32)+(F32-E32))*24) -> 0 | H32: =IF(((D32-C32)+(F32-E32))*24>7,((D32-C32)+(F32-E32))*24-7,0) -> 0
B33: 43397 | G33: =IF((((D33-C33)+(F33-E33))*24)>7,7,((D33-C33)+(F33-E33))*24) -> 0 | H33: =IF(((D33-C33)+(F33-E33))*24>7,((D33-C33)+(F33-E33))*24-7,0) -> 0
B34: 43398 | G34: =IF((((D34-C34)+(F34-E34))*24)>7,7,((D34-C34)+(F34-E34))*24) -> 0 | H34: =IF(((D34-C34)+(F34-E34))*24>7,((D34-C34)+(F34-E34))*24-7,0) -> 0
B35: 43399 | G35: =IF((((D35-C35)+(F35-E35))*24)>7,7,((D35-C35)+(F35-E35))*24) -> 0 | H35: =IF(((D35-C35)+(F35-E35))*24>7,((D35-C35)+(F35-E35))*24-7,0) -> 0
B36: 43400 | G36: =IF((((D36-C36)+(F36-E36))*24)>7,7,((D36-C36)+(F36-E36))*24) -> 0 | H36: =IF(((D36-C36)+(F36-E36))*24>7,((D36-C36)+(F36-E36))*24-7,0)+G36 -> 0
B37: 43401
B38: 43402 | G38: =IF((((D38-C38)+(F38-E38))*24)>7,7,((D38-C38)+(F38-E38))*24) -> 0 | H38: =IF(((D38-C38)+(F38-E38))*24>7,((D38-C38)+(F38-E38))*24-7,0) -> 0
B39: 43403 | G39: =IF((((D39-C39)+(F39-E39))*24)>7,7,((D39-C39)+(F39-E39))*24) -> 0 | H39: =IF(((D39-C39)+(F39-E39))*24>7,((D39-C39)+(F39-E39))*24-7,0) -> 0
B40: 43404 | G40: =IF((((D40-C40)+(F40-E40))*24)>7,7,((D40-C40)+(F40-E40))*24) -> 0 | H40: =IF(((D40-C40)+(F40-E40))*24>7,((D40-C40)+(F40-E40))*24-7,0) -> 0
F41: Heures totales | G41: =SUM(G10:G40)-G36-G29-G22-G15 -> 0 | H41: =SUM(H10:H36) -> 0 | I41: =SUM(I10:I40) -> 0 | J41: =SUM(J10:J40) -> 0 | K41: =SUM(K10:K40) -> 0
F43: Heures normales | G43: Heures supplémentaires à 25% | H43: Heures supplémentaires à 50% | I43: Maladie | J43: Vacances | K43: Congés sans solde
E44: Heures | F44: 151.67 | G44: =H41-H44 -> 0 | H44: =Calculs!G44 -> 0 | I44: =I41 -> 0 | J44: =J41 -> 0 | K44: =K41 -> 0

Sheet Novembre
K1: Feuille de présence mensuelle
B2: CT Construction
B4: 32 avenue Pasteur | H4: Période : | J4: 01/11/2018 au 30/11/2018
B5: BP 32
B6: 78580 Maule | H6: Employé :
B9: Jour | C9: Arrivée | D9: Départ | E9: Arrivée | F9: Départ | G9: Heures normales | H9: Heures supplémentaires | I9: Maladie | J9: Vacances | K9: Sans solde
B10: 43405 | G10: =IF((((D10-C10)+(F10-E10))*24)>7,7,((D10-C10)+(F10-E10))*24) -> 0 | H10: =IF(((D10-C10)+(F10-E10))*24>7,((D10-C10)+(F10-E10))*24-7,0) -> 0
B11: 43406 | G11: =IF((((D11-C11)+(F11-E11))*24)>7,7,((D11-C11)+(F11-E11))*24) -> 0 | H11: =IF(((D11-C11)+(F11-E11))*24>7,((D11-C11)+(F11-E11))*24-7,0) -> 0
B12: 43407 | G12: =IF((((D12-C12)+(F12-E12))*24)>7,7,((D12-C12)+(F12-E12))*24) -> 0 | H12: =IF(((D12-C12)+(F12-E12))*24>7,((D12-C12)+(F12-E12))*24-7,0)+G12 -> 0
B13: 43408
B14: 43409 | G14: =IF((((D14-C14)+(F14-E14))*24)>7,7,((D14-C14)+(F14-E14))*24) -> 0 | H14: =IF(((D14-C14)+(F14-E14))*24>7,((D14-C14)+(F14-E14))*24-7,0) -> 0
B15: 43410 | G15: =IF((((D15-C15)+(F15-E15))*24)>7,7,((D15-C15)+(F15-E15))*24) -> 0 | H15: =IF(((D15-C15)+(F15-E15))*24>7,((D15-C15)+(F15-E15))*24-7,0) -> 0
B16: 43411 | G16: =IF((((D16-C16)+(F16-E16))*24)>7,7,((D16-C16)+(F16-E16))*24) -> 0 | H16: =IF(((D16-C16)+(F16-E16))*24>7,((D16-C16)+(F16-E16))*24-7,0) -> 0
B17: 43412 | G17: =IF((((D17-C17)+(F17-E17))*24)>7,7,((D17-C17)+(F17-E17))*24) -> 0 | H17: =IF(((D17-C17)+(F17-E17))*24>7,((D17-C17)+(F17-E17))*24-7,0) -> 0
B18: 43413 | G18: =IF((((D18-C18)+(F18-E18))*24)>7,7,((D18-C18)+(F18-E18))*24) -> 0 | H18: =IF(((D18-C18)+(F18-E18))*24>7,((D18-C18)+(F18-E18))*24-7,0) -> 0
B19: 43414 | G19: =IF((((D19-C19)+(F19-E19))*24)>7,7,((D19-C19)+(F19-E19))*24) -> 0 | H19: =IF(((D19-C19)+(F19-E19))*24>7,((D19-C19)+(F19-E19))*24-7,0)+G19 -> 0
B20: 43415
B21: 43416 | G21: =IF((((D21-C21)+(F21-E21))*24)>7,7,((D21-C21)+(F21-E21))*24) -> 0 | H21: =IF(((D21-C21)+(F21-E21))*24>7,((D21-C21)+(F21-E21))*24-7,0) -> 0
B22: 43417 | G22: =IF((((D22-C22)+(F22-E22))*24)>7,7,((D22-C22)+(F22-E22))*24) -> 0 | H22: =IF(((D22-C22)+(F22-E22))*24>7,((D22-C22)+(F22-E22))*24-7,0) -> 0
B23: 43418 | G23: =IF((((D23-C23)+(F23-E23))*24)>7,7,((D23-C23)+(F23-E23))*24) -> 0 | H23: =IF(((D23-C23)+(F23-E23))*24>7,((D23-C23)+(F23-E23))*24-7,0) -> 0
B24: 43419 | G24: =IF((((D24-C24)+(F24-E24))*24)>7,7,((D24-C24)+(F24-E24))*24) -> 0 | H24: =IF(((D24-C24)+(F24-E24))*24>7,((D24-C24)+(F24-E24))*24-7,0) -> 0
B25: 43420 | G25: =IF((((D25-C25)+(F25-E25))*24)>7,7,((D25-C25)+(F25-E25))*24) -> 0 | H25: =IF(((D25-C25)+(F25-E25))*24>7,((D25-C25)+(F25-E25))*24-7,0) -> 0
B26: 43421 | G26: =IF((((D26-C26)+(F26-E26))*24)>7,7,((D26-C26)+(F26-E26))*24) -> 0 | H26: =IF(((D26-C26)+(F26-E26))*24>7,((D26-C26)+(F26-E26))*24-7,0)+G26 -> 0
B27: 43422
B28: 43423 | G28: =IF((((D28-C28)+(F28-E28))*24)>7,7,((D28-C28)+(F28-E28))*24) -> 0 | H28: =IF(((D28-C28)+(F28-E28))*24>7,((D28-C28)+(F28-E28))*24-7,0) -> 0
B29: 43424 | G29: =IF((((D29-C29)+(F29-E29))*24)>7,7,((D29-C29)+(F29-E29))*24) -> 0 | H29: =IF(((D29-C29)+(F29-E29))*24>7,((D29-C29)+(F29-E29))*24-7,0) -> 0
B30: 43425 | G30: =IF((((D30-C30)+(F30-E30))*24)>7,7,((D30-C30)+(F30-E30))*24) -> 0 | H30: =IF(((D30-C30)+(F30-E30))*24>7,((D30-C30)+(F30-E30))*24-7,0) -> 0
B31: 43426 | G31: =IF((((D31-C31)+(F31-E31))*24)>7,7,((D31-C31)+(F31-E31))*24) -> 0 | H31: =IF(((D31-C31)+(F31-E31))*24>7,((D31-C31)+(F31-E31))*24-7,0) -> 0
B32: 43427 | G32: =IF((((D32-C32)+(F32-E32))*24)>7,7,((D32-C32)+(F32-E32))*24) -> 0 | H32: =IF(((D32-C32)+(F32-E32))*24>7,((D32-C32)+(F32-E32))*24-7,0) -> 0
B33: 43428 | G33: =IF((((D33-C33)+(F33-E33))*24)>7,7,((D33-C33)+(F33-E33))*24) -> 0 | H33: =IF(((D33-C33)+(F33-E33))*24>7,((D33-C33)+(F33-E33))*24-7,0)+G33 -> 0
B34: 43429
B35: 43430 | G35: =IF((((D35-C35)+(F35-E35))*24)>7,7,((D35-C35)+(F35-E35))*24) -> 0 | H35: =IF(((D35-C35)+(F35-E35))*24>7,((D35-C35)+(F35-E35))*24-7,0) -> 0
B36: 43431 | G36: =IF((((D36-C36)+(F36-E36))*24)>7,7,((D36-C36)+(F36-E36))*24) -> 0 | H36: =IF(((D36-C36)+(F36-E36))*24>7,((D36-C36)+(F36-E36))*24-7,0) -> 0
B37: 43432 | G37: =IF((((D37-C37)+(F37-E37))*24)>7,7,((D37-C37)+(F37-E37))*24) -> 0 | H37: =IF(((D37-C37)+(F37-E37))*24>7,((D37-C37)+(F37-E37))*24-7,0) -> 0
B38: 43433 | G38: =IF((((D38-C38)+(F38-E38))*24)>7,7,((D38-C38)+(F38-E38))*24) -> 0 | H38: =IF(((D38-C38)+(F38-E38))*24>7,((D38-C38)+(F38-E38))*24-7,0) -> 0
B39: 43434 | G39: =IF((((D39-C39)+(F39-E39))*24)>7,7,((D39-C39)+(F39-E39))*24) -> 0 | H39: =IF(((D39-C39)+(F39-E39))*24>7,((D39-C39)+(F39-E39))*24-7,0) -> 0
F40: Heures totales | G40: =SUM(G10:G39)-G33-G26-G19-G12 -> 0 | H40: =SUM(H10:H33)+SUM(Octobre!H38:H40) -> 0 | I40: =SUM(I10:I39) -> 0 | J40: =SUM(J10:J39) -> 0 | K40: =SUM(K10:K39) -> 0
F42: Heures normales | G42: Heures supplémentaires à 25% | H42: Heures supplémentaires à 50% | I42: Maladie | J42: Vacances | K42: Congés sans solde
E43: Heures | F43: 151.67 | G43: =H40-H43 -> 0 | H43: =Calculs!G48 -> 0 | I43: =I40 -> 0 | J43: =J40 -> 0 | K43: =K40 -> 0

Sheet Décembre
K1: Feuille de présence mensuelle
B2: CT Construction
B4: 32 avenue Pasteur | H4: Période : | J4: 01/12/2018 au 31/12/2018
B5: BP 32
B6: 78580 Maule | H6: Employé :
B9: Jour | C9: Arrivée | D9: Départ | E9: Arrivée | F9: Départ | G9: Heures normales | H9: Heures supplémentaires | I9: Maladie | J9: Vacances | K9: Sans solde
B10: 43435 | G10: =IF((((D10-C10)+(F10-E10))*24)>7,7,((D10-C10)+(F10-E10))*24) -> 0 | H10: =IF(((D10-C10)+(F10-E10))*24>7,((D10-C10)+(F10-E10))*24-7,0)+G10 -> 0
B11: 43436
B12: 43437 | G12: =IF((((D12-C12)+(F12-E12))*24)>7,7,((D12-C12)+(F12-E12))*24) -> 0 | H12: =IF(((D12-C12)+(F12-E12))*24>7,((D12-C12)+(F12-E12))*24-7,0) -> 0
B13: 43438 | G13: =IF((((D13-C13)+(F13-E13))*24)>7,7,((D13-C13)+(F13-E13))*24) -> 0 | H13: =IF(((D13-C13)+(F13-E13))*24>7,((D13-C13)+(F13-E13))*24-7,0) -> 0
B14: 43439 | G14: =IF((((D14-C14)+(F14-E14))*24)>7,7,((D14-C14)+(F14-E14))*24) -> 0 | H14: =IF(((D14-C14)+(F14-E14))*24>7,((D14-C14)+(F14-E14))*24-7,0) -> 0
B15: 43440 | G15: =IF((((D15-C15)+(F15-E15))*24)>7,7,((D15-C15)+(F15-E15))*24) -> 0 | H15: =IF(((D15-C15)+(F15-E15))*24>7,((D15-C15)+(F15-E15))*24-7,0) -> 0
B16: 43441 | G16: =IF((((D16-C16)+(F16-E16))*24)>7,7,((D16-C16)+(F16-E16))*24) -> 0 | H16: =IF(((D16-C16)+(F16-E16))*24>7,((D16-C16)+(F16-E16))*24-7,0) -> 0
B17: 43442 | G17: =IF((((D17-C17)+(F17-E17))*24)>7,7,((D17-C17)+(F17-E17))*24) -> 0 | H17: =IF(((D17-C17)+(F17-E17))*24>7,((D17-C17)+(F17-E17))*24-7,0)+G17 -> 0
B18: 43443
B19: 43444 | G19: =IF((((D19-C19)+(F19-E19))*24)>7,7,((D19-C19)+(F19-E19))*24) -> 0 | H19: =IF(((D19-C19)+(F19-E19))*24>7,((D19-C19)+(F19-E19))*24-7,0) -> 0
B20: 43445 | G20: =IF((((D20-C20)+(F20-E20))*24)>7,7,((D20-C20)+(F20-E20))*24) -> 0 | H20: =IF(((D20-C20)+(F20-E20))*24>7,((D20-C20)+(F20-E20))*24-7,0) -> 0
B21: 43446 | G21: =IF((((D21-C21)+(F21-E21))*24)>7,7,((D21-C21)+(F21-E21))*24) -> 0 | H21: =IF(((D21-C21)+(F21-E21))*24>7,((D21-C21)+(F21-E21))*24-7,0) -> 0
B22: 43447 | G22: =IF((((D22-C22)+(F22-E22))*24)>7,7,((D22-C22)+(F22-E22))*24) -> 0 | H22: =IF(((D22-C22)+(F22-E22))*24>7,((D22-C22)+(F22-E22))*24-7,0) -> 0
B23: 43448 | G23: =IF((((D23-C23)+(F23-E23))*24)>7,7,((D23-C23)+(F23-E23))*24) -> 0 | H23: =IF(((D23-C23)+(F23-E23))*24>7,((D23-C23)+(F23-E23))*24-7,0) -> 0
B24: 43449 | G24: =IF((((D24-C24)+(F24-E24))*24)>7,7,((D24-C24)+(F24-E24))*24) -> 0 | H24: =IF(((D24-C24)+(F24-E24))*24>7,((D24-C24)+(F24-E24))*24-7,0)+G24 -> 0
B25: 43450
B26: 43451 | G26: =IF((((D26-C26)+(F26-E26))*24)>7,7,((D26-C26)+(F26-E26))*24) -> 0 | H26: =IF(((D26-C26)+(F26-E26))*24>7,((D26-C26)+(F26-E26))*24-7,0) -> 0
B27: 43452 | G27: =IF((((D27-C27)+(F27-E27))*24)>7,7,((D27-C27)+(F27-E27))*24) -> 0 | H27: =IF(((D27-C27)+(F27-E27))*24>7,((D27-C27)+(F27-E27))*24-7,0) -> 0
B28: 43453 | G28: =IF((((D28-C28)+(F28-E28))*24)>7,7,((D28-C28)+(F28-E28))*24) -> 0 | H28: =IF(((D28-C28)+(F28-E28))*24>7,((D28-C28)+(F28-E28))*24-7,0) -> 0
B29: 43454 | G29: =IF((((D29-C29)+(F29-E29))*24)>7,7,((D29-C29)+(F29-E29))*24) -> 0 | H29: =IF(((D29-C29)+(F29-E29))*24>7,((D29-C29)+(F29-E29))*24-7,0) -> 0
B30: 43455 | G30: =IF((((D30-C30)+(F30-E30))*24)>7,7,((D30-C30)+(F30-E30))*24) -> 0 | H30: =IF(((D30-C30)+(F30-E30))*24>7,((D30-C30)+(F30-E30))*24-7,0) -> 0
B31: 43456 | G31: =IF((((D31-C31)+(F31-E31))*24)>7,7,((D31-C31)+(F31-E31))*24) -> 0 | H31: =IF(((D31-C31)+(F31-E31))*24>7,((D31-C31)+(F31-E31))*24-7,0)+G31 -> 0
B32: 43457
B33: 43458 | G33: =IF((((D33-C33)+(F33-E33))*24)>7,7,((D33-C33)+(F33-E33))*24) -> 0 | H33: =IF(((D33-C33)+(F33-E33))*24>7,((D33-C33)+(F33-E33))*24-7,0) -> 0
B34: 43459 | G34: =IF((((D34-C34)+(F34-E34))*24)>7,7,((D34-C34)+(F34-E34))*24) -> 0 | H34: =IF(((D34-C34)+(F34-E34))*24>7,((D34-C34)+(F34-E34))*24-7,0) -> 0
B35: 43460 | G35: =IF((((D35-C35)+(F35-E35))*24)>7,7,((D35-C35)+(F35-E35))*24) -> 0 | H35: =IF(((D35-C35)+(F35-E35))*24>7,((D35-C35)+(F35-E35))*24-7,0) -> 0
B36: 43461 | G36: =IF((((D36-C36)+(F36-E36))*24)>7,7,((D36-C36)+(F36-E36))*24) -> 0 | H36: =IF(((D36-C36)+(F36-E36))*24>7,((D36-C36)+(F36-E36))*24-7,0) -> 0
B37: 43462 | G37: =IF((((D37-C37)+(F37-E37))*24)>7,7,((D37-C37)+(F37-E37))*24) -> 0 | H37: =IF(((D37-C37)+(F37-E37))*24>7,((D37-C37)+(F37-E37))*24-7,0) -> 0
B38: 43463 | G38: =IF((((D38-C38)+(F38-E38))*24)>7,7,((D38-C38)+(F38-E38))*24) -> 0 | H38: =IF(((D38-C38)+(F38-E38))*24>7,((D38-C38)+(F38-E38))*24-7,0)+G38 -> 0
B39: 43464
B40: 43465 | G40: =IF((((D40-C40)+(F40-E40))*24)>7,7,((D40-C40)+(F40-E40))*24) -> 0 | H40: =IF(((D40-C40)+(F40-E40))*24>7,((D40-C40)+(F40-E40))*24-7,0) -> 0
F41: Heures totales | G41: =SUM(G10:G40)-G38-G31-G24-G17-G10 -> 0 | H41: =SUM(H10:H40)+SUM(Novembre!H35:H39) -> 0 | I41: =SUM(I10:I40) -> 0 | J41: =SUM(J10:J40) -> 0 | K41: =SUM(K10:K40) -> 0
F43: Heures normales | G43: Heures supplémentaires à 25% | H43: Heures supplémentaires à 50% | I43: Maladie | J43: Vacances | K43: Congés sans solde
E44: Heures | F44: 151.67 | G44: =H41-H44 -> 0 | H44: =Calculs!G53 -> 0 | I44: =I41 -> 0 | J44: =J41 -> 0 | K44: =K41 -> 0

Sheet Calculs
A1: Semaines | B1: Heures supplémentaire de la semaine | C1: Heures supplémentaire max à 25% | E1: Heures supplémentaire à 50%
A2: 1 | B2: =SUM(Janvier!G10:G15) -> 0 | C2: 8 | D2: =B2-C2 -> -8 | E2: =IF((D2<0),0,D2) -> 0
A3: 2 | B3: =SUM(Janvier!G17:G22) -> 0 | C3: 8 | D3: =B3-C3 -> -8 | E3: =IF((D3<0),0,D3) -> 0
A4: 3 | B4: =SUM(Janvier!G24:G29) -> 0 | C4: 8 | D4: =B4-C4 -> -8 | E4: =IF((D4<0),0,D4) -> 0
A5: 4 | B5: =SUM(Janvier!G31:G36) -> 0 | C5: 8 | D5: =B5-C5 -> -8 | E5: =IF((D5<0),0,D5) -> 0 | F5: Janvier | G5: =SUM(E2:E5) -> 0
A6: 5 | B6: =SUM(Janvier!G38:G40)+SUM(Février!H10:H12) -> 0 | C6: 8 | D6: =B6-C6 -> -8 | E6: =IF((D6<0),0,D6) -> 0
A7: 6 | B7: =SUM(Février!H14:H19) -> 0 | C7: 8 | D7: =B7-C7 -> -8 | E7: =IF((D7<0),0,D7) -> 0
A8: 7 | B8: =SUM(Février!H21:H26) -> 0 | C8: 8 | D8: =B8-C8 -> -8 | E8: =IF((D8<0),0,D8) -> 0
A9: 8 | B9: =SUM(Février!H28:H33) -> 0 | C9: 8 | D9: =B9-C9 -> -8 | E9: =IF((D9<0),0,D9) -> 0 | F9: Février | G9: =SUM(E6:E9) -> 0
A10: 9 | B10: =SUM(Février!H35:H37)+SUM(Mars!H10:H12) -> 0 | C10: 8 | D10: =B10-C10 -> -8 | E10: =IF((D10<0),0,D10) -> 0
A11: 10 | B11: =SUM(Mars!H14:H19) -> 0 | C11: 8 | D11: =B11-C11 -> -8 | E11: =IF((D11<0),0,D11) -> 0
A12: 11 | B12: =SUM(Mars!H21:H26) -> 0 | C12: 8 | D12: =B12-C12 -> -8 | E12: =IF((D12<0),0,D12) -> 0
A13: 12 | B13: =SUM(Mars!H28:H33) -> 0 | C13: 8 | D13: =B13-C13 -> -8 | E13: =IF((D13<0),0,D13) -> 0
A14: 13 | B14: =SUM(Mars!H35:H40) -> 0 | C14: 8 | D14: =B14-C14 -> -8 | E14: =IF((D14<0),0,D14) -> 0 | F14: Mars | G14: =SUM(E10:E14) -> 0
A15: 14 | B15: =SUM(Avril!H11:H16) -> 0 | C15: 8 | D15: =B15-C15 -> -8 | E15: =IF((D15<0),0,D15) -> 0
A16: 15 | B16: =SUM(Avril!H18:H23) -> 0 | C16: 8 | D16: =B16-C16 -> -8 | E16: =IF((D16<0),0,D16) -> 0
A17: 16 | B17: =SUM(Avril!H25:H30) -> 0 | C17: 8 | D17: =B17-C17 -> -8 | E17: =IF((D17<0),0,D17) -> 0
A18: 17 | B18: =SUM(Avril!H32:H37) -> 0 | C18: 8 | D18: =B18-C18 -> -8 | E18: =IF((D18<0),0,D18) -> 0 | F18: Avril | G18: =SUM(E15:E18) -> 0
A19: 18 | B19: =SUM(Avril!H39)+SUM(Mai!H10:H14) -> 0 | C19: 8 | D19: =B19-C19 -> -8 | E19: =IF((D19<0),0,D19) -> 0
A20: 19 | B20: =SUM(Mai!H16:H21) -> 0 | C20: 8 | D20: =B20-C20 -> -8 | E20: =IF((D20<0),0,D20) -> 0
A21: 20 | B21: =SUM(Mai!H23:H28) -> 0 | C21: 8 | D21: =B21-C21 -> -8 | E21: =IF((D21<0),0,D21) -> 0
A22: 21 | B22: =SUM(Mai!H30:H35) -> 0 | C22: 8 | D22: =B22-C22 -> -8 | E22: =IF((D22<0),0,D22) -> 0 | F22: Mai | G22: =SUM(E19:E22) -> 0
A23: 22 | B23: =SUM(Mai!H37:H40)+SUM(Juin!H10:H11) -> 0 | C23: 8 | D23: =B23-C23 -> -8 | E23: =IF((D23<0),0,D23) -> 0
A24: 23 | B24: =SUM(Juin!H13:H18) -> 0 | C24: 8 | D24: =B24-C24 -> -8 | E24: =IF((D24<0),0,D24) -> 0
A25: 24 | B25: =SUM(Juin!H20:H25) -> 0 | C25: 8 | D25: =B25-C25 -> -8 | E25: =IF((D25<0),0,D25) -> 0
A26: 25 | B26: =SUM(Juin!H27:H32) -> 0 | C26: 8 | D26: =B26-C26 -> -8 | E26: =IF((D26<0),0,D26) -> 0
A27: 26 | B27: =SUM(Juin!H34:H39) -> 0 | C27: 8 | D27: =B27-C27 -> -8 | E27: =IF((D27<0),0,D27) -> 0 | F27: Juin | G27: =SUM(E23:E27) -> 0
A28: 27 | B28: =SUM(Juillet!H11:H16) -> 0 | C28: 8 | D28: =B28-C28 -> -8 | E28: =IF((D28<0),0,D28) -> 0
A29: 28 | B29: =SUM(Juillet!H18:H23) -> 0 | C29: 8 | D29: =B29-C29 -> -8 | E29: =IF((D29<0),0,D29) -> 0
A30: 29 | B30: =SUM(Juillet!H25:H30) -> 0 | C30: 8 | D30: =B30-C30 -> -8 | E30: =IF((D30<0),0,D30) -> 0
A31: 30 | B31: =SUM(Juillet!H32:H37) -> 0 | C31: 8 | D31: =B31-C31 -> -8 | E31: =IF((D31<0),0,D31) -> 0 | F31: Juillet | G31: =SUM(E28:E31) -> 0
A32: 31 | B32: =SUM(Juillet!H39:H40)+SUM(Août!H10:H13) -> 0 | C32: 8 | D32: =B32-C32 -> -8 | E32: =IF((D32<0),0,D32) -> 0
A33: 32 | B33: =SUM(Août!H15:H20) -> 0 | C33: 8 | D33: =B33-C33 -> -8 | E33: =IF((D33<0),0,D33) -> 0
A34: 33 | B34: =SUM(Août!H22:H27) -> 0 | C34: 8 | D34: =B34-C34 -> -8 | E34: =IF((D34<0),0,D34) -> 0
A35: 34 | B35: =SUM(Août!H29:H34) -> 0 | C35: 8 | D35: =B35-C35 -> -8 | E35: =IF((D35<0),0,D35) -> 0 | F35: Août | G35: =SUM(E32:E35) -> 0
A36: 35 | B36: =SUM(Août!H36:H40)+SUM(Septembre!H10) -> 0 | C36: 8 | D36: =B36-C36 -> -8 | E36: =IF((D36<0),0,D36) -> 0
A37: 36 | B37: =SUM(Septembre!H12:H17) -> 0 | C37: 8 | D37: =B37-C37 -> -8 | E37: =IF((D37<0),0,D37) -> 0
A38: 37 | B38: =SUM(Septembre!H19:H24) -> 0 | C38: 8 | D38: =B38-C38 -> -8 | E38: =IF((D38<0),0,D38) -> 0
A39: 38 | B39: =SUM(Septembre!H26:H31) -> 0 | C39: 8 | D39: =B39-C39 -> -8 | E39: =IF((D39<0),0,D39) -> 0
A40: 39 | B40: =SUM(Septembre!H33:H38) -> 0 | C40: 8 | D40: =B40-C40 -> -8 | E40: =IF((D40<0),0,D40) -> 0 | F40: Septembre | G40: =SUM(E36:E40) -> 0
A41: 40 | B41: =SUM(Octobre!H10:H15) -> 0 | C41: 8 | D41: =B41-C41 -> -8 | E41: =IF((D41<0),0,D41) -> 0
A42: 41 | B42: =SUM(Octobre!H17:H22) -> 0 | C42: 8 | D42: =B42-C42 -> -8 | E42: =IF((D42<0),0,D42) -> 0
A43: 42 | B43: =SUM(Octobre!H24:H29) -> 0 | C43: 8 | D43: =B43-C43 -> -8 | E43: =IF((D43<0),0,D43) -> 0
A44: 43 | B44: =SUM(Octobre!H31:H36) -> 0 | C44: 8 | D44: =B44-C44 -> -8 | E44: =IF((D44<0),0,D44) -> 0 | F44: Octobre | G44: =SUM(E41:E44) -> 0
A45: 44 | B45: =SUM(Octobre!H38:H40)+SUM(Novembre!H10:H12) -> 0 | C45: 8 | D45: =B45-C45 -> -8 | E45: =IF((D45<0),0,D45) -> 0
A46: 45 | B46: =SUM(Novembre!H14:H19) -> 0 | C46: 8 | D46: =B46-C46 -> -8 | E46: =IF((D46<0),0,D46) -> 0
A47: 46 | B47: =SUM(Novembre!H21:H26) -> 0 | C47: 8 | D47: =B47-C47 -> -8 | E47: =IF((D47<0),0,D47) -> 0
A48: 47 | B48: =SUM(Novembre!H28:H33) -> 0 | C48: 8 | D48: =B48-C48 -> -8 | E48: =IF((D48<0),0,D48) -> 0 | F48: Novembre | G48: =SUM(E45:E48) -> 0
A49: 48 | B49: =SUM(Novembre!H35:H39)+SUM(Décembre!H10) -> 0 | C49: 8 | D49: =B49-C49 -> -8 | E49: =IF((D49<0),0,D49) -> 0
A50: 49 | B50: =SUM(Décembre!H12:H17) -> 0 | C50: 8 | D50: =B50-C50 -> -8 | E50: =IF((D50<0),0,D50) -> 0
A51: 50 | B51: =SUM(Décembre!H19:H24) -> 0 | C51: 8 | D51: =B51-C51 -> -8 | E51: =IF((D51<0),0,D51) -> 0
A52: 51 | B52: =SUM(Décembre!H26:H31) -> 0 | C52: 8 | D52: =B52-C52 -> -8 | E52: =IF((D52<0),0,D52) -> 0
A53: 52 | B53: =SUM(Décembre!H33:H38) -> 0 | C53: 8 | D53: =B53-C53 -> -8 | E53: =IF((D53<0),0,D53) -> 0 | F53: Décembre | G53: =SUM(E49:E53) -> 0
