Workbook
Name Alcool: 'nouvelle liste prix'!$R$2
Name Aromates: 'nouvelle liste prix'!$E$218:$E$231
Name Categories: 'nouvelle liste prix'!$AA$2:$AA$17
Name Céréalier: 'nouvelle liste prix'!$A$72:$A$83
Name Épices: 'nouvelle liste prix'!$A$35:$A$59
Name Fruits: 'nouvelle liste prix'!$E$2:$E$38
Name Légumes: 'nouvelle liste prix'!$E$61:$E$183
Name Liquide: 'nouvelle liste prix'!$A$99:$A$122
Name Noix_Fruits_Secs: 'nouvelle liste prix'!$A$2:$A$18
Name Pickliz: 'nouvelle liste prix'!$A$166:$A$171
Name Produit_animal: 'nouvelle liste prix'!$J$114:$J$116
Name Produit_de_la_mer: 'nouvelle liste prix'!$J$72:$J$96
Name Produit_végétal: 'nouvelle liste prix'!$E$241:$E$243
Name Produits_Laitiers: 'nouvelle liste prix'!$N$2:$N$36
Name Sec: 'nouvelle liste prix'!$A$135:$A$159
Name Viande: 'nouvelle liste prix'!$J$2:$J$29
Name Volaille: 'nouvelle liste prix'!$J$45:$J$55

Sheet nouvelle liste prix
A1: Noix et fruit séché | B1: prix | C1: unite | E1: Fruit | F1: prix | G1: unite | J1: Viande | K1: prix | L1: unite | N1: Produit laitier | O1: prix | P1: unite | R1: Alcool | S1: prix | T1: unite | AA1: Categories
A2: Abricot séché | B2: 14.09 | C2: Kg | E2: Ananas gold | F2: 3.8 | G2: unité | J2: Bacon coupé | K2: 6.33 | L2: Kg | N2: Beurre non-salée | O2: 4.95 | P2: Kg | R2: Bière | S2: 7.25 | T2: pinte | AA2: Alcool
A3: Canneberge séchée sucrée | B3: 6.94 | C3: Kg | E3: Banane mure | F3: 1.19 | G3: livre | J3: Bacon fortin | K3: 4.96 | L3: Kg | N3: Crème 35% fouetter | O3: 5.11 | P3: litre | AA3: Aromates
A4: Figue séché | B4: 11.29 | C4: Kg | E4: Banane tourner | F4: 1.19 | G4: livre | J4: Bœuf Chuckflat | K4: 17.91 | L4: Kg | N4: Crème sûre 14% | O4: 4.76 | P4: litre | AA4: Céréalier
A5: Graine de citrouille | B5: 12.26 | C5: Kg | E5: Banane verte | F5: 1.19 | G5: livre | J5: Bœuf contre-filet AA | K5: 21.33 | L5: Kg | N5: Crème sûre 18% | O5: 6.94 | P5: litre | AA5: Épices
A6: Graine de sésame blanche | B6: 14.33 | C6: Kg | E6: Bananier feuille | F6: 3.61 | G6: livre | J6: Bœuf contre-filet apf fr | K6: 18.93 | L6: Kg | N6: Fromage 14 arpent | O6: 39.53 | P6: Kg | AA6: Fruits
A7: Graine de tournesol s/écale nat | B7: 6.45 | C7: Kg | E7: Bleuet | F7: 0.57 | G7: oz | J7: Bœuf intérieur de ronde AA dénudé | K7: 12.66 | L7: kg | N7: Fromage 1608 | O7: 15.29 | P7: Kg | AA7: Légumes
A8: Noix amande bl éffilée | B8: 23.12 | C8: Kg | E8: Cantaloup | F8: 2.08 | G8: unité | J8: Bœuf pastrami fumé | K8: 12.66 | L8: Kg | N8: Fromage bleu ciel charlevoix | O8: 22.66 | P8: Kg | AA8: Liquide
A9: Noix amande bl tr | B9: 26.34 | C9: Kg | E9: Cerise | F9: 4.47 | G9: livre | J9: Boudin 3po bœuf/porc | K9: 10.71 | L9: Kg | N9: Fromage bleu ermite | O9: 12.55 | P9: Kg | AA9: Noix_Fruits_Secs
A10: Noix aveline écalée | B10: 19.11 | C10: Kg | E10: Cerise de terre Col | F10: 12.14 | G10: livre | J10: Lapin cuisse | K10: 25.01 | L10: Kg | N10: Fromage bleu fumé | O10: 15 | P10: Kg | AA10: Pickliz
A11: Noix aveline ent s/écale | B11: 39.41 | C11: Kg | E11: Cerise de terre Que | F11: 9.01 | G11: livre | J11: Pancetta | K11: 17.89 | L11: Kg | N11: Fromage bocconcini gros 100g | O11: 15.74 | P11: Kg | AA11: Produit_animal
A12: Noix cajou rotie n/salée | B12: 27.27 | C12: Kg | E12: Citron | F12: 0.54 | G12: unité | J12: Porc bajoue fumé | K12: 7.12 | L12: Kg | N12: Fromage bocconcini large 50g | O12: 18.11 | P12: Kg | AA12: Produit_de_la_mer
A13: Noix coco n/sucré moy | B13: 10.34 | C13: Kg | E13: Clementine | F13: 3.13 | G13: Kg | J13: Porc boyau | K13: 32.28 | L13: unité | N13: Fromage bocconcini mini 5g | O13: 18.37 | P13: Kg | AA13: Produit_végétal
A14: Noix grenoble demi | B14: 19.51 | C14: Kg | E14: Figue noire | F14: 1.37 | G14: unité | J14: Porc boyau | K14: 32.66 | L14: unité | N14: Fromage bocconcini moyen 30g | O14: 16.26 | P14: Kg | AA14: Produits_Laitiers
... A17: Raisin sultana | B17: 4.65 | C17: Kg | E17: Framboise Mexique | F17: 2.36 | G17: casseau | J17: Porc longe des court cov fr | K17: 6.98 | L17: Kg | N17: Fromage chèvre-vache neige | O17: 23.78 | P17: Kg | AA17: Volaille
E18: Framboise Québec | F18: 3.07 | G18: casseau | J18: Porc longe des court su | K18: 4.08 | L18: Kg | N18: fromage crème tartinable | O18: 11.82 | P18: Kg
E19: Fruit rouge mélanger | F19: 7.24 | G19: Kg | J19: Porc Nagano contre-filet fr | K19: 9.97 | L19: Kg | N19: Fromage feta | O19: 12.75 | P19: Kg
E20: Kiwi large | F20: 4 | G20: Kg | J20: Porc Nagano contre-filet su | K20: 9.49 | L20: Kg | N20: Fromage grain poutine | O20: 11.77 | P20: Kg
E21: Lime | F21: 0.39 | G21: unité | J21: Porc osso buco su Dubreton | K21: 7.2 | L21: Kg | N21: Fromage hercule | O21: 10.5 | P21: Kg
E22: Mangue | F22: 1.55 | G22: unité | J22: Porc osso buco su Fortin | K22: 6.36 | L22: Kg | N22: Fromage louis dubois | O22: 13.35 | P22: Kg
E23: Mangue ataulfo | F23: 1.26 | G23: unité | J23: Veau araignée lait su | K23: 15.26 | L23: Kg | N23: Fromage mi-carême | O23: 31.99 | P23: Kg
E24: Melon d'eau | F24: 1 | G24: livre | J24: Veau bavette grain 6oz su | K24: 18.14 | L24: Kg | N24: Fromage parmesan granna padano | O24: 3.08 | P24: Kg
E25: Melon miel | F25: 4.75 | G25: unité | J25: Veau onglet su | K25: 12.05 | L25: Kg | N25: Fromage parmesan rapé | O25: 22.43 | P25: Kg
E26: Mure | F26: 2.41 | G26: casseau | J26: Veau os moelle su | K26: 4.82 | L26: Kg | N26: Fromage pied de vent | O26: 39.53 | P26: Kg
E27: Orange | F27: 0.48 | G27: unité | J27: Veau os reg su | K27: 2.89 | L27: Kg | N27: Fromage rapé ancêtre
E28: Orange sanguine | F28: 1.36 | G28: unité | J28: Veau ris su | K28: 16.11 | L28: Kg | N28: Fromage riopelle de l'isle | O28: 29.73 | P28: Kg
E29: Pamplemousse | F29: 1.02 | G29: unité | N29: Fromage sainte nitouche | O29: 12.61 | P29: Kg
E30: Peche | F30: 2.31 | G30: litre | N30: Fromage suisse canadien | O30: 1.4 | P30: Kg
E31: Poire asiatique | F31: 0.97 | G31: unité | N31: Fromage suisse type gruyere | O31: 2.77 | P31: Kg
E32: Poire bartlett | F32: 1.83 | G32: livre | N32: Fromage tomme de monsieur seguin | O32: 13.87 | P32: Kg
E33: Pomme cortland | F33: 0.81 | G33: livre | N33: Fromage victor berthold | O33: 14.13 | P33: Kg
A34: Épices | B34: prix | C34: unite | E34: Pomme granny smith | F34: 0.38 | G34: unité | N34: Lait 2% | O34: 1.64 | P34: litre
A35: Épice ail granulé chinois | B35: 24.32 | C35: livre | E35: Pomme grenade | F35: 1.43 | G35: unité | N35: Yogourt nature 2% | O35: 2.92 | P35: Kg
A36: Épice bifteck de montreal | B36: 18.47 | C36: livre | E36: Raisin bleu sans pep | F36: 2.31 | G36: litre
A37: Épice cajun | B37: 10.66 | C37: livre | E37: Raisin rouge sans pep | F37: 3.17 | G37: livre
A38: Épice cannelle moulu | B38: 28.08 | C38: livre
A39: Épice clou de girofle ent | B39: 29.04 | C39: livre
A40: Épice coriandre craque | B40: 9.69 | C40: livre
A41: Épice coriandre moulu | B41: 8.21 | C41: livre
A42: Épice cumin grain | B42: 15.29 | C42: livre
...

Sheet feuille d'origine
B1: FICHE RECETTE | H1: Date:
B2: Votre nom:__________________
B4: Nom de la recette :
J5: Convertisseur temps
B6: Standard : | C6: Qté: | F6: Temps de préparation | H6: =L6/L7 -> 0 | J6: 0 | L6: =J6*L7/J7 -> 0
B7: Rendement total: | C7: Rendement total: | F7: Temps de cuisson | J7: 60 | L7: 100
B8: Portion individuelle: | F8: Température du four
F9: Salaire moyen | H9: 13
A10: Categories | B10: Ingrédients | C10: Coût un. | D10: Unité | E10: Quantité | F10: Coût total | G10: Préparation
C12: {=IFERROR(OFFSET(INDIRECT($A12),MATCH($B12,INDIRECT($A12),0)-1,1),"")} | D12: {=IFERROR(OFFSET(INDIRECT($A12),MATCH($B12,INDIRECT($A12),0)-1,2),"")} | F12: =IFERROR(E12*C12,"")
C13: {=IFERROR(OFFSET(INDIRECT($A13),MATCH($B13,INDIRECT($A13),0)-1,1),"")} | D13: {=IFERROR(OFFSET(INDIRECT($A13),MATCH($B13,INDIRECT($A13),0)-1,2),"")} | F13: =IFERROR(E13*C13,"")
C14: {=IFERROR(OFFSET(INDIRECT($A14),MATCH($B14,INDIRECT($A14),0)-1,1),"")} | D14: {=IFERROR(OFFSET(INDIRECT($A14),MATCH($B14,INDIRECT($A14),0)-1,2),"")} | F14: =IFERROR(E14*C14,"")
C15: {=IFERROR(OFFSET(INDIRECT($A15),MATCH($B15,INDIRECT($A15),0)-1,1),"")} | D15: {=IFERROR(OFFSET(INDIRECT($A15),MATCH($B15,INDIRECT($A15),0)-1,2),"")} | F15: =IFERROR(E15*C15,"")
C16: {=IFERROR(OFFSET(INDIRECT($A16),MATCH($B16,INDIRECT($A16),0)-1,1),"")} | D16: {=IFERROR(OFFSET(INDIRECT($A16),MATCH($B16,INDIRECT($A16),0)-1,2),"")} | F16: =IFERROR(E16*C16,"")
C17: {=IFERROR(OFFSET(INDIRECT($A17),MATCH($B17,INDIRECT($A17),0)-1,1),"")} | D17: {=IFERROR(OFFSET(INDIRECT($A17),MATCH($B17,INDIRECT($A17),0)-1,2),"")} | F17: =IFERROR(E17*C17,"")
C18: {=IFERROR(OFFSET(INDIRECT($A18),MATCH($B18,INDIRECT($A18),0)-1,1),"")} | D18: {=IFERROR(OFFSET(INDIRECT($A18),MATCH($B18,INDIRECT($A18),0)-1,2),"")} | F18: =IFERROR(E18*C18,"")
C19: {=IFERROR(OFFSET(INDIRECT($A19),MATCH($B19,INDIRECT($A19),0)-1,1),"")} | D19: {=IFERROR(OFFSET(INDIRECT($A19),MATCH($B19,INDIRECT($A19),0)-1,2),"")} | F19: =IFERROR(E19*C19,"")
C20: {=IFERROR(OFFSET(INDIRECT($A20),MATCH($B20,INDIRECT($A20),0)-1,1),"")} | D20: {=IFERROR(OFFSET(INDIRECT($A20),MATCH($B20,INDIRECT($A20),0)-1,2),"")} | F20: =IFERROR(E20*C20,"")
C21: {=IFERROR(OFFSET(INDIRECT($A21),MATCH($B21,INDIRECT($A21),0)-1,1),"")} | D21: {=IFERROR(OFFSET(INDIRECT($A21),MATCH($B21,INDIRECT($A21),0)-1,2),"")} | F21: =IFERROR(E21*C21,"")
C22: {=IFERROR(OFFSET(INDIRECT($A22),MATCH($B22,INDIRECT($A22),0)-1,1),"")} | D22: {=IFERROR(OFFSET(INDIRECT($A22),MATCH($B22,INDIRECT($A22),0)-1,2),"")} | F22: =IFERROR(E22*C22,"")
C23: {=IFERROR(OFFSET(INDIRECT($A23),MATCH($B23,INDIRECT($A23),0)-1,1),"")} | D23: {=IFERROR(OFFSET(INDIRECT($A23),MATCH($B23,INDIRECT($A23),0)-1,2),"")} | F23: =IFERROR(E23*C23,"")
... C33: {=IFERROR(OFFSET(INDIRECT($A33),MATCH($B33,INDIRECT($A33),0)-1,1),"")} | D33: {=IFERROR(OFFSET(INDIRECT($A33),MATCH($B33,INDIRECT($A33),0)-1,2),"")} | F33: =IFERROR(E33*C33,"")
B34: Coût de la recette | C34: =SUM(F11:F33)+C36 -> 0
B35: Coût par portion | C35: =C34/D8 -> #DIV/0!
B36: Labor Cost | C36: =H9*H6 -> 0 | D36: $total port. | E36: Coût total port. | F36: =(C36/D8)+C35 -> #DIV/0!
B37: Récipients | C37: Standard | G37: Détails:
B40: Présentation :
B43: Commentaires :

Sheet Pain au lait
B1: FICHE RECETTE | H1: Date:
B2: Votre nom:__________________
B4: Nom de la recette :
J5: Convertisseur temps
B6: Standard : | C6: Qté: | F6: Temps de préparation | H6: =L6/L7 -> 0 | J6: 0 | L6: =J6*L7/J7 -> 0
B7: Rendement total: | C7: Rendement total: | F7: Temps de cuisson | J7: 60 | L7: 100
B8: Portion individuelle: | F8: Température du four
F9: Salaire moyen | H9: 13
A10: Categories | B10: Ingrédients | C10: Coût un. | D10: Unité | E10: Quantité | F10: Coût total | G10: Préparation
C12: {=IFERROR(OFFSET(INDIRECT($A12),MATCH($B12,INDIRECT($A12),0)-1,1),"")} | D12: {=IFERROR(OFFSET(INDIRECT($A12),MATCH($B12,INDIRECT($A12),0)-1,2),"")} | F12: =IFERROR(E12*C12,"")
C13: {=IFERROR(OFFSET(INDIRECT($A13),MATCH($B13,INDIRECT($A13),0)-1,1),"")} | D13: {=IFERROR(OFFSET(INDIRECT($A13),MATCH($B13,INDIRECT($A13),0)-1,2),"")} | F13: =IFERROR(E13*C13,"")
C14: {=IFERROR(OFFSET(INDIRECT($A14),MATCH($B14,INDIRECT($A14),0)-1,1),"")} | D14: {=IFERROR(OFFSET(INDIRECT($A14),MATCH($B14,INDIRECT($A14),0)-1,2),"")} | F14: =IFERROR(E14*C14,"")
C15: {=IFERROR(OFFSET(INDIRECT($A15),MATCH($B15,INDIRECT($A15),0)-1,1),"")} | D15: {=IFERROR(OFFSET(INDIRECT($A15),MATCH($B15,INDIRECT($A15),0)-1,2),"")} | F15: =IFERROR(E15*C15,"")
C16: {=IFERROR(OFFSET(INDIRECT($A16),MATCH($B16,INDIRECT($A16),0)-1,1),"")} | D16: {=IFERROR(OFFSET(INDIRECT($A16),MATCH($B16,INDIRECT($A16),0)-1,2),"")} | F16: =IFERROR(E16*C16,"")
C17: {=IFERROR(OFFSET(INDIRECT($A17),MATCH($B17,INDIRECT($A17),0)-1,1),"")} | D17: {=IFERROR(OFFSET(INDIRECT($A17),MATCH($B17,INDIRECT($A17),0)-1,2),"")} | F17: =IFERROR(E17*C17,"")
C18: {=IFERROR(OFFSET(INDIRECT($A18),MATCH($B18,INDIRECT($A18),0)-1,1),"")} | D18: {=IFERROR(OFFSET(INDIRECT($A18),MATCH($B18,INDIRECT($A18),0)-1,2),"")} | F18: =IFERROR(E18*C18,"")
C19: {=IFERROR(OFFSET(INDIRECT($A19),MATCH($B19,INDIRECT($A19),0)-1,1),"")} | D19: {=IFERROR(OFFSET(INDIRECT($A19),MATCH($B19,INDIRECT($A19),0)-1,2),"")} | F19: =IFERROR(E19*C19,"")
C20: {=IFERROR(OFFSET(INDIRECT($A20),MATCH($B20,INDIRECT($A20),0)-1,1),"")} | D20: {=IFERROR(OFFSET(INDIRECT($A20),MATCH($B20,INDIRECT($A20),0)-1,2),"")} | F20: =IFERROR(E20*C20,"")
C21: {=IFERROR(OFFSET(INDIRECT($A21),MATCH($B21,INDIRECT($A21),0)-1,1),"")} | D21: {=IFERROR(OFFSET(INDIRECT($A21),MATCH($B21,INDIRECT($A21),0)-1,2),"")} | F21: =IFERROR(E21*C21,"")
C22: {=IFERROR(OFFSET(INDIRECT($A22),MATCH($B22,INDIRECT($A22),0)-1,1),"")} | D22: {=IFERROR(OFFSET(INDIRECT($A22),MATCH($B22,INDIRECT($A22),0)-1,2),"")} | F22: =IFERROR(E22*C22,"")
C23: {=IFERROR(OFFSET(INDIRECT($A23),MATCH($B23,INDIRECT($A23),0)-1,1),"")} | D23: {=IFERROR(OFFSET(INDIRECT($A23),MATCH($B23,INDIRECT($A23),0)-1,2),"")} | F23: =IFERROR(E23*C23,"")
... C33: {=IFERROR(OFFSET(INDIRECT($A33),MATCH($B33,INDIRECT($A33),0)-1,1),"")} | D33: {=IFERROR(OFFSET(INDIRECT($A33),MATCH($B33,INDIRECT($A33),0)-1,2),"")} | F33: =IFERROR(E33*C33,"")
B34: Coût de la recette | C34: =SUM(F11:F33)+C36 -> 0
B35: Coût par portion | C35: =C34/D8 -> #DIV/0!
B36: Labor Cost | C36: =H9*H6 -> 0 | D36: $total port. | E36: Coût total port. | F36: =(C36/D8)+C35 -> #DIV/0!
B37: Récipients | C37: Standard | G37: Détails:
B40: Présentation :
B43: Commentaires :

Sheet Tartare de truite
B1: FICHE RECETTE | H1: Date:
B2: Votre nom:__________________
B4: Nom de la recette :
J5: Convertisseur temps
B6: Standard : | C6: Qté: | F6: Temps de préparation | H6: =L6/L7 -> 0.25 | J6: 15 | L6: =J6*L7/J7 -> 25
B7: Rendement total: | C7: Rendement total: | F7: Temps de cuisson | J7: 60 | L7: 100
B8: Portion individuelle: | D8: 1 | F8: Température du four
F9: Salaire moyen | H9: 13
A10: Categories | B10: Ingrédients | C10: Coût un. | D10: Unité | E10: Quantité | F10: Coût total | G10: Préparation
A12: Produit_de_la_mer | B12: Truite steelhead fil des | C12: {=IFERROR(OFFSET(INDIRECT($A12),MATCH($B12,INDIRECT($A12),0)-1,1),"")} -> 26 | D12: {=IFERROR(OFFSET(INDIRECT($A12),MATCH($B12,INDIRECT($A12),0)-1,2),"")} -> Kg | E12: 0.12 | F12: =IFERROR(E12*C12,"") -> 3.12
A13: Légumes | B13: Échalotte sèche large | C13: {=IFERROR(OFFSET(INDIRECT($A13),MATCH($B13,INDIRECT($A13),0)-1,1),"")} -> 1.21 | D13: {=IFERROR(OFFSET(INDIRECT($A13),MATCH($B13,INDIRECT($A13),0)-1,2),"")} -> livre | E13: 0.03 | F13: =IFERROR(E13*C13,"") -> 0.0363
A14: Légumes | B14: Cocombre anglais | C14: {=IFERROR(OFFSET(INDIRECT($A14),MATCH($B14,INDIRECT($A14),0)-1,1),"")} -> 1.01 | D14: {=IFERROR(OFFSET(INDIRECT($A14),MATCH($B14,INDIRECT($A14),0)-1,2),"")} -> unité | F14: 0.04
A15: Aromates | B15: Ciboulette | C15: {=IFERROR(OFFSET(INDIRECT($A15),MATCH($B15,INDIRECT($A15),0)-1,1),"")} -> 1.12 | D15: {=IFERROR(OFFSET(INDIRECT($A15),MATCH($B15,INDIRECT($A15),0)-1,2),"")} -> unité | E15: 0.12 | F15: =IFERROR(E15*C15,"") -> 0.1344
A16: Céréalier | B16: Pain baguette | C16: {=IFERROR(OFFSET(INDIRECT($A16),MATCH($B16,INDIRECT($A16),0)-1,1),"")} -> 1.52 | D16: {=IFERROR(OFFSET(INDIRECT($A16),MATCH($B16,INDIRECT($A16),0)-1,2),"")} -> 350g | E16: 0.15 | F16: =IFERROR(E16*C16,"") -> 0.228
B17: ='Salade nappa'!C4 -> Salade nappa | C17: ='Salade nappa'!F36 -> 17.556267 | D17: 5,5 kg | F17: 0.36
B18: ='Laque à la bière'!C4 -> Laque à la bière | C18: ='Laque à la bière'!F36 -> 17.658667 | D18: litre | E18: 0.015 | F18: =IFERROR(E18*C18,"") -> 0.26488
B19: ='Vinaigrette tout-usage'!C4 -> VTU | C19: ='Vinaigrette tout-usage'!F36 -> 4.4293922 | D19: Litre | E19: 0.015 | F19: =IFERROR(E19*C19,"") -> 0.066440882
C20: {=IFERROR(OFFSET(INDIRECT($A20),MATCH($B20,INDIRECT($A20),0)-1,1),"")} | D20: {=IFERROR(OFFSET(INDIRECT($A20),MATCH($B20,INDIRECT($A20),0)-1,2),"")} | F20: =IFERROR(E20*C20,"")
C21: {=IFERROR(OFFSET(INDIRECT($A21),MATCH($B21,INDIRECT($A21),0)-1,1),"")} | D21: {=IFERROR(OFFSET(INDIRECT($A21),MATCH($B21,INDIRECT($A21),0)-1,2),"")} | F21: =IFERROR(E21*C21,"")
C22: {=IFERROR(OFFSET(INDIRECT($A22),MATCH($B22,INDIRECT($A22),0)-1,1),"")} | D22: {=IFERROR(OFFSET(INDIRECT($A22),MATCH($B22,INDIRECT($A22),0)-1,2),"")} | F22: =IFERROR(E22*C22,"")
C23: {=IFERROR(OFFSET(INDIRECT($A23),MATCH($B23,INDIRECT($A23),0)-1,1),"")} | D23: {=IFERROR(OFFSET(INDIRECT($A23),MATCH($B23,INDIRECT($A23),0)-1,2),"")} | F23: =IFERROR(E23*C23,"")
C24: {=IFERROR(OFFSET(INDIRECT($A24),MATCH($B24,INDIRECT($A24),0)-1,1),"")} | D24: {=IFERROR(OFFSET(INDIRECT($A24),MATCH($B24,INDIRECT($A24),0)-1,2),"")} | F24: =IFERROR(E24*C24,"")
C25: {=IFERROR(OFFSET(INDIRECT($A25),MATCH($B25,INDIRECT($A25),0)-1,1),"")} | D25: {=IFERROR(OFFSET(INDIRECT($A25),MATCH($B25,INDIRECT($A25),0)-1,2),"")} | F25: =IFERROR(E25*C25,"")
C26: {=IFERROR(OFFSET(INDIRECT($A26),MATCH($B26,INDIRECT($A26),0)-1,1),"")} | D26: {=IFERROR(OFFSET(INDIRECT($A26),MATCH($B26,INDIRECT($A26),0)-1,2),"")} | F26: =IFERROR(E26*C26,"")
C27: {=IFERROR(OFFSET(INDIRECT($A27),MATCH($B27,INDIRECT($A27),0)-1,1),"")} | D27: {=IFERROR(OFFSET(INDIRECT($A27),MATCH($B27,INDIRECT($A27),0)-1,2),"")} | F27: =IFERROR(E27*C27,"")
C28: {=IFERROR(OFFSET(INDIRECT($A28),MATCH($B28,INDIRECT($A28),0)-1,1),"")} | D28: {=IFERROR(OFFSET(INDIRECT($A28),MATCH($B28,INDIRECT($A28),0)-1,2),"")} | F28: =IFERROR(E28*C28,"")
C29: {=IFERROR(OFFSET(INDIRECT($A29),MATCH($B29,INDIRECT($A29),0)-1,1),"")} | D29: {=IFERROR(OFFSET(INDIRECT($A29),MATCH($B29,INDIRECT($A29),0)-1,2),"")} | F29: =IFERROR(E29*C29,"")
C30: {=IFERROR(OFFSET(INDIRECT($A30),MATCH($B30,INDIRECT($A30),0)-1,1),"")} | D30: {=IFERROR(OFFSET(INDIRECT($A30),MATCH($B30,INDIRECT($A30),0)-1,2),"")} | F30: =IFERROR(E30*C30,"")
C31: {=IFERROR(OFFSET(INDIRECT($A31),MATCH($B31,INDIRECT($A31),0)-1,1),"")} | D31: {=IFERROR(OFFSET(INDIRECT($A31),MATCH($B31,INDIRECT($A31),0)-1,2),"")} | F31: =IFERROR(E31*C31,"")
... C33: {=IFERROR(OFFSET(INDIRECT($A33),MATCH($B33,INDIRECT($A33),0)-1,1),"")} | D33: {=IFERROR(OFFSET(INDIRECT($A33),MATCH($B33,INDIRECT($A33),0)-1,2),"")} | F33: =IFERROR(E33*C33,"")
B34: Coût de la recette | C34: =SUM(F11:F33)+C36 -> 7.5000209
B35: Coût par portion | C35: =C34/D8 -> 7.5000209
B36: Labor Cost | C36: =H9*H6 -> 3.25 | D36: $total port. | E36: Coût total port. | F36: =(C36/D8)+C35 -> 10.750021
B37: Récipients | C37: Standard | G37: Détails:
B40: Présentation :
B43: Commentaires :

Sheet tartare de Boeuf
B1: FICHE RECETTE | H1: Date:
B2: Votre nom:__________________
B4: Nom de la recette :
J5: Convertisseur temps
B6: Standard : | C6: Qté: | F6: Temps de préparation | H6: =L6/L7 -> 0.25 | J6: 15 | L6: =J6*L7/J7 -> 25
B7: Rendement total: | C7: Rendement total: | F7: Temps de cuisson | J7: 60 | L7: 100
B8: Portion individuelle: | D8: 1 | F8: Température du four
F9: Salaire moyen | H9: 13
A10: Categories | B10: Ingrédients | C10: Coût un. | D10: Unité | E10: Quantité | F10: Coût total | G10: Préparation
A12: Viande | B12: Bœuf intérieur de ronde AA dénudé | C12: {=IFERROR(OFFSET(INDIRECT($A12),MATCH($B12,INDIRECT($A12),0)-1,1),"")} -> 12.66 | D12: {=IFERROR(OFFSET(INDIRECT($A12),MATCH($B12,INDIRECT($A12),0)-1,2),"")} -> kg | E12: 0.12 | F12: =IFERROR(E12*C12,"") -> 1.5192
A13: Pickliz | B13: capre capucine 8-9mm | C13: {=IFERROR(OFFSET(INDIRECT($A13),MATCH($B13,INDIRECT($A13),0)-1,1),"")} -> 5.89 | D13: {=IFERROR(OFFSET(INDIRECT($A13),MATCH($B13,INDIRECT($A13),0)-1,2),"")} -> litre | E13: 0.015 | F13: =IFERROR(E13*C13,"") -> 0.08835
A14: Céréalier | B14: Pain baguette | C14: {=IFERROR(OFFSET(INDIRECT($A14),MATCH($B14,INDIRECT($A14),0)-1,1),"")} -> 1.52 | D14: {=IFERROR(OFFSET(INDIRECT($A14),MATCH($B14,INDIRECT($A14),0)-1,2),"")} -> 350g | E14: 0.1 | F14: =IFERROR(E14*C14,"") -> 0.152
A15: Légumes | B15: Échalotte sèche large | C15: {=IFERROR(OFFSET(INDIRECT($A15),MATCH($B15,INDIRECT($A15),0)-1,1),"")} -> 1.21 | D15: {=IFERROR(OFFSET(INDIRECT($A15),MATCH($B15,INDIRECT($A15),0)-1,2),"")} -> livre | E15: 0.026 | F15: =IFERROR(E15*C15,"") -> 0.03146
A16: Aromates | B16: Ciboulette | C16: {=IFERROR(OFFSET(INDIRECT($A16),MATCH($B16,INDIRECT($A16),0)-1,1),"")} -> 1.12 | D16: {=IFERROR(OFFSET(INDIRECT($A16),MATCH($B16,INDIRECT($A16),0)-1,2),"")} -> unité | E16: 0.12 | F16: =IFERROR(E16*C16,"") -> 0.1344
B17: ='Salade verte'!C4 -> Salade verte | C17: ='Salade verte'!F36 -> 15.110467 | D17: 4,3 livre | F17: 0.54
B18: ='Laque Balsamique'!C4 -> Laque balsamique | C18: ='Laque Balsamique'!F36 -> 6.5726667 | D18: litre | E18: 0.015 | F18: =IFERROR(E18*C18,"") -> 0.09859
B19: ='Vinaigrette tout-usage'!C4 -> VTU | C19: ='Vinaigrette tout-usage'!F36 -> 4.4293922 | D19: Litre | E19: 0.015 | F19: =IFERROR(E19*C19,"") -> 0.066440882
C20: {=IFERROR(OFFSET(INDIRECT($A20),MATCH($B20,INDIRECT($A20),0)-1,1),"")} | D20: {=IFERROR(OFFSET(INDIRECT($A20),MATCH($B20,INDIRECT($A20),0)-1,2),"")} | F20: =IFERROR(E20*C20,"")
C21: {=IFERROR(OFFSET(INDIRECT($A21),MATCH($B21,INDIRECT($A21),0)-1,1),"")} | D21: {=IFERROR(OFFSET(INDIRECT($A21),MATCH($B21,INDIRECT($A21),0)-1,2),"")} | F21: =IFERROR(E21*C21,"")
C22: {=IFERROR(OFFSET(INDIRECT($A22),MATCH($B22,INDIRECT($A22),0)-1,1),"")} | D22: {=IFERROR(OFFSET(INDIRECT($A22),MATCH($B22,INDIRECT($A22),0)-1,2),"")} | F22: =IFERROR(E22*C22,"")
C23: {=IFERROR(OFFSET(INDIRECT($A23),MATCH($B23,INDIRECT($A23),0)-1,1),"")} | D23: {=IFERROR(OFFSET(INDIRECT($A23),MATCH($B23,INDIRECT($A23),0)-1,2),"")} | F23: =IFERROR(E23*C23,"")
C24: {=IFERROR(OFFSET(INDIRECT($A24),MATCH($B24,INDIRECT($A24),0)-1,1),"")} | D24: {=IFERROR(OFFSET(INDIRECT($A24),MATCH($B24,INDIRECT($A24),0)-1,2),"")} | F24: =IFERROR(E24*C24,"")
C25: {=IFERROR(OFFSET(INDIRECT($A25),MATCH($B25,INDIRECT($A25),0)-1,1),"")} | D25: {=IFERROR(OFFSET(INDIRECT($A25),MATCH($B25,INDIRECT($A25),0)-1,2),"")} | F25: =IFERROR(E25*C25,"")
C26: {=IFERROR(OFFSET(INDIRECT($A26),MATCH($B26,INDIRECT($A26),0)-1,1),"")} | D26: {=IFERROR(OFFSET(INDIRECT($A26),MATCH($B26,INDIRECT($A26),0)-1,2),"")} | F26: =IFERROR(E26*C26,"")
C27: {=IFERROR(OFFSET(INDIRECT($A27),MATCH($B27,INDIRECT($A27),0)-1,1),"")} | D27: {=IFERROR(OFFSET(INDIRECT($A27),MATCH($B27,INDIRECT($A27),0)-1,2),"")} | F27: =IFERROR(E27*C27,"")
C28: {=IFERROR(OFFSET(INDIRECT($A28),MATCH($B28,INDIRECT($A28),0)-1,1),"")} | D28: {=IFERROR(OFFSET(INDIRECT($A28),MATCH($B28,INDIRECT($A28),0)-1,2),"")} | F28: =IFERROR(E28*C28,"")
C29: {=IFERROR(OFFSET(INDIRECT($A29),MATCH($B29,INDIRECT($A29),0)-1,1),"")} | D29: {=IFERROR(OFFSET(INDIRECT($A29),MATCH($B29,INDIRECT($A29),0)-1,2),"")} | F29: =IFERROR(E29*C29,"")
C30: {=IFERROR(OFFSET(INDIRECT($A30),MATCH($B30,INDIRECT($A30),0)-1,1),"")} | D30: {=IFERROR(OFFSET(INDIRECT($A30),MATCH($B30,INDIRECT($A30),0)-1,2),"")} | F30: =IFERROR(E30*C30,"")
C31: {=IFERROR(OFFSET(INDIRECT($A31),MATCH($B31,INDIRECT($A31),0)-1,1),"")} | D31: {=IFERROR(OFFSET(INDIRECT($A31),MATCH($B31,INDIRECT($A31),0)-1,2),"")} | F31: =IFERROR(E31*C31,"")
... C33: {=IFERROR(OFFSET(INDIRECT($A33),MATCH($B33,INDIRECT($A33),0)-1,1),"")} | D33: {=IFERROR(OFFSET(INDIRECT($A33),MATCH($B33,INDIRECT($A33),0)-1,2),"")} | F33: =IFERROR(E33*C33,"")
B34: Coût de la recette | C34: =SUM(F11:F33)+C36 -> 5.8804409
B35: Coût par portion | C35: =C34/D8 -> 5.8804409
B36: Labor Cost | C36: =H9*H6 -> 3.25 | D36: $total port. | E36: Coût total port. | F36: =(C36/D8)+C35 -> 9.1304409
B37: Récipients | C37: Standard | G37: Détails:
B40: Présentation :
B43: Commentaires :

Sheet Salade nappa
B1: FICHE RECETTE | H1: Date:
B2: Votre nom:__________________
B4: Nom de la recette : | C4: Salade nappa
J5: Convertisseur temps
B6: Standard : | C6: Qté: | F6: Temps de préparation | H6: =L6/L7 -> 0.083333333 | J6: 5 | L6: =J6*L7/J7 -> 8.3333333
B7: Rendement total: | C7: Rendement total: | F7: Temps de cuisson | J7: 60 | L7: 100
B8: Portion individuelle: | D8: 1 | F8: Température du four
F9: Salaire moyen | H9: 13
A10: Categories | B10: Ingrédients | C10: Coût un. | D10: Unité | E10: Quantité | F10: Coût total | G10: Préparation
A12: Légumes | B12: Laitue nappa | C12: {=IFERROR(OFFSET(INDIRECT($A12),MATCH($B12,INDIRECT($A12),0)-1,1),"")} -> 0.76 | D12: {=IFERROR(OFFSET(INDIRECT($A12),MATCH($B12,INDIRECT($A12),0)-1,2),"")} -> livre | E12: 11.46 | F12: =IFERROR(E12*C12,"") -> 8.7096
A13: Aromates | B13: Persil | C13: {=IFERROR(OFFSET(INDIRECT($A13),MATCH($B13,INDIRECT($A13),0)-1,1),"")} -> 1.52 | D13: {=IFERROR(OFFSET(INDIRECT($A13),MATCH($B13,INDIRECT($A13),0)-1,2),"")} -> unité | E13: 1 | F13: =IFERROR(E13*C13,"") -> 1.52
A14: Aromates | B14: Ciboulette | C14: {=IFERROR(OFFSET(INDIRECT($A14),MATCH($B14,INDIRECT($A14),0)-1,1),"")} -> 1.12 | D14: {=IFERROR(OFFSET(INDIRECT($A14),MATCH($B14,INDIRECT($A14),0)-1,2),"")} -> unité | E14: 2 | F14: =IFERROR(E14*C14,"") -> 2.24
A15: Aromates | B15: Coriandre | C15: {=IFERROR(OFFSET(INDIRECT($A15),MATCH($B15,INDIRECT($A15),0)-1,1),"")} -> 1.29 | D15: {=IFERROR(OFFSET(INDIRECT($A15),MATCH($B15,INDIRECT($A15),0)-1,2),"")} -> unité | E15: 1 | F15: =IFERROR(E15*C15,"") -> 1.29
A16: Aromates | B16: Aneth | C16: {=IFERROR(OFFSET(INDIRECT($A16),MATCH($B16,INDIRECT($A16),0)-1,1),"")} -> 1.63 | D16: {=IFERROR(OFFSET(INDIRECT($A16),MATCH($B16,INDIRECT($A16),0)-1,2),"")} -> unité | E16: 1 | F16: =IFERROR(E16*C16,"") -> 1.63
C17: {=IFERROR(OFFSET(INDIRECT($A17),MATCH($B17,INDIRECT($A17),0)-1,1),"")} | D17: {=IFERROR(OFFSET(INDIRECT($A17),MATCH($B17,INDIRECT($A17),0)-1,2),"")} | F17: =IFERROR(E17*C17,"")
C18: {=IFERROR(OFFSET(INDIRECT($A18),MATCH($B18,INDIRECT($A18),0)-1,1),"")} | D18: {=IFERROR(OFFSET(INDIRECT($A18),MATCH($B18,INDIRECT($A18),0)-1,2),"")} | F18: =IFERROR(E18*C18,"")
C19: {=IFERROR(OFFSET(INDIRECT($A19),MATCH($B19,INDIRECT($A19),0)-1,1),"")} | D19: {=IFERROR(OFFSET(INDIRECT($A19),MATCH($B19,INDIRECT($A19),0)-1,2),"")} | F19: =IFERROR(E19*C19,"")
C20: {=IFERROR(OFFSET(INDIRECT($A20),MATCH($B20,INDIRECT($A20),0)-1,1),"")} | D20: {=IFERROR(OFFSET(INDIRECT($A20),MATCH($B20,INDIRECT($A20),0)-1,2),"")} | F20: =IFERROR(E20*C20,"")
C21: {=IFERROR(OFFSET(INDIRECT($A21),MATCH($B21,INDIRECT($A21),0)-1,1),"")} | D21: {=IFERROR(OFFSET(INDIRECT($A21),MATCH($B21,INDIRECT($A21),0)-1,2),"")} | F21: =IFERROR(E21*C21,"")
C22: {=IFERROR(OFFSET(INDIRECT($A22),MATCH($B22,INDIRECT($A22),0)-1,1),"")} | D22: {=IFERROR(OFFSET(INDIRECT($A22),MATCH($B22,INDIRECT($A22),0)-1,2),"")} | F22: =IFERROR(E22*C22,"")
C23: {=IFERROR(OFFSET(INDIRECT($A23),MATCH($B23,INDIRECT($A23),0)-1,1),"")} | D23: {=IFERROR(OFFSET(INDIRECT($A23),MATCH($B23,INDIRECT($A23),0)-1,2),"")} | F23: =IFERROR(E23*C23,"")
C24: {=IFERROR(OFFSET(INDIRECT($A24),MATCH($B24,INDIRECT($A24),0)-1,1),"")} | D24: {=IFERROR(OFFSET(INDIRECT($A24),MATCH($B24,INDIRECT($A24),0)-1,2),"")} | F24: =IFERROR(E24*C24,"")
C25: {=IFERROR(OFFSET(INDIRECT($A25),MATCH($B25,INDIRECT($A25),0)-1,1),"")} | D25: {=IFERROR(OFFSET(INDIRECT($A25),MATCH($B25,INDIRECT($A25),0)-1,2),"")} | F25: =IFERROR(E25*C25,"")
C26: {=IFERROR(OFFSET(INDIRECT($A26),MATCH($B26,INDIRECT($A26),0)-1,1),"")} | D26: {=IFERROR(OFFSET(INDIRECT($A26),MATCH($B26,INDIRECT($A26),0)-1,2),"")} | F26: =IFERROR(E26*C26,"")
C27: {=IFERROR(OFFSET(INDIRECT($A27),MATCH($B27,INDIRECT($A27),0)-1,1),"")} | D27: {=IFERROR(OFFSET(INDIRECT($A27),MATCH($B27,INDIRECT($A27),0)-1,2),"")} | F27: =IFERROR(E27*C27,"")
C28: {=IFERROR(OFFSET(INDIRECT($A28),MATCH($B28,INDIRECT($A28),0)-1,1),"")} | D28: {=IFERROR(OFFSET(INDIRECT($A28),MATCH($B28,INDIRECT($A28),0)-1,2),"")} | F28: =IFERROR(E28*C28,"")
... C33: {=IFERROR(OFFSET(INDIRECT($A33),MATCH($B33,INDIRECT($A33),0)-1,1),"")} | D33: {=IFERROR(OFFSET(INDIRECT($A33),MATCH($B33,INDIRECT($A33),0)-1,2),"")} | F33: =IFERROR(E33*C33,"")
B34: Coût de la recette | C34: =SUM(F11:F33)+C36 -> 16.472933
B35: Coût par portion | C35: =C34/D8 -> 16.472933
B36: Labor Cost | C36: =H9*H6 -> 1.0833333 | D36: $total port. | E36: Coût total port. | F36: =(C36/D8)+C35 -> 17.556267
B37: Récipients | C37: Standard | G37: Détails:
B40: Présentation :
B43: Commentaires :

Sheet Salade verte
B1: FICHE RECETTE | H1: Date:
B2: Votre nom:__________________
B4: Nom de la recette : | C4: Salade verte
J5: Convertisseur temps
B6: Standard : | C6: Qté: | F6: Temps de préparation | H6: =L6/L7 -> 0.083333333 | J6: 5 | L6: =J6*L7/J7 -> 8.3333333
B7: Rendement total: | C7: Rendement total: | F7: Temps de cuisson | J7: 60 | L7: 100
B8: Portion individuelle: | D8: 1 | F8: Température du four
F9: Salaire moyen | H9: 13
A10: Categories | B10: Ingrédients | C10: Coût un. | D10: Unité | E10: Quantité | F10: Coût total | G10: Préparation
A12: Légumes | B12: Laitue mesclun | C12: {=IFERROR(OFFSET(INDIRECT($A12),MATCH($B12,INDIRECT($A12),0)-1,1),"")} -> 3.55 | D12: {=IFERROR(OFFSET(INDIRECT($A12),MATCH($B12,INDIRECT($A12),0)-1,2),"")} -> livre | E12: 3 | F12: =IFERROR(E12*C12,"") -> 10.65
A13: Légumes | B13: Carotte corn pack | C13: {=IFERROR(OFFSET(INDIRECT($A13),MATCH($B13,INDIRECT($A13),0)-1,1),"")} -> 0.58 | D13: {=IFERROR(OFFSET(INDIRECT($A13),MATCH($B13,INDIRECT($A13),0)-1,2),"")} -> livre | E13: 0.61 | F13: =IFERROR(E13*C13,"") -> 0.3538
A14: Légumes | B14: Choux rouge | C14: {=IFERROR(OFFSET(INDIRECT($A14),MATCH($B14,INDIRECT($A14),0)-1,1),"")} -> 3.88 | D14: {=IFERROR(OFFSET(INDIRECT($A14),MATCH($B14,INDIRECT($A14),0)-1,2),"")} -> unité | E14: 0.5 | F14: =IFERROR(E14*C14,"") -> 1.94
C15: {=IFERROR(OFFSET(INDIRECT($A15),MATCH($B15,INDIRECT($A15),0)-1,1),"")} | D15: {=IFERROR(OFFSET(INDIRECT($A15),MATCH($B15,INDIRECT($A15),0)-1,2),"")} | F15: =IFERROR(E15*C15,"")
C16: {=IFERROR(OFFSET(INDIRECT($A16),MATCH($B16,INDIRECT($A16),0)-1,1),"")} | D16: {=IFERROR(OFFSET(INDIRECT($A16),MATCH($B16,INDIRECT($A16),0)-1,2),"")} | F16: =IFERROR(E16*C16,"")
C17: {=IFERROR(OFFSET(INDIRECT($A17),MATCH($B17,INDIRECT($A17),0)-1,1),"")} | D17: {=IFERROR(OFFSET(INDIRECT($A17),MATCH($B17,INDIRECT($A17),0)-1,2),"")} | F17: =IFERROR(E17*C17,"")
C18: {=IFERROR(OFFSET(INDIRECT($A18),MATCH($B18,INDIRECT($A18),0)-1,1),"")} | D18: {=IFERROR(OFFSET(INDIRECT($A18),MATCH($B18,INDIRECT($A18),0)-1,2),"")} | F18: =IFERROR(E18*C18,"")
C19: {=IFERROR(OFFSET(INDIRECT($A19),MATCH($B19,INDIRECT($A19),0)-1,1),"")} | D19: {=IFERROR(OFFSET(INDIRECT($A19),MATCH($B19,INDIRECT($A19),0)-1,2),"")} | F19: =IFERROR(E19*C19,"")
C20: {=IFERROR(OFFSET(INDIRECT($A20),MATCH($B20,INDIRECT($A20),0)-1,1),"")} | D20: {=IFERROR(OFFSET(INDIRECT($A20),MATCH($B20,INDIRECT($A20),0)-1,2),"")} | F20: =IFERROR(E20*C20,"")
C21: {=IFERROR(OFFSET(INDIRECT($A21),MATCH($B21,INDIRECT($A21),0)-1,1),"")} | D21: {=IFERROR(OFFSET(INDIRECT($A21),MATCH($B21,INDIRECT($A21),0)-1,2),"")} | F21: =IFERROR(E21*C21,"")
C22: {=IFERROR(OFFSET(INDIRECT($A22),MATCH($B22,INDIRECT($A22),0)-1,1),"")} | D22: {=IFERROR(OFFSET(INDIRECT($A22),MATCH($B22,INDIRECT($A22),0)-1,2),"")} | F22: =IFERROR(E22*C22,"")
C23: {=IFERROR(OFFSET(INDIRECT($A23),MATCH($B23,INDIRECT($A23),0)-1,1),"")} | D23: {=IFERROR(OFFSET(INDIRECT($A23),MATCH($B23,INDIRECT($A23),0)-1,2),"")} | F23: =IFERROR(E23*C23,"")
C24: {=IFERROR(OFFSET(INDIRECT($A24),MATCH($B24,INDIRECT($A24),0)-1,1),"")} | D24: {=IFERROR(OFFSET(INDIRECT($A24),MATCH($B24,INDIRECT($A24),0)-1,2),"")} | F24: =IFERROR(E24*C24,"")
C25: {=IFERROR(OFFSET(INDIRECT($A25),MATCH($B25,INDIRECT($A25),0)-1,1),"")} | D25: {=IFERROR(OFFSET(INDIRECT($A25),MATCH($B25,INDIRECT($A25),0)-1,2),"")} | F25: =IFERROR(E25*C25,"")
C26: {=IFERROR(OFFSET(INDIRECT($A26),MATCH($B26,INDIRECT($A26),0)-1,1),"")} | D26: {=IFERROR(OFFSET(INDIRECT($A26),MATCH($B26,INDIRECT($A26),0)-1,2),"")} | F26: =IFERROR(E26*C26,"")
... C33: {=IFERROR(OFFSET(INDIRECT($A33),MATCH($B33,INDIRECT($A33),0)-1,1),"")} | D33: {=IFERROR(OFFSET(INDIRECT($A33),MATCH($B33,INDIRECT($A33),0)-1,2),"")} | F33: =IFERROR(E33*C33,"")
B34: Coût de la recette | C34: =SUM(F11:F33)+C36 -> 14.027133
B35: Coût par portion | C35: =C34/D8 -> 14.027133
B36: Labor Cost | C36: =H9*H6 -> 1.0833333 | D36: $total port. | E36: Coût total port. | F36: =(C36/D8)+C35 -> 15.110467
B37: Récipients | C37: Standard | G37: Détails:
B40: Présentation :
B43: Commentaires :

Sheet Vinaigrette tout-usage
B1: FICHE RECETTE | H1: Date:
B2: Votre nom:__________________
B4: Nom de la recette : | C4: VTU
J5: Convertisseur temps
B6: Standard : | C6: Qté: | F6: Temps de préparation | H6: =L6/L7 -> 0.083333333 | J6: 5 | L6: =J6*L7/J7 -> 8.3333333
B7: Rendement total: | C7: Rendement total: | F7: Temps de cuisson | J7: 60 | L7: 100
B8: Portion individuelle: | D8: 8.5 | F8: Température du four
F9: Salaire moyen | H9: 13
A10: Categories | B10: Ingrédients | C10: Coût un. | D10: Unité | E10: Quantité | F10: Coût total | G10: Préparation
A12: Liquide | B12: huile végétal | C12: {=IFERROR(OFFSET(INDIRECT($A12),MATCH($B12,INDIRECT($A12),0)-1,1),"")} -> 1.51 | D12: {=IFERROR(OFFSET(INDIRECT($A12),MATCH($B12,INDIRECT($A12),0)-1,2),"")} -> litre | E12: 5 | F12: =IFERROR(E12*C12,"") -> 7.55
A13: Liquide | B13: Vinaigre vin blanc | C13: {=IFERROR(OFFSET(INDIRECT($A13),MATCH($B13,INDIRECT($A13),0)-1,1),"")} -> 1.75 | D13: {=IFERROR(OFFSET(INDIRECT($A13),MATCH($B13,INDIRECT($A13),0)-1,2),"")} -> litre | E13: 2 | F13: =IFERROR(E13*C13,"") -> 3.5
A14: Aromates | B14: Houblon | C14: {=IFERROR(OFFSET(INDIRECT($A14),MATCH($B14,INDIRECT($A14),0)-1,1),"")} -> 2.59 | D14: {=IFERROR(OFFSET(INDIRECT($A14),MATCH($B14,INDIRECT($A14),0)-1,2),"")} -> oz | E14: 1.8 | F14: =IFERROR(E14*C14,"") -> 4.662
A15: Liquide | B15: Moutarde ancienne meaux | C15: {=IFERROR(OFFSET(INDIRECT($A15),MATCH($B15,INDIRECT($A15),0)-1,1),"")} -> 4.25 | D15: {=IFERROR(OFFSET(INDIRECT($A15),MATCH($B15,INDIRECT($A15),0)-1,2),"")} -> litre | E15: 0.25 | F15: =IFERROR(E15*C15,"") -> 1.0625
A16: Liquide | B16: Moutarde dijon forte | C16: {=IFERROR(OFFSET(INDIRECT($A16),MATCH($B16,INDIRECT($A16),0)-1,1),"")} -> 4.2 | D16: {=IFERROR(OFFSET(INDIRECT($A16),MATCH($B16,INDIRECT($A16),0)-1,2),"")} -> litre | E16: 0.25 | F16: =IFERROR(E16*C16,"") -> 1.05
B17: ='Laque à la bière'!C4 -> Laque à la bière | C17: ='Laque à la bière'!F36 -> 17.658667 | D17: Litre | E17: 1 | F17: =IFERROR(E17*C17,"") -> 17.658667
C18: {=IFERROR(OFFSET(INDIRECT($A18),MATCH($B18,INDIRECT($A18),0)-1,1),"")} | D18: {=IFERROR(OFFSET(INDIRECT($A18),MATCH($B18,INDIRECT($A18),0)-1,2),"")} | F18: =IFERROR(E18*C18,"")
C19: {=IFERROR(OFFSET(INDIRECT($A19),MATCH($B19,INDIRECT($A19),0)-1,1),"")} | D19: {=IFERROR(OFFSET(INDIRECT($A19),MATCH($B19,INDIRECT($A19),0)-1,2),"")} | F19: =IFERROR(E19*C19,"")
C20: {=IFERROR(OFFSET(INDIRECT($A20),MATCH($B20,INDIRECT($A20),0)-1,1),"")} | D20: {=IFERROR(OFFSET(INDIRECT($A20),MATCH($B20,INDIRECT($A20),0)-1,2),"")} | F20: =IFERROR(E20*C20,"")
C21: {=IFERROR(OFFSET(INDIRECT($A21),MATCH($B21,INDIRECT($A21),0)-1,1),"")} | D21: {=IFERROR(OFFSET(INDIRECT($A21),MATCH($B21,INDIRECT($A21),0)-1,2),"")} | F21: =IFERROR(E21*C21,"")
C22: {=IFERROR(OFFSET(INDIRECT($A22),MATCH($B22,INDIRECT($A22),0)-1,1),"")} | D22: {=IFERROR(OFFSET(INDIRECT($A22),MATCH($B22,INDIRECT($A22),0)-1,2),"")} | F22: =IFERROR(E22*C22,"")
C23: {=IFERROR(OFFSET(INDIRECT($A23),MATCH($B23,INDIRECT($A23),0)-1,1),"")} | D23: {=IFERROR(OFFSET(INDIRECT($A23),MATCH($B23,INDIRECT($A23),0)-1,2),"")} | F23: =IFERROR(E23*C23,"")
C24: {=IFERROR(OFFSET(INDIRECT($A24),MATCH($B24,INDIRECT($A24),0)-1,1),"")} | D24: {=IFERROR(OFFSET(INDIRECT($A24),MATCH($B24,INDIRECT($A24),0)-1,2),"")} | F24: =IFERROR(E24*C24,"")
C25: {=IFERROR(OFFSET(INDIRECT($A25),MATCH($B25,INDIRECT($A25),0)-1,1),"")} | D25: {=IFERROR(OFFSET(INDIRECT($A25),MATCH($B25,INDIRECT($A25),0)-1,2),"")} | F25: =IFERROR(E25*C25,"")
C26: {=IFERROR(OFFSET(INDIRECT($A26),MATCH($B26,INDIRECT($A26),0)-1,1),"")} | D26: {=IFERROR(OFFSET(INDIRECT($A26),MATCH($B26,INDIRECT($A26),0)-1,2),"")} | F26: =IFERROR(E26*C26,"")
C27: {=IFERROR(OFFSET(INDIRECT($A27),MATCH($B27,INDIRECT($A27),0)-1,1),"")} | D27: {=IFERROR(OFFSET(INDIRECT($A27),MATCH($B27,INDIRECT($A27),0)-1,2),"")} | F27: =IFERROR(E27*C27,"")
C28: {=IFERROR(OFFSET(INDIRECT($A28),MATCH($B28,INDIRECT($A28),0)-1,1),"")} | D28: {=IFERROR(OFFSET(INDIRECT($A28),MATCH($B28,INDIRECT($A28),0)-1,2),"")} | F28: =IFERROR(E28*C28,"")
C29: {=IFERROR(OFFSET(INDIRECT($A29),MATCH($B29,INDIRECT($A29),0)-1,1),"")} | D29: {=IFERROR(OFFSET(INDIRECT($A29),MATCH($B29,INDIRECT($A29),0)-1,2),"")} | F29: =IFERROR(E29*C29,"")
... C33: {=IFERROR(OFFSET(INDIRECT($A33),MATCH($B33,INDIRECT($A33),0)-1,1),"")} | D33: {=IFERROR(OFFSET(INDIRECT($A33),MATCH($B33,INDIRECT($A33),0)-1,2),"")} | F33: =IFERROR(E33*C33,"")
B34: Coût de la recette | C34: =SUM(F11:F33)+C36 -> 36.5665
B35: Coût par portion | C35: =C34/D8 -> 4.3019412
B36: Labor Cost | C36: =H9*H6 -> 1.0833333 | D36: $total port. | E36: Coût total port. | F36: =(C36/D8)+C35 -> 4.4293922
B37: Récipients | C37: Standard | G37: Détails:
B40: Présentation :
B43: Commentaires :

Sheet Faux fallafels
B1: FICHE RECETTE | H1: Date:
B2: Votre nom:__________________
B4: Nom de la recette :
J5: Convertisseur temps
B6: Standard : | C6: Qté: | F6: Temps de préparation | H6: =L6/L7 -> 0.16666667 | J6: 10 | L6: =J6*L7/J7 -> 16.666667
B7: Rendement total: | C7: Rendement total: | F7: Temps de cuisson | J7: 60 | L7: 100
B8: Portion individuelle: | F8: Température du four
F9: Salaire moyen | H9: 13
A10: Categories | B10: Ingrédients | C10: Coût un. | D10: Unité | E10: Quantité | F10: Coût total | G10: Préparation
A12: Légumes | B12: Patate douce | C12: {=IFERROR(OFFSET(INDIRECT($A12),MATCH($B12,INDIRECT($A12),0)-1,1),"")} -> 0.59 | D12: {=IFERROR(OFFSET(INDIRECT($A12),MATCH($B12,INDIRECT($A12),0)-1,2),"")} -> livre | E12: 5 | F12: =IFERROR(E12*C12,"") -> 2.95
A13: Sec | B13: Pois chiche | C13: {=IFERROR(OFFSET(INDIRECT($A13),MATCH($B13,INDIRECT($A13),0)-1,1),"")} -> 2.96 | D13: {=IFERROR(OFFSET(INDIRECT($A13),MATCH($B13,INDIRECT($A13),0)-1,2),"")} -> Kg | E13: 3.78 | F13: =IFERROR(E13*C13,"") -> 11.1888
A14: Aromates | B14: Coriandre | C14: {=IFERROR(OFFSET(INDIRECT($A14),MATCH($B14,INDIRECT($A14),0)-1,1),"")} -> 1.29 | D14: {=IFERROR(OFFSET(INDIRECT($A14),MATCH($B14,INDIRECT($A14),0)-1,2),"")} -> unité | E14: 5 | F14: =IFERROR(E14*C14,"") -> 6.45
A15: Aromates | B15: Persil | C15: {=IFERROR(OFFSET(INDIRECT($A15),MATCH($B15,INDIRECT($A15),0)-1,1),"")} -> 1.52 | D15: {=IFERROR(OFFSET(INDIRECT($A15),MATCH($B15,INDIRECT($A15),0)-1,2),"")} -> unité | E15: 4 | F15: =IFERROR(E15*C15,"") -> 6.08
A16: Épices | B16: Épice cumin moulu | C16: {=IFERROR(OFFSET(INDIRECT($A16),MATCH($B16,INDIRECT($A16),0)-1,1),"")} -> 32.62 | D16: {=IFERROR(OFFSET(INDIRECT($A16),MATCH($B16,INDIRECT($A16),0)-1,2),"")} -> Kg | E16: 0.076 | F16: =IFERROR(E16*C16,"") -> 2.47912
A17: Liquide | B17: Sauce sriracha | C17: {=IFERROR(OFFSET(INDIRECT($A17),MATCH($B17,INDIRECT($A17),0)-1,1),"")} -> 5 | D17: {=IFERROR(OFFSET(INDIRECT($A17),MATCH($B17,INDIRECT($A17),0)-1,2),"")} -> litre | E17: 0.15 | F17: =IFERROR(E17*C17,"") -> 0.75
A18: Légumes | B18: Gingembre racine | C18: {=IFERROR(OFFSET(INDIRECT($A18),MATCH($B18,INDIRECT($A18),0)-1,1),"")} -> 3.65 | D18: {=IFERROR(OFFSET(INDIRECT($A18),MATCH($B18,INDIRECT($A18),0)-1,2),"")} -> livre | E18: 0.39 | F18: =IFERROR(E18*C18,"") -> 1.4235
A19: Fruits | B19: Citron | C19: {=IFERROR(OFFSET(INDIRECT($A19),MATCH($B19,INDIRECT($A19),0)-1,1),"")} -> 0.54 | D19: {=IFERROR(OFFSET(INDIRECT($A19),MATCH($B19,INDIRECT($A19),0)-1,2),"")} -> unité | E19: 6 | F19: =IFERROR(E19*C19,"") -> 3.24
A20: Légumes | B20: Ail pelée | C20: {=IFERROR(OFFSET(INDIRECT($A20),MATCH($B20,INDIRECT($A20),0)-1,1),"")} -> 4.77 | D20: {=IFERROR(OFFSET(INDIRECT($A20),MATCH($B20,INDIRECT($A20),0)-1,2),"")} -> livre | E20: 0.16 | F20: =IFERROR(E20*C20,"") -> 0.7632
A21: Sec | B21: Farine de mais | C21: {=IFERROR(OFFSET(INDIRECT($A21),MATCH($B21,INDIRECT($A21),0)-1,1),"")} -> 0 | D21: {=IFERROR(OFFSET(INDIRECT($A21),MATCH($B21,INDIRECT($A21),0)-1,2),"")} -> 0 | F21: =IFERROR(E21*C21,"") -> 0
A22: Sec | B22: Farine de pois chiche | C22: {=IFERROR(OFFSET(INDIRECT($A22),MATCH($B22,INDIRECT($A22),0)-1,1),"")} -> 0 | D22: {=IFERROR(OFFSET(INDIRECT($A22),MATCH($B22,INDIRECT($A22),0)-1,2),"")} -> 0 | F22: =IFERROR(E22*C22,"") -> 0
C23: {=IFERROR(OFFSET(INDIRECT($A23),MATCH($B23,INDIRECT($A23),0)-1,1),"")} | D23: {=IFERROR(OFFSET(INDIRECT($A23),MATCH($B23,INDIRECT($A23),0)-1,2),"")} | F23: =IFERROR(E23*C23,"")
C24: {=IFERROR(OFFSET(INDIRECT($A24),MATCH($B24,INDIRECT($A24),0)-1,1),"")} | D24: {=IFERROR(OFFSET(INDIRECT($A24),MATCH($B24,INDIRECT($A24),0)-1,2),"")} | F24: =IFERROR(E24*C24,"")
C25: {=IFERROR(OFFSET(INDIRECT($A25),MATCH($B25,INDIRECT($A25),0)-1,1),"")} | D25: {=IFERROR(OFFSET(INDIRECT($A25),MATCH($B25,INDIRECT($A25),0)-1,2),"")} | F25: =IFERROR(E25*C25,"")
C26: {=IFERROR(OFFSET(INDIRECT($A26),MATCH($B26,INDIRECT($A26),0)-1,1),"")} | D26: {=IFERROR(OFFSET(INDIRECT($A26),MATCH($B26,INDIRECT($A26),0)-1,2),"")} | F26: =IFERROR(E26*C26,"")
C27: {=IFERROR(OFFSET(INDIRECT($A27),MATCH($B27,INDIRECT($A27),0)-1,1),"")} | D27: {=IFERROR(OFFSET(INDIRECT($A27),MATCH($B27,INDIRECT($A27),0)-1,2),"")} | F27: =IFERROR(E27*C27,"")
C28: {=IFERROR(OFFSET(INDIRECT($A28),MATCH($B28,INDIRECT($A28),0)-1,1),"")} | D28: {=IFERROR(OFFSET(INDIRECT($A28),MATCH($B28,INDIRECT($A28),0)-1,2),"")} | F28: =IFERROR(E28*C28,"")
C29: {=IFERROR(OFFSET(INDIRECT($A29),MATCH($B29,INDIRECT($A29),0)-1,1),"")} | D29: {=IFERROR(OFFSET(INDIRECT($A29),MATCH($B29,INDIRECT($A29),0)-1,2),"")} | F29: =IFERROR(E29*C29,"")
C30: {=IFERROR(OFFSET(INDIRECT($A30),MATCH($B30,INDIRECT($A30),0)-1,1),"")} | D30: {=IFERROR(OFFSET(INDIRECT($A30),MATCH($B30,INDIRECT($A30),0)-1,2),"")} | F30: =IFERROR(E30*C30,"")
C31: {=IFERROR(OFFSET(INDIRECT($A31),MATCH($B31,INDIRECT($A31),0)-1,1),"")} | D31: {=IFERROR(OFFSET(INDIRECT($A31),MATCH($B31,INDIRECT($A31),0)-1,2),"")} | F31: =IFERROR(E31*C31,"")
C32: {=IFERROR(OFFSET(INDIRECT($A32),MATCH($B32,INDIRECT($A32),0)-1,1),"")} | D32: {=IFERROR(OFFSET(INDIRECT($A32),MATCH($B32,INDIRECT($A32),0)-1,2),"")} | F32: =IFERROR(E32*C32,"")
C33: {=IFERROR(OFFSET(INDIRECT($A33),MATCH($B33,INDIRECT($A33),0)-1,1),"")} | D33: {=IFERROR(OFFSET(INDIRECT($A33),MATCH($B33,INDIRECT($A33),0)-1,2),"")} | F33: =IFERROR(E33*C33,"")
B34: Coût de la recette | C34: =SUM(F11:F33)+C36 -> 37.491287
B35: Coût par portion | C35: =C34/D8 -> #DIV/0!
B36: Labor Cost | C36: =H9*H6 -> 2.1666667 | D36: $total port. | E36: Coût total port. | F36: =(C36/D8)+C35 -> #DIV/0!
B37: Récipients | C37: Standard | G37: Détails:
B40: Présentation :
B43: Commentaires :

Sheet ScotchEgg
B1: FICHE RECETTE | H1: Date:
B2: Votre nom:__________________
B4: Nom de la recette :
J5: Convertisseur temps
B6: Standard : | C6: Qté: | F6: Temps de préparation | H6: =L6/L7 -> 4 | J6: 240 | L6: =J6*L7/J7 -> 400
B7: Rendement total: | C7: Rendement total: | F7: Temps de cuisson | J7: 60 | L7: 100
B8: Portion individuelle: | F8: Température du four
F9: Salaire moyen | H9: 13
A10: Categories | B10: Ingrédients | C10: Coût un. | D10: Unité | E10: Quantité | F10: Coût total | G10: Préparation
A12: Sec | B12: Sel fin highgrade n/iode | C12: {=IFERROR(OFFSET(INDIRECT($A12),MATCH($B12,INDIRECT($A12),0)-1,1),"")} -> 0.5 | D12: {=IFERROR(OFFSET(INDIRECT($A12),MATCH($B12,INDIRECT($A12),0)-1,2),"")} -> Kg | F12: =IFERROR(E12*C12,"") -> 0
A13: Épices | B13: Épice poivre noir moulu | C13: {=IFERROR(OFFSET(INDIRECT($A13),MATCH($B13,INDIRECT($A13),0)-1,1),"")} -> 42.54 | D13: {=IFERROR(OFFSET(INDIRECT($A13),MATCH($B13,INDIRECT($A13),0)-1,2),"")} -> Kg | F13: =IFERROR(E13*C13,"") -> 0
A14: Légumes | B14: Ail pelée | C14: {=IFERROR(OFFSET(INDIRECT($A14),MATCH($B14,INDIRECT($A14),0)-1,1),"")} -> 4.77 | D14: {=IFERROR(OFFSET(INDIRECT($A14),MATCH($B14,INDIRECT($A14),0)-1,2),"")} -> livre | F14: =IFERROR(E14*C14,"") -> 0
A15: Épices | B15: Épice oignon émincé | C15: {=IFERROR(OFFSET(INDIRECT($A15),MATCH($B15,INDIRECT($A15),0)-1,1),"")} -> 13.49 | D15: {=IFERROR(OFFSET(INDIRECT($A15),MATCH($B15,INDIRECT($A15),0)-1,2),"")} -> Kg | F15: =IFERROR(E15*C15,"") -> 0
A16: Céréalier | B16: Pain baguette | C16: {=IFERROR(OFFSET(INDIRECT($A16),MATCH($B16,INDIRECT($A16),0)-1,1),"")} -> 1.52 | D16: {=IFERROR(OFFSET(INDIRECT($A16),MATCH($B16,INDIRECT($A16),0)-1,2),"")} -> 350g | E16: 4.11 | F16: =IFERROR(E16*C16,"") -> 6.2472
A17: Épices | B17: Épice fenouil ent | C17: {=IFERROR(OFFSET(INDIRECT($A17),MATCH($B17,INDIRECT($A17),0)-1,1),"")} -> 9.41 | D17: {=IFERROR(OFFSET(INDIRECT($A17),MATCH($B17,INDIRECT($A17),0)-1,2),"")} -> livre | F17: =IFERROR(E17*C17,"") -> 0
A18: Épices | B18: Épice paprika espagnol | C18: {=IFERROR(OFFSET(INDIRECT($A18),MATCH($B18,INDIRECT($A18),0)-1,1),"")} -> 17.61 | D18: {=IFERROR(OFFSET(INDIRECT($A18),MATCH($B18,INDIRECT($A18),0)-1,2),"")} -> Kg | F18: =IFERROR(E18*C18,"") -> 0
A19: Épices | C19: {=IFERROR(OFFSET(INDIRECT($A19),MATCH($B19,INDIRECT($A19),0)-1,1),"")} | D19: {=IFERROR(OFFSET(INDIRECT($A19),MATCH($B19,INDIRECT($A19),0)-1,2),"")} | F19: =IFERROR(E19*C19,"")
A20: Liquide | B20: Vin de table blanc | C20: {=IFERROR(OFFSET(INDIRECT($A20),MATCH($B20,INDIRECT($A20),0)-1,1),"")} -> 1.46 | D20: {=IFERROR(OFFSET(INDIRECT($A20),MATCH($B20,INDIRECT($A20),0)-1,2),"")} -> litre | F20: =IFERROR(E20*C20,"") -> 0
A21: Produit_animal | B21: Œuf moyen | C21: {=IFERROR(OFFSET(INDIRECT($A21),MATCH($B21,INDIRECT($A21),0)-1,1),"")} -> 0.19 | D21: {=IFERROR(OFFSET(INDIRECT($A21),MATCH($B21,INDIRECT($A21),0)-1,2),"")} -> unité | F21: =IFERROR(E21*C21,"") -> 0
A22: Liquide | B22: Moutarde dijon forte | C22: {=IFERROR(OFFSET(INDIRECT($A22),MATCH($B22,INDIRECT($A22),0)-1,1),"")} -> 4.2 | D22: {=IFERROR(OFFSET(INDIRECT($A22),MATCH($B22,INDIRECT($A22),0)-1,2),"")} -> litre | F22: =IFERROR(E22*C22,"") -> 0
A23: Viande | C23: {=IFERROR(OFFSET(INDIRECT($A23),MATCH($B23,INDIRECT($A23),0)-1,1),"")} | D23: {=IFERROR(OFFSET(INDIRECT($A23),MATCH($B23,INDIRECT($A23),0)-1,2),"")} | F23: =IFERROR(E23*C23,"")
C24: {=IFERROR(OFFSET(INDIRECT($A24),MATCH($B24,INDIRECT($A24),0)-1,1),"")} | D24: {=IFERROR(OFFSET(INDIRECT($A24),MATCH($B24,INDIRECT($A24),0)-1,2),"")} | F24: =IFERROR(E24*C24,"")
C25: {=IFERROR(OFFSET(INDIRECT($A25),MATCH($B25,INDIRECT($A25),0)-1,1),"")} | D25: {=IFERROR(OFFSET(INDIRECT($A25),MATCH($B25,INDIRECT($A25),0)-1,2),"")} | F25: =IFERROR(E25*C25,"")
C26: {=IFERROR(OFFSET(INDIRECT($A26),MATCH($B26,INDIRECT($A26),0)-1,1),"")} | D26: {=IFERROR(OFFSET(INDIRECT($A26),MATCH($B26,INDIRECT($A26),0)-1,2),"")} | F26: =IFERROR(E26*C26,"")
C27: {=IFERROR(OFFSET(INDIRECT($A27),MATCH($B27,INDIRECT($A27),0)-1,1),"")} | D27: {=IFERROR(OFFSET(INDIRECT($A27),MATCH($B27,INDIRECT($A27),0)-1,2),"")} | F27: =IFERROR(E27*C27,"")
C28: {=IFERROR(OFFSET(INDIRECT($A28),MATCH($B28,INDIRECT($A28),0)-1,1),"")} | D28: {=IFERROR(OFFSET(INDIRECT($A28),MATCH($B28,INDIRECT($A28),0)-1,2),"")} | F28: =IFERROR(E28*C28,"")
C29: {=IFERROR(OFFSET(INDIRECT($A29),MATCH($B29,INDIRECT($A29),0)-1,1),"")} | D29: {=IFERROR(OFFSET(INDIRECT($A29),MATCH($B29,INDIRECT($A29),0)-1,2),"")} | F29: =IFERROR(E29*C29,"")
C30: {=IFERROR(OFFSET(INDIRECT($A30),MATCH($B30,INDIRECT($A30),0)-1,1),"")} | D30: {=IFERROR(OFFSET(INDIRECT($A30),MATCH($B30,INDIRECT($A30),0)-1,2),"")} | F30: =IFERROR(E30*C30,"")
C31: {=IFERROR(OFFSET(INDIRECT($A31),MATCH($B31,INDIRECT($A31),0)-1,1),"")} | D31: {=IFERROR(OFFSET(INDIRECT($A31),MATCH($B31,INDIRECT($A31),0)-1,2),"")} | F31: =IFERROR(E31*C31,"")
C32: {=IFERROR(OFFSET(INDIRECT($A32),MATCH($B32,INDIRECT($A32),0)-1,1),"")} | D32: {=IFERROR(OFFSET(INDIRECT($A32),MATCH($B32,INDIRECT($A32),0)-1,2),"")} | F32: =IFERROR(E32*C32,"")
C33: {=IFERROR(OFFSET(INDIRECT($A33),MATCH($B33,INDIRECT($A33),0)-1,1),"")} | D33: {=IFERROR(OFFSET(INDIRECT($A33),MATCH($B33,INDIRECT($A33),0)-1,2),"")} | F33: =IFERROR(E33*C33,"")
B34: Coût de la recette | C34: =SUM(F11:F33)+C36 -> 58.2472
B35: Coût par portion | C35: =C34/D8 -> #DIV/0!
B36: Labor Cost | C36: =H9*H6 -> 52 | D36: $total port. | E36: Coût total port. | F36: =(C36/D8)+C35 -> #DIV/0!
B37: Récipients | C37: Standard | G37: Détails:
B40: Présentation :
B43: Commentaires :

Sheet Malakof
B1: FICHE RECETTE | H1: Date:
B2: Votre nom:__________________
B4: Nom de la recette :
J5: Convertisseur temps
B6: Standard : | C6: Qté: | F6: Temps de préparation | H6: =L6/L7 -> 4 | J6: 240 | L6: =J6*L7/J7 -> 400
B7: Rendement total: | C7: Rendement total: | F7: Temps de cuisson | J7: 60 | L7: 100
B8: Portion individuelle: | F8: Température du four
F9: Salaire moyen | H9: 13
A10: Categories | B10: Ingrédients | C10: Coût un. | D10: Unité | E10: Quantité | F10: Coût total | G10: Préparation
A12: Produits_Laitiers | C12: {=IFERROR(OFFSET(INDIRECT($A12),MATCH($B12,INDIRECT($A12),0)-1,1),"")} | D12: {=IFERROR(OFFSET(INDIRECT($A12),MATCH($B12,INDIRECT($A12),0)-1,2),"")} | E12: 0.9 | F12: =IFERROR(E12*C12,"")
A13: Produit_animal | B13: Œuf moyen | C13: {=IFERROR(OFFSET(INDIRECT($A13),MATCH($B13,INDIRECT($A13),0)-1,1),"")} -> 0.19 | D13: {=IFERROR(OFFSET(INDIRECT($A13),MATCH($B13,INDIRECT($A13),0)-1,2),"")} -> unité | E13: 2 | F13: =IFERROR(E13*C13,"") -> 0.38
A14: Liquide | B14: Vin de table blanc | C14: {=IFERROR(OFFSET(INDIRECT($A14),MATCH($B14,INDIRECT($A14),0)-1,1),"")} -> 1.46 | D14: {=IFERROR(OFFSET(INDIRECT($A14),MATCH($B14,INDIRECT($A14),0)-1,2),"")} -> litre | E14: 1 | F14: =IFERROR(E14*C14,"") -> 1.46
A15: Sec | B15: Farine tout-usage | C15: {=IFERROR(OFFSET(INDIRECT($A15),MATCH($B15,INDIRECT($A15),0)-1,1),"")} -> 1.02 | D15: {=IFERROR(OFFSET(INDIRECT($A15),MATCH($B15,INDIRECT($A15),0)-1,2),"")} -> Kg | E15: 0.4 | F15: =IFERROR(E15*C15,"") -> 0.408
A16: Céréalier | B16: Pain baguette | C16: {=IFERROR(OFFSET(INDIRECT($A16),MATCH($B16,INDIRECT($A16),0)-1,1),"")} -> 1.52 | D16: {=IFERROR(OFFSET(INDIRECT($A16),MATCH($B16,INDIRECT($A16),0)-1,2),"")} -> 350g | F16: =IFERROR(E16*C16,"") -> 0
C17: {=IFERROR(OFFSET(INDIRECT($A17),MATCH($B17,INDIRECT($A17),0)-1,1),"")} | D17: {=IFERROR(OFFSET(INDIRECT($A17),MATCH($B17,INDIRECT($A17),0)-1,2),"")} | F17: =IFERROR(E17*C17,"")
C18: {=IFERROR(OFFSET(INDIRECT($A18),MATCH($B18,INDIRECT($A18),0)-1,1),"")} | D18: {=IFERROR(OFFSET(INDIRECT($A18),MATCH($B18,INDIRECT($A18),0)-1,2),"")} | F18: =IFERROR(E18*C18,"")
C19: {=IFERROR(OFFSET(INDIRECT($A19),MATCH($B19,INDIRECT($A19),0)-1,1),"")} | D19: {=IFERROR(OFFSET(INDIRECT($A19),MATCH($B19,INDIRECT($A19),0)-1,2),"")} | F19: =IFERROR(E19*C19,"")
C20: {=IFERROR(OFFSET(INDIRECT($A20),MATCH($B20,INDIRECT($A20),0)-1,1),"")} | D20: {=IFERROR(OFFSET(INDIRECT($A20),MATCH($B20,INDIRECT($A20),0)-1,2),"")} | F20: =IFERROR(E20*C20,"")
C21: {=IFERROR(OFFSET(INDIRECT($A21),MATCH($B21,INDIRECT($A21),0)-1,1),"")} | D21: {=IFERROR(OFFSET(INDIRECT($A21),MATCH($B21,INDIRECT($A21),0)-1,2),"")} | F21: =IFERROR(E21*C21,"")
C22: {=IFERROR(OFFSET(INDIRECT($A22),MATCH($B22,INDIRECT($A22),0)-1,1),"")} | D22: {=IFERROR(OFFSET(INDIRECT($A22),MATCH($B22,INDIRECT($A22),0)-1,2),"")} | F22: =IFERROR(E22*C22,"")
C23: {=IFERROR(OFFSET(INDIRECT($A23),MATCH($B23,INDIRECT($A23),0)-1,1),"")} | D23: {=IFERROR(OFFSET(INDIRECT($A23),MATCH($B23,INDIRECT($A23),0)-1,2),"")} | F23: =IFERROR(E23*C23,"")
C24: {=IFERROR(OFFSET(INDIRECT($A24),MATCH($B24,INDIRECT($A24),0)-1,1),"")} | D24: {=IFERROR(OFFSET(INDIRECT($A24),MATCH($B24,INDIRECT($A24),0)-1,2),"")} | F24: =IFERROR(E24*C24,"")
C25: {=IFERROR(OFFSET(INDIRECT($A25),MATCH($B25,INDIRECT($A25),0)-1,1),"")} | D25: {=IFERROR(OFFSET(INDIRECT($A25),MATCH($B25,INDIRECT($A25),0)-1,2),"")} | F25: =IFERROR(E25*C25,"")
C26: {=IFERROR(OFFSET(INDIRECT($A26),MATCH($B26,INDIRECT($A26),0)-1,1),"")} | D26: {=IFERROR(OFFSET(INDIRECT($A26),MATCH($B26,INDIRECT($A26),0)-1,2),"")} | F26: =IFERROR(E26*C26,"")
C27: {=IFERROR(OFFSET(INDIRECT($A27),MATCH($B27,INDIRECT($A27),0)-1,1),"")} | D27: {=IFERROR(OFFSET(INDIRECT($A27),MATCH($B27,INDIRECT($A27),0)-1,2),"")} | F27: =IFERROR(E27*C27,"")
C28: {=IFERROR(OFFSET(INDIRECT($A28),MATCH($B28,INDIRECT($A28),0)-1,1),"")} | D28: {=IFERROR(OFFSET(INDIRECT($A28),MATCH($B28,INDIRECT($A28),0)-1,2),"")} | F28: =IFERROR(E28*C28,"")
... C33: {=IFERROR(OFFSET(INDIRECT($A33),MATCH($B33,INDIRECT($A33),0)-1,1),"")} | D33: {=IFERROR(OFFSET(INDIRECT($A33),MATCH($B33,INDIRECT($A33),0)-1,2),"")} | F33: =IFERROR(E33*C33,"")
B34: Coût de la recette | C34: =SUM(F11:F33)+C36 -> 54.248
B35: Coût par portion | C35: =C34/D8 -> #DIV/0!
B36: Labor Cost | C36: =H9*H6 -> 52 | D36: $total port. | E36: Coût total port. | F36: =(C36/D8)+C35 -> #DIV/0!
B37: Récipients | C37: Standard | G37: Détails:
B40: Présentation :
B43: Commentaires :

Sheet Brownies
B1: FICHE RECETTE | H1: Date:
B2: Votre nom:__________________
B4: Nom de la recette :
J5: Convertisseur temps
B6: Standard : | C6: Qté: | F6: Temps de préparation | H6: =L6/L7 -> 0.16666667 | J6: 10 | L6: =J6*L7/J7 -> 16.666667
B7: Rendement total: | C7: Rendement total: | F7: Temps de cuisson | J7: 60 | L7: 100
B8: Portion individuelle: | F8: Température du four
F9: Salaire moyen | H9: 13
A10: Categories | B10: Ingrédients | C10: Coût un. | D10: Unité | E10: Quantité | F10: Coût total | G10: Préparation
A12: Sec | B12: Chocolat couv noir mi-amère | C12: {=IFERROR(OFFSET(INDIRECT($A12),MATCH($B12,INDIRECT($A12),0)-1,1),"")} -> 5.58 | D12: {=IFERROR(OFFSET(INDIRECT($A12),MATCH($B12,INDIRECT($A12),0)-1,2),"")} -> Kg | E12: 1.2 | F12: =IFERROR(E12*C12,"") -> 6.696
A13: Produits_Laitiers | B13: Beurre non-salée | C13: {=IFERROR(OFFSET(INDIRECT($A13),MATCH($B13,INDIRECT($A13),0)-1,1),"")} -> 4.95 | D13: {=IFERROR(OFFSET(INDIRECT($A13),MATCH($B13,INDIRECT($A13),0)-1,2),"")} -> Kg | E13: 1.362 | F13: =IFERROR(E13*C13,"") -> 6.7419
A14: Produit_animal | B14: Œuf moyen | C14: {=IFERROR(OFFSET(INDIRECT($A14),MATCH($B14,INDIRECT($A14),0)-1,1),"")} -> 0.19 | D14: {=IFERROR(OFFSET(INDIRECT($A14),MATCH($B14,INDIRECT($A14),0)-1,2),"")} -> unité | E14: 16 | F14: =IFERROR(E14*C14,"") -> 3.04
A15: Sec | B15: Sucre fin | C15: {=IFERROR(OFFSET(INDIRECT($A15),MATCH($B15,INDIRECT($A15),0)-1,1),"")} -> 1.24 | D15: {=IFERROR(OFFSET(INDIRECT($A15),MATCH($B15,INDIRECT($A15),0)-1,2),"")} -> Kg | E15: 1.2 | F15: =IFERROR(E15*C15,"") -> 1.488
A16: Sec | B16: Farine tout-usage | C16: {=IFERROR(OFFSET(INDIRECT($A16),MATCH($B16,INDIRECT($A16),0)-1,1),"")} -> 1.02 | D16: {=IFERROR(OFFSET(INDIRECT($A16),MATCH($B16,INDIRECT($A16),0)-1,2),"")} -> Kg | E16: 0.5 | F16: =IFERROR(E16*C16,"") -> 0.51
A17: Sec | B17: Sel fin highgrade n/iode | C17: {=IFERROR(OFFSET(INDIRECT($A17),MATCH($B17,INDIRECT($A17),0)-1,1),"")} -> 0.5 | D17: {=IFERROR(OFFSET(INDIRECT($A17),MATCH($B17,INDIRECT($A17),0)-1,2),"")} -> Kg | E17: 0.001 | F17: =IFERROR(E17*C17,"") -> 0.0005
A18: Sec | B18: Chocolat couv blanc | C18: {=IFERROR(OFFSET(INDIRECT($A18),MATCH($B18,INDIRECT($A18),0)-1,1),"")} -> 4.53 | D18: {=IFERROR(OFFSET(INDIRECT($A18),MATCH($B18,INDIRECT($A18),0)-1,2),"")} -> Kg | E18: 0.07 | F18: =IFERROR(E18*C18,"") -> 0.3171
A19: Sec | B19: Chocolat couv lait lactée sup | C19: {=IFERROR(OFFSET(INDIRECT($A19),MATCH($B19,INDIRECT($A19),0)-1,1),"")} -> 4.73 | D19: {=IFERROR(OFFSET(INDIRECT($A19),MATCH($B19,INDIRECT($A19),0)-1,2),"")} -> Kg | E19: 0.07 | F19: =IFERROR(E19*C19,"") -> 0.3311
A20: Sec | B20: Chocolat couv noir mi-amère | C20: {=IFERROR(OFFSET(INDIRECT($A20),MATCH($B20,INDIRECT($A20),0)-1,1),"")} -> 5.58 | D20: {=IFERROR(OFFSET(INDIRECT($A20),MATCH($B20,INDIRECT($A20),0)-1,2),"")} -> Kg | E20: 0.07 | F20: =IFERROR(E20*C20,"") -> 0.3906
A21: Sec | B21: Chocolat caramilk | C21: {=IFERROR(OFFSET(INDIRECT($A21),MATCH($B21,INDIRECT($A21),0)-1,1),"")} -> 0.21 | D21: {=IFERROR(OFFSET(INDIRECT($A21),MATCH($B21,INDIRECT($A21),0)-1,2),"")} -> unité | E21: 2 | F21: =IFERROR(E21*C21,"") -> 0.42
A22: Sec | B22: Bretzel | C22: {=IFERROR(OFFSET(INDIRECT($A22),MATCH($B22,INDIRECT($A22),0)-1,1),"")} -> 5.93 | D22: {=IFERROR(OFFSET(INDIRECT($A22),MATCH($B22,INDIRECT($A22),0)-1,2),"")} -> Kg | E22: 0.07 | F22: =IFERROR(E22*C22,"") -> 0.4151
C23: {=IFERROR(OFFSET(INDIRECT($A23),MATCH($B23,INDIRECT($A23),0)-1,1),"")} | D23: {=IFERROR(OFFSET(INDIRECT($A23),MATCH($B23,INDIRECT($A23),0)-1,2),"")} | F23: =IFERROR(E23*C23,"")
C24: {=IFERROR(OFFSET(INDIRECT($A24),MATCH($B24,INDIRECT($A24),0)-1,1),"")} | D24: {=IFERROR(OFFSET(INDIRECT($A24),MATCH($B24,INDIRECT($A24),0)-1,2),"")} | F24: =IFERROR(E24*C24,"")
C25: {=IFERROR(OFFSET(INDIRECT($A25),MATCH($B25,INDIRECT($A25),0)-1,1),"")} | D25: {=IFERROR(OFFSET(INDIRECT($A25),MATCH($B25,INDIRECT($A25),0)-1,2),"")} | F25: =IFERROR(E25*C25,"")
C26: {=IFERROR(OFFSET(INDIRECT($A26),MATCH($B26,INDIRECT($A26),0)-1,1),"")} | D26: {=IFERROR(OFFSET(INDIRECT($A26),MATCH($B26,INDIRECT($A26),0)-1,2),"")} | F26: =IFERROR(E26*C26,"")
C27: {=IFERROR(OFFSET(INDIRECT($A27),MATCH($B27,INDIRECT($A27),0)-1,1),"")} | D27: {=IFERROR(OFFSET(INDIRECT($A27),MATCH($B27,INDIRECT($A27),0)-1,2),"")} | F27: =IFERROR(E27*C27,"")
C28: {=IFERROR(OFFSET(INDIRECT($A28),MATCH($B28,INDIRECT($A28),0)-1,1),"")} | D28: {=IFERROR(OFFSET(INDIRECT($A28),MATCH($B28,INDIRECT($A28),0)-1,2),"")} | F28: =IFERROR(E28*C28,"")
C29: {=IFERROR(OFFSET(INDIRECT($A29),MATCH($B29,INDIRECT($A29),0)-1,1),"")} | D29: {=IFERROR(OFFSET(INDIRECT($A29),MATCH($B29,INDIRECT($A29),0)-1,2),"")} | F29: =IFERROR(E29*C29,"")
C30: {=IFERROR(OFFSET(INDIRECT($A30),MATCH($B30,INDIRECT($A30),0)-1,1),"")} | D30: {=IFERROR(OFFSET(INDIRECT($A30),MATCH($B30,INDIRECT($A30),0)-1,2),"")} | F30: =IFERROR(E30*C30,"")
C31: {=IFERROR(OFFSET(INDIRECT($A31),MATCH($B31,INDIRECT($A31),0)-1,1),"")} | D31: {=IFERROR(OFFSET(INDIRECT($A31),MATCH($B31,INDIRECT($A31),0)-1,2),"")} | F31: =IFERROR(E31*C31,"")
C32: {=IFERROR(OFFSET(INDIRECT($A32),MATCH($B32,INDIRECT($A32),0)-1,1),"")} | D32: {=IFERROR(OFFSET(INDIRECT($A32),MATCH($B32,INDIRECT($A32),0)-1,2),"")} | F32: =IFERROR(E32*C32,"")
C33: {=IFERROR(OFFSET(INDIRECT($A33),MATCH($B33,INDIRECT($A33),0)-1,1),"")} | D33: {=IFERROR(OFFSET(INDIRECT($A33),MATCH($B33,INDIRECT($A33),0)-1,2),"")} | F33: =IFERROR(E33*C33,"")
B34: Coût de la recette | C34: =SUM(F11:F33)+C36 -> 22.516967
B35: Coût par portion | C35: =C34/D8 -> #DIV/0!
B36: Labor Cost | C36: =H9*H6 -> 2.1666667 | D36: $total port. | E36: Coût total port. | F36: =(C36/D8)+C35 -> #DIV/0!
B37: Récipients | C37: Standard | G37: Détails:
B40: Présentation :
B43: Commentaires :

Sheet crème brulée
B1: FICHE RECETTE | H1: Date:
B2: Votre nom:__________________
B4: Nom de la recette :
J5: Convertisseur temps
B6: Standard : | C6: Qté: | F6: Temps de préparation | H6: =L6/L7 -> 0.16666667 | J6: 10 | L6: =J6*L7/J7 -> 16.666667
B7: Rendement total: | C7: Rendement total: | F7: Temps de cuisson | J7: 60 | L7: 100
B8: Portion individuelle: | F8: Température du four
F9: Salaire moyen | H9: 13
A10: Categories | B10: Ingrédients | C10: Coût un. | D10: Unité | E10: Quantité | F10: Coût total | G10: Préparation
A12: Produit_animal | B12: Œuf moyen | C12: {=IFERROR(OFFSET(INDIRECT($A12),MATCH($B12,INDIRECT($A12),0)-1,1),"")} -> 0.19 | D12: {=IFERROR(OFFSET(INDIRECT($A12),MATCH($B12,INDIRECT($A12),0)-1,2),"")} -> unité | E12: 36 | F12: =IFERROR(E12*C12,"") -> 6.84
A13: Produits_Laitiers | B13: Crème 35% fouetter | C13: {=IFERROR(OFFSET(INDIRECT($A13),MATCH($B13,INDIRECT($A13),0)-1,1),"")} -> 5.11 | D13: {=IFERROR(OFFSET(INDIRECT($A13),MATCH($B13,INDIRECT($A13),0)-1,2),"")} -> litre | E13: 1.5 | F13: =IFERROR(E13*C13,"") -> 7.665
A14: Sec | B14: Sucre fin | C14: {=IFERROR(OFFSET(INDIRECT($A14),MATCH($B14,INDIRECT($A14),0)-1,1),"")} -> 1.24 | D14: {=IFERROR(OFFSET(INDIRECT($A14),MATCH($B14,INDIRECT($A14),0)-1,2),"")} -> Kg | E14: 0.6 | F14: =IFERROR(E14*C14,"") -> 0.744
C15: {=IFERROR(OFFSET(INDIRECT($A15),MATCH($B15,INDIRECT($A15),0)-1,1),"")} | D15: {=IFERROR(OFFSET(INDIRECT($A15),MATCH($B15,INDIRECT($A15),0)-1,2),"")} | F15: =IFERROR(E15*C15,"")
C16: {=IFERROR(OFFSET(INDIRECT($A16),MATCH($B16,INDIRECT($A16),0)-1,1),"")} | D16: {=IFERROR(OFFSET(INDIRECT($A16),MATCH($B16,INDIRECT($A16),0)-1,2),"")} | F16: =IFERROR(E16*C16,"")
C17: {=IFERROR(OFFSET(INDIRECT($A17),MATCH($B17,INDIRECT($A17),0)-1,1),"")} | D17: {=IFERROR(OFFSET(INDIRECT($A17),MATCH($B17,INDIRECT($A17),0)-1,2),"")} | F17: =IFERROR(E17*C17,"")
C18: {=IFERROR(OFFSET(INDIRECT($A18),MATCH($B18,INDIRECT($A18),0)-1,1),"")} | D18: {=IFERROR(OFFSET(INDIRECT($A18),MATCH($B18,INDIRECT($A18),0)-1,2),"")} | F18: =IFERROR(E18*C18,"")
C19: {=IFERROR(OFFSET(INDIRECT($A19),MATCH($B19,INDIRECT($A19),0)-1,1),"")} | D19: {=IFERROR(OFFSET(INDIRECT($A19),MATCH($B19,INDIRECT($A19),0)-1,2),"")} | F19: =IFERROR(E19*C19,"")
C20: {=IFERROR(OFFSET(INDIRECT($A20),MATCH($B20,INDIRECT($A20),0)-1,1),"")} | D20: {=IFERROR(OFFSET(INDIRECT($A20),MATCH($B20,INDIRECT($A20),0)-1,2),"")} | F20: =IFERROR(E20*C20,"")
C21: {=IFERROR(OFFSET(INDIRECT($A21),MATCH($B21,INDIRECT($A21),0)-1,1),"")} | D21: {=IFERROR(OFFSET(INDIRECT($A21),MATCH($B21,INDIRECT($A21),0)-1,2),"")} | F21: =IFERROR(E21*C21,"")
