Workbook

Sheet Ingredients
A1: Ingrédients
B3: Désignation
B4: Abricot
B5: Alcool de poire | E5: Pains
B6: Amande entière Blanche | E6: Patisserie
B7: Amandes efffilées | E7: Snacking
B8: Annanas
B9: Beurre
B10: Blanc d'œufs
B11: Cacao
B12: Cannelle
B13: Cerise griotte
B14: Chocolat blanc
B15: Chocolat en pépite
B16: Chocolat en pistole
B17: Citron
B18: Colorant liquide
B19: Confiture de framboise
... B80: zzz

Sheet dacquoise fruit
A1: Dacquoise aux fruits
F3: Quantité : | G3: 80
B6: =Ingredients!B3 -> Désignation | C6: Quantité | D6: =G3 -> 80 | E6: Quantité 1p
B8: =Ingredients!B4 -> Abricot | D8: =IF(C8="","","g") | E8: =IF(C8="","",C8/$G$3) | F8: =D8
B9: =Ingredients!B5 -> Alcool de poire | D9: =IF(C9="","","g") | E9: =IF(C9="","",C9/$G$3) | F9: =D9
B10: =Ingredients!B6 -> Amande entière Blanche | D10: =IF(C10="","","g") | E10: =IF(C10="","",C10/$G$3) | F10: =D10
B11: =Ingredients!B7 -> Amandes efffilées | D11: =IF(C11="","","g") | E11: =IF(C11="","",C11/$G$3) | F11: =D11
B12: =Ingredients!B8 -> Annanas | C12: 300 | D12: =IF(C12="","","g") -> g | E12: =IF(C12="","",C12/$G$3) -> 3.75 | F12: =D12 -> g
B13: =Ingredients!B9 -> Beurre | D13: =IF(C13="","","g") | E13: =IF(C13="","",C13/$G$3) | F13: =D13
B14: =Ingredients!B10 -> Blanc d'œufs | C14: 600 | D14: =IF(C14="","","g") -> g | E14: =IF(C14="","",C14/$G$3) -> 7.5 | F14: =D14 -> g
B15: =Ingredients!B66 -> but | D15: =IF(C15="","","g") | E15: =IF(C15="","",C15/$G$3) | F15: =D15
B16: =Ingredients!B11 -> Cacao | D16: =IF(C16="","","g") | E16: =IF(C16="","",C16/$G$3) | F16: =D16
B17: =Ingredients!B12 -> Cannelle | D17: =IF(C17="","","g") | E17: =IF(C17="","",C17/$G$3) | F17: =D17
B18: =Ingredients!B13 -> Cerise griotte | C18: 300 | D18: =IF(C18="","","g") -> g | E18: =IF(C18="","",C18/$G$3) -> 3.75 | F18: =D18 -> g
B19: =Ingredients!B14 -> Chocolat blanc | C19: 500 | D19: =IF(C19="","","g") -> g | E19: =IF(C19="","",C19/$G$3) -> 6.25 | F19: =D19 -> g
B20: =Ingredients!B15 -> Chocolat en pépite | D20: =IF(C20="","","g") | E20: =IF(C20="","",C20/$G$3) | F20: =D20
B21: =Ingredients!B16 -> Chocolat en pistole | D21: =IF(C21="","","g") | E21: =IF(C21="","",C21/$G$3) | F21: =D21
B22: =Ingredients!B17 -> Citron | D22: =IF(C22="","","g") | E22: =IF(C22="","",C22/$G$3) | F22: =D22
B23: =Ingredients!B18 -> Colorant liquide | D23: =IF(C23="","","g") | E23: =IF(C23="","",C23/$G$3) | F23: =D23
B24: =Ingredients!B19 -> Confiture de framboise | D24: =IF(C24="","","g") | E24: =IF(C24="","",C24/$G$3) | F24: =D24
B25: =Ingredients!B20 -> Coulis framboise | D25: =IF(C25="","","g") | E25: =IF(C25="","",C25/$G$3) | F25: =D25
B26: =Ingredients!B21 -> Coulis mangue | D26: =IF(C26="","","g") | E26: =IF(C26="","",C26/$G$3) | F26: =D26
B27: =Ingredients!B22 -> Crème liquide | C27: 380 | D27: =IF(C27="","","g") -> g | E27: =IF(C27="","",C27/$G$3) -> 4.75 | F27: =D27 -> g
B28: =Ingredients!B23 -> Eau | D28: =IF(C28="","","g") | E28: =IF(C28="","",C28/$G$3) | F28: =D28
B29: =Ingredients!B24 -> Farine mi-crème | D29: =IF(C29="","","g") | E29: =IF(C29="","",C29/$G$3) | F29: =D29
B30: =Ingredients!B25 -> Farine T45 | D30: =IF(C30="","","g") | E30: =IF(C30="","",C30/$G$3) | F30: =D30
B31: =Ingredients!B26 -> Farine T45 de gruau | D31: =IF(C31="","","g") | E31: =IF(C31="","",C31/$G$3) | F31: =D31
B32: =Ingredients!B27 -> Farine T55 | D32: =IF(C32="","","g") | E32: =IF(C32="","",C32/$G$3) | F32: =D32
B33: =Ingredients!B28 -> Farinte T65 | E33: =IF(C33="","",C33/$G$3) | F33: =D33 -> 0
B34: =Ingredients!B29 -> Framboise | C34: 800 | D34: g | E34: =IF(C34="","",C34/$G$3) -> 10 | F34: =D34 -> g
B35: =Ingredients!B30 -> Gelatine | D35: =IF(C35="","","g") | E35: =IF(C35="","",C35/$G$3) | F35: =D35
B36: =Ingredients!B31 -> Gelatine feuille | C36: 8 | D36: g | E36: =IF(C36="","",C36/$G$3) -> 0.1 | F36: =D36 -> g
B37: =Ingredients!B32 -> Gelée d'abricot | D37: =IF(C37="","","g") | E37: =IF(C37="","",C37/$G$3) | F37: =D37
B38: =Ingredients!B33 -> Gousse de vanille | C38: 2 | D38: u | E38: =IF(C38="","",C38/$G$3) -> 0.025 | F38: =D38 -> u
B39: =Ingredients!B34 -> Grand marnier | D39: =IF(C39="","","g") | E39: =IF(C39="","",C39/$G$3) | F39: =D39
B40: =Ingredients!B35 -> Jaune d'œufs | D40: =IF(C40="","","g") | E40: =IF(C40="","",C40/$G$3) | F40: =D40
B41: =Ingredients!B36 -> Jus d'orange | D41: =IF(C41="","","g") | E41: =IF(C41="","",C41/$G$3) | F41: =D41
B42: =Ingredients!B65 -> Kirsh | D42: =IF(C42="","","g") | E42: =IF(C42="","",C42/$G$3) | F42: =D42
B43: =Ingredients!B37 -> Lait 1/2 écrémé | D43: =IF(C43="","","g") | E43: =IF(C43="","",C43/$G$3) | F43: =D43
B44: =Ingredients!B38 -> Lait entier | C44: 500 | D44: =IF(C44="","","g") -> g | E44: =IF(C44="","",C44/$G$3) -> 6.25 | F44: =D44 -> g
...
