Workbook

Sheet Ingredients
A1: Ingrédients
B3: Désignation
B4: Abricot
B5: Alcool de poire | E5: Pains
B6: Amande entière Blanche | E6: Patisserie
B7: Amandes efffilées | E7: Snacking
B8: Annanas
B9: Beurre
B10: Blanc d'œufs
B11: Cacao
B12: Cannelle
B13: Cerise griotte
B14: Chocolat blanc
B15: Chocolat en pépite
B16: Chocolat en pistole
B17: Citron
B18: Colorant liquide
B19: Confiture de framboise
... B80: zzz

Sheet dacquoise fruit
A1: Dacquoise aux fruits
F3: Quantité : | G3: 80
B6: =Ingredients!B3 -> Désignation | C6: Quantité | D6: =G3 -> 80 | E6: Quantité 1p
B8: =Ingredients!B4 -> Abricot | D8: =IF(C8="","","g") | E8: =IF(C8="","",C8/$G$3) | F8: =D8
B9: =Ingredients!B5 -> Alcool de poire | D9: =IF(C9="","","g") | E9: =IF(C9="","",C9/$G$3) | F9: =D9
B10: =Ingredients!B6 -> Amande entière Blanche | D10: =IF(C10="","","g") | E10: =IF(C10="","",C10/$G$3) | F10: =D10
B11: =Ingredients!B7 -> Amandes efffilées | D11: =IF(C11="","","g") | E11: =IF(C11="","",C11/$G$3) | F11: =D11
B12: =Ingredients!B8 -> Annanas | C12: 300 | D12: =IF(C12="","","g") -> g | E12: =IF(C12="","",C12/$G$3) -> 3.75 | F12: =D12 -> g
B13: =Ingredients!B9 -> Beurre | D13: =IF(C13="","","g") | E13: =IF(C13="","",C13/$G$3) | F13: =D13
B14: =Ingredients!B10 -> Blanc d'œufs | C14: 600 | D14: =IF(C14="","","g") -> g | E14: =IF(C14="","",C14/$G$3) -> 7.5 | F14: =D14 -> g
B15: =Ingredients!B66 -> but | D15: =IF(C15="","","g") | E15: =IF(C15="","",C15/$G$3) | F15: =D15
B16: =Ingredients!B11 -> Cacao | D16: =IF(C16="","","g") | E16: =IF(C16="","",C16/$G$3) | F16: =D16
B17: =Ingredients!B12 -> Cannelle | D17: =IF(C17="","","g") | E17: =IF(C17="","",C17/$G$3) | F17: =D17
B18: =Ingredients!B13 -> Cerise griotte | C18: 300 | D18: =IF(C18="","","g") -> g | E18: =IF(C18="","",C18/$G$3) -> 3.75 | F18: =D18 -> g
B19: =Ingredients!B14 -> Chocolat blanc | C19: 500 | D19: =IF(C19="","","g") -> g | E19: =IF(C19="","",C19/$G$3) -> 6.25 | F19: =D19 -> g
B20: =Ingredients!B15 -> Chocolat en pépite | D20: =IF(C20="","","g") | E20: =IF(C20="","",C20/$G$3) | F20: =D20
B21: =Ingredients!B16 -> Chocolat en pistole | D21: =IF(C21="","","g") | E21: =IF(C21="","",C21/$G$3) | F21: =D21
B22: =Ingredients!B17 -> Citron | D22: =IF(C22="","","g") | E22: =IF(C22="","",C22/$G$3) | F22: =D22
B23: =Ingredients!B18 -> Colorant liquide | D23: =IF(C23="","","g") | E23: =IF(C23="","",C23/$G$3) | F23: =D23
B24: =Ingredients!B19 -> Confiture de framboise | D24: =IF(C24="","","g") | E24: =IF(C24="","",C24/$G$3) | F24: =D24
B25: =Ingredients!B20 -> Coulis framboise | D25: =IF(C25="","","g") | E25: =IF(C25="","",C25/$G$3) | F25: =D25
B26: =Ingredients!B21 -> Coulis mangue | D26: =IF(C26="","","g") | E26: =IF(C26="","",C26/$G$3) | F26: =D26
B27: =Ingredients!B22 -> Crème liquide | C27: 380 | D27: =IF(C27="","","g") -> g | E27: =IF(C27="","",C27/$G$3) -> 4.75 | F27: =D27 -> g
B28: =Ingredients!B23 -> Eau | D28: =IF(C28="","","g") | E28: =IF(C28="","",C28/$G$3) | F28: =D28
B29: =Ingredients!B24 -> Farine mi-crème | D29: =IF(C29="","","g") | E29: =IF(C29="","",C29/$G$3) | F29: =D29
B30: =Ingredients!B25 -> Farine T45 | D30: =IF(C30="","","g") | E30: =IF(C30="","",C30/$G$3) | F30: =D30
B31: =Ingredients!B26 -> Farine T45 de gruau | D31: =IF(C31="","","g") | E31: =IF(C31="","",C31/$G$3) | F31: =D31
B32: =Ingredients!B27 -> Farine T55 | D32: =IF(C32="","","g") | E32: =IF(C32="","",C32/$G$3) | F32: =D32
B33: =Ingredients!B28 -> Farinte T65 | E33: =IF(C33="","",C33/$G$3) | F33: =D33 -> 0
B34: =Ingredients!B29 -> Framboise | C34: 800 | D34: g | E34: =IF(C34="","",C34/$G$3) -> 10 | F34: =D34 -> g
B35: =Ingredients!B30 -> Gelatine | D35: =IF(C35="","","g") | E35: =IF(C35="","",C35/$G$3) | F35: =D35
B36: =Ingredients!B31 -> Gelatine feuille | C36: 8 | D36: g | E36: =IF(C36="","",C36/$G$3) -> 0.1 | F36: =D36 -> g
B37: =Ingredients!B32 -> Gelée d'abricot | D37: =IF(C37="","","g") | E37: =IF(C37="","",C37/$G$3) | F37: =D37
B38: =Ingredients!B33 -> Gousse de vanille | C38: 2 | D38: u | E38: =IF(C38="","",C38/$G$3) -> 0.025 | F38: =D38 -> u
B39: =Ingredients!B34 -> Grand marnier | D39: =IF(C39="","","g") | E39: =IF(C39="","",C39/$G$3) | F39: =D39
B40: =Ingredients!B35 -> Jaune d'œufs | D40: =IF(C40="","","g") | E40: =IF(C40="","",C40/$G$3) | F40: =D40
B41: =Ingredients!B36 -> Jus d'orange | D41: =IF(C41="","","g") | E41: =IF(C41="","",C41/$G$3) | F41: =D41
B42: =Ingredients!B65 -> Kirsh | D42: =IF(C42="","","g") | E42: =IF(C42="","",C42/$G$3) | F42: =D42
B43: =Ingredients!B37 -> Lait 1/2 écrémé | D43: =IF(C43="","","g") | E43: =IF(C43="","",C43/$G$3) | F43: =D43
B44: =Ingredients!B38 -> Lait entier | C44: 500 | D44: =IF(C44="","","g") -> g | E44: =IF(C44="","",C44/$G$3) -> 6.25 | F44: =D44 -> g
B45: =Ingredients!B39 -> Levure boulangère | D45: =IF(C45="","","g") | E45: =IF(C45="","",C45/$G$3) | F45: =D45
B46: =Ingredients!B40 -> Levure chimique | D46: =IF(C46="","","g") | E46: =IF(C46="","",C46/$G$3) | F46: =D46
B47: =Ingredients!B41 -> Maizena | D47: =IF(C47="","","g") | E47: =IF(C47="","",C47/$G$3) | F47: =D47
B48: =Ingredients!B42 -> Mandarine | C48: 400 | D48: =IF(C48="","","g") -> g | E48: =IF(C48="","",C48/$G$3) -> 5 | F48: =D48 -> g
B49: =Ingredients!B43 -> Nappage abricot | D49: =IF(C49="","","g") | E49: =IF(C49="","",C49/$G$3) | F49: =D49
B50: =Ingredients!B44 -> Nappage neutre
B51: =Ingredients!B45 -> Noisette en Poudre | C51: 600
B52: =Ingredients!B46 -> Noix | D52: =IF(C52="","","g") | E52: =IF(C52="","",C52/$G$3) | F52: =D52
B53: =Ingredients!B47 -> Noix de coco | D53: =IF(C53="","","g") | E53: =IF(C53="","",C53/$G$3) | F53: =D53
B54: =Ingredients!B48 -> Œufs entiers | D54: =IF(C54="","","g") | E54: =IF(C54="","",C54/$G$3) | F54: =D54
B55: =Ingredients!B49 -> Orange | D55: =IF(C55="","","g") | E55: =IF(C55="","",C55/$G$3) | F55: =D55
B56: =Ingredients!B50 -> Pâte à pistache | D56: =IF(C56="","","g") | E56: =IF(C56="","",C56/$G$3) | F56: =D56
B57: =Ingredients!B51 -> Pêches | C57: 300 | D57: =IF(C57="","","g") -> g | E57: =IF(C57="","",C57/$G$3) -> 3.75 | F57: =D57 -> g
B58: =Ingredients!B52 -> Poire | C58: 300 | D58: =IF(C58="","","g") -> g | E58: =IF(C58="","",C58/$G$3) -> 3.75 | F58: =D58 -> g
B59: =Ingredients!B53 -> Pomme | D59: =IF(C59="","","g") | E59: =IF(C59="","",C59/$G$3) | F59: =D59
B60: =Ingredients!B54 -> Poudre à crème pâtissière | D60: =IF(C60="","","g") | E60: =IF(C60="","",C60/$G$3) | F60: =D60
B61: =Ingredients!B55 -> Poudre d'amandes | D61: =IF(C61="","","g") | E61: =IF(C61="","",C61/$G$3) | F61: =D61
B62: =Ingredients!B56 -> Poudre de lait | D62: =IF(C62="","","g") | E62: =IF(C62="","",C62/$G$3) | F62: =D62
B63: =Ingredients!B57 -> Poudre de noisettes | D63: =IF(C63="","","g") | E63: =IF(C63="","",C63/$G$3) | F63: =D63
B64: =Ingredients!B58 -> Praliné | D64: =IF(C64="","","g") | E64: =IF(C64="","",C64/$G$3) | F64: =D64
B65: =Ingredients!B59 -> Quetsches | D65: =IF(C65="","","g") | E65: =IF(C65="","",C65/$G$3) | F65: =D66
B66: =Ingredients!B60 -> Rhubarbe | D66: =IF(C66="","","g") | E66: =IF(C66="","",C66/$G$3) | F66: =D66
B67: =Ingredients!B61 -> Sel | D67: =IF(C67="","","g") | E67: =IF(C67="","",C67/$G$3) | F67: =D67
B68: =Ingredients!B62 -> Sirop de glucose | D68: =IF(C68="","","g") | E68: =IF(C68="","",C68/$G$3) | F68: =D68
B69: =Ingredients!B63 -> Sucre Glace | C69: 350 | D69: =IF(C69="","","g") -> g | E69: =IF(C69="","",C69/$G$3) -> 4.375 | F69: =D69 -> g
B70: =Ingredients!B64 -> Sucre semoule | C70: 160 | D70: =IF(C70="","","g") -> g | E70: =IF(C70="","",C70/$G$3) -> 2 | F70: =D70 -> g
B71: =Ingredients!B67 -> zzz | D71: =IF(C71="","","g") | E71: =IF(C71="","",C71/$G$3) | F71: =D71
B72: =Ingredients!B68 -> zzz | D72: =IF(C72="","","g") | E72: =IF(C72="","",C72/$G$3) | F72: =D72
B73: =Ingredients!B69 -> zzz | D73: =IF(C73="","","g") | E73: =IF(C73="","",C73/$G$3) | F73: =D73
B74: =Ingredients!B70 -> zzz | D74: =IF(C74="","","g") | E74: =IF(C74="","",C74/$G$3) | F74: =D74
B75: =Ingredients!B71 -> zzz | D75: =IF(C75="","","g") | E75: =IF(C75="","",C75/$G$3) | F75: =D75
B76: =Ingredients!B72 -> zzz | D76: =IF(C76="","","g") | E76: =IF(C76="","",C76/$G$3) | F76: =D76
B77: =Ingredients!B73 -> zzz | D77: =IF(C77="","","g") | E77: =IF(C77="","",C77/$G$3) | F77: =D77
B78: =Ingredients!B74 -> zzz | D78: =IF(C78="","","g") | E78: =IF(C78="","",C78/$G$3) | F78: =D78
B79: =Ingredients!B75 -> zzz | D79: =IF(C79="","","g") | E79: =IF(C79="","",C79/$G$3) | F79: =D79
B80: =Ingredients!B76 -> zzz | D80: =IF(C80="","","g") | E80: =IF(C80="","",C80/$G$3) | F80: =D80
B81: =Ingredients!B77 -> zzz | D81: =IF(C81="","","g") | E81: =IF(C81="","",C81/$G$3) | F81: =D81
B82: =Ingredients!B78 -> zzz | D82: =IF(C82="","","g") | E82: =IF(C82="","",C82/$G$3) | F82: =D82
... B84: =Ingredients!B80 -> zzz | D84: =IF(C84="","","g") | E84: =IF(C84="","",C84/$G$3) | F84: =D84
B85: zzz | D85: =IF(C85="","","g") | E85: =IF(C85="","",C85/$G$3) | F85: =D85
B86: zzz | D86: =IF(C86="","","g") | E86: =IF(C86="","",C86/$G$3) | F86: =D86
