Workbook

Sheet CR
A1: Coût de revient
D3: Coeff MO : | E3: ='[1]2017'!$C$18 -> 0.24690303 | G3: Coeff FG : | H3: ='[1]2017'!$C$12 -> 0.23636364
A6: Désignation | B6: Prix du marché TTC | C6: Prix du marché HT | D6: Prix ingredients | E6: Prix MO | F6: Prix FG | G6: Total | H6: Marge | I6: Résultat
A8: =Brioche!A1 -> Brioche | B8: 0.5 | C8: =B8-(B8*20/100) -> 0.4 | D8: =Brioche!J7 -> 0.567139 | E8: =B8*$E$3 -> 0.12345152 | F8: =B8*$H$3 -> 0.11818182 | G8: =SUM(D8:F8) -> 0.80877233 | H8: =E8+I8 -> -0.28532082 | I8: =C8-G8 -> -0.40877233
A9: =Croissant!A1 -> Croissant | B9: 0.95 | C9: =B9-(B9*20/100) -> 0.76 | D9: =Croissant!J7 -> 0.18433632 | E9: =B9*$E$3 -> 0.23455788 | F9: =B9*$H$3 -> 0.22454545 | G9: =SUM(D9:F9) -> 0.64343965 | H9: =E9+I9 -> 0.35111823 | I9: =C9-G9 -> 0.11656035
A10: =Framboisier!A1 -> Framboisier | B10: 3.5 | C10: =B10-(B10*20/100) -> 2.8 | E10: =B10*$E$3 -> 0.86416061 | F10: =B10*$H$3 -> 0.82727273 | G10: =SUM(D10:F10) -> 1.6914333 | H10: =E10+I10 -> 1.9727273 | I10: =C10-G10 -> 1.1085667
A11: ='Pain viennois'!A1:I1 -> Pain Viennois | B11: 1.2 | C11: =B11-(B11*20/100) -> 0.96 | D11: ='Pain viennois'!J7 -> 0.33198126 | E11: =B11*$E$3 -> 0.29628364 | F11: =B11*$H$3 -> 0.28363636 | G11: =SUM(D11:F11) -> 0.91190126 | H11: =E11+I11 -> 0.34438237 | I11: =C11-G11 -> 0.048098738
A12: ='Paris Brest'!A1:E1 -> Paris Brest | B12: 1.4 | C12: =B12-(B12*20/100) -> 1.12 | D12: ='Paris Brest'!J8 -> 0.29133285 | E12: =B12*$E$3 -> 0.34566424 | F12: =B12*$H$3 -> 0.33090909 | G12: =SUM(D12:F12) -> 0.96790618 | H12: =E12+I12 -> 0.49775806 | I12: =C12-G12 -> 0.15209382
A13: =Tradition!A1 -> Tradition Française | B13: 1 | C13: =B13-(B13*20/100) -> 0.8 | D13: =Tradition!J7 -> 0.00058742857 | E13: =B13*$E$3 -> 0.24690303 | F13: =B13*$H$3 -> 0.23636364 | G13: =SUM(D13:F13) -> 0.4838541 | H13: =E13+I13 -> 0.56304894 | I13: =C13-G13 -> 0.3161459
A14: =A!A1 -> A | D14: =A!$J$7 -> 0 | E14: =B14*$E$3 -> 0 | F14: =B14*$H$3 -> 0 | G14: =SUM(D14:F14) -> 0 | H14: =E14+I14 -> 0 | I14: =C14-G14 -> 0
A15: =B!$A$1 -> B | D15: =B!$J$7 -> 0 | E15: =B15*$E$3 -> 0 | F15: =B15*$H$3 -> 0 | G15: =SUM(D15:F15) -> 0 | H15: =E15+I15 -> 0 | I15: =C15-G15 -> 0
A16: ='C'!$A$1 -> C | D16: ='C'!$J$7 -> 0 | E16: =B16*$E$3 -> 0 | F16: =B16*$H$3 -> 0 | G16: =SUM(D16:F16) -> 0 | H16: =E16+I16 -> 0 | I16: =C16-G16 -> 0
A17: =D!$A$1 -> D | D17: =D!$J$7 -> 0 | E17: =B17*$E$3 -> 0 | F17: =B17*$H$3 -> 0 | G17: =SUM(D17:F17) -> 0 | H17: =E17+I17 -> 0 | I17: =C17-G17 -> 0
A18: =E!$A$1 -> E | D18: =E!$J$7 -> 0 | E18: =B18*$E$3 -> 0 | F18: =B18*$H$3 -> 0 | G18: =SUM(D18:F18) -> 0 | H18: =E18+I18 -> 0 | I18: =C18-G18 -> 0
A19: =F!$A$1 -> F | D19: =F!$J$7 -> 0 | E19: =B19*$E$3 -> 0 | F19: =B19*$H$3 -> 0 | G19: =SUM(D19:F19) -> 0 | H19: =E19+I19 -> 0 | I19: =C19-G19 -> 0
A20: =G!$A$1 -> G | D20: =G!$J$7 -> 0 | E20: =B20*$E$3 -> 0 | F20: =B20*$H$3 -> 0 | G20: =SUM(D20:F20) -> 0 | H20: =E20+I20 -> 0 | I20: =C20-G20 -> 0
A21: =H!$A$1 -> H | D21: =H!$J$7 -> 0 | E21: =B21*$E$3 -> 0 | F21: =B21*$H$3 -> 0 | G21: =SUM(D21:F21) -> 0 | H21: =E21+I21 -> 0 | I21: =C21-G21 -> 0
A22: =I!$A$1 -> I | D22: =I!$J$7 -> 0 | E22: =B22*$E$3 -> 0 | F22: =B22*$H$3 -> 0 | G22: =SUM(D22:F22) -> 0 | H22: =E22+I22 -> 0 | I22: =C22-G22 -> 0
A23: =J!$A$1 -> J | D23: =J!$J$7 -> 0 | E23: =B23*$E$3 -> 0 | F23: =B23*$H$3 -> 0 | G23: =SUM(D23:F23) -> 0 | H23: =E23+I23 -> 0 | I23: =C23-G23 -> 0
A24: =K!$A$1 -> K | D24: =K!$J$7 -> 0 | E24: =B24*$E$3 -> 0 | F24: =B24*$H$3 -> 0 | G24: =SUM(D24:F24) -> 0 | H24: =E24+I24 -> 0 | I24: =C24-G24 -> 0
A25: =L!$A$1 -> L | D25: =L!$J$7 -> 0 | E25: =B25*$E$3 -> 0 | F25: =B25*$H$3 -> 0 | G25: =SUM(D25:F25) -> 0 | H25: =E25+I25 -> 0 | I25: =C25-G25 -> 0
A26: =M!$A$1 -> M | D26: =M!$J$7 -> 0 | E26: =B26*$E$3 -> 0 | F26: =B26*$H$3 -> 0 | G26: =SUM(D26:F26) -> 0 | H26: =E26+I26 -> 0 | I26: =C26-G26 -> 0
A27: =N!$A$1 -> N | D27: =N!$J$7 -> 0 | E27: =B27*$E$3 -> 0 | F27: =B27*$H$3 -> 0 | G27: =SUM(D27:F27) -> 0 | H27: =E27+I27 -> 0 | I27: =C27-G27 -> 0
A28: =O!$A$1 -> O | D28: =O!$J$7 -> 0 | E28: =B28*E53 -> 0 | F28: =B28*$H$3 -> 0 | G28: =SUM(D28:F28) -> 0 | H28: =E28+I28 -> 0 | I28: =C28-G28 -> 0
A29: =P!$A$1 -> P | D29: =P!$J$7 -> 0 | E29: =B29*E54 -> 0 | F29: =B29*$H$3 -> 0 | G29: =SUM(D29:F29) -> 0 | H29: =E29+I29 -> 0 | I29: =C29-G29 -> 0
A30: =Q!$A$1 -> Q | D30: =Q!$J$7 -> 0 | E30: =B30*E55 -> 0 | F30: =B30*$H$3 -> 0 | G30: =SUM(D30:F30) -> 0 | H30: =E30+I30 -> 0 | I30: =C30-G30 -> 0
A31: =+'R'!A1:G1 -> R | D31: ='R'!J7 -> 0 | E31: =B31*E56 -> 0 | F31: =B31*$H$3 -> 0 | G31: =SUM(D31:F31) -> 0 | H31: =E31+I31 -> 0 | I31: =C31-G31 -> 0
A32: =S!$A$1 -> S | D32: =S!$J$7 -> 0 | E32: =B32*E57 -> 0 | F32: =B32*$H$3 -> 0 | G32: =SUM(D32:F32) -> 0 | H32: =E32+I32 -> 0 | I32: =C32-G32 -> 0
A33: =T!$A$1 -> T | D33: =T!$J$7 -> 0 | E33: =B33*E58 -> 0 | F33: =B33*$H$3 -> 0 | G33: =SUM(D33:F33) -> 0 | H33: =E33+I33 -> 0 | I33: =C33-G33 -> 0
A34: =U!$A$1 -> U | D34: =U!$J$7 -> 0 | E34: =B34*E59 -> 0 | F34: =B34*$H$3 -> 0 | G34: =SUM(D34:F34) -> 0 | H34: =E34+I34 -> 0 | I34: =C34-G34 -> 0
A35: =V!$A$1 -> V | D35: =V!$J$7 -> 0 | E35: =B35*E60 -> 0 | F35: =B35*$H$3 -> 0 | G35: =SUM(D35:F35) -> 0 | H35: =E35+I35 -> 0 | I35: =C35-G35 -> 0
A36: =W!$A$1 -> W | D36: =W!$J$7 -> 0 | E36: =B36*E61 -> 0 | F36: =B36*$H$3 -> 0 | G36: =SUM(D36:F36) -> 0 | H36: =E36+I36 -> 0 | I36: =C36-G36 -> 0
A37: =X!$A$1 -> X | D37: =X!$J$7 -> 0 | E37: =B37*E62 -> 0 | F37: =B37*$H$3 -> 0 | G37: =SUM(D37:F37) -> 0 | H37: =E37+I37 -> 0 | I37: =C37-G37 -> 0
A38: =Y!$A$1 -> Y | D38: =Y!$J$7 -> 0 | E38: =B38*E63 -> 0 | F38: =B38*$H$3 -> 0 | G38: =SUM(D38:F38) -> 0 | H38: =E38+I38 -> 0 | I38: =C38-G38 -> 0
A39: =Z!$A$1 -> Z | D39: =Z!$J$7 -> 0 | E39: =B39*E64 -> 0 | F39: =B39*$H$3 -> 0 | G39: =SUM(D39:F39) -> 0 | H39: =E39+I39 -> 0 | I39: =C39-G39 -> 0

Sheet Feuil1

Sheet Feuil2

Sheet Feuil3

Sheet Feuil4

Sheet Feuil5

Sheet Feuil6

Sheet Feuil7

Sheet Feuil8

Sheet Feuil9

Sheet Feuil10

Sheet Feuil11

Sheet Brioche
A1: =[2]Brioche!$A$1:$G$1 -> Brioche
B3: Désignation | C3: Quantités 1p | E3: Quantités au kg | G3: Pu | H3: Pt
B4: Amande entière blanches | G4: =IF(E4>0,[3]Feuil1!G4,"") | J4: Prix
B5: Amandes efffilés | C5: =IF([2]Brioche!E4>0,[2]Brioche!E4,"") | D5: =IF([2]Brioche!F4>0,[2]Brioche!F4,"") | G5: =IF(E5>0,[3]Feuil1!G5,"")
B6: Beurre | C6: =IF([2]Brioche!E5>0,[2]Brioche!E5,"") -> 75 | D6: =IF([2]Brioche!F5>0,[2]Brioche!F5,"") -> g | E6: =C6/1000 -> 0.075 | F6: kg | G6: =IF(E6>0,[3]Feuil1!G6,"") -> 4.08 | H6: =G6*E6 -> 0.306
B7: Blanc d'œufs | C7: =IF([2]Brioche!E6>0,[2]Brioche!E6,"") | D7: =IF([2]Brioche!F6>0,[2]Brioche!F6,"") | G7: =IF(E7>0,[3]Feuil1!G7,"") | J7: =SUM(H4:H71) -> 0.567139
B8: Cacao | C8: =IF([2]Brioche!E7>0,[2]Brioche!E7,"") | D8: =IF([2]Brioche!F7>0,[2]Brioche!F7,"") | G8: =IF(E8>0,[3]Feuil1!G8,"")
B9: Cannelle | C9: =IF([2]Brioche!E8>0,[2]Brioche!E8,"") | D9: =IF([2]Brioche!F8>0,[2]Brioche!F8,"") | G9: =IF(E9>0,[3]Feuil1!G9,"")
B10: Cerise | C10: =IF([2]Brioche!E9>0,[2]Brioche!E9,"") | D10: =IF([2]Brioche!F9>0,[2]Brioche!F9,"") | G10: =IF(E10>0,[3]Feuil1!G10,"")
B11: Chocolat blanc | C11: =IF([2]Brioche!E10>0,[2]Brioche!E10,"") | D11: =IF([2]Brioche!F10>0,[2]Brioche!F10,"") | G11: =IF(E11>0,[3]Feuil1!G11,"")
B12: Chocolat en pépite | C12: =IF([2]Brioche!E11>0,[2]Brioche!E11,"") | D12: =IF([2]Brioche!F11>0,[2]Brioche!F11,"") | G12: =IF(E12>0,[3]Feuil1!G12,"")
B13: Chocolat en pistole | C13: =IF([2]Brioche!E12>0,[2]Brioche!E12,"") | D13: =IF([2]Brioche!F12>0,[2]Brioche!F12,"") | G13: =IF(E13>0,[3]Feuil1!G13,"")
B14: Citron | C14: =IF([2]Brioche!E13>0,[2]Brioche!E13,"") | D14: =IF([2]Brioche!F13>0,[2]Brioche!F13,"") | G14: =IF(E14>0,[3]Feuil1!G14,"")
B15: Confiture de framboise | C15: =IF([2]Brioche!E14>0,[2]Brioche!E14,"") | D15: =IF([2]Brioche!F14>0,[2]Brioche!F14,"") | G15: =IF(E15>0,[3]Feuil1!G15,"")
B16: Coulis framboise | C16: =IF([2]Brioche!E15>0,[2]Brioche!E15,"") | D16: =IF([2]Brioche!F15>0,[2]Brioche!F15,"") | G16: =IF(E16>0,[3]Feuil1!G16,"")
B17: Coulis mangue | C17: =IF([2]Brioche!E16>0,[2]Brioche!E16,"") | D17: =IF([2]Brioche!F16>0,[2]Brioche!F16,"") | G17: =IF(E17>0,[3]Feuil1!G17,"")
B18: Eau | C18: =IF([2]Brioche!E17>0,[2]Brioche!E17,"") | D18: =IF([2]Brioche!F17>0,[2]Brioche!F17,"") | G18: =IF(E18>0,[3]Feuil1!G18,"")
B19: Farine | C19: =IF([2]Brioche!E18>0,[2]Brioche!E18,"") | D19: =IF([2]Brioche!F18>0,[2]Brioche!F18,"") | G19: =IF(E19>0,[3]Feuil1!G19,"")
... B21: Farine T45 | C21: =IF([2]Brioche!E20>0,[2]Brioche!E20,"") | D21: =IF([2]Brioche!F20>0,[2]Brioche!F20,"") | G21: =IF(E21>0,[3]Feuil1!G21,"")
B22: Farine T45 de gruau | C22: =IF([2]Brioche!E21>0,[2]Brioche!E21,"") -> 125 | D22: =IF([2]Brioche!F21>0,[2]Brioche!F21,"") -> g | E22: =C22/1000 -> 0.125 | F22: kg | G22: =IF(E22>0,[3]Feuil1!G22,"") -> 0 | H22: =G22*E22 -> 0
B23: Farine T65 | C23: =IF([2]Brioche!E22>0,[2]Brioche!E22,"") | D23: =IF([2]Brioche!F22>0,[2]Brioche!F22,"") | G23: =IF(E23>0,[3]Feuil1!G23,"")
B24: Framboise | C24: =IF([2]Brioche!E23>0,[2]Brioche!E23,"") | D24: =IF([2]Brioche!F23>0,[2]Brioche!F23,"") | G24: =IF(E24>0,[3]Feuil1!G24,"")
B25: Gelatine | G25: =IF(E25>0,[3]Feuil1!G25,"")
B26: Gelée d'abricot | C26: =IF([2]Brioche!E24>0,[2]Brioche!E24,"") | D26: =IF([2]Brioche!F24>0,[2]Brioche!F24,"") | G26: =IF(E26>0,[3]Feuil1!G26,"")
B27: Gousse de vanille | C27: =IF([2]Brioche!E25>0,[2]Brioche!E25,"") | D27: =IF([2]Brioche!F25>0,[2]Brioche!F25,"") | G27: =IF(E27>0,[3]Feuil1!G27,"")
B28: Jaune d'œufs | C28: =IF([2]Brioche!E26>0,[2]Brioche!E26,"") | D28: =IF([2]Brioche!F26>0,[2]Brioche!F26,"") | G28: =IF(E28>0,[3]Feuil1!G28,"")
B29: Jus d'orange | C29: =IF([2]Brioche!E27>0,[2]Brioche!E27,"") | D29: =IF([2]Brioche!F27>0,[2]Brioche!F27,"") | G29: =IF(E29>0,[3]Feuil1!G29,"")
B30: Lait 1/2 écrémé | C30: =IF([2]Brioche!E28>0,[2]Brioche!E28,"") | D30: =IF([2]Brioche!F28>0,[2]Brioche!F28,"") | G30: =IF(E30>0,[3]Feuil1!G30,"")
B31: Lait entier | C31: =IF([2]Brioche!E29>0,[2]Brioche!E29,"") | D31: =IF([2]Brioche!F29>0,[2]Brioche!F29,"") | G31: =IF(E31>0,[3]Feuil1!G31,"")
B32: Levure boulangère | C32: =IF([2]Brioche!E30>0,[2]Brioche!E30,"") -> 3.75 | D32: =IF([2]Brioche!F30>0,[2]Brioche!F30,"") -> g | E32: =C32/1000 -> 0.00375 | F32: kg | G32: =IF(E32>0,[3]Feuil1!G32,"") -> 5.2579365
B33: Levure chimique | C33: =IF([2]Brioche!E31>0,[2]Brioche!E31,"") | D33: =IF([2]Brioche!F31>0,[2]Brioche!F31,"") | G33: =IF(E33>0,[3]Feuil1!G33,"")
B34: Maizena | C34: =IF([2]Brioche!E32>0,[2]Brioche!E32,"") | D34: =IF([2]Brioche!F32>0,[2]Brioche!F32,"") | G34: =IF(E34>0,[3]Feuil1!G34,"")
B35: Mandarine | C35: =IF([2]Brioche!E33>0,[2]Brioche!E33,"") | D35: =IF([2]Brioche!F33>0,[2]Brioche!F33,"") | G35: =IF(E35>0,[3]Feuil1!G35,"")
B36: Nappage neutre | C36: =IF([2]Brioche!E34>0,[2]Brioche!E34,"") | D36: =IF([2]Brioche!F34>0,[2]Brioche!F34,"") | G36: =IF(E36>0,[3]Feuil1!G36,"")
B37: Noix | C37: =IF([2]Brioche!E35>0,[2]Brioche!E35,"") | D37: =IF([2]Brioche!F35>0,[2]Brioche!F35,"") | G37: =IF(E37>0,[3]Feuil1!G37,"")
B38: Noix de coco | G38: =IF(E38>0,[3]Feuil1!G38,"")
B39: Noisette en poudre | G39: =IF(E39>0,[3]Feuil1!G39,"")
B40: Œufs entiers | C40: =IF([2]Brioche!E36>0,[2]Brioche!E36,"") -> 75 | D40: =IF([2]Brioche!F36>0,[2]Brioche!F36,"") -> g | E40: =C40/1000 -> 0.075 | F40: kg | G40: =IF(E40>0,[3]Feuil1!G40,"") -> 3.28 | H40: =G40*E40 -> 0.246
B41: Orange | G41: =IF(E41>0,[3]Feuil1!G41,"")
B42: Pâte à pistache | C42: =IF([2]Brioche!E38>0,[2]Brioche!E38,"") | D42: =IF([2]Brioche!F38>0,[2]Brioche!F38,"") | G42: =IF(E42>0,[3]Feuil1!G42,"")
...

Sheet Croissant
A1: =[2]Croissant!$A$1:$G$1 -> Croissant
B3: Désignation | C3: Quantités 1p | E3: Quantité au Kg | G3: Pu | H3: Pt
B4: Amande entière Blanche | G4: =IF(E4>0,[3]Feuil1!G3,"") | J4: Prix
B5: Amandes efffilés | C5: =IF([2]Croissant!E4>0,[2]Croissant!E4,"") | D5: =IF([2]Croissant!F4>0,[2]Croissant!F4,"") | G5: =IF(E5>0,[3]Feuil1!G4,"")
B6: Beurre | C6: =IF([2]Croissant!E5>0,[2]Croissant!E5,"") -> 34.375 | D6: =IF([2]Croissant!F5>0,[2]Croissant!F5,"") -> g | E6: =IF(C6>0,C6/1000,"") -> 0.034375 | F6: kg | G6: =IF(E6>0,[3]Feuil1!G5,"") -> 4.79 | H6: =G6*E6 -> 0.16465625
B7: Blanc d'œufs | C7: =IF([2]Croissant!E6>0,[2]Croissant!E6,"") | D7: =IF([2]Croissant!F6>0,[2]Croissant!F6,"") | G7: =IF(E7>0,[3]Feuil1!G6,"") | J7: =SUM(H4:H205) -> 0.18433632
B8: Cacao | C8: =IF([2]Croissant!E7>0,[2]Croissant!E7,"") | D8: =IF([2]Croissant!F7>0,[2]Croissant!F7,"") | G8: =IF(E8>0,[3]Feuil1!G7,"")
B9: Cannelle | C9: =IF([2]Croissant!E8>0,[2]Croissant!E8,"") | D9: =IF([2]Croissant!F8>0,[2]Croissant!F8,"") | G9: =IF(E9>0,[3]Feuil1!G8,"")
B10: Cerise | C10: =IF([2]Croissant!E9>0,[2]Croissant!E9,"") | D10: =IF([2]Croissant!F9>0,[2]Croissant!F9,"") | G10: =IF(E10>0,[3]Feuil1!G9,"")
B11: Chocolat blanc | C11: =IF([2]Croissant!E10>0,[2]Croissant!E10,"") | D11: =IF([2]Croissant!F10>0,[2]Croissant!F10,"") | G11: =IF(E11>0,[3]Feuil1!G10,"")
B12: Chocolat en pépite | C12: =IF([2]Croissant!E11>0,[2]Croissant!E11,"") | D12: =IF([2]Croissant!F11>0,[2]Croissant!F11,"") | G12: =IF(E12>0,[3]Feuil1!G11,"")
B13: Chocolat en pistole | C13: =IF([2]Croissant!E12>0,[2]Croissant!E12,"") | D13: =IF([2]Croissant!F12>0,[2]Croissant!F12,"") | G13: =IF(E13>0,[3]Feuil1!G12,"")
B14: Citron | C14: =IF([2]Croissant!E13>0,[2]Croissant!E13,"") | D14: =IF([2]Croissant!F13>0,[2]Croissant!F13,"") | G14: =IF(E14>0,[3]Feuil1!G13,"")
B15: Confiture de framboise | C15: =IF([2]Croissant!E14>0,[2]Croissant!E14,"") | D15: =IF([2]Croissant!F14>0,[2]Croissant!F14,"") | G15: =IF(E15>0,[3]Feuil1!G14,"")
B16: Colorant alimentaire | G16: =IF(E16>0,[3]Feuil1!G15,"")
B17: Coulis framboise | C17: =IF([2]Croissant!E15>0,[2]Croissant!E15,"") | D17: =IF([2]Croissant!F15>0,[2]Croissant!F15,"") | G17: =IF(E17>0,[3]Feuil1!G16,"")
B18: Coulis mangue | C18: =IF([2]Croissant!E16>0,[2]Croissant!E16,"") | D18: =IF([2]Croissant!F16>0,[2]Croissant!F16,"") | G18: =IF(E18>0,[3]Feuil1!G17,"")
B19: Eau | C19: =IF([2]Croissant!E17>0,[2]Croissant!E17,"") -> 34.375 | D19: =IF([2]Croissant!F17>0,[2]Croissant!F17,"") -> g | E19: =C19/1000 -> 0.034375 | F19: kg | G19: =IF(E19>0,[3]Feuil1!G18,"") -> 0 | H19: =G19*E19 -> 0
B20: Farine | C20: =IF([2]Croissant!E18>0,[2]Croissant!E18,"") | D20: =IF([2]Croissant!F18>0,[2]Croissant!F18,"") | G20: =IF(E20>0,[3]Feuil1!G19,"")
B21: Farine mi-crème | C21: =IF([2]Croissant!E19>0,[2]Croissant!E19,"") | D21: =IF([2]Croissant!F19>0,[2]Croissant!F19,"") | G21: =IF(E21>0,[3]Feuil1!G20,"")
B22: Farine T45 | C22: =IF([2]Croissant!E20>0,[2]Croissant!E20,"") -> 62.5 | D22: =IF([2]Croissant!F20>0,[2]Croissant!F20,"") -> g | E22: =C22/1000 -> 0.0625 | F22: kg | G22: =IF(E22>0,[3]Feuil1!G21,"") -> 0 | H22: =G22*E22 -> 0
B23: Farine T45 de gruau | C23: =IF([2]Croissant!E21>0,[2]Croissant!E21,"") | D23: =IF([2]Croissant!F21>0,[2]Croissant!F21,"") | G23: =IF(E23>0,[3]Feuil1!G22,"")
B24: Farinte T65 | C24: =IF([2]Croissant!E22>0,[2]Croissant!E22,"") | D24: =IF([2]Croissant!F22>0,[2]Croissant!F22,"") | G24: =IF(E24>0,[3]Feuil1!G23,"")
B25: Framboise | C25: =IF([2]Croissant!E23>0,[2]Croissant!E23,"") | D25: =IF([2]Croissant!F23>0,[2]Croissant!F23,"") | G25: =IF(E25>0,[3]Feuil1!G24,"")
B26: Gelatine | G26: =IF(E26>0,[3]Feuil1!G25,"")
B27: Gelée d'abricot | C27: =IF([2]Croissant!E24>0,[2]Croissant!E24,"") | D27: =IF([2]Croissant!F24>0,[2]Croissant!F24,"") | G27: =IF(E27>0,[3]Feuil1!G26,"")
B28: Gousse de vanille | C28: =IF([2]Croissant!E25>0,[2]Croissant!E25,"") | D28: =IF([2]Croissant!F25>0,[2]Croissant!F25,"") | G28: =IF(E28>0,[3]Feuil1!G27,"")
B29: Jaune d'œufs | C29: =IF([2]Croissant!E26>0,[2]Croissant!E26,"") | D29: =IF([2]Croissant!F26>0,[2]Croissant!F26,"") | G29: =IF(E29>0,[3]Feuil1!G28,"")
B30: Jus d'orange | C30: =IF([2]Croissant!E27>0,[2]Croissant!E27,"") | D30: =IF([2]Croissant!F27>0,[2]Croissant!F27,"") | G30: =IF(E30>0,[3]Feuil1!G29,"")
B31: Lait 1/2 écrémé | C31: =IF([2]Croissant!E28>0,[2]Croissant!E28,"") | D31: =IF([2]Croissant!F28>0,[2]Croissant!F28,"") | G31: =IF(E31>0,[3]Feuil1!G30,"")
B32: Lait entier | C32: =IF([2]Croissant!E29>0,[2]Croissant!E29,"") | D32: =IF([2]Croissant!F29>0,[2]Croissant!F29,"") | G32: =IF(E32>0,[3]Feuil1!G31,"")
B33: Levure boulangère | C33: =IF([2]Croissant!E30>0,[2]Croissant!E30,"") -> 0.9375 | D33: =IF([2]Croissant!F30>0,[2]Croissant!F30,"") -> g | E33: =C33/1000 -> 0.0009375 | F33: kg | G33: =IF(E33>0,[3]Feuil1!G32,"") -> 5.2579365 | H33: =G33*E33 -> 0.0049293155
B34: Levure chimique | C34: =IF([2]Croissant!E31>0,[2]Croissant!E31,"") | D34: =IF([2]Croissant!F31>0,[2]Croissant!F31,"") | G34: =IF(E34>0,[3]Feuil1!G33,"")
B35: Maizena | C35: =IF([2]Croissant!E32>0,[2]Croissant!E32,"") | D35: =IF([2]Croissant!F32>0,[2]Croissant!F32,"") | G35: =IF(E35>0,[3]Feuil1!G34,"")
B36: Mandarine | C36: =IF([2]Croissant!E33>0,[2]Croissant!E33,"") | D36: =IF([2]Croissant!F33>0,[2]Croissant!F33,"") | G36: =IF(E36>0,[3]Feuil1!G35,"")
B37: Nappage neutre | C37: =IF([2]Croissant!E34>0,[2]Croissant!E34,"") | D37: =IF([2]Croissant!F34>0,[2]Croissant!F34,"") | G37: =IF(E37>0,[3]Feuil1!G36,"")
B38: Noix | C38: =IF([2]Croissant!E35>0,[2]Croissant!E35,"") | D38: =IF([2]Croissant!F35>0,[2]Croissant!F35,"") | G38: =IF(E38>0,[3]Feuil1!G37,"")
B39: Noix de coco | G39: =IF(E39>0,[3]Feuil1!G38,"")
B40: Noisette en Poudre | G40: =IF(E40>0,[3]Feuil1!G39,"")
B41: Œufs entiers | C41: =IF([2]Croissant!E36>0,[2]Croissant!E36,"") -> 60 | D41: =IF([2]Croissant!F36>0,[2]Croissant!F36,"") -> g | G41: =IF(E41>0,[3]Feuil1!G40,"")
...

Sheet Framboisier
A1: =[2]Framboisier!$A$1:$G$1 -> Framboisier
B3: Désignation | C3: Quantités
B4: Amandes efffilés
B5: Beurre | C5: 360 | D5: g
B6: Blanc d'œufs | C6: 370 | D6: g
B7: Cacao
B8: Cannelle
B9: Cerise
B10: Chocolat blanc
B11: Chocolat en pépite
B12: Chocolat en pistole
B13: Citron
B14: Confiture de framboise
B15: Colorant alimentaire
B16: Coulis framboise
B17: Coulis mangue
B18: Eau | C18: 140 | D18: g
B19: Farine
B20: Farine mi-crème
B21: Farine T45
B22: Farine T45 de gruau
B23: Farine T65
B24: Framboise
B25: Gelatine
B26: Gelée d'abricot
B27: Gousse de vanille
B28: Jaune d'œufs | C28: 100 | D28: g
B29: Jus d'orange
B30: Lait 1/2 écrémé
B31: Lait entier
B32: Levure boulangère
B33: Levure chimique
B34: Maizena
B35: Mandarine
B36: Nappage neutre
B37: Noix
B38: Noix de coco
B39: Noisette en poudre
B40: Œufs
... B45: Poudre à crème pâtissière
...

Sheet Pain viennois
A1: ='[2]Pain viennois'!$A$1:$G$1 -> Pain Viennois
B3: Désignation | C3: Quantités 1p | E3: Quantité au Kg | G3: PU | H3: PT
B4: Amande entière blanche | G4: =IF(E4>0,[3]Feuil1!G3,"") | J4: Prix
B5: Amandes efffilés | C5: =IF('[2]Pain viennois'!E4>0,'[2]Pain viennois'!E4,"") | D5: =IF('[2]Pain viennois'!F4>0,'[2]Pain viennois'!F4,"") | G5: =IF(E5>0,[3]Feuil1!G4,"")
B6: Beurre | C6: =IF('[2]Pain viennois'!E5>0,'[2]Pain viennois'!E5,"") -> 31.25 | D6: =IF('[2]Pain viennois'!F5>0,'[2]Pain viennois'!F5,"") -> g | E6: =C6/1000 -> 0.03125 | F6: kg | G6: =IF(E6>0,[3]Feuil1!G5,"") -> 4.79 | H6: =G6*E6 -> 0.1496875
B7: Blanc d'œufs | C7: =IF('[2]Pain viennois'!E6>0,'[2]Pain viennois'!E6,"") | D7: =IF('[2]Pain viennois'!F6>0,'[2]Pain viennois'!F6,"") | G7: =IF(E7>0,[3]Feuil1!G6,"") | J7: =SUM(H4:H207) -> 0.33198126
B8: Cacao | C8: =IF('[2]Pain viennois'!E7>0,'[2]Pain viennois'!E7,"") | D8: =IF('[2]Pain viennois'!F7>0,'[2]Pain viennois'!F7,"") | G8: =IF(E8>0,[3]Feuil1!G7,"")
B9: Cannelle | C9: =IF('[2]Pain viennois'!E8>0,'[2]Pain viennois'!E8,"") | D9: =IF('[2]Pain viennois'!F8>0,'[2]Pain viennois'!F8,"") | G9: =IF(E9>0,[3]Feuil1!G8,"")
B10: Cerise | C10: =IF('[2]Pain viennois'!E9>0,'[2]Pain viennois'!E9,"") | D10: =IF('[2]Pain viennois'!F9>0,'[2]Pain viennois'!F9,"") | G10: =IF(E10>0,[3]Feuil1!G9,"")
B11: Chocolat blanc | C11: =IF('[2]Pain viennois'!E10>0,'[2]Pain viennois'!E10,"") | D11: =IF('[2]Pain viennois'!F10>0,'[2]Pain viennois'!F10,"") | G11: =IF(E11>0,[3]Feuil1!G10,"")
B12: Chocolat en pépite | C12: =IF('[2]Pain viennois'!E11>0,'[2]Pain viennois'!E11,"") | D12: =IF('[2]Pain viennois'!F11>0,'[2]Pain viennois'!F11,"") | G12: =IF(E12>0,[3]Feuil1!G11,"")
B13: Chocolat en pistole | C13: =IF('[2]Pain viennois'!E12>0,'[2]Pain viennois'!E12,"") | D13: =IF('[2]Pain viennois'!F12>0,'[2]Pain viennois'!F12,"") | G13: =IF(E13>0,[3]Feuil1!G12,"")
B14: Citron | C14: =IF('[2]Pain viennois'!E13>0,'[2]Pain viennois'!E13,"") | D14: =IF('[2]Pain viennois'!F13>0,'[2]Pain viennois'!F13,"") | G14: =IF(E14>0,[3]Feuil1!G13,"")
B15: Confiture de framboise | C15: =IF('[2]Pain viennois'!E14>0,'[2]Pain viennois'!E14,"") | D15: =IF('[2]Pain viennois'!F14>0,'[2]Pain viennois'!F14,"") | G15: =IF(E15>0,[3]Feuil1!G14,"")
B16: Colorant alimentaire | G16: =IF(E16>0,[3]Feuil1!G15,"")
B17: Coulis framboise | C17: =IF('[2]Pain viennois'!E15>0,'[2]Pain viennois'!E15,"") | D17: =IF('[2]Pain viennois'!F15>0,'[2]Pain viennois'!F15,"") | G17: =IF(E17>0,[3]Feuil1!G16,"")
B18: Coulis mangue | C18: =IF('[2]Pain viennois'!E16>0,'[2]Pain viennois'!E16,"") | D18: =IF('[2]Pain viennois'!F16>0,'[2]Pain viennois'!F16,"") | G18: =IF(E18>0,[3]Feuil1!G17,"")
B19: Eau | C19: =IF('[2]Pain viennois'!E17>0,'[2]Pain viennois'!E17,"") -> 68.75 | D19: =IF('[2]Pain viennois'!F17>0,'[2]Pain viennois'!F17,"") -> g | E19: =C19/1000 -> 0.06875 | F19: kg | G19: =IF(E19>0,[3]Feuil1!G18,"") -> 0 | H19: =G19*E19 -> 0
B20: Farine | C20: =IF('[2]Pain viennois'!E18>0,'[2]Pain viennois'!E18,"") | D20: =IF('[2]Pain viennois'!F18>0,'[2]Pain viennois'!F18,"") | G20: =IF(E20>0,[3]Feuil1!G19,"")
B21: Farine mi-crème | C21: =IF('[2]Pain viennois'!E19>0,'[2]Pain viennois'!E19,"") -> 125 | D21: =IF('[2]Pain viennois'!F19>0,'[2]Pain viennois'!F19,"") -> g | E21: =C21/1000 -> 0.125 | F21: kg | G21: =IF(E21>0,[3]Feuil1!G20,"") -> 0.97 | H21: =G21*E21 -> 0.12125
B22: Farine T45 | C22: =IF('[2]Pain viennois'!E20>0,'[2]Pain viennois'!E20,"") | D22: =IF('[2]Pain viennois'!F20>0,'[2]Pain viennois'!F20,"") | G22: =IF(E22>0,[3]Feuil1!G21,"")
B23: Farine T45 de gruau | C23: =IF('[2]Pain viennois'!E21>0,'[2]Pain viennois'!E21,"") | D23: =IF('[2]Pain viennois'!F21>0,'[2]Pain viennois'!F21,"") | G23: =IF(E23>0,[3]Feuil1!G22,"")
B24: Farine T65 | C24: =IF('[2]Pain viennois'!E22>0,'[2]Pain viennois'!E22,"") | D24: =IF('[2]Pain viennois'!F22>0,'[2]Pain viennois'!F22,"") | G24: =IF(E24>0,[3]Feuil1!G23,"")
B25: Framboise | C25: =IF('[2]Pain viennois'!E23>0,'[2]Pain viennois'!E23,"") | D25: =IF('[2]Pain viennois'!F23>0,'[2]Pain viennois'!F23,"") | G25: =IF(E25>0,[3]Feuil1!G24,"")
B26: Gelatine | G26: =IF(E26>0,[3]Feuil1!G25,"")
B27: Gelée d'abricot | C27: =IF('[2]Pain viennois'!E24>0,'[2]Pain viennois'!E24,"") | D27: =IF('[2]Pain viennois'!F24>0,'[2]Pain viennois'!F24,"") | G27: =IF(E27>0,[3]Feuil1!G26,"")
B28: Gousse de vanille | C28: =IF('[2]Pain viennois'!E25>0,'[2]Pain viennois'!E25,"") | D28: =IF('[2]Pain viennois'!F25>0,'[2]Pain viennois'!F25,"") | G28: =IF(E28>0,[3]Feuil1!G27,"")
B29: Jaune d'œufs | C29: =IF('[2]Pain viennois'!E26>0,'[2]Pain viennois'!E26,"") | D29: =IF('[2]Pain viennois'!F26>0,'[2]Pain viennois'!F26,"") | G29: =IF(E29>0,[3]Feuil1!G28,"")
B30: Jus d'orange | C30: =IF('[2]Pain viennois'!E27>0,'[2]Pain viennois'!E27,"") | D30: =IF('[2]Pain viennois'!F27>0,'[2]Pain viennois'!F27,"") | G30: =IF(E30>0,[3]Feuil1!G29,"")
B31: Lait 1/2 écrémé | C31: =IF('[2]Pain viennois'!E28>0,'[2]Pain viennois'!E28,"") | D31: =IF('[2]Pain viennois'!F28>0,'[2]Pain viennois'!F28,"") | G31: =IF(E31>0,[3]Feuil1!G30,"")
B32: Lait entier | C32: =IF('[2]Pain viennois'!E29>0,'[2]Pain viennois'!E29,"") | D32: =IF('[2]Pain viennois'!F29>0,'[2]Pain viennois'!F29,"") | G32: =IF(E32>0,[3]Feuil1!G31,"")
B33: Levure boulangère | C33: =IF('[2]Pain viennois'!E30>0,'[2]Pain viennois'!E30,"") -> 3.75 | D33: =IF('[2]Pain viennois'!F30>0,'[2]Pain viennois'!F30,"") -> g | E33: =C33/1000 -> 0.00375 | F33: kg | G33: =IF(E33>0,[3]Feuil1!G32,"") -> 5.2579365 | H33: =G33*E33 -> 0.019717262
B34: Levure chimique | C34: =IF('[2]Pain viennois'!E31>0,'[2]Pain viennois'!E31,"") | D34: =IF('[2]Pain viennois'!F31>0,'[2]Pain viennois'!F31,"") | G34: =IF(E34>0,[3]Feuil1!G33,"")
B35: Maizena | C35: =IF('[2]Pain viennois'!E32>0,'[2]Pain viennois'!E32,"") | D35: =IF('[2]Pain viennois'!F32>0,'[2]Pain viennois'!F32,"") | G35: =IF(E35>0,[3]Feuil1!G34,"")
B36: Mandarine | C36: =IF('[2]Pain viennois'!E33>0,'[2]Pain viennois'!E33,"") | D36: =IF('[2]Pain viennois'!F33>0,'[2]Pain viennois'!F33,"") | G36: =IF(E36>0,[3]Feuil1!G35,"")
B37: Nappage neutre | C37: =IF('[2]Pain viennois'!E34>0,'[2]Pain viennois'!E34,"") | D37: =IF('[2]Pain viennois'!F34>0,'[2]Pain viennois'!F34,"") | G37: =IF(E37>0,[3]Feuil1!G36,"")
B38: Noix | C38: =IF('[2]Pain viennois'!E35>0,'[2]Pain viennois'!E35,"") | D38: =IF('[2]Pain viennois'!F35>0,'[2]Pain viennois'!F35,"") | G38: =IF(E38>0,[3]Feuil1!G37,"")
B39: Noix de coco | G39: =IF(E39>0,[3]Feuil1!G38,"")
B40: Noisette en poudre | G40: =IF(E40>0,[3]Feuil1!G39,"")
B41: Œufs entiers | C41: =IF('[2]Pain viennois'!E36>0,'[2]Pain viennois'!E36,"") | D41: =IF('[2]Pain viennois'!F36>0,'[2]Pain viennois'!F36,"") | G41: =IF(E41>0,[3]Feuil1!G40,"")
...

Sheet Paris Brest
A1: ='[2]Paris Brest'!$A$1:$G$1 -> Paris Brest
B3: Désignation | C3: Quantités 1p | E3: Quantité au Kg | G3: Pu | H3: PT
B4: Amande entière blanche | G4: =IF(E4>0,[3]Feuil1!G3,"")
B5: Amandes efffilés | C5: =IF('[2]Paris Brest'!E4>0,'[2]Paris Brest'!E4,"") -> 1 | D5: =IF('[2]Paris Brest'!F4>0,'[2]Paris Brest'!F4,"") -> g | E5: =C5/1000 -> 0.001 | F5: kg | G5: =IF(E5>0,[3]Feuil1!G4,"") -> 13.87 | H5: =IF(C5>0,E5*G5,"") -> 0.01387 | J5: Prix
B6: Beurre | C6: =IF('[2]Paris Brest'!E5>0,'[2]Paris Brest'!E5,"") -> 23.25 | D6: =IF('[2]Paris Brest'!F5>0,'[2]Paris Brest'!F5,"") -> g | E6: =C6/1000 -> 0.02325 | F6: kg | G6: =IF(E6>0,[3]Feuil1!G5,"") -> 4.79 | H6: =IF(C6>0,E6*G6,"") -> 0.1113675
B7: Blanc d'œufs | C7: =IF('[2]Paris Brest'!E6>0,'[2]Paris Brest'!E6,"") -> 3.5 | D7: =IF('[2]Paris Brest'!F6>0,'[2]Paris Brest'!F6,"") -> g | E7: =C7/1000 -> 0.0035 | F7: kg | G7: =IF(E7>0,[3]Feuil1!G6,"") -> 4.08 | H7: =IF(C7>0,E7*G7,"") -> 0.01428
B8: Cacao | C8: =IF('[2]Paris Brest'!E7>0,'[2]Paris Brest'!E7,"") | D8: =IF('[2]Paris Brest'!F7>0,'[2]Paris Brest'!F7,"") | G8: =IF(E8>0,[3]Feuil1!G7,"") | J8: =SUM(H4:H205) -> 0.29133285
B9: Cannelle | C9: =IF('[2]Paris Brest'!E8>0,'[2]Paris Brest'!E8,"") | D9: =IF('[2]Paris Brest'!F8>0,'[2]Paris Brest'!F8,"") | G9: =IF(E9>0,[3]Feuil1!G8,"")
B10: Cerise | C10: =IF('[2]Paris Brest'!E9>0,'[2]Paris Brest'!E9,"") | D10: =IF('[2]Paris Brest'!F9>0,'[2]Paris Brest'!F9,"") | G10: =IF(E10>0,[3]Feuil1!G9,"")
B11: Chocolat blanc | C11: =IF('[2]Paris Brest'!E10>0,'[2]Paris Brest'!E10,"") | D11: =IF('[2]Paris Brest'!F10>0,'[2]Paris Brest'!F10,"") | G11: =IF(E11>0,[3]Feuil1!G10,"")
B12: Chocolat en pépite | C12: =IF('[2]Paris Brest'!E11>0,'[2]Paris Brest'!E11,"") | D12: =IF('[2]Paris Brest'!F11>0,'[2]Paris Brest'!F11,"") | G12: =IF(E12>0,[3]Feuil1!G11,"")
B13: Chocolat en pistole | C13: =IF('[2]Paris Brest'!E12>0,'[2]Paris Brest'!E12,"") | D13: =IF('[2]Paris Brest'!F12>0,'[2]Paris Brest'!F12,"") | G13: =IF(E13>0,[3]Feuil1!G12,"")
B14: Citron | C14: =IF('[2]Paris Brest'!E13>0,'[2]Paris Brest'!E13,"") | D14: =IF('[2]Paris Brest'!F13>0,'[2]Paris Brest'!F13,"") | G14: =IF(E14>0,[3]Feuil1!G13,"")
B15: Confiture de framboise | C15: =IF('[2]Paris Brest'!E14>0,'[2]Paris Brest'!E14,"") | D15: =IF('[2]Paris Brest'!F14>0,'[2]Paris Brest'!F14,"") | G15: =IF(E15>0,[3]Feuil1!G14,"")
B16: Colorant alimentaire | G16: =IF(E16>0,[3]Feuil1!G15,"") | H16: =IF(C16>0,E16*G16,"")
B17: Coulis framboise | C17: =IF('[2]Paris Brest'!E15>0,'[2]Paris Brest'!E15,"") | D17: =IF('[2]Paris Brest'!F15>0,'[2]Paris Brest'!F15,"") | G17: =IF(E17>0,[3]Feuil1!G16,"")
B18: Coulis mangue | C18: =IF('[2]Paris Brest'!E16>0,'[2]Paris Brest'!E16,"") | D18: =IF('[2]Paris Brest'!F16>0,'[2]Paris Brest'!F16,"") | G18: =IF(E18>0,[3]Feuil1!G17,"")
B19: Eau | C19: =IF('[2]Paris Brest'!E17>0,'[2]Paris Brest'!E17,"") -> 13.25 | D19: =IF('[2]Paris Brest'!F17>0,'[2]Paris Brest'!F17,"") -> g | E19: =C19/100 -> 0.1325 | F19: kg | G19: =IF(E19>0,[3]Feuil1!G18,"") -> 0 | H19: =IF(C19>0,E19*G19,"") -> 0
B20: Farine | C20: =IF('[2]Paris Brest'!E18>0,'[2]Paris Brest'!E18,"") -> 3.5 | D20: =IF('[2]Paris Brest'!F18>0,'[2]Paris Brest'!F18,"") | E20: =C20/1000 -> 0.0035 | F20: kg | G20: =IF(E20>0,[3]Feuil1!G19,"") -> 0.69 | H20: =IF(C20>0,E20*G20,"") -> 0.002415
B21: Farine mi-crème | C21: =IF('[2]Paris Brest'!E19>0,'[2]Paris Brest'!E19,"") | D21: =IF('[2]Paris Brest'!F19>0,'[2]Paris Brest'!F19,"") | G21: =IF(E21>0,[3]Feuil1!G20,"")
B22: Farine T45 | C22: =IF('[2]Paris Brest'!E20>0,'[2]Paris Brest'!E20,"") | D22: =IF('[2]Paris Brest'!F20>0,'[2]Paris Brest'!F20,"") | G22: =IF(E22>0,[3]Feuil1!G21,"")
B23: Farine T45 de gruau | C23: =IF('[2]Paris Brest'!E21>0,'[2]Paris Brest'!E21,"") | D23: =IF('[2]Paris Brest'!F21>0,'[2]Paris Brest'!F21,"") | G23: =IF(E23>0,[3]Feuil1!G22,"")
B24: Farine T65 | C24: =IF('[2]Paris Brest'!E22>0,'[2]Paris Brest'!E22,"") | D24: =IF('[2]Paris Brest'!F22>0,'[2]Paris Brest'!F22,"") | G24: =IF(E24>0,[3]Feuil1!G23,"")
B25: Framboise | C25: =IF('[2]Paris Brest'!E23>0,'[2]Paris Brest'!E23,"") | D25: =IF('[2]Paris Brest'!F23>0,'[2]Paris Brest'!F23,"") | G25: =IF(E25>0,[3]Feuil1!G24,"")
B26: Gelatine | G26: =IF(E26>0,[3]Feuil1!G25,"")
B27: Gelée d'abricot | C27: =IF('[2]Paris Brest'!E24>0,'[2]Paris Brest'!E24,"") | D27: =IF('[2]Paris Brest'!F24>0,'[2]Paris Brest'!F24,"") | G27: =IF(E27>0,[3]Feuil1!G26,"")
B28: Gousse de vanille | C28: =IF('[2]Paris Brest'!E25>0,'[2]Paris Brest'!E25,"") -> 0.05 | D28: =IF('[2]Paris Brest'!F25>0,'[2]Paris Brest'!F25,"") -> u | E28: =C28 -> 0.05 | F28: u
B29: Jaune d'œufs | C29: =IF('[2]Paris Brest'!E26>0,'[2]Paris Brest'!E26,"") -> 11 | D29: =IF('[2]Paris Brest'!F26>0,'[2]Paris Brest'!F26,"") -> g | E29: =C29/1000 -> 0.011 | F29: kg | G29: =IF(E29>0,[3]Feuil1!G28,"") -> 0 | H29: =IF(C29>0,E29*G29,"") -> 0
B30: Jus d'orange | C30: =IF('[2]Paris Brest'!E27>0,'[2]Paris Brest'!E27,"") | D30: =IF('[2]Paris Brest'!F27>0,'[2]Paris Brest'!F27,"") | G30: =IF(E30>0,[3]Feuil1!G29,"")
B31: Lait 1/2 écrémé | C31: =IF('[2]Paris Brest'!E28>0,'[2]Paris Brest'!E28,"") -> 2.5 | D31: =IF('[2]Paris Brest'!F28>0,'[2]Paris Brest'!F28,"") -> g | E31: =C31/1000 -> 0.0025 | F31: kg | G31: =IF(E31>0,[3]Feuil1!G30,"") -> 0.64 | H31: =IF(C31>0,E31*G31,"") -> 0.0016
B32: Lait entier | C32: =IF('[2]Paris Brest'!E29>0,'[2]Paris Brest'!E29,"") | D32: =IF('[2]Paris Brest'!F29>0,'[2]Paris Brest'!F29,"") | G32: =IF(E32>0,[3]Feuil1!G31,"")
B33: Levure boulangère | C33: =IF('[2]Paris Brest'!E30>0,'[2]Paris Brest'!E30,"") | D33: =IF('[2]Paris Brest'!F30>0,'[2]Paris Brest'!F30,"") | G33: =IF(E33>0,[3]Feuil1!G32,"")
B34: Levure chimique | C34: =IF('[2]Paris Brest'!E31>0,'[2]Paris Brest'!E31,"") | D34: =IF('[2]Paris Brest'!F31>0,'[2]Paris Brest'!F31,"") | G34: =IF(E34>0,[3]Feuil1!G33,"")
B35: Maizena | C35: =IF('[2]Paris Brest'!E32>0,'[2]Paris Brest'!E32,"") -> 2.5 | D35: =IF('[2]Paris Brest'!F32>0,'[2]Paris Brest'!F32,"") -> g | E35: =C35/1000 -> 0.0025 | F35: kg | G35: =IF(E35>0,[3]Feuil1!G34,"") -> 0 | H35: =IF(C35>0,E35*G35,"") -> 0
B36: Mandarine | C36: =IF('[2]Paris Brest'!E33>0,'[2]Paris Brest'!E33,"") | D36: =IF('[2]Paris Brest'!F33>0,'[2]Paris Brest'!F33,"") | G36: =IF(E36>0,[3]Feuil1!G35,"")
B37: Nappage neutre | C37: =IF('[2]Paris Brest'!E34>0,'[2]Paris Brest'!E34,"") | D37: =IF('[2]Paris Brest'!F34>0,'[2]Paris Brest'!F34,"") | G37: =IF(E37>0,[3]Feuil1!G36,"")
B38: Noix | C38: =IF('[2]Paris Brest'!E35>0,'[2]Paris Brest'!E35,"") | D38: =IF('[2]Paris Brest'!F35>0,'[2]Paris Brest'!F35,"") | G38: =IF(E38>0,[3]Feuil1!G37,"")
B39: Noix de coco | G39: =IF(E39>0,[3]Feuil1!G38,"") | H39: =IF(C39>0,E39*G39,"")
B40: Noisette en poudre | G40: =IF(E40>0,[3]Feuil1!G39,"") | H40: =IF(C40>0,E40*G40,"")
B41: Œufs entiers | C41: =IF('[2]Paris Brest'!E36>0,'[2]Paris Brest'!E36,"") -> 0.2 | D41: =IF('[2]Paris Brest'!F36>0,'[2]Paris Brest'!F36,"") -> u | G41: =IF(E41>0,[3]Feuil1!G40,"")
...

Sheet Tradition
A1: =[2]Tradition!$A$1:$G$1 -> Tradition Française
B3: Désignation | C3: Quantités 1p | E3: Quantité au Kg | G3: Pu | H3: PT
B4: Amandes blanches entières | G4: =IF(E4>0,[3]Feuil1!G3,"") | J4: Prix
B5: Amandes efffilés | C5: =IF([2]Tradition!E4>0,[2]Tradition!E4,"") | D5: =IF([2]Tradition!F4>0,[2]Tradition!F4,"") | G5: =IF(E5>0,[3]Feuil1!G4,"")
B6: Beurre | C6: =IF([2]Tradition!E5>0,[2]Tradition!E5,"") | D6: =IF([2]Tradition!F5>0,[2]Tradition!F5,"") | G6: =IF(E6>0,[3]Feuil1!G5,"")
B7: Blanc d'œufs | C7: =IF([2]Tradition!E6>0,[2]Tradition!E6,"") | D7: =IF([2]Tradition!F6>0,[2]Tradition!F6,"") | G7: =IF(E7>0,[3]Feuil1!G6,"") | J7: =SUM(H4:H204) -> 0.00058742857
B8: Cacao | C8: =IF([2]Tradition!E7>0,[2]Tradition!E7,"") | D8: =IF([2]Tradition!F7>0,[2]Tradition!F7,"") | G8: =IF(E8>0,[3]Feuil1!G7,"")
B9: Cannelle | C9: =IF([2]Tradition!E8>0,[2]Tradition!E8,"") | D9: =IF([2]Tradition!F8>0,[2]Tradition!F8,"") | G9: =IF(E9>0,[3]Feuil1!G8,"")
B10: Cerise | C10: =IF([2]Tradition!E9>0,[2]Tradition!E9,"") | D10: =IF([2]Tradition!F9>0,[2]Tradition!F9,"") | G10: =IF(E10>0,[3]Feuil1!G9,"")
B11: Chocolat blanc | C11: =IF([2]Tradition!E10>0,[2]Tradition!E10,"") | D11: =IF([2]Tradition!F10>0,[2]Tradition!F10,"") | G11: =IF(E11>0,[3]Feuil1!G10,"")
B12: Chocolat en pépite | C12: =IF([2]Tradition!E11>0,[2]Tradition!E11,"") | D12: =IF([2]Tradition!F11>0,[2]Tradition!F11,"") | G12: =IF(E12>0,[3]Feuil1!G11,"")
B13: Chocolat en pistole | C13: =IF([2]Tradition!E12>0,[2]Tradition!E12,"") | D13: =IF([2]Tradition!F12>0,[2]Tradition!F12,"") | G13: =IF(E13>0,[3]Feuil1!G12,"")
B14: Citron | C14: =IF([2]Tradition!E13>0,[2]Tradition!E13,"") | D14: =IF([2]Tradition!F13>0,[2]Tradition!F13,"") | G14: =IF(E14>0,[3]Feuil1!G13,"")
B15: Confiture de framboise | C15: =IF([2]Tradition!E14>0,[2]Tradition!E14,"") | D15: =IF([2]Tradition!F14>0,[2]Tradition!F14,"") | G15: =IF(E15>0,[3]Feuil1!G14,"")
B16: Colorant alimentaire | G16: =IF(E16>0,[3]Feuil1!G15,"")
B17: Coulis framboise | C17: =IF([2]Tradition!E15>0,[2]Tradition!E15,"") | D17: =IF([2]Tradition!F15>0,[2]Tradition!F15,"") | G17: =IF(E17>0,[3]Feuil1!G16,"")
B18: Coulis mangue | C18: =IF([2]Tradition!E16>0,[2]Tradition!E16,"") | D18: =IF([2]Tradition!F16>0,[2]Tradition!F16,"") | G18: =IF(E18>0,[3]Feuil1!G17,"")
B19: Eau | C19: =IF([2]Tradition!E17>0,[2]Tradition!E17,"") -> 111.42857 | D19: =IF([2]Tradition!F17>0,[2]Tradition!F17,"") -> g | E19: =C19/1000 -> 0.11142857 | F19: kg | G19: =IF(E19>0,[3]Feuil1!G18,"") -> 0
B20: Farine | C20: =IF([2]Tradition!E18>0,[2]Tradition!E18,"") | D20: =IF([2]Tradition!F18>0,[2]Tradition!F18,"") | G20: =IF(E20>0,[3]Feuil1!G19,"")
B21: Farine mi-crème | C21: =IF([2]Tradition!E19>0,[2]Tradition!E19,"") | D21: =IF([2]Tradition!F19>0,[2]Tradition!F19,"") | G21: =IF(E21>0,[3]Feuil1!G20,"")
B22: Farine T45 | C22: =IF([2]Tradition!E20>0,[2]Tradition!E20,"") | D22: =IF([2]Tradition!F20>0,[2]Tradition!F20,"") | G22: =IF(E22>0,[3]Feuil1!G21,"")
B23: Farine T45 de gruau | C23: =IF([2]Tradition!E21>0,[2]Tradition!E21,"") | D23: =IF([2]Tradition!F21>0,[2]Tradition!F21,"") | G23: =IF(E23>0,[3]Feuil1!G22,"")
B24: Farinte T65 | C24: =IF([2]Tradition!E22>0,[2]Tradition!E22,"") -> 142.85714 | D24: =IF([2]Tradition!F22>0,[2]Tradition!F22,"") | E24: =C24/1000 -> 0.14285714 | F24: kg | G24: =IF(E24>0,[3]Feuil1!G23,"") -> 0
B25: Framboise | C25: =IF([2]Tradition!E23>0,[2]Tradition!E23,"") | D25: =IF([2]Tradition!F23>0,[2]Tradition!F23,"") | G25: =IF(E25>0,[3]Feuil1!G24,"")
B26: Gelatine | G26: =IF(E26>0,[3]Feuil1!G25,"")
B27: Gelée d'abricot | C27: =IF([2]Tradition!E24>0,[2]Tradition!E24,"") | D27: =IF([2]Tradition!F24>0,[2]Tradition!F24,"") | G27: =IF(E27>0,[3]Feuil1!G26,"")
B28: Gousse de vanille | C28: =IF([2]Tradition!E25>0,[2]Tradition!E25,"") | D28: =IF([2]Tradition!F25>0,[2]Tradition!F25,"") | G28: =IF(E28>0,[3]Feuil1!G27,"")
B29: Jaune d'œufs | C29: =IF([2]Tradition!E26>0,[2]Tradition!E26,"") | D29: =IF([2]Tradition!F26>0,[2]Tradition!F26,"") | G29: =IF(E29>0,[3]Feuil1!G28,"")
B30: Jus d'orange | C30: =IF([2]Tradition!E27>0,[2]Tradition!E27,"") | D30: =IF([2]Tradition!F27>0,[2]Tradition!F27,"") | G30: =IF(E30>0,[3]Feuil1!G29,"")
B31: Lait 1/2 écrémé | C31: =IF([2]Tradition!E28>0,[2]Tradition!E28,"") | D31: =IF([2]Tradition!F28>0,[2]Tradition!F28,"") | G31: =IF(E31>0,[3]Feuil1!G30,"")
B32: Lait entier | C32: =IF([2]Tradition!E29>0,[2]Tradition!E29,"") | D32: =IF([2]Tradition!F29>0,[2]Tradition!F29,"") | G32: =IF(E32>0,[3]Feuil1!G31,"")
B33: Levure boulangère | C33: =IF([2]Tradition!E30>0,[2]Tradition!E30,"") -> 1.7142857 | D33: =IF([2]Tradition!F30>0,[2]Tradition!F30,"") -> g | E33: =C33/1000 -> 0.0017142857 | F33: kg | G33: =IF(E33>0,[3]Feuil1!G32,"") -> 5.2579365
B34: Levure chimique | C34: =IF([2]Tradition!E31>0,[2]Tradition!E31,"") | D34: =IF([2]Tradition!F31>0,[2]Tradition!F31,"") | G34: =IF(E34>0,[3]Feuil1!G33,"")
B35: Maizena | C35: =IF([2]Tradition!E32>0,[2]Tradition!E32,"") | D35: =IF([2]Tradition!F32>0,[2]Tradition!F32,"") | G35: =IF(E35>0,[3]Feuil1!G34,"")
B36: Mandarine | C36: =IF([2]Tradition!E33>0,[2]Tradition!E33,"") | D36: =IF([2]Tradition!F33>0,[2]Tradition!F33,"") | G36: =IF(E36>0,[3]Feuil1!G35,"")
B37: Nappage neutre | C37: =IF([2]Tradition!E34>0,[2]Tradition!E34,"") | D37: =IF([2]Tradition!F34>0,[2]Tradition!F34,"") | G37: =IF(E37>0,[3]Feuil1!G36,"")
B38: Noix | C38: =IF([2]Tradition!E35>0,[2]Tradition!E35,"") | D38: =IF([2]Tradition!F35>0,[2]Tradition!F35,"") | G38: =IF(E38>0,[3]Feuil1!G37,"")
B39: Noix de coco | G39: =IF(E39>0,[3]Feuil1!G38,"")
B40: Noisette en poudre | G40: =IF(E40>0,[3]Feuil1!G39,"")
B41: Œufs entiers | C41: =IF([2]Tradition!E36>0,[2]Tradition!E36,"") | D41: =IF([2]Tradition!F36>0,[2]Tradition!F36,"") | G41: =IF(E41>0,[3]Feuil1!G40,"")
...

Sheet A
A1: =[2]A!$A$1:$G$1 -> A
B3: Désignation | C3: Quantités 1p | E3: Quantité au Kg | G3: PU | H3: PT
B4: Amandes blanches entières | G4: =IF(E4>0,[3]Feuil1!G3,"") | J4: Prix
B5: Amandes efffilés | C5: =IF([2]A!E4>0,[2]A!E4,"") -> 1 | D5: =IF([2]A!F4>0,[2]A!F4,"") | G5: =IF(E5>0,[3]Feuil1!G4,"")
B6: Beurre | C6: =IF([2]A!E5>0,[2]A!E5,"") | D6: =IF([2]A!F5>0,[2]A!F5,"") | G6: =IF(E6>0,[3]Feuil1!G5,"")
B7: Blanc d'œufs | C7: =IF([2]A!E6>0,[2]A!E6,"") | D7: =IF([2]A!F6>0,[2]A!F6,"") | G7: =IF(E7>0,[3]Feuil1!G6,"") | J7: =SUM(H4:H204) -> 0
B8: Cacao | C8: =IF([2]A!E7>0,[2]A!E7,"") | D8: =IF([2]A!F7>0,[2]A!F7,"") | G8: =IF(E8>0,[3]Feuil1!G7,"")
B9: Cannelle | C9: =IF([2]A!E8>0,[2]A!E8,"") | D9: =IF([2]A!F8>0,[2]A!F8,"") | G9: =IF(E9>0,[3]Feuil1!G8,"")
B10: Cerise | C10: =IF([2]A!E9>0,[2]A!E9,"") | D10: =IF([2]A!F9>0,[2]A!F9,"") | G10: =IF(E10>0,[3]Feuil1!G9,"")
B11: Chocolat blanc | C11: =IF([2]A!E10>0,[2]A!E10,"") | D11: =IF([2]A!F10>0,[2]A!F10,"") | G11: =IF(E11>0,[3]Feuil1!G10,"")
B12: Chocolat en pépite | C12: =IF([2]A!E11>0,[2]A!E11,"") | D12: =IF([2]A!F11>0,[2]A!F11,"") | G12: =IF(E12>0,[3]Feuil1!G11,"")
B13: Chocolat en pistole | C13: =IF([2]A!E12>0,[2]A!E12,"") | D13: =IF([2]A!F12>0,[2]A!F12,"") | G13: =IF(E13>0,[3]Feuil1!G12,"")
B14: Citron | C14: =IF([2]A!E13>0,[2]A!E13,"") | D14: =IF([2]A!F13>0,[2]A!F13,"") | G14: =IF(E14>0,[3]Feuil1!G13,"")
B15: Confiture de framboise | C15: =IF([2]A!E14>0,[2]A!E14,"") | D15: =IF([2]A!F14>0,[2]A!F14,"") | G15: =IF(E15>0,[3]Feuil1!G14,"")
B16: Colorant alimentaire | G16: =IF(E16>0,[3]Feuil1!G15,"")
B17: Coulis framboise | C17: =IF([2]A!E15>0,[2]A!E15,"") | D17: =IF([2]A!F15>0,[2]A!F15,"") | G17: =IF(E17>0,[3]Feuil1!G16,"")
B18: Coulis mangue | C18: =IF([2]A!E16>0,[2]A!E16,"") | D18: =IF([2]A!F16>0,[2]A!F16,"") | G18: =IF(E18>0,[3]Feuil1!G17,"")
B19: Eau | C19: =IF([2]A!E17>0,[2]A!E17,"") | D19: =IF([2]A!F17>0,[2]A!F17,"") | G19: =IF(E19>0,[3]Feuil1!G18,"")
B20: Farine | C20: =IF([2]A!E18>0,[2]A!E18,"") | D20: =IF([2]A!F18>0,[2]A!F18,"") | G20: =IF(E20>0,[3]Feuil1!G19,"")
B21: Farine mi-crème | C21: =IF([2]A!E19>0,[2]A!E19,"") | D21: =IF([2]A!F19>0,[2]A!F19,"") | G21: =IF(E21>0,[3]Feuil1!G20,"")
B22: Farine T45 | C22: =IF([2]A!E20>0,[2]A!E20,"") | D22: =IF([2]A!F20>0,[2]A!F20,"") | G22: =IF(E22>0,[3]Feuil1!G21,"")
B23: Farine T45 de gruau | C23: =IF([2]A!E21>0,[2]A!E21,"") | D23: =IF([2]A!F21>0,[2]A!F21,"") | G23: =IF(E23>0,[3]Feuil1!G22,"")
B24: Farinte T65 | C24: =IF([2]A!E22>0,[2]A!E22,"") | D24: =IF([2]A!F22>0,[2]A!F22,"") | G24: =IF(E24>0,[3]Feuil1!G23,"")
B25: Framboise | C25: =IF([2]A!E23>0,[2]A!E23,"") | D25: =IF([2]A!F23>0,[2]A!F23,"") | G25: =IF(E25>0,[3]Feuil1!G24,"")
B26: Gelatine | G26: =IF(E26>0,[3]Feuil1!G25,"")
B27: Gelée d'abricot | C27: =IF([2]A!E24>0,[2]A!E24,"") | D27: =IF([2]A!F24>0,[2]A!F24,"") | G27: =IF(E27>0,[3]Feuil1!G26,"")
B28: Gousse de vanille | C28: =IF([2]A!E25>0,[2]A!E25,"") | D28: =IF([2]A!F25>0,[2]A!F25,"") | G28: =IF(E28>0,[3]Feuil1!G27,"")
B29: Jaune d'œufs | C29: =IF([2]A!E26>0,[2]A!E26,"") | D29: =IF([2]A!F26>0,[2]A!F26,"") | G29: =IF(E29>0,[3]Feuil1!G28,"")
B30: Jus d'orange | C30: =IF([2]A!E27>0,[2]A!E27,"") | D30: =IF([2]A!F27>0,[2]A!F27,"") | G30: =IF(E30>0,[3]Feuil1!G29,"")
B31: Lait 1/2 écrémé | C31: =IF([2]A!E28>0,[2]A!E28,"") | D31: =IF([2]A!F28>0,[2]A!F28,"") | G31: =IF(E31>0,[3]Feuil1!G30,"")
B32: Lait entier | C32: =IF([2]A!E29>0,[2]A!E29,"") | D32: =IF([2]A!F29>0,[2]A!F29,"") | G32: =IF(E32>0,[3]Feuil1!G31,"")
B33: Levure boulangère | C33: =IF([2]A!E30>0,[2]A!E30,"") | D33: =IF([2]A!F30>0,[2]A!F30,"") | G33: =IF(E33>0,[3]Feuil1!G32,"")
B34: Levure chimique | C34: =IF([2]A!E31>0,[2]A!E31,"") | D34: =IF([2]A!F31>0,[2]A!F31,"") | G34: =IF(E34>0,[3]Feuil1!G33,"")
B35: Maizena | C35: =IF([2]A!E32>0,[2]A!E32,"") | D35: =IF([2]A!F32>0,[2]A!F32,"") | G35: =IF(E35>0,[3]Feuil1!G34,"")
B36: Mandarine | C36: =IF([2]A!E33>0,[2]A!E33,"") | D36: =IF([2]A!F33>0,[2]A!F33,"") | G36: =IF(E36>0,[3]Feuil1!G35,"")
B37: Nappage neutre | C37: =IF([2]A!E34>0,[2]A!E34,"") | D37: =IF([2]A!F34>0,[2]A!F34,"") | G37: =IF(E37>0,[3]Feuil1!G36,"")
B38: Noix | C38: =IF([2]A!E35>0,[2]A!E35,"") | D38: =IF([2]A!F35>0,[2]A!F35,"") | G38: =IF(E38>0,[3]Feuil1!G37,"")
B39: Noix de coco | G39: =IF(E39>0,[3]Feuil1!G38,"")
B40: Noisette en poudre | G40: =IF(E40>0,[3]Feuil1!G39,"")
B41: Œufs entiers | C41: =IF([2]A!E36>0,[2]A!E36,"") | D41: =IF([2]A!F36>0,[2]A!F36,"") | G41: =IF(E41>0,[3]Feuil1!G40,"")
...

Sheet B
A1: =[2]B!$A$1:$G$1 -> B
B3: Désignation | C3: Quantités 1p | E3: Quantité au Kg | G3: PU | H3: PT
B4: Amandes blanches entières | G4: =IF(E4>0,[3]Feuil1!G3,"") | J4: Prix
B5: Amandes efffilés | C5: =IF([2]B!E4>0,[2]B!E4,"") | D5: =IF([2]B!F4>0,[2]B!F4,"") | G5: =IF(E5>0,[3]Feuil1!G4,"")
B6: Beurre | C6: =IF([2]B!E5>0,[2]B!E5,"") | D6: =IF([2]B!F5>0,[2]B!F5,"") | G6: =IF(E6>0,[3]Feuil1!G5,"")
B7: Blanc d'œufs | C7: =IF([2]B!E6>0,[2]B!E6,"") | D7: =IF([2]B!F6>0,[2]B!F6,"") | G7: =IF(E7>0,[3]Feuil1!G6,"") | J7: =SUM(H4:H204) -> 0
B8: Cacao | C8: =IF([2]B!E7>0,[2]B!E7,"") | D8: =IF([2]B!F7>0,[2]B!F7,"") | G8: =IF(E8>0,[3]Feuil1!G7,"")
B9: Cannelle | C9: =IF([2]B!E8>0,[2]B!E8,"") | D9: =IF([2]B!F8>0,[2]B!F8,"") | G9: =IF(E9>0,[3]Feuil1!G8,"")
B10: Cerise | C10: =IF([2]B!E9>0,[2]B!E9,"") | D10: =IF([2]B!F9>0,[2]B!F9,"") | G10: =IF(E10>0,[3]Feuil1!G9,"")
B11: Chocolat blanc | C11: =IF([2]B!E10>0,[2]B!E10,"") | D11: =IF([2]B!F10>0,[2]B!F10,"") | G11: =IF(E11>0,[3]Feuil1!G10,"")
B12: Chocolat en pépite | C12: =IF([2]B!E11>0,[2]B!E11,"") | D12: =IF([2]B!F11>0,[2]B!F11,"") | G12: =IF(E12>0,[3]Feuil1!G11,"")
B13: Chocolat en pistole | C13: =IF([2]B!E12>0,[2]B!E12,"") | D13: =IF([2]B!F12>0,[2]B!F12,"") | G13: =IF(E13>0,[3]Feuil1!G12,"")
B14: Citron | C14: =IF([2]B!E13>0,[2]B!E13,"") | D14: =IF([2]B!F13>0,[2]B!F13,"") | G14: =IF(E14>0,[3]Feuil1!G13,"")
B15: Confiture de framboise | C15: =IF([2]B!E14>0,[2]B!E14,"") | D15: =IF([2]B!F14>0,[2]B!F14,"") | G15: =IF(E15>0,[3]Feuil1!G14,"")
B16: Colorant alimentaire | G16: =IF(E16>0,[3]Feuil1!G15,"")
B17: Coulis framboise | C17: =IF([2]B!E15>0,[2]B!E15,"") | D17: =IF([2]B!F15>0,[2]B!F15,"") | G17: =IF(E17>0,[3]Feuil1!G16,"")
B18: Coulis mangue | C18: =IF([2]B!E16>0,[2]B!E16,"") | D18: =IF([2]B!F16>0,[2]B!F16,"") | G18: =IF(E18>0,[3]Feuil1!G17,"")
B19: Eau | C19: =IF([2]B!E17>0,[2]B!E17,"") | D19: =IF([2]B!F17>0,[2]B!F17,"") | G19: =IF(E19>0,[3]Feuil1!G18,"")
B20: Farine | C20: =IF([2]B!E18>0,[2]B!E18,"") | D20: =IF([2]B!F18>0,[2]B!F18,"") | G20: =IF(E20>0,[3]Feuil1!G19,"")
B21: Farine mi-crème | C21: =IF([2]B!E19>0,[2]B!E19,"") | D21: =IF([2]B!F19>0,[2]B!F19,"") | G21: =IF(E21>0,[3]Feuil1!G20,"")
B22: Farine T45 | C22: =IF([2]B!E20>0,[2]B!E20,"") | D22: =IF([2]B!F20>0,[2]B!F20,"") | G22: =IF(E22>0,[3]Feuil1!G21,"")
B23: Farine T45 de gruau | C23: =IF([2]B!E21>0,[2]B!E21,"") | D23: =IF([2]B!F21>0,[2]B!F21,"") | G23: =IF(E23>0,[3]Feuil1!G22,"")
B24: Farinte T65 | C24: =IF([2]B!E22>0,[2]B!E22,"") | D24: =IF([2]B!F22>0,[2]B!F22,"") | G24: =IF(E24>0,[3]Feuil1!G23,"")
B25: Framboise | C25: =IF([2]B!E23>0,[2]B!E23,"") | D25: =IF([2]B!F23>0,[2]B!F23,"") | G25: =IF(E25>0,[3]Feuil1!G24,"")
B26: Gelatine | G26: =IF(E26>0,[3]Feuil1!G25,"")
B27: Gelée d'abricot | C27: =IF([2]B!E24>0,[2]B!E24,"") | D27: =IF([2]B!F24>0,[2]B!F24,"") | G27: =IF(E27>0,[3]Feuil1!G26,"")
B28: Gousse de vanille | C28: =IF([2]B!E25>0,[2]B!E25,"") | D28: =IF([2]B!F25>0,[2]B!F25,"") | G28: =IF(E28>0,[3]Feuil1!G27,"")
B29: Jaune d'œufs | C29: =IF([2]B!E26>0,[2]B!E26,"") | D29: =IF([2]B!F26>0,[2]B!F26,"") | G29: =IF(E29>0,[3]Feuil1!G28,"")
B30: Jus d'orange | C30: =IF([2]B!E27>0,[2]B!E27,"") | D30: =IF([2]B!F27>0,[2]B!F27,"") | G30: =IF(E30>0,[3]Feuil1!G29,"")
B31: Lait 1/2 écrémé | C31: =IF([2]B!E28>0,[2]B!E28,"") | D31: =IF([2]B!F28>0,[2]B!F28,"") | G31: =IF(E31>0,[3]Feuil1!G30,"")
B32: Lait entier | C32: =IF([2]B!E29>0,[2]B!E29,"") | D32: =IF([2]B!F29>0,[2]B!F29,"") | G32: =IF(E32>0,[3]Feuil1!G31,"")
B33: Levure boulangère | C33: =IF([2]B!E30>0,[2]B!E30,"") | D33: =IF([2]B!F30>0,[2]B!F30,"") | G33: =IF(E33>0,[3]Feuil1!G32,"")
B34: Levure chimique | C34: =IF([2]B!E31>0,[2]B!E31,"") | D34: =IF([2]B!F31>0,[2]B!F31,"") | G34: =IF(E34>0,[3]Feuil1!G33,"")
B35: Maizena | C35: =IF([2]B!E32>0,[2]B!E32,"") | D35: =IF([2]B!F32>0,[2]B!F32,"") | G35: =IF(E35>0,[3]Feuil1!G34,"")
B36: Mandarine | C36: =IF([2]B!E33>0,[2]B!E33,"") | D36: =IF([2]B!F33>0,[2]B!F33,"") | G36: =IF(E36>0,[3]Feuil1!G35,"")
B37: Nappage neutre | C37: =IF([2]B!E34>0,[2]B!E34,"") | D37: =IF([2]B!F34>0,[2]B!F34,"") | G37: =IF(E37>0,[3]Feuil1!G36,"")
B38: Noix de coco | G38: =IF(E38>0,[3]Feuil1!G37,"")
B39: Noisette en poudre | G39: =IF(E39>0,[3]Feuil1!G38,"")
B40: Noix | C40: =IF([2]B!E35>0,[2]B!E35,"") | D40: =IF([2]B!F35>0,[2]B!F35,"") | G40: =IF(E40>0,[3]Feuil1!G39,"")
B41: Œufs entiers | C41: =IF([2]B!E36>0,[2]B!E36,"") | D41: =IF([2]B!F36>0,[2]B!F36,"") | G41: =IF(E41>0,[3]Feuil1!G40,"")
...

Sheet C
A1: =[2]C!$A$1:$G$1 -> C
B3: Désignation | C3: Quantités 1p | E3: Quantité au Kg | G3: PU | H3: PT
B4: Amandes blanches entières | G4: =IF(E4>0,[3]Feuil1!G3,"") | J4: Prix
B5: Amandes efffilés | C5: =IF([2]C!E4>0,[2]C!E4,"") | D5: =IF([2]C!F4>0,[2]C!F4,"") | G5: =IF(E5>0,[3]Feuil1!G4,"")
B6: Beurre | C6: =IF([2]C!E5>0,[2]C!E5,"") | D6: =IF([2]C!F5>0,[2]C!F5,"") | G6: =IF(E6>0,[3]Feuil1!G5,"")
B7: Blanc d'œufs | C7: =IF([2]C!E6>0,[2]C!E6,"") | D7: =IF([2]C!F6>0,[2]C!F6,"") | G7: =IF(E7>0,[3]Feuil1!G6,"") | J7: =SUM(H4:H204) -> 0
B8: Cacao | C8: =IF([2]C!E7>0,[2]C!E7,"") | D8: =IF([2]C!F7>0,[2]C!F7,"") | G8: =IF(E8>0,[3]Feuil1!G7,"")
B9: Cannelle | C9: =IF([2]C!E8>0,[2]C!E8,"") | D9: =IF([2]C!F8>0,[2]C!F8,"") | G9: =IF(E9>0,[3]Feuil1!G8,"")
B10: Cerise | C10: =IF([2]C!E9>0,[2]C!E9,"") | D10: =IF([2]C!F9>0,[2]C!F9,"") | G10: =IF(E10>0,[3]Feuil1!G9,"")
B11: Chocolat blanc | C11: =IF([2]C!E10>0,[2]C!E10,"") | D11: =IF([2]C!F10>0,[2]C!F10,"") | G11: =IF(E11>0,[3]Feuil1!G10,"")
B12: Chocolat en pépite | C12: =IF([2]C!E11>0,[2]C!E11,"") | D12: =IF([2]C!F11>0,[2]C!F11,"") | G12: =IF(E12>0,[3]Feuil1!G11,"")
B13: Chocolat en pistole | C13: =IF([2]C!E12>0,[2]C!E12,"") | D13: =IF([2]C!F12>0,[2]C!F12,"") | G13: =IF(E13>0,[3]Feuil1!G12,"")
B14: Citron | C14: =IF([2]C!E13>0,[2]C!E13,"") | D14: =IF([2]C!F13>0,[2]C!F13,"") | G14: =IF(E14>0,[3]Feuil1!G13,"")
B15: Confiture de framboise | C15: =IF([2]C!E14>0,[2]C!E14,"") | D15: =IF([2]C!F14>0,[2]C!F14,"") | G15: =IF(E15>0,[3]Feuil1!G14,"")
B16: Colorant alimentaire | G16: =IF(E16>0,[3]Feuil1!G15,"")
B17: Coulis framboise | C17: =IF([2]C!E15>0,[2]C!E15,"") | D17: =IF([2]C!F15>0,[2]C!F15,"") | G17: =IF(E17>0,[3]Feuil1!G16,"")
B18: Coulis mangue | C18: =IF([2]C!E16>0,[2]C!E16,"") | D18: =IF([2]C!F16>0,[2]C!F16,"") | G18: =IF(E18>0,[3]Feuil1!G17,"")
B19: Eau | C19: =IF([2]C!E17>0,[2]C!E17,"") | D19: =IF([2]C!F17>0,[2]C!F17,"") | G19: =IF(E19>0,[3]Feuil1!G18,"")
B20: Farine | C20: =IF([2]C!E18>0,[2]C!E18,"") | D20: =IF([2]C!F18>0,[2]C!F18,"") | G20: =IF(E20>0,[3]Feuil1!G19,"")
B21: Farine mi-crème | C21: =IF([2]C!E19>0,[2]C!E19,"") | D21: =IF([2]C!F19>0,[2]C!F19,"") | G21: =IF(E21>0,[3]Feuil1!G20,"")
B22: Farine T45 | C22: =IF([2]C!E20>0,[2]C!E20,"") | D22: =IF([2]C!F20>0,[2]C!F20,"") | G22: =IF(E22>0,[3]Feuil1!G21,"")
B23: Farine T45 de gruau | C23: =IF([2]C!E21>0,[2]C!E21,"") | D23: =IF([2]C!F21>0,[2]C!F21,"") | G23: =IF(E23>0,[3]Feuil1!G22,"")
B24: Farinte T65 | C24: =IF([2]C!E22>0,[2]C!E22,"") | D24: =IF([2]C!F22>0,[2]C!F22,"") | G24: =IF(E24>0,[3]Feuil1!G23,"")
B25: Framboise | C25: =IF([2]C!E23>0,[2]C!E23,"") | D25: =IF([2]C!F23>0,[2]C!F23,"") | G25: =IF(E25>0,[3]Feuil1!G24,"")
B26: Gelatine | G26: =IF(E26>0,[3]Feuil1!G25,"")
B27: Gelée d'abricot | C27: =IF([2]C!E24>0,[2]C!E24,"") | D27: =IF([2]C!F24>0,[2]C!F24,"") | G27: =IF(E27>0,[3]Feuil1!G26,"")
B28: Gousse de vanille | C28: =IF([2]C!E25>0,[2]C!E25,"") | D28: =IF([2]C!F25>0,[2]C!F25,"") | G28: =IF(E28>0,[3]Feuil1!G27,"")
B29: Jaune d'œufs | C29: =IF([2]C!E26>0,[2]C!E26,"") | D29: =IF([2]C!F26>0,[2]C!F26,"") | G29: =IF(E29>0,[3]Feuil1!G28,"")
B30: Jus d'orange | C30: =IF([2]C!E27>0,[2]C!E27,"") | D30: =IF([2]C!F27>0,[2]C!F27,"") | G30: =IF(E30>0,[3]Feuil1!G29,"")
B31: Lait 1/2 écrémé | C31: =IF([2]C!E28>0,[2]C!E28,"") | D31: =IF([2]C!F28>0,[2]C!F28,"") | G31: =IF(E31>0,[3]Feuil1!G30,"")
B32: Lait entier | C32: =IF([2]C!E29>0,[2]C!E29,"") | D32: =IF([2]C!F29>0,[2]C!F29,"") | G32: =IF(E32>0,[3]Feuil1!G31,"")
B33: Levure boulangère | C33: =IF([2]C!E30>0,[2]C!E30,"") | D33: =IF([2]C!F30>0,[2]C!F30,"") | G33: =IF(E33>0,[3]Feuil1!G32,"")
B34: Levure chimique | C34: =IF([2]C!E31>0,[2]C!E31,"") | D34: =IF([2]C!F31>0,[2]C!F31,"") | G34: =IF(E34>0,[3]Feuil1!G33,"")
B35: Maizena | C35: =IF([2]C!E32>0,[2]C!E32,"") | D35: =IF([2]C!F32>0,[2]C!F32,"") | G35: =IF(E35>0,[3]Feuil1!G34,"")
B36: Mandarine | C36: =IF([2]C!E33>0,[2]C!E33,"") | D36: =IF([2]C!F33>0,[2]C!F33,"") | G36: =IF(E36>0,[3]Feuil1!G35,"")
B37: Nappage neutre | C37: =IF([2]C!E34>0,[2]C!E34,"") | D37: =IF([2]C!F34>0,[2]C!F34,"") | G37: =IF(E37>0,[3]Feuil1!G36,"")
B38: Noix | C38: =IF([2]C!E35>0,[2]C!E35,"") | D38: =IF([2]C!F35>0,[2]C!F35,"") | G38: =IF(E38>0,[3]Feuil1!G37,"")
B39: Noix de coco | G39: =IF(E39>0,[3]Feuil1!G38,"")
B40: Noisette en poudre | G40: =IF(E40>0,[3]Feuil1!G39,"")
B41: Œufs entiers | C41: =IF([2]C!E36>0,[2]C!E36,"") | D41: =IF([2]C!F36>0,[2]C!F36,"") | G41: =IF(E41>0,[3]Feuil1!G40,"")
...

Sheet D
A1: =[2]D!$A$1:$G$1 -> D
B3: Désignation | C3: Quantités 1p | E3: Quantité au Kg | G3: PU | H3: PT
B4: Amandes blanches entières | G4: =IF(E4>0,[3]Feuil1!G3,"") | J4: Prix
B5: Amandes efffilés | C5: =IF([2]D!E4>0,[2]D!E4,"") -> 1 | D5: =IF([2]D!F4>0,[2]D!F4,"") | G5: =IF(E5>0,[3]Feuil1!G4,"")
B6: Beurre | C6: =IF([2]D!E5>0,[2]D!E5,"") | D6: =IF([2]D!F5>0,[2]D!F5,"") | G6: =IF(E6>0,[3]Feuil1!G5,"")
B7: Blanc d'œufs | C7: =IF([2]D!E6>0,[2]D!E6,"") | D7: =IF([2]D!F6>0,[2]D!F6,"") | G7: =IF(E7>0,[3]Feuil1!G6,"") | J7: =SUM(H4:H204) -> 0
B8: Cacao | C8: =IF([2]D!E7>0,[2]D!E7,"") | D8: =IF([2]D!F7>0,[2]D!F7,"") | G8: =IF(E8>0,[3]Feuil1!G7,"")
B9: Cannelle | C9: =IF([2]D!E8>0,[2]D!E8,"") | D9: =IF([2]D!F8>0,[2]D!F8,"") | G9: =IF(E9>0,[3]Feuil1!G8,"")
B10: Cerise | C10: =IF([2]D!E9>0,[2]D!E9,"") | D10: =IF([2]D!F9>0,[2]D!F9,"") | G10: =IF(E10>0,[3]Feuil1!G9,"")
B11: Chocolat blanc | C11: =IF([2]D!E10>0,[2]D!E10,"") | D11: =IF([2]D!F10>0,[2]D!F10,"") | G11: =IF(E11>0,[3]Feuil1!G10,"")
B12: Chocolat en pépite | C12: =IF([2]D!E11>0,[2]D!E11,"") | D12: =IF([2]D!F11>0,[2]D!F11,"") | G12: =IF(E12>0,[3]Feuil1!G11,"")
B13: Chocolat en pistole | C13: =IF([2]D!E12>0,[2]D!E12,"") | D13: =IF([2]D!F12>0,[2]D!F12,"") | G13: =IF(E13>0,[3]Feuil1!G12,"")
B14: Citron | C14: =IF([2]D!E13>0,[2]D!E13,"") | D14: =IF([2]D!F13>0,[2]D!F13,"") | G14: =IF(E14>0,[3]Feuil1!G13,"")
B15: Confiture de framboise | C15: =IF([2]D!E14>0,[2]D!E14,"") | D15: =IF([2]D!F14>0,[2]D!F14,"") | G15: =IF(E15>0,[3]Feuil1!G14,"")
B16: Colorant alimentaire | G16: =IF(E16>0,[3]Feuil1!G15,"")
B17: Coulis framboise | C17: =IF([2]D!E15>0,[2]D!E15,"") | D17: =IF([2]D!F15>0,[2]D!F15,"") | G17: =IF(E17>0,[3]Feuil1!G16,"")
B18: Coulis mangue | C18: =IF([2]D!E16>0,[2]D!E16,"") | D18: =IF([2]D!F16>0,[2]D!F16,"") | G18: =IF(E18>0,[3]Feuil1!G17,"")
B19: Eau | C19: =IF([2]D!E17>0,[2]D!E17,"") | D19: =IF([2]D!F17>0,[2]D!F17,"") | G19: =IF(E19>0,[3]Feuil1!G18,"")
B20: Farine | C20: =IF([2]D!E18>0,[2]D!E18,"") | D20: =IF([2]D!F18>0,[2]D!F18,"") | G20: =IF(E20>0,[3]Feuil1!G19,"")
B21: Farine mi-crème | C21: =IF([2]D!E19>0,[2]D!E19,"") | D21: =IF([2]D!F19>0,[2]D!F19,"") | G21: =IF(E21>0,[3]Feuil1!G20,"")
B22: Farine T45 | C22: =IF([2]D!E20>0,[2]D!E20,"") | D22: =IF([2]D!F20>0,[2]D!F20,"") | G22: =IF(E22>0,[3]Feuil1!G21,"")
B23: Farine T45 de gruau | C23: =IF([2]D!E21>0,[2]D!E21,"") | D23: =IF([2]D!F21>0,[2]D!F21,"") | G23: =IF(E23>0,[3]Feuil1!G22,"")
B24: Farinte T65 | C24: =IF([2]D!E22>0,[2]D!E22,"") | D24: =IF([2]D!F22>0,[2]D!F22,"") | G24: =IF(E24>0,[3]Feuil1!G23,"")
B25: Framboise | C25: =IF([2]D!E23>0,[2]D!E23,"") | D25: =IF([2]D!F23>0,[2]D!F23,"") | G25: =IF(E25>0,[3]Feuil1!G24,"")
B26: Gelatine | G26: =IF(E26>0,[3]Feuil1!G25,"")
B27: Gelée d'abricot | C27: =IF([2]D!E24>0,[2]D!E24,"") | D27: =IF([2]D!F24>0,[2]D!F24,"") | G27: =IF(E27>0,[3]Feuil1!G26,"")
B28: Gousse de vanille | C28: =IF([2]D!E25>0,[2]D!E25,"") | D28: =IF([2]D!F25>0,[2]D!F25,"") | G28: =IF(E28>0,[3]Feuil1!G27,"")
B29: Jaune d'œufs | C29: =IF([2]D!E26>0,[2]D!E26,"") | D29: =IF([2]D!F26>0,[2]D!F26,"") | G29: =IF(E29>0,[3]Feuil1!G28,"")
B30: Jus d'orange | C30: =IF([2]D!E27>0,[2]D!E27,"") | D30: =IF([2]D!F27>0,[2]D!F27,"") | G30: =IF(E30>0,[3]Feuil1!G29,"")
B31: Lait 1/2 écrémé | C31: =IF([2]D!E28>0,[2]D!E28,"") | D31: =IF([2]D!F28>0,[2]D!F28,"") | G31: =IF(E31>0,[3]Feuil1!G30,"")
B32: Lait entier | C32: =IF([2]D!E29>0,[2]D!E29,"") | D32: =IF([2]D!F29>0,[2]D!F29,"") | G32: =IF(E32>0,[3]Feuil1!G31,"")
B33: Levure boulangère | C33: =IF([2]D!E30>0,[2]D!E30,"") | D33: =IF([2]D!F30>0,[2]D!F30,"") | G33: =IF(E33>0,[3]Feuil1!G32,"")
B34: Levure chimique | C34: =IF([2]D!E31>0,[2]D!E31,"") | D34: =IF([2]D!F31>0,[2]D!F31,"") | G34: =IF(E34>0,[3]Feuil1!G33,"")
B35: Maizena | C35: =IF([2]D!E32>0,[2]D!E32,"") | D35: =IF([2]D!F32>0,[2]D!F32,"") | G35: =IF(E35>0,[3]Feuil1!G34,"")
B36: Mandarine | C36: =IF([2]D!E33>0,[2]D!E33,"") | D36: =IF([2]D!F33>0,[2]D!F33,"") | G36: =IF(E36>0,[3]Feuil1!G35,"")
B37: Nappage neutre | C37: =IF([2]D!E34>0,[2]D!E34,"") | D37: =IF([2]D!F34>0,[2]D!F34,"") | G37: =IF(E37>0,[3]Feuil1!G36,"")
B38: Noix | C38: =IF([2]D!E35>0,[2]D!E35,"") | D38: =IF([2]D!F35>0,[2]D!F35,"") | G38: =IF(E38>0,[3]Feuil1!G37,"")
B39: Noix de coco | G39: =IF(E39>0,[3]Feuil1!G38,"")
B40: Noisette en poudre | G40: =IF(E40>0,[3]Feuil1!G39,"")
B41: Œufs entiers | C41: =IF([2]D!E36>0,[2]D!E36,"") | D41: =IF([2]D!F36>0,[2]D!F36,"") | G41: =IF(E41>0,[3]Feuil1!G40,"")
...

Sheet E
A1: =[2]E!$A$1:$G$1 -> E
B3: Désignation | C3: Quantités 1p | E3: Quantité au Kg | G3: PU | H3: PT
B4: Amandes blanches entières | G4: =IF(E4>0,[3]Feuil1!G3,"") | J4: Prix
B5: Amandes efffilés | C5: =IF([2]E!E4>0,[2]E!E4,"") -> 1 | D5: =IF([2]E!F4>0,[2]E!F4,"") | G5: =IF(E5>0,[3]Feuil1!G4,"")
B6: Beurre | C6: =IF([2]E!E5>0,[2]E!E5,"") | D6: =IF([2]E!F5>0,[2]E!F5,"") | G6: =IF(E6>0,[3]Feuil1!G5,"")
B7: Blanc d'œufs | C7: =IF([2]E!E6>0,[2]E!E6,"") | D7: =IF([2]E!F6>0,[2]E!F6,"") | G7: =IF(E7>0,[3]Feuil1!G6,"") | J7: =SUM(H4:H204) -> 0
B8: Cacao | C8: =IF([2]E!E7>0,[2]E!E7,"") | D8: =IF([2]E!F7>0,[2]E!F7,"") | G8: =IF(E8>0,[3]Feuil1!G7,"")
B9: Cannelle | C9: =IF([2]E!E8>0,[2]E!E8,"") | D9: =IF([2]E!F8>0,[2]E!F8,"") | G9: =IF(E9>0,[3]Feuil1!G8,"")
B10: Cerise | C10: =IF([2]E!E9>0,[2]E!E9,"") | D10: =IF([2]E!F9>0,[2]E!F9,"") | G10: =IF(E10>0,[3]Feuil1!G9,"")
B11: Chocolat blanc | C11: =IF([2]E!E10>0,[2]E!E10,"") | D11: =IF([2]E!F10>0,[2]E!F10,"") | G11: =IF(E11>0,[3]Feuil1!G10,"")
B12: Chocolat en pépite | C12: =IF([2]E!E11>0,[2]E!E11,"") | D12: =IF([2]E!F11>0,[2]E!F11,"") | G12: =IF(E12>0,[3]Feuil1!G11,"")
B13: Chocolat en pistole | C13: =IF([2]E!E12>0,[2]E!E12,"") | D13: =IF([2]E!F12>0,[2]E!F12,"") | G13: =IF(E13>0,[3]Feuil1!G12,"")
B14: Citron | C14: =IF([2]E!E13>0,[2]E!E13,"") | D14: =IF([2]E!F13>0,[2]E!F13,"") | G14: =IF(E14>0,[3]Feuil1!G13,"")
B15: Confiture de framboise | C15: =IF([2]E!E14>0,[2]E!E14,"") | D15: =IF([2]E!F14>0,[2]E!F14,"") | G15: =IF(E15>0,[3]Feuil1!G14,"")
B16: Colorant alimentaire | G16: =IF(E16>0,[3]Feuil1!G15,"")
B17: Coulis framboise | C17: =IF([2]E!E15>0,[2]E!E15,"") | D17: =IF([2]E!F15>0,[2]E!F15,"") | G17: =IF(E17>0,[3]Feuil1!G16,"")
B18: Coulis mangue | C18: =IF([2]E!E16>0,[2]E!E16,"") | D18: =IF([2]E!F16>0,[2]E!F16,"") | G18: =IF(E18>0,[3]Feuil1!G17,"")
B19: Eau | C19: =IF([2]E!E17>0,[2]E!E17,"") | D19: =IF([2]E!F17>0,[2]E!F17,"") | G19: =IF(E19>0,[3]Feuil1!G18,"")
B20: Farine | C20: =IF([2]E!E18>0,[2]E!E18,"") | D20: =IF([2]E!F18>0,[2]E!F18,"") | G20: =IF(E20>0,[3]Feuil1!G19,"")
B21: Farine mi-crème | C21: =IF([2]E!E19>0,[2]E!E19,"") | D21: =IF([2]E!F19>0,[2]E!F19,"") | G21: =IF(E21>0,[3]Feuil1!G20,"")
B22: Farine T45 | C22: =IF([2]E!E20>0,[2]E!E20,"") | D22: =IF([2]E!F20>0,[2]E!F20,"") | G22: =IF(E22>0,[3]Feuil1!G21,"")
B23: Farine T45 de gruau | C23: =IF([2]E!E21>0,[2]E!E21,"") | D23: =IF([2]E!F21>0,[2]E!F21,"") | G23: =IF(E23>0,[3]Feuil1!G22,"")
B24: Farinte T65 | C24: =IF([2]E!E22>0,[2]E!E22,"") | D24: =IF([2]E!F22>0,[2]E!F22,"") | G24: =IF(E24>0,[3]Feuil1!G23,"")
B25: Framboise | C25: =IF([2]E!E23>0,[2]E!E23,"") | D25: =IF([2]E!F23>0,[2]E!F23,"") | G25: =IF(E25>0,[3]Feuil1!G24,"")
B26: Gelatine | G26: =IF(E26>0,[3]Feuil1!G25,"")
B27: Gelée d'abricot | C27: =IF([2]E!E24>0,[2]E!E24,"") | D27: =IF([2]E!F24>0,[2]E!F24,"") | G27: =IF(E27>0,[3]Feuil1!G26,"")
B28: Gousse de vanille | C28: =IF([2]E!E25>0,[2]E!E25,"") | D28: =IF([2]E!F25>0,[2]E!F25,"") | G28: =IF(E28>0,[3]Feuil1!G27,"")
B29: Jaune d'œufs | C29: =IF([2]E!E26>0,[2]E!E26,"") | D29: =IF([2]E!F26>0,[2]E!F26,"") | G29: =IF(E29>0,[3]Feuil1!G28,"")
B30: Jus d'orange | C30: =IF([2]E!E27>0,[2]E!E27,"") | D30: =IF([2]E!F27>0,[2]E!F27,"") | G30: =IF(E30>0,[3]Feuil1!G29,"")
B31: Lait 1/2 écrémé | C31: =IF([2]E!E28>0,[2]E!E28,"") | D31: =IF([2]E!F28>0,[2]E!F28,"") | G31: =IF(E31>0,[3]Feuil1!G30,"")
B32: Lait entier | C32: =IF([2]E!E29>0,[2]E!E29,"") | D32: =IF([2]E!F29>0,[2]E!F29,"") | G32: =IF(E32>0,[3]Feuil1!G31,"")
B33: Levure boulangère | C33: =IF([2]E!E30>0,[2]E!E30,"") | D33: =IF([2]E!F30>0,[2]E!F30,"") | G33: =IF(E33>0,[3]Feuil1!G32,"")
B34: Levure chimique | C34: =IF([2]E!E31>0,[2]E!E31,"") | D34: =IF([2]E!F31>0,[2]E!F31,"") | G34: =IF(E34>0,[3]Feuil1!G33,"")
B35: Maizena | C35: =IF([2]E!E32>0,[2]E!E32,"") | D35: =IF([2]E!F32>0,[2]E!F32,"") | G35: =IF(E35>0,[3]Feuil1!G34,"")
B36: Mandarine | C36: =IF([2]E!E33>0,[2]E!E33,"") | D36: =IF([2]E!F33>0,[2]E!F33,"") | G36: =IF(E36>0,[3]Feuil1!G35,"")
B37: Nappage neutre | C37: =IF([2]E!E34>0,[2]E!E34,"") | D37: =IF([2]E!F34>0,[2]E!F34,"") | G37: =IF(E37>0,[3]Feuil1!G36,"")
B38: Noix | C38: =IF([2]E!E35>0,[2]E!E35,"") | D38: =IF([2]E!F35>0,[2]E!F35,"") | G38: =IF(E38>0,[3]Feuil1!G37,"")
B39: Noix de coco | G39: =IF(E39>0,[3]Feuil1!G38,"")
B40: Noisette en poudre | G40: =IF(E40>0,[3]Feuil1!G39,"")
B41: Œufs entiers | C41: =IF([2]E!E36>0,[2]E!E36,"") | D41: =IF([2]E!F36>0,[2]E!F36,"") | G41: =IF(E41>0,[3]Feuil1!G40,"")
...

Sheet F
A1: =[2]F!$A$1:$G$1 -> F
B3: Désignation | C3: Quantités 1p | E3: Quantité au Kg | G3: PU | H3: PT
B4: Amandes blanches entières | G4: =IF(E4>0,[3]Feuil1!G3,"") | J4: Prix
B5: Amandes efffilés | C5: =IF([2]F!E4>0,[2]F!E4,"") -> 1 | D5: =IF([2]F!F4>0,[2]F!F4,"") | G5: =IF(E5>0,[3]Feuil1!G4,"")
