Workbook

Sheet CR
A1: Coût de revient
D3: Coeff MO : | E3: ='[1]2017'!$C$18 -> 0.24690303 | G3: Coeff FG : | H3: ='[1]2017'!$C$12 -> 0.23636364
A6: Désignation | B6: Prix du marché TTC | C6: Prix du marché HT | D6: Prix ingredients | E6: Prix MO | F6: Prix FG | G6: Total | H6: Marge | I6: Résultat
A8: =Brioche!A1 -> Brioche | B8: 0.5 | C8: =B8-(B8*20/100) -> 0.4 | D8: =Brioche!J7 -> 0.567139 | E8: =B8*$E$3 -> 0.12345152 | F8: =B8*$H$3 -> 0.11818182 | G8: =SUM(D8:F8) -> 0.80877233 | H8: =E8+I8 -> -0.28532082 | I8: =C8-G8 -> -0.40877233
A9: =Croissant!A1 -> Croissant | B9: 0.95 | C9: =B9-(B9*20/100) -> 0.76 | D9: =Croissant!J7 -> 0.18433632 | E9: =B9*$E$3 -> 0.23455788 | F9: =B9*$H$3 -> 0.22454545 | G9: =SUM(D9:F9) -> 0.64343965 | H9: =E9+I9 -> 0.35111823 | I9: =C9-G9 -> 0.11656035
A10: =Framboisier!A1 -> Framboisier | B10: 3.5 | C10: =B10-(B10*20/100) -> 2.8 | E10: =B10*$E$3 -> 0.86416061 | F10: =B10*$H$3 -> 0.82727273 | G10: =SUM(D10:F10) -> 1.6914333 | H10: =E10+I10 -> 1.9727273 | I10: =C10-G10 -> 1.1085667
A11: ='Pain viennois'!A1:I1 -> Pain Viennois | B11: 1.2 | C11: =B11-(B11*20/100) -> 0.96 | D11: ='Pain viennois'!J7 -> 0.33198126 | E11: =B11*$E$3 -> 0.29628364 | F11: =B11*$H$3 -> 0.28363636 | G11: =SUM(D11:F11) -> 0.91190126 | H11: =E11+I11 -> 0.34438237 | I11: =C11-G11 -> 0.048098738
A12: ='Paris Brest'!A1:E1 -> Paris Brest | B12: 1.4 | C12: =B12-(B12*20/100) -> 1.12 | D12: ='Paris Brest'!J8 -> 0.29133285 | E12: =B12*$E$3 -> 0.34566424 | F12: =B12*$H$3 -> 0.33090909 | G12: =SUM(D12:F12) -> 0.96790618 | H12: =E12+I12 -> 0.49775806 | I12: =C12-G12 -> 0.15209382
A13: =Tradition!A1 -> Tradition Française | B13: 1 | C13: =B13-(B13*20/100) -> 0.8 | D13: =Tradition!J7 -> 0.00058742857 | E13: =B13*$E$3 -> 0.24690303 | F13: =B13*$H$3 -> 0.23636364 | G13: =SUM(D13:F13) -> 0.4838541 | H13: =E13+I13 -> 0.56304894 | I13: =C13-G13 -> 0.3161459
A14: =A!A1 -> A | D14: =A!$J$7 -> 0 | E14: =B14*$E$3 -> 0 | F14: =B14*$H$3 -> 0 | G14: =SUM(D14:F14) -> 0 | H14: =E14+I14 -> 0 | I14: =C14-G14 -> 0
A15: =B!$A$1 -> B | D15: =B!$J$7 -> 0 | E15: =B15*$E$3 -> 0 | F15: =B15*$H$3 -> 0 | G15: =SUM(D15:F15) -> 0 | H15: =E15+I15 -> 0 | I15: =C15-G15 -> 0
A16: ='C'!$A$1 -> C | D16: ='C'!$J$7 -> 0 | E16: =B16*$E$3 -> 0 | F16: =B16*$H$3 -> 0 | G16: =SUM(D16:F16) -> 0 | H16: =E16+I16 -> 0 | I16: =C16-G16 -> 0
A17: =D!$A$1 -> D | D17: =D!$J$7 -> 0 | E17: =B17*$E$3 -> 0 | F17: =B17*$H$3 -> 0 | G17: =SUM(D17:F17) -> 0 | H17: =E17+I17 -> 0 | I17: =C17-G17 -> 0
A18: =E!$A$1 -> E | D18: =E!$J$7 -> 0 | E18: =B18*$E$3 -> 0 | F18: =B18*$H$3 -> 0 | G18: =SUM(D18:F18) -> 0 | H18: =E18+I18 -> 0 | I18: =C18-G18 -> 0
A19: =F!$A$1 -> F | D19: =F!$J$7 -> 0 | E19: =B19*$E$3 -> 0 | F19: =B19*$H$3 -> 0 | G19: =SUM(D19:F19) -> 0 | H19: =E19+I19 -> 0 | I19: =C19-G19 -> 0
A20: =G!$A$1 -> G | D20: =G!$J$7 -> 0 | E20: =B20*$E$3 -> 0 | F20: =B20*$H$3 -> 0 | G20: =SUM(D20:F20) -> 0 | H20: =E20+I20 -> 0 | I20: =C20-G20 -> 0
A21: =H!$A$1 -> H | D21: =H!$J$7 -> 0 | E21: =B21*$E$3 -> 0 | F21: =B21*$H$3 -> 0 | G21: =SUM(D21:F21) -> 0 | H21: =E21+I21 -> 0 | I21: =C21-G21 -> 0
A22: =I!$A$1 -> I | D22: =I!$J$7 -> 0 | E22: =B22*$E$3 -> 0 | F22: =B22*$H$3 -> 0 | G22: =SUM(D22:F22) -> 0 | H22: =E22+I22 -> 0 | I22: =C22-G22 -> 0
A23: =J!$A$1 -> J | D23: =J!$J$7 -> 0 | E23: =B23*$E$3 -> 0 | F23: =B23*$H$3 -> 0 | G23: =SUM(D23:F23) -> 0 | H23: =E23+I23 -> 0 | I23: =C23-G23 -> 0
A24: =K!$A$1 -> K | D24: =K!$J$7 -> 0 | E24: =B24*$E$3 -> 0 | F24: =B24*$H$3 -> 0 | G24: =SUM(D24:F24) -> 0 | H24: =E24+I24 -> 0 | I24: =C24-G24 -> 0
A25: =L!$A$1 -> L | D25: =L!$J$7 -> 0 | E25: =B25*$E$3 -> 0 | F25: =B25*$H$3 -> 0 | G25: =SUM(D25:F25) -> 0 | H25: =E25+I25 -> 0 | I25: =C25-G25 -> 0
A26: =M!$A$1 -> M | D26: =M!$J$7 -> 0 | E26: =B26*$E$3 -> 0 | F26: =B26*$H$3 -> 0 | G26: =SUM(D26:F26) -> 0 | H26: =E26+I26 -> 0 | I26: =C26-G26 -> 0
A27: =N!$A$1 -> N | D27: =N!$J$7 -> 0 | E27: =B27*$E$3 -> 0 | F27: =B27*$H$3 -> 0 | G27: =SUM(D27:F27) -> 0 | H27: =E27+I27 -> 0 | I27: =C27-G27 -> 0
A28: =O!$A$1 -> O | D28: =O!$J$7 -> 0 | E28: =B28*E53 -> 0 | F28: =B28*$H$3 -> 0 | G28: =SUM(D28:F28) -> 0 | H28: =E28+I28 -> 0 | I28: =C28-G28 -> 0
A29: =P!$A$1 -> P | D29: =P!$J$7 -> 0 | E29: =B29*E54 -> 0 | F29: =B29*$H$3 -> 0 | G29: =SUM(D29:F29) -> 0 | H29: =E29+I29 -> 0 | I29: =C29-G29 -> 0
A30: =Q!$A$1 -> Q | D30: =Q!$J$7 -> 0 | E30: =B30*E55 -> 0 | F30: =B30*$H$3 -> 0 | G30: =SUM(D30:F30) -> 0 | H30: =E30+I30 -> 0 | I30: =C30-G30 -> 0
A31: =+'R'!A1:G1 -> R | D31: ='R'!J7 -> 0 | E31: =B31*E56 -> 0 | F31: =B31*$H$3 -> 0 | G31: =SUM(D31:F31) -> 0 | H31: =E31+I31 -> 0 | I31: =C31-G31 -> 0
A32: =S!$A$1 -> S | D32: =S!$J$7 -> 0 | E32: =B32*E57 -> 0 | F32: =B32*$H$3 -> 0 | G32: =SUM(D32:F32) -> 0 | H32: =E32+I32 -> 0 | I32: =C32-G32 -> 0
A33: =T!$A$1 -> T | D33: =T!$J$7 -> 0 | E33: =B33*E58 -> 0 | F33: =B33*$H$3 -> 0 | G33: =SUM(D33:F33) -> 0 | H33: =E33+I33 -> 0 | I33: =C33-G33 -> 0
A34: =U!$A$1 -> U | D34: =U!$J$7 -> 0 | E34: =B34*E59 -> 0 | F34: =B34*$H$3 -> 0 | G34: =SUM(D34:F34) -> 0 | H34: =E34+I34 -> 0 | I34: =C34-G34 -> 0
A35: =V!$A$1 -> V | D35: =V!$J$7 -> 0 | E35: =B35*E60 -> 0 | F35: =B35*$H$3 -> 0 | G35: =SUM(D35:F35) -> 0 | H35: =E35+I35 -> 0 | I35: =C35-G35 -> 0
A36: =W!$A$1 -> W | D36: =W!$J$7 -> 0 | E36: =B36*E61 -> 0 | F36: =B36*$H$3 -> 0 | G36: =SUM(D36:F36) -> 0 | H36: =E36+I36 -> 0 | I36: =C36-G36 -> 0
A37: =X!$A$1 -> X | D37: =X!$J$7 -> 0 | E37: =B37*E62 -> 0 | F37: =B37*$H$3 -> 0 | G37: =SUM(D37:F37) -> 0 | H37: =E37+I37 -> 0 | I37: =C37-G37 -> 0
A38: =Y!$A$1 -> Y | D38: =Y!$J$7 -> 0 | E38: =B38*E63 -> 0 | F38: =B38*$H$3 -> 0 | G38: =SUM(D38:F38) -> 0 | H38: =E38+I38 -> 0 | I38: =C38-G38 -> 0
A39: =Z!$A$1 -> Z | D39: =Z!$J$7 -> 0 | E39: =B39*E64 -> 0 | F39: =B39*$H$3 -> 0 | G39: =SUM(D39:F39) -> 0 | H39: =E39+I39 -> 0 | I39: =C39-G39 -> 0

Sheet Feuil1

Sheet Feuil2

Sheet Feuil3

Sheet Feuil4

Sheet Feuil5

Sheet Feuil6

Sheet Feuil7

Sheet Feuil8

Sheet Feuil9

Sheet Feuil10

Sheet Feuil11

Sheet Brioche
A1: =[2]Brioche!$A$1:$G$1 -> Brioche
B3: Désignation | C3: Quantités 1p | E3: Quantités au kg | G3: Pu | H3: Pt
B4: Amande entière blanches | G4: =IF(E4>0,[3]Feuil1!G4,"") | J4: Prix
B5: Amandes efffilés | C5: =IF([2]Brioche!E4>0,[2]Brioche!E4,"") | D5: =IF([2]Brioche!F4>0,[2]Brioche!F4,"") | G5: =IF(E5>0,[3]Feuil1!G5,"")
B6: Beurre | C6: =IF([2]Brioche!E5>0,[2]Brioche!E5,"") -> 75 | D6: =IF([2]Brioche!F5>0,[2]Brioche!F5,"") -> g | E6: =C6/1000 -> 0.075 | F6: kg | G6: =IF(E6>0,[3]Feuil1!G6,"") -> 4.08 | H6: =G6*E6 -> 0.306
B7: Blanc d'œufs | C7: =IF([2]Brioche!E6>0,[2]Brioche!E6,"") | D7: =IF([2]Brioche!F6>0,[2]Brioche!F6,"") | G7: =IF(E7>0,[3]Feuil1!G7,"") | J7: =SUM(H4:H71) -> 0.567139
B8: Cacao | C8: =IF([2]Brioche!E7>0,[2]Brioche!E7,"") | D8: =IF([2]Brioche!F7>0,[2]Brioche!F7,"") | G8: =IF(E8>0,[3]Feuil1!G8,"")
B9: Cannelle | C9: =IF([2]Brioche!E8>0,[2]Brioche!E8,"") | D9: =IF([2]Brioche!F8>0,[2]Brioche!F8,"") | G9: =IF(E9>0,[3]Feuil1!G9,"")
B10: Cerise | C10: =IF([2]Brioche!E9>0,[2]Brioche!E9,"") | D10: =IF([2]Brioche!F9>0,[2]Brioche!F9,"") | G10: =IF(E10>0,[3]Feuil1!G10,"")
B11: Chocolat blanc | C11: =IF([2]Brioche!E10>0,[2]Brioche!E10,"") | D11: =IF([2]Brioche!F10>0,[2]Brioche!F10,"") | G11: =IF(E11>0,[3]Feuil1!G11,"")
B12: Chocolat en pépite | C12: =IF([2]Brioche!E11>0,[2]Brioche!E11,"") | D12: =IF([2]Brioche!F11>0,[2]Brioche!F11,"") | G12: =IF(E12>0,[3]Feuil1!G12,"")
B13: Chocolat en pistole | C13: =IF([2]Brioche!E12>0,[2]Brioche!E12,"") | D13: =IF([2]Brioche!F12>0,[2]Brioche!F12,"") | G13: =IF(E13>0,[3]Feuil1!G13,"")
B14: Citron | C14: =IF([2]Brioche!E13>0,[2]Brioche!E13,"") | D14: =IF([2]Brioche!F13>0,[2]Brioche!F13,"") | G14: =IF(E14>0,[3]Feuil1!G14,"")
B15: Confiture de framboise | C15: =IF([2]Brioche!E14>0,[2]Brioche!E14,"") | D15: =IF([2]Brioche!F14>0,[2]Brioche!F14,"") | G15: =IF(E15>0,[3]Feuil1!G15,"")
B16: Coulis framboise | C16: =IF([2]Brioche!E15>0,[2]Brioche!E15,"") | D16: =IF([2]Brioche!F15>0,[2]Brioche!F15,"") | G16: =IF(E16>0,[3]Feuil1!G16,"")
B17: Coulis mangue | C17: =IF([2]Brioche!E16>0,[2]Brioche!E16,"") | D17: =IF([2]Brioche!F16>0,[2]Brioche!F16,"") | G17: =IF(E17>0,[3]Feuil1!G17,"")
B18: Eau | C18: =IF([2]Brioche!E17>0,[2]Brioche!E17,"") | D18: =IF([2]Brioche!F17>0,[2]Brioche!F17,"") | G18: =IF(E18>0,[3]Feuil1!G18,"")
B19: Farine | C19: =IF([2]Brioche!E18>0,[2]Brioche!E18,"") | D19: =IF([2]Brioche!F18>0,[2]Brioche!F18,"") | G19: =IF(E19>0,[3]Feuil1!G19,"")
... B21: Farine T45 | C21: =IF([2]Brioche!E20>0,[2]Brioche!E20,"") | D21: =IF([2]Brioche!F20>0,[2]Brioche!F20,"") | G21: =IF(E21>0,[3]Feuil1!G21,"")
B22: Farine T45 de gruau | C22: =IF([2]Brioche!E21>0,[2]Brioche!E21,"") -> 125 | D22: =IF([2]Brioche!F21>0,[2]Brioche!F21,"") -> g | E22: =C22/1000 -> 0.125 | F22: kg | G22: =IF(E22>0,[3]Feuil1!G22,"") -> 0 | H22: =G22*E22 -> 0
B23: Farine T65 | C23: =IF([2]Brioche!E22>0,[2]Brioche!E22,"") | D23: =IF([2]Brioche!F22>0,[2]Brioche!F22,"") | G23: =IF(E23>0,[3]Feuil1!G23,"")
B24: Framboise | C24: =IF([2]Brioche!E23>0,[2]Brioche!E23,"") | D24: =IF([2]Brioche!F23>0,[2]Brioche!F23,"") | G24: =IF(E24>0,[3]Feuil1!G24,"")
B25: Gelatine | G25: =IF(E25>0,[3]Feuil1!G25,"")
B26: Gelée d'abricot | C26: =IF([2]Brioche!E24>0,[2]Brioche!E24,"") | D26: =IF([2]Brioche!F24>0,[2]Brioche!F24,"") | G26: =IF(E26>0,[3]Feuil1!G26,"")
B27: Gousse de vanille | C27: =IF([2]Brioche!E25>0,[2]Brioche!E25,"") | D27: =IF([2]Brioche!F25>0,[2]Brioche!F25,"") | G27: =IF(E27>0,[3]Feuil1!G27,"")
B28: Jaune d'œufs | C28: =IF([2]Brioche!E26>0,[2]Brioche!E26,"") | D28: =IF([2]Brioche!F26>0,[2]Brioche!F26,"") | G28: =IF(E28>0,[3]Feuil1!G28,"")
B29: Jus d'orange | C29: =IF([2]Brioche!E27>0,[2]Brioche!E27,"") | D29: =IF([2]Brioche!F27>0,[2]Brioche!F27,"") | G29: =IF(E29>0,[3]Feuil1!G29,"")
B30: Lait 1/2 écrémé | C30: =IF([2]Brioche!E28>0,[2]Brioche!E28,"") | D30: =IF([2]Brioche!F28>0,[2]Brioche!F28,"") | G30: =IF(E30>0,[3]Feuil1!G30,"")
B31: Lait entier | C31: =IF([2]Brioche!E29>0,[2]Brioche!E29,"") | D31: =IF([2]Brioche!F29>0,[2]Brioche!F29,"") | G31: =IF(E31>0,[3]Feuil1!G31,"")
B32: Levure boulangère | C32: =IF([2]Brioche!E30>0,[2]Brioche!E30,"") -> 3.75 | D32: =IF([2]Brioche!F30>0,[2]Brioche!F30,"") -> g | E32: =C32/1000 -> 0.00375 | F32: kg | G32: =IF(E32>0,[3]Feuil1!G32,"") -> 5.2579365
B33: Levure chimique | C33: =IF([2]Brioche!E31>0,[2]Brioche!E31,"") | D33: =IF([2]Brioche!F31>0,[2]Brioche!F31,"") | G33: =IF(E33>0,[3]Feuil1!G33,"")
B34: Maizena | C34: =IF([2]Brioche!E32>0,[2]Brioche!E32,"") | D34: =IF([2]Brioche!F32>0,[2]Brioche!F32,"") | G34: =IF(E34>0,[3]Feuil1!G34,"")
B35: Mandarine | C35: =IF([2]Brioche!E33>0,[2]Brioche!E33,"") | D35: =IF([2]Brioche!F33>0,[2]Brioche!F33,"") | G35: =IF(E35>0,[3]Feuil1!G35,"")
B36: Nappage neutre | C36: =IF([2]Brioche!E34>0,[2]Brioche!E34,"") | D36: =IF([2]Brioche!F34>0,[2]Brioche!F34,"") | G36: =IF(E36>0,[3]Feuil1!G36,"")
B37: Noix | C37: =IF([2]Brioche!E35>0,[2]Brioche!E35,"") | D37: =IF([2]Brioche!F35>0,[2]Brioche!F35,"") | G37: =IF(E37>0,[3]Feuil1!G37,"")
B38: Noix de coco | G38: =IF(E38>0,[3]Feuil1!G38,"")
B39: Noisette en poudre | G39: =IF(E39>0,[3]Feuil1!G39,"")
B40: Œufs entiers | C40: =IF([2]Brioche!E36>0,[2]Brioche!E36,"") -> 75 | D40: =IF([2]Brioche!F36>0,[2]Brioche!F36,"") -> g | E40: =C40/1000 -> 0.075 | F40: kg | G40: =IF(E40>0,[3]Feuil1!G40,"") -> 3.28 | H40: =G40*E40 -> 0.246
B41: Orange | G41: =IF(E41>0,[3]Feuil1!G41,"")
B42: Pâte à pistache | C42: =IF([2]Brioche!E38>0,[2]Brioche!E38,"") | D42: =IF([2]Brioche!F38>0,[2]Brioche!F38,"") | G42: =IF(E42>0,[3]Feuil1!G42,"")
B43: Pomme | C43: =IF([2]Brioche!E40>0,[2]Brioche!E40,"") | D43: =IF([2]Brioche!F40>0,[2]Brioche!F40,"") | G43: =IF(E43>0,[3]Feuil1!G43,"")
B44: Poire | G44: =IF(E44>0,[3]Feuil1!G44,"")
B45: Poudre à crème pâtissière | C45: =IF([2]Brioche!E41>0,[2]Brioche!E41,"") | D45: =IF([2]Brioche!F41>0,[2]Brioche!F41,"") | G45: =IF(E45>0,[3]Feuil1!G45,"")
B46: Poudre d'amandes | C46: =IF([2]Brioche!E42>0,[2]Brioche!E42,"") | D46: =IF([2]Brioche!F42>0,[2]Brioche!F42,"") | G46: =IF(E46>0,[3]Feuil1!G46,"")
B47: Poudre de lait | C47: =IF([2]Brioche!E43>0,[2]Brioche!E43,"") | D47: =IF([2]Brioche!F43>0,[2]Brioche!F43,"") | G47: =IF(E47>0,[3]Feuil1!G47,"")
B48: Poudre de noisettes | C48: =IF([2]Brioche!E44>0,[2]Brioche!E44,"") | D48: =IF([2]Brioche!F44>0,[2]Brioche!F44,"") | G48: =IF(E48>0,[3]Feuil1!G48,"")
B49: Praliné | C49: =IF([2]Brioche!E45>0,[2]Brioche!E45,"") | D49: =IF([2]Brioche!F45>0,[2]Brioche!F45,"") | G49: =IF(E49>0,[3]Feuil1!G49,"")
B50: Quetsche | G50: =IF(E50>0,[3]Feuil1!G50,"")
B51: Rhubarbe | G51: =IF(E51>0,[3]Feuil1!G51,"")
B52: Sel | C52: =IF([2]Brioche!E48>0,[2]Brioche!E48,"") -> 2.5 | D52: =IF([2]Brioche!F48>0,[2]Brioche!F48,"") -> g | E52: =C52/1000 -> 0.0025 | F52: kg | G52: =IF(E52>0,[3]Feuil1!G52,"") -> 0.2056 | H52: =G52*E52 -> 0.000514
B53: Sirop de glucose | C53: =IF([2]Brioche!E49>0,[2]Brioche!E49,"") | D53: =IF([2]Brioche!F49>0,[2]Brioche!F49,"") | G53: =IF(E53>0,[3]Feuil1!G53,"")
B54: Sucre glace | G54: =IF(E54>0,[3]Feuil1!G54,"")
B55: Sucre semoule | C55: =IF([2]Brioche!E50>0,[2]Brioche!E50,"") -> 16.25 | D55: =IF([2]Brioche!F50>0,[2]Brioche!F50,"") -> g | E55: =C55/1000 -> 0.01625 | F55: kg | G55: =IF(E55>0,[3]Feuil1!G55,"") -> 0.9 | H55: =G55*E55 -> 0.014625
C56: =IF([2]Brioche!E51>0,[2]Brioche!E51,"") | D56: =IF([2]Brioche!F51>0,[2]Brioche!F51,"") | G56: =IF(E56>0,[3]Feuil1!G56,"")
C57: =IF([2]Brioche!E52>0,[2]Brioche!E52,"") | D57: =IF([2]Brioche!F52>0,[2]Brioche!F52,"") | G57: =IF(E57>0,[3]Feuil1!G57,"")
C58: =IF([2]Brioche!E53>0,[2]Brioche!E53,"") | D58: =IF([2]Brioche!F53>0,[2]Brioche!F53,"") | G58: =IF(E58>0,[3]Feuil1!G58,"")
C59: =IF([2]Brioche!E54>0,[2]Brioche!E54,"") | D59: =IF([2]Brioche!F54>0,[2]Brioche!F54,"") | G59: =IF(E59>0,[3]Feuil1!G59,"")
C60: =IF([2]Brioche!E55>0,[2]Brioche!E55,"") | D60: =IF([2]Brioche!F55>0,[2]Brioche!F55,"") | G60: =IF(E60>0,[3]Feuil1!G60,"")
C61: =IF([2]Brioche!E56>0,[2]Brioche!E56,"") | D61: =IF([2]Brioche!F56>0,[2]Brioche!F56,"") | G61: =IF(E61>0,[3]Feuil1!G61,"")
C62: =IF([2]Brioche!E57>0,[2]Brioche!E57,"") | D62: =IF([2]Brioche!F57>0,[2]Brioche!F57,"") | G62: =IF(E62>0,[3]Feuil1!G62,"")
C63: =IF([2]Brioche!E58>0,[2]Brioche!E58,"") | D63: =IF([2]Brioche!F58>0,[2]Brioche!F58,"") | G63: =IF(E63>0,[3]Feuil1!G63,"")
C64: =IF([2]Brioche!E59>0,[2]Brioche!E59,"") | D64: =IF([2]Brioche!F59>0,[2]Brioche!F59,"") | G64: =IF(E64>0,[3]Feuil1!G64,"")
C65: =IF([2]Brioche!E60>0,[2]Brioche!E60,"") | D65: =IF([2]Brioche!F60>0,[2]Brioche!F60,"") | G65: =IF(E65>0,[3]Feuil1!G65,"")
C66: =IF([2]Brioche!E61>0,[2]Brioche!E61,"") | D66: =IF([2]Brioche!F61>0,[2]Brioche!F61,"") | G66: =IF(E66>0,[3]Feuil1!G66,"")
C67: =IF([2]Brioche!E62>0,[2]Brioche!E62,"") | D67: =IF([2]Brioche!F62>0,[2]Brioche!F62,"") | G67: =IF(E67>0,[3]Feuil1!G67,"")
... C71: =IF([2]Brioche!E66>0,[2]Brioche!E66,"") | D71: =IF([2]Brioche!F66>0,[2]Brioche!F66,"") | G71: =IF(E71>0,[3]Feuil1!G71,"")

Sheet Croissant
A1: =[2]Croissant!$A$1:$G$1 -> Croissant
B3: Désignation | C3: Quantités 1p | E3: Quantité au Kg | G3: Pu | H3: Pt
B4: Amande entière Blanche | G4: =IF(E4>0,[3]Feuil1!G3,"") | J4: Prix
B5: Amandes efffilés | C5: =IF([2]Croissant!E4>0,[2]Croissant!E4,"") | D5: =IF([2]Croissant!F4>0,[2]Croissant!F4,"") | G5: =IF(E5>0,[3]Feuil1!G4,"")
B6: Beurre | C6: =IF([2]Croissant!E5>0,[2]Croissant!E5,"") -> 34.375 | D6: =IF([2]Croissant!F5>0,[2]Croissant!F5,"") -> g | E6: =IF(C6>0,C6/1000,"") -> 0.034375 | F6: kg | G6: =IF(E6>0,[3]Feuil1!G5,"") -> 4.79 | H6: =G6*E6 -> 0.16465625
B7: Blanc d'œufs | C7: =IF([2]Croissant!E6>0,[2]Croissant!E6,"") | D7: =IF([2]Croissant!F6>0,[2]Croissant!F6,"") | G7: =IF(E7>0,[3]Feuil1!G6,"") | J7: =SUM(H4:H205) -> 0.18433632
B8: Cacao | C8: =IF([2]Croissant!E7>0,[2]Croissant!E7,"") | D8: =IF([2]Croissant!F7>0,[2]Croissant!F7,"") | G8: =IF(E8>0,[3]Feuil1!G7,"")
B9: Cannelle | C9: =IF([2]Croissant!E8>0,[2]Croissant!E8,"") | D9: =IF([2]Croissant!F8>0,[2]Croissant!F8,"") | G9: =IF(E9>0,[3]Feuil1!G8,"")
B10: Cerise | C10: =IF([2]Croissant!E9>0,[2]Croissant!E9,"") | D10: =IF([2]Croissant!F9>0,[2]Croissant!F9,"") | G10: =IF(E10>0,[3]Feuil1!G9,"")
B11: Chocolat blanc | C11: =IF([2]Croissant!E10>0,[2]Croissant!E10,"") | D11: =IF([2]Croissant!F10>0,[2]Croissant!F10,"") | G11: =IF(E11>0,[3]Feuil1!G10,"")
B12: Chocolat en pépite | C12: =IF([2]Croissant!E11>0,[2]Croissant!E11,"") | D12: =IF([2]Croissant!F11>0,[2]Croissant!F11,"") | G12: =IF(E12>0,[3]Feuil1!G11,"")
B13: Chocolat en pistole | C13: =IF([2]Croissant!E12>0,[2]Croissant!E12,"") | D13: =IF([2]Croissant!F12>0,[2]Croissant!F12,"") | G13: =IF(E13>0,[3]Feuil1!G12,"")
B14: Citron | C14: =IF([2]Croissant!E13>0,[2]Croissant!E13,"") | D14: =IF([2]Croissant!F13>0,[2]Croissant!F13,"") | G14: =IF(E14>0,[3]Feuil1!G13,"")
B15: Confiture de framboise | C15: =IF([2]Croissant!E14>0,[2]Croissant!E14,"") | D15: =IF([2]Croissant!F14>0,[2]Croissant!F14,"") | G15: =IF(E15>0,[3]Feuil1!G14,"")
B16: Colorant alimentaire | G16: =IF(E16>0,[3]Feuil1!G15,"")
B17: Coulis framboise | C17: =IF([2]Croissant!E15>0,[2]Croissant!E15,"") | D17: =IF([2]Croissant!F15>0,[2]Croissant!F15,"") | G17: =IF(E17>0,[3]Feuil1!G16,"")
B18: Coulis mangue | C18: =IF([2]Croissant!E16>0,[2]Croissant!E16,"") | D18: =IF([2]Croissant!F16>0,[2]Croissant!F16,"") | G18: =IF(E18>0,[3]Feuil1!G17,"")
B19: Eau | C19: =IF([2]Croissant!E17>0,[2]Croissant!E17,"") -> 34.375 | D19: =IF([2]Croissant!F17>0,[2]Croissant!F17,"") -> g | E19: =C19/1000 -> 0.034375 | F19: kg | G19: =IF(E19>0,[3]Feuil1!G18,"") -> 0 | H19: =G19*E19 -> 0
B20: Farine | C20: =IF([2]Croissant!E18>0,[2]Croissant!E18,"") | D20: =IF([2]Croissant!F18>0,[2]Croissant!F18,"") | G20: =IF(E20>0,[3]Feuil1!G19,"")
B21: Farine mi-crème | C21: =IF([2]Croissant!E19>0,[2]Croissant!E19,"") | D21: =IF([2]Croissant!F19>0,[2]Croissant!F19,"") | G21: =IF(E21>0,[3]Feuil1!G20,"")
B22: Farine T45 | C22: =IF([2]Croissant!E20>0,[2]Croissant!E20,"") -> 62.5 | D22: =IF([2]Croissant!F20>0,[2]Croissant!F20,"") -> g | E22: =C22/1000 -> 0.0625 | F22: kg | G22: =IF(E22>0,[3]Feuil1!G21,"") -> 0 | H22: =G22*E22 -> 0
B23: Farine T45 de gruau | C23: =IF([2]Croissant!E21>0,[2]Croissant!E21,"") | D23: =IF([2]Croissant!F21>0,[2]Croissant!F21,"") | G23: =IF(E23>0,[3]Feuil1!G22,"")
B24: Farinte T65 | C24: =IF([2]Croissant!E22>0,[2]Croissant!E22,"") | D24: =IF([2]Croissant!F22>0,[2]Croissant!F22,"") | G24: =IF(E24>0,[3]Feuil1!G23,"")
B25: Framboise | C25: =IF([2]Croissant!E23>0,[2]Croissant!E23,"") | D25: =IF([2]Croissant!F23>0,[2]Croissant!F23,"") | G25: =IF(E25>0,[3]Feuil1!G24,"")
B26: Gelatine | G26: =IF(E26>0,[3]Feuil1!G25,"")
B27: Gelée d'abricot | C27: =IF([2]Croissant!E24>0,[2]Croissant!E24,"") | D27: =IF([2]Croissant!F24>0,[2]Croissant!F24,"") | G27: =IF(E27>0,[3]Feuil1!G26,"")
B28: Gousse de vanille | C28: =IF([2]Croissant!E25>0,[2]Croissant!E25,"") | D28: =IF([2]Croissant!F25>0,[2]Croissant!F25,"") | G28: =IF(E28>0,[3]Feuil1!G27,"")
B29: Jaune d'œufs | C29: =IF([2]Croissant!E26>0,[2]Croissant!E26,"") | D29: =IF([2]Croissant!F26>0,[2]Croissant!F26,"") | G29: =IF(E29>0,[3]Feuil1!G28,"")
B30: Jus d'orange | C30: =IF([2]Croissant!E27>0,[2]Croissant!E27,"") | D30: =IF([2]Croissant!F27>0,[2]Croissant!F27,"") | G30: =IF(E30>0,[3]Feuil1!G29,"")
B31: Lait 1/2 écrémé | C31: =IF([2]Croissant!E28>0,[2]Croissant!E28,"") | D31: =IF([2]Croissant!F28>0,[2]Croissant!F28,"") | G31: =IF(E31>0,[3]Feuil1!G30,"")
B32: Lait entier | C32: =IF([2]Croissant!E29>0,[2]Croissant!E29,"") | D32: =IF([2]Croissant!F29>0,[2]Croissant!F29,"") | G32: =IF(E32>0,[3]Feuil1!G31,"")
B33: Levure boulangère | C33: =IF([2]Croissant!E30>0,[2]Croissant!E30,"") -> 0.9375 | D33: =IF([2]Croissant!F30>0,[2]Croissant!F30,"") -> g | E33: =C33/1000 -> 0.0009375 | F33: kg | G33: =IF(E33>0,[3]Feuil1!G32,"") -> 5.2579365 | H33: =G33*E33 -> 0.0049293155
B34: Levure chimique | C34: =IF([2]Croissant!E31>0,[2]Croissant!E31,"") | D34: =IF([2]Croissant!F31>0,[2]Croissant!F31,"") | G34: =IF(E34>0,[3]Feuil1!G33,"")
B35: Maizena | C35: =IF([2]Croissant!E32>0,[2]Croissant!E32,"") | D35: =IF([2]Croissant!F32>0,[2]Croissant!F32,"") | G35: =IF(E35>0,[3]Feuil1!G34,"")
B36: Mandarine | C36: =IF([2]Croissant!E33>0,[2]Croissant!E33,"") | D36: =IF([2]Croissant!F33>0,[2]Croissant!F33,"") | G36: =IF(E36>0,[3]Feuil1!G35,"")
B37: Nappage neutre | C37: =IF([2]Croissant!E34>0,[2]Croissant!E34,"") | D37: =IF([2]Croissant!F34>0,[2]Croissant!F34,"") | G37: =IF(E37>0,[3]Feuil1!G36,"")
B38: Noix | C38: =IF([2]Croissant!E35>0,[2]Croissant!E35,"") | D38: =IF([2]Croissant!F35>0,[2]Croissant!F35,"") | G38: =IF(E38>0,[3]Feuil1!G37,"")
B39: Noix de coco | G39: =IF(E39>0,[3]Feuil1!G38,"")
B40: Noisette en Poudre | G40: =IF(E40>0,[3]Feuil1!G39,"")
B41: Œufs entiers | C41: =IF([2]Croissant!E36>0,[2]Croissant!E36,"") -> 60 | D41: =IF([2]Croissant!F36>0,[2]Croissant!F36,"") -> g | G41: =IF(E41>0,[3]Feuil1!G40,"")
B42: Orange | C42: =IF([2]Croissant!E37>0,[2]Croissant!E37,"") | D42: =IF([2]Croissant!F37>0,[2]Croissant!F37,"") | G42: =IF(E42>0,[3]Feuil1!G41,"")
B43: Pâte à pistache | C43: =IF([2]Croissant!E38>0,[2]Croissant!E38,"") | D43: =IF([2]Croissant!F38>0,[2]Croissant!F38,"") | G43: =IF(E43>0,[3]Feuil1!G42,"")
B44: Pomme | C44: =IF([2]Croissant!E39>0,[2]Croissant!E39,"") | D44: =IF([2]Croissant!F39>0,[2]Croissant!F39,"") | G44: =IF(E44>0,[3]Feuil1!G43,"")
B45: Poire | C45: =IF([2]Croissant!E40>0,[2]Croissant!E40,"") | D45: =IF([2]Croissant!F40>0,[2]Croissant!F40,"") | G45: =IF(E45>0,[3]Feuil1!G44,"")
B46: Poudre à crème pâtissière | C46: =IF([2]Croissant!E41>0,[2]Croissant!E41,"") | D46: =IF([2]Croissant!F41>0,[2]Croissant!F41,"") | G46: =IF(E46>0,[3]Feuil1!G45,"")
B47: Poudre d'amandes | C47: =IF([2]Croissant!E42>0,[2]Croissant!E42,"") | D47: =IF([2]Croissant!F42>0,[2]Croissant!F42,"") | G47: =IF(E47>0,[3]Feuil1!G46,"")
B48: Poudre de lait | C48: =IF([2]Croissant!E43>0,[2]Croissant!E43,"") -> 1.875 | D48: =IF([2]Croissant!F43>0,[2]Croissant!F43,"") -> g | E48: =C48/1000 -> 0.001875 | F48: kg | G48: =IF(E48>0,[3]Feuil1!G47,"") -> 4.73 | H48: =G48*E48 -> 0.00886875
B49: Poudre de noisettes | C49: =IF([2]Croissant!E44>0,[2]Croissant!E44,"") | D49: =IF([2]Croissant!F44>0,[2]Croissant!F44,"") | G49: =IF(E49>0,[3]Feuil1!G48,"")
B50: Praliné | C50: =IF([2]Croissant!E45>0,[2]Croissant!E45,"") | D50: =IF([2]Croissant!F45>0,[2]Croissant!F45,"") | G50: =IF(E50>0,[3]Feuil1!G49,"")
B51: Quetsches | C51: =IF([2]Croissant!E46>0,[2]Croissant!E46,"") | D51: =IF([2]Croissant!F46>0,[2]Croissant!F46,"") | G51: =IF(E51>0,[3]Feuil1!G50,"")
B52: Rhubarbe | C52: =IF([2]Croissant!E47>0,[2]Croissant!E47,"") | D52: =IF([2]Croissant!F47>0,[2]Croissant!F47,"") | G52: =IF(E52>0,[3]Feuil1!G51,"")
B53: Sel | C53: =IF([2]Croissant!E48>0,[2]Croissant!E48,"") -> 1.25 | D53: =IF([2]Croissant!F48>0,[2]Croissant!F48,"") -> g | E53: =C53/1000 -> 0.00125 | F53: kg | G53: =IF(E53>0,[3]Feuil1!G52,"") -> 0.2056 | H53: =G53*E53 -> 0.000257
B54: Sirop de glucose | C54: =IF([2]Croissant!E49>0,[2]Croissant!E49,"") | D54: =IF([2]Croissant!F49>0,[2]Croissant!F49,"") | G54: =IF(E54>0,[3]Feuil1!G53,"")
B55: Sucre glace | G55: =IF(E55>0,[3]Feuil1!G54,"")
B56: Sucre semoule | C56: =IF([2]Croissant!E50>0,[2]Croissant!E50,"") -> 6.25 | D56: =IF([2]Croissant!F50>0,[2]Croissant!F50,"") -> g | E56: =C56/1000 -> 0.00625 | F56: kg | G56: =IF(E56>0,[3]Feuil1!G55,"") -> 0.9 | H56: =G56*E56 -> 0.005625
C57: =IF([2]Croissant!E51>0,[2]Croissant!E51,"") | D57: =IF([2]Croissant!F51>0,[2]Croissant!F51,"") | G57: =IF(E57>0,[3]Feuil1!G56,"")
C58: =IF([2]Croissant!E52>0,[2]Croissant!E52,"") | D58: =IF([2]Croissant!F52>0,[2]Croissant!F52,"") | G58: =IF(E58>0,[3]Feuil1!G57,"")
C59: =IF([2]Croissant!E53>0,[2]Croissant!E53,"") | D59: =IF([2]Croissant!F53>0,[2]Croissant!F53,"") | G59: =IF(E59>0,[3]Feuil1!G58,"")
C60: =IF([2]Croissant!E54>0,[2]Croissant!E54,"") | D60: =IF([2]Croissant!F54>0,[2]Croissant!F54,"") | G60: =IF(E60>0,[3]Feuil1!G59,"")
C61: =IF([2]Croissant!E55>0,[2]Croissant!E55,"") | D61: =IF([2]Croissant!F55>0,[2]Croissant!F55,"") | G61: =IF(E61>0,[3]Feuil1!G60,"")
C62: =IF([2]Croissant!E56>0,[2]Croissant!E56,"") | D62: =IF([2]Croissant!F56>0,[2]Croissant!F56,"") | G62: =IF(E62>0,[3]Feuil1!G61,"")
C63: =IF([2]Croissant!E57>0,[2]Croissant!E57,"") | D63: =IF([2]Croissant!F57>0,[2]Croissant!F57,"") | G63: =IF(E63>0,[3]Feuil1!G62,"")
C64: =IF([2]Croissant!E58>0,[2]Croissant!E58,"") | D64: =IF([2]Croissant!F58>0,[2]Croissant!F58,"") | G64: =IF(E64>0,[3]Feuil1!G63,"")
C65: =IF([2]Croissant!E59>0,[2]Croissant!E59,"") | D65: =IF([2]Croissant!F59>0,[2]Croissant!F59,"") | G65: =IF(E65>0,[3]Feuil1!G64,"")
C66: =IF([2]Croissant!E60>0,[2]Croissant!E60,"") | D66: =IF([2]Croissant!F60>0,[2]Croissant!F60,"") | G66: =IF(E66>0,[3]Feuil1!G65,"")
C67: =IF([2]Croissant!E61>0,[2]Croissant!E61,"") | D67: =IF([2]Croissant!F61>0,[2]Croissant!F61,"") | G67: =IF(E67>0,[3]Feuil1!G66,"")
C68: =IF([2]Croissant!E62>0,[2]Croissant!E62,"") | D68: =IF([2]Croissant!F62>0,[2]Croissant!F62,"") | G68: =IF(E68>0,[3]Feuil1!G67,"")
... C205: =IF([2]Croissant!E199>0,[2]Croissant!E199,"") | D205: =IF([2]Croissant!F199>0,[2]Croissant!F199,"") | G205: =IF(E205>0,[3]Feuil1!G204,"")

Sheet Framboisier
A1: =[2]Framboisier!$A$1:$G$1 -> Framboisier
B3: Désignation | C3: Quantités
B4: Amandes efffilés
B5: Beurre | C5: 360 | D5: g
B6: Blanc d'œufs | C6: 370 | D6: g
B7: Cacao
B8: Cannelle
B9: Cerise
B10: Chocolat blanc
B11: Chocolat en pépite
B12: Chocolat en pistole
B13: Citron
B14: Confiture de framboise
B15: Colorant alimentaire
B16: Coulis framboise
B17: Coulis mangue
B18: Eau | C18: 140 | D18: g
B19: Farine
B20: Farine mi-crème
B21: Farine T45
B22: Farine T45 de gruau
B23: Farine T65
B24: Framboise
B25: Gelatine
B26: Gelée d'abricot
B27: Gousse de vanille
B28: Jaune d'œufs | C28: 100 | D28: g
B29: Jus d'orange
B30: Lait 1/2 écrémé
B31: Lait entier
B32: Levure boulangère
B33: Levure chimique
B34: Maizena
B35: Mandarine
B36: Nappage neutre
B37: Noix
B38: Noix de coco
B39: Noisette en poudre
B40: Œufs
... B45: Poudre à crème pâtissière
B46: Poudre d'amandes | C46: 230 | D46: g
B47: Poudre de lait
B48: Poudre de noisettes | C48: 70 | D48: g
B49: Praliné
B50: Quetsches
B51: Rhubarbe
B52: Sel
B53: Sirop de glucose
B54: Sucre glace
B55: Sucre semoule | C55: 645 | D55: g

Sheet Pain viennois
A1: ='[2]Pain viennois'!$A$1:$G$1 -> Pain Viennois
B3: Désignation | C3: Quantités 1p | E3: Quantité au Kg | G3: PU | H3: PT
B4: Amande entière blanche | G4: =IF(E4>0,[3]Feuil1!G3,"") | J4: Prix
B5: Amandes efffilés | C5: =IF('[2]Pain viennois'!E4>0,'[2]Pain viennois'!E4,"") | D5: =IF('[2]Pain viennois'!F4>0,'[2]Pain viennois'!F4,"") | G5: =IF(E5>0,[3]Feuil1!G4,"")
B6: Beurre | C6: =IF('[2]Pain viennois'!E5>0,'[2]Pain viennois'!E5,"") -> 31.25 | D6: =IF('[2]Pain viennois'!F5>0,'[2]Pain viennois'!F5,"") -> g | E6: =C6/1000 -> 0.03125 | F6: kg | G6: =IF(E6>0,[3]Feuil1!G5,"") -> 4.79 | H6: =G6*E6 -> 0.1496875
B7: Blanc d'œufs | C7: =IF('[2]Pain viennois'!E6>0,'[2]Pain viennois'!E6,"") | D7: =IF('[2]Pain viennois'!F6>0,'[2]Pain viennois'!F6,"") | G7: =IF(E7>0,[3]Feuil1!G6,"") | J7: =SUM(H4:H207) -> 0.33198126
B8: Cacao | C8: =IF('[2]Pain viennois'!E7>0,'[2]Pain viennois'!E7,"") | D8: =IF('[2]Pain viennois'!F7>0,'[2]Pain viennois'!F7,"") | G8: =IF(E8>0,[3]Feuil1!G7,"")
B9: Cannelle | C9: =IF('[2]Pain viennois'!E8>0,'[2]Pain viennois'!E8,"") | D9: =IF('[2]Pain viennois'!F8>0,'[2]Pain viennois'!F8,"") | G9: =IF(E9>0,[3]Feuil1!G8,"")
B10: Cerise | C10: =IF('[2]Pain viennois'!E9>0,'[2]Pain viennois'!E9,"") | D10: =IF('[2]Pain viennois'!F9>0,'[2]Pain viennois'!F9,"") | G10: =IF(E10>0,[3]Feuil1!G9,"")
B11: Chocolat blanc | C11: =IF('[2]Pain viennois'!E10>0,'[2]Pain viennois'!E10,"") | D11: =IF('[2]Pain viennois'!F10>0,'[2]Pain viennois'!F10,"") | G11: =IF(E11>0,[3]Feuil1!G10,"")
B12: Chocolat en pépite | C12: =IF('[2]Pain viennois'!E11>0,'[2]Pain viennois'!E11,"") | D12: =IF('[2]Pain viennois'!F11>0,'[2]Pain viennois'!F11,"") | G12: =IF(E12>0,[3]Feuil1!G11,"")
B13: Chocolat en pistole | C13: =IF('[2]Pain viennois'!E12>0,'[2]Pain viennois'!E12,"") | D13: =IF('[2]Pain viennois'!F12>0,'[2]Pain viennois'!F12,"") | G13: =IF(E13>0,[3]Feuil1!G12,"")
B14: Citron | C14: =IF('[2]Pain viennois'!E13>0,'[2]Pain viennois'!E13,"") | D14: =IF('[2]Pain viennois'!F13>0,'[2]Pain viennois'!F13,"") | G14: =IF(E14>0,[3]Feuil1!G13,"")
B15: Confiture de framboise | C15: =IF('[2]Pain viennois'!E14>0,'[2]Pain viennois'!E14,"") | D15: =IF('[2]Pain viennois'!F14>0,'[2]Pain viennois'!F14,"") | G15: =IF(E15>0,[3]Feuil1!G14,"")
B16: Colorant alimentaire | G16: =IF(E16>0,[3]Feuil1!G15,"")
B17: Coulis framboise | C17: =IF('[2]Pain viennois'!E15>0,'[2]Pain viennois'!E15,"") | D17: =IF('[2]Pain viennois'!F15>0,'[2]Pain viennois'!F15,"") | G17: =IF(E17>0,[3]Feuil1!G16,"")
B18: Coulis mangue | C18: =IF('[2]Pain viennois'!E16>0,'[2]Pain viennois'!E16,"") | D18: =IF('[2]Pain viennois'!F16>0,'[2]Pain viennois'!F16,"") | G18: =IF(E18>0,[3]Feuil1!G17,"")
B19: Eau | C19: =IF('[2]Pain viennois'!E17>0,'[2]Pain viennois'!E17,"") -> 68.75 | D19: =IF('[2]Pain viennois'!F17>0,'[2]Pain viennois'!F17,"") -> g | E19: =C19/1000 -> 0.06875 | F19: kg | G19: =IF(E19>0,[3]Feuil1!G18,"") -> 0 | H19: =G19*E19 -> 0
B20: Farine | C20: =IF('[2]Pain viennois'!E18>0,'[2]Pain viennois'!E18,"") | D20: =IF('[2]Pain viennois'!F18>0,'[2]Pain viennois'!F18,"") | G20: =IF(E20>0,[3]Feuil1!G19,"")
B21: Farine mi-crème | C21: =IF('[2]Pain viennois'!E19>0,'[2]Pain viennois'!E19,"") -> 125 | D21: =IF('[2]Pain viennois'!F19>0,'[2]Pain viennois'!F19,"") -> g | E21: =C21/1000 -> 0.125 | F21: kg | G21: =IF(E21>0,[3]Feuil1!G20,"") -> 0.97 | H21: =G21*E21 -> 0.12125
B22: Farine T45 | C22: =IF('[2]Pain viennois'!E20>0,'[2]Pain viennois'!E20,"") | D22: =IF('[2]Pain viennois'!F20>0,'[2]Pain viennois'!F20,"") | G22: =IF(E22>0,[3]Feuil1!G21,"")
B23: Farine T45 de gruau | C23: =IF('[2]Pain viennois'!E21>0,'[2]Pain viennois'!E21,"") | D23: =IF('[2]Pain viennois'!F21>0,'[2]Pain viennois'!F21,"") | G23: =IF(E23>0,[3]Feuil1!G22,"")
B24: Farine T65 | C24: =IF('[2]Pain viennois'!E22>0,'[2]Pain viennois'!E22,"") | D24: =IF('[2]Pain viennois'!F22>0,'[2]Pain viennois'!F22,"") | G24: =IF(E24>0,[3]Feuil1!G23,"")
B25: Framboise | C25: =IF('[2]Pain viennois'!E23>0,'[2]Pain viennois'!E23,"") | D25: =IF('[2]Pain viennois'!F23>0,'[2]Pain viennois'!F23,"") | G25: =IF(E25>0,[3]Feuil1!G24,"")
B26: Gelatine | G26: =IF(E26>0,[3]Feuil1!G25,"")
B27: Gelée d'abricot | C27: =IF('[2]Pain viennois'!E24>0,'[2]Pain viennois'!E24,"") | D27: =IF('[2]Pain viennois'!F24>0,'[2]Pain viennois'!F24,"") | G27: =IF(E27>0,[3]Feuil1!G26,"")
B28: Gousse de vanille | C28: =IF('[2]Pain viennois'!E25>0,'[2]Pain viennois'!E25,"") | D28: =IF('[2]Pain viennois'!F25>0,'[2]Pain viennois'!F25,"") | G28: =IF(E28>0,[3]Feuil1!G27,"")
B29: Jaune d'œufs | C29: =IF('[2]Pain viennois'!E26>0,'[2]Pain viennois'!E26,"") | D29: =IF('[2]Pain viennois'!F26>0,'[2]Pain viennois'!F26,"") | G29: =IF(E29>0,[3]Feuil1!G28,"")
B30: Jus d'orange | C30: =IF('[2]Pain viennois'!E27>0,'[2]Pain viennois'!E27,"") | D30: =IF('[2]Pain viennois'!F27>0,'[2]Pain viennois'!F27,"") | G30: =IF(E30>0,[3]Feuil1!G29,"")
B31: Lait 1/2 écrémé | C31: =IF('[2]Pain viennois'!E28>0,'[2]Pain viennois'!E28,"") | D31: =IF('[2]Pain viennois'!F28>0,'[2]Pain viennois'!F28,"") | G31: =IF(E31>0,[3]Feuil1!G30,"")
B32: Lait entier | C32: =IF('[2]Pain viennois'!E29>0,'[2]Pain viennois'!E29,"") | D32: =IF('[2]Pain viennois'!F29>0,'[2]Pain viennois'!F29,"") | G32: =IF(E32>0,[3]Feuil1!G31,"")
B33: Levure boulangère | C33: =IF('[2]Pain viennois'!E30>0,'[2]Pain viennois'!E30,"") -> 3.75 | D33: =IF('[2]Pain viennois'!F30>0,'[2]Pain viennois'!F30,"") -> g | E33: =C33/1000 -> 0.00375 | F33: kg | G33: =IF(E33>0,[3]Feuil1!G32,"") -> 5.2579365 | H33: =G33*E33 -> 0.019717262
B34: Levure chimique | C34: =IF('[2]Pain viennois'!E31>0,'[2]Pain viennois'!E31,"") | D34: =IF('[2]Pain viennois'!F31>0,'[2]Pain viennois'!F31,"") | G34: =IF(E34>0,[3]Feuil1!G33,"")
B35: Maizena | C35: =IF('[2]Pain viennois'!E32>0,'[2]Pain viennois'!E32,"") | D35: =IF('[2]Pain viennois'!F32>0,'[2]Pain viennois'!F32,"") | G35: =IF(E35>0,[3]Feuil1!G34,"")
B36: Mandarine | C36: =IF('[2]Pain viennois'!E33>0,'[2]Pain viennois'!E33,"") | D36: =IF('[2]Pain viennois'!F33>0,'[2]Pain viennois'!F33,"") | G36: =IF(E36>0,[3]Feuil1!G35,"")
B37: Nappage neutre | C37: =IF('[2]Pain viennois'!E34>0,'[2]Pain viennois'!E34,"") | D37: =IF('[2]Pain viennois'!F34>0,'[2]Pain viennois'!F34,"") | G37: =IF(E37>0,[3]Feuil1!G36,"")
B38: Noix | C38: =IF('[2]Pain viennois'!E35>0,'[2]Pain viennois'!E35,"") | D38: =IF('[2]Pain viennois'!F35>0,'[2]Pain viennois'!F35,"") | G38: =IF(E38>0,[3]Feuil1!G37,"")
B39: Noix de coco | G39: =IF(E39>0,[3]Feuil1!G38,"")
B40: Noisette en poudre | G40: =IF(E40>0,[3]Feuil1!G39,"")
B41: Œufs entiers | C41: =IF('[2]Pain viennois'!E36>0,'[2]Pain viennois'!E36,"") | D41: =IF('[2]Pain viennois'!F36>0,'[2]Pain viennois'!F36,"") | G41: =IF(E41>0,[3]Feuil1!G40,"")
B42: Orange | C42: =IF('[2]Pain viennois'!E37>0,'[2]Pain viennois'!E37,"") | D42: =IF('[2]Pain viennois'!F37>0,'[2]Pain viennois'!F37,"") | G42: =IF(E42>0,[3]Feuil1!G41,"")
B43: Pâte à pistache | C43: =IF('[2]Pain viennois'!E38>0,'[2]Pain viennois'!E38,"") | D43: =IF('[2]Pain viennois'!F38>0,'[2]Pain viennois'!F38,"") | G43: =IF(E43>0,[3]Feuil1!G42,"")
B44: Poire | C44: =IF('[2]Pain viennois'!E39>0,'[2]Pain viennois'!E39,"") | D44: =IF('[2]Pain viennois'!F39>0,'[2]Pain viennois'!F39,"") | G44: =IF(E44>0,[3]Feuil1!G43,"")
B45: Pomme | C45: =IF('[2]Pain viennois'!E40>0,'[2]Pain viennois'!E40,"") | D45: =IF('[2]Pain viennois'!F40>0,'[2]Pain viennois'!F40,"") | G45: =IF(E45>0,[3]Feuil1!G44,"")
B46: Poudre à crème pâtissière | C46: =IF('[2]Pain viennois'!E41>0,'[2]Pain viennois'!E41,"") | D46: =IF('[2]Pain viennois'!F41>0,'[2]Pain viennois'!F41,"") | G46: =IF(E46>0,[3]Feuil1!G45,"")
B47: Poudre d'amandes | C47: =IF('[2]Pain viennois'!E42>0,'[2]Pain viennois'!E42,"") | D47: =IF('[2]Pain viennois'!F42>0,'[2]Pain viennois'!F42,"") | G47: =IF(E47>0,[3]Feuil1!G46,"")
B48: Poudre de lait | C48: =IF('[2]Pain viennois'!E43>0,'[2]Pain viennois'!E43,"") -> 6.25 | D48: =IF('[2]Pain viennois'!F43>0,'[2]Pain viennois'!F43,"") | E48: =C48/1000 -> 0.00625 | F48: kg | G48: =IF(E48>0,[3]Feuil1!G47,"") -> 4.73 | H48: =G48*E48 -> 0.0295625
B49: Poudre de noisettes | C49: =IF('[2]Pain viennois'!E44>0,'[2]Pain viennois'!E44,"") | D49: =IF('[2]Pain viennois'!F44>0,'[2]Pain viennois'!F44,"") | G49: =IF(E49>0,[3]Feuil1!G48,"")
B50: Praliné | C50: =IF('[2]Pain viennois'!E45>0,'[2]Pain viennois'!E45,"") | D50: =IF('[2]Pain viennois'!F45>0,'[2]Pain viennois'!F45,"") | G50: =IF(E50>0,[3]Feuil1!G49,"")
B51: Quetsches | C51: =IF('[2]Pain viennois'!E46>0,'[2]Pain viennois'!E46,"") | D51: =IF('[2]Pain viennois'!F46>0,'[2]Pain viennois'!F46,"") | G51: =IF(E51>0,[3]Feuil1!G50,"")
B52: Rhubarbe | C52: =IF('[2]Pain viennois'!E47>0,'[2]Pain viennois'!E47,"") | D52: =IF('[2]Pain viennois'!F47>0,'[2]Pain viennois'!F47,"") | G52: =IF(E52>0,[3]Feuil1!G51,"")
B53: Sel | C53: =IF('[2]Pain viennois'!E48>0,'[2]Pain viennois'!E48,"") -> 2.5 | D53: =IF('[2]Pain viennois'!F48>0,'[2]Pain viennois'!F48,"") -> g | E53: =C53/1000 -> 0.0025 | F53: kg | G53: =IF(E53>0,[3]Feuil1!G52,"") -> 0.2056 | H53: =G53*E53 -> 0.000514
B54: Sirop de glucose | C54: =IF('[2]Pain viennois'!E49>0,'[2]Pain viennois'!E49,"") | D54: =IF('[2]Pain viennois'!F49>0,'[2]Pain viennois'!F49,"") | G54: =IF(E54>0,[3]Feuil1!G53,"")
B55: Sucre glace | G55: =IF(E55>0,[3]Feuil1!G54,"")
B56: Sucre semoule | C56: =IF('[2]Pain viennois'!E50>0,'[2]Pain viennois'!E50,"") -> 12.5 | D56: =IF('[2]Pain viennois'!F50>0,'[2]Pain viennois'!F50,"") -> g | E56: =C56/1000 -> 0.0125 | F56: kg | G56: =IF(E56>0,[3]Feuil1!G55,"") -> 0.9 | H56: =G56*E56 -> 0.01125
C57: =IF('[2]Pain viennois'!E51>0,'[2]Pain viennois'!E51,"") | D57: =IF('[2]Pain viennois'!F51>0,'[2]Pain viennois'!F51,"") | G57: =IF(E57>0,[3]Feuil1!G56,"")
C58: =IF('[2]Pain viennois'!E52>0,'[2]Pain viennois'!E52,"") | D58: =IF('[2]Pain viennois'!F52>0,'[2]Pain viennois'!F52,"") | G58: =IF(E58>0,[3]Feuil1!G57,"")
C59: =IF('[2]Pain viennois'!E53>0,'[2]Pain viennois'!E53,"") | D59: =IF('[2]Pain viennois'!F53>0,'[2]Pain viennois'!F53,"") | G59: =IF(E59>0,[3]Feuil1!G58,"")
C60: =IF('[2]Pain viennois'!E54>0,'[2]Pain viennois'!E54,"") | D60: =IF('[2]Pain viennois'!F54>0,'[2]Pain viennois'!F54,"") | G60: =IF(E60>0,[3]Feuil1!G59,"")
C61: =IF('[2]Pain viennois'!E55>0,'[2]Pain viennois'!E55,"") | D61: =IF('[2]Pain viennois'!F55>0,'[2]Pain viennois'!F55,"") | G61: =IF(E61>0,[3]Feuil1!G60,"")
C62: =IF('[2]Pain viennois'!E56>0,'[2]Pain viennois'!E56,"") | D62: =IF('[2]Pain viennois'!F56>0,'[2]Pain viennois'!F56,"") | G62: =IF(E62>0,[3]Feuil1!G61,"")
C63: =IF('[2]Pain viennois'!E57>0,'[2]Pain viennois'!E57,"") | D63: =IF('[2]Pain viennois'!F57>0,'[2]Pain viennois'!F57,"") | G63: =IF(E63>0,[3]Feuil1!G62,"")
C64: =IF('[2]Pain viennois'!E58>0,'[2]Pain viennois'!E58,"") | D64: =IF('[2]Pain viennois'!F58>0,'[2]Pain viennois'!F58,"") | G64: =IF(E64>0,[3]Feuil1!G63,"")
C65: =IF('[2]Pain viennois'!E59>0,'[2]Pain viennois'!E59,"") | D65: =IF('[2]Pain viennois'!F59>0,'[2]Pain viennois'!F59,"") | G65: =IF(E65>0,[3]Feuil1!G64,"")
C66: =IF('[2]Pain viennois'!E60>0,'[2]Pain viennois'!E60,"") | D66: =IF('[2]Pain viennois'!F60>0,'[2]Pain viennois'!F60,"") | G66: =IF(E66>0,[3]Feuil1!G65,"")
C67: =IF('[2]Pain viennois'!E61>0,'[2]Pain viennois'!E61,"") | D67: =IF('[2]Pain viennois'!F61>0,'[2]Pain viennois'!F61,"") | G67: =IF(E67>0,[3]Feuil1!G66,"")
C68: =IF('[2]Pain viennois'!E62>0,'[2]Pain viennois'!E62,"") | D68: =IF('[2]Pain viennois'!F62>0,'[2]Pain viennois'!F62,"") | G68: =IF(E68>0,[3]Feuil1!G67,"")
... C78: =IF('[2]Pain viennois'!E72>0,'[2]Pain viennois'!E72,"") | D78: =IF('[2]Pain viennois'!F72>0,'[2]Pain viennois'!F72,"") | G78: =IF(E78>0,[3]Feuil1!G77,"")
G79: =IF(E79>0,[3]Feuil1!G78,"")
G80: =IF(E80>0,[3]Feuil1!G79,"")
G81: =IF(E81>0,[3]Feuil1!G80,"")
G82: =IF(E82>0,[3]Feuil1!G81,"")
G83: =IF(E83>0,[3]Feuil1!G82,"")
G84: =IF(E84>0,[3]Feuil1!G83,"")
G85: =IF(E85>0,[3]Feuil1!G84,"")
G86: =IF(E86>0,[3]Feuil1!G85,"")
G87: =IF(E87>0,[3]Feuil1!G86,"")
G88: =IF(E88>0,[3]Feuil1!G87,"")
G89: =IF(E89>0,[3]Feuil1!G88,"")
G90: =IF(E90>0,[3]Feuil1!G89,"")
... G205: =IF(E205>0,[3]Feuil1!G204,"")
G206: =IF(E206>0,[3]Feuil1!G204,"")

Sheet Paris Brest
A1: ='[2]Paris Brest'!$A$1:$G$1 -> Paris Brest
B3: Désignation | C3: Quantités 1p | E3: Quantité au Kg | G3: Pu | H3: PT
B4: Amande entière blanche | G4: =IF(E4>0,[3]Feuil1!G3,"")
B5: Amandes efffilés | C5: =IF('[2]Paris Brest'!E4>0,'[2]Paris Brest'!E4,"") -> 1 | D5: =IF('[2]Paris Brest'!F4>0,'[2]Paris Brest'!F4,"") -> g | E5: =C5/1000 -> 0.001 | F5: kg | G5: =IF(E5>0,[3]Feuil1!G4,"") -> 13.87 | H5: =IF(C5>0,E5*G5,"") -> 0.01387 | J5: Prix
B6: Beurre | C6: =IF('[2]Paris Brest'!E5>0,'[2]Paris Brest'!E5,"") -> 23.25 | D6: =IF('[2]Paris Brest'!F5>0,'[2]Paris Brest'!F5,"") -> g | E6: =C6/1000 -> 0.02325 | F6: kg | G6: =IF(E6>0,[3]Feuil1!G5,"") -> 4.79 | H6: =IF(C6>0,E6*G6,"") -> 0.1113675
B7: Blanc d'œufs | C7: =IF('[2]Paris Brest'!E6>0,'[2]Paris Brest'!E6,"") -> 3.5 | D7: =IF('[2]Paris Brest'!F6>0,'[2]Paris Brest'!F6,"") -> g | E7: =C7/1000 -> 0.0035 | F7: kg | G7: =IF(E7>0,[3]Feuil1!G6,"") -> 4.08 | H7: =IF(C7>0,E7*G7,"") -> 0.01428
B8: Cacao | C8: =IF('[2]Paris Brest'!E7>0,'[2]Paris Brest'!E7,"") | D8: =IF('[2]Paris Brest'!F7>0,'[2]Paris Brest'!F7,"") | G8: =IF(E8>0,[3]Feuil1!G7,"") | J8: =SUM(H4:H205) -> 0.29133285
B9: Cannelle | C9: =IF('[2]Paris Brest'!E8>0,'[2]Paris Brest'!E8,"") | D9: =IF('[2]Paris Brest'!F8>0,'[2]Paris Brest'!F8,"") | G9: =IF(E9>0,[3]Feuil1!G8,"")
B10: Cerise | C10: =IF('[2]Paris Brest'!E9>0,'[2]Paris Brest'!E9,"") | D10: =IF('[2]Paris Brest'!F9>0,'[2]Paris Brest'!F9,"") | G10: =IF(E10>0,[3]Feuil1!G9,"")
B11: Chocolat blanc | C11: =IF('[2]Paris Brest'!E10>0,'[2]Paris Brest'!E10,"") | D11: =IF('[2]Paris Brest'!F10>0,'[2]Paris Brest'!F10,"") | G11: =IF(E11>0,[3]Feuil1!G10,"")
B12: Chocolat en pépite | C12: =IF('[2]Paris Brest'!E11>0,'[2]Paris Brest'!E11,"") | D12: =IF('[2]Paris Brest'!F11>0,'[2]Paris Brest'!F11,"") | G12: =IF(E12>0,[3]Feuil1!G11,"")
B13: Chocolat en pistole | C13: =IF('[2]Paris Brest'!E12>0,'[2]Paris Brest'!E12,"") | D13: =IF('[2]Paris Brest'!F12>0,'[2]Paris Brest'!F12,"") | G13: =IF(E13>0,[3]Feuil1!G12,"")
B14: Citron | C14: =IF('[2]Paris Brest'!E13>0,'[2]Paris Brest'!E13,"") | D14: =IF('[2]Paris Brest'!F13>0,'[2]Paris Brest'!F13,"") | G14: =IF(E14>0,[3]Feuil1!G13,"")
B15: Confiture de framboise | C15: =IF('[2]Paris Brest'!E14>0,'[2]Paris Brest'!E14,"") | D15: =IF('[2]Paris Brest'!F14>0,'[2]Paris Brest'!F14,"") | G15: =IF(E15>0,[3]Feuil1!G14,"")
B16: Colorant alimentaire | G16: =IF(E16>0,[3]Feuil1!G15,"") | H16: =IF(C16>0,E16*G16,"")
B17: Coulis framboise | C17: =IF('[2]Paris Brest'!E15>0,'[2]Paris Brest'!E15,"") | D17: =IF('[2]Paris Brest'!F15>0,'[2]Paris Brest'!F15,"") | G17: =IF(E17>0,[3]Feuil1!G16,"")
B18: Coulis mangue | C18: =IF('[2]Paris Brest'!E16>0,'[2]Paris Brest'!E16,"") | D18: =IF('[2]Paris Brest'!F16>0,'[2]Paris Brest'!F16,"") | G18: =IF(E18>0,[3]Feuil1!G17,"")
B19: Eau | C19: =IF('[2]Paris Brest'!E17>0,'[2]Paris Brest'!E17,"") -> 13.25 | D19: =IF('[2]Paris Brest'!F17>0,'[2]Paris Brest'!F17,"") -> g | E19: =C19/100 -> 0.1325 | F19: kg | G19: =IF(E19>0,[3]Feuil1!G18,"") -> 0 | H19: =IF(C19>0,E19*G19,"") -> 0
B20: Farine | C20: =IF('[2]Paris Brest'!E18>0,'[2]Paris Brest'!E18,"") -> 3.5 | D20: =IF('[2]Paris Brest'!F18>0,'[2]Paris Brest'!F18,"") | E20: =C20/1000 -> 0.0035 | F20: kg | G20: =IF(E20>0,[3]Feuil1!G19,"") -> 0.69 | H20: =IF(C20>0,E20*G20,"") -> 0.002415
B21: Farine mi-crème | C21: =IF('[2]Paris Brest'!E19>0,'[2]Paris Brest'!E19,"") | D21: =IF('[2]Paris Brest'!F19>0,'[2]Paris Brest'!F19,"") | G21: =IF(E21>0,[3]Feuil1!G20,"")
B22: Farine T45 | C22: =IF('[2]Paris Brest'!E20>0,'[2]Paris Brest'!E20,"") | D22: =IF('[2]Paris Brest'!F20>0,'[2]Paris Brest'!F20,"") | G22: =IF(E22>0,[3]Feuil1!G21,"")
B23: Farine T45 de gruau | C23: =IF('[2]Paris Brest'!E21>0,'[2]Paris Brest'!E21,"") | D23: =IF('[2]Paris Brest'!F21>0,'[2]Paris Brest'!F21,"") | G23: =IF(E23>0,[3]Feuil1!G22,"")
B24: Farine T65 | C24: =IF('[2]Paris Brest'!E22>0,'[2]Paris Brest'!E22,"") | D24: =IF('[2]Paris Brest'!F22>0,'[2]Paris Brest'!F22,"") | G24: =IF(E24>0,[3]Feuil1!G23,"")
B25: Framboise | C25: =IF('[2]Paris Brest'!E23>0,'[2]Paris Brest'!E23,"") | D25: =IF('[2]Paris Brest'!F23>0,'[2]Paris Brest'!F23,"") | G25: =IF(E25>0,[3]Feuil1!G24,"")
B26: Gelatine | G26: =IF(E26>0,[3]Feuil1!G25,"")
B27: Gelée d'abricot | C27: =IF('[2]Paris Brest'!E24>0,'[2]Paris Brest'!E24,"") | D27: =IF('[2]Paris Brest'!F24>0,'[2]Paris Brest'!F24,"") | G27: =IF(E27>0,[3]Feuil1!G26,"")
B28: Gousse de vanille | C28: =IF('[2]Paris Brest'!E25>0,'[2]Paris Brest'!E25,"") -> 0.05 | D28: =IF('[2]Paris Brest'!F25>0,'[2]Paris Brest'!F25,"") -> u | E28: =C28 -> 0.05 | F28: u
B29: Jaune d'œufs | C29: =IF('[2]Paris Brest'!E26>0,'[2]Paris Brest'!E26,"") -> 11 | D29: =IF('[2]Paris Brest'!F26>0,'[2]Paris Brest'!F26,"") -> g | E29: =C29/1000 -> 0.011 | F29: kg | G29: =IF(E29>0,[3]Feuil1!G28,"") -> 0 | H29: =IF(C29>0,E29*G29,"") -> 0
B30: Jus d'orange | C30: =IF('[2]Paris Brest'!E27>0,'[2]Paris Brest'!E27,"") | D30: =IF('[2]Paris Brest'!F27>0,'[2]Paris Brest'!F27,"") | G30: =IF(E30>0,[3]Feuil1!G29,"")
B31: Lait 1/2 écrémé | C31: =IF('[2]Paris Brest'!E28>0,'[2]Paris Brest'!E28,"") -> 2.5 | D31: =IF('[2]Paris Brest'!F28>0,'[2]Paris Brest'!F28,"") -> g | E31: =C31/1000 -> 0.0025 | F31: kg | G31: =IF(E31>0,[3]Feuil1!G30,"") -> 0.64 | H31: =IF(C31>0,E31*G31,"") -> 0.0016
B32: Lait entier | C32: =IF('[2]Paris Brest'!E29>0,'[2]Paris Brest'!E29,"") | D32: =IF('[2]Paris Brest'!F29>0,'[2]Paris Brest'!F29,"") | G32: =IF(E32>0,[3]Feuil1!G31,"")
B33: Levure boulangère | C33: =IF('[2]Paris Brest'!E30>0,'[2]Paris Brest'!E30,"") | D33: =IF('[2]Paris Brest'!F30>0,'[2]Paris Brest'!F30,"") | G33: =IF(E33>0,[3]Feuil1!G32,"")
B34: Levure chimique | C34: =IF('[2]Paris Brest'!E31>0,'[2]Paris Brest'!E31,"") | D34: =IF('[2]Paris Brest'!F31>0,'[2]Paris Brest'!F31,"") | G34: =IF(E34>0,[3]Feuil1!G33,"")
B35: Maizena | C35: =IF('[2]Paris Brest'!E32>0,'[2]Paris Brest'!E32,"") -> 2.5 | D35: =IF('[2]Paris Brest'!F32>0,'[2]Paris Brest'!F32,"") -> g | E35: =C35/1000 -> 0.0025 | F35: kg | G35: =IF(E35>0,[3]Feuil1!G34,"") -> 0 | H35: =IF(C35>0,E35*G35,"") -> 0
B36: Mandarine | C36: =IF('[2]Paris Brest'!E33>0,'[2]Paris Brest'!E33,"") | D36: =IF('[2]Paris Brest'!F33>0,'[2]Paris Brest'!F33,"") | G36: =IF(E36>0,[3]Feuil1!G35,"")
B37: Nappage neutre | C37: =IF('[2]Paris Brest'!E34>0,'[2]Paris Brest'!E34,"") | D37: =IF('[2]Paris Brest'!F34>0,'[2]Paris Brest'!F34,"") | G37: =IF(E37>0,[3]Feuil1!G36,"")
B38: Noix | C38: =IF('[2]Paris Brest'!E35>0,'[2]Paris Brest'!E35,"") | D38: =IF('[2]Paris Brest'!F35>0,'[2]Paris Brest'!F35,"") | G38: =IF(E38>0,[3]Feuil1!G37,"")
B39: Noix de coco | G39: =IF(E39>0,[3]Feuil1!G38,"") | H39: =IF(C39>0,E39*G39,"")
B40: Noisette en poudre | G40: =IF(E40>0,[3]Feuil1!G39,"") | H40: =IF(C40>0,E40*G40,"")
B41: Œufs entiers | C41: =IF('[2]Paris Brest'!E36>0,'[2]Paris Brest'!E36,"") -> 0.2 | D41: =IF('[2]Paris Brest'!F36>0,'[2]Paris Brest'!F36,"") -> u | G41: =IF(E41>0,[3]Feuil1!G40,"")
B42: Orange | C42: =IF('[2]Paris Brest'!E37>0,'[2]Paris Brest'!E37,"") | D42: =IF('[2]Paris Brest'!F37>0,'[2]Paris Brest'!F37,"") | G42: =IF(E42>0,[3]Feuil1!G41,"")
B43: Pâte à pistache | C43: =IF('[2]Paris Brest'!E38>0,'[2]Paris Brest'!E38,"") | D43: =IF('[2]Paris Brest'!F38>0,'[2]Paris Brest'!F38,"") | G43: =IF(E43>0,[3]Feuil1!G42,"")
B44: Poire | C44: =IF('[2]Paris Brest'!E39>0,'[2]Paris Brest'!E39,"") | D44: =IF('[2]Paris Brest'!F39>0,'[2]Paris Brest'!F39,"") | G44: =IF(E44>0,[3]Feuil1!G43,"")
B45: Pomme | C45: =IF('[2]Paris Brest'!E40>0,'[2]Paris Brest'!E40,"") | D45: =IF('[2]Paris Brest'!F40>0,'[2]Paris Brest'!F40,"") | G45: =IF(E45>0,[3]Feuil1!G44,"")
B46: Poudre à crème pâtissière | C46: =IF('[2]Paris Brest'!E41>0,'[2]Paris Brest'!E41,"") | D46: =IF('[2]Paris Brest'!F41>0,'[2]Paris Brest'!F41,"") | G46: =IF(E46>0,[3]Feuil1!G45,"")
B47: Poudre d'amandes | C47: =IF('[2]Paris Brest'!E42>0,'[2]Paris Brest'!E42,"") | D47: =IF('[2]Paris Brest'!F42>0,'[2]Paris Brest'!F42,"") | G47: =IF(E47>0,[3]Feuil1!G46,"")
B48: Poudre de lait | C48: =IF('[2]Paris Brest'!E43>0,'[2]Paris Brest'!E43,"") | D48: =IF('[2]Paris Brest'!F43>0,'[2]Paris Brest'!F43,"") | G48: =IF(E48>0,[3]Feuil1!G47,"")
B49: Poudre de noisettes | C49: =IF('[2]Paris Brest'!E44>0,'[2]Paris Brest'!E44,"") | D49: =IF('[2]Paris Brest'!F44>0,'[2]Paris Brest'!F44,"") | G49: =IF(E49>0,[3]Feuil1!G48,"")
B50: Praliné | C50: =IF('[2]Paris Brest'!E45>0,'[2]Paris Brest'!E45,"") -> 7.5 | D50: =IF('[2]Paris Brest'!F45>0,'[2]Paris Brest'!F45,"") -> g | E50: =C50/1000 -> 0.0075 | F50: kg | G50: =IF(E50>0,[3]Feuil1!G49,"") -> 16.78 | H50: =IF(C50>0,E50*G50,"") -> 0.12585
B51: Quetsches | C51: =IF('[2]Paris Brest'!E46>0,'[2]Paris Brest'!E46,"") | D51: =IF('[2]Paris Brest'!F46>0,'[2]Paris Brest'!F46,"") | G51: =IF(E51>0,[3]Feuil1!G50,"")
B52: Rhubarbe | C52: =IF('[2]Paris Brest'!E47>0,'[2]Paris Brest'!E47,"") | D52: =IF('[2]Paris Brest'!F47>0,'[2]Paris Brest'!F47,"") | G52: =IF(E52>0,[3]Feuil1!G51,"")
B53: Sel | C53: =IF('[2]Paris Brest'!E48>0,'[2]Paris Brest'!E48,"") -> 0.0625 | D53: =IF('[2]Paris Brest'!F48>0,'[2]Paris Brest'!F48,"") -> g | E53: =C53/1000 -> 6.25e-05 | F53: kg | G53: =IF(E53>0,[3]Feuil1!G52,"") -> 0.2056 | H53: =IF(C53>0,E53*G53,"") -> 1.285e-05
B54: Sirop de glucose | C54: =IF('[2]Paris Brest'!E49>0,'[2]Paris Brest'!E49,"") | D54: =IF('[2]Paris Brest'!F49>0,'[2]Paris Brest'!F49,"") | G54: =IF(E54>0,[3]Feuil1!G53,"")
B55: Sucre glace | G55: =IF(E55>0,[3]Feuil1!G54,"") | H55: =IF(C55>0,E55*G55,"")
B56: Sucre semoule | C56: =IF('[2]Paris Brest'!E50>0,'[2]Paris Brest'!E50,"") -> 24.375 | D56: =IF('[2]Paris Brest'!F50>0,'[2]Paris Brest'!F50,"") -> g | E56: =C56/1000 -> 0.024375 | F56: kg | G56: =IF(E56>0,[3]Feuil1!G55,"") -> 0.9 | H56: =IF(C56>0,E56*G56,"") -> 0.0219375
G57: =IF(E57>0,[3]Feuil1!G56,"") | H57: =IF(C57>0,E57*G57,"")
G58: =IF(E58>0,[3]Feuil1!G57,"") | H58: =IF(C58>0,E58*G58,"")
G59: =IF(E59>0,[3]Feuil1!G58,"") | H59: =IF(C59>0,E59*G59,"")
G60: =IF(E60>0,[3]Feuil1!G59,"") | H60: =IF(C60>0,E60*G60,"")
G61: =IF(E61>0,[3]Feuil1!G60,"") | H61: =IF(C61>0,E61*G61,"")
G62: =IF(E62>0,[3]Feuil1!G61,"") | H62: =IF(C62>0,E62*G62,"")
G63: =IF(E63>0,[3]Feuil1!G62,"") | H63: =IF(C63>0,E63*G63,"")
G64: =IF(E64>0,[3]Feuil1!G63,"") | H64: =IF(C64>0,E64*G64,"")
G65: =IF(E65>0,[3]Feuil1!G64,"") | H65: =IF(C65>0,E65*G65,"")
G66: =IF(E66>0,[3]Feuil1!G65,"") | H66: =IF(C66>0,E66*G66,"")
G67: =IF(E67>0,[3]Feuil1!G66,"") | H67: =IF(C67>0,E67*G67,"")
G68: =IF(E68>0,[3]Feuil1!G67,"") | H68: =IF(C68>0,E68*G68,"")
... G76: =IF(E76>0,[3]Feuil1!G75,"") | H76: =IF(C76>0,E76*G76,"")
G77: =IF(E77>0,[3]Feuil1!G76,"")
G78: =IF(E78>0,[3]Feuil1!G77,"")
G79: =IF(E79>0,[3]Feuil1!G78,"")
G80: =IF(E80>0,[3]Feuil1!G79,"")
G81: =IF(E81>0,[3]Feuil1!G80,"")
G82: =IF(E82>0,[3]Feuil1!G81,"")
G83: =IF(E83>0,[3]Feuil1!G82,"")
G84: =IF(E84>0,[3]Feuil1!G83,"")
G85: =IF(E85>0,[3]Feuil1!G84,"")
G86: =IF(E86>0,[3]Feuil1!G85,"")
G87: =IF(E87>0,[3]Feuil1!G86,"")
G88: =IF(E88>0,[3]Feuil1!G87,"")
... G205: =IF(E205>0,[3]Feuil1!G204,"")

Sheet Tradition
A1: =[2]Tradition!$A$1:$G$1 -> Tradition Française
B3: Désignation | C3: Quantités 1p | E3: Quantité au Kg | G3: Pu | H3: PT
B4: Amandes blanches entières | G4: =IF(E4>0,[3]Feuil1!G3,"") | J4: Prix
B5: Amandes efffilés | C5: =IF([2]Tradition!E4>0,[2]Tradition!E4,"") | D5: =IF([2]Tradition!F4>0,[2]Tradition!F4,"") | G5: =IF(E5>0,[3]Feuil1!G4,"")
B6: Beurre | C6: =IF([2]Tradition!E5>0,[2]Tradition!E5,"") | D6: =IF([2]Tradition!F5>0,[2]Tradition!F5,"") | G6: =IF(E6>0,[3]Feuil1!G5,"")
B7: Blanc d'œufs | C7: =IF([2]Tradition!E6>0,[2]Tradition!E6,"") | D7: =IF([2]Tradition!F6>0,[2]Tradition!F6,"") | G7: =IF(E7>0,[3]Feuil1!G6,"") | J7: =SUM(H4:H204) -> 0.00058742857
B8: Cacao | C8: =IF([2]Tradition!E7>0,[2]Tradition!E7,"") | D8: =IF([2]Tradition!F7>0,[2]Tradition!F7,"") | G8: =IF(E8>0,[3]Feuil1!G7,"")
B9: Cannelle | C9: =IF([2]Tradition!E8>0,[2]Tradition!E8,"") | D9: =IF([2]Tradition!F8>0,[2]Tradition!F8,"") | G9: =IF(E9>0,[3]Feuil1!G8,"")
B10: Cerise | C10: =IF([2]Tradition!E9>0,[2]Tradition!E9,"") | D10: =IF([2]Tradition!F9>0,[2]Tradition!F9,"") | G10: =IF(E10>0,[3]Feuil1!G9,"")
B11: Chocolat blanc | C11: =IF([2]Tradition!E10>0,[2]Tradition!E10,"") | D11: =IF([2]Tradition!F10>0,[2]Tradition!F10,"") | G11: =IF(E11>0,[3]Feuil1!G10,"")
B12: Chocolat en pépite | C12: =IF([2]Tradition!E11>0,[2]Tradition!E11,"") | D12: =IF([2]Tradition!F11>0,[2]Tradition!F11,"") | G12: =IF(E12>0,[3]Feuil1!G11,"")
B13: Chocolat en pistole | C13: =IF([2]Tradition!E12>0,[2]Tradition!E12,"") | D13: =IF([2]Tradition!F12>0,[2]Tradition!F12,"") | G13: =IF(E13>0,[3]Feuil1!G12,"")
B14: Citron | C14: =IF([2]Tradition!E13>0,[2]Tradition!E13,"") | D14: =IF([2]Tradition!F13>0,[2]Tradition!F13,"") | G14: =IF(E14>0,[3]Feuil1!G13,"")
B15: Confiture de framboise | C15: =IF([2]Tradition!E14>0,[2]Tradition!E14,"") | D15: =IF([2]Tradition!F14>0,[2]Tradition!F14,"") | G15: =IF(E15>0,[3]Feuil1!G14,"")
B16: Colorant alimentaire | G16: =IF(E16>0,[3]Feuil1!G15,"")
B17: Coulis framboise | C17: =IF([2]Tradition!E15>0,[2]Tradition!E15,"") | D17: =IF([2]Tradition!F15>0,[2]Tradition!F15,"") | G17: =IF(E17>0,[3]Feuil1!G16,"")
B18: Coulis mangue | C18: =IF([2]Tradition!E16>0,[2]Tradition!E16,"") | D18: =IF([2]Tradition!F16>0,[2]Tradition!F16,"") | G18: =IF(E18>0,[3]Feuil1!G17,"")
B19: Eau | C19: =IF([2]Tradition!E17>0,[2]Tradition!E17,"") -> 111.42857 | D19: =IF([2]Tradition!F17>0,[2]Tradition!F17,"") -> g | E19: =C19/1000 -> 0.11142857 | F19: kg | G19: =IF(E19>0,[3]Feuil1!G18,"") -> 0
B20: Farine | C20: =IF([2]Tradition!E18>0,[2]Tradition!E18,"") | D20: =IF([2]Tradition!F18>0,[2]Tradition!F18,"") | G20: =IF(E20>0,[3]Feuil1!G19,"")
B21: Farine mi-crème | C21: =IF([2]Tradition!E19>0,[2]Tradition!E19,"") | D21: =IF([2]Tradition!F19>0,[2]Tradition!F19,"") | G21: =IF(E21>0,[3]Feuil1!G20,"")
B22: Farine T45 | C22: =IF([2]Tradition!E20>0,[2]Tradition!E20,"") | D22: =IF([2]Tradition!F20>0,[2]Tradition!F20,"") | G22: =IF(E22>0,[3]Feuil1!G21,"")
B23: Farine T45 de gruau | C23: =IF([2]Tradition!E21>0,[2]Tradition!E21,"") | D23: =IF([2]Tradition!F21>0,[2]Tradition!F21,"") | G23: =IF(E23>0,[3]Feuil1!G22,"")
B24: Farinte T65 | C24: =IF([2]Tradition!E22>0,[2]Tradition!E22,"") -> 142.85714 | D24: =IF([2]Tradition!F22>0,[2]Tradition!F22,"") | E24: =C24/1000 -> 0.14285714 | F24: kg | G24: =IF(E24>0,[3]Feuil1!G23,"") -> 0
B25: Framboise | C25: =IF([2]Tradition!E23>0,[2]Tradition!E23,"") | D25: =IF([2]Tradition!F23>0,[2]Tradition!F23,"") | G25: =IF(E25>0,[3]Feuil1!G24,"")
B26: Gelatine | G26: =IF(E26>0,[3]Feuil1!G25,"")
B27: Gelée d'abricot | C27: =IF([2]Tradition!E24>0,[2]Tradition!E24,"") | D27: =IF([2]Tradition!F24>0,[2]Tradition!F24,"") | G27: =IF(E27>0,[3]Feuil1!G26,"")
B28: Gousse de vanille | C28: =IF([2]Tradition!E25>0,[2]Tradition!E25,"") | D28: =IF([2]Tradition!F25>0,[2]Tradition!F25,"") | G28: =IF(E28>0,[3]Feuil1!G27,"")
B29: Jaune d'œufs | C29: =IF([2]Tradition!E26>0,[2]Tradition!E26,"") | D29: =IF([2]Tradition!F26>0,[2]Tradition!F26,"") | G29: =IF(E29>0,[3]Feuil1!G28,"")
B30: Jus d'orange | C30: =IF([2]Tradition!E27>0,[2]Tradition!E27,"") | D30: =IF([2]Tradition!F27>0,[2]Tradition!F27,"") | G30: =IF(E30>0,[3]Feuil1!G29,"")
B31: Lait 1/2 écrémé | C31: =IF([2]Tradition!E28>0,[2]Tradition!E28,"") | D31: =IF([2]Tradition!F28>0,[2]Tradition!F28,"") | G31: =IF(E31>0,[3]Feuil1!G30,"")
B32: Lait entier | C32: =IF([2]Tradition!E29>0,[2]Tradition!E29,"") | D32: =IF([2]Tradition!F29>0,[2]Tradition!F29,"") | G32: =IF(E32>0,[3]Feuil1!G31,"")
B33: Levure boulangère | C33: =IF([2]Tradition!E30>0,[2]Tradition!E30,"") -> 1.7142857 | D33: =IF([2]Tradition!F30>0,[2]Tradition!F30,"") -> g | E33: =C33/1000 -> 0.0017142857 | F33: kg | G33: =IF(E33>0,[3]Feuil1!G32,"") -> 5.2579365
B34: Levure chimique | C34: =IF([2]Tradition!E31>0,[2]Tradition!E31,"") | D34: =IF([2]Tradition!F31>0,[2]Tradition!F31,"") | G34: =IF(E34>0,[3]Feuil1!G33,"")
B35: Maizena | C35: =IF([2]Tradition!E32>0,[2]Tradition!E32,"") | D35: =IF([2]Tradition!F32>0,[2]Tradition!F32,"") | G35: =IF(E35>0,[3]Feuil1!G34,"")
B36: Mandarine | C36: =IF([2]Tradition!E33>0,[2]Tradition!E33,"") | D36: =IF([2]Tradition!F33>0,[2]Tradition!F33,"") | G36: =IF(E36>0,[3]Feuil1!G35,"")
B37: Nappage neutre | C37: =IF([2]Tradition!E34>0,[2]Tradition!E34,"") | D37: =IF([2]Tradition!F34>0,[2]Tradition!F34,"") | G37: =IF(E37>0,[3]Feuil1!G36,"")
B38: Noix | C38: =IF([2]Tradition!E35>0,[2]Tradition!E35,"") | D38: =IF([2]Tradition!F35>0,[2]Tradition!F35,"") | G38: =IF(E38>0,[3]Feuil1!G37,"")
B39: Noix de coco | G39: =IF(E39>0,[3]Feuil1!G38,"")
B40: Noisette en poudre | G40: =IF(E40>0,[3]Feuil1!G39,"")
B41: Œufs entiers | C41: =IF([2]Tradition!E36>0,[2]Tradition!E36,"") | D41: =IF([2]Tradition!F36>0,[2]Tradition!F36,"") | G41: =IF(E41>0,[3]Feuil1!G40,"")
B42: Orange | C42: =IF([2]Tradition!E37>0,[2]Tradition!E37,"") | D42: =IF([2]Tradition!F37>0,[2]Tradition!F37,"") | G42: =IF(E42>0,[3]Feuil1!G41,"")
B43: Pâte à pistache | C43: =IF([2]Tradition!E38>0,[2]Tradition!E38,"") | D43: =IF([2]Tradition!F38>0,[2]Tradition!F38,"") | G43: =IF(E43>0,[3]Feuil1!G42,"")
B44: Poire | C44: =IF([2]Tradition!E39>0,[2]Tradition!E39,"") | D44: =IF([2]Tradition!F39>0,[2]Tradition!F39,"") | G44: =IF(E44>0,[3]Feuil1!G43,"")
B45: Pomme | C45: =IF([2]Tradition!E40>0,[2]Tradition!E40,"") | D45: =IF([2]Tradition!F40>0,[2]Tradition!F40,"") | G45: =IF(E45>0,[3]Feuil1!G44,"")
B46: Poudre à crème pâtissière | C46: =IF([2]Tradition!E41>0,[2]Tradition!E41,"") | D46: =IF([2]Tradition!F41>0,[2]Tradition!F41,"") | G46: =IF(E46>0,[3]Feuil1!G45,"")
B47: Poudre d'amandes | C47: =IF([2]Tradition!E42>0,[2]Tradition!E42,"") | D47: =IF([2]Tradition!F42>0,[2]Tradition!F42,"") | G47: =IF(E47>0,[3]Feuil1!G46,"")
B48: Poudre de lait | C48: =IF([2]Tradition!E43>0,[2]Tradition!E43,"") | D48: =IF([2]Tradition!F43>0,[2]Tradition!F43,"") | G48: =IF(E48>0,[3]Feuil1!G47,"")
B49: Poudre de noisettes | C49: =IF([2]Tradition!E44>0,[2]Tradition!E44,"") | D49: =IF([2]Tradition!F44>0,[2]Tradition!F44,"") | G49: =IF(E49>0,[3]Feuil1!G48,"")
B50: Praliné | C50: =IF([2]Tradition!E45>0,[2]Tradition!E45,"") | D50: =IF([2]Tradition!F45>0,[2]Tradition!F45,"") | G50: =IF(E50>0,[3]Feuil1!G49,"")
B51: Quetsches | C51: =IF([2]Tradition!E46>0,[2]Tradition!E46,"") | D51: =IF([2]Tradition!F46>0,[2]Tradition!F46,"") | G51: =IF(E51>0,[3]Feuil1!G50,"")
B52: Rhubarbe | C52: =IF([2]Tradition!E47>0,[2]Tradition!E47,"") | D52: =IF([2]Tradition!F47>0,[2]Tradition!F47,"") | G52: =IF(E52>0,[3]Feuil1!G51,"")
B53: Sel | C53: =IF([2]Tradition!E48>0,[2]Tradition!E48,"") -> 2.8571429 | D53: =IF([2]Tradition!F48>0,[2]Tradition!F48,"") -> g | E53: =C53/1000 -> 0.0028571429 | F53: kg | G53: =IF(E53>0,[3]Feuil1!G52,"") -> 0.2056 | H53: =G53*E53 -> 0.00058742857
B54: Sirop de glucose | C54: =IF([2]Tradition!E49>0,[2]Tradition!E49,"") | D54: =IF([2]Tradition!F49>0,[2]Tradition!F49,"") | G54: =IF(E54>0,[3]Feuil1!G53,"")
B55: Sucre glace | G55: =IF(E55>0,[3]Feuil1!G54,"")
B56: Sucre semoule | C56: =IF([2]Tradition!E50>0,[2]Tradition!E50,"") | D56: =IF([2]Tradition!F50>0,[2]Tradition!F50,"") | G56: =IF(E56>0,[3]Feuil1!G55,"")
C57: =IF([2]Tradition!E51>0,[2]Tradition!E51,"") | D57: =IF([2]Tradition!F51>0,[2]Tradition!F51,"") | G57: =IF(E57>0,[3]Feuil1!G56,"")
C58: =IF([2]Tradition!E52>0,[2]Tradition!E52,"") | D58: =IF([2]Tradition!F52>0,[2]Tradition!F52,"") | G58: =IF(E58>0,[3]Feuil1!G57,"")
C59: =IF([2]Tradition!E53>0,[2]Tradition!E53,"") | D59: =IF([2]Tradition!F53>0,[2]Tradition!F53,"") | G59: =IF(E59>0,[3]Feuil1!G58,"")
C60: =IF([2]Tradition!E54>0,[2]Tradition!E54,"") | D60: =IF([2]Tradition!F54>0,[2]Tradition!F54,"") | G60: =IF(E60>0,[3]Feuil1!G59,"")
C61: =IF([2]Tradition!E55>0,[2]Tradition!E55,"") | D61: =IF([2]Tradition!F55>0,[2]Tradition!F55,"") | G61: =IF(E61>0,[3]Feuil1!G60,"")
C62: =IF([2]Tradition!E56>0,[2]Tradition!E56,"") | D62: =IF([2]Tradition!F56>0,[2]Tradition!F56,"") | G62: =IF(E62>0,[3]Feuil1!G61,"")
C63: =IF([2]Tradition!E57>0,[2]Tradition!E57,"") | D63: =IF([2]Tradition!F57>0,[2]Tradition!F57,"") | G63: =IF(E63>0,[3]Feuil1!G62,"")
C64: =IF([2]Tradition!E58>0,[2]Tradition!E58,"") | D64: =IF([2]Tradition!F58>0,[2]Tradition!F58,"") | G64: =IF(E64>0,[3]Feuil1!G63,"")
C65: =IF([2]Tradition!E59>0,[2]Tradition!E59,"") | D65: =IF([2]Tradition!F59>0,[2]Tradition!F59,"") | G65: =IF(E65>0,[3]Feuil1!G64,"")
C66: =IF([2]Tradition!E60>0,[2]Tradition!E60,"") | D66: =IF([2]Tradition!F60>0,[2]Tradition!F60,"") | G66: =IF(E66>0,[3]Feuil1!G65,"")
C67: =IF([2]Tradition!E61>0,[2]Tradition!E61,"") | D67: =IF([2]Tradition!F61>0,[2]Tradition!F61,"") | G67: =IF(E67>0,[3]Feuil1!G66,"")
C68: =IF([2]Tradition!E62>0,[2]Tradition!E62,"") | D68: =IF([2]Tradition!F62>0,[2]Tradition!F62,"") | G68: =IF(E68>0,[3]Feuil1!G67,"")
... C76: =IF([2]Tradition!E70>0,[2]Tradition!E70,"") | D76: =IF([2]Tradition!F70>0,[2]Tradition!F70,"") | G76: =IF(E76>0,[3]Feuil1!G75,"")
G77: =IF(E77>0,[3]Feuil1!G76,"")
G78: =IF(E78>0,[3]Feuil1!G77,"")
G79: =IF(E79>0,[3]Feuil1!G78,"")
G80: =IF(E80>0,[3]Feuil1!G79,"")
G81: =IF(E81>0,[3]Feuil1!G80,"")
G82: =IF(E82>0,[3]Feuil1!G81,"")
G83: =IF(E83>0,[3]Feuil1!G82,"")
G84: =IF(E84>0,[3]Feuil1!G83,"")
G85: =IF(E85>0,[3]Feuil1!G84,"")
G86: =IF(E86>0,[3]Feuil1!G85,"")
G87: =IF(E87>0,[3]Feuil1!G86,"")
G88: =IF(E88>0,[3]Feuil1!G87,"")
... G205: =IF(E205>0,[3]Feuil1!G204,"")

Sheet A
A1: =[2]A!$A$1:$G$1 -> A
B3: Désignation | C3: Quantités 1p | E3: Quantité au Kg | G3: PU | H3: PT
B4: Amandes blanches entières | G4: =IF(E4>0,[3]Feuil1!G3,"") | J4: Prix
B5: Amandes efffilés | C5: =IF([2]A!E4>0,[2]A!E4,"") -> 1 | D5: =IF([2]A!F4>0,[2]A!F4,"") | G5: =IF(E5>0,[3]Feuil1!G4,"")
B6: Beurre | C6: =IF([2]A!E5>0,[2]A!E5,"") | D6: =IF([2]A!F5>0,[2]A!F5,"") | G6: =IF(E6>0,[3]Feuil1!G5,"")
B7: Blanc d'œufs | C7: =IF([2]A!E6>0,[2]A!E6,"") | D7: =IF([2]A!F6>0,[2]A!F6,"") | G7: =IF(E7>0,[3]Feuil1!G6,"") | J7: =SUM(H4:H204) -> 0
B8: Cacao | C8: =IF([2]A!E7>0,[2]A!E7,"") | D8: =IF([2]A!F7>0,[2]A!F7,"") | G8: =IF(E8>0,[3]Feuil1!G7,"")
B9: Cannelle | C9: =IF([2]A!E8>0,[2]A!E8,"") | D9: =IF([2]A!F8>0,[2]A!F8,"") | G9: =IF(E9>0,[3]Feuil1!G8,"")
B10: Cerise | C10: =IF([2]A!E9>0,[2]A!E9,"") | D10: =IF([2]A!F9>0,[2]A!F9,"") | G10: =IF(E10>0,[3]Feuil1!G9,"")
B11: Chocolat blanc | C11: =IF([2]A!E10>0,[2]A!E10,"") | D11: =IF([2]A!F10>0,[2]A!F10,"") | G11: =IF(E11>0,[3]Feuil1!G10,"")
B12: Chocolat en pépite | C12: =IF([2]A!E11>0,[2]A!E11,"") | D12: =IF([2]A!F11>0,[2]A!F11,"") | G12: =IF(E12>0,[3]Feuil1!G11,"")
B13: Chocolat en pistole | C13: =IF([2]A!E12>0,[2]A!E12,"") | D13: =IF([2]A!F12>0,[2]A!F12,"") | G13: =IF(E13>0,[3]Feuil1!G12,"")
B14: Citron | C14: =IF([2]A!E13>0,[2]A!E13,"") | D14: =IF([2]A!F13>0,[2]A!F13,"") | G14: =IF(E14>0,[3]Feuil1!G13,"")
B15: Confiture de framboise | C15: =IF([2]A!E14>0,[2]A!E14,"") | D15: =IF([2]A!F14>0,[2]A!F14,"") | G15: =IF(E15>0,[3]Feuil1!G14,"")
B16: Colorant alimentaire | G16: =IF(E16>0,[3]Feuil1!G15,"")
B17: Coulis framboise | C17: =IF([2]A!E15>0,[2]A!E15,"") | D17: =IF([2]A!F15>0,[2]A!F15,"") | G17: =IF(E17>0,[3]Feuil1!G16,"")
B18: Coulis mangue | C18: =IF([2]A!E16>0,[2]A!E16,"") | D18: =IF([2]A!F16>0,[2]A!F16,"") | G18: =IF(E18>0,[3]Feuil1!G17,"")
B19: Eau | C19: =IF([2]A!E17>0,[2]A!E17,"") | D19: =IF([2]A!F17>0,[2]A!F17,"") | G19: =IF(E19>0,[3]Feuil1!G18,"")
B20: Farine | C20: =IF([2]A!E18>0,[2]A!E18,"") | D20: =IF([2]A!F18>0,[2]A!F18,"") | G20: =IF(E20>0,[3]Feuil1!G19,"")
B21: Farine mi-crème | C21: =IF([2]A!E19>0,[2]A!E19,"") | D21: =IF([2]A!F19>0,[2]A!F19,"") | G21: =IF(E21>0,[3]Feuil1!G20,"")
B22: Farine T45 | C22: =IF([2]A!E20>0,[2]A!E20,"") | D22: =IF([2]A!F20>0,[2]A!F20,"") | G22: =IF(E22>0,[3]Feuil1!G21,"")
B23: Farine T45 de gruau | C23: =IF([2]A!E21>0,[2]A!E21,"") | D23: =IF([2]A!F21>0,[2]A!F21,"") | G23: =IF(E23>0,[3]Feuil1!G22,"")
B24: Farinte T65 | C24: =IF([2]A!E22>0,[2]A!E22,"") | D24: =IF([2]A!F22>0,[2]A!F22,"") | G24: =IF(E24>0,[3]Feuil1!G23,"")
B25: Framboise | C25: =IF([2]A!E23>0,[2]A!E23,"") | D25: =IF([2]A!F23>0,[2]A!F23,"") | G25: =IF(E25>0,[3]Feuil1!G24,"")
B26: Gelatine | G26: =IF(E26>0,[3]Feuil1!G25,"")
B27: Gelée d'abricot | C27: =IF([2]A!E24>0,[2]A!E24,"") | D27: =IF([2]A!F24>0,[2]A!F24,"") | G27: =IF(E27>0,[3]Feuil1!G26,"")
B28: Gousse de vanille | C28: =IF([2]A!E25>0,[2]A!E25,"") | D28: =IF([2]A!F25>0,[2]A!F25,"") | G28: =IF(E28>0,[3]Feuil1!G27,"")
B29: Jaune d'œufs | C29: =IF([2]A!E26>0,[2]A!E26,"") | D29: =IF([2]A!F26>0,[2]A!F26,"") | G29: =IF(E29>0,[3]Feuil1!G28,"")
B30: Jus d'orange | C30: =IF([2]A!E27>0,[2]A!E27,"") | D30: =IF([2]A!F27>0,[2]A!F27,"") | G30: =IF(E30>0,[3]Feuil1!G29,"")
B31: Lait 1/2 écrémé | C31: =IF([2]A!E28>0,[2]A!E28,"") | D31: =IF([2]A!F28>0,[2]A!F28,"") | G31: =IF(E31>0,[3]Feuil1!G30,"")
B32: Lait entier | C32: =IF([2]A!E29>0,[2]A!E29,"") | D32: =IF([2]A!F29>0,[2]A!F29,"") | G32: =IF(E32>0,[3]Feuil1!G31,"")
B33: Levure boulangère | C33: =IF([2]A!E30>0,[2]A!E30,"") | D33: =IF([2]A!F30>0,[2]A!F30,"") | G33: =IF(E33>0,[3]Feuil1!G32,"")
B34: Levure chimique | C34: =IF([2]A!E31>0,[2]A!E31,"") | D34: =IF([2]A!F31>0,[2]A!F31,"") | G34: =IF(E34>0,[3]Feuil1!G33,"")
B35: Maizena | C35: =IF([2]A!E32>0,[2]A!E32,"") | D35: =IF([2]A!F32>0,[2]A!F32,"") | G35: =IF(E35>0,[3]Feuil1!G34,"")
B36: Mandarine | C36: =IF([2]A!E33>0,[2]A!E33,"") | D36: =IF([2]A!F33>0,[2]A!F33,"") | G36: =IF(E36>0,[3]Feuil1!G35,"")
B37: Nappage neutre | C37: =IF([2]A!E34>0,[2]A!E34,"") | D37: =IF([2]A!F34>0,[2]A!F34,"") | G37: =IF(E37>0,[3]Feuil1!G36,"")
B38: Noix | C38: =IF([2]A!E35>0,[2]A!E35,"") | D38: =IF([2]A!F35>0,[2]A!F35,"") | G38: =IF(E38>0,[3]Feuil1!G37,"")
B39: Noix de coco | G39: =IF(E39>0,[3]Feuil1!G38,"")
B40: Noisette en poudre | G40: =IF(E40>0,[3]Feuil1!G39,"")
B41: Œufs entiers | C41: =IF([2]A!E36>0,[2]A!E36,"") | D41: =IF([2]A!F36>0,[2]A!F36,"") | G41: =IF(E41>0,[3]Feuil1!G40,"")
B42: Orange | C42: =IF([2]A!E37>0,[2]A!E37,"") | D42: =IF([2]A!F37>0,[2]A!F37,"") | G42: =IF(E42>0,[3]Feuil1!G41,"")
B43: Pâte à pistache | C43: =IF([2]A!E38>0,[2]A!E38,"") | D43: =IF([2]A!F38>0,[2]A!F38,"") | G43: =IF(E43>0,[3]Feuil1!G42,"")
B44: Poire | C44: =IF([2]A!E39>0,[2]A!E39,"") | D44: =IF([2]A!F39>0,[2]A!F39,"") | G44: =IF(E44>0,[3]Feuil1!G43,"")
B45: Pomme | C45: =IF([2]A!E40>0,[2]A!E40,"") | D45: =IF([2]A!F40>0,[2]A!F40,"") | G45: =IF(E45>0,[3]Feuil1!G44,"")
B46: Poudre à crème pâtissière | C46: =IF([2]A!E41>0,[2]A!E41,"") | D46: =IF([2]A!F41>0,[2]A!F41,"") | G46: =IF(E46>0,[3]Feuil1!G45,"")
B47: Poudre d'amandes | C47: =IF([2]A!E42>0,[2]A!E42,"") | D47: =IF([2]A!F42>0,[2]A!F42,"") | G47: =IF(E47>0,[3]Feuil1!G46,"")
B48: Poudre de lait | C48: =IF([2]A!E43>0,[2]A!E43,"") | D48: =IF([2]A!F43>0,[2]A!F43,"") | G48: =IF(E48>0,[3]Feuil1!G47,"")
B49: Poudre de noisettes | C49: =IF([2]A!E44>0,[2]A!E44,"") | D49: =IF([2]A!F44>0,[2]A!F44,"") | G49: =IF(E49>0,[3]Feuil1!G48,"")
B50: Praliné | C50: =IF([2]A!E45>0,[2]A!E45,"") | D50: =IF([2]A!F45>0,[2]A!F45,"") | G50: =IF(E50>0,[3]Feuil1!G49,"")
B51: Quetsches | C51: =IF([2]A!E46>0,[2]A!E46,"") | D51: =IF([2]A!F46>0,[2]A!F46,"") | G51: =IF(E51>0,[3]Feuil1!G50,"")
B52: Rhubarbe | C52: =IF([2]A!E47>0,[2]A!E47,"") | D52: =IF([2]A!F47>0,[2]A!F47,"") | G52: =IF(E52>0,[3]Feuil1!G51,"")
... B54: Sirop de glucose | C54: =IF([2]A!E49>0,[2]A!E49,"") | D54: =IF([2]A!F49>0,[2]A!F49,"") | G54: =IF(E54>0,[3]Feuil1!G53,"")
B55: Sucre glace | G55: =IF(E55>0,[3]Feuil1!G54,"")
B56: Sucre semoule | C56: =IF([2]A!E50>0,[2]A!E50,"") | D56: =IF([2]A!F50>0,[2]A!F50,"") | G56: =IF(E56>0,[3]Feuil1!G55,"")
C57: =IF([2]A!E51>0,[2]A!E51,"") | D57: =IF([2]A!F51>0,[2]A!F51,"") | G57: =IF(E57>0,[3]Feuil1!G56,"")
C58: =IF([2]A!E52>0,[2]A!E52,"") | D58: =IF([2]A!F52>0,[2]A!F52,"") | G58: =IF(E58>0,[3]Feuil1!G57,"")
C59: =IF([2]A!E53>0,[2]A!E53,"") | D59: =IF([2]A!F53>0,[2]A!F53,"") | G59: =IF(E59>0,[3]Feuil1!G58,"")
C60: =IF([2]A!E54>0,[2]A!E54,"") | D60: =IF([2]A!F54>0,[2]A!F54,"") | G60: =IF(E60>0,[3]Feuil1!G59,"")
C61: =IF([2]A!E55>0,[2]A!E55,"") | D61: =IF([2]A!F55>0,[2]A!F55,"") | G61: =IF(E61>0,[3]Feuil1!G60,"")
C62: =IF([2]A!E56>0,[2]A!E56,"") | D62: =IF([2]A!F56>0,[2]A!F56,"") | G62: =IF(E62>0,[3]Feuil1!G61,"")
C63: =IF([2]A!E57>0,[2]A!E57,"") | D63: =IF([2]A!F57>0,[2]A!F57,"") | G63: =IF(E63>0,[3]Feuil1!G62,"")
C64: =IF([2]A!E58>0,[2]A!E58,"") | D64: =IF([2]A!F58>0,[2]A!F58,"") | G64: =IF(E64>0,[3]Feuil1!G63,"")
C65: =IF([2]A!E59>0,[2]A!E59,"") | D65: =IF([2]A!F59>0,[2]A!F59,"") | G65: =IF(E65>0,[3]Feuil1!G64,"")
C66: =IF([2]A!E60>0,[2]A!E60,"") | D66: =IF([2]A!F60>0,[2]A!F60,"") | G66: =IF(E66>0,[3]Feuil1!G65,"")
C67: =IF([2]A!E61>0,[2]A!E61,"") | D67: =IF([2]A!F61>0,[2]A!F61,"") | G67: =IF(E67>0,[3]Feuil1!G66,"")
C68: =IF([2]A!E62>0,[2]A!E62,"") | D68: =IF([2]A!F62>0,[2]A!F62,"") | G68: =IF(E68>0,[3]Feuil1!G67,"")
... C76: =IF([2]A!E70>0,[2]A!E70,"") | D76: =IF([2]A!F70>0,[2]A!F70,"") | G76: =IF(E76>0,[3]Feuil1!G75,"")
G77: =IF(E77>0,[3]Feuil1!G76,"")
G78: =IF(E78>0,[3]Feuil1!G77,"")
G79: =IF(E79>0,[3]Feuil1!G78,"")
G80: =IF(E80>0,[3]Feuil1!G79,"")
G81: =IF(E81>0,[3]Feuil1!G80,"")
G82: =IF(E82>0,[3]Feuil1!G81,"")
G83: =IF(E83>0,[3]Feuil1!G82,"")
G84: =IF(E84>0,[3]Feuil1!G83,"")
G85: =IF(E85>0,[3]Feuil1!G84,"")
G86: =IF(E86>0,[3]Feuil1!G85,"")
G87: =IF(E87>0,[3]Feuil1!G86,"")
G88: =IF(E88>0,[3]Feuil1!G87,"")
... G205: =IF(E205>0,[3]Feuil1!G204,"")

Sheet B
A1: =[2]B!$A$1:$G$1 -> B
B3: Désignation | C3: Quantités 1p | E3: Quantité au Kg | G3: PU | H3: PT
B4: Amandes blanches entières | G4: =IF(E4>0,[3]Feuil1!G3,"") | J4: Prix
B5: Amandes efffilés | C5: =IF([2]B!E4>0,[2]B!E4,"") | D5: =IF([2]B!F4>0,[2]B!F4,"") | G5: =IF(E5>0,[3]Feuil1!G4,"")
B6: Beurre | C6: =IF([2]B!E5>0,[2]B!E5,"") | D6: =IF([2]B!F5>0,[2]B!F5,"") | G6: =IF(E6>0,[3]Feuil1!G5,"")
B7: Blanc d'œufs | C7: =IF([2]B!E6>0,[2]B!E6,"") | D7: =IF([2]B!F6>0,[2]B!F6,"") | G7: =IF(E7>0,[3]Feuil1!G6,"") | J7: =SUM(H4:H204) -> 0
B8: Cacao | C8: =IF([2]B!E7>0,[2]B!E7,"") | D8: =IF([2]B!F7>0,[2]B!F7,"") | G8: =IF(E8>0,[3]Feuil1!G7,"")
B9: Cannelle | C9: =IF([2]B!E8>0,[2]B!E8,"") | D9: =IF([2]B!F8>0,[2]B!F8,"") | G9: =IF(E9>0,[3]Feuil1!G8,"")
B10: Cerise | C10: =IF([2]B!E9>0,[2]B!E9,"") | D10: =IF([2]B!F9>0,[2]B!F9,"") | G10: =IF(E10>0,[3]Feuil1!G9,"")
B11: Chocolat blanc | C11: =IF([2]B!E10>0,[2]B!E10,"") | D11: =IF([2]B!F10>0,[2]B!F10,"") | G11: =IF(E11>0,[3]Feuil1!G10,"")
B12: Chocolat en pépite | C12: =IF([2]B!E11>0,[2]B!E11,"") | D12: =IF([2]B!F11>0,[2]B!F11,"") | G12: =IF(E12>0,[3]Feuil1!G11,"")
B13: Chocolat en pistole | C13: =IF([2]B!E12>0,[2]B!E12,"") | D13: =IF([2]B!F12>0,[2]B!F12,"") | G13: =IF(E13>0,[3]Feuil1!G12,"")
B14: Citron | C14: =IF([2]B!E13>0,[2]B!E13,"") | D14: =IF([2]B!F13>0,[2]B!F13,"") | G14: =IF(E14>0,[3]Feuil1!G13,"")
B15: Confiture de framboise | C15: =IF([2]B!E14>0,[2]B!E14,"") | D15: =IF([2]B!F14>0,[2]B!F14,"") | G15: =IF(E15>0,[3]Feuil1!G14,"")
B16: Colorant alimentaire | G16: =IF(E16>0,[3]Feuil1!G15,"")
B17: Coulis framboise | C17: =IF([2]B!E15>0,[2]B!E15,"") | D17: =IF([2]B!F15>0,[2]B!F15,"") | G17: =IF(E17>0,[3]Feuil1!G16,"")
B18: Coulis mangue | C18: =IF([2]B!E16>0,[2]B!E16,"") | D18: =IF([2]B!F16>0,[2]B!F16,"") | G18: =IF(E18>0,[3]Feuil1!G17,"")
B19: Eau | C19: =IF([2]B!E17>0,[2]B!E17,"") | D19: =IF([2]B!F17>0,[2]B!F17,"") | G19: =IF(E19>0,[3]Feuil1!G18,"")
B20: Farine | C20: =IF([2]B!E18>0,[2]B!E18,"") | D20: =IF([2]B!F18>0,[2]B!F18,"") | G20: =IF(E20>0,[3]Feuil1!G19,"")
B21: Farine mi-crème | C21: =IF([2]B!E19>0,[2]B!E19,"") | D21: =IF([2]B!F19>0,[2]B!F19,"") | G21: =IF(E21>0,[3]Feuil1!G20,"")
B22: Farine T45 | C22: =IF([2]B!E20>0,[2]B!E20,"") | D22: =IF([2]B!F20>0,[2]B!F20,"") | G22: =IF(E22>0,[3]Feuil1!G21,"")
B23: Farine T45 de gruau | C23: =IF([2]B!E21>0,[2]B!E21,"") | D23: =IF([2]B!F21>0,[2]B!F21,"") | G23: =IF(E23>0,[3]Feuil1!G22,"")
B24: Farinte T65 | C24: =IF([2]B!E22>0,[2]B!E22,"") | D24: =IF([2]B!F22>0,[2]B!F22,"") | G24: =IF(E24>0,[3]Feuil1!G23,"")
B25: Framboise | C25: =IF([2]B!E23>0,[2]B!E23,"") | D25: =IF([2]B!F23>0,[2]B!F23,"") | G25: =IF(E25>0,[3]Feuil1!G24,"")
B26: Gelatine | G26: =IF(E26>0,[3]Feuil1!G25,"")
B27: Gelée d'abricot | C27: =IF([2]B!E24>0,[2]B!E24,"") | D27: =IF([2]B!F24>0,[2]B!F24,"") | G27: =IF(E27>0,[3]Feuil1!G26,"")
B28: Gousse de vanille | C28: =IF([2]B!E25>0,[2]B!E25,"") | D28: =IF([2]B!F25>0,[2]B!F25,"") | G28: =IF(E28>0,[3]Feuil1!G27,"")
B29: Jaune d'œufs | C29: =IF([2]B!E26>0,[2]B!E26,"") | D29: =IF([2]B!F26>0,[2]B!F26,"") | G29: =IF(E29>0,[3]Feuil1!G28,"")
B30: Jus d'orange | C30: =IF([2]B!E27>0,[2]B!E27,"") | D30: =IF([2]B!F27>0,[2]B!F27,"") | G30: =IF(E30>0,[3]Feuil1!G29,"")
B31: Lait 1/2 écrémé | C31: =IF([2]B!E28>0,[2]B!E28,"") | D31: =IF([2]B!F28>0,[2]B!F28,"") | G31: =IF(E31>0,[3]Feuil1!G30,"")
B32: Lait entier | C32: =IF([2]B!E29>0,[2]B!E29,"") | D32: =IF([2]B!F29>0,[2]B!F29,"") | G32: =IF(E32>0,[3]Feuil1!G31,"")
B33: Levure boulangère | C33: =IF([2]B!E30>0,[2]B!E30,"") | D33: =IF([2]B!F30>0,[2]B!F30,"") | G33: =IF(E33>0,[3]Feuil1!G32,"")
B34: Levure chimique | C34: =IF([2]B!E31>0,[2]B!E31,"") | D34: =IF([2]B!F31>0,[2]B!F31,"") | G34: =IF(E34>0,[3]Feuil1!G33,"")
B35: Maizena | C35: =IF([2]B!E32>0,[2]B!E32,"") | D35: =IF([2]B!F32>0,[2]B!F32,"") | G35: =IF(E35>0,[3]Feuil1!G34,"")
B36: Mandarine | C36: =IF([2]B!E33>0,[2]B!E33,"") | D36: =IF([2]B!F33>0,[2]B!F33,"") | G36: =IF(E36>0,[3]Feuil1!G35,"")
B37: Nappage neutre | C37: =IF([2]B!E34>0,[2]B!E34,"") | D37: =IF([2]B!F34>0,[2]B!F34,"") | G37: =IF(E37>0,[3]Feuil1!G36,"")
B38: Noix de coco | G38: =IF(E38>0,[3]Feuil1!G37,"")
B39: Noisette en poudre | G39: =IF(E39>0,[3]Feuil1!G38,"")
B40: Noix | C40: =IF([2]B!E35>0,[2]B!E35,"") | D40: =IF([2]B!F35>0,[2]B!F35,"") | G40: =IF(E40>0,[3]Feuil1!G39,"")
B41: Œufs entiers | C41: =IF([2]B!E36>0,[2]B!E36,"") | D41: =IF([2]B!F36>0,[2]B!F36,"") | G41: =IF(E41>0,[3]Feuil1!G40,"")
B42: Orange | C42: =IF([2]B!E37>0,[2]B!E37,"") | D42: =IF([2]B!F37>0,[2]B!F37,"") | G42: =IF(E42>0,[3]Feuil1!G41,"")
B43: Pâte à pistache | C43: =IF([2]B!E38>0,[2]B!E38,"") | D43: =IF([2]B!F38>0,[2]B!F38,"") | G43: =IF(E43>0,[3]Feuil1!G42,"")
B44: Poire | C44: =IF([2]B!E39>0,[2]B!E39,"") | D44: =IF([2]B!F39>0,[2]B!F39,"") | G44: =IF(E44>0,[3]Feuil1!G43,"")
B45: Pomme | C45: =IF([2]B!E40>0,[2]B!E40,"") | D45: =IF([2]B!F40>0,[2]B!F40,"") | G45: =IF(E45>0,[3]Feuil1!G44,"")
B46: Poudre à crème pâtissière | C46: =IF([2]B!E41>0,[2]B!E41,"") | D46: =IF([2]B!F41>0,[2]B!F41,"") | G46: =IF(E46>0,[3]Feuil1!G45,"")
B47: Poudre d'amandes | C47: =IF([2]B!E42>0,[2]B!E42,"") | D47: =IF([2]B!F42>0,[2]B!F42,"") | G47: =IF(E47>0,[3]Feuil1!G46,"")
B48: Poudre de lait | C48: =IF([2]B!E43>0,[2]B!E43,"") | D48: =IF([2]B!F43>0,[2]B!F43,"") | G48: =IF(E48>0,[3]Feuil1!G47,"")
B49: Poudre de noisettes | C49: =IF([2]B!E44>0,[2]B!E44,"") | D49: =IF([2]B!F44>0,[2]B!F44,"") | G49: =IF(E49>0,[3]Feuil1!G48,"")
B50: Praliné | C50: =IF([2]B!E45>0,[2]B!E45,"") | D50: =IF([2]B!F45>0,[2]B!F45,"") | G50: =IF(E50>0,[3]Feuil1!G49,"")
B51: Quetsches | C51: =IF([2]B!E46>0,[2]B!E46,"") | D51: =IF([2]B!F46>0,[2]B!F46,"") | G51: =IF(E51>0,[3]Feuil1!G50,"")
... B54: Sirop de glucose | C54: =IF([2]B!E49>0,[2]B!E49,"") | D54: =IF([2]B!F49>0,[2]B!F49,"") | G54: =IF(E54>0,[3]Feuil1!G53,"")
B55: Sucre glace | G55: =IF(E55>0,[3]Feuil1!G54,"")
B56: Sucre semoule | C56: =IF([2]B!E50>0,[2]B!E50,"") | D56: =IF([2]B!F50>0,[2]B!F50,"") | G56: =IF(E56>0,[3]Feuil1!G55,"")
C57: =IF([2]B!E51>0,[2]B!E51,"") | D57: =IF([2]B!F51>0,[2]B!F51,"") | G57: =IF(E57>0,[3]Feuil1!G56,"")
C58: =IF([2]B!E52>0,[2]B!E52,"") | D58: =IF([2]B!F52>0,[2]B!F52,"") | G58: =IF(E58>0,[3]Feuil1!G57,"")
C59: =IF([2]B!E53>0,[2]B!E53,"") | D59: =IF([2]B!F53>0,[2]B!F53,"") | G59: =IF(E59>0,[3]Feuil1!G58,"")
C60: =IF([2]B!E54>0,[2]B!E54,"") | D60: =IF([2]B!F54>0,[2]B!F54,"") | G60: =IF(E60>0,[3]Feuil1!G59,"")
C61: =IF([2]B!E55>0,[2]B!E55,"") | D61: =IF([2]B!F55>0,[2]B!F55,"") | G61: =IF(E61>0,[3]Feuil1!G60,"")
C62: =IF([2]B!E56>0,[2]B!E56,"") | D62: =IF([2]B!F56>0,[2]B!F56,"") | G62: =IF(E62>0,[3]Feuil1!G61,"")
C63: =IF([2]B!E57>0,[2]B!E57,"") | D63: =IF([2]B!F57>0,[2]B!F57,"") | G63: =IF(E63>0,[3]Feuil1!G62,"")
C64: =IF([2]B!E58>0,[2]B!E58,"") | D64: =IF([2]B!F58>0,[2]B!F58,"") | G64: =IF(E64>0,[3]Feuil1!G63,"")
C65: =IF([2]B!E59>0,[2]B!E59,"") | D65: =IF([2]B!F59>0,[2]B!F59,"") | G65: =IF(E65>0,[3]Feuil1!G64,"")
C66: =IF([2]B!E60>0,[2]B!E60,"") | D66: =IF([2]B!F60>0,[2]B!F60,"") | G66: =IF(E66>0,[3]Feuil1!G65,"")
C67: =IF([2]B!E61>0,[2]B!E61,"") | D67: =IF([2]B!F61>0,[2]B!F61,"") | G67: =IF(E67>0,[3]Feuil1!G66,"")
C68: =IF([2]B!E62>0,[2]B!E62,"") | D68: =IF([2]B!F62>0,[2]B!F62,"") | G68: =IF(E68>0,[3]Feuil1!G67,"")
... C76: =IF([2]B!E70>0,[2]B!E70,"") | D76: =IF([2]B!F70>0,[2]B!F70,"") | G76: =IF(E76>0,[3]Feuil1!G75,"")

Sheet C
A1: =[2]C!$A$1:$G$1 -> C
B3: Désignation | C3: Quantités 1p | E3: Quantité au Kg | G3: PU | H3: PT
B4: Amandes blanches entières | G4: =IF(E4>0,[3]Feuil1!G3,"") | J4: Prix
B5: Amandes efffilés | C5: =IF([2]C!E4>0,[2]C!E4,"") | D5: =IF([2]C!F4>0,[2]C!F4,"") | G5: =IF(E5>0,[3]Feuil1!G4,"")
B6: Beurre | C6: =IF([2]C!E5>0,[2]C!E5,"") | D6: =IF([2]C!F5>0,[2]C!F5,"") | G6: =IF(E6>0,[3]Feuil1!G5,"")
B7: Blanc d'œufs | C7: =IF([2]C!E6>0,[2]C!E6,"") | D7: =IF([2]C!F6>0,[2]C!F6,"") | G7: =IF(E7>0,[3]Feuil1!G6,"") | J7: =SUM(H4:H204) -> 0
B8: Cacao | C8: =IF([2]C!E7>0,[2]C!E7,"") | D8: =IF([2]C!F7>0,[2]C!F7,"") | G8: =IF(E8>0,[3]Feuil1!G7,"")
B9: Cannelle | C9: =IF([2]C!E8>0,[2]C!E8,"") | D9: =IF([2]C!F8>0,[2]C!F8,"") | G9: =IF(E9>0,[3]Feuil1!G8,"")
B10: Cerise | C10: =IF([2]C!E9>0,[2]C!E9,"") | D10: =IF([2]C!F9>0,[2]C!F9,"") | G10: =IF(E10>0,[3]Feuil1!G9,"")
B11: Chocolat blanc | C11: =IF([2]C!E10>0,[2]C!E10,"") | D11: =IF([2]C!F10>0,[2]C!F10,"") | G11: =IF(E11>0,[3]Feuil1!G10,"")
B12: Chocolat en pépite | C12: =IF([2]C!E11>0,[2]C!E11,"") | D12: =IF([2]C!F11>0,[2]C!F11,"") | G12: =IF(E12>0,[3]Feuil1!G11,"")
B13: Chocolat en pistole | C13: =IF([2]C!E12>0,[2]C!E12,"") | D13: =IF([2]C!F12>0,[2]C!F12,"") | G13: =IF(E13>0,[3]Feuil1!G12,"")
B14: Citron | C14: =IF([2]C!E13>0,[2]C!E13,"") | D14: =IF([2]C!F13>0,[2]C!F13,"") | G14: =IF(E14>0,[3]Feuil1!G13,"")
B15: Confiture de framboise | C15: =IF([2]C!E14>0,[2]C!E14,"") | D15: =IF([2]C!F14>0,[2]C!F14,"") | G15: =IF(E15>0,[3]Feuil1!G14,"")
B16: Colorant alimentaire | G16: =IF(E16>0,[3]Feuil1!G15,"")
B17: Coulis framboise | C17: =IF([2]C!E15>0,[2]C!E15,"") | D17: =IF([2]C!F15>0,[2]C!F15,"") | G17: =IF(E17>0,[3]Feuil1!G16,"")
B18: Coulis mangue | C18: =IF([2]C!E16>0,[2]C!E16,"") | D18: =IF([2]C!F16>0,[2]C!F16,"") | G18: =IF(E18>0,[3]Feuil1!G17,"")
B19: Eau | C19: =IF([2]C!E17>0,[2]C!E17,"") | D19: =IF([2]C!F17>0,[2]C!F17,"") | G19: =IF(E19>0,[3]Feuil1!G18,"")
B20: Farine | C20: =IF([2]C!E18>0,[2]C!E18,"") | D20: =IF([2]C!F18>0,[2]C!F18,"") | G20: =IF(E20>0,[3]Feuil1!G19,"")
B21: Farine mi-crème | C21: =IF([2]C!E19>0,[2]C!E19,"") | D21: =IF([2]C!F19>0,[2]C!F19,"") | G21: =IF(E21>0,[3]Feuil1!G20,"")
B22: Farine T45 | C22: =IF([2]C!E20>0,[2]C!E20,"") | D22: =IF([2]C!F20>0,[2]C!F20,"") | G22: =IF(E22>0,[3]Feuil1!G21,"")
B23: Farine T45 de gruau | C23: =IF([2]C!E21>0,[2]C!E21,"") | D23: =IF([2]C!F21>0,[2]C!F21,"") | G23: =IF(E23>0,[3]Feuil1!G22,"")
B24: Farinte T65 | C24: =IF([2]C!E22>0,[2]C!E22,"") | D24: =IF([2]C!F22>0,[2]C!F22,"") | G24: =IF(E24>0,[3]Feuil1!G23,"")
B25: Framboise | C25: =IF([2]C!E23>0,[2]C!E23,"") | D25: =IF([2]C!F23>0,[2]C!F23,"") | G25: =IF(E25>0,[3]Feuil1!G24,"")
B26: Gelatine | G26: =IF(E26>0,[3]Feuil1!G25,"")
B27: Gelée d'abricot | C27: =IF([2]C!E24>0,[2]C!E24,"") | D27: =IF([2]C!F24>0,[2]C!F24,"") | G27: =IF(E27>0,[3]Feuil1!G26,"")
B28: Gousse de vanille | C28: =IF([2]C!E25>0,[2]C!E25,"") | D28: =IF([2]C!F25>0,[2]C!F25,"") | G28: =IF(E28>0,[3]Feuil1!G27,"")
B29: Jaune d'œufs | C29: =IF([2]C!E26>0,[2]C!E26,"") | D29: =IF([2]C!F26>0,[2]C!F26,"") | G29: =IF(E29>0,[3]Feuil1!G28,"")
B30: Jus d'orange | C30: =IF([2]C!E27>0,[2]C!E27,"") | D30: =IF([2]C!F27>0,[2]C!F27,"") | G30: =IF(E30>0,[3]Feuil1!G29,"")
B31: Lait 1/2 écrémé | C31: =IF([2]C!E28>0,[2]C!E28,"") | D31: =IF([2]C!F28>0,[2]C!F28,"") | G31: =IF(E31>0,[3]Feuil1!G30,"")
B32: Lait entier | C32: =IF([2]C!E29>0,[2]C!E29,"") | D32: =IF([2]C!F29>0,[2]C!F29,"") | G32: =IF(E32>0,[3]Feuil1!G31,"")
B33: Levure boulangère | C33: =IF([2]C!E30>0,[2]C!E30,"") | D33: =IF([2]C!F30>0,[2]C!F30,"") | G33: =IF(E33>0,[3]Feuil1!G32,"")
B34: Levure chimique | C34: =IF([2]C!E31>0,[2]C!E31,"") | D34: =IF([2]C!F31>0,[2]C!F31,"") | G34: =IF(E34>0,[3]Feuil1!G33,"")
B35: Maizena | C35: =IF([2]C!E32>0,[2]C!E32,"") | D35: =IF([2]C!F32>0,[2]C!F32,"") | G35: =IF(E35>0,[3]Feuil1!G34,"")
B36: Mandarine | C36: =IF([2]C!E33>0,[2]C!E33,"") | D36: =IF([2]C!F33>0,[2]C!F33,"") | G36: =IF(E36>0,[3]Feuil1!G35,"")
B37: Nappage neutre | C37: =IF([2]C!E34>0,[2]C!E34,"") | D37: =IF([2]C!F34>0,[2]C!F34,"") | G37: =IF(E37>0,[3]Feuil1!G36,"")
B38: Noix | C38: =IF([2]C!E35>0,[2]C!E35,"") | D38: =IF([2]C!F35>0,[2]C!F35,"") | G38: =IF(E38>0,[3]Feuil1!G37,"")
B39: Noix de coco | G39: =IF(E39>0,[3]Feuil1!G38,"")
B40: Noisette en poudre | G40: =IF(E40>0,[3]Feuil1!G39,"")
B41: Œufs entiers | C41: =IF([2]C!E36>0,[2]C!E36,"") | D41: =IF([2]C!F36>0,[2]C!F36,"") | G41: =IF(E41>0,[3]Feuil1!G40,"")
B42: Orange | C42: =IF([2]C!E37>0,[2]C!E37,"") | D42: =IF([2]C!F37>0,[2]C!F37,"") | G42: =IF(E42>0,[3]Feuil1!G41,"")
B43: Pâte à pistache | C43: =IF([2]C!E38>0,[2]C!E38,"") | D43: =IF([2]C!F38>0,[2]C!F38,"") | G43: =IF(E43>0,[3]Feuil1!G42,"")
B44: Poire | C44: =IF([2]C!E39>0,[2]C!E39,"") | D44: =IF([2]C!F39>0,[2]C!F39,"") | G44: =IF(E44>0,[3]Feuil1!G43,"")
B45: Pomme | C45: =IF([2]C!E40>0,[2]C!E40,"") | D45: =IF([2]C!F40>0,[2]C!F40,"") | G45: =IF(E45>0,[3]Feuil1!G44,"")
B46: Poudre à crème pâtissière | C46: =IF([2]C!E41>0,[2]C!E41,"") | D46: =IF([2]C!F41>0,[2]C!F41,"") | G46: =IF(E46>0,[3]Feuil1!G45,"")
B47: Poudre d'amandes | C47: =IF([2]C!E42>0,[2]C!E42,"") | D47: =IF([2]C!F42>0,[2]C!F42,"") | G47: =IF(E47>0,[3]Feuil1!G46,"")
B48: Poudre de lait | C48: =IF([2]C!E43>0,[2]C!E43,"") | D48: =IF([2]C!F43>0,[2]C!F43,"") | G48: =IF(E48>0,[3]Feuil1!G47,"")
B49: Poudre de noisettes | C49: =IF([2]C!E44>0,[2]C!E44,"") | D49: =IF([2]C!F44>0,[2]C!F44,"") | G49: =IF(E49>0,[3]Feuil1!G48,"")
B50: Praliné | C50: =IF([2]C!E45>0,[2]C!E45,"") | D50: =IF([2]C!F45>0,[2]C!F45,"") | G50: =IF(E50>0,[3]Feuil1!G49,"")
B51: Quetsches | C51: =IF([2]C!E46>0,[2]C!E46,"") | D51: =IF([2]C!F46>0,[2]C!F46,"") | G51: =IF(E51>0,[3]Feuil1!G50,"")
B52: Rhubarbe | C52: =IF([2]C!E47>0,[2]C!E47,"") | D52: =IF([2]C!F47>0,[2]C!F47,"") | G52: =IF(E52>0,[3]Feuil1!G51,"")
... B54: Sirop de glucose | C54: =IF([2]C!E49>0,[2]C!E49,"") | D54: =IF([2]C!F49>0,[2]C!F49,"") | G54: =IF(E54>0,[3]Feuil1!G53,"")
B55: Sucre glace | G55: =IF(E55>0,[3]Feuil1!G54,"")
B56: Sucre semoule | C56: =IF([2]C!E50>0,[2]C!E50,"") | D56: =IF([2]C!F50>0,[2]C!F50,"") | G56: =IF(E56>0,[3]Feuil1!G55,"")
C57: =IF([2]C!E51>0,[2]C!E51,"") | D57: =IF([2]C!F51>0,[2]C!F51,"") | G57: =IF(E57>0,[3]Feuil1!G56,"")
C58: =IF([2]C!E52>0,[2]C!E52,"") | D58: =IF([2]C!F52>0,[2]C!F52,"") | G58: =IF(E58>0,[3]Feuil1!G57,"")
C59: =IF([2]C!E53>0,[2]C!E53,"") | D59: =IF([2]C!F53>0,[2]C!F53,"") | G59: =IF(E59>0,[3]Feuil1!G58,"")
C60: =IF([2]C!E54>0,[2]C!E54,"") | D60: =IF([2]C!F54>0,[2]C!F54,"") | G60: =IF(E60>0,[3]Feuil1!G59,"")
C61: =IF([2]C!E55>0,[2]C!E55,"") | D61: =IF([2]C!F55>0,[2]C!F55,"") | G61: =IF(E61>0,[3]Feuil1!G60,"")
C62: =IF([2]C!E56>0,[2]C!E56,"") | D62: =IF([2]C!F56>0,[2]C!F56,"") | G62: =IF(E62>0,[3]Feuil1!G61,"")
C63: =IF([2]C!E57>0,[2]C!E57,"") | D63: =IF([2]C!F57>0,[2]C!F57,"") | G63: =IF(E63>0,[3]Feuil1!G62,"")
C64: =IF([2]C!E58>0,[2]C!E58,"") | D64: =IF([2]C!F58>0,[2]C!F58,"") | G64: =IF(E64>0,[3]Feuil1!G63,"")
C65: =IF([2]C!E59>0,[2]C!E59,"") | D65: =IF([2]C!F59>0,[2]C!F59,"") | G65: =IF(E65>0,[3]Feuil1!G64,"")
C66: =IF([2]C!E60>0,[2]C!E60,"") | D66: =IF([2]C!F60>0,[2]C!F60,"") | G66: =IF(E66>0,[3]Feuil1!G65,"")
C67: =IF([2]C!E61>0,[2]C!E61,"") | D67: =IF([2]C!F61>0,[2]C!F61,"") | G67: =IF(E67>0,[3]Feuil1!G66,"")
C68: =IF([2]C!E62>0,[2]C!E62,"") | D68: =IF([2]C!F62>0,[2]C!F62,"") | G68: =IF(E68>0,[3]Feuil1!G67,"")
... C76: =IF([2]C!E70>0,[2]C!E70,"") | D76: =IF([2]C!F70>0,[2]C!F70,"") | G76: =IF(E76>0,[3]Feuil1!G75,"")

Sheet D
A1: =[2]D!$A$1:$G$1 -> D
B3: Désignation | C3: Quantités 1p | E3: Quantité au Kg | G3: PU | H3: PT
B4: Amandes blanches entières | G4: =IF(E4>0,[3]Feuil1!G3,"") | J4: Prix
B5: Amandes efffilés | C5: =IF([2]D!E4>0,[2]D!E4,"") -> 1 | D5: =IF([2]D!F4>0,[2]D!F4,"") | G5: =IF(E5>0,[3]Feuil1!G4,"")
B6: Beurre | C6: =IF([2]D!E5>0,[2]D!E5,"") | D6: =IF([2]D!F5>0,[2]D!F5,"") | G6: =IF(E6>0,[3]Feuil1!G5,"")
B7: Blanc d'œufs | C7: =IF([2]D!E6>0,[2]D!E6,"") | D7: =IF([2]D!F6>0,[2]D!F6,"") | G7: =IF(E7>0,[3]Feuil1!G6,"") | J7: =SUM(H4:H204) -> 0
B8: Cacao | C8: =IF([2]D!E7>0,[2]D!E7,"") | D8: =IF([2]D!F7>0,[2]D!F7,"") | G8: =IF(E8>0,[3]Feuil1!G7,"")
B9: Cannelle | C9: =IF([2]D!E8>0,[2]D!E8,"") | D9: =IF([2]D!F8>0,[2]D!F8,"") | G9: =IF(E9>0,[3]Feuil1!G8,"")
B10: Cerise | C10: =IF([2]D!E9>0,[2]D!E9,"") | D10: =IF([2]D!F9>0,[2]D!F9,"") | G10: =IF(E10>0,[3]Feuil1!G9,"")
B11: Chocolat blanc | C11: =IF([2]D!E10>0,[2]D!E10,"") | D11: =IF([2]D!F10>0,[2]D!F10,"") | G11: =IF(E11>0,[3]Feuil1!G10,"")
B12: Chocolat en pépite | C12: =IF([2]D!E11>0,[2]D!E11,"") | D12: =IF([2]D!F11>0,[2]D!F11,"") | G12: =IF(E12>0,[3]Feuil1!G11,"")
B13: Chocolat en pistole | C13: =IF([2]D!E12>0,[2]D!E12,"") | D13: =IF([2]D!F12>0,[2]D!F12,"") | G13: =IF(E13>0,[3]Feuil1!G12,"")
B14: Citron | C14: =IF([2]D!E13>0,[2]D!E13,"") | D14: =IF([2]D!F13>0,[2]D!F13,"") | G14: =IF(E14>0,[3]Feuil1!G13,"")
B15: Confiture de framboise | C15: =IF([2]D!E14>0,[2]D!E14,"") | D15: =IF([2]D!F14>0,[2]D!F14,"") | G15: =IF(E15>0,[3]Feuil1!G14,"")
B16: Colorant alimentaire | G16: =IF(E16>0,[3]Feuil1!G15,"")
B17: Coulis framboise | C17: =IF([2]D!E15>0,[2]D!E15,"") | D17: =IF([2]D!F15>0,[2]D!F15,"") | G17: =IF(E17>0,[3]Feuil1!G16,"")
B18: Coulis mangue | C18: =IF([2]D!E16>0,[2]D!E16,"") | D18: =IF([2]D!F16>0,[2]D!F16,"") | G18: =IF(E18>0,[3]Feuil1!G17,"")
B19: Eau | C19: =IF([2]D!E17>0,[2]D!E17,"") | D19: =IF([2]D!F17>0,[2]D!F17,"") | G19: =IF(E19>0,[3]Feuil1!G18,"")
B20: Farine | C20: =IF([2]D!E18>0,[2]D!E18,"") | D20: =IF([2]D!F18>0,[2]D!F18,"") | G20: =IF(E20>0,[3]Feuil1!G19,"")
B21: Farine mi-crème | C21: =IF([2]D!E19>0,[2]D!E19,"") | D21: =IF([2]D!F19>0,[2]D!F19,"") | G21: =IF(E21>0,[3]Feuil1!G20,"")
B22: Farine T45 | C22: =IF([2]D!E20>0,[2]D!E20,"") | D22: =IF([2]D!F20>0,[2]D!F20,"") | G22: =IF(E22>0,[3]Feuil1!G21,"")
B23: Farine T45 de gruau | C23: =IF([2]D!E21>0,[2]D!E21,"") | D23: =IF([2]D!F21>0,[2]D!F21,"") | G23: =IF(E23>0,[3]Feuil1!G22,"")
B24: Farinte T65 | C24: =IF([2]D!E22>0,[2]D!E22,"") | D24: =IF([2]D!F22>0,[2]D!F22,"") | G24: =IF(E24>0,[3]Feuil1!G23,"")
B25: Framboise | C25: =IF([2]D!E23>0,[2]D!E23,"") | D25: =IF([2]D!F23>0,[2]D!F23,"") | G25: =IF(E25>0,[3]Feuil1!G24,"")
B26: Gelatine | G26: =IF(E26>0,[3]Feuil1!G25,"")
B27: Gelée d'abricot | C27: =IF([2]D!E24>0,[2]D!E24,"") | D27: =IF([2]D!F24>0,[2]D!F24,"") | G27: =IF(E27>0,[3]Feuil1!G26,"")
B28: Gousse de vanille | C28: =IF([2]D!E25>0,[2]D!E25,"") | D28: =IF([2]D!F25>0,[2]D!F25,"") | G28: =IF(E28>0,[3]Feuil1!G27,"")
B29: Jaune d'œufs | C29: =IF([2]D!E26>0,[2]D!E26,"") | D29: =IF([2]D!F26>0,[2]D!F26,"") | G29: =IF(E29>0,[3]Feuil1!G28,"")
B30: Jus d'orange | C30: =IF([2]D!E27>0,[2]D!E27,"") | D30: =IF([2]D!F27>0,[2]D!F27,"") | G30: =IF(E30>0,[3]Feuil1!G29,"")
B31: Lait 1/2 écrémé | C31: =IF([2]D!E28>0,[2]D!E28,"") | D31: =IF([2]D!F28>0,[2]D!F28,"") | G31: =IF(E31>0,[3]Feuil1!G30,"")
B32: Lait entier | C32: =IF([2]D!E29>0,[2]D!E29,"") | D32: =IF([2]D!F29>0,[2]D!F29,"") | G32: =IF(E32>0,[3]Feuil1!G31,"")
B33: Levure boulangère | C33: =IF([2]D!E30>0,[2]D!E30,"") | D33: =IF([2]D!F30>0,[2]D!F30,"") | G33: =IF(E33>0,[3]Feuil1!G32,"")
B34: Levure chimique | C34: =IF([2]D!E31>0,[2]D!E31,"") | D34: =IF([2]D!F31>0,[2]D!F31,"") | G34: =IF(E34>0,[3]Feuil1!G33,"")
B35: Maizena | C35: =IF([2]D!E32>0,[2]D!E32,"") | D35: =IF([2]D!F32>0,[2]D!F32,"") | G35: =IF(E35>0,[3]Feuil1!G34,"")
B36: Mandarine | C36: =IF([2]D!E33>0,[2]D!E33,"") | D36: =IF([2]D!F33>0,[2]D!F33,"") | G36: =IF(E36>0,[3]Feuil1!G35,"")
B37: Nappage neutre | C37: =IF([2]D!E34>0,[2]D!E34,"") | D37: =IF([2]D!F34>0,[2]D!F34,"") | G37: =IF(E37>0,[3]Feuil1!G36,"")
B38: Noix | C38: =IF([2]D!E35>0,[2]D!E35,"") | D38: =IF([2]D!F35>0,[2]D!F35,"") | G38: =IF(E38>0,[3]Feuil1!G37,"")
B39: Noix de coco | G39: =IF(E39>0,[3]Feuil1!G38,"")
B40: Noisette en poudre | G40: =IF(E40>0,[3]Feuil1!G39,"")
B41: Œufs entiers | C41: =IF([2]D!E36>0,[2]D!E36,"") | D41: =IF([2]D!F36>0,[2]D!F36,"") | G41: =IF(E41>0,[3]Feuil1!G40,"")
B42: Orange | C42: =IF([2]D!E37>0,[2]D!E37,"") | D42: =IF([2]D!F37>0,[2]D!F37,"") | G42: =IF(E42>0,[3]Feuil1!G41,"")
B43: Pâte à pistache | C43: =IF([2]D!E38>0,[2]D!E38,"") | D43: =IF([2]D!F38>0,[2]D!F38,"") | G43: =IF(E43>0,[3]Feuil1!G42,"")
B44: Poire | C44: =IF([2]D!E39>0,[2]D!E39,"") | D44: =IF([2]D!F39>0,[2]D!F39,"") | G44: =IF(E44>0,[3]Feuil1!G43,"")
B45: Pomme | C45: =IF([2]D!E40>0,[2]D!E40,"") | D45: =IF([2]D!F40>0,[2]D!F40,"") | G45: =IF(E45>0,[3]Feuil1!G44,"")
B46: Poudre à crème pâtissière | C46: =IF([2]D!E41>0,[2]D!E41,"") | D46: =IF([2]D!F41>0,[2]D!F41,"") | G46: =IF(E46>0,[3]Feuil1!G45,"")
B47: Poudre d'amandes | C47: =IF([2]D!E42>0,[2]D!E42,"") | D47: =IF([2]D!F42>0,[2]D!F42,"") | G47: =IF(E47>0,[3]Feuil1!G46,"")
B48: Poudre de lait | C48: =IF([2]D!E43>0,[2]D!E43,"") | D48: =IF([2]D!F43>0,[2]D!F43,"") | G48: =IF(E48>0,[3]Feuil1!G47,"")
B49: Poudre de noisettes | C49: =IF([2]D!E44>0,[2]D!E44,"") | D49: =IF([2]D!F44>0,[2]D!F44,"") | G49: =IF(E49>0,[3]Feuil1!G48,"")
B50: Praliné | C50: =IF([2]D!E45>0,[2]D!E45,"") | D50: =IF([2]D!F45>0,[2]D!F45,"") | G50: =IF(E50>0,[3]Feuil1!G49,"")
B51: Quetsches | C51: =IF([2]D!E46>0,[2]D!E46,"") | D51: =IF([2]D!F46>0,[2]D!F46,"") | G51: =IF(E51>0,[3]Feuil1!G50,"")
B52: Rhubarbe | C52: =IF([2]D!E47>0,[2]D!E47,"") | D52: =IF([2]D!F47>0,[2]D!F47,"") | G52: =IF(E52>0,[3]Feuil1!G51,"")
... B54: Sirop de glucose | C54: =IF([2]D!E49>0,[2]D!E49,"") | D54: =IF([2]D!F49>0,[2]D!F49,"") | G54: =IF(E54>0,[3]Feuil1!G53,"")
B55: Sucre glace | G55: =IF(E55>0,[3]Feuil1!G54,"")
B56: Sucre semoule | C56: =IF([2]D!E50>0,[2]D!E50,"") | D56: =IF([2]D!F50>0,[2]D!F50,"") | G56: =IF(E56>0,[3]Feuil1!G55,"")
C57: =IF([2]D!E51>0,[2]D!E51,"") | D57: =IF([2]D!F51>0,[2]D!F51,"") | G57: =IF(E57>0,[3]Feuil1!G56,"")
C58: =IF([2]D!E52>0,[2]D!E52,"") | D58: =IF([2]D!F52>0,[2]D!F52,"") | G58: =IF(E58>0,[3]Feuil1!G57,"")
C59: =IF([2]D!E53>0,[2]D!E53,"") | D59: =IF([2]D!F53>0,[2]D!F53,"") | G59: =IF(E59>0,[3]Feuil1!G58,"")
C60: =IF([2]D!E54>0,[2]D!E54,"") | D60: =IF([2]D!F54>0,[2]D!F54,"") | G60: =IF(E60>0,[3]Feuil1!G59,"")
C61: =IF([2]D!E55>0,[2]D!E55,"") | D61: =IF([2]D!F55>0,[2]D!F55,"") | G61: =IF(E61>0,[3]Feuil1!G60,"")
C62: =IF([2]D!E56>0,[2]D!E56,"") | D62: =IF([2]D!F56>0,[2]D!F56,"") | G62: =IF(E62>0,[3]Feuil1!G61,"")
C63: =IF([2]D!E57>0,[2]D!E57,"") | D63: =IF([2]D!F57>0,[2]D!F57,"") | G63: =IF(E63>0,[3]Feuil1!G62,"")
C64: =IF([2]D!E58>0,[2]D!E58,"") | D64: =IF([2]D!F58>0,[2]D!F58,"") | G64: =IF(E64>0,[3]Feuil1!G63,"")
C65: =IF([2]D!E59>0,[2]D!E59,"") | D65: =IF([2]D!F59>0,[2]D!F59,"") | G65: =IF(E65>0,[3]Feuil1!G64,"")
C66: =IF([2]D!E60>0,[2]D!E60,"") | D66: =IF([2]D!F60>0,[2]D!F60,"") | G66: =IF(E66>0,[3]Feuil1!G65,"")
C67: =IF([2]D!E61>0,[2]D!E61,"") | D67: =IF([2]D!F61>0,[2]D!F61,"") | G67: =IF(E67>0,[3]Feuil1!G66,"")
C68: =IF([2]D!E62>0,[2]D!E62,"") | D68: =IF([2]D!F62>0,[2]D!F62,"") | G68: =IF(E68>0,[3]Feuil1!G67,"")
... C76: =IF([2]D!E70>0,[2]D!E70,"") | D76: =IF([2]D!F70>0,[2]D!F70,"") | G76: =IF(E76>0,[3]Feuil1!G75,"")

Sheet E
A1: =[2]E!$A$1:$G$1 -> E
B3: Désignation | C3: Quantités 1p | E3: Quantité au Kg | G3: PU | H3: PT
B4: Amandes blanches entières | G4: =IF(E4>0,[3]Feuil1!G3,"") | J4: Prix
B5: Amandes efffilés | C5: =IF([2]E!E4>0,[2]E!E4,"") -> 1 | D5: =IF([2]E!F4>0,[2]E!F4,"") | G5: =IF(E5>0,[3]Feuil1!G4,"")
B6: Beurre | C6: =IF([2]E!E5>0,[2]E!E5,"") | D6: =IF([2]E!F5>0,[2]E!F5,"") | G6: =IF(E6>0,[3]Feuil1!G5,"")
B7: Blanc d'œufs | C7: =IF([2]E!E6>0,[2]E!E6,"") | D7: =IF([2]E!F6>0,[2]E!F6,"") | G7: =IF(E7>0,[3]Feuil1!G6,"") | J7: =SUM(H4:H204) -> 0
B8: Cacao | C8: =IF([2]E!E7>0,[2]E!E7,"") | D8: =IF([2]E!F7>0,[2]E!F7,"") | G8: =IF(E8>0,[3]Feuil1!G7,"")
B9: Cannelle | C9: =IF([2]E!E8>0,[2]E!E8,"") | D9: =IF([2]E!F8>0,[2]E!F8,"") | G9: =IF(E9>0,[3]Feuil1!G8,"")
B10: Cerise | C10: =IF([2]E!E9>0,[2]E!E9,"") | D10: =IF([2]E!F9>0,[2]E!F9,"") | G10: =IF(E10>0,[3]Feuil1!G9,"")
B11: Chocolat blanc | C11: =IF([2]E!E10>0,[2]E!E10,"") | D11: =IF([2]E!F10>0,[2]E!F10,"") | G11: =IF(E11>0,[3]Feuil1!G10,"")
B12: Chocolat en pépite | C12: =IF([2]E!E11>0,[2]E!E11,"") | D12: =IF([2]E!F11>0,[2]E!F11,"") | G12: =IF(E12>0,[3]Feuil1!G11,"")
B13: Chocolat en pistole | C13: =IF([2]E!E12>0,[2]E!E12,"") | D13: =IF([2]E!F12>0,[2]E!F12,"") | G13: =IF(E13>0,[3]Feuil1!G12,"")
B14: Citron | C14: =IF([2]E!E13>0,[2]E!E13,"") | D14: =IF([2]E!F13>0,[2]E!F13,"") | G14: =IF(E14>0,[3]Feuil1!G13,"")
B15: Confiture de framboise | C15: =IF([2]E!E14>0,[2]E!E14,"") | D15: =IF([2]E!F14>0,[2]E!F14,"") | G15: =IF(E15>0,[3]Feuil1!G14,"")
B16: Colorant alimentaire | G16: =IF(E16>0,[3]Feuil1!G15,"")
B17: Coulis framboise | C17: =IF([2]E!E15>0,[2]E!E15,"") | D17: =IF([2]E!F15>0,[2]E!F15,"") | G17: =IF(E17>0,[3]Feuil1!G16,"")
B18: Coulis mangue | C18: =IF([2]E!E16>0,[2]E!E16,"") | D18: =IF([2]E!F16>0,[2]E!F16,"") | G18: =IF(E18>0,[3]Feuil1!G17,"")
B19: Eau | C19: =IF([2]E!E17>0,[2]E!E17,"") | D19: =IF([2]E!F17>0,[2]E!F17,"") | G19: =IF(E19>0,[3]Feuil1!G18,"")
B20: Farine | C20: =IF([2]E!E18>0,[2]E!E18,"") | D20: =IF([2]E!F18>0,[2]E!F18,"") | G20: =IF(E20>0,[3]Feuil1!G19,"")
B21: Farine mi-crème | C21: =IF([2]E!E19>0,[2]E!E19,"") | D21: =IF([2]E!F19>0,[2]E!F19,"") | G21: =IF(E21>0,[3]Feuil1!G20,"")
B22: Farine T45 | C22: =IF([2]E!E20>0,[2]E!E20,"") | D22: =IF([2]E!F20>0,[2]E!F20,"") | G22: =IF(E22>0,[3]Feuil1!G21,"")
B23: Farine T45 de gruau | C23: =IF([2]E!E21>0,[2]E!E21,"") | D23: =IF([2]E!F21>0,[2]E!F21,"") | G23: =IF(E23>0,[3]Feuil1!G22,"")
B24: Farinte T65 | C24: =IF([2]E!E22>0,[2]E!E22,"") | D24: =IF([2]E!F22>0,[2]E!F22,"") | G24: =IF(E24>0,[3]Feuil1!G23,"")
B25: Framboise | C25: =IF([2]E!E23>0,[2]E!E23,"") | D25: =IF([2]E!F23>0,[2]E!F23,"") | G25: =IF(E25>0,[3]Feuil1!G24,"")
B26: Gelatine | G26: =IF(E26>0,[3]Feuil1!G25,"")
B27: Gelée d'abricot | C27: =IF([2]E!E24>0,[2]E!E24,"") | D27: =IF([2]E!F24>0,[2]E!F24,"") | G27: =IF(E27>0,[3]Feuil1!G26,"")
B28: Gousse de vanille | C28: =IF([2]E!E25>0,[2]E!E25,"") | D28: =IF([2]E!F25>0,[2]E!F25,"") | G28: =IF(E28>0,[3]Feuil1!G27,"")
B29: Jaune d'œufs | C29: =IF([2]E!E26>0,[2]E!E26,"") | D29: =IF([2]E!F26>0,[2]E!F26,"") | G29: =IF(E29>0,[3]Feuil1!G28,"")
B30: Jus d'orange | C30: =IF([2]E!E27>0,[2]E!E27,"") | D30: =IF([2]E!F27>0,[2]E!F27,"") | G30: =IF(E30>0,[3]Feuil1!G29,"")
B31: Lait 1/2 écrémé | C31: =IF([2]E!E28>0,[2]E!E28,"") | D31: =IF([2]E!F28>0,[2]E!F28,"") | G31: =IF(E31>0,[3]Feuil1!G30,"")
B32: Lait entier | C32: =IF([2]E!E29>0,[2]E!E29,"") | D32: =IF([2]E!F29>0,[2]E!F29,"") | G32: =IF(E32>0,[3]Feuil1!G31,"")
B33: Levure boulangère | C33: =IF([2]E!E30>0,[2]E!E30,"") | D33: =IF([2]E!F30>0,[2]E!F30,"") | G33: =IF(E33>0,[3]Feuil1!G32,"")
B34: Levure chimique | C34: =IF([2]E!E31>0,[2]E!E31,"") | D34: =IF([2]E!F31>0,[2]E!F31,"") | G34: =IF(E34>0,[3]Feuil1!G33,"")
B35: Maizena | C35: =IF([2]E!E32>0,[2]E!E32,"") | D35: =IF([2]E!F32>0,[2]E!F32,"") | G35: =IF(E35>0,[3]Feuil1!G34,"")
B36: Mandarine | C36: =IF([2]E!E33>0,[2]E!E33,"") | D36: =IF([2]E!F33>0,[2]E!F33,"") | G36: =IF(E36>0,[3]Feuil1!G35,"")
B37: Nappage neutre | C37: =IF([2]E!E34>0,[2]E!E34,"") | D37: =IF([2]E!F34>0,[2]E!F34,"") | G37: =IF(E37>0,[3]Feuil1!G36,"")
B38: Noix | C38: =IF([2]E!E35>0,[2]E!E35,"") | D38: =IF([2]E!F35>0,[2]E!F35,"") | G38: =IF(E38>0,[3]Feuil1!G37,"")
B39: Noix de coco | G39: =IF(E39>0,[3]Feuil1!G38,"")
B40: Noisette en poudre | G40: =IF(E40>0,[3]Feuil1!G39,"")
B41: Œufs entiers | C41: =IF([2]E!E36>0,[2]E!E36,"") | D41: =IF([2]E!F36>0,[2]E!F36,"") | G41: =IF(E41>0,[3]Feuil1!G40,"")
B42: Orange | C42: =IF([2]E!E37>0,[2]E!E37,"") | D42: =IF([2]E!F37>0,[2]E!F37,"") | G42: =IF(E42>0,[3]Feuil1!G41,"")
B43: Pâte à pistache | C43: =IF([2]E!E38>0,[2]E!E38,"") | D43: =IF([2]E!F38>0,[2]E!F38,"") | G43: =IF(E43>0,[3]Feuil1!G42,"")
B44: Poire | C44: =IF([2]E!E39>0,[2]E!E39,"") | D44: =IF([2]E!F39>0,[2]E!F39,"") | G44: =IF(E44>0,[3]Feuil1!G43,"")
B45: Pomme | C45: =IF([2]E!E40>0,[2]E!E40,"") | D45: =IF([2]E!F40>0,[2]E!F40,"") | G45: =IF(E45>0,[3]Feuil1!G44,"")
B46: Poudre à crème pâtissière | C46: =IF([2]E!E41>0,[2]E!E41,"") | D46: =IF([2]E!F41>0,[2]E!F41,"") | G46: =IF(E46>0,[3]Feuil1!G45,"")
B47: Poudre d'amandes | C47: =IF([2]E!E42>0,[2]E!E42,"") | D47: =IF([2]E!F42>0,[2]E!F42,"") | G47: =IF(E47>0,[3]Feuil1!G46,"")
B48: Poudre de lait | C48: =IF([2]E!E43>0,[2]E!E43,"") | D48: =IF([2]E!F43>0,[2]E!F43,"") | G48: =IF(E48>0,[3]Feuil1!G47,"")
B49: Poudre de noisettes | C49: =IF([2]E!E44>0,[2]E!E44,"") | D49: =IF([2]E!F44>0,[2]E!F44,"") | G49: =IF(E49>0,[3]Feuil1!G48,"")
B50: Praliné | C50: =IF([2]E!E45>0,[2]E!E45,"") | D50: =IF([2]E!F45>0,[2]E!F45,"") | G50: =IF(E50>0,[3]Feuil1!G49,"")
B51: Quetsches | C51: =IF([2]E!E46>0,[2]E!E46,"") | D51: =IF([2]E!F46>0,[2]E!F46,"") | G51: =IF(E51>0,[3]Feuil1!G50,"")
B52: Rhubarbe | C52: =IF([2]E!E47>0,[2]E!E47,"") | D52: =IF([2]E!F47>0,[2]E!F47,"") | G52: =IF(E52>0,[3]Feuil1!G51,"")
... B54: Sirop de glucose | C54: =IF([2]E!E49>0,[2]E!E49,"") | D54: =IF([2]E!F49>0,[2]E!F49,"") | G54: =IF(E54>0,[3]Feuil1!G53,"")
B55: Sucre glace | G55: =IF(E55>0,[3]Feuil1!G54,"")
B56: Sucre semoule | C56: =IF([2]E!E50>0,[2]E!E50,"") | D56: =IF([2]E!F50>0,[2]E!F50,"") | G56: =IF(E56>0,[3]Feuil1!G55,"")
C57: =IF([2]E!E51>0,[2]E!E51,"") | D57: =IF([2]E!F51>0,[2]E!F51,"") | G57: =IF(E57>0,[3]Feuil1!G56,"")
C58: =IF([2]E!E52>0,[2]E!E52,"") | D58: =IF([2]E!F52>0,[2]E!F52,"") | G58: =IF(E58>0,[3]Feuil1!G57,"")
C59: =IF([2]E!E53>0,[2]E!E53,"") | D59: =IF([2]E!F53>0,[2]E!F53,"") | G59: =IF(E59>0,[3]Feuil1!G58,"")
C60: =IF([2]E!E54>0,[2]E!E54,"") | D60: =IF([2]E!F54>0,[2]E!F54,"") | G60: =IF(E60>0,[3]Feuil1!G59,"")
C61: =IF([2]E!E55>0,[2]E!E55,"") | D61: =IF([2]E!F55>0,[2]E!F55,"") | G61: =IF(E61>0,[3]Feuil1!G60,"")
C62: =IF([2]E!E56>0,[2]E!E56,"") | D62: =IF([2]E!F56>0,[2]E!F56,"") | G62: =IF(E62>0,[3]Feuil1!G61,"")
C63: =IF([2]E!E57>0,[2]E!E57,"") | D63: =IF([2]E!F57>0,[2]E!F57,"") | G63: =IF(E63>0,[3]Feuil1!G62,"")
C64: =IF([2]E!E58>0,[2]E!E58,"") | D64: =IF([2]E!F58>0,[2]E!F58,"") | G64: =IF(E64>0,[3]Feuil1!G63,"")
C65: =IF([2]E!E59>0,[2]E!E59,"") | D65: =IF([2]E!F59>0,[2]E!F59,"") | G65: =IF(E65>0,[3]Feuil1!G64,"")
C66: =IF([2]E!E60>0,[2]E!E60,"") | D66: =IF([2]E!F60>0,[2]E!F60,"") | G66: =IF(E66>0,[3]Feuil1!G65,"")
C67: =IF([2]E!E61>0,[2]E!E61,"") | D67: =IF([2]E!F61>0,[2]E!F61,"") | G67: =IF(E67>0,[3]Feuil1!G66,"")
C68: =IF([2]E!E62>0,[2]E!E62,"") | D68: =IF([2]E!F62>0,[2]E!F62,"") | G68: =IF(E68>0,[3]Feuil1!G67,"")
... C76: =IF([2]E!E70>0,[2]E!E70,"") | D76: =IF([2]E!F70>0,[2]E!F70,"") | G76: =IF(E76>0,[3]Feuil1!G75,"")

Sheet F
A1: =[2]F!$A$1:$G$1 -> F
B3: Désignation | C3: Quantités 1p | E3: Quantité au Kg | G3: PU | H3: PT
B4: Amandes blanches entières | G4: =IF(E4>0,[3]Feuil1!G3,"") | J4: Prix
B5: Amandes efffilés | C5: =IF([2]F!E4>0,[2]F!E4,"") -> 1 | D5: =IF([2]F!F4>0,[2]F!F4,"") | G5: =IF(E5>0,[3]Feuil1!G4,"")
B6: Beurre | C6: =IF([2]F!E5>0,[2]F!E5,"") | D6: =IF([2]F!F5>0,[2]F!F5,"") | G6: =IF(E6>0,[3]Feuil1!G5,"")
B7: Blanc d'œufs | C7: =IF([2]F!E6>0,[2]F!E6,"") | D7: =IF([2]F!F6>0,[2]F!F6,"") | G7: =IF(E7>0,[3]Feuil1!G6,"") | J7: =SUM(H4:H204) -> 0
B8: Cacao | C8: =IF([2]F!E7>0,[2]F!E7,"") | D8: =IF([2]F!F7>0,[2]F!F7,"") | G8: =IF(E8>0,[3]Feuil1!G7,"")
B9: Cannelle | C9: =IF([2]F!E8>0,[2]F!E8,"") | D9: =IF([2]F!F8>0,[2]F!F8,"") | G9: =IF(E9>0,[3]Feuil1!G8,"")
B10: Cerise | C10: =IF([2]F!E9>0,[2]F!E9,"") | D10: =IF([2]F!F9>0,[2]F!F9,"") | G10: =IF(E10>0,[3]Feuil1!G9,"")
B11: Chocolat blanc | C11: =IF([2]F!E10>0,[2]F!E10,"") | D11: =IF([2]F!F10>0,[2]F!F10,"") | G11: =IF(E11>0,[3]Feuil1!G10,"")
B12: Chocolat en pépite | C12: =IF([2]F!E11>0,[2]F!E11,"") | D12: =IF([2]F!F11>0,[2]F!F11,"") | G12: =IF(E12>0,[3]Feuil1!G11,"")
B13: Chocolat en pistole | C13: =IF([2]F!E12>0,[2]F!E12,"") | D13: =IF([2]F!F12>0,[2]F!F12,"") | G13: =IF(E13>0,[3]Feuil1!G12,"")
B14: Citron | C14: =IF([2]F!E13>0,[2]F!E13,"") | D14: =IF([2]F!F13>0,[2]F!F13,"") | G14: =IF(E14>0,[3]Feuil1!G13,"")
B15: Confiture de framboise | C15: =IF([2]F!E14>0,[2]F!E14,"") | D15: =IF([2]F!F14>0,[2]F!F14,"") | G15: =IF(E15>0,[3]Feuil1!G14,"")
B16: Colorant alimentaire | G16: =IF(E16>0,[3]Feuil1!G15,"")
B17: Coulis framboise | C17: =IF([2]F!E15>0,[2]F!E15,"") | D17: =IF([2]F!F15>0,[2]F!F15,"") | G17: =IF(E17>0,[3]Feuil1!G16,"")
B18: Coulis mangue | C18: =IF([2]F!E16>0,[2]F!E16,"") | D18: =IF([2]F!F16>0,[2]F!F16,"") | G18: =IF(E18>0,[3]Feuil1!G17,"")
B19: Eau | C19: =IF([2]F!E17>0,[2]F!E17,"") | D19: =IF([2]F!F17>0,[2]F!F17,"") | G19: =IF(E19>0,[3]Feuil1!G18,"")
B20: Farine | C20: =IF([2]F!E18>0,[2]F!E18,"") | D20: =IF([2]F!F18>0,[2]F!F18,"") | G20: =IF(E20>0,[3]Feuil1!G19,"")
B21: Farine mi-crème | C21: =IF([2]F!E19>0,[2]F!E19,"") | D21: =IF([2]F!F19>0,[2]F!F19,"") | G21: =IF(E21>0,[3]Feuil1!G20,"")
B22: Farine T45 | C22: =IF([2]F!E20>0,[2]F!E20,"") | D22: =IF([2]F!F20>0,[2]F!F20,"") | G22: =IF(E22>0,[3]Feuil1!G21,"")
B23: Farine T45 de gruau | C23: =IF([2]F!E21>0,[2]F!E21,"") | D23: =IF([2]F!F21>0,[2]F!F21,"") | G23: =IF(E23>0,[3]Feuil1!G22,"")
B24: Farinte T65 | C24: =IF([2]F!E22>0,[2]F!E22,"") | D24: =IF([2]F!F22>0,[2]F!F22,"") | G24: =IF(E24>0,[3]Feuil1!G23,"")
B25: Framboise | C25: =IF([2]F!E23>0,[2]F!E23,"") | D25: =IF([2]F!F23>0,[2]F!F23,"") | G25: =IF(E25>0,[3]Feuil1!G24,"")
B26: Gelatine | G26: =IF(E26>0,[3]Feuil1!G25,"")
B27: Gelée d'abricot | C27: =IF([2]F!E24>0,[2]F!E24,"") | D27: =IF([2]F!F24>0,[2]F!F24,"") | G27: =IF(E27>0,[3]Feuil1!G26,"")
B28: Gousse de vanille | C28: =IF([2]F!E25>0,[2]F!E25,"") | D28: =IF([2]F!F25>0,[2]F!F25,"") | G28: =IF(E28>0,[3]Feuil1!G27,"")
B29: Jaune d'œufs | C29: =IF([2]F!E26>0,[2]F!E26,"") | D29: =IF([2]F!F26>0,[2]F!F26,"") | G29: =IF(E29>0,[3]Feuil1!G28,"")
B30: Jus d'orange | C30: =IF([2]F!E27>0,[2]F!E27,"") | D30: =IF([2]F!F27>0,[2]F!F27,"") | G30: =IF(E30>0,[3]Feuil1!G29,"")
B31: Lait 1/2 écrémé | C31: =IF([2]F!E28>0,[2]F!E28,"") | D31: =IF([2]F!F28>0,[2]F!F28,"") | G31: =IF(E31>0,[3]Feuil1!G30,"")
B32: Lait entier | C32: =IF([2]F!E29>0,[2]F!E29,"") | D32: =IF([2]F!F29>0,[2]F!F29,"") | G32: =IF(E32>0,[3]Feuil1!G31,"")
B33: Levure boulangère | C33: =IF([2]F!E30>0,[2]F!E30,"") | D33: =IF([2]F!F30>0,[2]F!F30,"") | G33: =IF(E33>0,[3]Feuil1!G32,"")
B34: Levure chimique | C34: =IF([2]F!E31>0,[2]F!E31,"") | D34: =IF([2]F!F31>0,[2]F!F31,"") | G34: =IF(E34>0,[3]Feuil1!G33,"")
B35: Maizena | C35: =IF([2]F!E32>0,[2]F!E32,"") | D35: =IF([2]F!F32>0,[2]F!F32,"") | G35: =IF(E35>0,[3]Feuil1!G34,"")
B36: Mandarine | C36: =IF([2]F!E33>0,[2]F!E33,"") | D36: =IF([2]F!F33>0,[2]F!F33,"") | G36: =IF(E36>0,[3]Feuil1!G35,"")
B37: Nappage neutre | C37: =IF([2]F!E34>0,[2]F!E34,"") | D37: =IF([2]F!F34>0,[2]F!F34,"") | G37: =IF(E37>0,[3]Feuil1!G36,"")
B38: Noix | C38: =IF([2]F!E35>0,[2]F!E35,"") | D38: =IF([2]F!F35>0,[2]F!F35,"") | G38: =IF(E38>0,[3]Feuil1!G37,"")
B39: Noix de coco | G39: =IF(E39>0,[3]Feuil1!G38,"")
B40: Noisette en poudre | G40: =IF(E40>0,[3]Feuil1!G39,"")
B41: Œufs entiers | C41: =IF([2]F!E36>0,[2]F!E36,"") | D41: =IF([2]F!F36>0,[2]F!F36,"") | G41: =IF(E41>0,[3]Feuil1!G40,"")
B42: Orange | C42: =IF([2]F!E37>0,[2]F!E37,"") | D42: =IF([2]F!F37>0,[2]F!F37,"") | G42: =IF(E42>0,[3]Feuil1!G41,"")
B43: Pâte à pistache | C43: =IF([2]F!E38>0,[2]F!E38,"") | D43: =IF([2]F!F38>0,[2]F!F38,"") | G43: =IF(E43>0,[3]Feuil1!G42,"")
B44: Poire | C44: =IF([2]F!E39>0,[2]F!E39,"") | D44: =IF([2]F!F39>0,[2]F!F39,"") | G44: =IF(E44>0,[3]Feuil1!G43,"")
B45: Pomme | C45: =IF([2]F!E40>0,[2]F!E40,"") | D45: =IF([2]F!F40>0,[2]F!F40,"") | G45: =IF(E45>0,[3]Feuil1!G44,"")
B46: Poudre à crème pâtissière | C46: =IF([2]F!E41>0,[2]F!E41,"") | D46: =IF([2]F!F41>0,[2]F!F41,"") | G46: =IF(E46>0,[3]Feuil1!G45,"")
B47: Poudre d'amandes | C47: =IF([2]F!E42>0,[2]F!E42,"") | D47: =IF([2]F!F42>0,[2]F!F42,"") | G47: =IF(E47>0,[3]Feuil1!G46,"")
B48: Poudre de lait | C48: =IF([2]F!E43>0,[2]F!E43,"") | D48: =IF([2]F!F43>0,[2]F!F43,"") | G48: =IF(E48>0,[3]Feuil1!G47,"")
B49: Poudre de noisettes | C49: =IF([2]F!E44>0,[2]F!E44,"") | D49: =IF([2]F!F44>0,[2]F!F44,"") | G49: =IF(E49>0,[3]Feuil1!G48,"")
B50: Praliné | C50: =IF([2]F!E45>0,[2]F!E45,"") | D50: =IF([2]F!F45>0,[2]F!F45,"") | G50: =IF(E50>0,[3]Feuil1!G49,"")
B51: Quetsches | C51: =IF([2]F!E46>0,[2]F!E46,"") | D51: =IF([2]F!F46>0,[2]F!F46,"") | G51: =IF(E51>0,[3]Feuil1!G50,"")
B52: Rhubarbe | C52: =IF([2]F!E47>0,[2]F!E47,"") | D52: =IF([2]F!F47>0,[2]F!F47,"") | G52: =IF(E52>0,[3]Feuil1!G51,"")
... B54: Sirop de glucose | C54: =IF([2]F!E49>0,[2]F!E49,"") | D54: =IF([2]F!F49>0,[2]F!F49,"") | G54: =IF(E54>0,[3]Feuil1!G53,"")
B55: Sucre glace | G55: =IF(E55>0,[3]Feuil1!G54,"")
B56: Sucre semoule | C56: =IF([2]F!E50>0,[2]F!E50,"") | D56: =IF([2]F!F50>0,[2]F!F50,"") | G56: =IF(E56>0,[3]Feuil1!G55,"")
C57: =IF([2]F!E51>0,[2]F!E51,"") | D57: =IF([2]F!F51>0,[2]F!F51,"") | G57: =IF(E57>0,[3]Feuil1!G56,"")
C58: =IF([2]F!E52>0,[2]F!E52,"") | D58: =IF([2]F!F52>0,[2]F!F52,"") | G58: =IF(E58>0,[3]Feuil1!G57,"")
C59: =IF([2]F!E53>0,[2]F!E53,"") | D59: =IF([2]F!F53>0,[2]F!F53,"") | G59: =IF(E59>0,[3]Feuil1!G58,"")
C60: =IF([2]F!E54>0,[2]F!E54,"") | D60: =IF([2]F!F54>0,[2]F!F54,"") | G60: =IF(E60>0,[3]Feuil1!G59,"")
C61: =IF([2]F!E55>0,[2]F!E55,"") | D61: =IF([2]F!F55>0,[2]F!F55,"") | G61: =IF(E61>0,[3]Feuil1!G60,"")
C62: =IF([2]F!E56>0,[2]F!E56,"") | D62: =IF([2]F!F56>0,[2]F!F56,"") | G62: =IF(E62>0,[3]Feuil1!G61,"")
C63: =IF([2]F!E57>0,[2]F!E57,"") | D63: =IF([2]F!F57>0,[2]F!F57,"") | G63: =IF(E63>0,[3]Feuil1!G62,"")
C64: =IF([2]F!E58>0,[2]F!E58,"") | D64: =IF([2]F!F58>0,[2]F!F58,"") | G64: =IF(E64>0,[3]Feuil1!G63,"")
C65: =IF([2]F!E59>0,[2]F!E59,"") | D65: =IF([2]F!F59>0,[2]F!F59,"") | G65: =IF(E65>0,[3]Feuil1!G64,"")
C66: =IF([2]F!E60>0,[2]F!E60,"") | D66: =IF([2]F!F60>0,[2]F!F60,"") | G66: =IF(E66>0,[3]Feuil1!G65,"")
C67: =IF([2]F!E61>0,[2]F!E61,"") | D67: =IF([2]F!F61>0,[2]F!F61,"") | G67: =IF(E67>0,[3]Feuil1!G66,"")
C68: =IF([2]F!E62>0,[2]F!E62,"") | D68: =IF([2]F!F62>0,[2]F!F62,"") | G68: =IF(E68>0,[3]Feuil1!G67,"")
... C76: =IF([2]F!E70>0,[2]F!E70,"") | D76: =IF([2]F!F70>0,[2]F!F70,"") | G76: =IF(E76>0,[3]Feuil1!G75,"")

Sheet G
A1: =[2]G!$A$1:$G$1 -> G
B3: Désignation | C3: Quantités 1p | E3: Quantité au Kg | G3: PU | H3: PT
B4: Amandes blanches entières | G4: =IF(E4>0,[3]Feuil1!G3,"") | J4: Prix
B5: Amandes efffilés | C5: =IF([2]G!E4>0,[2]G!E4,"") -> 1 | D5: =IF([2]G!F4>0,[2]G!F4,"") | G5: =IF(E5>0,[3]Feuil1!G4,"")
B6: Beurre | C6: =IF([2]G!E5>0,[2]G!E5,"") | D6: =IF([2]G!F5>0,[2]G!F5,"") | G6: =IF(E6>0,[3]Feuil1!G5,"")
B7: Blanc d'œufs | C7: =IF([2]G!E6>0,[2]G!E6,"") | D7: =IF([2]G!F6>0,[2]G!F6,"") | G7: =IF(E7>0,[3]Feuil1!G6,"") | J7: =SUM(H4:H204) -> 0
B8: Cacao | C8: =IF([2]G!E7>0,[2]G!E7,"") | D8: =IF([2]G!F7>0,[2]G!F7,"") | G8: =IF(E8>0,[3]Feuil1!G7,"")
B9: Cannelle | C9: =IF([2]G!E8>0,[2]G!E8,"") | D9: =IF([2]G!F8>0,[2]G!F8,"") | G9: =IF(E9>0,[3]Feuil1!G8,"")
B10: Cerise | C10: =IF([2]G!E9>0,[2]G!E9,"") | D10: =IF([2]G!F9>0,[2]G!F9,"") | G10: =IF(E10>0,[3]Feuil1!G9,"")
B11: Chocolat blanc | C11: =IF([2]G!E10>0,[2]G!E10,"") | D11: =IF([2]G!F10>0,[2]G!F10,"") | G11: =IF(E11>0,[3]Feuil1!G10,"")
B12: Chocolat en pépite | C12: =IF([2]G!E11>0,[2]G!E11,"") | D12: =IF([2]G!F11>0,[2]G!F11,"") | G12: =IF(E12>0,[3]Feuil1!G11,"")
B13: Chocolat en pistole | C13: =IF([2]G!E12>0,[2]G!E12,"") | D13: =IF([2]G!F12>0,[2]G!F12,"") | G13: =IF(E13>0,[3]Feuil1!G12,"")
B14: Citron | C14: =IF([2]G!E13>0,[2]G!E13,"") | D14: =IF([2]G!F13>0,[2]G!F13,"") | G14: =IF(E14>0,[3]Feuil1!G13,"")
B15: Confiture de framboise | C15: =IF([2]G!E14>0,[2]G!E14,"") | D15: =IF([2]G!F14>0,[2]G!F14,"") | G15: =IF(E15>0,[3]Feuil1!G14,"")
B16: Colorant alimentaire | G16: =IF(E16>0,[3]Feuil1!G15,"")
B17: Coulis framboise | C17: =IF([2]G!E15>0,[2]G!E15,"") | D17: =IF([2]G!F15>0,[2]G!F15,"") | G17: =IF(E17>0,[3]Feuil1!G16,"")
B18: Coulis mangue | C18: =IF([2]G!E16>0,[2]G!E16,"") | D18: =IF([2]G!F16>0,[2]G!F16,"") | G18: =IF(E18>0,[3]Feuil1!G17,"")
B19: Eau | C19: =IF([2]G!E17>0,[2]G!E17,"") | D19: =IF([2]G!F17>0,[2]G!F17,"") | G19: =IF(E19>0,[3]Feuil1!G18,"")
B20: Farine | C20: =IF([2]G!E18>0,[2]G!E18,"") | D20: =IF([2]G!F18>0,[2]G!F18,"") | G20: =IF(E20>0,[3]Feuil1!G19,"")
B21: Farine mi-crème | C21: =IF([2]G!E19>0,[2]G!E19,"") | D21: =IF([2]G!F19>0,[2]G!F19,"") | G21: =IF(E21>0,[3]Feuil1!G20,"")
B22: Farine T45 | C22: =IF([2]G!E20>0,[2]G!E20,"") | D22: =IF([2]G!F20>0,[2]G!F20,"") | G22: =IF(E22>0,[3]Feuil1!G21,"")
B23: Farine T45 de gruau | C23: =IF([2]G!E21>0,[2]G!E21,"") | D23: =IF([2]G!F21>0,[2]G!F21,"") | G23: =IF(E23>0,[3]Feuil1!G22,"")
B24: Farinte T65 | C24: =IF([2]G!E22>0,[2]G!E22,"") | D24: =IF([2]G!F22>0,[2]G!F22,"") | G24: =IF(E24>0,[3]Feuil1!G23,"")
B25: Framboise | C25: =IF([2]G!E23>0,[2]G!E23,"") | D25: =IF([2]G!F23>0,[2]G!F23,"") | G25: =IF(E25>0,[3]Feuil1!G24,"")
B26: Gelée d'abricot | C26: =IF([2]G!E24>0,[2]G!E24,"") | D26: =IF([2]G!F24>0,[2]G!F24,"") | G26: =IF(E26>0,[3]Feuil1!G25,"")
B27: Gelatine | G27: =IF(E27>0,[3]Feuil1!G26,"")
B28: Gousse de vanille | C28: =IF([2]G!E25>0,[2]G!E25,"") | D28: =IF([2]G!F25>0,[2]G!F25,"") | G28: =IF(E28>0,[3]Feuil1!G27,"")
B29: Jaune d'œufs | C29: =IF([2]G!E26>0,[2]G!E26,"") | D29: =IF([2]G!F26>0,[2]G!F26,"") | G29: =IF(E29>0,[3]Feuil1!G28,"")
B30: Jus d'orange | C30: =IF([2]G!E27>0,[2]G!E27,"") | D30: =IF([2]G!F27>0,[2]G!F27,"") | G30: =IF(E30>0,[3]Feuil1!G29,"")
B31: Lait 1/2 écrémé | C31: =IF([2]G!E28>0,[2]G!E28,"") | D31: =IF([2]G!F28>0,[2]G!F28,"") | G31: =IF(E31>0,[3]Feuil1!G30,"")
B32: Lait entier | C32: =IF([2]G!E29>0,[2]G!E29,"") | D32: =IF([2]G!F29>0,[2]G!F29,"") | G32: =IF(E32>0,[3]Feuil1!G31,"")
B33: Levure boulangère | C33: =IF([2]G!E30>0,[2]G!E30,"") | D33: =IF([2]G!F30>0,[2]G!F30,"") | G33: =IF(E33>0,[3]Feuil1!G32,"")
B34: Levure chimique | C34: =IF([2]G!E31>0,[2]G!E31,"") | D34: =IF([2]G!F31>0,[2]G!F31,"") | G34: =IF(E34>0,[3]Feuil1!G33,"")
B35: Maizena | C35: =IF([2]G!E32>0,[2]G!E32,"") | D35: =IF([2]G!F32>0,[2]G!F32,"") | G35: =IF(E35>0,[3]Feuil1!G34,"")
B36: Mandarine | C36: =IF([2]G!E33>0,[2]G!E33,"") | D36: =IF([2]G!F33>0,[2]G!F33,"") | G36: =IF(E36>0,[3]Feuil1!G35,"")
B37: Nappage neutre | C37: =IF([2]G!E34>0,[2]G!E34,"") | D37: =IF([2]G!F34>0,[2]G!F34,"") | G37: =IF(E37>0,[3]Feuil1!G36,"")
B38: Noix | C38: =IF([2]G!E35>0,[2]G!E35,"") | D38: =IF([2]G!F35>0,[2]G!F35,"") | G38: =IF(E38>0,[3]Feuil1!G37,"")
B39: Noix de coco | G39: =IF(E39>0,[3]Feuil1!G38,"")
B40: Noisette en poudre | G40: =IF(E40>0,[3]Feuil1!G39,"")
B41: Œufs entiers | C41: =IF([2]G!E36>0,[2]G!E36,"") | D41: =IF([2]G!F36>0,[2]G!F36,"") | G41: =IF(E41>0,[3]Feuil1!G40,"")
B42: Orange | C42: =IF([2]G!E37>0,[2]G!E37,"") | D42: =IF([2]G!F37>0,[2]G!F37,"") | G42: =IF(E42>0,[3]Feuil1!G41,"")
B43: Pâte à pistache | C43: =IF([2]G!E38>0,[2]G!E38,"") | D43: =IF([2]G!F38>0,[2]G!F38,"") | G43: =IF(E43>0,[3]Feuil1!G42,"")
B44: Poire | C44: =IF([2]G!E39>0,[2]G!E39,"") | D44: =IF([2]G!F39>0,[2]G!F39,"") | G44: =IF(E44>0,[3]Feuil1!G43,"")
B45: Pomme | C45: =IF([2]G!E40>0,[2]G!E40,"") | D45: =IF([2]G!F40>0,[2]G!F40,"") | G45: =IF(E45>0,[3]Feuil1!G44,"")
B46: Poudre à crème pâtissière | C46: =IF([2]G!E41>0,[2]G!E41,"") | D46: =IF([2]G!F41>0,[2]G!F41,"") | G46: =IF(E46>0,[3]Feuil1!G45,"")
B47: Poudre d'amandes | C47: =IF([2]G!E42>0,[2]G!E42,"") | D47: =IF([2]G!F42>0,[2]G!F42,"") | G47: =IF(E47>0,[3]Feuil1!G46,"")
B48: Poudre de lait | C48: =IF([2]G!E43>0,[2]G!E43,"") | D48: =IF([2]G!F43>0,[2]G!F43,"") | G48: =IF(E48>0,[3]Feuil1!G47,"")
B49: Poudre de noisettes | C49: =IF([2]G!E44>0,[2]G!E44,"") | D49: =IF([2]G!F44>0,[2]G!F44,"") | G49: =IF(E49>0,[3]Feuil1!G48,"")
B50: Praliné | C50: =IF([2]G!E45>0,[2]G!E45,"") | D50: =IF([2]G!F45>0,[2]G!F45,"") | G50: =IF(E50>0,[3]Feuil1!G49,"")
B51: Quetsches | C51: =IF([2]G!E46>0,[2]G!E46,"") | D51: =IF([2]G!F46>0,[2]G!F46,"") | G51: =IF(E51>0,[3]Feuil1!G50,"")
B52: Rhubarbe | C52: =IF([2]G!E47>0,[2]G!E47,"") | D52: =IF([2]G!F47>0,[2]G!F47,"") | G52: =IF(E52>0,[3]Feuil1!G51,"")
... B54: Sirop de glucose | C54: =IF([2]G!E49>0,[2]G!E49,"") | D54: =IF([2]G!F49>0,[2]G!F49,"") | G54: =IF(E54>0,[3]Feuil1!G53,"")
B55: Sucre glace | G55: =IF(E55>0,[3]Feuil1!G54,"")
B56: Sucre semoule | C56: =IF([2]G!E50>0,[2]G!E50,"") | D56: =IF([2]G!F50>0,[2]G!F50,"") | G56: =IF(E56>0,[3]Feuil1!G55,"")
C57: =IF([2]G!E51>0,[2]G!E51,"") | D57: =IF([2]G!F51>0,[2]G!F51,"") | G57: =IF(E57>0,[3]Feuil1!G56,"")
C58: =IF([2]G!E52>0,[2]G!E52,"") | D58: =IF([2]G!F52>0,[2]G!F52,"") | G58: =IF(E58>0,[3]Feuil1!G57,"")
C59: =IF([2]G!E53>0,[2]G!E53,"") | D59: =IF([2]G!F53>0,[2]G!F53,"") | G59: =IF(E59>0,[3]Feuil1!G58,"")
C60: =IF([2]G!E54>0,[2]G!E54,"") | D60: =IF([2]G!F54>0,[2]G!F54,"") | G60: =IF(E60>0,[3]Feuil1!G59,"")
C61: =IF([2]G!E55>0,[2]G!E55,"") | D61: =IF([2]G!F55>0,[2]G!F55,"") | G61: =IF(E61>0,[3]Feuil1!G60,"")
C62: =IF([2]G!E56>0,[2]G!E56,"") | D62: =IF([2]G!F56>0,[2]G!F56,"") | G62: =IF(E62>0,[3]Feuil1!G61,"")
C63: =IF([2]G!E57>0,[2]G!E57,"") | D63: =IF([2]G!F57>0,[2]G!F57,"") | G63: =IF(E63>0,[3]Feuil1!G62,"")
C64: =IF([2]G!E58>0,[2]G!E58,"") | D64: =IF([2]G!F58>0,[2]G!F58,"") | G64: =IF(E64>0,[3]Feuil1!G63,"")
C65: =IF([2]G!E59>0,[2]G!E59,"") | D65: =IF([2]G!F59>0,[2]G!F59,"") | G65: =IF(E65>0,[3]Feuil1!G64,"")
C66: =IF([2]G!E60>0,[2]G!E60,"") | D66: =IF([2]G!F60>0,[2]G!F60,"") | G66: =IF(E66>0,[3]Feuil1!G65,"")
C67: =IF([2]G!E61>0,[2]G!E61,"") | D67: =IF([2]G!F61>0,[2]G!F61,"") | G67: =IF(E67>0,[3]Feuil1!G66,"")
C68: =IF([2]G!E62>0,[2]G!E62,"") | D68: =IF([2]G!F62>0,[2]G!F62,"") | G68: =IF(E68>0,[3]Feuil1!G67,"")
... C76: =IF([2]G!E70>0,[2]G!E70,"") | D76: =IF([2]G!F70>0,[2]G!F70,"") | G76: =IF(E76>0,[3]Feuil1!G75,"")

Sheet H
A1: =[2]H!$A$1:$G$1 -> H
B3: Désignation | C3: Quantités 1p | E3: Quantité au Kg | G3: PU | H3: PT
B4: Amandes blanches entières | G4: =IF(E4>0,[3]Feuil1!G3,"") | J4: Prix
B5: Amandes efffilés | C5: =IF([2]H!E4>0,[2]H!E4,"") -> 1 | D5: =IF([2]H!F4>0,[2]H!F4,"") | G5: =IF(E5>0,[3]Feuil1!G4,"")
B6: Beurre | C6: =IF([2]H!E5>0,[2]H!E5,"") | D6: =IF([2]H!F5>0,[2]H!F5,"") | G6: =IF(E6>0,[3]Feuil1!G5,"")
B7: Blanc d'œufs | C7: =IF([2]H!E6>0,[2]H!E6,"") | D7: =IF([2]H!F6>0,[2]H!F6,"") | G7: =IF(E7>0,[3]Feuil1!G6,"") | J7: =SUM(H4:H204) -> 0
B8: Cacao | C8: =IF([2]H!E7>0,[2]H!E7,"") | D8: =IF([2]H!F7>0,[2]H!F7,"") | G8: =IF(E8>0,[3]Feuil1!G7,"")
B9: Cannelle | C9: =IF([2]H!E8>0,[2]H!E8,"") | D9: =IF([2]H!F8>0,[2]H!F8,"") | G9: =IF(E9>0,[3]Feuil1!G8,"")
B10: Cerise | C10: =IF([2]H!E9>0,[2]H!E9,"") | D10: =IF([2]H!F9>0,[2]H!F9,"") | G10: =IF(E10>0,[3]Feuil1!G9,"")
B11: Chocolat blanc | C11: =IF([2]H!E10>0,[2]H!E10,"") | D11: =IF([2]H!F10>0,[2]H!F10,"") | G11: =IF(E11>0,[3]Feuil1!G10,"")
B12: Chocolat en pépite | C12: =IF([2]H!E11>0,[2]H!E11,"") | D12: =IF([2]H!F11>0,[2]H!F11,"") | G12: =IF(E12>0,[3]Feuil1!G11,"")
B13: Chocolat en pistole | C13: =IF([2]H!E12>0,[2]H!E12,"") | D13: =IF([2]H!F12>0,[2]H!F12,"") | G13: =IF(E13>0,[3]Feuil1!G12,"")
B14: Citron | C14: =IF([2]H!E13>0,[2]H!E13,"") | D14: =IF([2]H!F13>0,[2]H!F13,"") | G14: =IF(E14>0,[3]Feuil1!G13,"")
B15: Confiture de framboise | C15: =IF([2]H!E14>0,[2]H!E14,"") | D15: =IF([2]H!F14>0,[2]H!F14,"") | G15: =IF(E15>0,[3]Feuil1!G14,"")
B16: Colorant alimentaire | G16: =IF(E16>0,[3]Feuil1!G15,"")
B17: Coulis framboise | C17: =IF([2]H!E15>0,[2]H!E15,"") | D17: =IF([2]H!F15>0,[2]H!F15,"") | G17: =IF(E17>0,[3]Feuil1!G16,"")
B18: Coulis mangue | C18: =IF([2]H!E16>0,[2]H!E16,"") | D18: =IF([2]H!F16>0,[2]H!F16,"") | G18: =IF(E18>0,[3]Feuil1!G17,"")
B19: Eau | C19: =IF([2]H!E17>0,[2]H!E17,"") | D19: =IF([2]H!F17>0,[2]H!F17,"") | G19: =IF(E19>0,[3]Feuil1!G18,"")
B20: Farine | C20: =IF([2]H!E18>0,[2]H!E18,"") | D20: =IF([2]H!F18>0,[2]H!F18,"") | G20: =IF(E20>0,[3]Feuil1!G19,"")
B21: Farine mi-crème | C21: =IF([2]H!E19>0,[2]H!E19,"") | D21: =IF([2]H!F19>0,[2]H!F19,"") | G21: =IF(E21>0,[3]Feuil1!G20,"")
B22: Farine T45 | C22: =IF([2]H!E20>0,[2]H!E20,"") | D22: =IF([2]H!F20>0,[2]H!F20,"") | G22: =IF(E22>0,[3]Feuil1!G21,"")
B23: Farine T45 de gruau | C23: =IF([2]H!E21>0,[2]H!E21,"") | D23: =IF([2]H!F21>0,[2]H!F21,"") | G23: =IF(E23>0,[3]Feuil1!G22,"")
B24: Farinte T65 | C24: =IF([2]H!E22>0,[2]H!E22,"") | D24: =IF([2]H!F22>0,[2]H!F22,"") | G24: =IF(E24>0,[3]Feuil1!G23,"")
B25: Framboise | C25: =IF([2]H!E23>0,[2]H!E23,"") | D25: =IF([2]H!F23>0,[2]H!F23,"") | G25: =IF(E25>0,[3]Feuil1!G24,"")
B26: Gelatine | G26: =IF(E26>0,[3]Feuil1!G25,"")
B27: Gelée d'abricot | C27: =IF([2]H!E24>0,[2]H!E24,"") | D27: =IF([2]H!F24>0,[2]H!F24,"") | G27: =IF(E27>0,[3]Feuil1!G26,"")
B28: Gousse de vanille | C28: =IF([2]H!E25>0,[2]H!E25,"") | D28: =IF([2]H!F25>0,[2]H!F25,"") | G28: =IF(E28>0,[3]Feuil1!G27,"")
B29: Jaune d'œufs | C29: =IF([2]H!E26>0,[2]H!E26,"") | D29: =IF([2]H!F26>0,[2]H!F26,"") | G29: =IF(E29>0,[3]Feuil1!G28,"")
B30: Jus d'orange | C30: =IF([2]H!E27>0,[2]H!E27,"") | D30: =IF([2]H!F27>0,[2]H!F27,"") | G30: =IF(E30>0,[3]Feuil1!G29,"")
B31: Lait 1/2 écrémé | C31: =IF([2]H!E28>0,[2]H!E28,"") | D31: =IF([2]H!F28>0,[2]H!F28,"") | G31: =IF(E31>0,[3]Feuil1!G30,"")
B32: Lait entier | C32: =IF([2]H!E29>0,[2]H!E29,"") | D32: =IF([2]H!F29>0,[2]H!F29,"") | G32: =IF(E32>0,[3]Feuil1!G31,"")
B33: Levure boulangère | C33: =IF([2]H!E30>0,[2]H!E30,"") | D33: =IF([2]H!F30>0,[2]H!F30,"") | G33: =IF(E33>0,[3]Feuil1!G32,"")
B34: Levure chimique | C34: =IF([2]H!E31>0,[2]H!E31,"") | D34: =IF([2]H!F31>0,[2]H!F31,"") | G34: =IF(E34>0,[3]Feuil1!G33,"")
B35: Maizena | C35: =IF([2]H!E32>0,[2]H!E32,"") | D35: =IF([2]H!F32>0,[2]H!F32,"") | G35: =IF(E35>0,[3]Feuil1!G34,"")
B36: Mandarine | C36: =IF([2]H!E33>0,[2]H!E33,"") | D36: =IF([2]H!F33>0,[2]H!F33,"") | G36: =IF(E36>0,[3]Feuil1!G35,"")
B37: Nappage neutre | C37: =IF([2]H!E34>0,[2]H!E34,"") | D37: =IF([2]H!F34>0,[2]H!F34,"") | G37: =IF(E37>0,[3]Feuil1!G36,"")
B38: Noix | C38: =IF([2]H!E35>0,[2]H!E35,"") | D38: =IF([2]H!F35>0,[2]H!F35,"") | G38: =IF(E38>0,[3]Feuil1!G37,"")
B39: Noix de coco | G39: =IF(E39>0,[3]Feuil1!G38,"")
B40: Noisette en poudre | G40: =IF(E40>0,[3]Feuil1!G39,"")
B41: Œufs entiers | C41: =IF([2]H!E36>0,[2]H!E36,"") | D41: =IF([2]H!F36>0,[2]H!F36,"") | G41: =IF(E41>0,[3]Feuil1!G40,"")
B42: Orange | C42: =IF([2]H!E37>0,[2]H!E37,"") | D42: =IF([2]H!F37>0,[2]H!F37,"") | G42: =IF(E42>0,[3]Feuil1!G41,"")
B43: Pâte à pistache | C43: =IF([2]H!E38>0,[2]H!E38,"") | D43: =IF([2]H!F38>0,[2]H!F38,"") | G43: =IF(E43>0,[3]Feuil1!G42,"")
B44: Poire | C44: =IF([2]H!E39>0,[2]H!E39,"") | D44: =IF([2]H!F39>0,[2]H!F39,"") | G44: =IF(E44>0,[3]Feuil1!G43,"")
B45: Pomme | C45: =IF([2]H!E40>0,[2]H!E40,"") | D45: =IF([2]H!F40>0,[2]H!F40,"") | G45: =IF(E45>0,[3]Feuil1!G44,"")
B46: Poudre à crème pâtissière | C46: =IF([2]H!E41>0,[2]H!E41,"") | D46: =IF([2]H!F41>0,[2]H!F41,"") | G46: =IF(E46>0,[3]Feuil1!G45,"")
B47: Poudre d'amandes | C47: =IF([2]H!E42>0,[2]H!E42,"") | D47: =IF([2]H!F42>0,[2]H!F42,"") | G47: =IF(E47>0,[3]Feuil1!G46,"")
B48: Poudre de lait | C48: =IF([2]H!E43>0,[2]H!E43,"") | D48: =IF([2]H!F43>0,[2]H!F43,"") | G48: =IF(E48>0,[3]Feuil1!G47,"")
B49: Poudre de noisettes | C49: =IF([2]H!E44>0,[2]H!E44,"") | D49: =IF([2]H!F44>0,[2]H!F44,"") | G49: =IF(E49>0,[3]Feuil1!G48,"")
B50: Praliné | C50: =IF([2]H!E45>0,[2]H!E45,"") | D50: =IF([2]H!F45>0,[2]H!F45,"") | G50: =IF(E50>0,[3]Feuil1!G49,"")
B51: Quetsches | C51: =IF([2]H!E46>0,[2]H!E46,"") | D51: =IF([2]H!F46>0,[2]H!F46,"") | G51: =IF(E51>0,[3]Feuil1!G50,"")
B52: Rhubarbe | C52: =IF([2]H!E47>0,[2]H!E47,"") | D52: =IF([2]H!F47>0,[2]H!F47,"") | G52: =IF(E52>0,[3]Feuil1!G51,"")
... B54: Sirop de glucose | C54: =IF([2]H!E49>0,[2]H!E49,"") | D54: =IF([2]H!F49>0,[2]H!F49,"") | G54: =IF(E54>0,[3]Feuil1!G53,"")
B55: Sucre glace | G55: =IF(E55>0,[3]Feuil1!G54,"")
B56: Sucre semoule | C56: =IF([2]H!E50>0,[2]H!E50,"") | D56: =IF([2]H!F50>0,[2]H!F50,"") | G56: =IF(E56>0,[3]Feuil1!G55,"")
C57: =IF([2]H!E51>0,[2]H!E51,"") | D57: =IF([2]H!F51>0,[2]H!F51,"") | G57: =IF(E57>0,[3]Feuil1!G56,"")
C58: =IF([2]H!E52>0,[2]H!E52,"") | D58: =IF([2]H!F52>0,[2]H!F52,"") | G58: =IF(E58>0,[3]Feuil1!G57,"")
C59: =IF([2]H!E53>0,[2]H!E53,"") | D59: =IF([2]H!F53>0,[2]H!F53,"") | G59: =IF(E59>0,[3]Feuil1!G58,"")
C60: =IF([2]H!E54>0,[2]H!E54,"") | D60: =IF([2]H!F54>0,[2]H!F54,"") | G60: =IF(E60>0,[3]Feuil1!G59,"")
C61: =IF([2]H!E55>0,[2]H!E55,"") | D61: =IF([2]H!F55>0,[2]H!F55,"") | G61: =IF(E61>0,[3]Feuil1!G60,"")
C62: =IF([2]H!E56>0,[2]H!E56,"") | D62: =IF([2]H!F56>0,[2]H!F56,"") | G62: =IF(E62>0,[3]Feuil1!G61,"")
C63: =IF([2]H!E57>0,[2]H!E57,"") | D63: =IF([2]H!F57>0,[2]H!F57,"") | G63: =IF(E63>0,[3]Feuil1!G62,"")
C64: =IF([2]H!E58>0,[2]H!E58,"") | D64: =IF([2]H!F58>0,[2]H!F58,"") | G64: =IF(E64>0,[3]Feuil1!G63,"")
C65: =IF([2]H!E59>0,[2]H!E59,"") | D65: =IF([2]H!F59>0,[2]H!F59,"") | G65: =IF(E65>0,[3]Feuil1!G64,"")
C66: =IF([2]H!E60>0,[2]H!E60,"") | D66: =IF([2]H!F60>0,[2]H!F60,"") | G66: =IF(E66>0,[3]Feuil1!G65,"")
C67: =IF([2]H!E61>0,[2]H!E61,"") | D67: =IF([2]H!F61>0,[2]H!F61,"") | G67: =IF(E67>0,[3]Feuil1!G66,"")
C68: =IF([2]H!E62>0,[2]H!E62,"") | D68: =IF([2]H!F62>0,[2]H!F62,"") | G68: =IF(E68>0,[3]Feuil1!G67,"")
... C76: =IF([2]H!E70>0,[2]H!E70,"") | D76: =IF([2]H!F70>0,[2]H!F70,"") | G76: =IF(E76>0,[3]Feuil1!G75,"")

Sheet I
A1: =[2]I!$A$1:$G$1 -> I
B3: Désignation | C3: Quantités 1p | E3: Quantité au Kg | G3: PU | H3: PT
B4: Amandes efffilés | C4: =IF([2]I!E4>0,[2]I!E4,"") -> 1 | D4: =IF([2]I!F4>0,[2]I!F4,"") | G4: =IF(E4>0,[3]Feuil1!G3,"") | J4: Prix
B5: Beurre | C5: =IF([2]I!E5>0,[2]I!E5,"") | D5: =IF([2]I!F5>0,[2]I!F5,"") | G5: =IF(E5>0,[3]Feuil1!G4,"")
B6: Blanc d'œufs | C6: =IF([2]I!E6>0,[2]I!E6,"") | D6: =IF([2]I!F6>0,[2]I!F6,"") | G6: =IF(E6>0,[3]Feuil1!G5,"")
B7: Cacao | C7: =IF([2]I!E7>0,[2]I!E7,"") | D7: =IF([2]I!F7>0,[2]I!F7,"") | G7: =IF(E7>0,[3]Feuil1!G6,"") | J7: =SUM(H4:H204) -> 0
B8: Cannelle | C8: =IF([2]I!E8>0,[2]I!E8,"") | D8: =IF([2]I!F8>0,[2]I!F8,"") | G8: =IF(E8>0,[3]Feuil1!G7,"")
B9: Cerise | C9: =IF([2]I!E9>0,[2]I!E9,"") | D9: =IF([2]I!F9>0,[2]I!F9,"") | G9: =IF(E9>0,[3]Feuil1!G8,"")
B10: Chocolat blanc | C10: =IF([2]I!E10>0,[2]I!E10,"") | D10: =IF([2]I!F10>0,[2]I!F10,"") | G10: =IF(E10>0,[3]Feuil1!G9,"")
B11: Chocolat en pépite | C11: =IF([2]I!E11>0,[2]I!E11,"") | D11: =IF([2]I!F11>0,[2]I!F11,"") | G11: =IF(E11>0,[3]Feuil1!G10,"")
B12: Chocolat en pistole | C12: =IF([2]I!E12>0,[2]I!E12,"") | D12: =IF([2]I!F12>0,[2]I!F12,"") | G12: =IF(E12>0,[3]Feuil1!G11,"")
B13: Citron | C13: =IF([2]I!E13>0,[2]I!E13,"") | D13: =IF([2]I!F13>0,[2]I!F13,"") | G13: =IF(E13>0,[3]Feuil1!G12,"")
B14: Confiture de framboise | C14: =IF([2]I!E14>0,[2]I!E14,"") | D14: =IF([2]I!F14>0,[2]I!F14,"") | G14: =IF(E14>0,[3]Feuil1!G13,"")
B15: Colorant alimentaire | G15: =IF(E15>0,[3]Feuil1!G14,"")
B16: Coulis framboise | C16: =IF([2]I!E15>0,[2]I!E15,"") | D16: =IF([2]I!F15>0,[2]I!F15,"") | G16: =IF(E16>0,[3]Feuil1!G15,"")
B17: Coulis mangue | C17: =IF([2]I!E16>0,[2]I!E16,"") | D17: =IF([2]I!F16>0,[2]I!F16,"") | G17: =IF(E17>0,[3]Feuil1!G16,"")
B18: Eau | C18: =IF([2]I!E17>0,[2]I!E17,"") | D18: =IF([2]I!F17>0,[2]I!F17,"") | G18: =IF(E18>0,[3]Feuil1!G17,"")
B19: Farine | C19: =IF([2]I!E18>0,[2]I!E18,"") | D19: =IF([2]I!F18>0,[2]I!F18,"") | G19: =IF(E19>0,[3]Feuil1!G18,"")
B20: Farine mi-crème | C20: =IF([2]I!E19>0,[2]I!E19,"") | D20: =IF([2]I!F19>0,[2]I!F19,"") | G20: =IF(E20>0,[3]Feuil1!G19,"")
B21: Farine T45 | C21: =IF([2]I!E20>0,[2]I!E20,"") | D21: =IF([2]I!F20>0,[2]I!F20,"") | G21: =IF(E21>0,[3]Feuil1!G20,"")
B22: Farine T45 de gruau | C22: =IF([2]I!E21>0,[2]I!E21,"") | D22: =IF([2]I!F21>0,[2]I!F21,"") | G22: =IF(E22>0,[3]Feuil1!G21,"")
B23: Farinte T65 | C23: =IF([2]I!E22>0,[2]I!E22,"") | D23: =IF([2]I!F22>0,[2]I!F22,"") | G23: =IF(E23>0,[3]Feuil1!G22,"")
B24: Framboise | C24: =IF([2]I!E23>0,[2]I!E23,"") | D24: =IF([2]I!F23>0,[2]I!F23,"") | G24: =IF(E24>0,[3]Feuil1!G23,"")
B25: Gelatine | G25: =IF(E25>0,[3]Feuil1!G24,"")
B26: Gelée d'abricot | C26: =IF([2]I!E24>0,[2]I!E24,"") | D26: =IF([2]I!F24>0,[2]I!F24,"") | G26: =IF(E26>0,[3]Feuil1!G25,"")
B27: Gousse de vanille | C27: =IF([2]I!E25>0,[2]I!E25,"") | D27: =IF([2]I!F25>0,[2]I!F25,"") | G27: =IF(E27>0,[3]Feuil1!G26,"")
B28: Jaune d'œufs | C28: =IF([2]I!E26>0,[2]I!E26,"") | D28: =IF([2]I!F26>0,[2]I!F26,"") | G28: =IF(E28>0,[3]Feuil1!G27,"")
B29: Jus d'orange | C29: =IF([2]I!E27>0,[2]I!E27,"") | D29: =IF([2]I!F27>0,[2]I!F27,"") | G29: =IF(E29>0,[3]Feuil1!G28,"")
B30: Lait 1/2 écrémé | C30: =IF([2]I!E28>0,[2]I!E28,"") | D30: =IF([2]I!F28>0,[2]I!F28,"") | G30: =IF(E30>0,[3]Feuil1!G29,"")
B31: Lait entier | C31: =IF([2]I!E29>0,[2]I!E29,"") | D31: =IF([2]I!F29>0,[2]I!F29,"") | G31: =IF(E31>0,[3]Feuil1!G30,"")
B32: Levure boulangère | C32: =IF([2]I!E30>0,[2]I!E30,"") | D32: =IF([2]I!F30>0,[2]I!F30,"") | G32: =IF(E32>0,[3]Feuil1!G31,"")
B33: Levure chimique | C33: =IF([2]I!E31>0,[2]I!E31,"") | D33: =IF([2]I!F31>0,[2]I!F31,"") | G33: =IF(E33>0,[3]Feuil1!G32,"")
B34: Maizena | C34: =IF([2]I!E32>0,[2]I!E32,"") | D34: =IF([2]I!F32>0,[2]I!F32,"") | G34: =IF(E34>0,[3]Feuil1!G33,"")
B35: Mandarine | C35: =IF([2]I!E33>0,[2]I!E33,"") | D35: =IF([2]I!F33>0,[2]I!F33,"") | G35: =IF(E35>0,[3]Feuil1!G34,"")
B36: Nappage neutre | C36: =IF([2]I!E34>0,[2]I!E34,"") | D36: =IF([2]I!F34>0,[2]I!F34,"") | G36: =IF(E36>0,[3]Feuil1!G35,"")
B37: Noix | C37: =IF([2]I!E35>0,[2]I!E35,"") | D37: =IF([2]I!F35>0,[2]I!F35,"") | G37: =IF(E37>0,[3]Feuil1!G36,"")
B38: Noix de coco | G38: =IF(E38>0,[3]Feuil1!G37,"")
B39: Noisette en poudre | G39: =IF(E39>0,[3]Feuil1!G38,"")
B40: Œufs entiers | C40: =IF([2]I!E36>0,[2]I!E36,"") | D40: =IF([2]I!F36>0,[2]I!F36,"") | G40: =IF(E40>0,[3]Feuil1!G39,"")
B41: Orange | C41: =IF([2]I!E37>0,[2]I!E37,"") | D41: =IF([2]I!F37>0,[2]I!F37,"") | G41: =IF(E41>0,[3]Feuil1!G40,"")
B42: Pâte à pistache | C42: =IF([2]I!E38>0,[2]I!E38,"") | D42: =IF([2]I!F38>0,[2]I!F38,"") | G42: =IF(E42>0,[3]Feuil1!G41,"")
B43: Poire | C43: =IF([2]I!E39>0,[2]I!E39,"") | D43: =IF([2]I!F39>0,[2]I!F39,"") | G43: =IF(E43>0,[3]Feuil1!G42,"")
B44: Pomme | C44: =IF([2]I!E40>0,[2]I!E40,"") | D44: =IF([2]I!F40>0,[2]I!F40,"") | G44: =IF(E44>0,[3]Feuil1!G43,"")
B45: Poudre à crème pâtissière | C45: =IF([2]I!E41>0,[2]I!E41,"") | D45: =IF([2]I!F41>0,[2]I!F41,"") | G45: =IF(E45>0,[3]Feuil1!G44,"")
B46: Poudre d'amandes | C46: =IF([2]I!E42>0,[2]I!E42,"") | D46: =IF([2]I!F42>0,[2]I!F42,"") | G46: =IF(E46>0,[3]Feuil1!G45,"")
B47: Poudre de lait | C47: =IF([2]I!E43>0,[2]I!E43,"") | D47: =IF([2]I!F43>0,[2]I!F43,"") | G47: =IF(E47>0,[3]Feuil1!G46,"")
B48: Poudre de noisettes | C48: =IF([2]I!E44>0,[2]I!E44,"") | D48: =IF([2]I!F44>0,[2]I!F44,"") | G48: =IF(E48>0,[3]Feuil1!G47,"")
B49: Praliné | C49: =IF([2]I!E45>0,[2]I!E45,"") | D49: =IF([2]I!F45>0,[2]I!F45,"") | G49: =IF(E49>0,[3]Feuil1!G48,"")
B50: Quetsches | C50: =IF([2]I!E46>0,[2]I!E46,"") | D50: =IF([2]I!F46>0,[2]I!F46,"") | G50: =IF(E50>0,[3]Feuil1!G49,"")
B51: Rhubarbe | C51: =IF([2]I!E47>0,[2]I!E47,"") | D51: =IF([2]I!F47>0,[2]I!F47,"") | G51: =IF(E51>0,[3]Feuil1!G50,"")
... B53: Sirop de glucose | C53: =IF([2]I!E49>0,[2]I!E49,"") | D53: =IF([2]I!F49>0,[2]I!F49,"") | G53: =IF(E53>0,[3]Feuil1!G52,"")
B54: Sucre glace | G54: =IF(E54>0,[3]Feuil1!G53,"")
B55: Sucre semoule | C55: =IF([2]I!E50>0,[2]I!E50,"") | D55: =IF([2]I!F50>0,[2]I!F50,"") | G55: =IF(E55>0,[3]Feuil1!G54,"")
C56: =IF([2]I!E51>0,[2]I!E51,"") | D56: =IF([2]I!F51>0,[2]I!F51,"") | G56: =IF(E56>0,[3]Feuil1!G55,"")
C57: =IF([2]I!E52>0,[2]I!E52,"") | D57: =IF([2]I!F52>0,[2]I!F52,"") | G57: =IF(E57>0,[3]Feuil1!G56,"")
C58: =IF([2]I!E53>0,[2]I!E53,"") | D58: =IF([2]I!F53>0,[2]I!F53,"") | G58: =IF(E58>0,[3]Feuil1!G57,"")
C59: =IF([2]I!E54>0,[2]I!E54,"") | D59: =IF([2]I!F54>0,[2]I!F54,"") | G59: =IF(E59>0,[3]Feuil1!G58,"")
C60: =IF([2]I!E55>0,[2]I!E55,"") | D60: =IF([2]I!F55>0,[2]I!F55,"") | G60: =IF(E60>0,[3]Feuil1!G59,"")
C61: =IF([2]I!E56>0,[2]I!E56,"") | D61: =IF([2]I!F56>0,[2]I!F56,"") | G61: =IF(E61>0,[3]Feuil1!G60,"")
C62: =IF([2]I!E57>0,[2]I!E57,"") | D62: =IF([2]I!F57>0,[2]I!F57,"") | G62: =IF(E62>0,[3]Feuil1!G61,"")
C63: =IF([2]I!E58>0,[2]I!E58,"") | D63: =IF([2]I!F58>0,[2]I!F58,"") | G63: =IF(E63>0,[3]Feuil1!G62,"")
C64: =IF([2]I!E59>0,[2]I!E59,"") | D64: =IF([2]I!F59>0,[2]I!F59,"") | G64: =IF(E64>0,[3]Feuil1!G63,"")
C65: =IF([2]I!E60>0,[2]I!E60,"") | D65: =IF([2]I!F60>0,[2]I!F60,"") | G65: =IF(E65>0,[3]Feuil1!G64,"")
C66: =IF([2]I!E61>0,[2]I!E61,"") | D66: =IF([2]I!F61>0,[2]I!F61,"") | G66: =IF(E66>0,[3]Feuil1!G65,"")
C67: =IF([2]I!E62>0,[2]I!E62,"") | D67: =IF([2]I!F62>0,[2]I!F62,"") | G67: =IF(E67>0,[3]Feuil1!G66,"")
... C75: =IF([2]I!E70>0,[2]I!E70,"") | D75: =IF([2]I!F70>0,[2]I!F70,"") | G75: =IF(E75>0,[3]Feuil1!G74,"")

Sheet J
A1: =[2]J!$A$1:$G$1 -> J
B3: Désignation | C3: Quantités 1p | E3: Quantité au Kg | G3: PU | H3: PT
B4: Amandes blanches entières | G4: =IF(E4>0,[3]Feuil1!G3,"") | J4: Prix
B5: Amandes efffilés | C5: =IF([2]J!E4>0,[2]J!E4,"") -> 1 | D5: =IF([2]J!F4>0,[2]J!F4,"") | G5: =IF(E5>0,[3]Feuil1!G4,"")
B6: Beurre | C6: =IF([2]J!E5>0,[2]J!E5,"") | D6: =IF([2]J!F5>0,[2]J!F5,"") | G6: =IF(E6>0,[3]Feuil1!G5,"")
B7: Blanc d'œufs | C7: =IF([2]J!E6>0,[2]J!E6,"") | D7: =IF([2]J!F6>0,[2]J!F6,"") | G7: =IF(E7>0,[3]Feuil1!G6,"") | J7: =SUM(H4:H204) -> 0
B8: Cacao | C8: =IF([2]J!E7>0,[2]J!E7,"") | D8: =IF([2]J!F7>0,[2]J!F7,"") | G8: =IF(E8>0,[3]Feuil1!G7,"")
B9: Cannelle | C9: =IF([2]J!E8>0,[2]J!E8,"") -> 1 | D9: =IF([2]J!F8>0,[2]J!F8,"") | G9: =IF(E9>0,[3]Feuil1!G8,"")
B10: Cerise | C10: =IF([2]J!E9>0,[2]J!E9,"") | D10: =IF([2]J!F9>0,[2]J!F9,"") | G10: =IF(E10>0,[3]Feuil1!G9,"")
B11: Chocolat blanc | C11: =IF([2]J!E10>0,[2]J!E10,"") | D11: =IF([2]J!F10>0,[2]J!F10,"") | G11: =IF(E11>0,[3]Feuil1!G10,"")
B12: Chocolat en pépite | C12: =IF([2]J!E11>0,[2]J!E11,"") | D12: =IF([2]J!F11>0,[2]J!F11,"") | G12: =IF(E12>0,[3]Feuil1!G11,"")
B13: Chocolat en pistole | C13: =IF([2]J!E12>0,[2]J!E12,"") | D13: =IF([2]J!F12>0,[2]J!F12,"") | G13: =IF(E13>0,[3]Feuil1!G12,"")
B14: Citron | C14: =IF([2]J!E13>0,[2]J!E13,"") | D14: =IF([2]J!F13>0,[2]J!F13,"") | G14: =IF(E14>0,[3]Feuil1!G13,"")
B15: Confiture de framboise | C15: =IF([2]J!E14>0,[2]J!E14,"") | D15: =IF([2]J!F14>0,[2]J!F14,"") | G15: =IF(E15>0,[3]Feuil1!G14,"")
B16: Colorant alimentaire | G16: =IF(E16>0,[3]Feuil1!G15,"")
B17: Coulis framboise | C17: =IF([2]J!E15>0,[2]J!E15,"") | D17: =IF([2]J!F15>0,[2]J!F15,"") | G17: =IF(E17>0,[3]Feuil1!G16,"")
B18: Coulis mangue | C18: =IF([2]J!E16>0,[2]J!E16,"") | D18: =IF([2]J!F16>0,[2]J!F16,"") | G18: =IF(E18>0,[3]Feuil1!G17,"")
B19: Eau | C19: =IF([2]J!E17>0,[2]J!E17,"") | D19: =IF([2]J!F17>0,[2]J!F17,"") | G19: =IF(E19>0,[3]Feuil1!G18,"")
B20: Farine | C20: =IF([2]J!E18>0,[2]J!E18,"") | D20: =IF([2]J!F18>0,[2]J!F18,"") | G20: =IF(E20>0,[3]Feuil1!G19,"")
B21: Farine mi-crème | C21: =IF([2]J!E19>0,[2]J!E19,"") | D21: =IF([2]J!F19>0,[2]J!F19,"") | G21: =IF(E21>0,[3]Feuil1!G20,"")
B22: Farine T45 | C22: =IF([2]J!E20>0,[2]J!E20,"") | D22: =IF([2]J!F20>0,[2]J!F20,"") | G22: =IF(E22>0,[3]Feuil1!G21,"")
B23: Farine T45 de gruau | C23: =IF([2]J!E21>0,[2]J!E21,"") | D23: =IF([2]J!F21>0,[2]J!F21,"") | G23: =IF(E23>0,[3]Feuil1!G22,"")
B24: Farinte T65 | C24: =IF([2]J!E22>0,[2]J!E22,"") | D24: =IF([2]J!F22>0,[2]J!F22,"") | G24: =IF(E24>0,[3]Feuil1!G23,"")
B25: Framboise | C25: =IF([2]J!E23>0,[2]J!E23,"") | D25: =IF([2]J!F23>0,[2]J!F23,"") | G25: =IF(E25>0,[3]Feuil1!G24,"")
B26: Gelatine | G26: =IF(E26>0,[3]Feuil1!G25,"")
B27: Gelée d'abricot | C27: =IF([2]J!E24>0,[2]J!E24,"") | D27: =IF([2]J!F24>0,[2]J!F24,"") | G27: =IF(E27>0,[3]Feuil1!G26,"")
B28: Gousse de vanille | C28: =IF([2]J!E25>0,[2]J!E25,"") | D28: =IF([2]J!F25>0,[2]J!F25,"") | G28: =IF(E28>0,[3]Feuil1!G27,"")
B29: Jaune d'œufs | C29: =IF([2]J!E26>0,[2]J!E26,"") | D29: =IF([2]J!F26>0,[2]J!F26,"") | G29: =IF(E29>0,[3]Feuil1!G28,"")
B30: Jus d'orange | C30: =IF([2]J!E27>0,[2]J!E27,"") | D30: =IF([2]J!F27>0,[2]J!F27,"") | G30: =IF(E30>0,[3]Feuil1!G29,"")
B31: Lait 1/2 écrémé | C31: =IF([2]J!E28>0,[2]J!E28,"") | D31: =IF([2]J!F28>0,[2]J!F28,"") | G31: =IF(E31>0,[3]Feuil1!G30,"")
B32: Lait entier | C32: =IF([2]J!E29>0,[2]J!E29,"") | D32: =IF([2]J!F29>0,[2]J!F29,"") | G32: =IF(E32>0,[3]Feuil1!G31,"")
B33: Levure boulangère | C33: =IF([2]J!E30>0,[2]J!E30,"") | D33: =IF([2]J!F30>0,[2]J!F30,"") | G33: =IF(E33>0,[3]Feuil1!G32,"")
B34: Levure chimique | C34: =IF([2]J!E31>0,[2]J!E31,"") | D34: =IF([2]J!F31>0,[2]J!F31,"") | G34: =IF(E34>0,[3]Feuil1!G33,"")
B35: Maizena | C35: =IF([2]J!E32>0,[2]J!E32,"") | D35: =IF([2]J!F32>0,[2]J!F32,"") | G35: =IF(E35>0,[3]Feuil1!G34,"")
B36: Mandarine | C36: =IF([2]J!E33>0,[2]J!E33,"") | D36: =IF([2]J!F33>0,[2]J!F33,"") | G36: =IF(E36>0,[3]Feuil1!G35,"")
B37: Nappage neutre | C37: =IF([2]J!E34>0,[2]J!E34,"") | D37: =IF([2]J!F34>0,[2]J!F34,"") | G37: =IF(E37>0,[3]Feuil1!G36,"")
B38: Noix | C38: =IF([2]J!E35>0,[2]J!E35,"") | D38: =IF([2]J!F35>0,[2]J!F35,"") | G38: =IF(E38>0,[3]Feuil1!G37,"")
B39: Noix de coco | G39: =IF(E39>0,[3]Feuil1!G38,"")
B40: Noisette en poudre | G40: =IF(E40>0,[3]Feuil1!G39,"")
B41: Œufs entiers | C41: =IF([2]J!E36>0,[2]J!E36,"") | D41: =IF([2]J!F36>0,[2]J!F36,"") | G41: =IF(E41>0,[3]Feuil1!G40,"")
B42: Orange | C42: =IF([2]J!E37>0,[2]J!E37,"") | D42: =IF([2]J!F37>0,[2]J!F37,"") | G42: =IF(E42>0,[3]Feuil1!G41,"")
B43: Pâte à pistache | C43: =IF([2]J!E38>0,[2]J!E38,"") | D43: =IF([2]J!F38>0,[2]J!F38,"") | G43: =IF(E43>0,[3]Feuil1!G42,"")
B44: Poire | C44: =IF([2]J!E39>0,[2]J!E39,"") | D44: =IF([2]J!F39>0,[2]J!F39,"") | G44: =IF(E44>0,[3]Feuil1!G43,"")
B45: Pomme | C45: =IF([2]J!E40>0,[2]J!E40,"") | D45: =IF([2]J!F40>0,[2]J!F40,"") | G45: =IF(E45>0,[3]Feuil1!G44,"")
B46: Poudre à crème pâtissière | C46: =IF([2]J!E41>0,[2]J!E41,"") | D46: =IF([2]J!F41>0,[2]J!F41,"") | G46: =IF(E46>0,[3]Feuil1!G45,"")
B47: Poudre d'amandes | C47: =IF([2]J!E42>0,[2]J!E42,"") | D47: =IF([2]J!F42>0,[2]J!F42,"") | G47: =IF(E47>0,[3]Feuil1!G46,"")
B48: Poudre de lait | C48: =IF([2]J!E43>0,[2]J!E43,"") | D48: =IF([2]J!F43>0,[2]J!F43,"") | G48: =IF(E48>0,[3]Feuil1!G47,"")
B49: Poudre de noisettes | C49: =IF([2]J!E44>0,[2]J!E44,"") | D49: =IF([2]J!F44>0,[2]J!F44,"") | G49: =IF(E49>0,[3]Feuil1!G48,"")
B50: Praliné | C50: =IF([2]J!E45>0,[2]J!E45,"") | D50: =IF([2]J!F45>0,[2]J!F45,"") | G50: =IF(E50>0,[3]Feuil1!G49,"")
B51: Quetsches | C51: =IF([2]J!E46>0,[2]J!E46,"") | D51: =IF([2]J!F46>0,[2]J!F46,"") | G51: =IF(E51>0,[3]Feuil1!G50,"")
B52: Rhubarbe | C52: =IF([2]J!E47>0,[2]J!E47,"") | D52: =IF([2]J!F47>0,[2]J!F47,"") | G52: =IF(E52>0,[3]Feuil1!G51,"")
... B54: Sirop de glucose | C54: =IF([2]J!E49>0,[2]J!E49,"") | D54: =IF([2]J!F49>0,[2]J!F49,"") | G54: =IF(E54>0,[3]Feuil1!G53,"")
B55: Sucre glace | G55: =IF(E55>0,[3]Feuil1!G54,"")
B56: Sucre semoule | C56: =IF([2]J!E50>0,[2]J!E50,"") | D56: =IF([2]J!F50>0,[2]J!F50,"") | G56: =IF(E56>0,[3]Feuil1!G55,"")
C57: =IF([2]J!E51>0,[2]J!E51,"") | D57: =IF([2]J!F51>0,[2]J!F51,"") | G57: =IF(E57>0,[3]Feuil1!G56,"")
C58: =IF([2]J!E52>0,[2]J!E52,"") | D58: =IF([2]J!F52>0,[2]J!F52,"") | G58: =IF(E58>0,[3]Feuil1!G57,"")
C59: =IF([2]J!E53>0,[2]J!E53,"") | D59: =IF([2]J!F53>0,[2]J!F53,"") | G59: =IF(E59>0,[3]Feuil1!G58,"")
C60: =IF([2]J!E54>0,[2]J!E54,"") | D60: =IF([2]J!F54>0,[2]J!F54,"") | G60: =IF(E60>0,[3]Feuil1!G59,"")
C61: =IF([2]J!E55>0,[2]J!E55,"") | D61: =IF([2]J!F55>0,[2]J!F55,"") | G61: =IF(E61>0,[3]Feuil1!G60,"")
C62: =IF([2]J!E56>0,[2]J!E56,"") | D62: =IF([2]J!F56>0,[2]J!F56,"") | G62: =IF(E62>0,[3]Feuil1!G61,"")
C63: =IF([2]J!E57>0,[2]J!E57,"") | D63: =IF([2]J!F57>0,[2]J!F57,"") | G63: =IF(E63>0,[3]Feuil1!G62,"")
C64: =IF([2]J!E58>0,[2]J!E58,"") | D64: =IF([2]J!F58>0,[2]J!F58,"") | G64: =IF(E64>0,[3]Feuil1!G63,"")
C65: =IF([2]J!E59>0,[2]J!E59,"") | D65: =IF([2]J!F59>0,[2]J!F59,"") | G65: =IF(E65>0,[3]Feuil1!G64,"")
C66: =IF([2]J!E60>0,[2]J!E60,"") | D66: =IF([2]J!F60>0,[2]J!F60,"") | G66: =IF(E66>0,[3]Feuil1!G65,"")
C67: =IF([2]J!E61>0,[2]J!E61,"") | D67: =IF([2]J!F61>0,[2]J!F61,"") | G67: =IF(E67>0,[3]Feuil1!G66,"")
C68: =IF([2]J!E62>0,[2]J!E62,"") | D68: =IF([2]J!F62>0,[2]J!F62,"") | G68: =IF(E68>0,[3]Feuil1!G67,"")
... C76: =IF([2]J!E70>0,[2]J!E70,"") | D76: =IF([2]J!F70>0,[2]J!F70,"") | G76: =IF(E76>0,[3]Feuil1!G75,"")

Sheet K
A1: =[2]K!$A$1:$G$1 -> K
B3: Désignation | C3: Quantités 1p | E3: Quantité au Kg | G3: PU | H3: PT
B4: Amandes blanches entières | G4: =IF(E4>0,[3]Feuil1!G3,"") | J4: Prix
B5: Amandes efffilés | C5: =IF([2]K!E4>0,[2]K!E4,"") -> 1 | D5: =IF([2]K!F4>0,[2]K!F4,"") | G5: =IF(E5>0,[3]Feuil1!G4,"")
B6: Beurre | C6: =IF([2]K!E5>0,[2]K!E5,"") | D6: =IF([2]K!F5>0,[2]K!F5,"") | G6: =IF(E6>0,[3]Feuil1!G5,"")
B7: Blanc d'œufs | C7: =IF([2]K!E6>0,[2]K!E6,"") | D7: =IF([2]K!F6>0,[2]K!F6,"") | G7: =IF(E7>0,[3]Feuil1!G6,"") | J7: =SUM(H4:H204) -> 0
B8: Cacao | C8: =IF([2]K!E7>0,[2]K!E7,"") | D8: =IF([2]K!F7>0,[2]K!F7,"") | G8: =IF(E8>0,[3]Feuil1!G7,"")
B9: Cannelle | C9: =IF([2]K!E8>0,[2]K!E8,"") | D9: =IF([2]K!F8>0,[2]K!F8,"") | G9: =IF(E9>0,[3]Feuil1!G8,"")
B10: Cerise | C10: =IF([2]K!E9>0,[2]K!E9,"") | D10: =IF([2]K!F9>0,[2]K!F9,"") | G10: =IF(E10>0,[3]Feuil1!G9,"")
B11: Chocolat blanc | C11: =IF([2]K!E10>0,[2]K!E10,"") | D11: =IF([2]K!F10>0,[2]K!F10,"") | G11: =IF(E11>0,[3]Feuil1!G10,"")
B12: Chocolat en pépite | C12: =IF([2]K!E11>0,[2]K!E11,"") | D12: =IF([2]K!F11>0,[2]K!F11,"") | G12: =IF(E12>0,[3]Feuil1!G11,"")
B13: Chocolat en pistole | C13: =IF([2]K!E12>0,[2]K!E12,"") | D13: =IF([2]K!F12>0,[2]K!F12,"") | G13: =IF(E13>0,[3]Feuil1!G12,"")
B14: Citron | C14: =IF([2]K!E13>0,[2]K!E13,"") | D14: =IF([2]K!F13>0,[2]K!F13,"") | G14: =IF(E14>0,[3]Feuil1!G13,"")
B15: Confiture de framboise | C15: =IF([2]K!E14>0,[2]K!E14,"") | D15: =IF([2]K!F14>0,[2]K!F14,"") | G15: =IF(E15>0,[3]Feuil1!G14,"")
B16: Colorant alimentaire | G16: =IF(E16>0,[3]Feuil1!G15,"")
B17: Coulis framboise | C17: =IF([2]K!E15>0,[2]K!E15,"") | D17: =IF([2]K!F15>0,[2]K!F15,"") | G17: =IF(E17>0,[3]Feuil1!G16,"")
B18: Coulis mangue | C18: =IF([2]K!E16>0,[2]K!E16,"") | D18: =IF([2]K!F16>0,[2]K!F16,"") | G18: =IF(E18>0,[3]Feuil1!G17,"")
B19: Eau | C19: =IF([2]K!E17>0,[2]K!E17,"") | D19: =IF([2]K!F17>0,[2]K!F17,"") | G19: =IF(E19>0,[3]Feuil1!G18,"")
B20: Farine | C20: =IF([2]K!E18>0,[2]K!E18,"") | D20: =IF([2]K!F18>0,[2]K!F18,"") | G20: =IF(E20>0,[3]Feuil1!G19,"")
B21: Farine mi-crème | C21: =IF([2]K!E19>0,[2]K!E19,"") | D21: =IF([2]K!F19>0,[2]K!F19,"") | G21: =IF(E21>0,[3]Feuil1!G20,"")
B22: Farine T45 | C22: =IF([2]K!E20>0,[2]K!E20,"") | D22: =IF([2]K!F20>0,[2]K!F20,"") | G22: =IF(E22>0,[3]Feuil1!G21,"")
B23: Farine T45 de gruau | C23: =IF([2]K!E21>0,[2]K!E21,"") | D23: =IF([2]K!F21>0,[2]K!F21,"") | G23: =IF(E23>0,[3]Feuil1!G22,"")
B24: Farinte T65 | C24: =IF([2]K!E22>0,[2]K!E22,"") | D24: =IF([2]K!F22>0,[2]K!F22,"") | G24: =IF(E24>0,[3]Feuil1!G23,"")
B25: Framboise | C25: =IF([2]K!E23>0,[2]K!E23,"") | D25: =IF([2]K!F23>0,[2]K!F23,"") | G25: =IF(E25>0,[3]Feuil1!G24,"")
B26: Gelatine | G26: =IF(E26>0,[3]Feuil1!G25,"")
B27: Gelée d'abricot | C27: =IF([2]K!E24>0,[2]K!E24,"") | D27: =IF([2]K!F24>0,[2]K!F24,"") | G27: =IF(E27>0,[3]Feuil1!G26,"")
B28: Gousse de vanille | C28: =IF([2]K!E25>0,[2]K!E25,"") | D28: =IF([2]K!F25>0,[2]K!F25,"") | G28: =IF(E28>0,[3]Feuil1!G27,"")
B29: Jaune d'œufs | C29: =IF([2]K!E26>0,[2]K!E26,"") | D29: =IF([2]K!F26>0,[2]K!F26,"") | G29: =IF(E29>0,[3]Feuil1!G28,"")
B30: Jus d'orange | C30: =IF([2]K!E27>0,[2]K!E27,"") | D30: =IF([2]K!F27>0,[2]K!F27,"") | G30: =IF(E30>0,[3]Feuil1!G29,"")
B31: Lait 1/2 écrémé | C31: =IF([2]K!E28>0,[2]K!E28,"") | D31: =IF([2]K!F28>0,[2]K!F28,"") | G31: =IF(E31>0,[3]Feuil1!G30,"")
B32: Lait entier | C32: =IF([2]K!E29>0,[2]K!E29,"") | D32: =IF([2]K!F29>0,[2]K!F29,"") | G32: =IF(E32>0,[3]Feuil1!G31,"")
B33: Levure boulangère | C33: =IF([2]K!E30>0,[2]K!E30,"") | D33: =IF([2]K!F30>0,[2]K!F30,"") | G33: =IF(E33>0,[3]Feuil1!G32,"")
B34: Levure chimique | C34: =IF([2]K!E31>0,[2]K!E31,"") | D34: =IF([2]K!F31>0,[2]K!F31,"") | G34: =IF(E34>0,[3]Feuil1!G33,"")
B35: Maizena | C35: =IF([2]K!E32>0,[2]K!E32,"") | D35: =IF([2]K!F32>0,[2]K!F32,"") | G35: =IF(E35>0,[3]Feuil1!G34,"")
B36: Mandarine | C36: =IF([2]K!E33>0,[2]K!E33,"") | D36: =IF([2]K!F33>0,[2]K!F33,"") | G36: =IF(E36>0,[3]Feuil1!G35,"")
B37: Nappage neutre | C37: =IF([2]K!E34>0,[2]K!E34,"") | D37: =IF([2]K!F34>0,[2]K!F34,"") | G37: =IF(E37>0,[3]Feuil1!G36,"")
B38: Noix | C38: =IF([2]K!E35>0,[2]K!E35,"") | D38: =IF([2]K!F35>0,[2]K!F35,"") | G38: =IF(E38>0,[3]Feuil1!G37,"")
B39: Noix de coco | G39: =IF(E39>0,[3]Feuil1!G38,"")
B40: Noisette en poudre | G40: =IF(E40>0,[3]Feuil1!G39,"")
B41: Œufs entiers | C41: =IF([2]K!E36>0,[2]K!E36,"") | D41: =IF([2]K!F36>0,[2]K!F36,"") | G41: =IF(E41>0,[3]Feuil1!G40,"")
B42: Orange | C42: =IF([2]K!E37>0,[2]K!E37,"") | D42: =IF([2]K!F37>0,[2]K!F37,"") | G42: =IF(E42>0,[3]Feuil1!G41,"")
B43: Pâte à pistache | C43: =IF([2]K!E38>0,[2]K!E38,"") | D43: =IF([2]K!F38>0,[2]K!F38,"") | G43: =IF(E43>0,[3]Feuil1!G42,"")
B44: Poire | C44: =IF([2]K!E39>0,[2]K!E39,"") | D44: =IF([2]K!F39>0,[2]K!F39,"") | G44: =IF(E44>0,[3]Feuil1!G43,"")
B45: Pomme | C45: =IF([2]K!E40>0,[2]K!E40,"") | D45: =IF([2]K!F40>0,[2]K!F40,"") | G45: =IF(E45>0,[3]Feuil1!G44,"")
B46: Poudre à crème pâtissière | C46: =IF([2]K!E41>0,[2]K!E41,"") | D46: =IF([2]K!F41>0,[2]K!F41,"") | G46: =IF(E46>0,[3]Feuil1!G45,"")
B47: Poudre d'amandes | C47: =IF([2]K!E42>0,[2]K!E42,"") | D47: =IF([2]K!F42>0,[2]K!F42,"") | G47: =IF(E47>0,[3]Feuil1!G46,"")
B48: Poudre de lait | C48: =IF([2]K!E43>0,[2]K!E43,"") | D48: =IF([2]K!F43>0,[2]K!F43,"") | G48: =IF(E48>0,[3]Feuil1!G47,"")
B49: Poudre de noisettes | C49: =IF([2]K!E44>0,[2]K!E44,"") | D49: =IF([2]K!F44>0,[2]K!F44,"") | G49: =IF(E49>0,[3]Feuil1!G48,"")
B50: Praliné | C50: =IF([2]K!E45>0,[2]K!E45,"") | D50: =IF([2]K!F45>0,[2]K!F45,"") | G50: =IF(E50>0,[3]Feuil1!G49,"")
B51: Quetsches | C51: =IF([2]K!E46>0,[2]K!E46,"") | D51: =IF([2]K!F46>0,[2]K!F46,"") | G51: =IF(E51>0,[3]Feuil1!G50,"")
B52: Rhubarbe | C52: =IF([2]K!E47>0,[2]K!E47,"") | D52: =IF([2]K!F47>0,[2]K!F47,"") | G52: =IF(E52>0,[3]Feuil1!G51,"")
... B54: Sirop de glucose | C54: =IF([2]K!E49>0,[2]K!E49,"") | D54: =IF([2]K!F49>0,[2]K!F49,"") | G54: =IF(E54>0,[3]Feuil1!G53,"")
B55: Sucre glace | G55: =IF(E55>0,[3]Feuil1!G54,"")
B56: Sucre semoule | C56: =IF([2]K!E50>0,[2]K!E50,"") | D56: =IF([2]K!F50>0,[2]K!F50,"") | G56: =IF(E56>0,[3]Feuil1!G55,"")
C57: =IF([2]K!E51>0,[2]K!E51,"") | D57: =IF([2]K!F51>0,[2]K!F51,"") | G57: =IF(E57>0,[3]Feuil1!G56,"")
C58: =IF([2]K!E52>0,[2]K!E52,"") | D58: =IF([2]K!F52>0,[2]K!F52,"") | G58: =IF(E58>0,[3]Feuil1!G57,"")
C59: =IF([2]K!E53>0,[2]K!E53,"") | D59: =IF([2]K!F53>0,[2]K!F53,"") | G59: =IF(E59>0,[3]Feuil1!G58,"")
C60: =IF([2]K!E54>0,[2]K!E54,"") | D60: =IF([2]K!F54>0,[2]K!F54,"") | G60: =IF(E60>0,[3]Feuil1!G59,"")
C61: =IF([2]K!E55>0,[2]K!E55,"") | D61: =IF([2]K!F55>0,[2]K!F55,"") | G61: =IF(E61>0,[3]Feuil1!G60,"")
C62: =IF([2]K!E56>0,[2]K!E56,"") | D62: =IF([2]K!F56>0,[2]K!F56,"") | G62: =IF(E62>0,[3]Feuil1!G61,"")
C63: =IF([2]K!E57>0,[2]K!E57,"") | D63: =IF([2]K!F57>0,[2]K!F57,"") | G63: =IF(E63>0,[3]Feuil1!G62,"")
C64: =IF([2]K!E58>0,[2]K!E58,"") | D64: =IF([2]K!F58>0,[2]K!F58,"") | G64: =IF(E64>0,[3]Feuil1!G63,"")
C65: =IF([2]K!E59>0,[2]K!E59,"") | D65: =IF([2]K!F59>0,[2]K!F59,"") | G65: =IF(E65>0,[3]Feuil1!G64,"")
C66: =IF([2]K!E60>0,[2]K!E60,"") | D66: =IF([2]K!F60>0,[2]K!F60,"") | G66: =IF(E66>0,[3]Feuil1!G65,"")
C67: =IF([2]K!E61>0,[2]K!E61,"") | D67: =IF([2]K!F61>0,[2]K!F61,"") | G67: =IF(E67>0,[3]Feuil1!G66,"")
C68: =IF([2]K!E62>0,[2]K!E62,"") | D68: =IF([2]K!F62>0,[2]K!F62,"") | G68: =IF(E68>0,[3]Feuil1!G67,"")
... C76: =IF([2]K!E70>0,[2]K!E70,"") | D76: =IF([2]K!F70>0,[2]K!F70,"") | G76: =IF(E76>0,[3]Feuil1!G75,"")

Sheet L
A1: =[2]L!$A$1:$G$1 -> L
B3: Désignation | C3: Quantités 1p | E3: Quantité au Kg | G3: PU | H3: PT
B4: Amandes blanches entières | G4: =IF(E4>0,[3]Feuil1!G3,"") | J4: Prix
B5: Amandes efffilés | C5: =IF([2]L!E4>0,[2]L!E4,"") -> 1 | D5: =IF([2]L!F4>0,[2]L!F4,"") | G5: =IF(E5>0,[3]Feuil1!G4,"")
B6: Beurre | C6: =IF([2]L!E5>0,[2]L!E5,"") | D6: =IF([2]L!F5>0,[2]L!F5,"") | G6: =IF(E6>0,[3]Feuil1!G5,"")
B7: Blanc d'œufs | C7: =IF([2]L!E6>0,[2]L!E6,"") | D7: =IF([2]L!F6>0,[2]L!F6,"") | G7: =IF(E7>0,[3]Feuil1!G6,"") | J7: =SUM(H4:H204) -> 0
B8: Cacao | C8: =IF([2]L!E7>0,[2]L!E7,"") | D8: =IF([2]L!F7>0,[2]L!F7,"") | G8: =IF(E8>0,[3]Feuil1!G7,"")
B9: Cannelle | C9: =IF([2]L!E8>0,[2]L!E8,"") | D9: =IF([2]L!F8>0,[2]L!F8,"") | G9: =IF(E9>0,[3]Feuil1!G8,"")
B10: Cerise | C10: =IF([2]L!E9>0,[2]L!E9,"") | D10: =IF([2]L!F9>0,[2]L!F9,"") | G10: =IF(E10>0,[3]Feuil1!G9,"")
B11: Chocolat blanc | C11: =IF([2]L!E10>0,[2]L!E10,"") | D11: =IF([2]L!F10>0,[2]L!F10,"") | G11: =IF(E11>0,[3]Feuil1!G10,"")
B12: Chocolat en pépite | C12: =IF([2]L!E11>0,[2]L!E11,"") | D12: =IF([2]L!F11>0,[2]L!F11,"") | G12: =IF(E12>0,[3]Feuil1!G11,"")
B13: Chocolat en pistole | C13: =IF([2]L!E12>0,[2]L!E12,"") | D13: =IF([2]L!F12>0,[2]L!F12,"") | G13: =IF(E13>0,[3]Feuil1!G12,"")
B14: Citron | C14: =IF([2]L!E13>0,[2]L!E13,"") | D14: =IF([2]L!F13>0,[2]L!F13,"") | G14: =IF(E14>0,[3]Feuil1!G13,"")
B15: Confiture de framboise | C15: =IF([2]L!E14>0,[2]L!E14,"") | D15: =IF([2]L!F14>0,[2]L!F14,"") | G15: =IF(E15>0,[3]Feuil1!G14,"")
B16: Colorant alimentaire | G16: =IF(E16>0,[3]Feuil1!G15,"")
B17: Coulis framboise | C17: =IF([2]L!E15>0,[2]L!E15,"") | D17: =IF([2]L!F15>0,[2]L!F15,"") | G17: =IF(E17>0,[3]Feuil1!G16,"")
B18: Coulis mangue | C18: =IF([2]L!E16>0,[2]L!E16,"") | D18: =IF([2]L!F16>0,[2]L!F16,"") | G18: =IF(E18>0,[3]Feuil1!G17,"")
B19: Eau | C19: =IF([2]L!E17>0,[2]L!E17,"") | D19: =IF([2]L!F17>0,[2]L!F17,"") | G19: =IF(E19>0,[3]Feuil1!G18,"")
B20: Farine | C20: =IF([2]L!E18>0,[2]L!E18,"") | D20: =IF([2]L!F18>0,[2]L!F18,"") | G20: =IF(E20>0,[3]Feuil1!G19,"")
B21: Farine mi-crème | C21: =IF([2]L!E19>0,[2]L!E19,"") | D21: =IF([2]L!F19>0,[2]L!F19,"") | G21: =IF(E21>0,[3]Feuil1!G20,"")
B22: Farine T45 | C22: =IF([2]L!E20>0,[2]L!E20,"") | D22: =IF([2]L!F20>0,[2]L!F20,"") | G22: =IF(E22>0,[3]Feuil1!G21,"")
B23: Farine T45 de gruau | C23: =IF([2]L!E21>0,[2]L!E21,"") | D23: =IF([2]L!F21>0,[2]L!F21,"") | G23: =IF(E23>0,[3]Feuil1!G22,"")
B24: Farinte T65 | C24: =IF([2]L!E22>0,[2]L!E22,"") | D24: =IF([2]L!F22>0,[2]L!F22,"") | G24: =IF(E24>0,[3]Feuil1!G23,"")
B25: Framboise | C25: =IF([2]L!E23>0,[2]L!E23,"") | D25: =IF([2]L!F23>0,[2]L!F23,"") | G25: =IF(E25>0,[3]Feuil1!G24,"")
B26: Gelatine | G26: =IF(E26>0,[3]Feuil1!G25,"")
B27: Gelée d'abricot | C27: =IF([2]L!E24>0,[2]L!E24,"") | D27: =IF([2]L!F24>0,[2]L!F24,"") | G27: =IF(E27>0,[3]Feuil1!G26,"")
B28: Gousse de vanille | C28: =IF([2]L!E25>0,[2]L!E25,"") | D28: =IF([2]L!F25>0,[2]L!F25,"") | G28: =IF(E28>0,[3]Feuil1!G27,"")
B29: Jaune d'œufs | C29: =IF([2]L!E26>0,[2]L!E26,"") | D29: =IF([2]L!F26>0,[2]L!F26,"") | G29: =IF(E29>0,[3]Feuil1!G28,"")
B30: Jus d'orange | C30: =IF([2]L!E27>0,[2]L!E27,"") | D30: =IF([2]L!F27>0,[2]L!F27,"") | G30: =IF(E30>0,[3]Feuil1!G29,"")
B31: Lait 1/2 écrémé | C31: =IF([2]L!E28>0,[2]L!E28,"") | D31: =IF([2]L!F28>0,[2]L!F28,"") | G31: =IF(E31>0,[3]Feuil1!G30,"")
B32: Lait entier | C32: =IF([2]L!E29>0,[2]L!E29,"") | D32: =IF([2]L!F29>0,[2]L!F29,"") | G32: =IF(E32>0,[3]Feuil1!G31,"")
B33: Levure boulangère | C33: =IF([2]L!E30>0,[2]L!E30,"") | D33: =IF([2]L!F30>0,[2]L!F30,"") | G33: =IF(E33>0,[3]Feuil1!G32,"")
B34: Levure chimique | C34: =IF([2]L!E31>0,[2]L!E31,"") | D34: =IF([2]L!F31>0,[2]L!F31,"") | G34: =IF(E34>0,[3]Feuil1!G33,"")
B35: Maizena | C35: =IF([2]L!E32>0,[2]L!E32,"") | D35: =IF([2]L!F32>0,[2]L!F32,"") | G35: =IF(E35>0,[3]Feuil1!G34,"")
B36: Mandarine | C36: =IF([2]L!E33>0,[2]L!E33,"") | D36: =IF([2]L!F33>0,[2]L!F33,"") | G36: =IF(E36>0,[3]Feuil1!G35,"")
B37: Nappage neutre | C37: =IF([2]L!E34>0,[2]L!E34,"") | D37: =IF([2]L!F34>0,[2]L!F34,"") | G37: =IF(E37>0,[3]Feuil1!G36,"")
B38: Noix | C38: =IF([2]L!E35>0,[2]L!E35,"") | D38: =IF([2]L!F35>0,[2]L!F35,"") | G38: =IF(E38>0,[3]Feuil1!G37,"")
B39: Noix de coco | G39: =IF(E39>0,[3]Feuil1!G38,"")
B40: Noisette en poudre | G40: =IF(E40>0,[3]Feuil1!G39,"")
B41: Œufs entiers | C41: =IF([2]L!E36>0,[2]L!E36,"") | D41: =IF([2]L!F36>0,[2]L!F36,"") | G41: =IF(E41>0,[3]Feuil1!G40,"")
B42: Orange | C42: =IF([2]L!E37>0,[2]L!E37,"") | D42: =IF([2]L!F37>0,[2]L!F37,"") | G42: =IF(E42>0,[3]Feuil1!G41,"")
B43: Pâte à pistache | C43: =IF([2]L!E38>0,[2]L!E38,"") | D43: =IF([2]L!F38>0,[2]L!F38,"") | G43: =IF(E43>0,[3]Feuil1!G42,"")
B44: Poire | C44: =IF([2]L!E39>0,[2]L!E39,"") | D44: =IF([2]L!F39>0,[2]L!F39,"") | G44: =IF(E44>0,[3]Feuil1!G43,"")
B45: Pomme | C45: =IF([2]L!E40>0,[2]L!E40,"") | D45: =IF([2]L!F40>0,[2]L!F40,"") | G45: =IF(E45>0,[3]Feuil1!G44,"")
B46: Poudre à crème pâtissière | C46: =IF([2]L!E41>0,[2]L!E41,"") | D46: =IF([2]L!F41>0,[2]L!F41,"") | G46: =IF(E46>0,[3]Feuil1!G45,"")
B47: Poudre d'amandes | C47: =IF([2]L!E42>0,[2]L!E42,"") | D47: =IF([2]L!F42>0,[2]L!F42,"") | G47: =IF(E47>0,[3]Feuil1!G46,"")
B48: Poudre de lait | C48: =IF([2]L!E43>0,[2]L!E43,"") | D48: =IF([2]L!F43>0,[2]L!F43,"") | G48: =IF(E48>0,[3]Feuil1!G47,"")
B49: Poudre de noisettes | C49: =IF([2]L!E44>0,[2]L!E44,"") | D49: =IF([2]L!F44>0,[2]L!F44,"") | G49: =IF(E49>0,[3]Feuil1!G48,"")
B50: Praliné | C50: =IF([2]L!E45>0,[2]L!E45,"") | D50: =IF([2]L!F45>0,[2]L!F45,"") | G50: =IF(E50>0,[3]Feuil1!G49,"")
B51: Quetsches | C51: =IF([2]L!E46>0,[2]L!E46,"") | D51: =IF([2]L!F46>0,[2]L!F46,"") | G51: =IF(E51>0,[3]Feuil1!G50,"")
B52: Rhubarbe | C52: =IF([2]L!E47>0,[2]L!E47,"") | D52: =IF([2]L!F47>0,[2]L!F47,"") | G52: =IF(E52>0,[3]Feuil1!G51,"")
... B54: Sirop de glucose | C54: =IF([2]L!E49>0,[2]L!E49,"") | D54: =IF([2]L!F49>0,[2]L!F49,"") | G54: =IF(E54>0,[3]Feuil1!G53,"")
B55: Sucre glace | G55: =IF(E55>0,[3]Feuil1!G54,"")
B56: Sucre semoule | C56: =IF([2]L!E50>0,[2]L!E50,"") | D56: =IF([2]L!F50>0,[2]L!F50,"") | G56: =IF(E56>0,[3]Feuil1!G55,"")
C57: =IF([2]L!E51>0,[2]L!E51,"") | D57: =IF([2]L!F51>0,[2]L!F51,"") | G57: =IF(E57>0,[3]Feuil1!G56,"")
C58: =IF([2]L!E52>0,[2]L!E52,"") | D58: =IF([2]L!F52>0,[2]L!F52,"") | G58: =IF(E58>0,[3]Feuil1!G57,"")
C59: =IF([2]L!E53>0,[2]L!E53,"") | D59: =IF([2]L!F53>0,[2]L!F53,"") | G59: =IF(E59>0,[3]Feuil1!G58,"")
C60: =IF([2]L!E54>0,[2]L!E54,"") | D60: =IF([2]L!F54>0,[2]L!F54,"") | G60: =IF(E60>0,[3]Feuil1!G59,"")
C61: =IF([2]L!E55>0,[2]L!E55,"") | D61: =IF([2]L!F55>0,[2]L!F55,"") | G61: =IF(E61>0,[3]Feuil1!G60,"")
C62: =IF([2]L!E56>0,[2]L!E56,"") | D62: =IF([2]L!F56>0,[2]L!F56,"") | G62: =IF(E62>0,[3]Feuil1!G61,"")
C63: =IF([2]L!E57>0,[2]L!E57,"") | D63: =IF([2]L!F57>0,[2]L!F57,"") | G63: =IF(E63>0,[3]Feuil1!G62,"")
C64: =IF([2]L!E58>0,[2]L!E58,"") | D64: =IF([2]L!F58>0,[2]L!F58,"") | G64: =IF(E64>0,[3]Feuil1!G63,"")
C65: =IF([2]L!E59>0,[2]L!E59,"") | D65: =IF([2]L!F59>0,[2]L!F59,"") | G65: =IF(E65>0,[3]Feuil1!G64,"")
C66: =IF([2]L!E60>0,[2]L!E60,"") | D66: =IF([2]L!F60>0,[2]L!F60,"") | G66: =IF(E66>0,[3]Feuil1!G65,"")
C67: =IF([2]L!E61>0,[2]L!E61,"") | D67: =IF([2]L!F61>0,[2]L!F61,"") | G67: =IF(E67>0,[3]Feuil1!G66,"")
C68: =IF([2]L!E62>0,[2]L!E62,"") | D68: =IF([2]L!F62>0,[2]L!F62,"") | G68: =IF(E68>0,[3]Feuil1!G67,"")
... C76: =IF([2]L!E70>0,[2]L!E70,"") | D76: =IF([2]L!F70>0,[2]L!F70,"") | G76: =IF(E76>0,[3]Feuil1!G75,"")

Sheet M
A1: =[2]M!$A$1:$G$1 -> M
B3: Désignation | C3: Quantités 1p | E3: Quantité au Kg | G3: PU | H3: PT
B4: Amandes blanches entières | G4: =IF(E4>0,[3]Feuil1!G3,"") | J4: Prix
B5: Amandes efffilés | C5: =IF([2]M!E4>0,[2]M!E4,"") -> 1 | D5: =IF([2]M!F4>0,[2]M!F4,"") | G5: =IF(E5>0,[3]Feuil1!G4,"")
B6: Beurre | C6: =IF([2]M!E5>0,[2]M!E5,"") | D6: =IF([2]M!F5>0,[2]M!F5,"") | G6: =IF(E6>0,[3]Feuil1!G5,"")
B7: Blanc d'œufs | C7: =IF([2]M!E6>0,[2]M!E6,"") | D7: =IF([2]M!F6>0,[2]M!F6,"") | G7: =IF(E7>0,[3]Feuil1!G6,"") | J7: =SUM(H4:H204) -> 0
B8: Cacao | C8: =IF([2]M!E7>0,[2]M!E7,"") | D8: =IF([2]M!F7>0,[2]M!F7,"") | G8: =IF(E8>0,[3]Feuil1!G7,"")
B9: Cannelle | C9: =IF([2]M!E8>0,[2]M!E8,"") | D9: =IF([2]M!F8>0,[2]M!F8,"") | G9: =IF(E9>0,[3]Feuil1!G8,"")
B10: Cerise | C10: =IF([2]M!E9>0,[2]M!E9,"") | D10: =IF([2]M!F9>0,[2]M!F9,"") | G10: =IF(E10>0,[3]Feuil1!G9,"")
B11: Chocolat blanc | C11: =IF([2]M!E10>0,[2]M!E10,"") | D11: =IF([2]M!F10>0,[2]M!F10,"") | G11: =IF(E11>0,[3]Feuil1!G10,"")
B12: Chocolat en pépite | C12: =IF([2]M!E11>0,[2]M!E11,"") | D12: =IF([2]M!F11>0,[2]M!F11,"") | G12: =IF(E12>0,[3]Feuil1!G11,"")
B13: Chocolat en pistole | C13: =IF([2]M!E12>0,[2]M!E12,"") | D13: =IF([2]M!F12>0,[2]M!F12,"") | G13: =IF(E13>0,[3]Feuil1!G12,"")
B14: Citron | C14: =IF([2]M!E13>0,[2]M!E13,"") | D14: =IF([2]M!F13>0,[2]M!F13,"") | G14: =IF(E14>0,[3]Feuil1!G13,"")
B15: Confiture de framboise | C15: =IF([2]M!E14>0,[2]M!E14,"") | D15: =IF([2]M!F14>0,[2]M!F14,"") | G15: =IF(E15>0,[3]Feuil1!G14,"")
B16: Colorant alimentaire | G16: =IF(E16>0,[3]Feuil1!G15,"")
B17: Coulis framboise | C17: =IF([2]M!E15>0,[2]M!E15,"") | D17: =IF([2]M!F15>0,[2]M!F15,"") | G17: =IF(E17>0,[3]Feuil1!G16,"")
B18: Coulis mangue | C18: =IF([2]M!E16>0,[2]M!E16,"") | D18: =IF([2]M!F16>0,[2]M!F16,"") | G18: =IF(E18>0,[3]Feuil1!G17,"")
B19: Eau | C19: =IF([2]M!E17>0,[2]M!E17,"") | D19: =IF([2]M!F17>0,[2]M!F17,"") | G19: =IF(E19>0,[3]Feuil1!G18,"")
B20: Farine | C20: =IF([2]M!E18>0,[2]M!E18,"") | D20: =IF([2]M!F18>0,[2]M!F18,"") | G20: =IF(E20>0,[3]Feuil1!G19,"")
B21: Farine mi-crème | C21: =IF([2]M!E19>0,[2]M!E19,"") | D21: =IF([2]M!F19>0,[2]M!F19,"") | G21: =IF(E21>0,[3]Feuil1!G20,"")
B22: Farine T45 | C22: =IF([2]M!E20>0,[2]M!E20,"") | D22: =IF([2]M!F20>0,[2]M!F20,"") | G22: =IF(E22>0,[3]Feuil1!G21,"")
B23: Farine T45 de gruau | C23: =IF([2]M!E21>0,[2]M!E21,"") | D23: =IF([2]M!F21>0,[2]M!F21,"") | G23: =IF(E23>0,[3]Feuil1!G22,"")
B24: Farinte T65 | C24: =IF([2]M!E22>0,[2]M!E22,"") | D24: =IF([2]M!F22>0,[2]M!F22,"") | G24: =IF(E24>0,[3]Feuil1!G23,"")
B25: Framboise | C25: =IF([2]M!E23>0,[2]M!E23,"") | D25: =IF([2]M!F23>0,[2]M!F23,"") | G25: =IF(E25>0,[3]Feuil1!G24,"")
B26: Gelatine | G26: =IF(E26>0,[3]Feuil1!G25,"")
B27: Gelée d'abricot | C27: =IF([2]M!E24>0,[2]M!E24,"") | D27: =IF([2]M!F24>0,[2]M!F24,"") | G27: =IF(E27>0,[3]Feuil1!G26,"")
B28: Gousse de vanille | C28: =IF([2]M!E25>0,[2]M!E25,"") | D28: =IF([2]M!F25>0,[2]M!F25,"") | G28: =IF(E28>0,[3]Feuil1!G27,"")
B29: Jaune d'œufs | C29: =IF([2]M!E26>0,[2]M!E26,"") | D29: =IF([2]M!F26>0,[2]M!F26,"") | G29: =IF(E29>0,[3]Feuil1!G28,"")
B30: Jus d'orange | C30: =IF([2]M!E27>0,[2]M!E27,"") | D30: =IF([2]M!F27>0,[2]M!F27,"") | G30: =IF(E30>0,[3]Feuil1!G29,"")
B31: Lait 1/2 écrémé | C31: =IF([2]M!E28>0,[2]M!E28,"") | D31: =IF([2]M!F28>0,[2]M!F28,"") | G31: =IF(E31>0,[3]Feuil1!G30,"")
B32: Lait entier | C32: =IF([2]M!E29>0,[2]M!E29,"") | D32: =IF([2]M!F29>0,[2]M!F29,"") | G32: =IF(E32>0,[3]Feuil1!G31,"")
B33: Levure boulangère | C33: =IF([2]M!E30>0,[2]M!E30,"") | D33: =IF([2]M!F30>0,[2]M!F30,"") | G33: =IF(E33>0,[3]Feuil1!G32,"")
B34: Levure chimique | C34: =IF([2]M!E31>0,[2]M!E31,"") | D34: =IF([2]M!F31>0,[2]M!F31,"") | G34: =IF(E34>0,[3]Feuil1!G33,"")
B35: Maizena | C35: =IF([2]M!E32>0,[2]M!E32,"") | D35: =IF([2]M!F32>0,[2]M!F32,"") | G35: =IF(E35>0,[3]Feuil1!G34,"")
B36: Mandarine | C36: =IF([2]M!E33>0,[2]M!E33,"") | D36: =IF([2]M!F33>0,[2]M!F33,"") | G36: =IF(E36>0,[3]Feuil1!G35,"")
B37: Nappage neutre | C37: =IF([2]M!E34>0,[2]M!E34,"") | D37: =IF([2]M!F34>0,[2]M!F34,"") | G37: =IF(E37>0,[3]Feuil1!G36,"")
B38: Noix | C38: =IF([2]M!E35>0,[2]M!E35,"") | D38: =IF([2]M!F35>0,[2]M!F35,"") | G38: =IF(E38>0,[3]Feuil1!G37,"")
B39: Noix de coco | G39: =IF(E39>0,[3]Feuil1!G38,"")
B40: Noisette en poudre | G40: =IF(E40>0,[3]Feuil1!G39,"")
B41: Œufs entiers | C41: =IF([2]M!E36>0,[2]M!E36,"") | D41: =IF([2]M!F36>0,[2]M!F36,"") | G41: =IF(E41>0,[3]Feuil1!G40,"")
B42: Orange | C42: =IF([2]M!E37>0,[2]M!E37,"") | D42: =IF([2]M!F37>0,[2]M!F37,"") | G42: =IF(E42>0,[3]Feuil1!G41,"")
B43: Pâte à pistache | C43: =IF([2]M!E38>0,[2]M!E38,"") | D43: =IF([2]M!F38>0,[2]M!F38,"") | G43: =IF(E43>0,[3]Feuil1!G42,"")
B44: Poire | C44: =IF([2]M!E39>0,[2]M!E39,"") | D44: =IF([2]M!F39>0,[2]M!F39,"") | G44: =IF(E44>0,[3]Feuil1!G43,"")
B45: Pomme | C45: =IF([2]M!E40>0,[2]M!E40,"") | D45: =IF([2]M!F40>0,[2]M!F40,"") | G45: =IF(E45>0,[3]Feuil1!G44,"")
B46: Poudre à crème pâtissière | C46: =IF([2]M!E41>0,[2]M!E41,"") | D46: =IF([2]M!F41>0,[2]M!F41,"") | G46: =IF(E46>0,[3]Feuil1!G45,"")
B47: Poudre d'amandes | C47: =IF([2]M!E42>0,[2]M!E42,"") | D47: =IF([2]M!F42>0,[2]M!F42,"") | G47: =IF(E47>0,[3]Feuil1!G46,"")
B48: Poudre de lait | C48: =IF([2]M!E43>0,[2]M!E43,"") | D48: =IF([2]M!F43>0,[2]M!F43,"") | G48: =IF(E48>0,[3]Feuil1!G47,"")
B49: Poudre de noisettes | C49: =IF([2]M!E44>0,[2]M!E44,"") | D49: =IF([2]M!F44>0,[2]M!F44,"") | G49: =IF(E49>0,[3]Feuil1!G48,"")
B50: Praliné | C50: =IF([2]M!E45>0,[2]M!E45,"") | D50: =IF([2]M!F45>0,[2]M!F45,"") | G50: =IF(E50>0,[3]Feuil1!G49,"")
B51: Quetsches | C51: =IF([2]M!E46>0,[2]M!E46,"") | D51: =IF([2]M!F46>0,[2]M!F46,"") | G51: =IF(E51>0,[3]Feuil1!G50,"")
B52: Rhubarbe | C52: =IF([2]M!E47>0,[2]M!E47,"") | D52: =IF([2]M!F47>0,[2]M!F47,"") | G52: =IF(E52>0,[3]Feuil1!G51,"")
... B54: Sirop de glucose | C54: =IF([2]M!E49>0,[2]M!E49,"") | D54: =IF([2]M!F49>0,[2]M!F49,"") | G54: =IF(E54>0,[3]Feuil1!G53,"")
B55: Sucre glace | G55: =IF(E55>0,[3]Feuil1!G54,"")
B56: Sucre semoule | C56: =IF([2]M!E50>0,[2]M!E50,"") | D56: =IF([2]M!F50>0,[2]M!F50,"") | G56: =IF(E56>0,[3]Feuil1!G55,"")
C57: =IF([2]M!E51>0,[2]M!E51,"") | D57: =IF([2]M!F51>0,[2]M!F51,"") | G57: =IF(E57>0,[3]Feuil1!G56,"")
C58: =IF([2]M!E52>0,[2]M!E52,"") | D58: =IF([2]M!F52>0,[2]M!F52,"") | G58: =IF(E58>0,[3]Feuil1!G57,"")
C59: =IF([2]M!E53>0,[2]M!E53,"") | D59: =IF([2]M!F53>0,[2]M!F53,"") | G59: =IF(E59>0,[3]Feuil1!G58,"")
C60: =IF([2]M!E54>0,[2]M!E54,"") | D60: =IF([2]M!F54>0,[2]M!F54,"") | G60: =IF(E60>0,[3]Feuil1!G59,"")
C61: =IF([2]M!E55>0,[2]M!E55,"") | D61: =IF([2]M!F55>0,[2]M!F55,"") | G61: =IF(E61>0,[3]Feuil1!G60,"")
C62: =IF([2]M!E56>0,[2]M!E56,"") | D62: =IF([2]M!F56>0,[2]M!F56,"") | G62: =IF(E62>0,[3]Feuil1!G61,"")
C63: =IF([2]M!E57>0,[2]M!E57,"") | D63: =IF([2]M!F57>0,[2]M!F57,"") | G63: =IF(E63>0,[3]Feuil1!G62,"")
C64: =IF([2]M!E58>0,[2]M!E58,"") | D64: =IF([2]M!F58>0,[2]M!F58,"") | G64: =IF(E64>0,[3]Feuil1!G63,"")
C65: =IF([2]M!E59>0,[2]M!E59,"") | D65: =IF([2]M!F59>0,[2]M!F59,"") | G65: =IF(E65>0,[3]Feuil1!G64,"")
C66: =IF([2]M!E60>0,[2]M!E60,"") | D66: =IF([2]M!F60>0,[2]M!F60,"") | G66: =IF(E66>0,[3]Feuil1!G65,"")
C67: =IF([2]M!E61>0,[2]M!E61,"") | D67: =IF([2]M!F61>0,[2]M!F61,"") | G67: =IF(E67>0,[3]Feuil1!G66,"")
C68: =IF([2]M!E62>0,[2]M!E62,"") | D68: =IF([2]M!F62>0,[2]M!F62,"") | G68: =IF(E68>0,[3]Feuil1!G67,"")
... C76: =IF([2]M!E70>0,[2]M!E70,"") | D76: =IF([2]M!F70>0,[2]M!F70,"") | G76: =IF(E76>0,[3]Feuil1!G75,"")

Sheet N
A1: =[2]N!$A$1:$G$1 -> N
B3: Désignation | C3: Quantités 1p | E3: Quantité au Kg | G3: PU | H3: PT
B4: Amandes blanches entières | G4: =IF(E4>0,[3]Feuil1!G3,"") | J4: Prix
B5: Amandes efffilés | C5: =IF([2]N!E4>0,[2]N!E4,"") -> 1 | D5: =IF([2]N!F4>0,[2]N!F4,"") | G5: =IF(E5>0,[3]Feuil1!G4,"")
B6: Beurre | C6: =IF([2]N!E5>0,[2]N!E5,"") | D6: =IF([2]N!F5>0,[2]N!F5,"") | G6: =IF(E6>0,[3]Feuil1!G5,"")
B7: Blanc d'œufs | C7: =IF([2]N!E6>0,[2]N!E6,"") | D7: =IF([2]N!F6>0,[2]N!F6,"") | G7: =IF(E7>0,[3]Feuil1!G6,"") | J7: =SUM(H4:H204) -> 0
B8: Cacao | C8: =IF([2]N!E7>0,[2]N!E7,"") | D8: =IF([2]N!F7>0,[2]N!F7,"") | G8: =IF(E8>0,[3]Feuil1!G7,"")
B9: Cannelle | C9: =IF([2]N!E8>0,[2]N!E8,"") | D9: =IF([2]N!F8>0,[2]N!F8,"") | G9: =IF(E9>0,[3]Feuil1!G8,"")
B10: Cerise | C10: =IF([2]N!E9>0,[2]N!E9,"") | D10: =IF([2]N!F9>0,[2]N!F9,"") | G10: =IF(E10>0,[3]Feuil1!G9,"")
B11: Chocolat blanc | C11: =IF([2]N!E10>0,[2]N!E10,"") | D11: =IF([2]N!F10>0,[2]N!F10,"") | G11: =IF(E11>0,[3]Feuil1!G10,"")
B12: Chocolat en pépite | C12: =IF([2]N!E11>0,[2]N!E11,"") | D12: =IF([2]N!F11>0,[2]N!F11,"") | G12: =IF(E12>0,[3]Feuil1!G11,"")
B13: Chocolat en pistole | C13: =IF([2]N!E12>0,[2]N!E12,"") | D13: =IF([2]N!F12>0,[2]N!F12,"") | G13: =IF(E13>0,[3]Feuil1!G12,"")
B14: Citron | C14: =IF([2]N!E13>0,[2]N!E13,"") | D14: =IF([2]N!F13>0,[2]N!F13,"") | G14: =IF(E14>0,[3]Feuil1!G13,"")
B15: Confiture de framboise | C15: =IF([2]N!E14>0,[2]N!E14,"") | D15: =IF([2]N!F14>0,[2]N!F14,"") | G15: =IF(E15>0,[3]Feuil1!G14,"")
B16: Colorant alimentaire | G16: =IF(E16>0,[3]Feuil1!G15,"")
B17: Coulis framboise | C17: =IF([2]N!E15>0,[2]N!E15,"") | D17: =IF([2]N!F15>0,[2]N!F15,"") | G17: =IF(E17>0,[3]Feuil1!G16,"")
B18: Coulis mangue | C18: =IF([2]N!E16>0,[2]N!E16,"") | D18: =IF([2]N!F16>0,[2]N!F16,"") | G18: =IF(E18>0,[3]Feuil1!G17,"")
B19: Eau | C19: =IF([2]N!E17>0,[2]N!E17,"") | D19: =IF([2]N!F17>0,[2]N!F17,"") | G19: =IF(E19>0,[3]Feuil1!G18,"")
B20: Farine | C20: =IF([2]N!E18>0,[2]N!E18,"") | D20: =IF([2]N!F18>0,[2]N!F18,"") | G20: =IF(E20>0,[3]Feuil1!G19,"")
B21: Farine mi-crème | C21: =IF([2]N!E19>0,[2]N!E19,"") | D21: =IF([2]N!F19>0,[2]N!F19,"") | G21: =IF(E21>0,[3]Feuil1!G20,"")
B22: Farine T45 | C22: =IF([2]N!E20>0,[2]N!E20,"") | D22: =IF([2]N!F20>0,[2]N!F20,"") | G22: =IF(E22>0,[3]Feuil1!G21,"")
B23: Farine T45 de gruau | C23: =IF([2]N!E21>0,[2]N!E21,"") | D23: =IF([2]N!F21>0,[2]N!F21,"") | G23: =IF(E23>0,[3]Feuil1!G22,"")
B24: Farinte T65 | C24: =IF([2]N!E22>0,[2]N!E22,"") | D24: =IF([2]N!F22>0,[2]N!F22,"") | G24: =IF(E24>0,[3]Feuil1!G23,"")
B25: Framboise | C25: =IF([2]N!E23>0,[2]N!E23,"") | D25: =IF([2]N!F23>0,[2]N!F23,"") | G25: =IF(E25>0,[3]Feuil1!G24,"")
B26: Gelatine | G26: =IF(E26>0,[3]Feuil1!G25,"")
B27: Gelée d'abricot | C27: =IF([2]N!E24>0,[2]N!E24,"") | D27: =IF([2]N!F24>0,[2]N!F24,"") | G27: =IF(E27>0,[3]Feuil1!G26,"")
B28: Gousse de vanille | C28: =IF([2]N!E25>0,[2]N!E25,"") | D28: =IF([2]N!F25>0,[2]N!F25,"") | G28: =IF(E28>0,[3]Feuil1!G27,"")
B29: Jaune d'œufs | C29: =IF([2]N!E26>0,[2]N!E26,"") | D29: =IF([2]N!F26>0,[2]N!F26,"") | G29: =IF(E29>0,[3]Feuil1!G28,"")
B30: Jus d'orange | C30: =IF([2]N!E27>0,[2]N!E27,"") | D30: =IF([2]N!F27>0,[2]N!F27,"") | G30: =IF(E30>0,[3]Feuil1!G29,"")
B31: Lait 1/2 écrémé | C31: =IF([2]N!E28>0,[2]N!E28,"") | D31: =IF([2]N!F28>0,[2]N!F28,"") | G31: =IF(E31>0,[3]Feuil1!G30,"")
B32: Lait entier | C32: =IF([2]N!E29>0,[2]N!E29,"") | D32: =IF([2]N!F29>0,[2]N!F29,"") | G32: =IF(E32>0,[3]Feuil1!G31,"")
B33: Levure boulangère | C33: =IF([2]N!E30>0,[2]N!E30,"") | D33: =IF([2]N!F30>0,[2]N!F30,"") | G33: =IF(E33>0,[3]Feuil1!G32,"")
B34: Levure chimique | C34: =IF([2]N!E31>0,[2]N!E31,"") | D34: =IF([2]N!F31>0,[2]N!F31,"") | G34: =IF(E34>0,[3]Feuil1!G33,"")
B35: Maizena | C35: =IF([2]N!E32>0,[2]N!E32,"") | D35: =IF([2]N!F32>0,[2]N!F32,"") | G35: =IF(E35>0,[3]Feuil1!G34,"")
B36: Mandarine | C36: =IF([2]N!E33>0,[2]N!E33,"") | D36: =IF([2]N!F33>0,[2]N!F33,"") | G36: =IF(E36>0,[3]Feuil1!G35,"")
B37: Nappage neutre | C37: =IF([2]N!E34>0,[2]N!E34,"") | D37: =IF([2]N!F34>0,[2]N!F34,"") | G37: =IF(E37>0,[3]Feuil1!G36,"")
B38: Noix | C38: =IF([2]N!E35>0,[2]N!E35,"") | D38: =IF([2]N!F35>0,[2]N!F35,"") | G38: =IF(E38>0,[3]Feuil1!G37,"")
B39: Noix de coco | G39: =IF(E39>0,[3]Feuil1!G38,"")
B40: Noisette en poudre | G40: =IF(E40>0,[3]Feuil1!G39,"")
B41: Œufs entiers | C41: =IF([2]N!E36>0,[2]N!E36,"") | D41: =IF([2]N!F36>0,[2]N!F36,"") | G41: =IF(E41>0,[3]Feuil1!G40,"")
B42: Orange | C42: =IF([2]N!E37>0,[2]N!E37,"") | D42: =IF([2]N!F37>0,[2]N!F37,"") | G42: =IF(E42>0,[3]Feuil1!G41,"")
B43: Pâte à pistache | C43: =IF([2]N!E38>0,[2]N!E38,"") | D43: =IF([2]N!F38>0,[2]N!F38,"") | G43: =IF(E43>0,[3]Feuil1!G42,"")
B44: Poire | C44: =IF([2]N!E39>0,[2]N!E39,"") | D44: =IF([2]N!F39>0,[2]N!F39,"") | G44: =IF(E44>0,[3]Feuil1!G43,"")
B45: Pomme | C45: =IF([2]N!E40>0,[2]N!E40,"") | D45: =IF([2]N!F40>0,[2]N!F40,"") | G45: =IF(E45>0,[3]Feuil1!G44,"")
B46: Poudre à crème pâtissière | C46: =IF([2]N!E41>0,[2]N!E41,"") | D46: =IF([2]N!F41>0,[2]N!F41,"") | G46: =IF(E46>0,[3]Feuil1!G45,"")
B47: Poudre d'amandes | C47: =IF([2]N!E42>0,[2]N!E42,"") | D47: =IF([2]N!F42>0,[2]N!F42,"") | G47: =IF(E47>0,[3]Feuil1!G46,"")
B48: Poudre de lait | C48: =IF([2]N!E43>0,[2]N!E43,"") | D48: =IF([2]N!F43>0,[2]N!F43,"") | G48: =IF(E48>0,[3]Feuil1!G47,"")
B49: Poudre de noisettes | C49: =IF([2]N!E44>0,[2]N!E44,"") | D49: =IF([2]N!F44>0,[2]N!F44,"") | G49: =IF(E49>0,[3]Feuil1!G48,"")
B50: Praliné | C50: =IF([2]N!E45>0,[2]N!E45,"") | D50: =IF([2]N!F45>0,[2]N!F45,"") | G50: =IF(E50>0,[3]Feuil1!G49,"")
B51: Quetsches | C51: =IF([2]N!E46>0,[2]N!E46,"") | D51: =IF([2]N!F46>0,[2]N!F46,"") | G51: =IF(E51>0,[3]Feuil1!G50,"")
B52: Rhubarbe | C52: =IF([2]N!E47>0,[2]N!E47,"") | D52: =IF([2]N!F47>0,[2]N!F47,"") | G52: =IF(E52>0,[3]Feuil1!G51,"")
... B54: Sirop de glucose | C54: =IF([2]N!E49>0,[2]N!E49,"") | D54: =IF([2]N!F49>0,[2]N!F49,"") | G54: =IF(E54>0,[3]Feuil1!G53,"")
B55: Sucre glace | G55: =IF(E55>0,[3]Feuil1!G54,"")
B56: Sucre semoule | C56: =IF([2]N!E50>0,[2]N!E50,"") | D56: =IF([2]N!F50>0,[2]N!F50,"") | G56: =IF(E56>0,[3]Feuil1!G55,"")
C57: =IF([2]N!E51>0,[2]N!E51,"") | D57: =IF([2]N!F51>0,[2]N!F51,"") | G57: =IF(E57>0,[3]Feuil1!G56,"")
C58: =IF([2]N!E52>0,[2]N!E52,"") | D58: =IF([2]N!F52>0,[2]N!F52,"") | G58: =IF(E58>0,[3]Feuil1!G57,"")
C59: =IF([2]N!E53>0,[2]N!E53,"") | D59: =IF([2]N!F53>0,[2]N!F53,"") | G59: =IF(E59>0,[3]Feuil1!G58,"")
C60: =IF([2]N!E54>0,[2]N!E54,"") | D60: =IF([2]N!F54>0,[2]N!F54,"") | G60: =IF(E60>0,[3]Feuil1!G59,"")
C61: =IF([2]N!E55>0,[2]N!E55,"") | D61: =IF([2]N!F55>0,[2]N!F55,"") | G61: =IF(E61>0,[3]Feuil1!G60,"")
C62: =IF([2]N!E56>0,[2]N!E56,"") | D62: =IF([2]N!F56>0,[2]N!F56,"") | G62: =IF(E62>0,[3]Feuil1!G61,"")
C63: =IF([2]N!E57>0,[2]N!E57,"") | D63: =IF([2]N!F57>0,[2]N!F57,"") | G63: =IF(E63>0,[3]Feuil1!G62,"")
C64: =IF([2]N!E58>0,[2]N!E58,"") | D64: =IF([2]N!F58>0,[2]N!F58,"") | G64: =IF(E64>0,[3]Feuil1!G63,"")
C65: =IF([2]N!E59>0,[2]N!E59,"") | D65: =IF([2]N!F59>0,[2]N!F59,"") | G65: =IF(E65>0,[3]Feuil1!G64,"")
C66: =IF([2]N!E60>0,[2]N!E60,"") | D66: =IF([2]N!F60>0,[2]N!F60,"") | G66: =IF(E66>0,[3]Feuil1!G65,"")
C67: =IF([2]N!E61>0,[2]N!E61,"") | D67: =IF([2]N!F61>0,[2]N!F61,"") | G67: =IF(E67>0,[3]Feuil1!G66,"")
C68: =IF([2]N!E62>0,[2]N!E62,"") | D68: =IF([2]N!F62>0,[2]N!F62,"") | G68: =IF(E68>0,[3]Feuil1!G67,"")
... C76: =IF([2]N!E70>0,[2]N!E70,"") | D76: =IF([2]N!F70>0,[2]N!F70,"") | G76: =IF(E76>0,[3]Feuil1!G75,"")

Sheet O
A1: =[2]O!$A$1:$G$1 -> O
B3: Désignation | C3: Quantités 1p | E3: Quantité au Kg | G3: PU | H3: PT
B4: Amandes blanches entières | G4: =IF(E4>0,[3]Feuil1!G3,"") | J4: Prix
B5: Amandes efffilés | C5: =IF([2]O!E4>0,[2]O!E4,"") -> 1 | D5: =IF([2]O!F4>0,[2]O!F4,"") | G5: =IF(E5>0,[3]Feuil1!G4,"")
B6: Beurre | C6: =IF([2]O!E5>0,[2]O!E5,"") | D6: =IF([2]O!F5>0,[2]O!F5,"") | G6: =IF(E6>0,[3]Feuil1!G5,"")
B7: Blanc d'œufs | C7: =IF([2]O!E6>0,[2]O!E6,"") | D7: =IF([2]O!F6>0,[2]O!F6,"") | G7: =IF(E7>0,[3]Feuil1!G6,"") | J7: =SUM(H4:H204) -> 0
B8: Cacao | C8: =IF([2]O!E7>0,[2]O!E7,"") | D8: =IF([2]O!F7>0,[2]O!F7,"") | G8: =IF(E8>0,[3]Feuil1!G7,"")
B9: Cannelle | C9: =IF([2]O!E8>0,[2]O!E8,"") | D9: =IF([2]O!F8>0,[2]O!F8,"") | G9: =IF(E9>0,[3]Feuil1!G8,"")
B10: Cerise | C10: =IF([2]O!E9>0,[2]O!E9,"") | D10: =IF([2]O!F9>0,[2]O!F9,"") | G10: =IF(E10>0,[3]Feuil1!G9,"")
B11: Chocolat blanc | C11: =IF([2]O!E10>0,[2]O!E10,"") | D11: =IF([2]O!F10>0,[2]O!F10,"") | G11: =IF(E11>0,[3]Feuil1!G10,"")
B12: Chocolat en pépite | C12: =IF([2]O!E11>0,[2]O!E11,"") | D12: =IF([2]O!F11>0,[2]O!F11,"") | G12: =IF(E12>0,[3]Feuil1!G11,"")
B13: Chocolat en pistole | C13: =IF([2]O!E12>0,[2]O!E12,"") | D13: =IF([2]O!F12>0,[2]O!F12,"") | G13: =IF(E13>0,[3]Feuil1!G12,"")
B14: Citron | C14: =IF([2]O!E13>0,[2]O!E13,"") | D14: =IF([2]O!F13>0,[2]O!F13,"") | G14: =IF(E14>0,[3]Feuil1!G13,"")
B15: Confiture de framboise | C15: =IF([2]O!E14>0,[2]O!E14,"") | D15: =IF([2]O!F14>0,[2]O!F14,"") | G15: =IF(E15>0,[3]Feuil1!G14,"")
B16: Colorant alimentaire | G16: =IF(E16>0,[3]Feuil1!G15,"")
B17: Coulis framboise | C17: =IF([2]O!E15>0,[2]O!E15,"") | D17: =IF([2]O!F15>0,[2]O!F15,"") | G17: =IF(E17>0,[3]Feuil1!G16,"")
B18: Coulis mangue | C18: =IF([2]O!E16>0,[2]O!E16,"") | D18: =IF([2]O!F16>0,[2]O!F16,"") | G18: =IF(E18>0,[3]Feuil1!G17,"")
B19: Eau | C19: =IF([2]O!E17>0,[2]O!E17,"") | D19: =IF([2]O!F17>0,[2]O!F17,"") | G19: =IF(E19>0,[3]Feuil1!G18,"")
B20: Farine | C20: =IF([2]O!E18>0,[2]O!E18,"") | D20: =IF([2]O!F18>0,[2]O!F18,"") | G20: =IF(E20>0,[3]Feuil1!G19,"")
B21: Farine mi-crème | C21: =IF([2]O!E19>0,[2]O!E19,"") | D21: =IF([2]O!F19>0,[2]O!F19,"") | G21: =IF(E21>0,[3]Feuil1!G20,"")
B22: Farine T45 | C22: =IF([2]O!E20>0,[2]O!E20,"") | D22: =IF([2]O!F20>0,[2]O!F20,"") | G22: =IF(E22>0,[3]Feuil1!G21,"")
B23: Farine T45 de gruau | C23: =IF([2]O!E21>0,[2]O!E21,"") | D23: =IF([2]O!F21>0,[2]O!F21,"") | G23: =IF(E23>0,[3]Feuil1!G22,"")
B24: Farinte T65 | C24: =IF([2]O!E22>0,[2]O!E22,"") | D24: =IF([2]O!F22>0,[2]O!F22,"") | G24: =IF(E24>0,[3]Feuil1!G23,"")
B25: Framboise | C25: =IF([2]O!E23>0,[2]O!E23,"") | D25: =IF([2]O!F23>0,[2]O!F23,"") | G25: =IF(E25>0,[3]Feuil1!G24,"")
B26: Gelatine | G26: =IF(E26>0,[3]Feuil1!G25,"")
B27: Gelée d'abricot | C27: =IF([2]O!E24>0,[2]O!E24,"") | D27: =IF([2]O!F24>0,[2]O!F24,"") | G27: =IF(E27>0,[3]Feuil1!G26,"")
B28: Gousse de vanille | C28: =IF([2]O!E25>0,[2]O!E25,"") | D28: =IF([2]O!F25>0,[2]O!F25,"") | G28: =IF(E28>0,[3]Feuil1!G27,"")
B29: Jaune d'œufs | C29: =IF([2]O!E26>0,[2]O!E26,"") | D29: =IF([2]O!F26>0,[2]O!F26,"") | G29: =IF(E29>0,[3]Feuil1!G28,"")
B30: Jus d'orange | C30: =IF([2]O!E27>0,[2]O!E27,"") | D30: =IF([2]O!F27>0,[2]O!F27,"") | G30: =IF(E30>0,[3]Feuil1!G29,"")
B31: Lait 1/2 écrémé | C31: =IF([2]O!E28>0,[2]O!E28,"") | D31: =IF([2]O!F28>0,[2]O!F28,"") | G31: =IF(E31>0,[3]Feuil1!G30,"")
B32: Lait entier | C32: =IF([2]O!E29>0,[2]O!E29,"") | D32: =IF([2]O!F29>0,[2]O!F29,"") | G32: =IF(E32>0,[3]Feuil1!G31,"")
B33: Levure boulangère | C33: =IF([2]O!E30>0,[2]O!E30,"") | D33: =IF([2]O!F30>0,[2]O!F30,"") | G33: =IF(E33>0,[3]Feuil1!G32,"")
B34: Levure chimique | C34: =IF([2]O!E31>0,[2]O!E31,"") | D34: =IF([2]O!F31>0,[2]O!F31,"") | G34: =IF(E34>0,[3]Feuil1!G33,"")
B35: Maizena | C35: =IF([2]O!E32>0,[2]O!E32,"") | D35: =IF([2]O!F32>0,[2]O!F32,"") | G35: =IF(E35>0,[3]Feuil1!G34,"")
B36: Mandarine | C36: =IF([2]O!E33>0,[2]O!E33,"") | D36: =IF([2]O!F33>0,[2]O!F33,"") | G36: =IF(E36>0,[3]Feuil1!G35,"")
B37: Nappage neutre | C37: =IF([2]O!E34>0,[2]O!E34,"") | D37: =IF([2]O!F34>0,[2]O!F34,"") | G37: =IF(E37>0,[3]Feuil1!G36,"")
B38: Noix | C38: =IF([2]O!E35>0,[2]O!E35,"") | D38: =IF([2]O!F35>0,[2]O!F35,"") | G38: =IF(E38>0,[3]Feuil1!G37,"")
B39: Noix de coco | G39: =IF(E39>0,[3]Feuil1!G38,"")
B40: Noisette en poudre | G40: =IF(E40>0,[3]Feuil1!G39,"")
B41: Œufs entiers | C41: =IF([2]O!E36>0,[2]O!E36,"") | D41: =IF([2]O!F36>0,[2]O!F36,"") | G41: =IF(E41>0,[3]Feuil1!G40,"")
B42: Orange | C42: =IF([2]O!E37>0,[2]O!E37,"") | D42: =IF([2]O!F37>0,[2]O!F37,"") | G42: =IF(E42>0,[3]Feuil1!G41,"")
B43: Pâte à pistache | C43: =IF([2]O!E38>0,[2]O!E38,"") | D43: =IF([2]O!F38>0,[2]O!F38,"") | G43: =IF(E43>0,[3]Feuil1!G42,"")
B44: Poire | C44: =IF([2]O!E39>0,[2]O!E39,"") | D44: =IF([2]O!F39>0,[2]O!F39,"") | G44: =IF(E44>0,[3]Feuil1!G43,"")
B45: Pomme | C45: =IF([2]O!E40>0,[2]O!E40,"") | D45: =IF([2]O!F40>0,[2]O!F40,"") | G45: =IF(E45>0,[3]Feuil1!G44,"")
B46: Poudre à crème pâtissière | C46: =IF([2]O!E41>0,[2]O!E41,"") | D46: =IF([2]O!F41>0,[2]O!F41,"") | G46: =IF(E46>0,[3]Feuil1!G45,"")
B47: Poudre d'amandes | C47: =IF([2]O!E42>0,[2]O!E42,"") | D47: =IF([2]O!F42>0,[2]O!F42,"") | G47: =IF(E47>0,[3]Feuil1!G46,"")
B48: Poudre de lait | C48: =IF([2]O!E43>0,[2]O!E43,"") | D48: =IF([2]O!F43>0,[2]O!F43,"") | G48: =IF(E48>0,[3]Feuil1!G47,"")
B49: Poudre de noisettes | C49: =IF([2]O!E44>0,[2]O!E44,"") | D49: =IF([2]O!F44>0,[2]O!F44,"") | G49: =IF(E49>0,[3]Feuil1!G48,"")
B50: Praliné | C50: =IF([2]O!E45>0,[2]O!E45,"") | D50: =IF([2]O!F45>0,[2]O!F45,"") | G50: =IF(E50>0,[3]Feuil1!G49,"")
B51: Quetsches | C51: =IF([2]O!E46>0,[2]O!E46,"") | D51: =IF([2]O!F46>0,[2]O!F46,"") | G51: =IF(E51>0,[3]Feuil1!G50,"")
B52: Rhubarbe | C52: =IF([2]O!E47>0,[2]O!E47,"") | D52: =IF([2]O!F47>0,[2]O!F47,"") | G52: =IF(E52>0,[3]Feuil1!G51,"")
... B54: Sirop de glucose | C54: =IF([2]O!E49>0,[2]O!E49,"") | D54: =IF([2]O!F49>0,[2]O!F49,"") | G54: =IF(E54>0,[3]Feuil1!G53,"")
B55: Sucre glace | G55: =IF(E55>0,[3]Feuil1!G54,"")
B56: Sucre semoule | C56: =IF([2]O!E50>0,[2]O!E50,"") | D56: =IF([2]O!F50>0,[2]O!F50,"") | G56: =IF(E56>0,[3]Feuil1!G55,"")
C57: =IF([2]O!E51>0,[2]O!E51,"") | D57: =IF([2]O!F51>0,[2]O!F51,"") | G57: =IF(E57>0,[3]Feuil1!G56,"")
C58: =IF([2]O!E52>0,[2]O!E52,"") | D58: =IF([2]O!F52>0,[2]O!F52,"") | G58: =IF(E58>0,[3]Feuil1!G57,"")
C59: =IF([2]O!E53>0,[2]O!E53,"") | D59: =IF([2]O!F53>0,[2]O!F53,"") | G59: =IF(E59>0,[3]Feuil1!G58,"")
C60: =IF([2]O!E54>0,[2]O!E54,"") | D60: =IF([2]O!F54>0,[2]O!F54,"") | G60: =IF(E60>0,[3]Feuil1!G59,"")
C61: =IF([2]O!E55>0,[2]O!E55,"") | D61: =IF([2]O!F55>0,[2]O!F55,"") | G61: =IF(E61>0,[3]Feuil1!G60,"")
C62: =IF([2]O!E56>0,[2]O!E56,"") | D62: =IF([2]O!F56>0,[2]O!F56,"") | G62: =IF(E62>0,[3]Feuil1!G61,"")
C63: =IF([2]O!E57>0,[2]O!E57,"") | D63: =IF([2]O!F57>0,[2]O!F57,"") | G63: =IF(E63>0,[3]Feuil1!G62,"")
C64: =IF([2]O!E58>0,[2]O!E58,"") | D64: =IF([2]O!F58>0,[2]O!F58,"") | G64: =IF(E64>0,[3]Feuil1!G63,"")
C65: =IF([2]O!E59>0,[2]O!E59,"") | D65: =IF([2]O!F59>0,[2]O!F59,"") | G65: =IF(E65>0,[3]Feuil1!G64,"")
C66: =IF([2]O!E60>0,[2]O!E60,"") | D66: =IF([2]O!F60>0,[2]O!F60,"") | G66: =IF(E66>0,[3]Feuil1!G65,"")
C67: =IF([2]O!E61>0,[2]O!E61,"") | D67: =IF([2]O!F61>0,[2]O!F61,"") | G67: =IF(E67>0,[3]Feuil1!G66,"")
C68: =IF([2]O!E62>0,[2]O!E62,"") | D68: =IF([2]O!F62>0,[2]O!F62,"") | G68: =IF(E68>0,[3]Feuil1!G67,"")
... C76: =IF([2]O!E70>0,[2]O!E70,"") | D76: =IF([2]O!F70>0,[2]O!F70,"") | G76: =IF(E76>0,[3]Feuil1!G75,"")

Sheet P
A1: =[2]P!$A$1:$G$1 -> P
B3: Désignation | C3: Quantités 1p | E3: Quantité au Kg | G3: PU | H3: PT
B4: Amandes blanches entières | G4: =IF(E4>0,[3]Feuil1!G3,"") | J4: Prix
B5: Amandes efffilés | C5: =IF([2]P!E4>0,[2]P!E4,"") -> 1 | D5: =IF([2]P!F4>0,[2]P!F4,"") | G5: =IF(E5>0,[3]Feuil1!G4,"")
B6: Beurre | C6: =IF([2]P!E5>0,[2]P!E5,"") | D6: =IF([2]P!F5>0,[2]P!F5,"") | G6: =IF(E6>0,[3]Feuil1!G5,"")
B7: Blanc d'œufs | C7: =IF([2]P!E6>0,[2]P!E6,"") | D7: =IF([2]P!F6>0,[2]P!F6,"") | G7: =IF(E7>0,[3]Feuil1!G6,"") | J7: =SUM(H4:H204) -> 0
B8: Cacao | C8: =IF([2]P!E7>0,[2]P!E7,"") | D8: =IF([2]P!F7>0,[2]P!F7,"") | G8: =IF(E8>0,[3]Feuil1!G7,"")
B9: Cannelle | C9: =IF([2]P!E8>0,[2]P!E8,"") | D9: =IF([2]P!F8>0,[2]P!F8,"") | G9: =IF(E9>0,[3]Feuil1!G8,"")
B10: Cerise | C10: =IF([2]P!E9>0,[2]P!E9,"") | D10: =IF([2]P!F9>0,[2]P!F9,"") | G10: =IF(E10>0,[3]Feuil1!G9,"")
B11: Chocolat blanc | C11: =IF([2]P!E10>0,[2]P!E10,"") | D11: =IF([2]P!F10>0,[2]P!F10,"") | G11: =IF(E11>0,[3]Feuil1!G10,"")
B12: Chocolat en pépite | C12: =IF([2]P!E11>0,[2]P!E11,"") | D12: =IF([2]P!F11>0,[2]P!F11,"") | G12: =IF(E12>0,[3]Feuil1!G11,"")
B13: Chocolat en pistole | C13: =IF([2]P!E12>0,[2]P!E12,"") | D13: =IF([2]P!F12>0,[2]P!F12,"") | G13: =IF(E13>0,[3]Feuil1!G12,"")
B14: Citron | C14: =IF([2]P!E13>0,[2]P!E13,"") | D14: =IF([2]P!F13>0,[2]P!F13,"") | G14: =IF(E14>0,[3]Feuil1!G13,"")
B15: Confiture de framboise | C15: =IF([2]P!E14>0,[2]P!E14,"") | D15: =IF([2]P!F14>0,[2]P!F14,"") | G15: =IF(E15>0,[3]Feuil1!G14,"")
B16: Colorant alimentaire | G16: =IF(E16>0,[3]Feuil1!G15,"")
B17: Coulis framboise | C17: =IF([2]P!E15>0,[2]P!E15,"") | D17: =IF([2]P!F15>0,[2]P!F15,"") | G17: =IF(E17>0,[3]Feuil1!G16,"")
B18: Coulis mangue | C18: =IF([2]P!E16>0,[2]P!E16,"") | D18: =IF([2]P!F16>0,[2]P!F16,"") | G18: =IF(E18>0,[3]Feuil1!G17,"")
B19: Eau | C19: =IF([2]P!E17>0,[2]P!E17,"") | D19: =IF([2]P!F17>0,[2]P!F17,"") | G19: =IF(E19>0,[3]Feuil1!G18,"")
B20: Farine | C20: =IF([2]P!E18>0,[2]P!E18,"") | D20: =IF([2]P!F18>0,[2]P!F18,"") | G20: =IF(E20>0,[3]Feuil1!G19,"")
B21: Farine mi-crème | C21: =IF([2]P!E19>0,[2]P!E19,"") | D21: =IF([2]P!F19>0,[2]P!F19,"") | G21: =IF(E21>0,[3]Feuil1!G20,"")
B22: Farine T45 | C22: =IF([2]P!E20>0,[2]P!E20,"") | D22: =IF([2]P!F20>0,[2]P!F20,"") | G22: =IF(E22>0,[3]Feuil1!G21,"")
B23: Farine T45 de gruau | C23: =IF([2]P!E21>0,[2]P!E21,"") | D23: =IF([2]P!F21>0,[2]P!F21,"") | G23: =IF(E23>0,[3]Feuil1!G22,"")
B24: Farinte T65 | C24: =IF([2]P!E22>0,[2]P!E22,"") | D24: =IF([2]P!F22>0,[2]P!F22,"") | G24: =IF(E24>0,[3]Feuil1!G23,"")
B25: Framboise | C25: =IF([2]P!E23>0,[2]P!E23,"") | D25: =IF([2]P!F23>0,[2]P!F23,"") | G25: =IF(E25>0,[3]Feuil1!G24,"")
B26: Gelatine | G26: =IF(E26>0,[3]Feuil1!G25,"")
B27: Gelée d'abricot | C27: =IF([2]P!E24>0,[2]P!E24,"") | D27: =IF([2]P!F24>0,[2]P!F24,"") | G27: =IF(E27>0,[3]Feuil1!G26,"")
B28: Gousse de vanille | C28: =IF([2]P!E25>0,[2]P!E25,"") | D28: =IF([2]P!F25>0,[2]P!F25,"") | G28: =IF(E28>0,[3]Feuil1!G27,"")
B29: Jaune d'œufs | C29: =IF([2]P!E26>0,[2]P!E26,"") | D29: =IF([2]P!F26>0,[2]P!F26,"") | G29: =IF(E29>0,[3]Feuil1!G28,"")
B30: Jus d'orange | C30: =IF([2]P!E27>0,[2]P!E27,"") | D30: =IF([2]P!F27>0,[2]P!F27,"") | G30: =IF(E30>0,[3]Feuil1!G29,"")
B31: Lait 1/2 écrémé | C31: =IF([2]P!E28>0,[2]P!E28,"") | D31: =IF([2]P!F28>0,[2]P!F28,"") | G31: =IF(E31>0,[3]Feuil1!G30,"")
B32: Lait entier | C32: =IF([2]P!E29>0,[2]P!E29,"") | D32: =IF([2]P!F29>0,[2]P!F29,"") | G32: =IF(E32>0,[3]Feuil1!G31,"")
B33: Levure boulangère | C33: =IF([2]P!E30>0,[2]P!E30,"") | D33: =IF([2]P!F30>0,[2]P!F30,"") | G33: =IF(E33>0,[3]Feuil1!G32,"")
B34: Levure chimique | C34: =IF([2]P!E31>0,[2]P!E31,"") | D34: =IF([2]P!F31>0,[2]P!F31,"") | G34: =IF(E34>0,[3]Feuil1!G33,"")
B35: Maizena | C35: =IF([2]P!E32>0,[2]P!E32,"") | D35: =IF([2]P!F32>0,[2]P!F32,"") | G35: =IF(E35>0,[3]Feuil1!G34,"")
B36: Mandarine | C36: =IF([2]P!E33>0,[2]P!E33,"") | D36: =IF([2]P!F33>0,[2]P!F33,"") | G36: =IF(E36>0,[3]Feuil1!G35,"")
B37: Nappage neutre | C37: =IF([2]P!E34>0,[2]P!E34,"") | D37: =IF([2]P!F34>0,[2]P!F34,"") | G37: =IF(E37>0,[3]Feuil1!G36,"")
B38: Noix | C38: =IF([2]P!E35>0,[2]P!E35,"") | D38: =IF([2]P!F35>0,[2]P!F35,"") | G38: =IF(E38>0,[3]Feuil1!G37,"")
B39: Noix de coco | G39: =IF(E39>0,[3]Feuil1!G38,"")
B40: Noisette en poudre | G40: =IF(E40>0,[3]Feuil1!G39,"")
B41: Œufs entiers | C41: =IF([2]P!E36>0,[2]P!E36,"") | D41: =IF([2]P!F36>0,[2]P!F36,"") | G41: =IF(E41>0,[3]Feuil1!G40,"")
B42: Orange | C42: =IF([2]P!E37>0,[2]P!E37,"") | D42: =IF([2]P!F37>0,[2]P!F37,"") | G42: =IF(E42>0,[3]Feuil1!G41,"")
B43: Pâte à pistache | C43: =IF([2]P!E38>0,[2]P!E38,"") | D43: =IF([2]P!F38>0,[2]P!F38,"") | G43: =IF(E43>0,[3]Feuil1!G42,"")
B44: Poire | C44: =IF([2]P!E39>0,[2]P!E39,"") | D44: =IF([2]P!F39>0,[2]P!F39,"") | G44: =IF(E44>0,[3]Feuil1!G43,"")
B45: Pomme | C45: =IF([2]P!E40>0,[2]P!E40,"") | D45: =IF([2]P!F40>0,[2]P!F40,"") | G45: =IF(E45>0,[3]Feuil1!G44,"")
B46: Poudre à crème pâtissière | C46: =IF([2]P!E41>0,[2]P!E41,"") | D46: =IF([2]P!F41>0,[2]P!F41,"") | G46: =IF(E46>0,[3]Feuil1!G45,"")
B47: Poudre d'amandes | C47: =IF([2]P!E42>0,[2]P!E42,"") | D47: =IF([2]P!F42>0,[2]P!F42,"") | G47: =IF(E47>0,[3]Feuil1!G46,"")
B48: Poudre de lait | C48: =IF([2]P!E43>0,[2]P!E43,"") | D48: =IF([2]P!F43>0,[2]P!F43,"") | G48: =IF(E48>0,[3]Feuil1!G47,"")
B49: Poudre de noisettes | C49: =IF([2]P!E44>0,[2]P!E44,"") | D49: =IF([2]P!F44>0,[2]P!F44,"") | G49: =IF(E49>0,[3]Feuil1!G48,"")
B50: Praliné | C50: =IF([2]P!E45>0,[2]P!E45,"") | D50: =IF([2]P!F45>0,[2]P!F45,"") | G50: =IF(E50>0,[3]Feuil1!G49,"")
B51: Quetsches | C51: =IF([2]P!E46>0,[2]P!E46,"") | D51: =IF([2]P!F46>0,[2]P!F46,"") | G51: =IF(E51>0,[3]Feuil1!G50,"")
B52: Rhubarbe | C52: =IF([2]P!E47>0,[2]P!E47,"") | D52: =IF([2]P!F47>0,[2]P!F47,"") | G52: =IF(E52>0,[3]Feuil1!G51,"")
... B54: Sirop de glucose | C54: =IF([2]P!E49>0,[2]P!E49,"") | D54: =IF([2]P!F49>0,[2]P!F49,"") | G54: =IF(E54>0,[3]Feuil1!G53,"")
B55: Sucre glace | G55: =IF(E55>0,[3]Feuil1!G54,"")
B56: Sucre semoule | C56: =IF([2]P!E50>0,[2]P!E50,"") | D56: =IF([2]P!F50>0,[2]P!F50,"") | G56: =IF(E56>0,[3]Feuil1!G55,"")
C57: =IF([2]P!E51>0,[2]P!E51,"") | D57: =IF([2]P!F51>0,[2]P!F51,"") | G57: =IF(E57>0,[3]Feuil1!G56,"")
C58: =IF([2]P!E52>0,[2]P!E52,"") | D58: =IF([2]P!F52>0,[2]P!F52,"") | G58: =IF(E58>0,[3]Feuil1!G57,"")
C59: =IF([2]P!E53>0,[2]P!E53,"") | D59: =IF([2]P!F53>0,[2]P!F53,"") | G59: =IF(E59>0,[3]Feuil1!G58,"")
C60: =IF([2]P!E54>0,[2]P!E54,"") | D60: =IF([2]P!F54>0,[2]P!F54,"") | G60: =IF(E60>0,[3]Feuil1!G59,"")
C61: =IF([2]P!E55>0,[2]P!E55,"") | D61: =IF([2]P!F55>0,[2]P!F55,"") | G61: =IF(E61>0,[3]Feuil1!G60,"")
C62: =IF([2]P!E56>0,[2]P!E56,"") | D62: =IF([2]P!F56>0,[2]P!F56,"") | G62: =IF(E62>0,[3]Feuil1!G61,"")
C63: =IF([2]P!E57>0,[2]P!E57,"") | D63: =IF([2]P!F57>0,[2]P!F57,"") | G63: =IF(E63>0,[3]Feuil1!G62,"")
C64: =IF([2]P!E58>0,[2]P!E58,"") | D64: =IF([2]P!F58>0,[2]P!F58,"") | G64: =IF(E64>0,[3]Feuil1!G63,"")
C65: =IF([2]P!E59>0,[2]P!E59,"") | D65: =IF([2]P!F59>0,[2]P!F59,"") | G65: =IF(E65>0,[3]Feuil1!G64,"")
C66: =IF([2]P!E60>0,[2]P!E60,"") | D66: =IF([2]P!F60>0,[2]P!F60,"") | G66: =IF(E66>0,[3]Feuil1!G65,"")
C67: =IF([2]P!E61>0,[2]P!E61,"") | D67: =IF([2]P!F61>0,[2]P!F61,"") | G67: =IF(E67>0,[3]Feuil1!G66,"")
C68: =IF([2]P!E62>0,[2]P!E62,"") | D68: =IF([2]P!F62>0,[2]P!F62,"") | G68: =IF(E68>0,[3]Feuil1!G67,"")
... C76: =IF([2]P!E70>0,[2]P!E70,"") | D76: =IF([2]P!F70>0,[2]P!F70,"") | G76: =IF(E76>0,[3]Feuil1!G75,"")

Sheet Q
A1: =[2]Q!$A$1:$G$1 -> Q
B3: Désignation | C3: Quantités 1p | E3: Quantité au Kg | G3: PU | H3: PT
B4: Amandes blanches entières | G4: =IF(E4>0,[3]Feuil1!G3,"") | J4: Prix
B5: Amandes efffilés | C5: =IF([2]Q!E4>0,[2]Q!E4,"") -> 1 | D5: =IF([2]Q!F4>0,[2]Q!F4,"") | G5: =IF(E5>0,[3]Feuil1!G4,"")
B6: Beurre | C6: =IF([2]Q!E5>0,[2]Q!E5,"") | D6: =IF([2]Q!F5>0,[2]Q!F5,"") | G6: =IF(E6>0,[3]Feuil1!G5,"")
B7: Blanc d'œufs | C7: =IF([2]Q!E6>0,[2]Q!E6,"") | D7: =IF([2]Q!F6>0,[2]Q!F6,"") | G7: =IF(E7>0,[3]Feuil1!G6,"") | J7: =SUM(H4:H204) -> 0
B8: Cacao | C8: =IF([2]Q!E7>0,[2]Q!E7,"") | D8: =IF([2]Q!F7>0,[2]Q!F7,"") | G8: =IF(E8>0,[3]Feuil1!G7,"")
B9: Cannelle | C9: =IF([2]Q!E8>0,[2]Q!E8,"") | D9: =IF([2]Q!F8>0,[2]Q!F8,"") | G9: =IF(E9>0,[3]Feuil1!G8,"")
B10: Cerise | C10: =IF([2]Q!E9>0,[2]Q!E9,"") | D10: =IF([2]Q!F9>0,[2]Q!F9,"") | G10: =IF(E10>0,[3]Feuil1!G9,"")
B11: Chocolat blanc | C11: =IF([2]Q!E10>0,[2]Q!E10,"") | D11: =IF([2]Q!F10>0,[2]Q!F10,"") | G11: =IF(E11>0,[3]Feuil1!G10,"")
B12: Chocolat en pépite | C12: =IF([2]Q!E11>0,[2]Q!E11,"") | D12: =IF([2]Q!F11>0,[2]Q!F11,"") | G12: =IF(E12>0,[3]Feuil1!G11,"")
B13: Chocolat en pistole | C13: =IF([2]Q!E12>0,[2]Q!E12,"") | D13: =IF([2]Q!F12>0,[2]Q!F12,"") | G13: =IF(E13>0,[3]Feuil1!G12,"")
B14: Citron | C14: =IF([2]Q!E13>0,[2]Q!E13,"") | D14: =IF([2]Q!F13>0,[2]Q!F13,"") | G14: =IF(E14>0,[3]Feuil1!G13,"")
B15: Confiture de framboise | C15: =IF([2]Q!E14>0,[2]Q!E14,"") | D15: =IF([2]Q!F14>0,[2]Q!F14,"") | G15: =IF(E15>0,[3]Feuil1!G14,"")
B16: Colorant alimentaire | G16: =IF(E16>0,[3]Feuil1!G15,"")
B17: Coulis framboise | C17: =IF([2]Q!E15>0,[2]Q!E15,"") | D17: =IF([2]Q!F15>0,[2]Q!F15,"") | G17: =IF(E17>0,[3]Feuil1!G16,"")
B18: Coulis mangue | C18: =IF([2]Q!E16>0,[2]Q!E16,"") | D18: =IF([2]Q!F16>0,[2]Q!F16,"") | G18: =IF(E18>0,[3]Feuil1!G17,"")
B19: Eau | C19: =IF([2]Q!E17>0,[2]Q!E17,"") | D19: =IF([2]Q!F17>0,[2]Q!F17,"") | G19: =IF(E19>0,[3]Feuil1!G18,"")
B20: Farine | C20: =IF([2]Q!E18>0,[2]Q!E18,"") | D20: =IF([2]Q!F18>0,[2]Q!F18,"") | G20: =IF(E20>0,[3]Feuil1!G19,"")
B21: Farine mi-crème | C21: =IF([2]Q!E19>0,[2]Q!E19,"") | D21: =IF([2]Q!F19>0,[2]Q!F19,"") | G21: =IF(E21>0,[3]Feuil1!G20,"")
B22: Farine T45 | C22: =IF([2]Q!E20>0,[2]Q!E20,"") | D22: =IF([2]Q!F20>0,[2]Q!F20,"") | G22: =IF(E22>0,[3]Feuil1!G21,"")
B23: Farine T45 de gruau | C23: =IF([2]Q!E21>0,[2]Q!E21,"") | D23: =IF([2]Q!F21>0,[2]Q!F21,"") | G23: =IF(E23>0,[3]Feuil1!G22,"")
B24: Farinte T65 | C24: =IF([2]Q!E22>0,[2]Q!E22,"") | D24: =IF([2]Q!F22>0,[2]Q!F22,"") | G24: =IF(E24>0,[3]Feuil1!G23,"")
B25: Framboise | C25: =IF([2]Q!E23>0,[2]Q!E23,"") | D25: =IF([2]Q!F23>0,[2]Q!F23,"") | G25: =IF(E25>0,[3]Feuil1!G24,"")
B26: Gelatine | G26: =IF(E26>0,[3]Feuil1!G25,"")
B27: Gelée d'abricot | C27: =IF([2]Q!E24>0,[2]Q!E24,"") | D27: =IF([2]Q!F24>0,[2]Q!F24,"") | G27: =IF(E27>0,[3]Feuil1!G26,"")
B28: Gousse de vanille | C28: =IF([2]Q!E25>0,[2]Q!E25,"") | D28: =IF([2]Q!F25>0,[2]Q!F25,"") | G28: =IF(E28>0,[3]Feuil1!G27,"")
B29: Jaune d'œufs | C29: =IF([2]Q!E26>0,[2]Q!E26,"") | D29: =IF([2]Q!F26>0,[2]Q!F26,"") | G29: =IF(E29>0,[3]Feuil1!G28,"")
B30: Jus d'orange | C30: =IF([2]Q!E27>0,[2]Q!E27,"") | D30: =IF([2]Q!F27>0,[2]Q!F27,"") | G30: =IF(E30>0,[3]Feuil1!G29,"")
B31: Lait 1/2 écrémé | C31: =IF([2]Q!E28>0,[2]Q!E28,"") | D31: =IF([2]Q!F28>0,[2]Q!F28,"") | G31: =IF(E31>0,[3]Feuil1!G30,"")
B32: Lait entier | C32: =IF([2]Q!E29>0,[2]Q!E29,"") | D32: =IF([2]Q!F29>0,[2]Q!F29,"") | G32: =IF(E32>0,[3]Feuil1!G31,"")
B33: Levure boulangère | C33: =IF([2]Q!E30>0,[2]Q!E30,"") | D33: =IF([2]Q!F30>0,[2]Q!F30,"") | G33: =IF(E33>0,[3]Feuil1!G32,"")
B34: Levure chimique | C34: =IF([2]Q!E31>0,[2]Q!E31,"") | D34: =IF([2]Q!F31>0,[2]Q!F31,"") | G34: =IF(E34>0,[3]Feuil1!G33,"")
B35: Maizena | C35: =IF([2]Q!E32>0,[2]Q!E32,"") | D35: =IF([2]Q!F32>0,[2]Q!F32,"") | G35: =IF(E35>0,[3]Feuil1!G34,"")
B36: Mandarine | C36: =IF([2]Q!E33>0,[2]Q!E33,"") | D36: =IF([2]Q!F33>0,[2]Q!F33,"") | G36: =IF(E36>0,[3]Feuil1!G35,"")
B37: Nappage neutre | C37: =IF([2]Q!E34>0,[2]Q!E34,"") | D37: =IF([2]Q!F34>0,[2]Q!F34,"") | G37: =IF(E37>0,[3]Feuil1!G36,"")
B38: Noix | C38: =IF([2]Q!E35>0,[2]Q!E35,"") | D38: =IF([2]Q!F35>0,[2]Q!F35,"") | G38: =IF(E38>0,[3]Feuil1!G37,"")
B39: Noix de coco | G39: =IF(E39>0,[3]Feuil1!G38,"")
B40: Noisette en poudre | G40: =IF(E40>0,[3]Feuil1!G39,"")
B41: Œufs entiers | C41: =IF([2]Q!E36>0,[2]Q!E36,"") | D41: =IF([2]Q!F36>0,[2]Q!F36,"") | G41: =IF(E41>0,[3]Feuil1!G40,"")
B42: Orange | C42: =IF([2]Q!E37>0,[2]Q!E37,"") | D42: =IF([2]Q!F37>0,[2]Q!F37,"") | G42: =IF(E42>0,[3]Feuil1!G41,"")
B43: Pâte à pistache | C43: =IF([2]Q!E38>0,[2]Q!E38,"") | D43: =IF([2]Q!F38>0,[2]Q!F38,"") | G43: =IF(E43>0,[3]Feuil1!G42,"")
B44: Poire | C44: =IF([2]Q!E39>0,[2]Q!E39,"") | D44: =IF([2]Q!F39>0,[2]Q!F39,"") | G44: =IF(E44>0,[3]Feuil1!G43,"")
B45: Pomme | C45: =IF([2]Q!E40>0,[2]Q!E40,"") | D45: =IF([2]Q!F40>0,[2]Q!F40,"") | G45: =IF(E45>0,[3]Feuil1!G44,"")
B46: Poudre à crème pâtissière | C46: =IF([2]Q!E41>0,[2]Q!E41,"") | D46: =IF([2]Q!F41>0,[2]Q!F41,"") | G46: =IF(E46>0,[3]Feuil1!G45,"")
B47: Poudre d'amandes | C47: =IF([2]Q!E42>0,[2]Q!E42,"") | D47: =IF([2]Q!F42>0,[2]Q!F42,"") | G47: =IF(E47>0,[3]Feuil1!G46,"")
B48: Poudre de lait | C48: =IF([2]Q!E43>0,[2]Q!E43,"") | D48: =IF([2]Q!F43>0,[2]Q!F43,"") | G48: =IF(E48>0,[3]Feuil1!G47,"")
B49: Poudre de noisettes | C49: =IF([2]Q!E44>0,[2]Q!E44,"") | D49: =IF([2]Q!F44>0,[2]Q!F44,"") | G49: =IF(E49>0,[3]Feuil1!G48,"")
B50: Praliné | C50: =IF([2]Q!E45>0,[2]Q!E45,"") | D50: =IF([2]Q!F45>0,[2]Q!F45,"") | G50: =IF(E50>0,[3]Feuil1!G49,"")
B51: Quetsches | C51: =IF([2]Q!E46>0,[2]Q!E46,"") | D51: =IF([2]Q!F46>0,[2]Q!F46,"") | G51: =IF(E51>0,[3]Feuil1!G50,"")
B52: Rhubarbe | C52: =IF([2]Q!E47>0,[2]Q!E47,"") | D52: =IF([2]Q!F47>0,[2]Q!F47,"") | G52: =IF(E52>0,[3]Feuil1!G51,"")
... B54: Sirop de glucose | C54: =IF([2]Q!E49>0,[2]Q!E49,"") | D54: =IF([2]Q!F49>0,[2]Q!F49,"") | G54: =IF(E54>0,[3]Feuil1!G53,"")
B55: Sucre glace | G55: =IF(E55>0,[3]Feuil1!G54,"")
B56: Sucre semoule | C56: =IF([2]Q!E50>0,[2]Q!E50,"") | D56: =IF([2]Q!F50>0,[2]Q!F50,"") | G56: =IF(E56>0,[3]Feuil1!G55,"")
C57: =IF([2]Q!E51>0,[2]Q!E51,"") | D57: =IF([2]Q!F51>0,[2]Q!F51,"") | G57: =IF(E57>0,[3]Feuil1!G56,"")
C58: =IF([2]Q!E52>0,[2]Q!E52,"") | D58: =IF([2]Q!F52>0,[2]Q!F52,"") | G58: =IF(E58>0,[3]Feuil1!G57,"")
C59: =IF([2]Q!E53>0,[2]Q!E53,"") | D59: =IF([2]Q!F53>0,[2]Q!F53,"") | G59: =IF(E59>0,[3]Feuil1!G58,"")
C60: =IF([2]Q!E54>0,[2]Q!E54,"") | D60: =IF([2]Q!F54>0,[2]Q!F54,"") | G60: =IF(E60>0,[3]Feuil1!G59,"")
C61: =IF([2]Q!E55>0,[2]Q!E55,"") | D61: =IF([2]Q!F55>0,[2]Q!F55,"") | G61: =IF(E61>0,[3]Feuil1!G60,"")
C62: =IF([2]Q!E56>0,[2]Q!E56,"") | D62: =IF([2]Q!F56>0,[2]Q!F56,"") | G62: =IF(E62>0,[3]Feuil1!G61,"")
C63: =IF([2]Q!E57>0,[2]Q!E57,"") | D63: =IF([2]Q!F57>0,[2]Q!F57,"") | G63: =IF(E63>0,[3]Feuil1!G62,"")
C64: =IF([2]Q!E58>0,[2]Q!E58,"") | D64: =IF([2]Q!F58>0,[2]Q!F58,"") | G64: =IF(E64>0,[3]Feuil1!G63,"")
C65: =IF([2]Q!E59>0,[2]Q!E59,"") | D65: =IF([2]Q!F59>0,[2]Q!F59,"") | G65: =IF(E65>0,[3]Feuil1!G64,"")
C66: =IF([2]Q!E60>0,[2]Q!E60,"") | D66: =IF([2]Q!F60>0,[2]Q!F60,"") | G66: =IF(E66>0,[3]Feuil1!G65,"")
C67: =IF([2]Q!E61>0,[2]Q!E61,"") | D67: =IF([2]Q!F61>0,[2]Q!F61,"") | G67: =IF(E67>0,[3]Feuil1!G66,"")
C68: =IF([2]Q!E62>0,[2]Q!E62,"") | D68: =IF([2]Q!F62>0,[2]Q!F62,"") | G68: =IF(E68>0,[3]Feuil1!G67,"")
... C76: =IF([2]Q!E70>0,[2]Q!E70,"") | D76: =IF([2]Q!F70>0,[2]Q!F70,"") | G76: =IF(E76>0,[3]Feuil1!G75,"")

Sheet R
A1: =[2]R!$A$1:$G$1 -> R
B3: Désignation | C3: Quantités 1p | E3: Quantité au Kg | G3: PU | H3: PT
B4: Amandes blanches entières | G4: =IF(E4>0,[3]Feuil1!G3,"") | J4: Prix
B5: Amandes efffilés | C5: =IF([2]R!E4>0,[2]R!E4,"") -> 1 | D5: =IF([2]R!F4>0,[2]R!F4,"") | G5: =IF(E5>0,[3]Feuil1!G4,"")
B6: Beurre | C6: =IF([2]R!E5>0,[2]R!E5,"") | D6: =IF([2]R!F5>0,[2]R!F5,"") | G6: =IF(E6>0,[3]Feuil1!G5,"")
B7: Blanc d'œufs | C7: =IF([2]R!E6>0,[2]R!E6,"") | D7: =IF([2]R!F6>0,[2]R!F6,"") | G7: =IF(E7>0,[3]Feuil1!G6,"") | J7: =SUM(H4:H204) -> 0
B8: Cacao | C8: =IF([2]R!E7>0,[2]R!E7,"") | D8: =IF([2]R!F7>0,[2]R!F7,"") | G8: =IF(E8>0,[3]Feuil1!G7,"")
B9: Cannelle | C9: =IF([2]R!E8>0,[2]R!E8,"") | D9: =IF([2]R!F8>0,[2]R!F8,"") | G9: =IF(E9>0,[3]Feuil1!G8,"")
B10: Cerise | C10: =IF([2]R!E9>0,[2]R!E9,"") | D10: =IF([2]R!F9>0,[2]R!F9,"") | G10: =IF(E10>0,[3]Feuil1!G9,"")
B11: Chocolat blanc | C11: =IF([2]R!E10>0,[2]R!E10,"") | D11: =IF([2]R!F10>0,[2]R!F10,"") | G11: =IF(E11>0,[3]Feuil1!G10,"")
B12: Chocolat en pépite | C12: =IF([2]R!E11>0,[2]R!E11,"") | D12: =IF([2]R!F11>0,[2]R!F11,"") | G12: =IF(E12>0,[3]Feuil1!G11,"")
B13: Chocolat en pistole | C13: =IF([2]R!E12>0,[2]R!E12,"") | D13: =IF([2]R!F12>0,[2]R!F12,"") | G13: =IF(E13>0,[3]Feuil1!G12,"")
B14: Citron | C14: =IF([2]R!E13>0,[2]R!E13,"") | D14: =IF([2]R!F13>0,[2]R!F13,"") | G14: =IF(E14>0,[3]Feuil1!G13,"")
B15: Confiture de framboise | C15: =IF([2]R!E14>0,[2]R!E14,"") | D15: =IF([2]R!F14>0,[2]R!F14,"") | G15: =IF(E15>0,[3]Feuil1!G14,"")
B16: Colorant alimentaire | G16: =IF(E16>0,[3]Feuil1!G15,"")
B17: Coulis framboise | C17: =IF([2]R!E15>0,[2]R!E15,"") | D17: =IF([2]R!F15>0,[2]R!F15,"") | G17: =IF(E17>0,[3]Feuil1!G16,"")
B18: Coulis mangue | C18: =IF([2]R!E16>0,[2]R!E16,"") | D18: =IF([2]R!F16>0,[2]R!F16,"") | G18: =IF(E18>0,[3]Feuil1!G17,"")
B19: Eau | C19: =IF([2]R!E17>0,[2]R!E17,"") | D19: =IF([2]R!F17>0,[2]R!F17,"") | G19: =IF(E19>0,[3]Feuil1!G18,"")
B20: Farine | C20: =IF([2]R!E18>0,[2]R!E18,"") | D20: =IF([2]R!F18>0,[2]R!F18,"") | G20: =IF(E20>0,[3]Feuil1!G19,"")
B21: Farine mi-crème | C21: =IF([2]R!E19>0,[2]R!E19,"") | D21: =IF([2]R!F19>0,[2]R!F19,"") | G21: =IF(E21>0,[3]Feuil1!G20,"")
B22: Farine T45 | C22: =IF([2]R!E20>0,[2]R!E20,"") | D22: =IF([2]R!F20>0,[2]R!F20,"") | G22: =IF(E22>0,[3]Feuil1!G21,"")
B23: Farine T45 de gruau | C23: =IF([2]R!E21>0,[2]R!E21,"") | D23: =IF([2]R!F21>0,[2]R!F21,"") | G23: =IF(E23>0,[3]Feuil1!G22,"")
B24: Farinte T65 | C24: =IF([2]R!E22>0,[2]R!E22,"") | D24: =IF([2]R!F22>0,[2]R!F22,"") | G24: =IF(E24>0,[3]Feuil1!G23,"")
B25: Framboise | C25: =IF([2]R!E23>0,[2]R!E23,"") | D25: =IF([2]R!F23>0,[2]R!F23,"") | G25: =IF(E25>0,[3]Feuil1!G24,"")
B26: Gelatine | G26: =IF(E26>0,[3]Feuil1!G25,"")
B27: Gelée d'abricot | C27: =IF([2]R!E24>0,[2]R!E24,"") | D27: =IF([2]R!F24>0,[2]R!F24,"") | G27: =IF(E27>0,[3]Feuil1!G26,"")
B28: Gousse de vanille | C28: =IF([2]R!E25>0,[2]R!E25,"") | D28: =IF([2]R!F25>0,[2]R!F25,"") | G28: =IF(E28>0,[3]Feuil1!G27,"")
B29: Jaune d'œufs | C29: =IF([2]R!E26>0,[2]R!E26,"") | D29: =IF([2]R!F26>0,[2]R!F26,"") | G29: =IF(E29>0,[3]Feuil1!G28,"")
B30: Jus d'orange | C30: =IF([2]R!E27>0,[2]R!E27,"") | D30: =IF([2]R!F27>0,[2]R!F27,"") | G30: =IF(E30>0,[3]Feuil1!G29,"")
B31: Lait 1/2 écrémé | C31: =IF([2]R!E28>0,[2]R!E28,"") | D31: =IF([2]R!F28>0,[2]R!F28,"") | G31: =IF(E31>0,[3]Feuil1!G30,"")
B32: Lait entier | C32: =IF([2]R!E29>0,[2]R!E29,"") | D32: =IF([2]R!F29>0,[2]R!F29,"") | G32: =IF(E32>0,[3]Feuil1!G31,"")
B33: Levure boulangère | C33: =IF([2]R!E30>0,[2]R!E30,"") | D33: =IF([2]R!F30>0,[2]R!F30,"") | G33: =IF(E33>0,[3]Feuil1!G32,"")
B34: Levure chimique | C34: =IF([2]R!E31>0,[2]R!E31,"") | D34: =IF([2]R!F31>0,[2]R!F31,"") | G34: =IF(E34>0,[3]Feuil1!G33,"")
B35: Maizena | C35: =IF([2]R!E32>0,[2]R!E32,"") | D35: =IF([2]R!F32>0,[2]R!F32,"") | G35: =IF(E35>0,[3]Feuil1!G34,"")
B36: Mandarine | C36: =IF([2]R!E33>0,[2]R!E33,"") | D36: =IF([2]R!F33>0,[2]R!F33,"") | G36: =IF(E36>0,[3]Feuil1!G35,"")
B37: Nappage neutre | C37: =IF([2]R!E34>0,[2]R!E34,"") | D37: =IF([2]R!F34>0,[2]R!F34,"") | G37: =IF(E37>0,[3]Feuil1!G36,"")
B38: Noix | C38: =IF([2]R!E35>0,[2]R!E35,"") | D38: =IF([2]R!F35>0,[2]R!F35,"") | G38: =IF(E38>0,[3]Feuil1!G37,"")
B39: Noix de coco | G39: =IF(E39>0,[3]Feuil1!G38,"")
B40: Noisette en poudre | G40: =IF(E40>0,[3]Feuil1!G39,"")
B41: Œufs entiers | C41: =IF([2]R!E36>0,[2]R!E36,"") | D41: =IF([2]R!F36>0,[2]R!F36,"") | G41: =IF(E41>0,[3]Feuil1!G40,"")
B42: Orange | C42: =IF([2]R!E37>0,[2]R!E37,"") | D42: =IF([2]R!F37>0,[2]R!F37,"") | G42: =IF(E42>0,[3]Feuil1!G41,"")
B43: Pâte à pistache | C43: =IF([2]R!E38>0,[2]R!E38,"") | D43: =IF([2]R!F38>0,[2]R!F38,"") | G43: =IF(E43>0,[3]Feuil1!G42,"")
B44: Poire | C44: =IF([2]R!E39>0,[2]R!E39,"") | D44: =IF([2]R!F39>0,[2]R!F39,"") | G44: =IF(E44>0,[3]Feuil1!G43,"")
B45: Pomme | C45: =IF([2]R!E40>0,[2]R!E40,"") | D45: =IF([2]R!F40>0,[2]R!F40,"") | G45: =IF(E45>0,[3]Feuil1!G44,"")
B46: Poudre à crème pâtissière | C46: =IF([2]R!E41>0,[2]R!E41,"") | D46: =IF([2]R!F41>0,[2]R!F41,"") | G46: =IF(E46>0,[3]Feuil1!G45,"")
B47: Poudre d'amandes | C47: =IF([2]R!E42>0,[2]R!E42,"") | D47: =IF([2]R!F42>0,[2]R!F42,"") | G47: =IF(E47>0,[3]Feuil1!G46,"")
B48: Poudre de lait | C48: =IF([2]R!E43>0,[2]R!E43,"") | D48: =IF([2]R!F43>0,[2]R!F43,"") | G48: =IF(E48>0,[3]Feuil1!G47,"")
B49: Poudre de noisettes | C49: =IF([2]R!E44>0,[2]R!E44,"") | D49: =IF([2]R!F44>0,[2]R!F44,"") | G49: =IF(E49>0,[3]Feuil1!G48,"")
B50: Praliné | C50: =IF([2]R!E45>0,[2]R!E45,"") | D50: =IF([2]R!F45>0,[2]R!F45,"") | G50: =IF(E50>0,[3]Feuil1!G49,"")
B51: Quetsches | C51: =IF([2]R!E46>0,[2]R!E46,"") | D51: =IF([2]R!F46>0,[2]R!F46,"") | G51: =IF(E51>0,[3]Feuil1!G50,"")
B52: Rhubarbe | C52: =IF([2]R!E47>0,[2]R!E47,"") | D52: =IF([2]R!F47>0,[2]R!F47,"") | G52: =IF(E52>0,[3]Feuil1!G51,"")
... B54: Sirop de glucose | C54: =IF([2]R!E49>0,[2]R!E49,"") | D54: =IF([2]R!F49>0,[2]R!F49,"") | G54: =IF(E54>0,[3]Feuil1!G53,"")
B55: Sucre glace | G55: =IF(E55>0,[3]Feuil1!G54,"")
B56: Sucre semoule | C56: =IF([2]R!E50>0,[2]R!E50,"") | D56: =IF([2]R!F50>0,[2]R!F50,"") | G56: =IF(E56>0,[3]Feuil1!G55,"")
C57: =IF([2]R!E51>0,[2]R!E51,"") | D57: =IF([2]R!F51>0,[2]R!F51,"") | G57: =IF(E57>0,[3]Feuil1!G56,"")
C58: =IF([2]R!E52>0,[2]R!E52,"") | D58: =IF([2]R!F52>0,[2]R!F52,"") | G58: =IF(E58>0,[3]Feuil1!G57,"")
C59: =IF([2]R!E53>0,[2]R!E53,"") | D59: =IF([2]R!F53>0,[2]R!F53,"") | G59: =IF(E59>0,[3]Feuil1!G58,"")
C60: =IF([2]R!E54>0,[2]R!E54,"") | D60: =IF([2]R!F54>0,[2]R!F54,"") | G60: =IF(E60>0,[3]Feuil1!G59,"")
C61: =IF([2]R!E55>0,[2]R!E55,"") | D61: =IF([2]R!F55>0,[2]R!F55,"") | G61: =IF(E61>0,[3]Feuil1!G60,"")
C62: =IF([2]R!E56>0,[2]R!E56,"") | D62: =IF([2]R!F56>0,[2]R!F56,"") | G62: =IF(E62>0,[3]Feuil1!G61,"")
C63: =IF([2]R!E57>0,[2]R!E57,"") | D63: =IF([2]R!F57>0,[2]R!F57,"") | G63: =IF(E63>0,[3]Feuil1!G62,"")
C64: =IF([2]R!E58>0,[2]R!E58,"") | D64: =IF([2]R!F58>0,[2]R!F58,"") | G64: =IF(E64>0,[3]Feuil1!G63,"")
C65: =IF([2]R!E59>0,[2]R!E59,"") | D65: =IF([2]R!F59>0,[2]R!F59,"") | G65: =IF(E65>0,[3]Feuil1!G64,"")
C66: =IF([2]R!E60>0,[2]R!E60,"") | D66: =IF([2]R!F60>0,[2]R!F60,"") | G66: =IF(E66>0,[3]Feuil1!G65,"")
C67: =IF([2]R!E61>0,[2]R!E61,"") | D67: =IF([2]R!F61>0,[2]R!F61,"") | G67: =IF(E67>0,[3]Feuil1!G66,"")
C68: =IF([2]R!E62>0,[2]R!E62,"") | D68: =IF([2]R!F62>0,[2]R!F62,"") | G68: =IF(E68>0,[3]Feuil1!G67,"")
... C76: =IF([2]R!E70>0,[2]R!E70,"") | D76: =IF([2]R!F70>0,[2]R!F70,"") | G76: =IF(E76>0,[3]Feuil1!G75,"")

Sheet S
A1: =[2]S!$A$1:$G$1 -> S
B3: Désignation | C3: Quantités 1p | E3: Quantité au Kg | G3: PU | H3: PT
B4: Amandes blanches entières | G4: =IF(E4>0,[3]Feuil1!G3,"") | J4: Prix
B5: Amandes efffilés | C5: =IF([2]S!E4>0,[2]S!E4,"") -> 1 | D5: =IF([2]S!F4>0,[2]S!F4,"") | G5: =IF(E5>0,[3]Feuil1!G4,"")
B6: Beurre | C6: =IF([2]S!E5>0,[2]S!E5,"") | D6: =IF([2]S!F5>0,[2]S!F5,"") | G6: =IF(E6>0,[3]Feuil1!G5,"")
B7: Blanc d'œufs | C7: =IF([2]S!E6>0,[2]S!E6,"") | D7: =IF([2]S!F6>0,[2]S!F6,"") | G7: =IF(E7>0,[3]Feuil1!G6,"") | J7: =SUM(H4:H204) -> 0
B8: Cacao | C8: =IF([2]S!E7>0,[2]S!E7,"") | D8: =IF([2]S!F7>0,[2]S!F7,"") | G8: =IF(E8>0,[3]Feuil1!G7,"")
B9: Cannelle | C9: =IF([2]S!E8>0,[2]S!E8,"") | D9: =IF([2]S!F8>0,[2]S!F8,"") | G9: =IF(E9>0,[3]Feuil1!G8,"")
B10: Cerise | C10: =IF([2]S!E9>0,[2]S!E9,"") | D10: =IF([2]S!F9>0,[2]S!F9,"") | G10: =IF(E10>0,[3]Feuil1!G9,"")
B11: Chocolat blanc | C11: =IF([2]S!E10>0,[2]S!E10,"") | D11: =IF([2]S!F10>0,[2]S!F10,"") | G11: =IF(E11>0,[3]Feuil1!G10,"")
B12: Chocolat en pépite | C12: =IF([2]S!E11>0,[2]S!E11,"") | D12: =IF([2]S!F11>0,[2]S!F11,"") | G12: =IF(E12>0,[3]Feuil1!G11,"")
B13: Chocolat en pistole | C13: =IF([2]S!E12>0,[2]S!E12,"") | D13: =IF([2]S!F12>0,[2]S!F12,"") | G13: =IF(E13>0,[3]Feuil1!G12,"")
B14: Citron | C14: =IF([2]S!E13>0,[2]S!E13,"") | D14: =IF([2]S!F13>0,[2]S!F13,"") | G14: =IF(E14>0,[3]Feuil1!G13,"")
B15: Confiture de framboise | C15: =IF([2]S!E14>0,[2]S!E14,"") | D15: =IF([2]S!F14>0,[2]S!F14,"") | G15: =IF(E15>0,[3]Feuil1!G14,"")
B16: Colorant alimentaire | G16: =IF(E16>0,[3]Feuil1!G15,"")
B17: Coulis framboise | C17: =IF([2]S!E15>0,[2]S!E15,"") | D17: =IF([2]S!F15>0,[2]S!F15,"") | G17: =IF(E17>0,[3]Feuil1!G16,"")
B18: Coulis mangue | C18: =IF([2]S!E16>0,[2]S!E16,"") | D18: =IF([2]S!F16>0,[2]S!F16,"") | G18: =IF(E18>0,[3]Feuil1!G17,"")
B19: Eau | C19: =IF([2]S!E17>0,[2]S!E17,"") | D19: =IF([2]S!F17>0,[2]S!F17,"") | G19: =IF(E19>0,[3]Feuil1!G18,"")
B20: Farine | C20: =IF([2]S!E18>0,[2]S!E18,"") | D20: =IF([2]S!F18>0,[2]S!F18,"") | G20: =IF(E20>0,[3]Feuil1!G19,"")
B21: Farine mi-crème | C21: =IF([2]S!E19>0,[2]S!E19,"") | D21: =IF([2]S!F19>0,[2]S!F19,"") | G21: =IF(E21>0,[3]Feuil1!G20,"")
B22: Farine T45 | C22: =IF([2]S!E20>0,[2]S!E20,"") | D22: =IF([2]S!F20>0,[2]S!F20,"") | G22: =IF(E22>0,[3]Feuil1!G21,"")
B23: Farine T45 de gruau | C23: =IF([2]S!E21>0,[2]S!E21,"") | D23: =IF([2]S!F21>0,[2]S!F21,"") | G23: =IF(E23>0,[3]Feuil1!G22,"")
B24: Farinte T65 | C24: =IF([2]S!E22>0,[2]S!E22,"") | D24: =IF([2]S!F22>0,[2]S!F22,"") | G24: =IF(E24>0,[3]Feuil1!G23,"")
B25: Framboise | C25: =IF([2]S!E23>0,[2]S!E23,"") | D25: =IF([2]S!F23>0,[2]S!F23,"") | G25: =IF(E25>0,[3]Feuil1!G24,"")
B26: Gelatine | G26: =IF(E26>0,[3]Feuil1!G25,"")
B27: Gelée d'abricot | C27: =IF([2]S!E24>0,[2]S!E24,"") | D27: =IF([2]S!F24>0,[2]S!F24,"") | G27: =IF(E27>0,[3]Feuil1!G26,"")
B28: Gousse de vanille | C28: =IF([2]S!E25>0,[2]S!E25,"") | D28: =IF([2]S!F25>0,[2]S!F25,"") | G28: =IF(E28>0,[3]Feuil1!G27,"")
B29: Jaune d'œufs | C29: =IF([2]S!E26>0,[2]S!E26,"") | D29: =IF([2]S!F26>0,[2]S!F26,"") | G29: =IF(E29>0,[3]Feuil1!G28,"")
B30: Jus d'orange | C30: =IF([2]S!E27>0,[2]S!E27,"") | D30: =IF([2]S!F27>0,[2]S!F27,"") | G30: =IF(E30>0,[3]Feuil1!G29,"")
B31: Lait 1/2 écrémé | C31: =IF([2]S!E28>0,[2]S!E28,"") | D31: =IF([2]S!F28>0,[2]S!F28,"") | G31: =IF(E31>0,[3]Feuil1!G30,"")
B32: Lait entier | C32: =IF([2]S!E29>0,[2]S!E29,"") | D32: =IF([2]S!F29>0,[2]S!F29,"") | G32: =IF(E32>0,[3]Feuil1!G31,"")
B33: Levure boulangère | C33: =IF([2]S!E30>0,[2]S!E30,"") | D33: =IF([2]S!F30>0,[2]S!F30,"") | G33: =IF(E33>0,[3]Feuil1!G32,"")
B34: Levure chimique | C34: =IF([2]S!E31>0,[2]S!E31,"") | D34: =IF([2]S!F31>0,[2]S!F31,"") | G34: =IF(E34>0,[3]Feuil1!G33,"")
B35: Maizena | C35: =IF([2]S!E32>0,[2]S!E32,"") | D35: =IF([2]S!F32>0,[2]S!F32,"") | G35: =IF(E35>0,[3]Feuil1!G34,"")
B36: Mandarine | C36: =IF([2]S!E33>0,[2]S!E33,"") | D36: =IF([2]S!F33>0,[2]S!F33,"") | G36: =IF(E36>0,[3]Feuil1!G35,"")
B37: Nappage neutre | C37: =IF([2]S!E34>0,[2]S!E34,"") | D37: =IF([2]S!F34>0,[2]S!F34,"") | G37: =IF(E37>0,[3]Feuil1!G36,"")
B38: Noix | C38: =IF([2]S!E35>0,[2]S!E35,"") | D38: =IF([2]S!F35>0,[2]S!F35,"") | G38: =IF(E38>0,[3]Feuil1!G37,"")
B39: Noix de coco | G39: =IF(E39>0,[3]Feuil1!G38,"")
B40: Noisette en poudre | G40: =IF(E40>0,[3]Feuil1!G39,"")
B41: Œufs entiers | C41: =IF([2]S!E36>0,[2]S!E36,"") | D41: =IF([2]S!F36>0,[2]S!F36,"") | G41: =IF(E41>0,[3]Feuil1!G40,"")
B42: Orange | C42: =IF([2]S!E37>0,[2]S!E37,"") | D42: =IF([2]S!F37>0,[2]S!F37,"") | G42: =IF(E42>0,[3]Feuil1!G41,"")
B43: Pâte à pistache | C43: =IF([2]S!E38>0,[2]S!E38,"") | D43: =IF([2]S!F38>0,[2]S!F38,"") | G43: =IF(E43>0,[3]Feuil1!G42,"")
B44: Poire | C44: =IF([2]S!E39>0,[2]S!E39,"") | D44: =IF([2]S!F39>0,[2]S!F39,"") | G44: =IF(E44>0,[3]Feuil1!G43,"")
B45: Pomme | C45: =IF([2]S!E40>0,[2]S!E40,"") | D45: =IF([2]S!F40>0,[2]S!F40,"") | G45: =IF(E45>0,[3]Feuil1!G44,"")
B46: Poudre à crème pâtissière | C46: =IF([2]S!E41>0,[2]S!E41,"") | D46: =IF([2]S!F41>0,[2]S!F41,"") | G46: =IF(E46>0,[3]Feuil1!G45,"")
B47: Poudre d'amandes | C47: =IF([2]S!E42>0,[2]S!E42,"") | D47: =IF([2]S!F42>0,[2]S!F42,"") | G47: =IF(E47>0,[3]Feuil1!G46,"")
B48: Poudre de lait | C48: =IF([2]S!E43>0,[2]S!E43,"") | D48: =IF([2]S!F43>0,[2]S!F43,"") | G48: =IF(E48>0,[3]Feuil1!G47,"")
B49: Poudre de noisettes | C49: =IF([2]S!E44>0,[2]S!E44,"") | D49: =IF([2]S!F44>0,[2]S!F44,"") | G49: =IF(E49>0,[3]Feuil1!G48,"")
B50: Praliné | C50: =IF([2]S!E45>0,[2]S!E45,"") | D50: =IF([2]S!F45>0,[2]S!F45,"") | G50: =IF(E50>0,[3]Feuil1!G49,"")
B51: Quetsches | C51: =IF([2]S!E46>0,[2]S!E46,"") | D51: =IF([2]S!F46>0,[2]S!F46,"") | G51: =IF(E51>0,[3]Feuil1!G50,"")
B52: Rhubarbe | C52: =IF([2]S!E47>0,[2]S!E47,"") | D52: =IF([2]S!F47>0,[2]S!F47,"") | G52: =IF(E52>0,[3]Feuil1!G51,"")
... B54: Sirop de glucose | C54: =IF([2]S!E49>0,[2]S!E49,"") | D54: =IF([2]S!F49>0,[2]S!F49,"") | G54: =IF(E54>0,[3]Feuil1!G53,"")
B55: Sucre glace | G55: =IF(E55>0,[3]Feuil1!G54,"")
B56: Sucre semoule | C56: =IF([2]S!E50>0,[2]S!E50,"") | D56: =IF([2]S!F50>0,[2]S!F50,"") | G56: =IF(E56>0,[3]Feuil1!G55,"")
C57: =IF([2]S!E51>0,[2]S!E51,"") | D57: =IF([2]S!F51>0,[2]S!F51,"") | G57: =IF(E57>0,[3]Feuil1!G56,"")
C58: =IF([2]S!E52>0,[2]S!E52,"") | D58: =IF([2]S!F52>0,[2]S!F52,"") | G58: =IF(E58>0,[3]Feuil1!G57,"")
C59: =IF([2]S!E53>0,[2]S!E53,"") | D59: =IF([2]S!F53>0,[2]S!F53,"") | G59: =IF(E59>0,[3]Feuil1!G58,"")
C60: =IF([2]S!E54>0,[2]S!E54,"") | D60: =IF([2]S!F54>0,[2]S!F54,"") | G60: =IF(E60>0,[3]Feuil1!G59,"")
C61: =IF([2]S!E55>0,[2]S!E55,"") | D61: =IF([2]S!F55>0,[2]S!F55,"") | G61: =IF(E61>0,[3]Feuil1!G60,"")
C62: =IF([2]S!E56>0,[2]S!E56,"") | D62: =IF([2]S!F56>0,[2]S!F56,"") | G62: =IF(E62>0,[3]Feuil1!G61,"")
