Workbook
Name DATE_BDD: Feuil2!$B$1:$BR$1
Name DEBUT: Feuil1!$C$2
Name FIN: Feuil1!$E$2

Sheet Feuil1
B2: Date: | C2: 43101 | D2: Au: | E2: 43115
B4: A | C4: B | D4: C | E4: D
A5: toto1 | B5: =COUNTIFS(Feuil2!B2:BR2,B$4,DATE_BDD,"<=" &FIN,DATE_BDD,">=" &DEBUT) -> 5 | C5: =COUNTIFS(Feuil2!C2:BS2,C$4,DATE_BDD,"<=" &FIN,DATE_BDD,">=" &DEBUT) -> 3 | D5: =COUNTIFS(Feuil2!D2:BT2,D$4,DATE_BDD,"<=" &FIN,DATE_BDD,">=" &DEBUT) -> 1 | E5: =COUNTIFS(Feuil2!E2:BU2,E$4,DATE_BDD,"<=" &FIN,DATE_BDD,">=" &DEBUT) -> 0 | G5: a chaque ligne : ( NB.SI.ENS(Feuil2!B2:BR2;B$4;DATE_BDD;"<=" &FIN;DATE_BDD;">=" &DEBUT) )
A6: toto2 | B6: =COUNTIFS(Feuil2!B3:BR3,B$4,DATE_BDD,"<=" &FIN,DATE_BDD,">=" &DEBUT) -> 4 | C6: =COUNTIFS(Feuil2!C3:BS3,C$4,DATE_BDD,"<=" &FIN,DATE_BDD,">=" &DEBUT) -> 2 | D6: =COUNTIFS(Feuil2!D3:BT3,D$4,DATE_BDD,"<=" &FIN,DATE_BDD,">=" &DEBUT) -> 1 | E6: =COUNTIFS(Feuil2!E3:BU3,E$4,DATE_BDD,"<=" &FIN,DATE_BDD,">=" &DEBUT) -> 0 | G6: le but est de remplacer le "Feuil2!B2:BR2;B$4" présent a chaque ligne par une fomule dynamique qui arrive a associé toto1 de la feuille1 à toto1 de la feuille2
A7: toto3 | B7: =COUNTIFS(Feuil2!B4:BR4,B$4,DATE_BDD,"<=" &FIN,DATE_BDD,">=" &DEBUT) -> 5 | C7: =COUNTIFS(Feuil2!C4:BS4,C$4,DATE_BDD,"<=" &FIN,DATE_BDD,">=" &DEBUT) -> 3 | D7: =COUNTIFS(Feuil2!D4:BT4,D$4,DATE_BDD,"<=" &FIN,DATE_BDD,">=" &DEBUT) -> 1 | E7: =COUNTIFS(Feuil2!E4:BU4,E$4,DATE_BDD,"<=" &FIN,DATE_BDD,">=" &DEBUT) -> 0
A8: toto4 | B8: =COUNTIFS(Feuil2!B5:BR5,B$4,DATE_BDD,"<=" &FIN,DATE_BDD,">=" &DEBUT) -> 3 | C8: =COUNTIFS(Feuil2!C5:BS5,C$4,DATE_BDD,"<=" &FIN,DATE_BDD,">=" &DEBUT) -> 1 | D8: =COUNTIFS(Feuil2!D5:BT5,D$4,DATE_BDD,"<=" &FIN,DATE_BDD,">=" &DEBUT) -> 1 | E8: =COUNTIFS(Feuil2!E5:BU5,E$4,DATE_BDD,"<=" &FIN,DATE_BDD,">=" &DEBUT) -> 0 | G8: En bref, il me faudrait une formule qui arrive à chercher le nombre de "A" qu'a fait toto1 entre les 2 dates indiquées manuellement.
A9: toto5 | B9: =COUNTIFS(Feuil2!B6:BR6,B$4,DATE_BDD,"<=" &FIN,DATE_BDD,">=" &DEBUT) -> 3 | C9: =COUNTIFS(Feuil2!C6:BS6,C$4,DATE_BDD,"<=" &FIN,DATE_BDD,">=" &DEBUT) -> 1 | D9: =COUNTIFS(Feuil2!D6:BT6,D$4,DATE_BDD,"<=" &FIN,DATE_BDD,">=" &DEBUT) -> 1 | E9: =COUNTIFS(Feuil2!E6:BU6,E$4,DATE_BDD,"<=" &FIN,DATE_BDD,">=" &DEBUT) -> 1
A10: toto6 | B10: =COUNTIFS(Feuil2!B7:BR7,B$4,DATE_BDD,"<=" &FIN,DATE_BDD,">=" &DEBUT) -> 3 | C10: =COUNTIFS(Feuil2!C7:BS7,C$4,DATE_BDD,"<=" &FIN,DATE_BDD,">=" &DEBUT) -> 1 | D10: =COUNTIFS(Feuil2!D7:BT7,D$4,DATE_BDD,"<=" &FIN,DATE_BDD,">=" &DEBUT) -> 1 | E10: =COUNTIFS(Feuil2!E7:BU7,E$4,DATE_BDD,"<=" &FIN,DATE_BDD,">=" &DEBUT) -> 4
A11: toto7 | B11: =COUNTIFS(Feuil2!B8:BR8,B$4,DATE_BDD,"<=" &FIN,DATE_BDD,">=" &DEBUT) -> 6 | C11: =COUNTIFS(Feuil2!C8:BS8,C$4,DATE_BDD,"<=" &FIN,DATE_BDD,">=" &DEBUT) -> 0 | D11: =COUNTIFS(Feuil2!D8:BT8,D$4,DATE_BDD,"<=" &FIN,DATE_BDD,">=" &DEBUT) -> 0 | E11: =COUNTIFS(Feuil2!E8:BU8,E$4,DATE_BDD,"<=" &FIN,DATE_BDD,">=" &DEBUT) -> 0
A12: toto8 | B12: =COUNTIFS(Feuil2!B9:BR9,B$4,DATE_BDD,"<=" &FIN,DATE_BDD,">=" &DEBUT) -> 9 | C12: =COUNTIFS(Feuil2!C9:BS9,C$4,DATE_BDD,"<=" &FIN,DATE_BDD,">=" &DEBUT) -> 0 | D12: =COUNTIFS(Feuil2!D9:BT9,D$4,DATE_BDD,"<=" &FIN,DATE_BDD,">=" &DEBUT) -> 0 | E12: =COUNTIFS(Feuil2!E9:BU9,E$4,DATE_BDD,"<=" &FIN,DATE_BDD,">=" &DEBUT) -> 0
A13: toto9 | B13: =COUNTIFS(Feuil2!B10:BR10,B$4,DATE_BDD,"<=" &FIN,DATE_BDD,">=" &DEBUT) -> 0 | C13: =COUNTIFS(Feuil2!C10:BS10,C$4,DATE_BDD,"<=" &FIN,DATE_BDD,">=" &DEBUT) -> 9 | D13: =COUNTIFS(Feuil2!D10:BT10,D$4,DATE_BDD,"<=" &FIN,DATE_BDD,">=" &DEBUT) -> 0 | E13: =COUNTIFS(Feuil2!E10:BU10,E$4,DATE_BDD,"<=" &FIN,DATE_BDD,">=" &DEBUT) -> 0
A14: toto10 | B14: =COUNTIFS(Feuil2!B11:BR11,B$4,DATE_BDD,"<=" &FIN,DATE_BDD,">=" &DEBUT) -> 2 | C14: =COUNTIFS(Feuil2!C11:BS11,C$4,DATE_BDD,"<=" &FIN,DATE_BDD,">=" &DEBUT) -> 2 | D14: =COUNTIFS(Feuil2!D11:BT11,D$4,DATE_BDD,"<=" &FIN,DATE_BDD,">=" &DEBUT) -> 2 | E14: =COUNTIFS(Feuil2!E11:BU11,E$4,DATE_BDD,"<=" &FIN,DATE_BDD,">=" &DEBUT) -> 0

Sheet Feuil2
B1: 43101 | C1: 43102 | D1: 43103 | E1: 43104 | F1: 43105 | G1: 43106 | H1: 43107 | I1: 43108 | J1: 43109 | K1: 43110 | L1: 43111 | M1: 43112 | N1: 43113 | O1: 43114 | P1: 43115 | Q1: 43116 | R1: 43117 | S1: 43118 | T1: 43119 | U1: 43120 | V1: 43121 | W1: 43122 | X1: 43123 | Y1: 43124 | Z1: 43125 | AA1: 43126 | AB1: 43127 | AC1: 43128 | AD1: 43129 | AE1: 43130 | AF1: 43131 | AG1: 43132 | AH1: 43133 | AI1: 43134 | AJ1: 43135 | AK1: 43136 | AL1: 43137 | AM1: 43138 | AN1: 43139 | AO1: 43140 | AP1: 43141 | AQ1: 43142 | AR1: 43143 | AS1: 43144 | AT1: 43145 | AU1: 43146 | AV1: 43147 | AW1: 43148 | AX1: 43149 | AY1: 43150 | AZ1: 43151 | BA1: 43152 | BB1: 43153 | BC1: 43154 | BD1: 43155 | BE1: 43156 | BF1: 43157 | BG1: 43158 | BH1: 43159 | BI1: 43160 | BJ1: 43161 | BK1: 43162 | BL1: 43163 | BM1: 43164 | BN1: 43165 | BO1: 43166 | BP1: 43167 | BQ1: 43168 | BR1: 43169
A2: toto1 | B2: A | C2: A | E2: A | F2: B | G2: C | J2: A | K2: B | N2: A | O2: B | Q2: A | R2: B | T2: A | U2: B | W2: A | X2: B | Y2: A | Z2: A | AB2: A | AC2: B | AD2: C | AG2: A | AH2: B | AK2: A | AL2: B | AN2: A | AO2: B | AQ2: A | AR2: B | AT2: A | AU2: B | AV2: A | AW2: A | AY2: A | AZ2: B | BA2: C | BD2: A | BE2: B | BH2: A | BI2: B | BK2: A | BL2: B | BN2: A | BO2: B | BQ2: A | BR2: B
A3: toto2 | B3: D | D3: A | E3: A | G3: A | H3: B | I3: C | M3: A | N3: B | S3: C | U3: C | Y3: D | AA3: A | AB3: A | AD3: A | AE3: B | AF3: C | AJ3: A | AK3: B | AP3: C | AR3: C | AV3: D | AX3: A | AY3: A | BA3: A | BB3: B | BC3: C | BG3: A | BH3: B | BM3: C | BO3: C
A4: toto3 | B4: D | C4: D | F4: A | G4: A | I4: A | J4: B | K4: C | M4: A | N4: B | P4: A | Q4: B | S4: A | T4: B | V4: A | W4: B | X4: C | Y4: D | Z4: D | AC4: A | AD4: A | AF4: A | AG4: B | AH4: C | AJ4: A | AK4: B | AM4: A | AN4: B | AP4: A | AQ4: B | AS4: A | AT4: B | AU4: C | AV4: D | AW4: D | AZ4: A | BA4: A | BC4: A | BD4: B | BE4: C | BG4: A | BH4: B | BJ4: A | BK4: B | BM4: A | BN4: B | BP4: A | BQ4: B | BR4: C
A5: toto4 | H5: A | I5: A | K5: A | L5: B | M5: C | R5: A | S5: B | AE5: A | AF5: A | AH5: A | AI5: B | AJ5: C | AO5: A | AP5: B | BB5: A | BC5: A | BE5: A | BF5: B | BG5: C | BL5: A | BM5: B
A6: toto5 | B6: D | C6: D | D6: D | E6: D | J6: A | K6: A | M6: A | N6: B | O6: C | V6: A | W6: B | X6: C | Y6: D | Z6: D | AA6: D | AB6: D | AG6: A | AH6: A | AJ6: A | AK6: B | AL6: C | AS6: A | AT6: B | AU6: C | AV6: D | AW6: D | AX6: D | AY6: D | BD6: A | BE6: A | BG6: A | BH6: B | BI6: C | BP6: A | BQ6: B | BR6: C
A7: toto6 | D7: D | E7: D | F7: D | G7: D | H7: D | L7: A | M7: A | O7: A | P7: B | Q7: C | S7: A | T7: B | V7: A | W7: B | AA7: D | AB7: D | AC7: D | AD7: D | AE7: D | AI7: A | AJ7: A | AL7: A | AM7: B | AN7: C | AP7: A | AQ7: B | AS7: A | AT7: B | AX7: D | AY7: D | AZ7: D | BA7: D | BB7: D | BF7: A | BG7: A | BI7: A | BJ7: B | BK7: C | BM7: A | BN7: B | BP7: A | BQ7: B
A8: toto7 | B8: D | C8: D | E8: A | F8: A | H8: A | I8: A | N8: A | O8: A | Q8: A | R8: B | S8: C | X8: C | Y8: D | Z8: D | AB8: A | AC8: A | AE8: A | AF8: A | AK8: A | AL8: A | AN8: A | AO8: B | AP8: C | AU8: C | AV8: D | AW8: D | AY8: A | AZ8: A | BB8: A | BC8: A | BH8: A | BI8: A | BK8: A | BL8: B | BM8: C | BR8: C
A9: toto8 | C9: A | D9: A | F9: A | G9: A | I9: A | J9: A | L9: A | M9: A | P9: A | Q9: A | S9: A | T9: B | U9: C | Z9: A | AA9: A | AC9: A | AD9: A | AF9: A | AG9: A | AI9: A | AJ9: A | AM9: A | AN9: A | AP9: A | AQ9: B | AR9: C | AW9: A | AX9: A | AZ9: A | BA9: A | BC9: A | BD9: A | BF9: A | BG9: A | BJ9: A | BK9: A | BM9: A | BN9: B | BO9: C
A10: toto9 | D10: B | F10: B | G10: B | H10: B | I10: B | J10: B | L10: B | M10: B | N10: B | R10: A | S10: A | U10: A | V10: B | W10: C | AA10: B | AC10: B | AD10: B | AE10: B | AF10: B | AG10: B | AI10: B | AJ10: B | AK10: B | AO10: A | AP10: A | AR10: A | AS10: B | AT10: C | AX10: B | AZ10: B | BA10: B | BB10: B | BC10: B | BD10: B | BF10: B | BG10: B | BH10: B | BL10: A | BM10: A | BO10: A | BP10: B | BQ10: C
A11: toto10 | C11: B | F11: B | H11: A | J11: C | M11: C | P11: A | R11: B | T11: A | U11: A | W11: A | X11: B | Z11: B | AC11: B | AE11: A | AG11: C | AJ11: C | AM11: A | AO11: B | AQ11: A | AR11: A | AT11: A | AU11: B | AW11: B | AZ11: B | BB11: A | BD11: C | BG11: C | BJ11: A | BL11: B | BN11: A | BO11: A | BQ11: A | BR11: B
