Workbook

Sheet Problem
A1: Data | B1: Spese | C1: Nome | E1: Date | F1: Bernard | H1: Date | I1: Valentina
A2: 43106 | B2: 122 | C2: bernard | E2: 43104 | F2: 45 | H2: 43102 | I2: 234
A3: 43102 | B3: 234 | C3: valentine | E3: 43106 | F3: 122 | H3: 43106 | I3: 543
A4: 43104 | B4: 45 | C4: bernard | E4: 43115 | F4: 76 | H4: 43110 | I4: 80
A5: 43106 | B5: 543 | C5: valentine
A6: 43110 | B6: 80 | C6: valentine
A7: 43115 | B7: 76 | C7: bernard

Sheet Solution
F1: Bernard | J1: valentine
A2: date | B2: Heure | C2: montant | D2: nom | F2: Date | G2: Heure | H2: Montant | J2: Date | K2: Heure | L2: Montant
A3: 43440 | B3: 0.51400463 | C3: 122 | D3: bernard | F3: {=IFERROR(_xlfn.AGGREGATE(15,6,A$3:$A$8/($D$3:$D$8=$F$1),ROWS($F$3:F3)),"")} -> 43440 | G3: {=IFERROR(_xlfn.AGGREGATE(15,6,B$3:$B$8/($D$3:$D$8=$F$1)/($A$3:$A$8=F3),COUNTIF($F$3:F3,">="&F3)),"")} -> 0.51400463 | H3: {=IFERROR(INDEX($C$3:$C$8,MATCH(F3&G3,$A$3:$A$8&$B$3:$B$8,0),1),"")} -> 122 | J3: =IFERROR(_xlfn.AGGREGATE(15,6,Solution!$A$3:$A$8/(Solution!$D$3:$D$8=$J$1),ROWS($F$3:F3)),"") -> 43444 | L3: =IF(SUMIFS(Solution!$C$3:$C$8,Solution!$D$3:$D$8,$J$1,Solution!$A$3:$A$8,J3)=0,"",SUMIFS(Solution!$C$3:$C$8,Solution!$D$3:$D$8,$J$1,Solution!$A$3:$A$8,J3)) -> 321
A4: 43440 | B4: 0.6181713 | C4: 45 | D4: bernard | F4: {=IFERROR(_xlfn.AGGREGATE(15,6,A$3:$A$8/($D$3:$D$8=$F$1),ROWS($F$3:F4)),"")} -> 43440 | G4: {=IFERROR(_xlfn.AGGREGATE(15,6,B$3:$B$8/($D$3:$D$8=$F$1)/($A$3:$A$8=F4),COUNTIF($F$3:F4,">="&F4)),"")} -> 0.6181713 | H4: {=IFERROR(INDEX($C$3:$C$8,MATCH(F4&G4,$A$3:$A$8&$B$3:$B$8,0),1),"")} -> 45 | J4: =IFERROR(_xlfn.AGGREGATE(15,6,Solution!$A$3:$A$8/(Solution!$D$3:$D$8=$J$1),ROWS($F$3:F4)),"") | L4: =IF(SUMIFS(Solution!$C$3:$C$8,Solution!$D$3:$D$8,$J$1,Solution!$A$3:$A$8,J4)=0,"",SUMIFS(Solution!$C$3:$C$8,Solution!$D$3:$D$8,$J$1,Solution!$A$3:$A$8,J4))
A5: 43441 | B5: 0.5556713 | C5: 46 | D5: bernard | F5: {=IFERROR(_xlfn.AGGREGATE(15,6,A$3:$A$8/($D$3:$D$8=$F$1),ROWS($F$3:F5)),"")} -> 43441 | G5: {=IFERROR(_xlfn.AGGREGATE(15,6,B$3:$B$8/($D$3:$D$8=$F$1)/($A$3:$A$8=F5),COUNTIF($F$3:F5,">="&F5)),"")} -> 0.5556713 | H5: {=IFERROR(INDEX($C$3:$C$8,MATCH(F5&G5,$A$3:$A$8&$B$3:$B$8,0),1),"")} -> 46 | J5: =IFERROR(_xlfn.AGGREGATE(15,6,Solution!$A$3:$A$8/(Solution!$D$3:$D$8=$J$1),ROWS($F$3:F5)),"") | L5: =IF(SUMIFS(Solution!$C$3:$C$8,Solution!$D$3:$D$8,$J$1,Solution!$A$3:$A$8,J5)=0,"",SUMIFS(Solution!$C$3:$C$8,Solution!$D$3:$D$8,$J$1,Solution!$A$3:$A$8,J5))
A6: 43444 | B6: 0.19722222 | C6: 675 | D6: bernard | F6: {=IFERROR(_xlfn.AGGREGATE(15,6,A$3:$A$8/($D$3:$D$8=$F$1),ROWS($F$3:F6)),"")} -> 43444 | G6: {=IFERROR(_xlfn.AGGREGATE(15,6,B$3:$B$8/($D$3:$D$8=$F$1)/($A$3:$A$8=F6),COUNTIF($F$3:F6,">="&F6)),"")} -> 0.19722222 | H6: {=IFERROR(INDEX($C$3:$C$8,MATCH(F6&G6,$A$3:$A$8&$B$3:$B$8,0),1),"")} -> 675 | J6: =IFERROR(_xlfn.AGGREGATE(15,6,Solution!$A$3:$A$8/(Solution!$D$3:$D$8=$J$1),ROWS($F$3:F6)),"") | L6: =IF(SUMIFS(Solution!$C$3:$C$8,Solution!$D$3:$D$8,$J$1,Solution!$A$3:$A$8,J6)=0,"",SUMIFS(Solution!$C$3:$C$8,Solution!$D$3:$D$8,$J$1,Solution!$A$3:$A$8,J6))
A7: 43444 | B7: 0.73055556 | C7: 23 | D7: bernard | F7: {=IFERROR(_xlfn.AGGREGATE(15,6,A$3:$A$8/($D$3:$D$8=$F$1),ROWS($F$3:F7)),"")} -> 43444 | G7: {=IFERROR(_xlfn.AGGREGATE(15,6,B$3:$B$8/($D$3:$D$8=$F$1)/($A$3:$A$8=F7),COUNTIF($F$3:F7,">="&F7)),"")} -> 0.73055556 | H7: {=IFERROR(INDEX($C$3:$C$8,MATCH(F7&G7,$A$3:$A$8&$B$3:$B$8,0),1),"")} -> 23 | J7: =IFERROR(_xlfn.AGGREGATE(15,6,Solution!$A$3:$A$8/(Solution!$D$3:$D$8=$J$1),ROWS($F$3:F7)),"") | L7: =IF(SUMIFS(Solution!$C$3:$C$8,Solution!$D$3:$D$8,$J$1,Solution!$A$3:$A$8,J7)=0,"",SUMIFS(Solution!$C$3:$C$8,Solution!$D$3:$D$8,$J$1,Solution!$A$3:$A$8,J7))
A8: 43444 | B8: 0.61527778 | C8: 321 | D8: valentine | F8: {=IFERROR(_xlfn.AGGREGATE(15,6,A$3:$A$8/($D$3:$D$8=$F$1),ROWS($F$3:F8)),"")} | G8: {=IFERROR(_xlfn.AGGREGATE(15,6,B$3:$B$8/($D$3:$D$8=$F$1)/($A$3:$A$8=F8),COUNTIF($F$3:F8,">="&F8)),"")} | H8: {=IFERROR(INDEX($C$3:$C$8,MATCH(F8&G8,$A$3:$A$8&$B$3:$B$8,0),1),"")} | J8: =IFERROR(_xlfn.AGGREGATE(15,6,Solution!$A$3:$A$8/(Solution!$D$3:$D$8=$J$1),ROWS($F$3:F8)),"") | L8: =IF(SUMIFS(Solution!$C$3:$C$8,Solution!$D$3:$D$8,$J$1,Solution!$A$3:$A$8,J8)=0,"",SUMIFS(Solution!$C$3:$C$8,Solution!$D$3:$D$8,$J$1,Solution!$A$3:$A$8,J8))
L11: =IFERROR(INDEX(Solution!$C$3:$C$8,MATCH($F$2&F3,Solution!$D$3:$D$8&Solution!$A$3:$A$8,0),1),"")
