Workbook

Sheet Feuil1
A1: Années | B1: Date | C1: Tonnage | D1: Revenu
A2: =YEAR(B2) -> 2011 | B2: 40544 | C2: 26 | D2: 12940
A3: =YEAR(B3) -> 2011 | B3: 40575 | C3: 75 | D3: 43130
A4: =YEAR(B4) -> 2011 | B4: 40603 | C4: 49 | D4: 29017 | F4: Pas de formatage des annees, rien sur cette feuille
A5: =YEAR(B5) -> 2011 | B5: 40634 | C5: 50 | D5: 31181 | F5: on formatera la feuille suivante
A6: =YEAR(B6) -> 2011 | B6: 40664 | C6: 245 | D6: 154676
A7: =YEAR(B7) -> 2011 | B7: 40695 | C7: 97 | D7: 62999
A8: =YEAR(B8) -> 2011 | B8: 40725 | C8: 96 | D8: 57811
A9: =YEAR(B9) -> 2011 | B9: 40756 | C9: 0 | D9: 0
A10: =YEAR(B10) -> 2011 | B10: 40787 | C10: 63 | D10: 38009
A11: =YEAR(B11) -> 2011 | B11: 40817 | C11: 0 | D11: 0
A12: =YEAR(B12) -> 2011 | B12: 40848 | C12: 38 | D12: 23094
A13: =YEAR(B13) -> 2011 | B13: 40878 | C13: 16 | D13: 9609
A14: =YEAR(B14) -> 2012 | B14: 40909 | C14: 98 | D14: 56257
A15: =YEAR(B15) -> 2012 | B15: 40940 | C15: 23 | D15: 13586
A16: =YEAR(B16) -> 2012 | B16: 40969 | C16: 24 | D16: 13996
A17: =YEAR(B17) -> 2012 | B17: 41000 | C17: 0 | D17: 0
... A55: =YEAR(B55) -> 2015 | B55: 42156 | C55: 5 | D55: 2280
E56: A partir d'ici tu remplis par date en entrant la date exacte depuis Juille 2015
E57: En colonne A on reporte la formule au dessus, comme e A55

Sheet Feuil2
A1: Annee | B1: Mois | C1: tonnage | D1: Revenu
A2: 2011 | C2: =SUMIF(Feuil1!A:A,Feuil2!A2,Feuil1!C:C) -> 755 | D2: =SUMIF(Feuil1!A:A,Feuil2!A2,Feuil1!D:D) -> 462466
A3: 2012 | C3: =SUMIF(Feuil1!A:A,Feuil2!A3,Feuil1!C:C) -> 720 | D3: =SUMIF(Feuil1!A:A,Feuil2!A3,Feuil1!D:D) -> 414566
A4: 2013 | C4: =SUMIF(Feuil1!A:A,Feuil2!A4,Feuil1!C:C) -> 739 | D4: =SUMIF(Feuil1!A:A,Feuil2!A4,Feuil1!D:D) -> 353382
A5: 2014 | C5: =SUMIF(Feuil1!A:A,Feuil2!A5,Feuil1!C:C) -> 567 | D5: =SUMIF(Feuil1!A:A,Feuil2!A5,Feuil1!D:D) -> 307143
A6: 2015 | C6: =SUMIF(Feuil1!A:A,Feuil2!A6,Feuil1!C:C) -> 332 | D6: =SUMIF(Feuil1!A:A,Feuil2!A6,Feuil1!D:D) -> 187156
A7: 2016 | C7: =SUMIF(Feuil1!A:A,Feuil2!A7,Feuil1!C:C) -> 0 | D7: =SUMIF(Feuil1!A:A,Feuil2!A7,Feuil1!D:D) -> 0
A8: 2017 | B8: 42736
A9: 2017 | B9: 42767
A10: 2017 | B10: 42795
A11: 2017 | B11: 42826
A12: 2017 | B12: 42856
A13: 2017 | B13: 42887
A14: 2017 | B14: 42917
A15: 2017 | B15: 42948
A16: 2017 | B16: 42979
A17: 2017 | B17: 43009
A18: 2017 | B18: 43040
A19: 2017 | B19: 43070
A20: 2018
A21: 2018
A22: 2018
A23: 2018
A24: 2018
A25: 2018
A26: 2018
A27: 2018
A28: 2018
A29: 2018
A30: 2018
