Workbook

Sheet donnees
A1: Années | B1: Mois | C1: Date | D1: Tonnage | E1: Revenu
A2: =YEAR(C2) -> 2011 | B2: =MONTH(C2) -> 1 | C2: 40544 | D2: 26 | E2: 12940
A3: =YEAR(C3) -> 2011 | B3: =MONTH(C3) -> 2 | C3: 40575 | D3: 75 | E3: 43130
A4: =YEAR(C4) -> 2011 | B4: =MONTH(C4) -> 3 | C4: 40603 | D4: 49 | E4: 29017 | G4: Pas de formatage des annees, rien sur cette feuille
A5: =YEAR(C5) -> 2011 | B5: =MONTH(C5) -> 4 | C5: 40634 | D5: 50 | E5: 31181 | G5: on formatera la feuille suivante
A6: =YEAR(C6) -> 2011 | B6: =MONTH(C6) -> 5 | C6: 40664 | D6: 245 | E6: 154676
A7: =YEAR(C7) -> 2011 | B7: =MONTH(C7) -> 6 | C7: 40695 | D7: 97 | E7: 62999
A8: =YEAR(C8) -> 2011 | B8: =MONTH(C8) -> 7 | C8: 40725 | D8: 96 | E8: 57811
A9: =YEAR(C9) -> 2011 | B9: =MONTH(C9) -> 8 | C9: 40756 | D9: 0 | E9: 0
A10: =YEAR(C10) -> 2011 | B10: =MONTH(C10) -> 9 | C10: 40787 | D10: 63 | E10: 38009
A11: =YEAR(C11) -> 2011 | B11: =MONTH(C11) -> 10 | C11: 40817 | D11: 0 | E11: 0
A12: =YEAR(C12) -> 2011 | B12: =MONTH(C12) -> 11 | C12: 40848 | D12: 38 | E12: 23094
A13: =YEAR(C13) -> 2011 | B13: =MONTH(C13) -> 12 | C13: 40878 | D13: 16 | E13: 9609
A14: =YEAR(C14) -> 2012 | B14: =MONTH(C14) -> 1 | C14: 40909 | D14: 98 | E14: 56257
A15: =YEAR(C15) -> 2012 | B15: =MONTH(C15) -> 2 | C15: 40940 | D15: 23 | E15: 13586
A16: =YEAR(C16) -> 2012 | B16: =MONTH(C16) -> 3 | C16: 40969 | D16: 24 | E16: 13996
A17: =YEAR(C17) -> 2012 | B17: =MONTH(C17) -> 4 | C17: 41000 | D17: 0 | E17: 0
... A55: =YEAR(C55) -> 2015 | B55: =MONTH(C55) -> 6 | C55: 42156 | D55: 5 | E55: 2280
A56: =YEAR(C56) -> 2015 | B56: =MONTH(C56) -> 7 | C56: 42205 | D56: 30644 | E56: 13943.02 | F56: A partir d'ici tu remplis par date en entrant la date exacte depuis Juille 2015
A57: =YEAR(C57) -> 2015 | B57: =MONTH(C57) -> 7 | C57: 42205 | D57: 23900 | E57: 10874.5 | F57: En colonne A on reporte la formule au dessus, comme e A55
A58: =YEAR(C58) -> 2015 | B58: =MONTH(C58) -> 7 | C58: 42205 | D58: 15192 | E58: 6912.36
A59: =YEAR(C59) -> 2015 | B59: =MONTH(C59) -> 7 | C59: 42214 | D59: 10133 | E59: 4610.51
A60: =YEAR(C60) -> 2015 | B60: =MONTH(C60) -> 8 | C60: 42240 | D60: 26840 | E60: 12212.2
A61: =YEAR(C61) -> 2015 | B61: =MONTH(C61) -> 9 | C61: 42263 | D61: 3041 | E61: 1383.65
A62: =YEAR(C62) -> 2015 | B62: =MONTH(C62) -> 9 | C62: 42263 | D62: 64840 | E62: 29502.2
A63: =YEAR(C63) -> 2015 | B63: =MONTH(C63) -> 9 | C63: 42265 | D63: 18670 | E63: 8494.85
A64: =YEAR(C64) -> 2015 | B64: =MONTH(C64) -> 9 | C64: 42275 | D64: 35403 | E64: 16108.36
A65: =YEAR(C65) -> 2015 | B65: =MONTH(C65) -> 9 | C65: 42275 | D65: 16666 | E65: 7583.03
A66: =YEAR(C66) -> 2015 | B66: =MONTH(C66) -> 9 | C66: 42275 | D66: 5026 | E66: 4699.31
A67: =YEAR(C67) -> 2015 | B67: =MONTH(C67) -> 9 | C67: 42275 | D67: 18078 | E67: 8225.49
A68: =YEAR(C68) -> 2015 | B68: =MONTH(C68) -> 9 | C68: 42275 | D68: -5026 | E68: -4699.31
A69: =YEAR(C69) -> 2015 | B69: =MONTH(C69) -> 9 | C69: 42271 | D69: 24870 | E69: 15543.75
... A146: =YEAR(C146) -> 2017 | B146: =MONTH(C146) -> 12 | C146: 43088 | D146: 24983 | E146: 16988.44

Sheet calcul
A1: Annee | B1: An | D1: Mois | E1: tonnage | F1: Revenu
A2: 2011 | B2: =A2 -> 2011 | E2: =SUMIF(donnees!A:A,calcul!A2,donnees!D:D)/12 -> 62.916667 | F2: =SUMIF(donnees!A:A,calcul!A2,donnees!E:E)/12 -> 38538.833
A3: 2012 | B3: =A3 -> 2012 | E3: =SUMIF(donnees!A:A,calcul!A3,donnees!D:D)/12 -> 60 | F3: =SUMIF(donnees!A:A,calcul!A3,donnees!E:E)/12 -> 34547.167
A4: 2013 | B4: =A4 -> 2013 | E4: =SUMIF(donnees!A:A,calcul!A4,donnees!D:D)/12 -> 61.583333 | F4: =SUMIF(donnees!A:A,calcul!A4,donnees!E:E)/12 -> 29448.5
A5: 2014 | B5: =A5 -> 2014 | E5: =SUMIF(donnees!A:A,calcul!A5,donnees!D:D)/12 -> 47.25 | F5: =SUMIF(donnees!A:A,calcul!A5,donnees!E:E)/12 -> 25595.25
A6: 2015 | B6: =A6 -> 2015 | E6: =SUMIF(donnees!A:A,calcul!A6,donnees!D:D)/1000/12 -> 28.86575 | F6: =SUMIF(donnees!A:A,calcul!A6,donnees!E:E)/12 -> 29740.477
A7: 2016 | B7: =A7 -> 2016 | E7: =SUMIF(donnees!A:A,calcul!A7,donnees!D:D)/1000/12 -> 92.13625 | F7: =SUMIF(donnees!A:A,calcul!A7,donnees!E:E)/12 -> 54288.461
A8: 2017 | B8: =A8 -> 2017 | C8: Jan | D8: 1 | E8: =SUMIFS(donnees!D$1:D$150,donnees!$A$1:$A$150,$A8,donnees!$B$1:$B$150,$D8)/1000 -> 74.963 | F8: =SUMIFS(donnees!E$1:E$150,donnees!$A$1:$A$150,$A8,donnees!$B$1:$B$150,$D8) -> 48068.02
A9: 2017 | C9: Feb | D9: 2 | E9: =SUMIFS(donnees!D$1:D$150,donnees!$A$1:$A$150,$A9,donnees!$B$1:$B$150,$D9)/1000 -> 0 | F9: =SUMIFS(donnees!E$1:E$150,donnees!$A$1:$A$150,$A9,donnees!$B$1:$B$150,$D9) -> 0
A10: 2017 | C10: Mar | D10: 3 | E10: =SUMIFS(donnees!D$1:D$150,donnees!$A$1:$A$150,$A10,donnees!$B$1:$B$150,$D10)/1000 -> 0 | F10: =SUMIFS(donnees!E$1:E$150,donnees!$A$1:$A$150,$A10,donnees!$B$1:$B$150,$D10) -> 0
A11: 2017 | C11: Apr | D11: 4 | E11: =SUMIFS(donnees!D$1:D$150,donnees!$A$1:$A$150,$A11,donnees!$B$1:$B$150,$D11)/1000 -> 40.701 | F11: =SUMIFS(donnees!E$1:E$150,donnees!$A$1:$A$150,$A11,donnees!$B$1:$B$150,$D11) -> 25670.5
A12: 2017 | C12: May | D12: 5 | E12: =SUMIFS(donnees!D$1:D$150,donnees!$A$1:$A$150,$A12,donnees!$B$1:$B$150,$D12)/1000 -> 5.122 | F12: =SUMIFS(donnees!E$1:E$150,donnees!$A$1:$A$150,$A12,donnees!$B$1:$B$150,$D12) -> 1792.7
A13: 2017 | C13: Jun | D13: 6 | E13: =SUMIFS(donnees!D$1:D$150,donnees!$A$1:$A$150,$A13,donnees!$B$1:$B$150,$D13)/1000 -> 0 | F13: =SUMIFS(donnees!E$1:E$150,donnees!$A$1:$A$150,$A13,donnees!$B$1:$B$150,$D13) -> 0
A14: 2017 | C14: Jul | D14: 7 | E14: =SUMIFS(donnees!D$1:D$150,donnees!$A$1:$A$150,$A14,donnees!$B$1:$B$150,$D14)/1000 -> 0 | F14: =SUMIFS(donnees!E$1:E$150,donnees!$A$1:$A$150,$A14,donnees!$B$1:$B$150,$D14) -> 0
A15: 2017 | C15: Aug | D15: 8 | E15: =SUMIFS(donnees!D$1:D$150,donnees!$A$1:$A$150,$A15,donnees!$B$1:$B$150,$D15)/1000 -> 24.991 | F15: =SUMIFS(donnees!E$1:E$150,donnees!$A$1:$A$150,$A15,donnees!$B$1:$B$150,$D15) -> 16244.15
A16: 2017 | C16: Sep | D16: 9 | E16: =SUMIFS(donnees!D$1:D$150,donnees!$A$1:$A$150,$A16,donnees!$B$1:$B$150,$D16)/1000 -> 24.994 | F16: =SUMIFS(donnees!E$1:E$150,donnees!$A$1:$A$150,$A16,donnees!$B$1:$B$150,$D16) -> 16995.92
A17: 2017 | C17: Oct | D17: 10 | E17: =SUMIFS(donnees!D$1:D$150,donnees!$A$1:$A$150,$A17,donnees!$B$1:$B$150,$D17)/1000 -> 49.892 | F17: =SUMIFS(donnees!E$1:E$150,donnees!$A$1:$A$150,$A17,donnees!$B$1:$B$150,$D17) -> 33926.56
A18: 2017 | C18: Nov | D18: 11 | E18: =SUMIFS(donnees!D$1:D$150,donnees!$A$1:$A$150,$A18,donnees!$B$1:$B$150,$D18)/1000 -> 74.66 | F18: =SUMIFS(donnees!E$1:E$150,donnees!$A$1:$A$150,$A18,donnees!$B$1:$B$150,$D18) -> 48490.08
A19: 2017 | C19: Dec | D19: 12 | E19: =SUMIFS(donnees!D$1:D$150,donnees!$A$1:$A$150,$A19,donnees!$B$1:$B$150,$D19)/1000 -> 49.131 | F19: =SUMIFS(donnees!E$1:E$150,donnees!$A$1:$A$150,$A19,donnees!$B$1:$B$150,$D19) -> 33409.08
A20: 2018 | E20: =SUMIFS(donnees!D$1:D$150,donnees!$A$1:$A$150,$A20,donnees!$B$1:$B$150,$D20)/1000 -> 0 | F20: =SUMIFS(donnees!E$1:E$150,donnees!$A$1:$A$150,$A20,donnees!$B$1:$B$150,$D20) -> 0
A21: 2018 | E21: =SUMIFS(donnees!D$1:D$150,donnees!$A$1:$A$150,$A21,donnees!$B$1:$B$150,$D21)/1000 -> 0 | F21: =SUMIFS(donnees!E$1:E$150,donnees!$A$1:$A$150,$A21,donnees!$B$1:$B$150,$D21) -> 0
A22: 2018 | E22: =SUMIFS(donnees!D$1:D$150,donnees!$A$1:$A$150,$A22,donnees!$B$1:$B$150,$D22)/1000 -> 0 | F22: =SUMIFS(donnees!E$1:E$150,donnees!$A$1:$A$150,$A22,donnees!$B$1:$B$150,$D22) -> 0
A23: 2018 | E23: =SUMIFS(donnees!D$1:D$150,donnees!$A$1:$A$150,$A23,donnees!$B$1:$B$150,$D23)/1000 -> 0 | F23: =SUMIFS(donnees!E$1:E$150,donnees!$A$1:$A$150,$A23,donnees!$B$1:$B$150,$D23) -> 0
A24: 2018 | E24: =SUMIFS(donnees!D$1:D$150,donnees!$A$1:$A$150,$A24,donnees!$B$1:$B$150,$D24)/1000 -> 0 | F24: =SUMIFS(donnees!E$1:E$150,donnees!$A$1:$A$150,$A24,donnees!$B$1:$B$150,$D24) -> 0
A25: 2018 | E25: =SUMIFS(donnees!D$1:D$150,donnees!$A$1:$A$150,$A25,donnees!$B$1:$B$150,$D25)/1000 -> 0 | F25: =SUMIFS(donnees!E$1:E$150,donnees!$A$1:$A$150,$A25,donnees!$B$1:$B$150,$D25) -> 0
A26: 2018 | E26: =SUMIFS(donnees!D$1:D$150,donnees!$A$1:$A$150,$A26,donnees!$B$1:$B$150,$D26)/1000 -> 0 | F26: =SUMIFS(donnees!E$1:E$150,donnees!$A$1:$A$150,$A26,donnees!$B$1:$B$150,$D26) -> 0
A27: 2018 | E27: =SUMIFS(donnees!D$1:D$150,donnees!$A$1:$A$150,$A27,donnees!$B$1:$B$150,$D27)/1000 -> 0 | F27: =SUMIFS(donnees!E$1:E$150,donnees!$A$1:$A$150,$A27,donnees!$B$1:$B$150,$D27) -> 0
A28: 2018 | E28: =SUMIFS(donnees!D$1:D$150,donnees!$A$1:$A$150,$A28,donnees!$B$1:$B$150,$D28)/1000 -> 0 | F28: =SUMIFS(donnees!E$1:E$150,donnees!$A$1:$A$150,$A28,donnees!$B$1:$B$150,$D28) -> 0
A29: 2018 | E29: =SUMIFS(donnees!D$1:D$150,donnees!$A$1:$A$150,$A29,donnees!$B$1:$B$150,$D29)/1000 -> 0 | F29: =SUMIFS(donnees!E$1:E$150,donnees!$A$1:$A$150,$A29,donnees!$B$1:$B$150,$D29) -> 0
A30: 2018 | E30: =SUMIFS(donnees!D$1:D$150,donnees!$A$1:$A$150,$A30,donnees!$B$1:$B$150,$D30)/1000 -> 0 | F30: =SUMIFS(donnees!E$1:E$150,donnees!$A$1:$A$150,$A30,donnees!$B$1:$B$150,$D30) -> 0

Sheet graphique
A1: annees en cours | C1: 2017
A2: annees de depart | C2: 2011
A4: annee precedentes | C4: tons historique | D4: tons en cours | E4: revenu historique | F4: revenu en cours
A5: 2011 | C5: 62.916667 | E5: 38538.833
A6: 2012 | C6: 60 | E6: 34547.167
A7: 2013 | C7: 61.583333 | E7: 29448.5
A8: 2014 | C8: 47.25 | E8: 25595.25
A9: 2015 | C9: 28.86575 | E9: 29740.477
A10: 2016 | C10: 92.13625 | E10: 54288.461
A11: 2017 | B11: Jan | D11: 74.963 | F11: 48068.02
B12: Feb | D12: 0 | F12: 0
B13: Mar | D13: 0 | F13: 0
B14: Apr | D14: 40.701 | F14: 25670.5
B15: May | D15: 5.122 | F15: 1792.7
B16: Jun | D16: 0 | F16: 0
B17: Jul | D17: 0 | F17: 0
B18: Aug | D18: 24.991 | F18: 16244.15
B19: Sep | D19: 24.994 | F19: 16995.92
B20: Oct | D20: 49.892 | F20: 33926.56
B21: Nov | D21: 74.66 | F21: 48490.08
B22: Dec | D22: 49.131 | F22: 33409.08

Sheet reference mois
A1: 1 | B1: Jan
A2: 2 | B2: Feb
A3: 3 | B3: Mar
A4: 4 | B4: Apr
A5: 5 | B5: May
A6: 6 | B6: Jun
A7: 7 | B7: Jul
A8: 8 | B8: Aug
A9: 9 | B9: Sep
A10: 10 | B10: Oct
A11: 11 | B11: Nov
A12: 12 | B12: Dec

Sheet plus necessaire
A1: Date de facturation | B1: Tonnage Facturé | C1: €
A3: 42205 | B3: 30644 | C3: 13943.02
A4: 42205 | B4: 23900 | C4: 10874.5
A5: 42205 | B5: 15192 | C5: 6912.36
A6: 42214 | B6: 10133 | C6: 4610.51
A7: 42240 | B7: 26840 | C7: 12212.2
A8: 42263 | B8: 3041 | C8: 1383.65
A9: 42263 | B9: 64840 | C9: 29502.2
A10: 42265 | B10: 18670 | C10: 8494.85
A11: 42275 | B11: 35403 | C11: 16108.36
A12: 42275 | B12: 16666 | C12: 7583.03
A13: 42275 | B13: 5026 | C13: 4699.31
A14: 42275 | B14: 18078 | C14: 8225.49
... A93: 43088 | B93: 24983 | C93: 16988.44
