Workbook

Sheet Feuil1
A5: NOM | B5: VESTE | C5: PANTALON | D5: code barre
A7: =IF(ISNA(VLOOKUP(D7,Données!$A$2:$D$50,4,FALSE)),"",VLOOKUP(D7,Données!$A$2:$D$50,4,FALSE)) -> DUPONT Michel | B7: =IF(ISNA(VLOOKUP(D7,Données!$A$2:$D$50,2,FALSE)),"",VLOOKUP(D7,Données!$A$2:$D$50,2,FALSE)) -> X | C7: =IF(ISNA(VLOOKUP(D7,Données!$A$2:$D$50,3,FALSE)),"",VLOOKUP(D7,Données!$A$2:$D$50,3,FALSE)) -> 0 | D7: 11111
A8: =IF(ISNA(VLOOKUP(D8,Données!$A$2:$D$50,4,FALSE)),"",VLOOKUP(D8,Données!$A$2:$D$50,4,FALSE)) -> DUPONT Michel | B8: =IF(ISNA(VLOOKUP(D8,Données!$A$2:$D$50,2,FALSE)),"",VLOOKUP(D8,Données!$A$2:$D$50,2,FALSE)) -> 0 | C8: =IF(ISNA(VLOOKUP(D8,Données!$A$2:$D$50,3,FALSE)),"",VLOOKUP(D8,Données!$A$2:$D$50,3,FALSE)) -> X | D8: 44444
A9: =IF(ISNA(VLOOKUP(D9,Données!$A$2:$D$50,4,FALSE)),"",VLOOKUP(D9,Données!$A$2:$D$50,4,FALSE)) -> HENRI Philippe | B9: =IF(ISNA(VLOOKUP(D9,Données!$A$2:$D$50,2,FALSE)),"",VLOOKUP(D9,Données!$A$2:$D$50,2,FALSE)) -> 0 | C9: =IF(ISNA(VLOOKUP(D9,Données!$A$2:$D$50,3,FALSE)),"",VLOOKUP(D9,Données!$A$2:$D$50,3,FALSE)) -> X | D9: 12345
A10: =IF(ISNA(VLOOKUP(D10,Données!$A$2:$D$50,4,FALSE)),"",VLOOKUP(D10,Données!$A$2:$D$50,4,FALSE)) -> DUPONT Michel | B10: =IF(ISNA(VLOOKUP(D10,Données!$A$2:$D$50,2,FALSE)),"",VLOOKUP(D10,Données!$A$2:$D$50,2,FALSE)) -> 0 | C10: =IF(ISNA(VLOOKUP(D10,Données!$A$2:$D$50,3,FALSE)),"",VLOOKUP(D10,Données!$A$2:$D$50,3,FALSE)) -> X | D10: 66666
A11: =IF(ISNA(VLOOKUP(D11,Données!$A$2:$D$50,4,FALSE)),"",VLOOKUP(D11,Données!$A$2:$D$50,4,FALSE)) -> HENRI Philippe | B11: =IF(ISNA(VLOOKUP(D11,Données!$A$2:$D$50,2,FALSE)),"",VLOOKUP(D11,Données!$A$2:$D$50,2,FALSE)) -> 0 | C11: =IF(ISNA(VLOOKUP(D11,Données!$A$2:$D$50,3,FALSE)),"",VLOOKUP(D11,Données!$A$2:$D$50,3,FALSE)) -> X | D11: 23456
A12: =IF(ISNA(VLOOKUP(D12,Données!$A$2:$D$50,4,FALSE)),"",VLOOKUP(D12,Données!$A$2:$D$50,4,FALSE)) -> DUPONT Michel | B12: =IF(ISNA(VLOOKUP(D12,Données!$A$2:$D$50,2,FALSE)),"",VLOOKUP(D12,Données!$A$2:$D$50,2,FALSE)) -> X | C12: =IF(ISNA(VLOOKUP(D12,Données!$A$2:$D$50,3,FALSE)),"",VLOOKUP(D12,Données!$A$2:$D$50,3,FALSE)) -> 0 | D12: 22222
A13: =IF(ISNA(VLOOKUP(D13,Données!$A$2:$D$50,4,FALSE)),"",VLOOKUP(D13,Données!$A$2:$D$50,4,FALSE)) -> HENRI Philippe | B13: =IF(ISNA(VLOOKUP(D13,Données!$A$2:$D$50,2,FALSE)),"",VLOOKUP(D13,Données!$A$2:$D$50,2,FALSE)) -> X | C13: =IF(ISNA(VLOOKUP(D13,Données!$A$2:$D$50,3,FALSE)),"",VLOOKUP(D13,Données!$A$2:$D$50,3,FALSE)) -> 0 | D13: 77777
A14: =IF(ISNA(VLOOKUP(D14,Données!$A$2:$D$50,4,FALSE)),"",VLOOKUP(D14,Données!$A$2:$D$50,4,FALSE)) -> GATES Bill | B14: =IF(ISNA(VLOOKUP(D14,Données!$A$2:$D$50,2,FALSE)),"",VLOOKUP(D14,Données!$A$2:$D$50,2,FALSE)) -> X | C14: =IF(ISNA(VLOOKUP(D14,Données!$A$2:$D$50,3,FALSE)),"",VLOOKUP(D14,Données!$A$2:$D$50,3,FALSE)) -> 0 | D14: 10000
A15: =IF(ISNA(VLOOKUP(D15,Données!$A$2:$D$50,4,FALSE)),"",VLOOKUP(D15,Données!$A$2:$D$50,4,FALSE)) -> GATES Bill | B15: =IF(ISNA(VLOOKUP(D15,Données!$A$2:$D$50,2,FALSE)),"",VLOOKUP(D15,Données!$A$2:$D$50,2,FALSE)) -> 0 | C15: =IF(ISNA(VLOOKUP(D15,Données!$A$2:$D$50,3,FALSE)),"",VLOOKUP(D15,Données!$A$2:$D$50,3,FALSE)) -> X | D15: 20000
A16: =IF(ISNA(VLOOKUP(D16,Données!$A$2:$D$50,4,FALSE)),"",VLOOKUP(D16,Données!$A$2:$D$50,4,FALSE)) | B16: =IF(ISNA(VLOOKUP(D16,Données!$A$2:$D$50,2,FALSE)),"",VLOOKUP(D16,Données!$A$2:$D$50,2,FALSE)) | C16: =IF(ISNA(VLOOKUP(D16,Données!$A$2:$D$50,3,FALSE)),"",VLOOKUP(D16,Données!$A$2:$D$50,3,FALSE))
A17: =IF(ISNA(VLOOKUP(D17,Données!$A$2:$D$50,4,FALSE)),"",VLOOKUP(D17,Données!$A$2:$D$50,4,FALSE)) | B17: =IF(ISNA(VLOOKUP(D17,Données!$A$2:$D$50,2,FALSE)),"",VLOOKUP(D17,Données!$A$2:$D$50,2,FALSE)) | C17: =IF(ISNA(VLOOKUP(D17,Données!$A$2:$D$50,3,FALSE)),"",VLOOKUP(D17,Données!$A$2:$D$50,3,FALSE))
A18: =IF(ISNA(VLOOKUP(D18,Données!$A$2:$D$50,4,FALSE)),"",VLOOKUP(D18,Données!$A$2:$D$50,4,FALSE)) | B18: =IF(ISNA(VLOOKUP(D18,Données!$A$2:$D$50,2,FALSE)),"",VLOOKUP(D18,Données!$A$2:$D$50,2,FALSE)) | C18: =IF(ISNA(VLOOKUP(D18,Données!$A$2:$D$50,3,FALSE)),"",VLOOKUP(D18,Données!$A$2:$D$50,3,FALSE))
A19: =IF(ISNA(VLOOKUP(D19,Données!$A$2:$D$50,4,FALSE)),"",VLOOKUP(D19,Données!$A$2:$D$50,4,FALSE)) | B19: =IF(ISNA(VLOOKUP(D19,Données!$A$2:$D$50,2,FALSE)),"",VLOOKUP(D19,Données!$A$2:$D$50,2,FALSE)) | C19: =IF(ISNA(VLOOKUP(D19,Données!$A$2:$D$50,3,FALSE)),"",VLOOKUP(D19,Données!$A$2:$D$50,3,FALSE))
A20: =IF(ISNA(VLOOKUP(D20,Données!$A$2:$D$50,4,FALSE)),"",VLOOKUP(D20,Données!$A$2:$D$50,4,FALSE)) | B20: =IF(ISNA(VLOOKUP(D20,Données!$A$2:$D$50,2,FALSE)),"",VLOOKUP(D20,Données!$A$2:$D$50,2,FALSE)) | C20: =IF(ISNA(VLOOKUP(D20,Données!$A$2:$D$50,3,FALSE)),"",VLOOKUP(D20,Données!$A$2:$D$50,3,FALSE))
A21: =IF(ISNA(VLOOKUP(D21,Données!$A$2:$D$50,4,FALSE)),"",VLOOKUP(D21,Données!$A$2:$D$50,4,FALSE)) | B21: =IF(ISNA(VLOOKUP(D21,Données!$A$2:$D$50,2,FALSE)),"",VLOOKUP(D21,Données!$A$2:$D$50,2,FALSE)) | C21: =IF(ISNA(VLOOKUP(D21,Données!$A$2:$D$50,3,FALSE)),"",VLOOKUP(D21,Données!$A$2:$D$50,3,FALSE))
A22: =IF(ISNA(VLOOKUP(D22,Données!$A$2:$D$50,4,FALSE)),"",VLOOKUP(D22,Données!$A$2:$D$50,4,FALSE)) | B22: =IF(ISNA(VLOOKUP(D22,Données!$A$2:$D$50,2,FALSE)),"",VLOOKUP(D22,Données!$A$2:$D$50,2,FALSE)) | C22: =IF(ISNA(VLOOKUP(D22,Données!$A$2:$D$50,3,FALSE)),"",VLOOKUP(D22,Données!$A$2:$D$50,3,FALSE))
A23: =IF(ISNA(VLOOKUP(D23,Données!$A$2:$D$50,4,FALSE)),"",VLOOKUP(D23,Données!$A$2:$D$50,4,FALSE)) | B23: =IF(ISNA(VLOOKUP(D23,Données!$A$2:$D$50,2,FALSE)),"",VLOOKUP(D23,Données!$A$2:$D$50,2,FALSE)) | C23: =IF(ISNA(VLOOKUP(D23,Données!$A$2:$D$50,3,FALSE)),"",VLOOKUP(D23,Données!$A$2:$D$50,3,FALSE))
A24: =IF(ISNA(VLOOKUP(D24,Données!$A$2:$D$50,4,FALSE)),"",VLOOKUP(D24,Données!$A$2:$D$50,4,FALSE)) | B24: =IF(ISNA(VLOOKUP(D24,Données!$A$2:$D$50,2,FALSE)),"",VLOOKUP(D24,Données!$A$2:$D$50,2,FALSE)) | C24: =IF(ISNA(VLOOKUP(D24,Données!$A$2:$D$50,3,FALSE)),"",VLOOKUP(D24,Données!$A$2:$D$50,3,FALSE))
A25: =IF(ISNA(VLOOKUP(D25,Données!$A$2:$D$50,4,FALSE)),"",VLOOKUP(D25,Données!$A$2:$D$50,4,FALSE)) | B25: =IF(ISNA(VLOOKUP(D25,Données!$A$2:$D$50,2,FALSE)),"",VLOOKUP(D25,Données!$A$2:$D$50,2,FALSE)) | C25: =IF(ISNA(VLOOKUP(D25,Données!$A$2:$D$50,3,FALSE)),"",VLOOKUP(D25,Données!$A$2:$D$50,3,FALSE))
A26: =IF(ISNA(VLOOKUP(D26,Données!$A$2:$D$50,4,FALSE)),"",VLOOKUP(D26,Données!$A$2:$D$50,4,FALSE)) | B26: =IF(ISNA(VLOOKUP(D26,Données!$A$2:$D$50,2,FALSE)),"",VLOOKUP(D26,Données!$A$2:$D$50,2,FALSE)) | C26: =IF(ISNA(VLOOKUP(D26,Données!$A$2:$D$50,3,FALSE)),"",VLOOKUP(D26,Données!$A$2:$D$50,3,FALSE))
A27: =IF(ISNA(VLOOKUP(D27,Données!$A$2:$D$50,4,FALSE)),"",VLOOKUP(D27,Données!$A$2:$D$50,4,FALSE)) | B27: =IF(ISNA(VLOOKUP(D27,Données!$A$2:$D$50,2,FALSE)),"",VLOOKUP(D27,Données!$A$2:$D$50,2,FALSE)) | C27: =IF(ISNA(VLOOKUP(D27,Données!$A$2:$D$50,3,FALSE)),"",VLOOKUP(D27,Données!$A$2:$D$50,3,FALSE))
... A50: =IF(ISNA(VLOOKUP(D50,Données!$A$2:$D$50,4,FALSE)),"",VLOOKUP(D50,Données!$A$2:$D$50,4,FALSE)) | B50: =IF(ISNA(VLOOKUP(D50,Données!$A$2:$D$50,2,FALSE)),"",VLOOKUP(D50,Données!$A$2:$D$50,2,FALSE)) | C50: =IF(ISNA(VLOOKUP(D50,Données!$A$2:$D$50,3,FALSE)),"",VLOOKUP(D50,Données!$A$2:$D$50,3,FALSE))

Sheet Données
A1: CODE BARRE | B1: TYPE V | C1: TYPE P | D1: NOM | E1: ID
A2: 11111 | B2: X | D2: DUPONT Michel | E2: T10
A3: 22222 | B3: X | D3: DUPONT Michel | E3: T10
A4: 33333 | B4: X | D4: DUPONT Michel | E4: T10
A5: 44444 | C5: X | D5: DUPONT Michel | E5: T10
A6: 55555 | C6: X | D6: DUPONT Michel | E6: T10
A7: 66666 | C7: X | D7: DUPONT Michel | E7: T10
A8: 77777 | B8: X | D8: HENRI Philippe | E8: T32
A9: 88888 | B9: X | D9: HENRI Philippe | E9: T32
A10: 99999 | B10: X | D10: HENRI Philippe | E10: T32
A11: 12345 | C11: X | D11: HENRI Philippe | E11: T32
A12: 23456 | C12: X | D12: HENRI Philippe | E12: T32
A13: 34567 | C13: X | D13: HENRI Philippe | E13: T32
A16: 10000 | B16: X | D16: GATES Bill | E16: T25
A17: 20000 | C17: X | D17: GATES Bill | E17: T25

Sheet Feuil3
