Workbook
Name DESTINATION: OFFSET(Données!$B$2,0,0,COUNTA(Données!$B:$B)-1)
Name Outillage: OFFSET(Données!$A$2,0,0,COUNTA(Données!$A:$A)-1)
Name STOCK: Données!$C$2:$C$3

Sheet Stock actuel
A1: STOCK ACTUEL
A3: LISTE | B3: OUTILLAGE EN SERVICE | D3: STOCK
B4: SITE 1 | C4: SITE 2 | D4: Nouveau matériel
A6: =Données!A2 -> AGRAFEUSE
A7: =Données!A3 -> ALLONGE
A8: =Données!A4 -> ALLONGE REMORQUE
A9: =Données!A5 -> ARMOIRE
A10: =Données!A6 -> ARROSOIR
A11: =Données!A7 -> BAC A PEINTURE
A12: =Données!A8 -> BALAI GAZON
A13: =Données!A9 -> BARRE A MINE
A14: =Données!A10 -> BARRE de remorquage
A15: =Données!A11 -> BECHE
A16: =Données!A12 -> BINETTE
A17: =Données!A13 -> BITS
... A300: =Données!A296 -> 0

Sheet Entrées 
A1: ENTREES
A3: DATE | B3: DESCRIPTION | C3: QUANTITE | D3: DESTINATION (Stock)

Sheet Sorties
A1: SORTIES
A3: DATE | B3: DESCRIPTION | C3: QUANTITE | D3: DESTINATION

Sheet Déclassement
A1: DECLASSEMENT
A3: DATE | B3: DESCRIPTION | C3: QUANTITE | D3: JUSTIFICATION

Sheet Pertes
A1: PERTES
A3: DATE | B3: DESCRIPTION | C3: QUANTITE | D3: LIEU

Sheet Vols
A1: VOLS
A3: DATE | B3: DESCRIPTION | C3: QUANTITE | D3: REMARQUES

Sheet Stock initial
A1: STOCK INITIAL
A3: LISTE | B3: OUTILLAGE EN SERVICE | D3: STOCK
B4: SITE 1 | C4: SITE 2 | D4: Nouveau matériel
A6: =Données!A2 -> AGRAFEUSE
A7: =Données!A3 -> ALLONGE
A8: =Données!A4 -> ALLONGE REMORQUE
A9: =Données!A5 -> ARMOIRE
A10: =Données!A6 -> ARROSOIR
A11: =Données!A7 -> BAC A PEINTURE
A12: =Données!A8 -> BALAI GAZON
A13: =Données!A9 -> BARRE A MINE
A14: =Données!A10 -> BARRE de remorquage
A15: =Données!A11 -> BECHE
A16: =Données!A12 -> BINETTE
A17: =Données!A13 -> BITS
... A300: =Données!A296 -> 0

Sheet Données
A1: OUTILLAGE | B1: DESTINATION | C1: STOCK
A2: AGRAFEUSE | B2: SITE 1 | C2: SITE 1
A3: ALLONGE | B3: SITE 2 | C3: SITE 2
A4: ALLONGE REMORQUE | B4: SITE 3
A5: ARMOIRE
A6: ARROSOIR
A7: BAC A PEINTURE
A8: BALAI GAZON
A9: BARRE A MINE
A10: BARRE de remorquage
A11: BECHE
A12: BINETTE
A13: BITS
A14: BOOSTER
A15: BROSSE DE FER
A16: BROSSE DOUCE
... A49: FAUCILLE
A50: FALSE
A51: FER A JOINTS
A52: FLECHE
A53: FOREUSE
A54: FOURCHE A CHARBON
A55: FOURCHE A FUMIER
A56: FOURCHE BECHE
A57: HACHETTE
A58: HOUE
A59: LAMPES FLASH
A60: LAMPES TORCHE
A61: LIME PLATE
A62: LIME RONDE
... A114: VISSEUSE

Sheet Accueil
