Workbook
Name ANNEE: [1]ACCUEIL!$J$1
Name jour_ferier: [1]LISTE!$B$3:$B$13
Name mois: [1]LISTE!$L$3:$M$14
Name nom_fichier: [1]ACCUEIL!$A$1
Name type_absence: [1]LISTE!$I$3:$J$10

Sheet ABSENCE
A1: Absence
A2: NOM de l'agent | B2: Type absence (CP, CE, RC, AT, FSP, CPF,…) | C2: DU | D2: AU
A3: agent 1 | B3: cp | C3: 45292 | D3: 45301
A4: agent 2 | B4: cpf | C4: 45296 | D4: 45306
A5: agent 3 | B5: at | C5: 45311 | D5: 45321

Sheet JANVIER ()
B2: =ANNEE -> 2024 | G2: JANVIER () | U2: ACCUEIL
D4: CP | G4: F | K4: FOR FRAMATOME | O4: IRP | S4: PERMUTATION | W4: REMPLACEMENT | AA4: SPV | AE4: INDISPO
B6: TYPE DE FORMATION | E6: EPI | I6: EPI | S6: EPI | Y6: EPI
B7: Noms | C7: M | D7: M | E7: J | F7: V | G7: S | H7: D | I7: L | J7: M | K7: M | L7: J | M7: V | N7: S | O7: D | P7: L | Q7: M | R7: M | S7: J | T7: V | U7: S | V7: D | W7: L | X7: M | Y7: M | Z7: J | AA7: V | AB7: S | AC7: D | AD7: L
C8: 31 | D8: 1 | E8: 2 | F8: 3 | G8: 4 | H8: 5 | I8: 6 | J8: 7 | K8: 8 | L8: 9 | M8: 10 | N8: 11 | O8: 12 | P8: 13 | Q8: 14 | R8: 15 | S8: 16 | T8: 17 | U8: 18 | V8: 19 | W8: 20 | X8: 21 | Y8: 22 | Z8: 23 | AA8: 24 | AB8: 25 | AC8: 26 | AD8: 27 | AE8: 28 | AF8: 29 | AG8: 30 | AH8: 31
B9: AGENT 1 | Y9: J | AA9: J
B10: AGENT 2 | Z10: J
B11: AGENT 3 | D11: J | E11: J | F11: J | G11: J | O11: N | P11: N | Q11: N | T11: J | U11: J | AD11: J | AE11: J | AF11: admin
B12: AGENT 4 | D12: J | E12: J | K12: N | L12: N | P12: N | Q12: N | T12: J | U12: J | AC12: J | AD12: J | AE12: J
B13: AGENT 5 | C13: 5h-13h | I13: N | J13: N | P13: N | Q13: N | T13: J | U13: J | V13: J | X13: N | Y13: N | AB13: J | AC13: J
B14: AGENT 6 | D14: J | E14: J | I14: RC | O14: N | P14: N | Q14: N | U14: N | V14: N | Z14: N | AD14: J | AE14: J
B15: AGENT 7 | C15: N | I15: N | J15: N | M15: J | N15: J | U15: rec PSE | V15: J | W15: J | X15: J | AA15: N | AB15: N | AC15: N | AF15: N | AG15: N | AH15: N
B16: AGENT 8 | D16: J | E16: J | I16: N | J16: N | M16: J | N16: J | V16: J | W16: J | X16: J | Z16: J | AC16: N | AG16: N | AH16: N
B17: AGENT 9 | M17: J | N17: J
B18: AGENT 10 | C18: J | I18: N | J18: N | M18: J | N18: J | V18: J | W18: J | X18: J | AA18: N | AB18: N | AC18: N | AF18: N | AG18: N | AH18: N
B19: AGENT 11 | H19: J | I19: J | J19: J | O19: J | P19: J | Q19: J | T19: N | U19: N | V19: N | Y19: N | Z19: N | AB19: J | AF19: J | AG19: J | AH19: J
B20: AGENT 12 | C20: N | F20: J | G20: J | H20: J | O20: J | P20: J | Q20: J | U20: N | V20: N | W20: N | Y20: N | Z20: N | AA20: N | AF20: J | AG20: J
B21: AGENT 13 | F21: J | G21: J | O21: J | P21: J | Q21: J | T21: J | U21: J | Y21: N | Z21: N | AA21: N | AF21: J | AG21: J
B22: AGENT 14 | F22: J | G22: J | O22: J | P22: J | Q22: J | W22: N | X22: N | AD22: J | AE22: J | AF22: J | AG22: J
B23: AGENT 15
B24: AGENT 16 | E24: EPI | H24: J | I24: J | J24: J | N24: N | O24: N | R24: N | S24: N | T24: N | Y24: J | AB24: N | AD24: N | AG24: N
B25: AGENT 17 | H25: J | I25: J | J25: J | M25: N | N25: N | O25: N | R25: N | S25: N | T25: N | AC25: J | AF25: N
B26: AGENT 18 | C26: J | I26: J | J26: J | M26: N | N26: N | R26: N | S26: N | T26: N | Z26: J | AA26: J | AE26: N | AH26: J
B27: AGENT 19 | C27: 21h-5H | D27: N | E27: N | K27: N | L27: N | M27: N | R27: N | S27: N | AD27: N | AE27: N
B28: AGENT 20 | G28: N | H28: N | K28: J | L28: J | R28: J | S28: J | Y28: J | Z28: J | AD28: N | AE28: N | AH28: J
B29: AGENT 21 | D29: N | E29: N | K29: N | L29: N | S29: RC | W29: J | X29: J | Y29: J | AD29: N | AE29: N | AH29: J
B30: AGENT 22 | C30: N | D30: N | G30: N | H30: N | K30: N | L30: N | M30: N | R30: J | S30: J
B31: AGENT 23 | C31: J | F31: N | G31: N | H31: N | K31: J | L31: J | N31: N | R31: J | S31: J | W31: N | X31: N | AA31: J | AB31: J | AC31: J
B32: AGENT 24 | D32: N | E32: N | F32: N | K32: J | L32: J | S32: J | W32: N | X32: N | AA32: J | AB32: J | AF32: N
B33: AGENT 25 | C33: J | F33: N | G33: N | H33: N
B34: AGENT 26 | C34: N | E34: N | F34: N | K34: J | L34: J | R34: J | U34: N | V34: N | AB34: N | AC34: N | AH34: N

Sheet JANVIER
B2: =ANNEE -> 2024 | F2: JANVIER | T2: ACCUEIL
B4: =IF(F2<>"",VLOOKUP(F2,mois,2,FALSE)) -> 1 | C4: CP | F4: F | J4: FOR FRAMATOME | N4: IRP | R4: PERMUTATION | V4: REMPLACEMENT | Z4: SPV | AD4: INDISPO
B5: B | C5: D | D5: E | E5: F | F5: G | G5: H | H5: I | I5: J | J5: K | K5: L | L5: M | M5: N | N5: O | O5: P | P5: Q | Q5: R | R5: S | S5: T | T5: U | U5: V | V5: W | W5: X | X5: Y | Y5: Z | Z5: AA | AA5: AB | AB5: AC | AC5: AD | AD5: AE | AE5: AF | AF5: AG | AG5: AH
A6: 6 | B6: {=INDIRECT("'"&$F$2&" ()'!"&B$5&$A6)} -> TYPE DE FORMATION | C6: =DATE(ANNEE,$B$4,C8) -> 45292 | D6: =DATE(ANNEE,$B$4,D8) -> 45293 | E6: =DATE(ANNEE,$B$4,E8) -> 45294 | F6: =DATE(ANNEE,$B$4,F8) -> 45295 | G6: =DATE(ANNEE,$B$4,G8) -> 45296 | H6: =DATE(ANNEE,$B$4,H8) -> 45297 | I6: =DATE(ANNEE,$B$4,I8) -> 45298 | J6: =DATE(ANNEE,$B$4,J8) -> 45299 | ... AG6: =DATE(ANNEE,$B$4,AG8) -> 45322
A7: 7 | B7: {=INDIRECT("'"&$F$2&" ()'!"&B$5&$A7)} -> Noms | C7: {=INDIRECT("'"&$F$2&" ()'!"&C$5&$A7)} -> M | D7: {=INDIRECT("'"&$F$2&" ()'!"&D$5&$A7)} -> J | E7: {=INDIRECT("'"&$F$2&" ()'!"&E$5&$A7)} -> V | F7: {=INDIRECT("'"&$F$2&" ()'!"&F$5&$A7)} -> S | G7: {=INDIRECT("'"&$F$2&" ()'!"&G$5&$A7)} -> D | H7: {=INDIRECT("'"&$F$2&" ()'!"&H$5&$A7)} -> L | I7: {=INDIRECT("'"&$F$2&" ()'!"&I$5&$A7)} -> M | ... AG7: {=INDIRECT("'"&$F$2&" ()'!"&AG$5&$A7)} -> 0
A8: 8 | B8: {=INDIRECT("'"&$F$2&" ()'!"&B$5&$A8)} -> 0 | C8: ='JANVIER ()'!D8 -> 1 | D8: ='JANVIER ()'!E8 -> 2 | E8: ='JANVIER ()'!F8 -> 3 | F8: ='JANVIER ()'!G8 -> 4 | G8: ='JANVIER ()'!H8 -> 5 | H8: ='JANVIER ()'!I8 -> 6 | I8: ='JANVIER ()'!J8 -> 7 | J8: ='JANVIER ()'!K8 -> 8 | ... AG8: ='JANVIER ()'!AH8 -> 31
A9: 9 | B9: {=INDIRECT("'"&$F$2&" ()'!"&B$5&$A9)} -> AGENT 1 | C9: {=INDEX(ABSENCE!$B$1:$B$10000,MIN(IF((ABSENCE!$A$3:$A$10000=$B9)*(ABSENCE!$C$3:$C$10000<=C$6)*(ABSENCE!$D$3:$D$10000>=C$6),ROW(ABSENCE!$A$3:$A$10000))))&""} -> cp | D9: {=INDEX(ABSENCE!$B$1:$B$10000,MIN(IF((ABSENCE!$A$3:$A$10000=$B9)*(ABSENCE!$C$3:$C$10000<=D$6)*(ABSENCE!$D$3:$D$10000>=D$6),ROW(ABSENCE!$A$3:$A$10000))))&""} -> cp | E9: {=INDEX(ABSENCE!$B$1:$B$10000,MIN(IF((ABSENCE!$A$3:$A$10000=$B9)*(ABSENCE!$C$3:$C$10000<=E$6)*(ABSENCE!$D$3:$D$10000>=E$6),ROW(ABSENCE!$A$3:$A$10000))))&""} -> cp | F9: {=INDEX(ABSENCE!$B$1:$B$10000,MIN(IF((ABSENCE!$A$3:$A$10000=$B9)*(ABSENCE!$C$3:$C$10000<=F$6)*(ABSENCE!$D$3:$D$10000>=F$6),ROW(ABSENCE!$A$3:$A$10000))))&""} -> cp | G9: {=INDEX(ABSENCE!$B$1:$B$10000,MIN(IF((ABSENCE!$A$3:$A$10000=$B9)*(ABSENCE!$C$3:$C$10000<=G$6)*(ABSENCE!$D$3:$D$10000>=G$6),ROW(ABSENCE!$A$3:$A$10000))))&""} -> cp | H9: {=INDEX(ABSENCE!$B$1:$B$10000,MIN(IF((ABSENCE!$A$3:$A$10000=$B9)*(ABSENCE!$C$3:$C$10000<=H$6)*(ABSENCE!$D$3:$D$10000>=H$6),ROW(ABSENCE!$A$3:$A$10000))))&""} -> cp | I9: {=INDEX(ABSENCE!$B$1:$B$10000,MIN(IF((ABSENCE!$A$3:$A$10000=$B9)*(ABSENCE!$C$3:$C$10000<=I$6)*(ABSENCE!$D$3:$D$10000>=I$6),ROW(ABSENCE!$A$3:$A$10000))))&""} -> cp | J9: {=INDEX(ABSENCE!$B$1:$B$10000,MIN(IF((ABSENCE!$A$3:$A$10000=$B9)*(ABSENCE!$C$3:$C$10000<=J$6)*(ABSENCE!$D$3:$D$10000>=J$6),ROW(ABSENCE!$A$3:$A$10000))))&""} -> cp | ... AG9: {=INDEX(ABSENCE!$B$1:$B$10000,MIN(IF((ABSENCE!$A$3:$A$10000=$B9)*(ABSENCE!$C$3:$C$10000<=AG$6)*(ABSENCE!$D$3:$D$10000>=AG$6),ROW(ABSENCE!$A$3:$A$10000))))&""}
A10: 9 | B10: {=INDIRECT("'"&$F$2&" ()'!"&B$5&$A10)} -> AGENT 1 | C10: {=IF(C9="",INDIRECT("'"&$F$2&" ()'!"&C$5&$A10),C9)} -> cp | D10: {=IF(D9="",INDIRECT("'"&$F$2&" ()'!"&D$5&$A10),D9)} -> cp | E10: {=IF(E9="",INDIRECT("'"&$F$2&" ()'!"&E$5&$A10),E9)} -> cp | F10: {=IF(F9="",INDIRECT("'"&$F$2&" ()'!"&F$5&$A10),F9)} -> cp | G10: {=IF(G9="",INDIRECT("'"&$F$2&" ()'!"&G$5&$A10),G9)} -> cp | H10: {=IF(H9="",INDIRECT("'"&$F$2&" ()'!"&H$5&$A10),H9)} -> cp | I10: {=IF(I9="",INDIRECT("'"&$F$2&" ()'!"&I$5&$A10),I9)} -> cp | J10: {=IF(J9="",INDIRECT("'"&$F$2&" ()'!"&J$5&$A10),J9)} -> cp | ... AG10: {=IF(AG9="",INDIRECT("'"&$F$2&" ()'!"&AG$5&$A10),AG9)} -> 0
A11: =A9+1 -> 10 | B11: {=INDIRECT("'"&$F$2&" ()'!"&B$5&$A11)} -> AGENT 2 | C11: {=INDEX(ABSENCE!$B$1:$B$10000,MIN(IF((ABSENCE!$A$3:$A$10000=$B11)*(ABSENCE!$C$3:$C$10000<=C$6)*(ABSENCE!$D$3:$D$10000>=C$6),ROW(ABSENCE!$A$3:$A$10000))))&""} | D11: {=INDEX(ABSENCE!$B$1:$B$10000,MIN(IF((ABSENCE!$A$3:$A$10000=$B11)*(ABSENCE!$C$3:$C$10000<=D$6)*(ABSENCE!$D$3:$D$10000>=D$6),ROW(ABSENCE!$A$3:$A$10000))))&""} | E11: {=INDEX(ABSENCE!$B$1:$B$10000,MIN(IF((ABSENCE!$A$3:$A$10000=$B11)*(ABSENCE!$C$3:$C$10000<=E$6)*(ABSENCE!$D$3:$D$10000>=E$6),ROW(ABSENCE!$A$3:$A$10000))))&""} | F11: {=INDEX(ABSENCE!$B$1:$B$10000,MIN(IF((ABSENCE!$A$3:$A$10000=$B11)*(ABSENCE!$C$3:$C$10000<=F$6)*(ABSENCE!$D$3:$D$10000>=F$6),ROW(ABSENCE!$A$3:$A$10000))))&""} | G11: {=INDEX(ABSENCE!$B$1:$B$10000,MIN(IF((ABSENCE!$A$3:$A$10000=$B11)*(ABSENCE!$C$3:$C$10000<=G$6)*(ABSENCE!$D$3:$D$10000>=G$6),ROW(ABSENCE!$A$3:$A$10000))))&""} -> cpf | H11: {=INDEX(ABSENCE!$B$1:$B$10000,MIN(IF((ABSENCE!$A$3:$A$10000=$B11)*(ABSENCE!$C$3:$C$10000<=H$6)*(ABSENCE!$D$3:$D$10000>=H$6),ROW(ABSENCE!$A$3:$A$10000))))&""} -> cpf | I11: {=INDEX(ABSENCE!$B$1:$B$10000,MIN(IF((ABSENCE!$A$3:$A$10000=$B11)*(ABSENCE!$C$3:$C$10000<=I$6)*(ABSENCE!$D$3:$D$10000>=I$6),ROW(ABSENCE!$A$3:$A$10000))))&""} -> cpf | J11: {=INDEX(ABSENCE!$B$1:$B$10000,MIN(IF((ABSENCE!$A$3:$A$10000=$B11)*(ABSENCE!$C$3:$C$10000<=J$6)*(ABSENCE!$D$3:$D$10000>=J$6),ROW(ABSENCE!$A$3:$A$10000))))&""} -> cpf | ... AG11: {=INDEX(ABSENCE!$B$1:$B$10000,MIN(IF((ABSENCE!$A$3:$A$10000=$B11)*(ABSENCE!$C$3:$C$10000<=AG$6)*(ABSENCE!$D$3:$D$10000>=AG$6),ROW(ABSENCE!$A$3:$A$10000))))&""}
A12: =A10+1 -> 10 | B12: {=INDIRECT("'"&$F$2&" ()'!"&B$5&$A12)} -> AGENT 2 | C12: {=IF(C11="",INDIRECT("'"&$F$2&" ()'!"&C$5&$A12),C11)} -> 0 | D12: {=IF(D11="",INDIRECT("'"&$F$2&" ()'!"&D$5&$A12),D11)} -> 0 | E12: {=IF(E11="",INDIRECT("'"&$F$2&" ()'!"&E$5&$A12),E11)} -> 0 | F12: {=IF(F11="",INDIRECT("'"&$F$2&" ()'!"&F$5&$A12),F11)} -> 0 | G12: {=IF(G11="",INDIRECT("'"&$F$2&" ()'!"&G$5&$A12),G11)} -> cpf | H12: {=IF(H11="",INDIRECT("'"&$F$2&" ()'!"&H$5&$A12),H11)} -> cpf | I12: {=IF(I11="",INDIRECT("'"&$F$2&" ()'!"&I$5&$A12),I11)} -> cpf | J12: {=IF(J11="",INDIRECT("'"&$F$2&" ()'!"&J$5&$A12),J11)} -> cpf | ... AG12: {=IF(AG11="",INDIRECT("'"&$F$2&" ()'!"&AG$5&$A12),AG11)} -> 0
A13: =A11+1 -> 11 | B13: {=INDIRECT("'"&$F$2&" ()'!"&B$5&$A13)} -> AGENT 3 | C13: {=INDEX(ABSENCE!$B$1:$B$10000,MIN(IF((ABSENCE!$A$3:$A$10000=$B13)*(ABSENCE!$C$3:$C$10000<=C$6)*(ABSENCE!$D$3:$D$10000>=C$6),ROW(ABSENCE!$A$3:$A$10000))))&""} | D13: {=INDEX(ABSENCE!$B$1:$B$10000,MIN(IF((ABSENCE!$A$3:$A$10000=$B13)*(ABSENCE!$C$3:$C$10000<=D$6)*(ABSENCE!$D$3:$D$10000>=D$6),ROW(ABSENCE!$A$3:$A$10000))))&""} | E13: {=INDEX(ABSENCE!$B$1:$B$10000,MIN(IF((ABSENCE!$A$3:$A$10000=$B13)*(ABSENCE!$C$3:$C$10000<=E$6)*(ABSENCE!$D$3:$D$10000>=E$6),ROW(ABSENCE!$A$3:$A$10000))))&""} | F13: {=INDEX(ABSENCE!$B$1:$B$10000,MIN(IF((ABSENCE!$A$3:$A$10000=$B13)*(ABSENCE!$C$3:$C$10000<=F$6)*(ABSENCE!$D$3:$D$10000>=F$6),ROW(ABSENCE!$A$3:$A$10000))))&""} | G13: {=INDEX(ABSENCE!$B$1:$B$10000,MIN(IF((ABSENCE!$A$3:$A$10000=$B13)*(ABSENCE!$C$3:$C$10000<=G$6)*(ABSENCE!$D$3:$D$10000>=G$6),ROW(ABSENCE!$A$3:$A$10000))))&""} | H13: {=INDEX(ABSENCE!$B$1:$B$10000,MIN(IF((ABSENCE!$A$3:$A$10000=$B13)*(ABSENCE!$C$3:$C$10000<=H$6)*(ABSENCE!$D$3:$D$10000>=H$6),ROW(ABSENCE!$A$3:$A$10000))))&""} | I13: {=INDEX(ABSENCE!$B$1:$B$10000,MIN(IF((ABSENCE!$A$3:$A$10000=$B13)*(ABSENCE!$C$3:$C$10000<=I$6)*(ABSENCE!$D$3:$D$10000>=I$6),ROW(ABSENCE!$A$3:$A$10000))))&""} | J13: {=INDEX(ABSENCE!$B$1:$B$10000,MIN(IF((ABSENCE!$A$3:$A$10000=$B13)*(ABSENCE!$C$3:$C$10000<=J$6)*(ABSENCE!$D$3:$D$10000>=J$6),ROW(ABSENCE!$A$3:$A$10000))))&""} | ... AG13: {=INDEX(ABSENCE!$B$1:$B$10000,MIN(IF((ABSENCE!$A$3:$A$10000=$B13)*(ABSENCE!$C$3:$C$10000<=AG$6)*(ABSENCE!$D$3:$D$10000>=AG$6),ROW(ABSENCE!$A$3:$A$10000))))&""}
A14: =A12+1 -> 11 | B14: {=INDIRECT("'"&$F$2&" ()'!"&B$5&$A14)} -> AGENT 3 | C14: {=IF(C13="",INDIRECT("'"&$F$2&" ()'!"&C$5&$A14),C13)} -> J | D14: {=IF(D13="",INDIRECT("'"&$F$2&" ()'!"&D$5&$A14),D13)} -> J | E14: {=IF(E13="",INDIRECT("'"&$F$2&" ()'!"&E$5&$A14),E13)} -> J | F14: {=IF(F13="",INDIRECT("'"&$F$2&" ()'!"&F$5&$A14),F13)} -> J | G14: {=IF(G13="",INDIRECT("'"&$F$2&" ()'!"&G$5&$A14),G13)} -> 0 | H14: {=IF(H13="",INDIRECT("'"&$F$2&" ()'!"&H$5&$A14),H13)} -> 0 | I14: {=IF(I13="",INDIRECT("'"&$F$2&" ()'!"&I$5&$A14),I13)} -> 0 | J14: {=IF(J13="",INDIRECT("'"&$F$2&" ()'!"&J$5&$A14),J13)} -> 0 | ... AG14: {=IF(AG13="",INDIRECT("'"&$F$2&" ()'!"&AG$5&$A14),AG13)} -> 0
A15: =A13+1 -> 12 | B15: {=INDIRECT("'"&$F$2&" ()'!"&B$5&$A15)} -> AGENT 4 | C15: {=INDEX(ABSENCE!$B$1:$B$10000,MIN(IF((ABSENCE!$A$3:$A$10000=$B15)*(ABSENCE!$C$3:$C$10000<=C$6)*(ABSENCE!$D$3:$D$10000>=C$6),ROW(ABSENCE!$A$3:$A$10000))))&""} | D15: {=INDEX(ABSENCE!$B$1:$B$10000,MIN(IF((ABSENCE!$A$3:$A$10000=$B15)*(ABSENCE!$C$3:$C$10000<=D$6)*(ABSENCE!$D$3:$D$10000>=D$6),ROW(ABSENCE!$A$3:$A$10000))))&""} | E15: {=INDEX(ABSENCE!$B$1:$B$10000,MIN(IF((ABSENCE!$A$3:$A$10000=$B15)*(ABSENCE!$C$3:$C$10000<=E$6)*(ABSENCE!$D$3:$D$10000>=E$6),ROW(ABSENCE!$A$3:$A$10000))))&""} | F15: {=INDEX(ABSENCE!$B$1:$B$10000,MIN(IF((ABSENCE!$A$3:$A$10000=$B15)*(ABSENCE!$C$3:$C$10000<=F$6)*(ABSENCE!$D$3:$D$10000>=F$6),ROW(ABSENCE!$A$3:$A$10000))))&""} | G15: {=INDEX(ABSENCE!$B$1:$B$10000,MIN(IF((ABSENCE!$A$3:$A$10000=$B15)*(ABSENCE!$C$3:$C$10000<=G$6)*(ABSENCE!$D$3:$D$10000>=G$6),ROW(ABSENCE!$A$3:$A$10000))))&""} | H15: {=INDEX(ABSENCE!$B$1:$B$10000,MIN(IF((ABSENCE!$A$3:$A$10000=$B15)*(ABSENCE!$C$3:$C$10000<=H$6)*(ABSENCE!$D$3:$D$10000>=H$6),ROW(ABSENCE!$A$3:$A$10000))))&""} | I15: {=INDEX(ABSENCE!$B$1:$B$10000,MIN(IF((ABSENCE!$A$3:$A$10000=$B15)*(ABSENCE!$C$3:$C$10000<=I$6)*(ABSENCE!$D$3:$D$10000>=I$6),ROW(ABSENCE!$A$3:$A$10000))))&""} | J15: {=INDEX(ABSENCE!$B$1:$B$10000,MIN(IF((ABSENCE!$A$3:$A$10000=$B15)*(ABSENCE!$C$3:$C$10000<=J$6)*(ABSENCE!$D$3:$D$10000>=J$6),ROW(ABSENCE!$A$3:$A$10000))))&""} | ... AG15: {=INDEX(ABSENCE!$B$1:$B$10000,MIN(IF((ABSENCE!$A$3:$A$10000=$B15)*(ABSENCE!$C$3:$C$10000<=AG$6)*(ABSENCE!$D$3:$D$10000>=AG$6),ROW(ABSENCE!$A$3:$A$10000))))&""}
A16: =A14+1 -> 12 | B16: {=INDIRECT("'"&$F$2&" ()'!"&B$5&$A16)} -> AGENT 4 | C16: {=IF(C15="",INDIRECT("'"&$F$2&" ()'!"&C$5&$A16),C15)} -> J | D16: {=IF(D15="",INDIRECT("'"&$F$2&" ()'!"&D$5&$A16),D15)} -> J | E16: {=IF(E15="",INDIRECT("'"&$F$2&" ()'!"&E$5&$A16),E15)} -> 0 | F16: {=IF(F15="",INDIRECT("'"&$F$2&" ()'!"&F$5&$A16),F15)} -> 0 | G16: {=IF(G15="",INDIRECT("'"&$F$2&" ()'!"&G$5&$A16),G15)} -> 0 | H16: {=IF(H15="",INDIRECT("'"&$F$2&" ()'!"&H$5&$A16),H15)} -> 0 | I16: {=IF(I15="",INDIRECT("'"&$F$2&" ()'!"&I$5&$A16),I15)} -> 0 | J16: {=IF(J15="",INDIRECT("'"&$F$2&" ()'!"&J$5&$A16),J15)} -> N | ... AG16: {=IF(AG15="",INDIRECT("'"&$F$2&" ()'!"&AG$5&$A16),AG15)} -> 0
A17: =A15+1 -> 13 | B17: {=INDIRECT("'"&$F$2&" ()'!"&B$5&$A17)} -> AGENT 5 | C17: {=INDEX(ABSENCE!$B$1:$B$10000,MIN(IF((ABSENCE!$A$3:$A$10000=$B17)*(ABSENCE!$C$3:$C$10000<=C$6)*(ABSENCE!$D$3:$D$10000>=C$6),ROW(ABSENCE!$A$3:$A$10000))))&""} | D17: {=INDEX(ABSENCE!$B$1:$B$10000,MIN(IF((ABSENCE!$A$3:$A$10000=$B17)*(ABSENCE!$C$3:$C$10000<=D$6)*(ABSENCE!$D$3:$D$10000>=D$6),ROW(ABSENCE!$A$3:$A$10000))))&""} | E17: {=INDEX(ABSENCE!$B$1:$B$10000,MIN(IF((ABSENCE!$A$3:$A$10000=$B17)*(ABSENCE!$C$3:$C$10000<=E$6)*(ABSENCE!$D$3:$D$10000>=E$6),ROW(ABSENCE!$A$3:$A$10000))))&""} | F17: {=INDEX(ABSENCE!$B$1:$B$10000,MIN(IF((ABSENCE!$A$3:$A$10000=$B17)*(ABSENCE!$C$3:$C$10000<=F$6)*(ABSENCE!$D$3:$D$10000>=F$6),ROW(ABSENCE!$A$3:$A$10000))))&""} | G17: {=INDEX(ABSENCE!$B$1:$B$10000,MIN(IF((ABSENCE!$A$3:$A$10000=$B17)*(ABSENCE!$C$3:$C$10000<=G$6)*(ABSENCE!$D$3:$D$10000>=G$6),ROW(ABSENCE!$A$3:$A$10000))))&""} | H17: {=INDEX(ABSENCE!$B$1:$B$10000,MIN(IF((ABSENCE!$A$3:$A$10000=$B17)*(ABSENCE!$C$3:$C$10000<=H$6)*(ABSENCE!$D$3:$D$10000>=H$6),ROW(ABSENCE!$A$3:$A$10000))))&""} | I17: {=INDEX(ABSENCE!$B$1:$B$10000,MIN(IF((ABSENCE!$A$3:$A$10000=$B17)*(ABSENCE!$C$3:$C$10000<=I$6)*(ABSENCE!$D$3:$D$10000>=I$6),ROW(ABSENCE!$A$3:$A$10000))))&""} | J17: {=INDEX(ABSENCE!$B$1:$B$10000,MIN(IF((ABSENCE!$A$3:$A$10000=$B17)*(ABSENCE!$C$3:$C$10000<=J$6)*(ABSENCE!$D$3:$D$10000>=J$6),ROW(ABSENCE!$A$3:$A$10000))))&""} | ... AG17: {=INDEX(ABSENCE!$B$1:$B$10000,MIN(IF((ABSENCE!$A$3:$A$10000=$B17)*(ABSENCE!$C$3:$C$10000<=AG$6)*(ABSENCE!$D$3:$D$10000>=AG$6),ROW(ABSENCE!$A$3:$A$10000))))&""}
A18: =A16+1 -> 13 | B18: {=INDIRECT("'"&$F$2&" ()'!"&B$5&$A18)} -> AGENT 5 | C18: {=IF(C17="",INDIRECT("'"&$F$2&" ()'!"&C$5&$A18),C17)} -> 0 | D18: {=IF(D17="",INDIRECT("'"&$F$2&" ()'!"&D$5&$A18),D17)} -> 0 | E18: {=IF(E17="",INDIRECT("'"&$F$2&" ()'!"&E$5&$A18),E17)} -> 0 | F18: {=IF(F17="",INDIRECT("'"&$F$2&" ()'!"&F$5&$A18),F17)} -> 0 | G18: {=IF(G17="",INDIRECT("'"&$F$2&" ()'!"&G$5&$A18),G17)} -> 0 | H18: {=IF(H17="",INDIRECT("'"&$F$2&" ()'!"&H$5&$A18),H17)} -> N | I18: {=IF(I17="",INDIRECT("'"&$F$2&" ()'!"&I$5&$A18),I17)} -> N | J18: {=IF(J17="",INDIRECT("'"&$F$2&" ()'!"&J$5&$A18),J17)} -> 0 | ... AG18: {=IF(AG17="",INDIRECT("'"&$F$2&" ()'!"&AG$5&$A18),AG17)} -> 0
A19: =A17+1 -> 14 | B19: {=INDIRECT("'"&$F$2&" ()'!"&B$5&$A19)} -> AGENT 6 | C19: {=INDEX(ABSENCE!$B$1:$B$10000,MIN(IF((ABSENCE!$A$3:$A$10000=$B19)*(ABSENCE!$C$3:$C$10000<=C$6)*(ABSENCE!$D$3:$D$10000>=C$6),ROW(ABSENCE!$A$3:$A$10000))))&""} | D19: {=INDEX(ABSENCE!$B$1:$B$10000,MIN(IF((ABSENCE!$A$3:$A$10000=$B19)*(ABSENCE!$C$3:$C$10000<=D$6)*(ABSENCE!$D$3:$D$10000>=D$6),ROW(ABSENCE!$A$3:$A$10000))))&""} | E19: {=INDEX(ABSENCE!$B$1:$B$10000,MIN(IF((ABSENCE!$A$3:$A$10000=$B19)*(ABSENCE!$C$3:$C$10000<=E$6)*(ABSENCE!$D$3:$D$10000>=E$6),ROW(ABSENCE!$A$3:$A$10000))))&""} | F19: {=INDEX(ABSENCE!$B$1:$B$10000,MIN(IF((ABSENCE!$A$3:$A$10000=$B19)*(ABSENCE!$C$3:$C$10000<=F$6)*(ABSENCE!$D$3:$D$10000>=F$6),ROW(ABSENCE!$A$3:$A$10000))))&""} | G19: {=INDEX(ABSENCE!$B$1:$B$10000,MIN(IF((ABSENCE!$A$3:$A$10000=$B19)*(ABSENCE!$C$3:$C$10000<=G$6)*(ABSENCE!$D$3:$D$10000>=G$6),ROW(ABSENCE!$A$3:$A$10000))))&""} | H19: {=INDEX(ABSENCE!$B$1:$B$10000,MIN(IF((ABSENCE!$A$3:$A$10000=$B19)*(ABSENCE!$C$3:$C$10000<=H$6)*(ABSENCE!$D$3:$D$10000>=H$6),ROW(ABSENCE!$A$3:$A$10000))))&""} | I19: {=INDEX(ABSENCE!$B$1:$B$10000,MIN(IF((ABSENCE!$A$3:$A$10000=$B19)*(ABSENCE!$C$3:$C$10000<=I$6)*(ABSENCE!$D$3:$D$10000>=I$6),ROW(ABSENCE!$A$3:$A$10000))))&""} | J19: {=INDEX(ABSENCE!$B$1:$B$10000,MIN(IF((ABSENCE!$A$3:$A$10000=$B19)*(ABSENCE!$C$3:$C$10000<=J$6)*(ABSENCE!$D$3:$D$10000>=J$6),ROW(ABSENCE!$A$3:$A$10000))))&""} | ... AG19: {=INDEX(ABSENCE!$B$1:$B$10000,MIN(IF((ABSENCE!$A$3:$A$10000=$B19)*(ABSENCE!$C$3:$C$10000<=AG$6)*(ABSENCE!$D$3:$D$10000>=AG$6),ROW(ABSENCE!$A$3:$A$10000))))&""}
A20: =A18+1 -> 14 | B20: {=INDIRECT("'"&$F$2&" ()'!"&B$5&$A20)} -> AGENT 6 | C20: {=IF(C19="",INDIRECT("'"&$F$2&" ()'!"&C$5&$A20),C19)} -> J | D20: {=IF(D19="",INDIRECT("'"&$F$2&" ()'!"&D$5&$A20),D19)} -> J | E20: {=IF(E19="",INDIRECT("'"&$F$2&" ()'!"&E$5&$A20),E19)} -> 0 | F20: {=IF(F19="",INDIRECT("'"&$F$2&" ()'!"&F$5&$A20),F19)} -> 0 | G20: {=IF(G19="",INDIRECT("'"&$F$2&" ()'!"&G$5&$A20),G19)} -> 0 | H20: {=IF(H19="",INDIRECT("'"&$F$2&" ()'!"&H$5&$A20),H19)} -> RC | I20: {=IF(I19="",INDIRECT("'"&$F$2&" ()'!"&I$5&$A20),I19)} -> 0 | J20: {=IF(J19="",INDIRECT("'"&$F$2&" ()'!"&J$5&$A20),J19)} -> 0 | ... AG20: {=IF(AG19="",INDIRECT("'"&$F$2&" ()'!"&AG$5&$A20),AG19)} -> 0
A21: =A19+1 -> 15 | B21: {=INDIRECT("'"&$F$2&" ()'!"&B$5&$A21)} -> AGENT 7 | C21: {=INDEX(ABSENCE!$B$1:$B$10000,MIN(IF((ABSENCE!$A$3:$A$10000=$B21)*(ABSENCE!$C$3:$C$10000<=C$6)*(ABSENCE!$D$3:$D$10000>=C$6),ROW(ABSENCE!$A$3:$A$10000))))&""} | D21: {=INDEX(ABSENCE!$B$1:$B$10000,MIN(IF((ABSENCE!$A$3:$A$10000=$B21)*(ABSENCE!$C$3:$C$10000<=D$6)*(ABSENCE!$D$3:$D$10000>=D$6),ROW(ABSENCE!$A$3:$A$10000))))&""} | E21: {=INDEX(ABSENCE!$B$1:$B$10000,MIN(IF((ABSENCE!$A$3:$A$10000=$B21)*(ABSENCE!$C$3:$C$10000<=E$6)*(ABSENCE!$D$3:$D$10000>=E$6),ROW(ABSENCE!$A$3:$A$10000))))&""} | F21: {=INDEX(ABSENCE!$B$1:$B$10000,MIN(IF((ABSENCE!$A$3:$A$10000=$B21)*(ABSENCE!$C$3:$C$10000<=F$6)*(ABSENCE!$D$3:$D$10000>=F$6),ROW(ABSENCE!$A$3:$A$10000))))&""} | G21: {=INDEX(ABSENCE!$B$1:$B$10000,MIN(IF((ABSENCE!$A$3:$A$10000=$B21)*(ABSENCE!$C$3:$C$10000<=G$6)*(ABSENCE!$D$3:$D$10000>=G$6),ROW(ABSENCE!$A$3:$A$10000))))&""} | H21: {=INDEX(ABSENCE!$B$1:$B$10000,MIN(IF((ABSENCE!$A$3:$A$10000=$B21)*(ABSENCE!$C$3:$C$10000<=H$6)*(ABSENCE!$D$3:$D$10000>=H$6),ROW(ABSENCE!$A$3:$A$10000))))&""} | I21: {=INDEX(ABSENCE!$B$1:$B$10000,MIN(IF((ABSENCE!$A$3:$A$10000=$B21)*(ABSENCE!$C$3:$C$10000<=I$6)*(ABSENCE!$D$3:$D$10000>=I$6),ROW(ABSENCE!$A$3:$A$10000))))&""} | J21: {=INDEX(ABSENCE!$B$1:$B$10000,MIN(IF((ABSENCE!$A$3:$A$10000=$B21)*(ABSENCE!$C$3:$C$10000<=J$6)*(ABSENCE!$D$3:$D$10000>=J$6),ROW(ABSENCE!$A$3:$A$10000))))&""} | ... AG21: {=INDEX(ABSENCE!$B$1:$B$10000,MIN(IF((ABSENCE!$A$3:$A$10000=$B21)*(ABSENCE!$C$3:$C$10000<=AG$6)*(ABSENCE!$D$3:$D$10000>=AG$6),ROW(ABSENCE!$A$3:$A$10000))))&""}
A22: =A20+1 -> 15 | B22: {=INDIRECT("'"&$F$2&" ()'!"&B$5&$A22)} -> AGENT 7 | C22: {=IF(C21="",INDIRECT("'"&$F$2&" ()'!"&C$5&$A22),C21)} -> 0 | D22: {=IF(D21="",INDIRECT("'"&$F$2&" ()'!"&D$5&$A22),D21)} -> 0 | E22: {=IF(E21="",INDIRECT("'"&$F$2&" ()'!"&E$5&$A22),E21)} -> 0 | F22: {=IF(F21="",INDIRECT("'"&$F$2&" ()'!"&F$5&$A22),F21)} -> 0 | G22: {=IF(G21="",INDIRECT("'"&$F$2&" ()'!"&G$5&$A22),G21)} -> 0 | H22: {=IF(H21="",INDIRECT("'"&$F$2&" ()'!"&H$5&$A22),H21)} -> N | I22: {=IF(I21="",INDIRECT("'"&$F$2&" ()'!"&I$5&$A22),I21)} -> N | J22: {=IF(J21="",INDIRECT("'"&$F$2&" ()'!"&J$5&$A22),J21)} -> 0 | ... AG22: {=IF(AG21="",INDIRECT("'"&$F$2&" ()'!"&AG$5&$A22),AG21)} -> N
A23: =A21+1 -> 16 | B23: {=INDIRECT("'"&$F$2&" ()'!"&B$5&$A23)} -> AGENT 8 | C23: {=INDEX(ABSENCE!$B$1:$B$10000,MIN(IF((ABSENCE!$A$3:$A$10000=$B23)*(ABSENCE!$C$3:$C$10000<=C$6)*(ABSENCE!$D$3:$D$10000>=C$6),ROW(ABSENCE!$A$3:$A$10000))))&""} | D23: {=INDEX(ABSENCE!$B$1:$B$10000,MIN(IF((ABSENCE!$A$3:$A$10000=$B23)*(ABSENCE!$C$3:$C$10000<=D$6)*(ABSENCE!$D$3:$D$10000>=D$6),ROW(ABSENCE!$A$3:$A$10000))))&""} | E23: {=INDEX(ABSENCE!$B$1:$B$10000,MIN(IF((ABSENCE!$A$3:$A$10000=$B23)*(ABSENCE!$C$3:$C$10000<=E$6)*(ABSENCE!$D$3:$D$10000>=E$6),ROW(ABSENCE!$A$3:$A$10000))))&""} | F23: {=INDEX(ABSENCE!$B$1:$B$10000,MIN(IF((ABSENCE!$A$3:$A$10000=$B23)*(ABSENCE!$C$3:$C$10000<=F$6)*(ABSENCE!$D$3:$D$10000>=F$6),ROW(ABSENCE!$A$3:$A$10000))))&""} | G23: {=INDEX(ABSENCE!$B$1:$B$10000,MIN(IF((ABSENCE!$A$3:$A$10000=$B23)*(ABSENCE!$C$3:$C$10000<=G$6)*(ABSENCE!$D$3:$D$10000>=G$6),ROW(ABSENCE!$A$3:$A$10000))))&""} | H23: {=INDEX(ABSENCE!$B$1:$B$10000,MIN(IF((ABSENCE!$A$3:$A$10000=$B23)*(ABSENCE!$C$3:$C$10000<=H$6)*(ABSENCE!$D$3:$D$10000>=H$6),ROW(ABSENCE!$A$3:$A$10000))))&""} | I23: {=INDEX(ABSENCE!$B$1:$B$10000,MIN(IF((ABSENCE!$A$3:$A$10000=$B23)*(ABSENCE!$C$3:$C$10000<=I$6)*(ABSENCE!$D$3:$D$10000>=I$6),ROW(ABSENCE!$A$3:$A$10000))))&""} | J23: {=INDEX(ABSENCE!$B$1:$B$10000,MIN(IF((ABSENCE!$A$3:$A$10000=$B23)*(ABSENCE!$C$3:$C$10000<=J$6)*(ABSENCE!$D$3:$D$10000>=J$6),ROW(ABSENCE!$A$3:$A$10000))))&""} | ... AG23: {=INDEX(ABSENCE!$B$1:$B$10000,MIN(IF((ABSENCE!$A$3:$A$10000=$B23)*(ABSENCE!$C$3:$C$10000<=AG$6)*(ABSENCE!$D$3:$D$10000>=AG$6),ROW(ABSENCE!$A$3:$A$10000))))&""}
A24: =A22+1 -> 16 | B24: {=INDIRECT("'"&$F$2&" ()'!"&B$5&$A24)} -> AGENT 8 | C24: {=IF(C23="",INDIRECT("'"&$F$2&" ()'!"&C$5&$A24),C23)} -> J | D24: {=IF(D23="",INDIRECT("'"&$F$2&" ()'!"&D$5&$A24),D23)} -> J | E24: {=IF(E23="",INDIRECT("'"&$F$2&" ()'!"&E$5&$A24),E23)} -> 0 | F24: {=IF(F23="",INDIRECT("'"&$F$2&" ()'!"&F$5&$A24),F23)} -> 0 | G24: {=IF(G23="",INDIRECT("'"&$F$2&" ()'!"&G$5&$A24),G23)} -> 0 | H24: {=IF(H23="",INDIRECT("'"&$F$2&" ()'!"&H$5&$A24),H23)} -> N | I24: {=IF(I23="",INDIRECT("'"&$F$2&" ()'!"&I$5&$A24),I23)} -> N | J24: {=IF(J23="",INDIRECT("'"&$F$2&" ()'!"&J$5&$A24),J23)} -> 0 | ... AG24: {=IF(AG23="",INDIRECT("'"&$F$2&" ()'!"&AG$5&$A24),AG23)} -> N
A25: =A23+1 -> 17 | B25: {=INDIRECT("'"&$F$2&" ()'!"&B$5&$A25)} -> AGENT 9 | C25: {=INDEX(ABSENCE!$B$1:$B$10000,MIN(IF((ABSENCE!$A$3:$A$10000=$B25)*(ABSENCE!$C$3:$C$10000<=C$6)*(ABSENCE!$D$3:$D$10000>=C$6),ROW(ABSENCE!$A$3:$A$10000))))&""} | D25: {=INDEX(ABSENCE!$B$1:$B$10000,MIN(IF((ABSENCE!$A$3:$A$10000=$B25)*(ABSENCE!$C$3:$C$10000<=D$6)*(ABSENCE!$D$3:$D$10000>=D$6),ROW(ABSENCE!$A$3:$A$10000))))&""} | E25: {=INDEX(ABSENCE!$B$1:$B$10000,MIN(IF((ABSENCE!$A$3:$A$10000=$B25)*(ABSENCE!$C$3:$C$10000<=E$6)*(ABSENCE!$D$3:$D$10000>=E$6),ROW(ABSENCE!$A$3:$A$10000))))&""} | F25: {=INDEX(ABSENCE!$B$1:$B$10000,MIN(IF((ABSENCE!$A$3:$A$10000=$B25)*(ABSENCE!$C$3:$C$10000<=F$6)*(ABSENCE!$D$3:$D$10000>=F$6),ROW(ABSENCE!$A$3:$A$10000))))&""} | G25: {=INDEX(ABSENCE!$B$1:$B$10000,MIN(IF((ABSENCE!$A$3:$A$10000=$B25)*(ABSENCE!$C$3:$C$10000<=G$6)*(ABSENCE!$D$3:$D$10000>=G$6),ROW(ABSENCE!$A$3:$A$10000))))&""} | H25: {=INDEX(ABSENCE!$B$1:$B$10000,MIN(IF((ABSENCE!$A$3:$A$10000=$B25)*(ABSENCE!$C$3:$C$10000<=H$6)*(ABSENCE!$D$3:$D$10000>=H$6),ROW(ABSENCE!$A$3:$A$10000))))&""} | I25: {=INDEX(ABSENCE!$B$1:$B$10000,MIN(IF((ABSENCE!$A$3:$A$10000=$B25)*(ABSENCE!$C$3:$C$10000<=I$6)*(ABSENCE!$D$3:$D$10000>=I$6),ROW(ABSENCE!$A$3:$A$10000))))&""} | J25: {=INDEX(ABSENCE!$B$1:$B$10000,MIN(IF((ABSENCE!$A$3:$A$10000=$B25)*(ABSENCE!$C$3:$C$10000<=J$6)*(ABSENCE!$D$3:$D$10000>=J$6),ROW(ABSENCE!$A$3:$A$10000))))&""} | ... AG25: {=INDEX(ABSENCE!$B$1:$B$10000,MIN(IF((ABSENCE!$A$3:$A$10000=$B25)*(ABSENCE!$C$3:$C$10000<=AG$6)*(ABSENCE!$D$3:$D$10000>=AG$6),ROW(ABSENCE!$A$3:$A$10000))))&""}
A26: =A24+1 -> 17 | B26: {=INDIRECT("'"&$F$2&" ()'!"&B$5&$A26)} -> AGENT 9 | C26: {=IF(C25="",INDIRECT("'"&$F$2&" ()'!"&C$5&$A26),C25)} -> 0 | D26: {=IF(D25="",INDIRECT("'"&$F$2&" ()'!"&D$5&$A26),D25)} -> 0 | E26: {=IF(E25="",INDIRECT("'"&$F$2&" ()'!"&E$5&$A26),E25)} -> 0 | F26: {=IF(F25="",INDIRECT("'"&$F$2&" ()'!"&F$5&$A26),F25)} -> 0 | G26: {=IF(G25="",INDIRECT("'"&$F$2&" ()'!"&G$5&$A26),G25)} -> 0 | H26: {=IF(H25="",INDIRECT("'"&$F$2&" ()'!"&H$5&$A26),H25)} -> 0 | I26: {=IF(I25="",INDIRECT("'"&$F$2&" ()'!"&I$5&$A26),I25)} -> 0 | J26: {=IF(J25="",INDIRECT("'"&$F$2&" ()'!"&J$5&$A26),J25)} -> 0 | ... AG26: {=IF(AG25="",INDIRECT("'"&$F$2&" ()'!"&AG$5&$A26),AG25)} -> 0
A27: =A25+1 -> 18 | B27: {=INDIRECT("'"&$F$2&" ()'!"&B$5&$A27)} -> AGENT 10 | C27: {=INDEX(ABSENCE!$B$1:$B$10000,MIN(IF((ABSENCE!$A$3:$A$10000=$B27)*(ABSENCE!$C$3:$C$10000<=C$6)*(ABSENCE!$D$3:$D$10000>=C$6),ROW(ABSENCE!$A$3:$A$10000))))&""} | D27: {=INDEX(ABSENCE!$B$1:$B$10000,MIN(IF((ABSENCE!$A$3:$A$10000=$B27)*(ABSENCE!$C$3:$C$10000<=D$6)*(ABSENCE!$D$3:$D$10000>=D$6),ROW(ABSENCE!$A$3:$A$10000))))&""} | E27: {=INDEX(ABSENCE!$B$1:$B$10000,MIN(IF((ABSENCE!$A$3:$A$10000=$B27)*(ABSENCE!$C$3:$C$10000<=E$6)*(ABSENCE!$D$3:$D$10000>=E$6),ROW(ABSENCE!$A$3:$A$10000))))&""} | F27: {=INDEX(ABSENCE!$B$1:$B$10000,MIN(IF((ABSENCE!$A$3:$A$10000=$B27)*(ABSENCE!$C$3:$C$10000<=F$6)*(ABSENCE!$D$3:$D$10000>=F$6),ROW(ABSENCE!$A$3:$A$10000))))&""} | G27: {=INDEX(ABSENCE!$B$1:$B$10000,MIN(IF((ABSENCE!$A$3:$A$10000=$B27)*(ABSENCE!$C$3:$C$10000<=G$6)*(ABSENCE!$D$3:$D$10000>=G$6),ROW(ABSENCE!$A$3:$A$10000))))&""} | H27: {=INDEX(ABSENCE!$B$1:$B$10000,MIN(IF((ABSENCE!$A$3:$A$10000=$B27)*(ABSENCE!$C$3:$C$10000<=H$6)*(ABSENCE!$D$3:$D$10000>=H$6),ROW(ABSENCE!$A$3:$A$10000))))&""} | I27: {=INDEX(ABSENCE!$B$1:$B$10000,MIN(IF((ABSENCE!$A$3:$A$10000=$B27)*(ABSENCE!$C$3:$C$10000<=I$6)*(ABSENCE!$D$3:$D$10000>=I$6),ROW(ABSENCE!$A$3:$A$10000))))&""} | J27: {=INDEX(ABSENCE!$B$1:$B$10000,MIN(IF((ABSENCE!$A$3:$A$10000=$B27)*(ABSENCE!$C$3:$C$10000<=J$6)*(ABSENCE!$D$3:$D$10000>=J$6),ROW(ABSENCE!$A$3:$A$10000))))&""} | ... AG27: {=INDEX(ABSENCE!$B$1:$B$10000,MIN(IF((ABSENCE!$A$3:$A$10000=$B27)*(ABSENCE!$C$3:$C$10000<=AG$6)*(ABSENCE!$D$3:$D$10000>=AG$6),ROW(ABSENCE!$A$3:$A$10000))))&""}
A28: =A26+1 -> 18 | B28: {=INDIRECT("'"&$F$2&" ()'!"&B$5&$A28)} -> AGENT 10 | C28: {=IF(C27="",INDIRECT("'"&$F$2&" ()'!"&C$5&$A28),C27)} -> 0 | D28: {=IF(D27="",INDIRECT("'"&$F$2&" ()'!"&D$5&$A28),D27)} -> 0 | E28: {=IF(E27="",INDIRECT("'"&$F$2&" ()'!"&E$5&$A28),E27)} -> 0 | F28: {=IF(F27="",INDIRECT("'"&$F$2&" ()'!"&F$5&$A28),F27)} -> 0 | G28: {=IF(G27="",INDIRECT("'"&$F$2&" ()'!"&G$5&$A28),G27)} -> 0 | H28: {=IF(H27="",INDIRECT("'"&$F$2&" ()'!"&H$5&$A28),H27)} -> N | I28: {=IF(I27="",INDIRECT("'"&$F$2&" ()'!"&I$5&$A28),I27)} -> N | J28: {=IF(J27="",INDIRECT("'"&$F$2&" ()'!"&J$5&$A28),J27)} -> 0 | ... AG28: {=IF(AG27="",INDIRECT("'"&$F$2&" ()'!"&AG$5&$A28),AG27)} -> N
A29: =A27+1 -> 19 | B29: {=INDIRECT("'"&$F$2&" ()'!"&B$5&$A29)} -> AGENT 11 | C29: {=INDEX(ABSENCE!$B$1:$B$10000,MIN(IF((ABSENCE!$A$3:$A$10000=$B29)*(ABSENCE!$C$3:$C$10000<=C$6)*(ABSENCE!$D$3:$D$10000>=C$6),ROW(ABSENCE!$A$3:$A$10000))))&""} | D29: {=INDEX(ABSENCE!$B$1:$B$10000,MIN(IF((ABSENCE!$A$3:$A$10000=$B29)*(ABSENCE!$C$3:$C$10000<=D$6)*(ABSENCE!$D$3:$D$10000>=D$6),ROW(ABSENCE!$A$3:$A$10000))))&""} | E29: {=INDEX(ABSENCE!$B$1:$B$10000,MIN(IF((ABSENCE!$A$3:$A$10000=$B29)*(ABSENCE!$C$3:$C$10000<=E$6)*(ABSENCE!$D$3:$D$10000>=E$6),ROW(ABSENCE!$A$3:$A$10000))))&""} | F29: {=INDEX(ABSENCE!$B$1:$B$10000,MIN(IF((ABSENCE!$A$3:$A$10000=$B29)*(ABSENCE!$C$3:$C$10000<=F$6)*(ABSENCE!$D$3:$D$10000>=F$6),ROW(ABSENCE!$A$3:$A$10000))))&""} | G29: {=INDEX(ABSENCE!$B$1:$B$10000,MIN(IF((ABSENCE!$A$3:$A$10000=$B29)*(ABSENCE!$C$3:$C$10000<=G$6)*(ABSENCE!$D$3:$D$10000>=G$6),ROW(ABSENCE!$A$3:$A$10000))))&""} | H29: {=INDEX(ABSENCE!$B$1:$B$10000,MIN(IF((ABSENCE!$A$3:$A$10000=$B29)*(ABSENCE!$C$3:$C$10000<=H$6)*(ABSENCE!$D$3:$D$10000>=H$6),ROW(ABSENCE!$A$3:$A$10000))))&""} | I29: {=INDEX(ABSENCE!$B$1:$B$10000,MIN(IF((ABSENCE!$A$3:$A$10000=$B29)*(ABSENCE!$C$3:$C$10000<=I$6)*(ABSENCE!$D$3:$D$10000>=I$6),ROW(ABSENCE!$A$3:$A$10000))))&""} | J29: {=INDEX(ABSENCE!$B$1:$B$10000,MIN(IF((ABSENCE!$A$3:$A$10000=$B29)*(ABSENCE!$C$3:$C$10000<=J$6)*(ABSENCE!$D$3:$D$10000>=J$6),ROW(ABSENCE!$A$3:$A$10000))))&""} | ... AG29: {=INDEX(ABSENCE!$B$1:$B$10000,MIN(IF((ABSENCE!$A$3:$A$10000=$B29)*(ABSENCE!$C$3:$C$10000<=AG$6)*(ABSENCE!$D$3:$D$10000>=AG$6),ROW(ABSENCE!$A$3:$A$10000))))&""}
A30: =A28+1 -> 19 | B30: {=INDIRECT("'"&$F$2&" ()'!"&B$5&$A30)} -> AGENT 11 | C30: {=IF(C29="",INDIRECT("'"&$F$2&" ()'!"&C$5&$A30),C29)} -> 0 | D30: {=IF(D29="",INDIRECT("'"&$F$2&" ()'!"&D$5&$A30),D29)} -> 0 | E30: {=IF(E29="",INDIRECT("'"&$F$2&" ()'!"&E$5&$A30),E29)} -> 0 | F30: {=IF(F29="",INDIRECT("'"&$F$2&" ()'!"&F$5&$A30),F29)} -> 0 | G30: {=IF(G29="",INDIRECT("'"&$F$2&" ()'!"&G$5&$A30),G29)} -> J | H30: {=IF(H29="",INDIRECT("'"&$F$2&" ()'!"&H$5&$A30),H29)} -> J | I30: {=IF(I29="",INDIRECT("'"&$F$2&" ()'!"&I$5&$A30),I29)} -> J | J30: {=IF(J29="",INDIRECT("'"&$F$2&" ()'!"&J$5&$A30),J29)} -> 0 | ... AG30: {=IF(AG29="",INDIRECT("'"&$F$2&" ()'!"&AG$5&$A30),AG29)} -> J
A31: =A29+1 -> 20 | B31: {=INDIRECT("'"&$F$2&" ()'!"&B$5&$A31)} -> AGENT 12 | C31: {=INDEX(ABSENCE!$B$1:$B$10000,MIN(IF((ABSENCE!$A$3:$A$10000=$B31)*(ABSENCE!$C$3:$C$10000<=C$6)*(ABSENCE!$D$3:$D$10000>=C$6),ROW(ABSENCE!$A$3:$A$10000))))&""} | D31: {=INDEX(ABSENCE!$B$1:$B$10000,MIN(IF((ABSENCE!$A$3:$A$10000=$B31)*(ABSENCE!$C$3:$C$10000<=D$6)*(ABSENCE!$D$3:$D$10000>=D$6),ROW(ABSENCE!$A$3:$A$10000))))&""} | E31: {=INDEX(ABSENCE!$B$1:$B$10000,MIN(IF((ABSENCE!$A$3:$A$10000=$B31)*(ABSENCE!$C$3:$C$10000<=E$6)*(ABSENCE!$D$3:$D$10000>=E$6),ROW(ABSENCE!$A$3:$A$10000))))&""} | F31: {=INDEX(ABSENCE!$B$1:$B$10000,MIN(IF((ABSENCE!$A$3:$A$10000=$B31)*(ABSENCE!$C$3:$C$10000<=F$6)*(ABSENCE!$D$3:$D$10000>=F$6),ROW(ABSENCE!$A$3:$A$10000))))&""} | G31: {=INDEX(ABSENCE!$B$1:$B$10000,MIN(IF((ABSENCE!$A$3:$A$10000=$B31)*(ABSENCE!$C$3:$C$10000<=G$6)*(ABSENCE!$D$3:$D$10000>=G$6),ROW(ABSENCE!$A$3:$A$10000))))&""} | H31: {=INDEX(ABSENCE!$B$1:$B$10000,MIN(IF((ABSENCE!$A$3:$A$10000=$B31)*(ABSENCE!$C$3:$C$10000<=H$6)*(ABSENCE!$D$3:$D$10000>=H$6),ROW(ABSENCE!$A$3:$A$10000))))&""} | I31: {=INDEX(ABSENCE!$B$1:$B$10000,MIN(IF((ABSENCE!$A$3:$A$10000=$B31)*(ABSENCE!$C$3:$C$10000<=I$6)*(ABSENCE!$D$3:$D$10000>=I$6),ROW(ABSENCE!$A$3:$A$10000))))&""} | J31: {=INDEX(ABSENCE!$B$1:$B$10000,MIN(IF((ABSENCE!$A$3:$A$10000=$B31)*(ABSENCE!$C$3:$C$10000<=J$6)*(ABSENCE!$D$3:$D$10000>=J$6),ROW(ABSENCE!$A$3:$A$10000))))&""} | ... AG31: {=INDEX(ABSENCE!$B$1:$B$10000,MIN(IF((ABSENCE!$A$3:$A$10000=$B31)*(ABSENCE!$C$3:$C$10000<=AG$6)*(ABSENCE!$D$3:$D$10000>=AG$6),ROW(ABSENCE!$A$3:$A$10000))))&""}
A32: =A30+1 -> 20 | B32: {=INDIRECT("'"&$F$2&" ()'!"&B$5&$A32)} -> AGENT 12 | C32: {=IF(C31="",INDIRECT("'"&$F$2&" ()'!"&C$5&$A32),C31)} -> 0 | D32: {=IF(D31="",INDIRECT("'"&$F$2&" ()'!"&D$5&$A32),D31)} -> 0 | E32: {=IF(E31="",INDIRECT("'"&$F$2&" ()'!"&E$5&$A32),E31)} -> J | F32: {=IF(F31="",INDIRECT("'"&$F$2&" ()'!"&F$5&$A32),F31)} -> J | G32: {=IF(G31="",INDIRECT("'"&$F$2&" ()'!"&G$5&$A32),G31)} -> J | H32: {=IF(H31="",INDIRECT("'"&$F$2&" ()'!"&H$5&$A32),H31)} -> 0 | I32: {=IF(I31="",INDIRECT("'"&$F$2&" ()'!"&I$5&$A32),I31)} -> 0 | J32: {=IF(J31="",INDIRECT("'"&$F$2&" ()'!"&J$5&$A32),J31)} -> 0 | ... AG32: {=IF(AG31="",INDIRECT("'"&$F$2&" ()'!"&AG$5&$A32),AG31)} -> 0
A33: =A31+1 -> 21 | B33: {=INDIRECT("'"&$F$2&" ()'!"&B$5&$A33)} -> AGENT 13 | C33: {=INDEX(ABSENCE!$B$1:$B$10000,MIN(IF((ABSENCE!$A$3:$A$10000=$B33)*(ABSENCE!$C$3:$C$10000<=C$6)*(ABSENCE!$D$3:$D$10000>=C$6),ROW(ABSENCE!$A$3:$A$10000))))&""} | D33: {=INDEX(ABSENCE!$B$1:$B$10000,MIN(IF((ABSENCE!$A$3:$A$10000=$B33)*(ABSENCE!$C$3:$C$10000<=D$6)*(ABSENCE!$D$3:$D$10000>=D$6),ROW(ABSENCE!$A$3:$A$10000))))&""} | E33: {=INDEX(ABSENCE!$B$1:$B$10000,MIN(IF((ABSENCE!$A$3:$A$10000=$B33)*(ABSENCE!$C$3:$C$10000<=E$6)*(ABSENCE!$D$3:$D$10000>=E$6),ROW(ABSENCE!$A$3:$A$10000))))&""} | F33: {=INDEX(ABSENCE!$B$1:$B$10000,MIN(IF((ABSENCE!$A$3:$A$10000=$B33)*(ABSENCE!$C$3:$C$10000<=F$6)*(ABSENCE!$D$3:$D$10000>=F$6),ROW(ABSENCE!$A$3:$A$10000))))&""} | G33: {=INDEX(ABSENCE!$B$1:$B$10000,MIN(IF((ABSENCE!$A$3:$A$10000=$B33)*(ABSENCE!$C$3:$C$10000<=G$6)*(ABSENCE!$D$3:$D$10000>=G$6),ROW(ABSENCE!$A$3:$A$10000))))&""} | H33: {=INDEX(ABSENCE!$B$1:$B$10000,MIN(IF((ABSENCE!$A$3:$A$10000=$B33)*(ABSENCE!$C$3:$C$10000<=H$6)*(ABSENCE!$D$3:$D$10000>=H$6),ROW(ABSENCE!$A$3:$A$10000))))&""} | I33: {=INDEX(ABSENCE!$B$1:$B$10000,MIN(IF((ABSENCE!$A$3:$A$10000=$B33)*(ABSENCE!$C$3:$C$10000<=I$6)*(ABSENCE!$D$3:$D$10000>=I$6),ROW(ABSENCE!$A$3:$A$10000))))&""} | J33: {=INDEX(ABSENCE!$B$1:$B$10000,MIN(IF((ABSENCE!$A$3:$A$10000=$B33)*(ABSENCE!$C$3:$C$10000<=J$6)*(ABSENCE!$D$3:$D$10000>=J$6),ROW(ABSENCE!$A$3:$A$10000))))&""} | ... AG33: {=INDEX(ABSENCE!$B$1:$B$10000,MIN(IF((ABSENCE!$A$3:$A$10000=$B33)*(ABSENCE!$C$3:$C$10000<=AG$6)*(ABSENCE!$D$3:$D$10000>=AG$6),ROW(ABSENCE!$A$3:$A$10000))))&""}
A34: =A32+1 -> 21 | B34: {=INDIRECT("'"&$F$2&" ()'!"&B$5&$A34)} -> AGENT 13 | C34: {=IF(C33="",INDIRECT("'"&$F$2&" ()'!"&C$5&$A34),C33)} -> 0 | D34: {=IF(D33="",INDIRECT("'"&$F$2&" ()'!"&D$5&$A34),D33)} -> 0 | E34: {=IF(E33="",INDIRECT("'"&$F$2&" ()'!"&E$5&$A34),E33)} -> J | F34: {=IF(F33="",INDIRECT("'"&$F$2&" ()'!"&F$5&$A34),F33)} -> J | G34: {=IF(G33="",INDIRECT("'"&$F$2&" ()'!"&G$5&$A34),G33)} -> 0 | H34: {=IF(H33="",INDIRECT("'"&$F$2&" ()'!"&H$5&$A34),H33)} -> 0 | I34: {=IF(I33="",INDIRECT("'"&$F$2&" ()'!"&I$5&$A34),I33)} -> 0 | J34: {=IF(J33="",INDIRECT("'"&$F$2&" ()'!"&J$5&$A34),J33)} -> 0 | ... AG34: {=IF(AG33="",INDIRECT("'"&$F$2&" ()'!"&AG$5&$A34),AG33)} -> 0
A35: =A33+1 -> 22 | B35: {=INDIRECT("'"&$F$2&" ()'!"&B$5&$A35)} -> AGENT 14 | C35: {=INDEX(ABSENCE!$B$1:$B$10000,MIN(IF((ABSENCE!$A$3:$A$10000=$B35)*(ABSENCE!$C$3:$C$10000<=C$6)*(ABSENCE!$D$3:$D$10000>=C$6),ROW(ABSENCE!$A$3:$A$10000))))&""} | D35: {=INDEX(ABSENCE!$B$1:$B$10000,MIN(IF((ABSENCE!$A$3:$A$10000=$B35)*(ABSENCE!$C$3:$C$10000<=D$6)*(ABSENCE!$D$3:$D$10000>=D$6),ROW(ABSENCE!$A$3:$A$10000))))&""} | E35: {=INDEX(ABSENCE!$B$1:$B$10000,MIN(IF((ABSENCE!$A$3:$A$10000=$B35)*(ABSENCE!$C$3:$C$10000<=E$6)*(ABSENCE!$D$3:$D$10000>=E$6),ROW(ABSENCE!$A$3:$A$10000))))&""} | F35: {=INDEX(ABSENCE!$B$1:$B$10000,MIN(IF((ABSENCE!$A$3:$A$10000=$B35)*(ABSENCE!$C$3:$C$10000<=F$6)*(ABSENCE!$D$3:$D$10000>=F$6),ROW(ABSENCE!$A$3:$A$10000))))&""} | G35: {=INDEX(ABSENCE!$B$1:$B$10000,MIN(IF((ABSENCE!$A$3:$A$10000=$B35)*(ABSENCE!$C$3:$C$10000<=G$6)*(ABSENCE!$D$3:$D$10000>=G$6),ROW(ABSENCE!$A$3:$A$10000))))&""} | H35: {=INDEX(ABSENCE!$B$1:$B$10000,MIN(IF((ABSENCE!$A$3:$A$10000=$B35)*(ABSENCE!$C$3:$C$10000<=H$6)*(ABSENCE!$D$3:$D$10000>=H$6),ROW(ABSENCE!$A$3:$A$10000))))&""} | I35: {=INDEX(ABSENCE!$B$1:$B$10000,MIN(IF((ABSENCE!$A$3:$A$10000=$B35)*(ABSENCE!$C$3:$C$10000<=I$6)*(ABSENCE!$D$3:$D$10000>=I$6),ROW(ABSENCE!$A$3:$A$10000))))&""} | J35: {=INDEX(ABSENCE!$B$1:$B$10000,MIN(IF((ABSENCE!$A$3:$A$10000=$B35)*(ABSENCE!$C$3:$C$10000<=J$6)*(ABSENCE!$D$3:$D$10000>=J$6),ROW(ABSENCE!$A$3:$A$10000))))&""} | ... AG35: {=INDEX(ABSENCE!$B$1:$B$10000,MIN(IF((ABSENCE!$A$3:$A$10000=$B35)*(ABSENCE!$C$3:$C$10000<=AG$6)*(ABSENCE!$D$3:$D$10000>=AG$6),ROW(ABSENCE!$A$3:$A$10000))))&""}
A36: =A34+1 -> 22 | B36: {=INDIRECT("'"&$F$2&" ()'!"&B$5&$A36)} -> AGENT 14 | C36: {=IF(C35="",INDIRECT("'"&$F$2&" ()'!"&C$5&$A36),C35)} -> 0 | D36: {=IF(D35="",INDIRECT("'"&$F$2&" ()'!"&D$5&$A36),D35)} -> 0 | E36: {=IF(E35="",INDIRECT("'"&$F$2&" ()'!"&E$5&$A36),E35)} -> J | F36: {=IF(F35="",INDIRECT("'"&$F$2&" ()'!"&F$5&$A36),F35)} -> J | G36: {=IF(G35="",INDIRECT("'"&$F$2&" ()'!"&G$5&$A36),G35)} -> 0 | H36: {=IF(H35="",INDIRECT("'"&$F$2&" ()'!"&H$5&$A36),H35)} -> 0 | I36: {=IF(I35="",INDIRECT("'"&$F$2&" ()'!"&I$5&$A36),I35)} -> 0 | J36: {=IF(J35="",INDIRECT("'"&$F$2&" ()'!"&J$5&$A36),J35)} -> 0 | ... AG36: {=IF(AG35="",INDIRECT("'"&$F$2&" ()'!"&AG$5&$A36),AG35)} -> 0
A37: =A35+1 -> 23 | B37: {=INDIRECT("'"&$F$2&" ()'!"&B$5&$A37)} -> AGENT 15 | C37: {=INDEX(ABSENCE!$B$1:$B$10000,MIN(IF((ABSENCE!$A$3:$A$10000=$B37)*(ABSENCE!$C$3:$C$10000<=C$6)*(ABSENCE!$D$3:$D$10000>=C$6),ROW(ABSENCE!$A$3:$A$10000))))&""} | D37: {=INDEX(ABSENCE!$B$1:$B$10000,MIN(IF((ABSENCE!$A$3:$A$10000=$B37)*(ABSENCE!$C$3:$C$10000<=D$6)*(ABSENCE!$D$3:$D$10000>=D$6),ROW(ABSENCE!$A$3:$A$10000))))&""} | E37: {=INDEX(ABSENCE!$B$1:$B$10000,MIN(IF((ABSENCE!$A$3:$A$10000=$B37)*(ABSENCE!$C$3:$C$10000<=E$6)*(ABSENCE!$D$3:$D$10000>=E$6),ROW(ABSENCE!$A$3:$A$10000))))&""} | F37: {=INDEX(ABSENCE!$B$1:$B$10000,MIN(IF((ABSENCE!$A$3:$A$10000=$B37)*(ABSENCE!$C$3:$C$10000<=F$6)*(ABSENCE!$D$3:$D$10000>=F$6),ROW(ABSENCE!$A$3:$A$10000))))&""} | G37: {=INDEX(ABSENCE!$B$1:$B$10000,MIN(IF((ABSENCE!$A$3:$A$10000=$B37)*(ABSENCE!$C$3:$C$10000<=G$6)*(ABSENCE!$D$3:$D$10000>=G$6),ROW(ABSENCE!$A$3:$A$10000))))&""} | H37: {=INDEX(ABSENCE!$B$1:$B$10000,MIN(IF((ABSENCE!$A$3:$A$10000=$B37)*(ABSENCE!$C$3:$C$10000<=H$6)*(ABSENCE!$D$3:$D$10000>=H$6),ROW(ABSENCE!$A$3:$A$10000))))&""} | I37: {=INDEX(ABSENCE!$B$1:$B$10000,MIN(IF((ABSENCE!$A$3:$A$10000=$B37)*(ABSENCE!$C$3:$C$10000<=I$6)*(ABSENCE!$D$3:$D$10000>=I$6),ROW(ABSENCE!$A$3:$A$10000))))&""} | J37: {=INDEX(ABSENCE!$B$1:$B$10000,MIN(IF((ABSENCE!$A$3:$A$10000=$B37)*(ABSENCE!$C$3:$C$10000<=J$6)*(ABSENCE!$D$3:$D$10000>=J$6),ROW(ABSENCE!$A$3:$A$10000))))&""} | ... AG37: {=INDEX(ABSENCE!$B$1:$B$10000,MIN(IF((ABSENCE!$A$3:$A$10000=$B37)*(ABSENCE!$C$3:$C$10000<=AG$6)*(ABSENCE!$D$3:$D$10000>=AG$6),ROW(ABSENCE!$A$3:$A$10000))))&""}
A38: =A36+1 -> 23 | B38: {=INDIRECT("'"&$F$2&" ()'!"&B$5&$A38)} -> AGENT 15 | C38: {=IF(C37="",INDIRECT("'"&$F$2&" ()'!"&C$5&$A38),C37)} -> 0 | D38: {=IF(D37="",INDIRECT("'"&$F$2&" ()'!"&D$5&$A38),D37)} -> 0 | E38: {=IF(E37="",INDIRECT("'"&$F$2&" ()'!"&E$5&$A38),E37)} -> 0 | F38: {=IF(F37="",INDIRECT("'"&$F$2&" ()'!"&F$5&$A38),F37)} -> 0 | G38: {=IF(G37="",INDIRECT("'"&$F$2&" ()'!"&G$5&$A38),G37)} -> 0 | H38: {=IF(H37="",INDIRECT("'"&$F$2&" ()'!"&H$5&$A38),H37)} -> 0 | I38: {=IF(I37="",INDIRECT("'"&$F$2&" ()'!"&I$5&$A38),I37)} -> 0 | J38: {=IF(J37="",INDIRECT("'"&$F$2&" ()'!"&J$5&$A38),J37)} -> 0 | ... AG38: {=IF(AG37="",INDIRECT("'"&$F$2&" ()'!"&AG$5&$A38),AG37)} -> 0
A39: =A37+1 -> 24 | B39: {=INDIRECT("'"&$F$2&" ()'!"&B$5&$A39)} -> AGENT 16 | C39: {=INDEX(ABSENCE!$B$1:$B$10000,MIN(IF((ABSENCE!$A$3:$A$10000=$B39)*(ABSENCE!$C$3:$C$10000<=C$6)*(ABSENCE!$D$3:$D$10000>=C$6),ROW(ABSENCE!$A$3:$A$10000))))&""} | D39: {=INDEX(ABSENCE!$B$1:$B$10000,MIN(IF((ABSENCE!$A$3:$A$10000=$B39)*(ABSENCE!$C$3:$C$10000<=D$6)*(ABSENCE!$D$3:$D$10000>=D$6),ROW(ABSENCE!$A$3:$A$10000))))&""} | E39: {=INDEX(ABSENCE!$B$1:$B$10000,MIN(IF((ABSENCE!$A$3:$A$10000=$B39)*(ABSENCE!$C$3:$C$10000<=E$6)*(ABSENCE!$D$3:$D$10000>=E$6),ROW(ABSENCE!$A$3:$A$10000))))&""} | F39: {=INDEX(ABSENCE!$B$1:$B$10000,MIN(IF((ABSENCE!$A$3:$A$10000=$B39)*(ABSENCE!$C$3:$C$10000<=F$6)*(ABSENCE!$D$3:$D$10000>=F$6),ROW(ABSENCE!$A$3:$A$10000))))&""} | G39: {=INDEX(ABSENCE!$B$1:$B$10000,MIN(IF((ABSENCE!$A$3:$A$10000=$B39)*(ABSENCE!$C$3:$C$10000<=G$6)*(ABSENCE!$D$3:$D$10000>=G$6),ROW(ABSENCE!$A$3:$A$10000))))&""} | H39: {=INDEX(ABSENCE!$B$1:$B$10000,MIN(IF((ABSENCE!$A$3:$A$10000=$B39)*(ABSENCE!$C$3:$C$10000<=H$6)*(ABSENCE!$D$3:$D$10000>=H$6),ROW(ABSENCE!$A$3:$A$10000))))&""} | I39: {=INDEX(ABSENCE!$B$1:$B$10000,MIN(IF((ABSENCE!$A$3:$A$10000=$B39)*(ABSENCE!$C$3:$C$10000<=I$6)*(ABSENCE!$D$3:$D$10000>=I$6),ROW(ABSENCE!$A$3:$A$10000))))&""} | J39: {=INDEX(ABSENCE!$B$1:$B$10000,MIN(IF((ABSENCE!$A$3:$A$10000=$B39)*(ABSENCE!$C$3:$C$10000<=J$6)*(ABSENCE!$D$3:$D$10000>=J$6),ROW(ABSENCE!$A$3:$A$10000))))&""} | ... AG39: {=INDEX(ABSENCE!$B$1:$B$10000,MIN(IF((ABSENCE!$A$3:$A$10000=$B39)*(ABSENCE!$C$3:$C$10000<=AG$6)*(ABSENCE!$D$3:$D$10000>=AG$6),ROW(ABSENCE!$A$3:$A$10000))))&""}
A40: =A38+1 -> 24 | B40: {=INDIRECT("'"&$F$2&" ()'!"&B$5&$A40)} -> AGENT 16 | C40: {=IF(C39="",INDIRECT("'"&$F$2&" ()'!"&C$5&$A40),C39)} -> 0 | D40: {=IF(D39="",INDIRECT("'"&$F$2&" ()'!"&D$5&$A40),D39)} -> EPI | E40: {=IF(E39="",INDIRECT("'"&$F$2&" ()'!"&E$5&$A40),E39)} -> 0 | F40: {=IF(F39="",INDIRECT("'"&$F$2&" ()'!"&F$5&$A40),F39)} -> 0 | G40: {=IF(G39="",INDIRECT("'"&$F$2&" ()'!"&G$5&$A40),G39)} -> J | H40: {=IF(H39="",INDIRECT("'"&$F$2&" ()'!"&H$5&$A40),H39)} -> J | I40: {=IF(I39="",INDIRECT("'"&$F$2&" ()'!"&I$5&$A40),I39)} -> J | J40: {=IF(J39="",INDIRECT("'"&$F$2&" ()'!"&J$5&$A40),J39)} -> 0 | ... AG40: {=IF(AG39="",INDIRECT("'"&$F$2&" ()'!"&AG$5&$A40),AG39)} -> 0
A41: =A39+1 -> 25 | B41: {=INDIRECT("'"&$F$2&" ()'!"&B$5&$A41)} -> AGENT 17 | C41: {=INDEX(ABSENCE!$B$1:$B$10000,MIN(IF((ABSENCE!$A$3:$A$10000=$B41)*(ABSENCE!$C$3:$C$10000<=C$6)*(ABSENCE!$D$3:$D$10000>=C$6),ROW(ABSENCE!$A$3:$A$10000))))&""} | D41: {=INDEX(ABSENCE!$B$1:$B$10000,MIN(IF((ABSENCE!$A$3:$A$10000=$B41)*(ABSENCE!$C$3:$C$10000<=D$6)*(ABSENCE!$D$3:$D$10000>=D$6),ROW(ABSENCE!$A$3:$A$10000))))&""} | E41: {=INDEX(ABSENCE!$B$1:$B$10000,MIN(IF((ABSENCE!$A$3:$A$10000=$B41)*(ABSENCE!$C$3:$C$10000<=E$6)*(ABSENCE!$D$3:$D$10000>=E$6),ROW(ABSENCE!$A$3:$A$10000))))&""} | F41: {=INDEX(ABSENCE!$B$1:$B$10000,MIN(IF((ABSENCE!$A$3:$A$10000=$B41)*(ABSENCE!$C$3:$C$10000<=F$6)*(ABSENCE!$D$3:$D$10000>=F$6),ROW(ABSENCE!$A$3:$A$10000))))&""} | G41: {=INDEX(ABSENCE!$B$1:$B$10000,MIN(IF((ABSENCE!$A$3:$A$10000=$B41)*(ABSENCE!$C$3:$C$10000<=G$6)*(ABSENCE!$D$3:$D$10000>=G$6),ROW(ABSENCE!$A$3:$A$10000))))&""} | H41: {=INDEX(ABSENCE!$B$1:$B$10000,MIN(IF((ABSENCE!$A$3:$A$10000=$B41)*(ABSENCE!$C$3:$C$10000<=H$6)*(ABSENCE!$D$3:$D$10000>=H$6),ROW(ABSENCE!$A$3:$A$10000))))&""} | I41: {=INDEX(ABSENCE!$B$1:$B$10000,MIN(IF((ABSENCE!$A$3:$A$10000=$B41)*(ABSENCE!$C$3:$C$10000<=I$6)*(ABSENCE!$D$3:$D$10000>=I$6),ROW(ABSENCE!$A$3:$A$10000))))&""} | J41: {=INDEX(ABSENCE!$B$1:$B$10000,MIN(IF((ABSENCE!$A$3:$A$10000=$B41)*(ABSENCE!$C$3:$C$10000<=J$6)*(ABSENCE!$D$3:$D$10000>=J$6),ROW(ABSENCE!$A$3:$A$10000))))&""} | ... AG41: {=INDEX(ABSENCE!$B$1:$B$10000,MIN(IF((ABSENCE!$A$3:$A$10000=$B41)*(ABSENCE!$C$3:$C$10000<=AG$6)*(ABSENCE!$D$3:$D$10000>=AG$6),ROW(ABSENCE!$A$3:$A$10000))))&""}
A42: =A40+1 -> 25 | B42: {=INDIRECT("'"&$F$2&" ()'!"&B$5&$A42)} -> AGENT 17 | C42: {=IF(C41="",INDIRECT("'"&$F$2&" ()'!"&C$5&$A42),C41)} -> 0 | D42: {=IF(D41="",INDIRECT("'"&$F$2&" ()'!"&D$5&$A42),D41)} -> 0 | E42: {=IF(E41="",INDIRECT("'"&$F$2&" ()'!"&E$5&$A42),E41)} -> 0 | F42: {=IF(F41="",INDIRECT("'"&$F$2&" ()'!"&F$5&$A42),F41)} -> 0 | G42: {=IF(G41="",INDIRECT("'"&$F$2&" ()'!"&G$5&$A42),G41)} -> J | H42: {=IF(H41="",INDIRECT("'"&$F$2&" ()'!"&H$5&$A42),H41)} -> J | I42: {=IF(I41="",INDIRECT("'"&$F$2&" ()'!"&I$5&$A42),I41)} -> J | J42: {=IF(J41="",INDIRECT("'"&$F$2&" ()'!"&J$5&$A42),J41)} -> 0 | ... AG42: {=IF(AG41="",INDIRECT("'"&$F$2&" ()'!"&AG$5&$A42),AG41)} -> 0
...
