Workbook
Name AGENTS: absence!$E$16:$E$31
Name AGENTS: '[2]recape membre equipe'!$A$4:$A$32
Name ANNEE: [1]tramemodifier!$D$21
Name jour_ferier: [3]LISTE!$E$2:$E$386

Sheet absence
E1: MOIS | I1: SI(ET(B4="CP";C4<=visuequipeparagents!B265;D4>=visuequipeparagents!B265);"CP";"") | U1: =IF(AND(H5="CP",F5<=[1]visuequipeparagents!B265,G5>=[1]visuequipeparagents!B265),H5,"") -> cp
E2: ANNEE | F2: =ANNEE -> 2021
E3: AGENTS | F3: agents 1 | I3: agents 2 | L3: agents 3 | O3: agents 4 | R3: agents 5 | U3: agents 6 | X3: agents 7 | AA3: agents 8 | AD3: agents 9 | AG3: agents 10 | AJ3: agents 11 | AM3: agents 12 | AP3: agents 13 | AS3: agents 14 | AV3: agents 15 | AY3: agents 16 | BB3: agents 17 | BE3: agents 18 | BH3: agents 19 | BK3: agents 20 | BN3: agents 21 | BQ3: agents 22 | BT3: agents 23 | BW3: agents 24 | BZ3: agents 25 | CC3: agents 26 | CF3: agents 27 | CI3: agents 28
F4: Debut | G4: Fin | H4: Motif | I4: Debut | J4: Fin | K4: Motif | L4: Debut | M4: Fin | N4: Motif | O4: Debut | P4: Fin | Q4: Motif | R4: Debut | S4: Fin | T4: Motif | U4: Debut | V4: Fin | W4: Motif | X4: Debut | Y4: Fin | Z4: Motif | AA4: Debut | AB4: Fin | AC4: Motif | AD4: Debut | AE4: Fin | AF4: Motif | AG4: Debut | AH4: Fin | AI4: Motif | AJ4: Debut | AK4: Fin | AL4: Motif | AM4: Debut | AN4: Fin | AO4: Motif | AP4: Debut | AQ4: Fin | AR4: Motif | AS4: Debut | AT4: Fin | AU4: Motif | AV4: Debut | AW4: Fin | AX4: Motif | AY4: Debut | AZ4: Fin | BA4: Motif | BB4: Debut | BC4: Fin | BD4: Motif | BE4: Debut | BF4: Fin | BG4: Motif | BH4: Debut | BI4: Fin | BJ4: Motif | BK4: Debut | BL4: Fin | BM4: Motif | BN4: Debut | BO4: Fin | BP4: Motif | BQ4: Debut | BR4: Fin | BS4: Motif | BT4: Debut | BU4: Fin | BV4: Motif | BW4: Debut | BX4: Fin | BY4: Motif | BZ4: Debut | CA4: Fin | CB4: Motif | CC4: Debut | CD4: Fin | CE4: Motif | CF4: Debut | CG4: Fin | CH4: Motif | CI4: Debut | CJ4: Fin
E5: DATE | F5: 44200 | G5: 44431 | H5: cp
E6: DATE | F6: 44197 | G6: 44206 | H6: cp
E7: DATE | F7: 44277 | G7: 44282 | H7: absence
E8: DATE | F8: 44320 | G8: 44355 | H8: AT
E9: DATE
E10: DATE

Sheet planning
B5: essai formule 1 | C5: essai formule 2 | D5: essai formule 3
A6: 44197 | B6: =IF(AND(absence!$H$5="CP",absence!$F$5<=A6,absence!$G$5>=A6),absence!$H$5,"") | C6: =IF(AND(absence!$H$5:$H$473="CP",absence!$F$5:$F$473<=A6,absence!$G$5:$G$473>=A6),absence!$H$5:$H$473,"") -> cp
A7: =A6+1 -> 44198 | B7: =IF(AND(absence!$H$5="CP",absence!$F$5<=A7,absence!$G$5>=A7),absence!$H$5,"") | C7: =IF(AND(absence!$H$5:$H$473="CP",absence!$F$5:$F$473<=A7,absence!$G$5:$G$473>=A7),"CP","")
A8: =A7+1 -> 44199 | B8: =IF(AND(absence!$H$5="CP",absence!$F$5<=A8,absence!$G$5>=A8),absence!$H$5,"") | C8: =IF(AND(absence!$H$5:$H$473="CP",absence!$F$5:$F$473<=A8,absence!$G$5:$G$473>=A8),"CP","")
A9: =A8+1 -> 44200 | B9: =IF(AND(absence!$H$5="CP",absence!$F$5<=A9,absence!$G$5>=A9),absence!$H$5,"") -> cp | C9: =IF(AND(absence!$H$5:$H$473="CP",absence!$F$5:$F$473<=A9,absence!$G$5:$G$473>=A9),"CP","")
A10: =A9+1 -> 44201 | B10: =IF(AND(absence!$H$5="CP",absence!$F$5<=A10,absence!$G$5>=A10),absence!$H$5,"") -> cp | C10: =IF(AND(absence!$H$5:$H$473="CP",absence!$F$5:$F$473<=A10,absence!$G$5:$G$473>=A10),"CP","")
A11: =A10+1 -> 44202 | B11: =IF(AND(absence!$H$5="CP",absence!$F$5<=A11,absence!$G$5>=A11),absence!$H$5,"") -> cp | C11: =IF(AND(absence!$H$5:$H$473="CP",absence!$F$5:$F$473<=A11,absence!$G$5:$G$473>=A11),"CP","")
A12: =A11+1 -> 44203 | B12: =IF(AND(absence!$H$5="CP",absence!$F$5<=A12,absence!$G$5>=A12),absence!$H$5,"") -> cp | C12: =IF(AND(absence!$H$5:$H$473="CP",absence!$F$5:$F$473<=A12,absence!$G$5:$G$473>=A12),"CP","")
A13: =A12+1 -> 44204 | B13: =IF(AND(absence!$H$5="CP",absence!$F$5<=A13,absence!$G$5>=A13),absence!$H$5,"") -> cp | C13: =IF(AND(absence!$H$5:$H$473="CP",absence!$F$5:$F$473<=A13,absence!$G$5:$G$473>=A13),"CP","")
A14: =A13+1 -> 44205 | B14: =IF(AND(absence!$H$5="CP",absence!$F$5<=A14,absence!$G$5>=A14),absence!$H$5,"") -> cp | C14: =IF(AND(absence!$H$5:$H$473="CP",absence!$F$5:$F$473<=A14,absence!$G$5:$G$473>=A14),"CP","")
A15: =A14+1 -> 44206 | B15: =IF(AND(absence!$H$5="CP",absence!$F$5<=A15,absence!$G$5>=A15),absence!$H$5,"") -> cp | C15: =IF(AND(absence!$H$5:$H$473="CP",absence!$F$5:$F$473<=A15,absence!$G$5:$G$473>=A15),"CP","")
A16: =A15+1 -> 44207 | B16: =IF(AND(absence!$H$5="CP",absence!$F$5<=A16,absence!$G$5>=A16),absence!$H$5,"") -> cp | C16: =IF(AND(absence!$H$5:$H$473="CP",absence!$F$5:$F$473<=A16,absence!$G$5:$G$473>=A16),"CP","")
A17: =A16+1 -> 44208 | B17: =IF(AND(absence!$H$5="CP",absence!$F$5<=A17,absence!$G$5>=A17),absence!$H$5,"") -> cp | C17: =IF(AND(absence!$H$5:$H$473="CP",absence!$F$5:$F$473<=A17,absence!$G$5:$G$473>=A17),"CP","")
A18: =A17+1 -> 44209 | B18: =IF(AND(absence!$H$5="CP",absence!$F$5<=A18,absence!$G$5>=A18),absence!$H$5,"") -> cp | C18: =IF(AND(absence!$H$5:$H$473="CP",absence!$F$5:$F$473<=A18,absence!$G$5:$G$473>=A18),"CP","")
... A474: =A473+1 -> 44665 | B474: =IF(AND(absence!$H$5="CP",absence!$F$5<=A474,absence!$G$5>=A474),absence!$H$5,"") | C474: =IF(AND(absence!$H$5:$H$473="CP",absence!$F$5:$F$473<=A474,absence!$G$5:$G$473>=A474),"CP","") -> #VALUE!
