Workbook

Sheet Feuil1
A2: 72/48_MD_0,40
A3: TYPE OUVRAGE | B3: UNITE | C3: LIBELLE
A4: =IF(Feuil2!A4="","",Feuil2!A4) -> BA 13 | B4: =IF(Feuil2!B4="","",Feuil2!B4) -> m² | C4: =HLOOKUP($A$2,Feuil2!$C$2:$F$14,3,0) -> 2
A5: =IF(Feuil2!A7="","",Feuil2!A7) -> Rails R 36 | B5: =IF(Feuil2!B7="","",Feuil2!B7) -> ml | C5: =HLOOKUP($A$2,Feuil2!$C$2:$F$14,4,0) -> 1.5
A6: =IF(Feuil2!A8="","",Feuil2!A8) -> Montants M 36 | B6: =IF(Feuil2!B8="","",Feuil2!B8) -> ml | C6: =HLOOKUP($A$2,Feuil2!$C$2:$F$14,5,0) -> 0
A7: =IF(Feuil2!A11="","",Feuil2!A11) -> Vis | B7: =IF(Feuil2!B11="","",Feuil2!B11) -> un | C7: =HLOOKUP($A$2,Feuil2!$C$2:$F$14,6,0) -> 6
A8: =IF(Feuil2!A12="","",Feuil2!A12) -> Bandes | B8: =IF(Feuil2!B12="","",Feuil2!B12) -> ml | C8: =HLOOKUP($A$2,Feuil2!$C$2:$F$14,7,0) -> 10
A9: =IF(Feuil2!A13="","",Feuil2!A13) -> Enduit | B9: =IF(Feuil2!B13="","",Feuil2!B13) -> kg | C9: =HLOOKUP($A$2,Feuil2!$C$2:$F$14,8,0) -> 0
A10: =IF(Feuil2!A14="","",Feuil2!A14) -> Panolène 45 mm | B10: =IF(Feuil2!B14="","",Feuil2!B14) -> m² | C10: =HLOOKUP($A$2,Feuil2!$C$2:$F$14,9,0) -> 1

Sheet Feuil2
C2: 72/48_MS_0,40 | D2: 72/48_MD_0,40 | E2: 98/48_MS_0,60 | F2: 72/48_MD_0,60
A3: TYPE OUVRAGE | B3: UNITE | C3: LIBELLE | D3: LIBELLE | E3: LIBELLE | F3: LIBELLE
A4: BA 13 | B4: m² | C4: 1 | D4: 2 | F4: 4
A5: BA18 | B5: m² | D5: 1.5 | E5: 3 | F5: 2.5
A6: BA25 | B6: m² | C6: 1.1 | F6: 3
A7: Rails R 36 | B7: ml | C7: 5 | D7: 6
A8: Montants M 36 | B8: ml | D8: 10 | E8: 11 | F8: 12
A9: Rails R 48 | B9: ml | C9: 3 | E9: 2
A10: Montants M 48 | B10: ml | D10: 1 | F10: 1
A11: Vis | B11: un | C11: 13 | D11: 14 | E11: 15 | F11: 16
A12: Bandes | B12: ml | C12: 17 | D12: 18 | E12: 19 | F12: 20
A13: Enduit | B13: kg | C13: 21 | D13: 22 | E13: 23 | F13: 24
A14: Panolène 45 mm | B14: m² | C14: 25 | D14: 26 | E14: 27 | F14: 28
