Workbook
Name _Date_Debut_SI: 'SEMAINE IMPAIRE'!$D$1
Name _Date_Debut_SP: 'SEMAINE PAIRE'!$D$1
Name _Date_Fin_SI: 'SEMAINE IMPAIRE'!$F$1
Name _Date_Fin_SP: 'SEMAINE PAIRE'!$F$1

Sheet Planning MAICHE calcul
B1: LUNDI | L1: MARDI | V1: MERCREDI | AF1: JEUDI | AP1: VENDREDI | AZ1: TOTAL SEMAINE | BA1: TEMPS THEO W | BB1: Vérif temps W | BC1: TPS SERVICE | BD1: TPS SERVICE sur 2 semaines - cui et ext | BE1: TPS SERVICE sur 2 semaines avec cui et ext | BF1: Nb cui ou ext | BG1: ETP
A2: SEMAINE PAIRE | B2: ouverture | C2: MATIN | E2: Cuisine | F2: Service 1 | G2: Service 2 | H2: Repas Ext | I2: A-MIDI | K2: Fermeture | L2: ouverture | M2: MATIN | O2: Cuisine | P2: Service 1 | Q2: Service 2 | R2: Repas Ext | S2: A-MIDI | U2: Fermeture | V2: ouverture | W2: MATIN | Y2: Cuisine | Z2: Service 1 | AA2: Service 2 | AB2: Repas Ext | AC2: A-MIDI | AE2: Fermeture | AF2: ouverture | AG2: MATIN | AI2: Cuisine | AJ2: Service 1 | AK2: Service 2 | AL2: Repas Ext | AM2: A-MIDI | AO2: Fermeture | AP2: ouverture | AQ2: MATIN | AS2: Cuisine | AT2: Service 1 | AU2: Service 2 | AV2: Repas Ext | AW2: A-MIDI | AY2: Fermeture
C3: Début | D3: Fin | I3: Début | J3: Fin | M3: Début | N3: Fin | S3: Début | T3: Fin | W3: Début | X3: Fin | AC3: Début | AD3: Fin | AG3: Début | AH3: Fin | AM3: Début | AN3: Fin | AQ3: Début | AR3: Fin | AW3: Début | AX3: Fin
A4: Infirmière | B4: {=IF(AND(INDEX('SEMAINE PAIRE'!$B$15:$F$27,MATCH('Planning MAICHE calcul'!B$2,'SEMAINE PAIRE'!$A$15:$A$27,0),MATCH(OFFSET('Planning MAICHE calcul'!B$1,0,-COLUMN()+2),'SEMAINE PAIRE'!$B$13,0))=$A4,INDEX('SEMAINE PAIRE'!$B$15:$F$27,MATCH('Planning MAICHE calcul'!B$2,'SEMAINE PAIRE'!$A$15:$A$27,0)+1,MATCH(OFFSET('Planning MAICHE calcul'!B$1,0,-COLUMN()+2),'SEMAINE PAIRE'!$B$13,0))=""), "ouv","")} -> ouv | C4: 0.35416667 | D4: 0.47916667 | E4: {=IF(AND(INDEX('SEMAINE PAIRE'!$B$15:$F$27,MATCH('Planning MAICHE calcul'!E$2,'SEMAINE PAIRE'!$A$15:$A$27,0),MATCH(OFFSET('Planning MAICHE calcul'!E$1,0,-COLUMN()+2),'SEMAINE PAIRE'!$B$13,0))=$A4,INDEX('SEMAINE PAIRE'!$B$15:$F$27,MATCH('Planning MAICHE calcul'!E$2,'SEMAINE PAIRE'!$A$15:$A$27,0)+1,MATCH(OFFSET('Planning MAICHE calcul'!E$1,0,-COLUMN()+2),'SEMAINE PAIRE'!$B$13,0))=""), "Cui","")} | F4: {=IF(AND(INDEX('SEMAINE PAIRE'!$B$15:$F$27,MATCH('Planning MAICHE calcul'!F$2,'SEMAINE PAIRE'!$A$15:$A$27,0),MATCH(OFFSET('Planning MAICHE calcul'!F$1,0,-COLUMN()+2),'SEMAINE PAIRE'!$B$13,0))=$A4,INDEX('SEMAINE PAIRE'!$B$15:$F$27,MATCH('Planning MAICHE calcul'!F$2,'SEMAINE PAIRE'!$A$15:$A$27,0)+1,MATCH(OFFSET('Planning MAICHE calcul'!F$1,0,-COLUMN()+2),'SEMAINE PAIRE'!$B$13,0))=""), "S1","")} | G4: {=IF(AND(INDEX('SEMAINE PAIRE'!$B$15:$F$27,MATCH('Planning MAICHE calcul'!G$2,'SEMAINE PAIRE'!$A$15:$A$27,0),MATCH(OFFSET('Planning MAICHE calcul'!G$1,0,-COLUMN()+2),'SEMAINE PAIRE'!$B$13,0))=$A4,INDEX('SEMAINE PAIRE'!$B$15:$F$27,MATCH('Planning MAICHE calcul'!G$2,'SEMAINE PAIRE'!$A$15:$A$27,0)+1,MATCH(OFFSET('Planning MAICHE calcul'!G$1,0,-COLUMN()+2),'SEMAINE PAIRE'!$B$13,0))=""), "S2","")} | H4: {=IF(AND(INDEX('SEMAINE PAIRE'!$B$15:$F$27,MATCH('Planning MAICHE calcul'!H$2,'SEMAINE PAIRE'!$A$15:$A$27,0),MATCH(OFFSET('Planning MAICHE calcul'!H$1,0,-COLUMN()+2),'SEMAINE PAIRE'!$B$13,0))=$A4,INDEX('SEMAINE PAIRE'!$B$15:$F$27,MATCH('Planning MAICHE calcul'!H$2,'SEMAINE PAIRE'!$A$15:$A$27,0)+1,MATCH(OFFSET('Planning MAICHE calcul'!H$1,0,-COLUMN()+2),'SEMAINE PAIRE'!$B$13,0))=""), "R.Ext","")} | I4: 0.52083333 | J4: 0.6875 | K4: {=IF(AND(INDEX('SEMAINE PAIRE'!$B$15:$F$27,MATCH('Planning MAICHE calcul'!K$2,'SEMAINE PAIRE'!$A$15:$A$27,0),MATCH(OFFSET('Planning MAICHE calcul'!K$1,0,-COLUMN()+2),'SEMAINE PAIRE'!$B$13,0))=$A4,INDEX('SEMAINE PAIRE'!$B$15:$F$27,MATCH('Planning MAICHE calcul'!K$2,'SEMAINE PAIRE'!$A$15:$A$27,0)+1,MATCH(OFFSET('Planning MAICHE calcul'!K$1,0,-COLUMN()+2),'SEMAINE PAIRE'!$B$13,0))=""), "Fer","")} | L4: {=IF(AND(INDEX('SEMAINE PAIRE'!$B$15:$F$27,MATCH('Planning MAICHE calcul'!L$2,'SEMAINE PAIRE'!$A$15:$A$27,0),MATCH(OFFSET('Planning MAICHE calcul'!L$1,0,-COLUMN()+2),'SEMAINE PAIRE'!$B$13,0))=$A4,INDEX('SEMAINE PAIRE'!$B$15:$F$27,MATCH('Planning MAICHE calcul'!L$2,'SEMAINE PAIRE'!$A$15:$A$27,0)+1,MATCH(OFFSET('Planning MAICHE calcul'!L$1,0,-COLUMN()+2),'SEMAINE PAIRE'!$B$13,0))=""), "ouv","")} -> ouv | M4: 0.35416667 | N4: 0.47916667 | O4: {=IF(AND(INDEX('SEMAINE PAIRE'!$B$15:$F$27,MATCH('Planning MAICHE calcul'!O$2,'SEMAINE PAIRE'!$A$15:$A$27,0),MATCH(OFFSET('Planning MAICHE calcul'!O$1,0,-COLUMN()+2),'SEMAINE PAIRE'!$B$13,0))=$A4,INDEX('SEMAINE PAIRE'!$B$15:$F$27,MATCH('Planning MAICHE calcul'!O$2,'SEMAINE PAIRE'!$A$15:$A$27,0)+1,MATCH(OFFSET('Planning MAICHE calcul'!O$1,0,-COLUMN()+2),'SEMAINE PAIRE'!$B$13,0))=""), "Cui","")} | P4: {=IF(AND(INDEX('SEMAINE PAIRE'!$B$15:$F$27,MATCH('Planning MAICHE calcul'!P$2,'SEMAINE PAIRE'!$A$15:$A$27,0),MATCH(OFFSET('Planning MAICHE calcul'!P$1,0,-COLUMN()+2),'SEMAINE PAIRE'!$B$13,0))=$A4,INDEX('SEMAINE PAIRE'!$B$15:$F$27,MATCH('Planning MAICHE calcul'!P$2,'SEMAINE PAIRE'!$A$15:$A$27,0)+1,MATCH(OFFSET('Planning MAICHE calcul'!P$1,0,-COLUMN()+2),'SEMAINE PAIRE'!$B$13,0))=""), "S1","")} | Q4: {=IF(AND(INDEX('SEMAINE PAIRE'!$B$15:$F$27,MATCH('Planning MAICHE calcul'!Q$2,'SEMAINE PAIRE'!$A$15:$A$27,0),MATCH(OFFSET('Planning MAICHE calcul'!Q$1,0,-COLUMN()+2),'SEMAINE PAIRE'!$B$13,0))=$A4,INDEX('SEMAINE PAIRE'!$B$15:$F$27,MATCH('Planning MAICHE calcul'!Q$2,'SEMAINE PAIRE'!$A$15:$A$27,0)+1,MATCH(OFFSET('Planning MAICHE calcul'!Q$1,0,-COLUMN()+2),'SEMAINE PAIRE'!$B$13,0))=""), "S2","")} | R4: {=IF(AND(INDEX('SEMAINE PAIRE'!$B$15:$F$27,MATCH('Planning MAICHE calcul'!R$2,'SEMAINE PAIRE'!$A$15:$A$27,0),MATCH(OFFSET('Planning MAICHE calcul'!R$1,0,-COLUMN()+2),'SEMAINE PAIRE'!$B$13,0))=$A4,INDEX('SEMAINE PAIRE'!$B$15:$F$27,MATCH('Planning MAICHE calcul'!R$2,'SEMAINE PAIRE'!$A$15:$A$27,0)+1,MATCH(OFFSET('Planning MAICHE calcul'!R$1,0,-COLUMN()+2),'SEMAINE PAIRE'!$B$13,0))=""), "R.Ext","")} | S4: 0.52083333 | T4: 0.6875 | V4: {=IF(AND(INDEX('SEMAINE PAIRE'!$B$15:$F$27,MATCH('Planning MAICHE calcul'!V$2,'SEMAINE PAIRE'!$A$15:$A$27,0),MATCH(OFFSET('Planning MAICHE calcul'!V$1,0,-COLUMN()+2),'SEMAINE PAIRE'!$B$13,0))=$A4,INDEX('SEMAINE PAIRE'!$B$15:$F$27,MATCH('Planning MAICHE calcul'!V$2,'SEMAINE PAIRE'!$A$15:$A$27,0)+1,MATCH(OFFSET('Planning MAICHE calcul'!V$1,0,-COLUMN()+2),'SEMAINE PAIRE'!$B$13,0))=""), "ouv","")} -> ouv | W4: 0.35416667 | X4: 0.47916667 | Y4: {=IF(AND(INDEX('SEMAINE PAIRE'!$B$15:$F$27,MATCH('Planning MAICHE calcul'!Y$2,'SEMAINE PAIRE'!$A$15:$A$27,0),MATCH(OFFSET('Planning MAICHE calcul'!Y$1,0,-COLUMN()+2),'SEMAINE PAIRE'!$B$13,0))=$A4,INDEX('SEMAINE PAIRE'!$B$15:$F$27,MATCH('Planning MAICHE calcul'!Y$2,'SEMAINE PAIRE'!$A$15:$A$27,0)+1,MATCH(OFFSET('Planning MAICHE calcul'!Y$1,0,-COLUMN()+2),'SEMAINE PAIRE'!$B$13,0))=""), "Cui","")} | AF4: {=IF(AND(INDEX('SEMAINE PAIRE'!$B$15:$F$27,MATCH('Planning MAICHE calcul'!AF$2,'SEMAINE PAIRE'!$A$15:$A$27,0),MATCH(OFFSET('Planning MAICHE calcul'!AF$1,0,-COLUMN()+2),'SEMAINE PAIRE'!$B$13,0))=$A4,INDEX('SEMAINE PAIRE'!$B$15:$F$27,MATCH('Planning MAICHE calcul'!AF$2,'SEMAINE PAIRE'!$A$15:$A$27,0)+1,MATCH(OFFSET('Planning MAICHE calcul'!AF$1,0,-COLUMN()+2),'SEMAINE PAIRE'!$B$13,0))=""), "ouv","")} -> ouv | AG4: 0.35416667 | AH4: 0.47916667 | AM4: 0.52083333 | AN4: 0.6875 | AQ4: 0.35416667 | AR4: 0.47916667 | AW4: 0.52083333 | AX4: 0.6875
A5: A I | B5: {=IF(AND(INDEX('SEMAINE PAIRE'!$B$15:$F$27,MATCH('Planning MAICHE calcul'!B$2,'SEMAINE PAIRE'!$A$15:$A$27,0),MATCH(OFFSET('Planning MAICHE calcul'!B$1,0,-COLUMN()+2),'SEMAINE PAIRE'!$B$13,0))=$A5,INDEX('SEMAINE PAIRE'!$B$15:$F$27,MATCH('Planning MAICHE calcul'!B$2,'SEMAINE PAIRE'!$A$15:$A$27,0)+1,MATCH(OFFSET('Planning MAICHE calcul'!B$1,0,-COLUMN()+2),'SEMAINE PAIRE'!$B$13,0))=""), "ouv","")} | C5: 0.35416667 | D5: 0.47916667 | E5: {=IF(AND(INDEX('SEMAINE PAIRE'!$B$15:$F$27,MATCH('Planning MAICHE calcul'!E$2,'SEMAINE PAIRE'!$A$15:$A$27,0),MATCH(OFFSET('Planning MAICHE calcul'!E$1,0,-COLUMN()+2),'SEMAINE PAIRE'!$B$13,0))=$A5,INDEX('SEMAINE PAIRE'!$B$15:$F$27,MATCH('Planning MAICHE calcul'!E$2,'SEMAINE PAIRE'!$A$15:$A$27,0)+1,MATCH(OFFSET('Planning MAICHE calcul'!E$1,0,-COLUMN()+2),'SEMAINE PAIRE'!$B$13,0))=""), "Cui","")} | F5: {=IF(AND(INDEX('SEMAINE PAIRE'!$B$15:$F$27,MATCH('Planning MAICHE calcul'!F$2,'SEMAINE PAIRE'!$A$15:$A$27,0),MATCH(OFFSET('Planning MAICHE calcul'!F$1,0,-COLUMN()+2),'SEMAINE PAIRE'!$B$13,0))=$A5,INDEX('SEMAINE PAIRE'!$B$15:$F$27,MATCH('Planning MAICHE calcul'!F$2,'SEMAINE PAIRE'!$A$15:$A$27,0)+1,MATCH(OFFSET('Planning MAICHE calcul'!F$1,0,-COLUMN()+2),'SEMAINE PAIRE'!$B$13,0))=""), "S1","")} | G5: {=IF(AND(INDEX('SEMAINE PAIRE'!$B$15:$F$27,MATCH('Planning MAICHE calcul'!G$2,'SEMAINE PAIRE'!$A$15:$A$27,0),MATCH(OFFSET('Planning MAICHE calcul'!G$1,0,-COLUMN()+2),'SEMAINE PAIRE'!$B$13,0))=$A5,INDEX('SEMAINE PAIRE'!$B$15:$F$27,MATCH('Planning MAICHE calcul'!G$2,'SEMAINE PAIRE'!$A$15:$A$27,0)+1,MATCH(OFFSET('Planning MAICHE calcul'!G$1,0,-COLUMN()+2),'SEMAINE PAIRE'!$B$13,0))=""), "S2","")} -> S2 | H5: {=IF(AND(INDEX('SEMAINE PAIRE'!$B$15:$F$27,MATCH('Planning MAICHE calcul'!H$2,'SEMAINE PAIRE'!$A$15:$A$27,0),MATCH(OFFSET('Planning MAICHE calcul'!H$1,0,-COLUMN()+2),'SEMAINE PAIRE'!$B$13,0))=$A5,INDEX('SEMAINE PAIRE'!$B$15:$F$27,MATCH('Planning MAICHE calcul'!H$2,'SEMAINE PAIRE'!$A$15:$A$27,0)+1,MATCH(OFFSET('Planning MAICHE calcul'!H$1,0,-COLUMN()+2),'SEMAINE PAIRE'!$B$13,0))=""), "R.Ext","")} | I5: 0.52083333 | J5: 0.6875 | K5: {=IF(AND(INDEX('SEMAINE PAIRE'!$B$15:$F$27,MATCH('Planning MAICHE calcul'!K$2,'SEMAINE PAIRE'!$A$15:$A$27,0),MATCH(OFFSET('Planning MAICHE calcul'!K$1,0,-COLUMN()+2),'SEMAINE PAIRE'!$B$13,0))=$A5,INDEX('SEMAINE PAIRE'!$B$15:$F$27,MATCH('Planning MAICHE calcul'!K$2,'SEMAINE PAIRE'!$A$15:$A$27,0)+1,MATCH(OFFSET('Planning MAICHE calcul'!K$1,0,-COLUMN()+2),'SEMAINE PAIRE'!$B$13,0))=""), "Fer","")} -> Fer | L5: {=IF(AND(INDEX('SEMAINE PAIRE'!$B$15:$F$27,MATCH('Planning MAICHE calcul'!L$2,'SEMAINE PAIRE'!$A$15:$A$27,0),MATCH(OFFSET('Planning MAICHE calcul'!L$1,0,-COLUMN()+2),'SEMAINE PAIRE'!$B$13,0))=$A5,INDEX('SEMAINE PAIRE'!$B$15:$F$27,MATCH('Planning MAICHE calcul'!L$2,'SEMAINE PAIRE'!$A$15:$A$27,0)+1,MATCH(OFFSET('Planning MAICHE calcul'!L$1,0,-COLUMN()+2),'SEMAINE PAIRE'!$B$13,0))=""), "ouv","")} | M5: 0.35416667 | N5: 0.47916667 | O5: {=IF(AND(INDEX('SEMAINE PAIRE'!$B$15:$F$27,MATCH('Planning MAICHE calcul'!O$2,'SEMAINE PAIRE'!$A$15:$A$27,0),MATCH(OFFSET('Planning MAICHE calcul'!O$1,0,-COLUMN()+2),'SEMAINE PAIRE'!$B$13,0))=$A5,INDEX('SEMAINE PAIRE'!$B$15:$F$27,MATCH('Planning MAICHE calcul'!O$2,'SEMAINE PAIRE'!$A$15:$A$27,0)+1,MATCH(OFFSET('Planning MAICHE calcul'!O$1,0,-COLUMN()+2),'SEMAINE PAIRE'!$B$13,0))=""), "Cui","")} | P5: {=IF(AND(INDEX('SEMAINE PAIRE'!$B$15:$F$27,MATCH('Planning MAICHE calcul'!P$2,'SEMAINE PAIRE'!$A$15:$A$27,0),MATCH(OFFSET('Planning MAICHE calcul'!P$1,0,-COLUMN()+2),'SEMAINE PAIRE'!$B$13,0))=$A5,INDEX('SEMAINE PAIRE'!$B$15:$F$27,MATCH('Planning MAICHE calcul'!P$2,'SEMAINE PAIRE'!$A$15:$A$27,0)+1,MATCH(OFFSET('Planning MAICHE calcul'!P$1,0,-COLUMN()+2),'SEMAINE PAIRE'!$B$13,0))=""), "S1","")} | Q5: {=IF(AND(INDEX('SEMAINE PAIRE'!$B$15:$F$27,MATCH('Planning MAICHE calcul'!Q$2,'SEMAINE PAIRE'!$A$15:$A$27,0),MATCH(OFFSET('Planning MAICHE calcul'!Q$1,0,-COLUMN()+2),'SEMAINE PAIRE'!$B$13,0))=$A5,INDEX('SEMAINE PAIRE'!$B$15:$F$27,MATCH('Planning MAICHE calcul'!Q$2,'SEMAINE PAIRE'!$A$15:$A$27,0)+1,MATCH(OFFSET('Planning MAICHE calcul'!Q$1,0,-COLUMN()+2),'SEMAINE PAIRE'!$B$13,0))=""), "S2","")} -> S2 | R5: {=IF(AND(INDEX('SEMAINE PAIRE'!$B$15:$F$27,MATCH('Planning MAICHE calcul'!R$2,'SEMAINE PAIRE'!$A$15:$A$27,0),MATCH(OFFSET('Planning MAICHE calcul'!R$1,0,-COLUMN()+2),'SEMAINE PAIRE'!$B$13,0))=$A5,INDEX('SEMAINE PAIRE'!$B$15:$F$27,MATCH('Planning MAICHE calcul'!R$2,'SEMAINE PAIRE'!$A$15:$A$27,0)+1,MATCH(OFFSET('Planning MAICHE calcul'!R$1,0,-COLUMN()+2),'SEMAINE PAIRE'!$B$13,0))=""), "R.Ext","")} | S5: 0.35416667 | T5: 0.47916667 | W5: 0.35416667 | X5: 0.47916667 | AC5: 0.52083333 | AD5: 0.6875 | AG5: 0.35416667 | AH5: 0.47916667 | AM5: 0.52083333 | AN5: 0.61458333 | AQ5: 0.35416667 | AR5: 0.47916667 | AW5: 0.52083333 | AX5: 0.6875
A6: E A | B6: {=IF(AND(INDEX('SEMAINE PAIRE'!$B$15:$F$27,MATCH('Planning MAICHE calcul'!B$2,'SEMAINE PAIRE'!$A$15:$A$27,0),MATCH(OFFSET('Planning MAICHE calcul'!B$1,0,-COLUMN()+2),'SEMAINE PAIRE'!$B$13,0))=$A6,INDEX('SEMAINE PAIRE'!$B$15:$F$27,MATCH('Planning MAICHE calcul'!B$2,'SEMAINE PAIRE'!$A$15:$A$27,0)+1,MATCH(OFFSET('Planning MAICHE calcul'!B$1,0,-COLUMN()+2),'SEMAINE PAIRE'!$B$13,0))=""), "ouv","")} | C6: 0.35416667 | D6: 0.53125 | E6: {=IF(AND(INDEX('SEMAINE PAIRE'!$B$15:$F$27,MATCH('Planning MAICHE calcul'!E$2,'SEMAINE PAIRE'!$A$15:$A$27,0),MATCH(OFFSET('Planning MAICHE calcul'!E$1,0,-COLUMN()+2),'SEMAINE PAIRE'!$B$13,0))=$A6,INDEX('SEMAINE PAIRE'!$B$15:$F$27,MATCH('Planning MAICHE calcul'!E$2,'SEMAINE PAIRE'!$A$15:$A$27,0)+1,MATCH(OFFSET('Planning MAICHE calcul'!E$1,0,-COLUMN()+2),'SEMAINE PAIRE'!$B$13,0))=""), "Cui","")} | F6: {=IF(AND(INDEX('SEMAINE PAIRE'!$B$15:$F$27,MATCH('Planning MAICHE calcul'!F$2,'SEMAINE PAIRE'!$A$15:$A$27,0),MATCH(OFFSET('Planning MAICHE calcul'!F$1,0,-COLUMN()+2),'SEMAINE PAIRE'!$B$13,0))=$A6,INDEX('SEMAINE PAIRE'!$B$15:$F$27,MATCH('Planning MAICHE calcul'!F$2,'SEMAINE PAIRE'!$A$15:$A$27,0)+1,MATCH(OFFSET('Planning MAICHE calcul'!F$1,0,-COLUMN()+2),'SEMAINE PAIRE'!$B$13,0))=""), "S1","")} | G6: {=IF(AND(INDEX('SEMAINE PAIRE'!$B$15:$F$27,MATCH('Planning MAICHE calcul'!G$2,'SEMAINE PAIRE'!$A$15:$A$27,0),MATCH(OFFSET('Planning MAICHE calcul'!G$1,0,-COLUMN()+2),'SEMAINE PAIRE'!$B$13,0))=$A6,INDEX('SEMAINE PAIRE'!$B$15:$F$27,MATCH('Planning MAICHE calcul'!G$2,'SEMAINE PAIRE'!$A$15:$A$27,0)+1,MATCH(OFFSET('Planning MAICHE calcul'!G$1,0,-COLUMN()+2),'SEMAINE PAIRE'!$B$13,0))=""), "S2","")} | H6: {=IF(AND(INDEX('SEMAINE PAIRE'!$B$15:$F$27,MATCH('Planning MAICHE calcul'!H$2,'SEMAINE PAIRE'!$A$15:$A$27,0),MATCH(OFFSET('Planning MAICHE calcul'!H$1,0,-COLUMN()+2),'SEMAINE PAIRE'!$B$13,0))=$A6,INDEX('SEMAINE PAIRE'!$B$15:$F$27,MATCH('Planning MAICHE calcul'!H$2,'SEMAINE PAIRE'!$A$15:$A$27,0)+1,MATCH(OFFSET('Planning MAICHE calcul'!H$1,0,-COLUMN()+2),'SEMAINE PAIRE'!$B$13,0))=""), "R.Ext","")} | I6: 0.57291667 | J6: 0.6875 | K6: {=IF(AND(INDEX('SEMAINE PAIRE'!$B$15:$F$27,MATCH('Planning MAICHE calcul'!K$2,'SEMAINE PAIRE'!$A$15:$A$27,0),MATCH(OFFSET('Planning MAICHE calcul'!K$1,0,-COLUMN()+2),'SEMAINE PAIRE'!$B$13,0))=$A6,INDEX('SEMAINE PAIRE'!$B$15:$F$27,MATCH('Planning MAICHE calcul'!K$2,'SEMAINE PAIRE'!$A$15:$A$27,0)+1,MATCH(OFFSET('Planning MAICHE calcul'!K$1,0,-COLUMN()+2),'SEMAINE PAIRE'!$B$13,0))=""), "Fer","")} | L6: {=IF(AND(INDEX('SEMAINE PAIRE'!$B$15:$F$27,MATCH('Planning MAICHE calcul'!L$2,'SEMAINE PAIRE'!$A$15:$A$27,0),MATCH(OFFSET('Planning MAICHE calcul'!L$1,0,-COLUMN()+2),'SEMAINE PAIRE'!$B$13,0))=$A6,INDEX('SEMAINE PAIRE'!$B$15:$F$27,MATCH('Planning MAICHE calcul'!L$2,'SEMAINE PAIRE'!$A$15:$A$27,0)+1,MATCH(OFFSET('Planning MAICHE calcul'!L$1,0,-COLUMN()+2),'SEMAINE PAIRE'!$B$13,0))=""), "ouv","")} | M6: 0.35416667 | N6: 0.53125 | O6: {=IF(AND(INDEX('SEMAINE PAIRE'!$B$15:$F$27,MATCH('Planning MAICHE calcul'!O$2,'SEMAINE PAIRE'!$A$15:$A$27,0),MATCH(OFFSET('Planning MAICHE calcul'!O$1,0,-COLUMN()+2),'SEMAINE PAIRE'!$B$13,0))=$A6,INDEX('SEMAINE PAIRE'!$B$15:$F$27,MATCH('Planning MAICHE calcul'!O$2,'SEMAINE PAIRE'!$A$15:$A$27,0)+1,MATCH(OFFSET('Planning MAICHE calcul'!O$1,0,-COLUMN()+2),'SEMAINE PAIRE'!$B$13,0))=""), "Cui","")} | P6: {=IF(AND(INDEX('SEMAINE PAIRE'!$B$15:$F$27,MATCH('Planning MAICHE calcul'!P$2,'SEMAINE PAIRE'!$A$15:$A$27,0),MATCH(OFFSET('Planning MAICHE calcul'!P$1,0,-COLUMN()+2),'SEMAINE PAIRE'!$B$13,0))=$A6,INDEX('SEMAINE PAIRE'!$B$15:$F$27,MATCH('Planning MAICHE calcul'!P$2,'SEMAINE PAIRE'!$A$15:$A$27,0)+1,MATCH(OFFSET('Planning MAICHE calcul'!P$1,0,-COLUMN()+2),'SEMAINE PAIRE'!$B$13,0))=""), "S1","")} | Q6: {=IF(AND(INDEX('SEMAINE PAIRE'!$B$15:$F$27,MATCH('Planning MAICHE calcul'!Q$2,'SEMAINE PAIRE'!$A$15:$A$27,0),MATCH(OFFSET('Planning MAICHE calcul'!Q$1,0,-COLUMN()+2),'SEMAINE PAIRE'!$B$13,0))=$A6,INDEX('SEMAINE PAIRE'!$B$15:$F$27,MATCH('Planning MAICHE calcul'!Q$2,'SEMAINE PAIRE'!$A$15:$A$27,0)+1,MATCH(OFFSET('Planning MAICHE calcul'!Q$1,0,-COLUMN()+2),'SEMAINE PAIRE'!$B$13,0))=""), "S2","")} | R6: {=IF(AND(INDEX('SEMAINE PAIRE'!$B$15:$F$27,MATCH('Planning MAICHE calcul'!R$2,'SEMAINE PAIRE'!$A$15:$A$27,0),MATCH(OFFSET('Planning MAICHE calcul'!R$1,0,-COLUMN()+2),'SEMAINE PAIRE'!$B$13,0))=$A6,INDEX('SEMAINE PAIRE'!$B$15:$F$27,MATCH('Planning MAICHE calcul'!R$2,'SEMAINE PAIRE'!$A$15:$A$27,0)+1,MATCH(OFFSET('Planning MAICHE calcul'!R$1,0,-COLUMN()+2),'SEMAINE PAIRE'!$B$13,0))=""), "R.Ext","")} | S6: 0.57291667 | T6: 0.6875 | W6: 0.35416667 | X6: 0.53125 | AC6: 0.57291667 | AD6: 0.60416667 | AG6: 0.35416667 | AH6: 0.53125 | AM6: 0.57291667 | AN6: 0.6875 | AQ6: 0.35416667 | AR6: 0.53125 | AW6: 0.57291667 | AX6: 0.6875 | BB6: =ROUND(AZ6-BA6,2) -> 0
A7: J Q | B7: {=IF(AND(INDEX('SEMAINE PAIRE'!$B$15:$F$27,MATCH('Planning MAICHE calcul'!B$2,'SEMAINE PAIRE'!$A$15:$A$27,0),MATCH(OFFSET('Planning MAICHE calcul'!B$1,0,-COLUMN()+2),'SEMAINE PAIRE'!$B$13,0))=$A7,INDEX('SEMAINE PAIRE'!$B$15:$F$27,MATCH('Planning MAICHE calcul'!B$2,'SEMAINE PAIRE'!$A$15:$A$27,0)+1,MATCH(OFFSET('Planning MAICHE calcul'!B$1,0,-COLUMN()+2),'SEMAINE PAIRE'!$B$13,0))=""), "ouv","")} | C7: 0.35416667 | D7: 0.47916667 | E7: {=IF(AND(INDEX('SEMAINE PAIRE'!$B$15:$F$27,MATCH('Planning MAICHE calcul'!E$2,'SEMAINE PAIRE'!$A$15:$A$27,0),MATCH(OFFSET('Planning MAICHE calcul'!E$1,0,-COLUMN()+2),'SEMAINE PAIRE'!$B$13,0))=$A7,INDEX('SEMAINE PAIRE'!$B$15:$F$27,MATCH('Planning MAICHE calcul'!E$2,'SEMAINE PAIRE'!$A$15:$A$27,0)+1,MATCH(OFFSET('Planning MAICHE calcul'!E$1,0,-COLUMN()+2),'SEMAINE PAIRE'!$B$13,0))=""), "Cui","")} | F7: {=IF(AND(INDEX('SEMAINE PAIRE'!$B$15:$F$27,MATCH('Planning MAICHE calcul'!F$2,'SEMAINE PAIRE'!$A$15:$A$27,0),MATCH(OFFSET('Planning MAICHE calcul'!F$1,0,-COLUMN()+2),'SEMAINE PAIRE'!$B$13,0))=$A7,INDEX('SEMAINE PAIRE'!$B$15:$F$27,MATCH('Planning MAICHE calcul'!F$2,'SEMAINE PAIRE'!$A$15:$A$27,0)+1,MATCH(OFFSET('Planning MAICHE calcul'!F$1,0,-COLUMN()+2),'SEMAINE PAIRE'!$B$13,0))=""), "S1","")} | G7: {=IF(AND(INDEX('SEMAINE PAIRE'!$B$15:$F$27,MATCH('Planning MAICHE calcul'!G$2,'SEMAINE PAIRE'!$A$15:$A$27,0),MATCH(OFFSET('Planning MAICHE calcul'!G$1,0,-COLUMN()+2),'SEMAINE PAIRE'!$B$13,0))=$A7,INDEX('SEMAINE PAIRE'!$B$15:$F$27,MATCH('Planning MAICHE calcul'!G$2,'SEMAINE PAIRE'!$A$15:$A$27,0)+1,MATCH(OFFSET('Planning MAICHE calcul'!G$1,0,-COLUMN()+2),'SEMAINE PAIRE'!$B$13,0))=""), "S2","")} | H7: {=IF(AND(INDEX('SEMAINE PAIRE'!$B$15:$F$27,MATCH('Planning MAICHE calcul'!H$2,'SEMAINE PAIRE'!$A$15:$A$27,0),MATCH(OFFSET('Planning MAICHE calcul'!H$1,0,-COLUMN()+2),'SEMAINE PAIRE'!$B$13,0))=$A7,INDEX('SEMAINE PAIRE'!$B$15:$F$27,MATCH('Planning MAICHE calcul'!H$2,'SEMAINE PAIRE'!$A$15:$A$27,0)+1,MATCH(OFFSET('Planning MAICHE calcul'!H$1,0,-COLUMN()+2),'SEMAINE PAIRE'!$B$13,0))=""), "R.Ext","")} | I7: 0.52083333 | J7: 0.6875 | K7: {=IF(AND(INDEX('SEMAINE PAIRE'!$B$15:$F$27,MATCH('Planning MAICHE calcul'!K$2,'SEMAINE PAIRE'!$A$15:$A$27,0),MATCH(OFFSET('Planning MAICHE calcul'!K$1,0,-COLUMN()+2),'SEMAINE PAIRE'!$B$13,0))=$A7,INDEX('SEMAINE PAIRE'!$B$15:$F$27,MATCH('Planning MAICHE calcul'!K$2,'SEMAINE PAIRE'!$A$15:$A$27,0)+1,MATCH(OFFSET('Planning MAICHE calcul'!K$1,0,-COLUMN()+2),'SEMAINE PAIRE'!$B$13,0))=""), "Fer","")} | L7: {=IF(AND(INDEX('SEMAINE PAIRE'!$B$15:$F$27,MATCH('Planning MAICHE calcul'!L$2,'SEMAINE PAIRE'!$A$15:$A$27,0),MATCH(OFFSET('Planning MAICHE calcul'!L$1,0,-COLUMN()+2),'SEMAINE PAIRE'!$B$13,0))=$A7,INDEX('SEMAINE PAIRE'!$B$15:$F$27,MATCH('Planning MAICHE calcul'!L$2,'SEMAINE PAIRE'!$A$15:$A$27,0)+1,MATCH(OFFSET('Planning MAICHE calcul'!L$1,0,-COLUMN()+2),'SEMAINE PAIRE'!$B$13,0))=""), "ouv","")} | M7: 0.35416667 | N7: 0.47916667 | O7: {=IF(AND(INDEX('SEMAINE PAIRE'!$B$15:$F$27,MATCH('Planning MAICHE calcul'!O$2,'SEMAINE PAIRE'!$A$15:$A$27,0),MATCH(OFFSET('Planning MAICHE calcul'!O$1,0,-COLUMN()+2),'SEMAINE PAIRE'!$B$13,0))=$A7,INDEX('SEMAINE PAIRE'!$B$15:$F$27,MATCH('Planning MAICHE calcul'!O$2,'SEMAINE PAIRE'!$A$15:$A$27,0)+1,MATCH(OFFSET('Planning MAICHE calcul'!O$1,0,-COLUMN()+2),'SEMAINE PAIRE'!$B$13,0))=""), "Cui","")} | P7: {=IF(AND(INDEX('SEMAINE PAIRE'!$B$15:$F$27,MATCH('Planning MAICHE calcul'!P$2,'SEMAINE PAIRE'!$A$15:$A$27,0),MATCH(OFFSET('Planning MAICHE calcul'!P$1,0,-COLUMN()+2),'SEMAINE PAIRE'!$B$13,0))=$A7,INDEX('SEMAINE PAIRE'!$B$15:$F$27,MATCH('Planning MAICHE calcul'!P$2,'SEMAINE PAIRE'!$A$15:$A$27,0)+1,MATCH(OFFSET('Planning MAICHE calcul'!P$1,0,-COLUMN()+2),'SEMAINE PAIRE'!$B$13,0))=""), "S1","")} | Q7: {=IF(AND(INDEX('SEMAINE PAIRE'!$B$15:$F$27,MATCH('Planning MAICHE calcul'!Q$2,'SEMAINE PAIRE'!$A$15:$A$27,0),MATCH(OFFSET('Planning MAICHE calcul'!Q$1,0,-COLUMN()+2),'SEMAINE PAIRE'!$B$13,0))=$A7,INDEX('SEMAINE PAIRE'!$B$15:$F$27,MATCH('Planning MAICHE calcul'!Q$2,'SEMAINE PAIRE'!$A$15:$A$27,0)+1,MATCH(OFFSET('Planning MAICHE calcul'!Q$1,0,-COLUMN()+2),'SEMAINE PAIRE'!$B$13,0))=""), "S2","")} | R7: {=IF(AND(INDEX('SEMAINE PAIRE'!$B$15:$F$27,MATCH('Planning MAICHE calcul'!R$2,'SEMAINE PAIRE'!$A$15:$A$27,0),MATCH(OFFSET('Planning MAICHE calcul'!R$1,0,-COLUMN()+2),'SEMAINE PAIRE'!$B$13,0))=$A7,INDEX('SEMAINE PAIRE'!$B$15:$F$27,MATCH('Planning MAICHE calcul'!R$2,'SEMAINE PAIRE'!$A$15:$A$27,0)+1,MATCH(OFFSET('Planning MAICHE calcul'!R$1,0,-COLUMN()+2),'SEMAINE PAIRE'!$B$13,0))=""), "R.Ext","")} | S7: 0.52083333 | T7: 0.6875 | W7: 0.35416667 | X7: 0.47916667 | AC7: 0.52083333 | AD7: 0.6875 | AG7: 0.35416667 | AH7: 0.47916667 | AM7: 0.52083333 | AN7: 0.60416667 | AQ7: 0.35416667 | AR7: 0.47916667 | AW7: 0.52083333 | AX7: 0.6875 | BB7: =ROUND(AZ7-BA7,2) -> 0
A8: B F | B8: {=IF(AND(INDEX('SEMAINE PAIRE'!$B$15:$F$27,MATCH('Planning MAICHE calcul'!B$2,'SEMAINE PAIRE'!$A$15:$A$27,0),MATCH(OFFSET('Planning MAICHE calcul'!B$1,0,-COLUMN()+2),'SEMAINE PAIRE'!$B$13,0))=$A8,INDEX('SEMAINE PAIRE'!$B$15:$F$27,MATCH('Planning MAICHE calcul'!B$2,'SEMAINE PAIRE'!$A$15:$A$27,0)+1,MATCH(OFFSET('Planning MAICHE calcul'!B$1,0,-COLUMN()+2),'SEMAINE PAIRE'!$B$13,0))=""), "ouv","")} | C8: 0.35416667 | D8: 0.47916667 | E8: {=IF(AND(INDEX('SEMAINE PAIRE'!$B$15:$F$27,MATCH('Planning MAICHE calcul'!E$2,'SEMAINE PAIRE'!$A$15:$A$27,0),MATCH(OFFSET('Planning MAICHE calcul'!E$1,0,-COLUMN()+2),'SEMAINE PAIRE'!$B$13,0))=$A8,INDEX('SEMAINE PAIRE'!$B$15:$F$27,MATCH('Planning MAICHE calcul'!E$2,'SEMAINE PAIRE'!$A$15:$A$27,0)+1,MATCH(OFFSET('Planning MAICHE calcul'!E$1,0,-COLUMN()+2),'SEMAINE PAIRE'!$B$13,0))=""), "Cui","")} -> Cui | F8: {=IF(AND(INDEX('SEMAINE PAIRE'!$B$15:$F$27,MATCH('Planning MAICHE calcul'!F$2,'SEMAINE PAIRE'!$A$15:$A$27,0),MATCH(OFFSET('Planning MAICHE calcul'!F$1,0,-COLUMN()+2),'SEMAINE PAIRE'!$B$13,0))=$A8,INDEX('SEMAINE PAIRE'!$B$15:$F$27,MATCH('Planning MAICHE calcul'!F$2,'SEMAINE PAIRE'!$A$15:$A$27,0)+1,MATCH(OFFSET('Planning MAICHE calcul'!F$1,0,-COLUMN()+2),'SEMAINE PAIRE'!$B$13,0))=""), "S1","")} | G8: {=IF(AND(INDEX('SEMAINE PAIRE'!$B$15:$F$27,MATCH('Planning MAICHE calcul'!G$2,'SEMAINE PAIRE'!$A$15:$A$27,0),MATCH(OFFSET('Planning MAICHE calcul'!G$1,0,-COLUMN()+2),'SEMAINE PAIRE'!$B$13,0))=$A8,INDEX('SEMAINE PAIRE'!$B$15:$F$27,MATCH('Planning MAICHE calcul'!G$2,'SEMAINE PAIRE'!$A$15:$A$27,0)+1,MATCH(OFFSET('Planning MAICHE calcul'!G$1,0,-COLUMN()+2),'SEMAINE PAIRE'!$B$13,0))=""), "S2","")} | H8: {=IF(AND(INDEX('SEMAINE PAIRE'!$B$15:$F$27,MATCH('Planning MAICHE calcul'!H$2,'SEMAINE PAIRE'!$A$15:$A$27,0),MATCH(OFFSET('Planning MAICHE calcul'!H$1,0,-COLUMN()+2),'SEMAINE PAIRE'!$B$13,0))=$A8,INDEX('SEMAINE PAIRE'!$B$15:$F$27,MATCH('Planning MAICHE calcul'!H$2,'SEMAINE PAIRE'!$A$15:$A$27,0)+1,MATCH(OFFSET('Planning MAICHE calcul'!H$1,0,-COLUMN()+2),'SEMAINE PAIRE'!$B$13,0))=""), "R.Ext","")} | I8: 0.52083333 | J8: 0.6875 | K8: {=IF(AND(INDEX('SEMAINE PAIRE'!$B$15:$F$27,MATCH('Planning MAICHE calcul'!K$2,'SEMAINE PAIRE'!$A$15:$A$27,0),MATCH(OFFSET('Planning MAICHE calcul'!K$1,0,-COLUMN()+2),'SEMAINE PAIRE'!$B$13,0))=$A8,INDEX('SEMAINE PAIRE'!$B$15:$F$27,MATCH('Planning MAICHE calcul'!K$2,'SEMAINE PAIRE'!$A$15:$A$27,0)+1,MATCH(OFFSET('Planning MAICHE calcul'!K$1,0,-COLUMN()+2),'SEMAINE PAIRE'!$B$13,0))=""), "Fer","")} | L8: {=IF(AND(INDEX('SEMAINE PAIRE'!$B$15:$F$27,MATCH('Planning MAICHE calcul'!L$2,'SEMAINE PAIRE'!$A$15:$A$27,0),MATCH(OFFSET('Planning MAICHE calcul'!L$1,0,-COLUMN()+2),'SEMAINE PAIRE'!$B$13,0))=$A8,INDEX('SEMAINE PAIRE'!$B$15:$F$27,MATCH('Planning MAICHE calcul'!L$2,'SEMAINE PAIRE'!$A$15:$A$27,0)+1,MATCH(OFFSET('Planning MAICHE calcul'!L$1,0,-COLUMN()+2),'SEMAINE PAIRE'!$B$13,0))=""), "ouv","")} | M8: 0.35416667 | N8: 0.47916667 | O8: {=IF(AND(INDEX('SEMAINE PAIRE'!$B$15:$F$27,MATCH('Planning MAICHE calcul'!O$2,'SEMAINE PAIRE'!$A$15:$A$27,0),MATCH(OFFSET('Planning MAICHE calcul'!O$1,0,-COLUMN()+2),'SEMAINE PAIRE'!$B$13,0))=$A8,INDEX('SEMAINE PAIRE'!$B$15:$F$27,MATCH('Planning MAICHE calcul'!O$2,'SEMAINE PAIRE'!$A$15:$A$27,0)+1,MATCH(OFFSET('Planning MAICHE calcul'!O$1,0,-COLUMN()+2),'SEMAINE PAIRE'!$B$13,0))=""), "Cui","")} -> Cui | P8: {=IF(AND(INDEX('SEMAINE PAIRE'!$B$15:$F$27,MATCH('Planning MAICHE calcul'!P$2,'SEMAINE PAIRE'!$A$15:$A$27,0),MATCH(OFFSET('Planning MAICHE calcul'!P$1,0,-COLUMN()+2),'SEMAINE PAIRE'!$B$13,0))=$A8,INDEX('SEMAINE PAIRE'!$B$15:$F$27,MATCH('Planning MAICHE calcul'!P$2,'SEMAINE PAIRE'!$A$15:$A$27,0)+1,MATCH(OFFSET('Planning MAICHE calcul'!P$1,0,-COLUMN()+2),'SEMAINE PAIRE'!$B$13,0))=""), "S1","")} | Q8: {=IF(AND(INDEX('SEMAINE PAIRE'!$B$15:$F$27,MATCH('Planning MAICHE calcul'!Q$2,'SEMAINE PAIRE'!$A$15:$A$27,0),MATCH(OFFSET('Planning MAICHE calcul'!Q$1,0,-COLUMN()+2),'SEMAINE PAIRE'!$B$13,0))=$A8,INDEX('SEMAINE PAIRE'!$B$15:$F$27,MATCH('Planning MAICHE calcul'!Q$2,'SEMAINE PAIRE'!$A$15:$A$27,0)+1,MATCH(OFFSET('Planning MAICHE calcul'!Q$1,0,-COLUMN()+2),'SEMAINE PAIRE'!$B$13,0))=""), "S2","")} | R8: {=IF(AND(INDEX('SEMAINE PAIRE'!$B$15:$F$27,MATCH('Planning MAICHE calcul'!R$2,'SEMAINE PAIRE'!$A$15:$A$27,0),MATCH(OFFSET('Planning MAICHE calcul'!R$1,0,-COLUMN()+2),'SEMAINE PAIRE'!$B$13,0))=$A8,INDEX('SEMAINE PAIRE'!$B$15:$F$27,MATCH('Planning MAICHE calcul'!R$2,'SEMAINE PAIRE'!$A$15:$A$27,0)+1,MATCH(OFFSET('Planning MAICHE calcul'!R$1,0,-COLUMN()+2),'SEMAINE PAIRE'!$B$13,0))=""), "R.Ext","")} | S8: 0.52083333 | T8: 0.6875 | W8: 0.35416667 | X8: 0.47916667 | AC8: 0.52083333 | AD8: 0.6875 | AM8: 0.51041667 | AN8: 0.6875 | AQ8: 0.35416667 | AR8: 0.47916667 | AW8: 0.52083333 | AX8: 0.6875 | BB8: =ROUND(AZ8-BA8,2) -> 0
A9: J-C H | B9: {=IF(AND(INDEX('SEMAINE PAIRE'!$B$15:$F$27,MATCH('Planning MAICHE calcul'!B$2,'SEMAINE PAIRE'!$A$15:$A$27,0),MATCH(OFFSET('Planning MAICHE calcul'!B$1,0,-COLUMN()+2),'SEMAINE PAIRE'!$B$13,0))=$A9,INDEX('SEMAINE PAIRE'!$B$15:$F$27,MATCH('Planning MAICHE calcul'!B$2,'SEMAINE PAIRE'!$A$15:$A$27,0)+1,MATCH(OFFSET('Planning MAICHE calcul'!B$1,0,-COLUMN()+2),'SEMAINE PAIRE'!$B$13,0))=""), "ouv","")} | C9: 0.35416667 | D9: 0.53125 | E9: {=IF(AND(INDEX('SEMAINE PAIRE'!$B$15:$F$27,MATCH('Planning MAICHE calcul'!E$2,'SEMAINE PAIRE'!$A$15:$A$27,0),MATCH(OFFSET('Planning MAICHE calcul'!E$1,0,-COLUMN()+2),'SEMAINE PAIRE'!$B$13,0))=$A9,INDEX('SEMAINE PAIRE'!$B$15:$F$27,MATCH('Planning MAICHE calcul'!E$2,'SEMAINE PAIRE'!$A$15:$A$27,0)+1,MATCH(OFFSET('Planning MAICHE calcul'!E$1,0,-COLUMN()+2),'SEMAINE PAIRE'!$B$13,0))=""), "Cui","")} | F9: {=IF(AND(INDEX('SEMAINE PAIRE'!$B$15:$F$27,MATCH('Planning MAICHE calcul'!F$2,'SEMAINE PAIRE'!$A$15:$A$27,0),MATCH(OFFSET('Planning MAICHE calcul'!F$1,0,-COLUMN()+2),'SEMAINE PAIRE'!$B$13,0))=$A9,INDEX('SEMAINE PAIRE'!$B$15:$F$27,MATCH('Planning MAICHE calcul'!F$2,'SEMAINE PAIRE'!$A$15:$A$27,0)+1,MATCH(OFFSET('Planning MAICHE calcul'!F$1,0,-COLUMN()+2),'SEMAINE PAIRE'!$B$13,0))=""), "S1","")} | G9: {=IF(AND(INDEX('SEMAINE PAIRE'!$B$15:$F$27,MATCH('Planning MAICHE calcul'!G$2,'SEMAINE PAIRE'!$A$15:$A$27,0),MATCH(OFFSET('Planning MAICHE calcul'!G$1,0,-COLUMN()+2),'SEMAINE PAIRE'!$B$13,0))=$A9,INDEX('SEMAINE PAIRE'!$B$15:$F$27,MATCH('Planning MAICHE calcul'!G$2,'SEMAINE PAIRE'!$A$15:$A$27,0)+1,MATCH(OFFSET('Planning MAICHE calcul'!G$1,0,-COLUMN()+2),'SEMAINE PAIRE'!$B$13,0))=""), "S2","")} | H9: {=IF(AND(INDEX('SEMAINE PAIRE'!$B$15:$F$27,MATCH('Planning MAICHE calcul'!H$2,'SEMAINE PAIRE'!$A$15:$A$27,0),MATCH(OFFSET('Planning MAICHE calcul'!H$1,0,-COLUMN()+2),'SEMAINE PAIRE'!$B$13,0))=$A9,INDEX('SEMAINE PAIRE'!$B$15:$F$27,MATCH('Planning MAICHE calcul'!H$2,'SEMAINE PAIRE'!$A$15:$A$27,0)+1,MATCH(OFFSET('Planning MAICHE calcul'!H$1,0,-COLUMN()+2),'SEMAINE PAIRE'!$B$13,0))=""), "R.Ext","")} | I9: 0.57291667 | J9: 0.6875 | K9: {=IF(AND(INDEX('SEMAINE PAIRE'!$B$15:$F$27,MATCH('Planning MAICHE calcul'!K$2,'SEMAINE PAIRE'!$A$15:$A$27,0),MATCH(OFFSET('Planning MAICHE calcul'!K$1,0,-COLUMN()+2),'SEMAINE PAIRE'!$B$13,0))=$A9,INDEX('SEMAINE PAIRE'!$B$15:$F$27,MATCH('Planning MAICHE calcul'!K$2,'SEMAINE PAIRE'!$A$15:$A$27,0)+1,MATCH(OFFSET('Planning MAICHE calcul'!K$1,0,-COLUMN()+2),'SEMAINE PAIRE'!$B$13,0))=""), "Fer","")} | L9: {=IF(AND(INDEX('SEMAINE PAIRE'!$B$15:$F$27,MATCH('Planning MAICHE calcul'!L$2,'SEMAINE PAIRE'!$A$15:$A$27,0),MATCH(OFFSET('Planning MAICHE calcul'!L$1,0,-COLUMN()+2),'SEMAINE PAIRE'!$B$13,0))=$A9,INDEX('SEMAINE PAIRE'!$B$15:$F$27,MATCH('Planning MAICHE calcul'!L$2,'SEMAINE PAIRE'!$A$15:$A$27,0)+1,MATCH(OFFSET('Planning MAICHE calcul'!L$1,0,-COLUMN()+2),'SEMAINE PAIRE'!$B$13,0))=""), "ouv","")} | M9: 0.35416667 | N9: 0.53125 | O9: {=IF(AND(INDEX('SEMAINE PAIRE'!$B$15:$F$27,MATCH('Planning MAICHE calcul'!O$2,'SEMAINE PAIRE'!$A$15:$A$27,0),MATCH(OFFSET('Planning MAICHE calcul'!O$1,0,-COLUMN()+2),'SEMAINE PAIRE'!$B$13,0))=$A9,INDEX('SEMAINE PAIRE'!$B$15:$F$27,MATCH('Planning MAICHE calcul'!O$2,'SEMAINE PAIRE'!$A$15:$A$27,0)+1,MATCH(OFFSET('Planning MAICHE calcul'!O$1,0,-COLUMN()+2),'SEMAINE PAIRE'!$B$13,0))=""), "Cui","")} | P9: {=IF(AND(INDEX('SEMAINE PAIRE'!$B$15:$F$27,MATCH('Planning MAICHE calcul'!P$2,'SEMAINE PAIRE'!$A$15:$A$27,0),MATCH(OFFSET('Planning MAICHE calcul'!P$1,0,-COLUMN()+2),'SEMAINE PAIRE'!$B$13,0))=$A9,INDEX('SEMAINE PAIRE'!$B$15:$F$27,MATCH('Planning MAICHE calcul'!P$2,'SEMAINE PAIRE'!$A$15:$A$27,0)+1,MATCH(OFFSET('Planning MAICHE calcul'!P$1,0,-COLUMN()+2),'SEMAINE PAIRE'!$B$13,0))=""), "S1","")} | Q9: {=IF(AND(INDEX('SEMAINE PAIRE'!$B$15:$F$27,MATCH('Planning MAICHE calcul'!Q$2,'SEMAINE PAIRE'!$A$15:$A$27,0),MATCH(OFFSET('Planning MAICHE calcul'!Q$1,0,-COLUMN()+2),'SEMAINE PAIRE'!$B$13,0))=$A9,INDEX('SEMAINE PAIRE'!$B$15:$F$27,MATCH('Planning MAICHE calcul'!Q$2,'SEMAINE PAIRE'!$A$15:$A$27,0)+1,MATCH(OFFSET('Planning MAICHE calcul'!Q$1,0,-COLUMN()+2),'SEMAINE PAIRE'!$B$13,0))=""), "S2","")} | R9: {=IF(AND(INDEX('SEMAINE PAIRE'!$B$15:$F$27,MATCH('Planning MAICHE calcul'!R$2,'SEMAINE PAIRE'!$A$15:$A$27,0),MATCH(OFFSET('Planning MAICHE calcul'!R$1,0,-COLUMN()+2),'SEMAINE PAIRE'!$B$13,0))=$A9,INDEX('SEMAINE PAIRE'!$B$15:$F$27,MATCH('Planning MAICHE calcul'!R$2,'SEMAINE PAIRE'!$A$15:$A$27,0)+1,MATCH(OFFSET('Planning MAICHE calcul'!R$1,0,-COLUMN()+2),'SEMAINE PAIRE'!$B$13,0))=""), "R.Ext","")} | S9: 0.57291667 | T9: 0.6875 | W9: 0.4375 | X9: 0.53125 | AC9: 0.57291667 | AD9: 0.6875 | AG9: 0.35416667 | AH9: 0.53125 | AM9: 0.57291667 | AN9: 0.6875 | AQ9: 0.35416667 | AR9: 0.53125 | AW9: 0.57291667 | AX9: 0.6875 | BB9: =ROUND(AZ9-BA9,2) -> 0
A10: V B | B10: {=IF(AND(INDEX('SEMAINE PAIRE'!$B$15:$F$27,MATCH('Planning MAICHE calcul'!B$2,'SEMAINE PAIRE'!$A$15:$A$27,0),MATCH(OFFSET('Planning MAICHE calcul'!B$1,0,-COLUMN()+2),'SEMAINE PAIRE'!$B$13,0))=$A10,INDEX('SEMAINE PAIRE'!$B$15:$F$27,MATCH('Planning MAICHE calcul'!B$2,'SEMAINE PAIRE'!$A$15:$A$27,0)+1,MATCH(OFFSET('Planning MAICHE calcul'!B$1,0,-COLUMN()+2),'SEMAINE PAIRE'!$B$13,0))=""), "ouv","")} | E10: {=IF(AND(INDEX('SEMAINE PAIRE'!$B$15:$F$27,MATCH('Planning MAICHE calcul'!E$2,'SEMAINE PAIRE'!$A$15:$A$27,0),MATCH(OFFSET('Planning MAICHE calcul'!E$1,0,-COLUMN()+2),'SEMAINE PAIRE'!$B$13,0))=$A10,INDEX('SEMAINE PAIRE'!$B$15:$F$27,MATCH('Planning MAICHE calcul'!E$2,'SEMAINE PAIRE'!$A$15:$A$27,0)+1,MATCH(OFFSET('Planning MAICHE calcul'!E$1,0,-COLUMN()+2),'SEMAINE PAIRE'!$B$13,0))=""), "Cui","")} | F10: {=IF(AND(INDEX('SEMAINE PAIRE'!$B$15:$F$27,MATCH('Planning MAICHE calcul'!F$2,'SEMAINE PAIRE'!$A$15:$A$27,0),MATCH(OFFSET('Planning MAICHE calcul'!F$1,0,-COLUMN()+2),'SEMAINE PAIRE'!$B$13,0))=$A10,INDEX('SEMAINE PAIRE'!$B$15:$F$27,MATCH('Planning MAICHE calcul'!F$2,'SEMAINE PAIRE'!$A$15:$A$27,0)+1,MATCH(OFFSET('Planning MAICHE calcul'!F$1,0,-COLUMN()+2),'SEMAINE PAIRE'!$B$13,0))=""), "S1","")} | G10: {=IF(AND(INDEX('SEMAINE PAIRE'!$B$15:$F$27,MATCH('Planning MAICHE calcul'!G$2,'SEMAINE PAIRE'!$A$15:$A$27,0),MATCH(OFFSET('Planning MAICHE calcul'!G$1,0,-COLUMN()+2),'SEMAINE PAIRE'!$B$13,0))=$A10,INDEX('SEMAINE PAIRE'!$B$15:$F$27,MATCH('Planning MAICHE calcul'!G$2,'SEMAINE PAIRE'!$A$15:$A$27,0)+1,MATCH(OFFSET('Planning MAICHE calcul'!G$1,0,-COLUMN()+2),'SEMAINE PAIRE'!$B$13,0))=""), "S2","")} | H10: {=IF(AND(INDEX('SEMAINE PAIRE'!$B$15:$F$27,MATCH('Planning MAICHE calcul'!H$2,'SEMAINE PAIRE'!$A$15:$A$27,0),MATCH(OFFSET('Planning MAICHE calcul'!H$1,0,-COLUMN()+2),'SEMAINE PAIRE'!$B$13,0))=$A10,INDEX('SEMAINE PAIRE'!$B$15:$F$27,MATCH('Planning MAICHE calcul'!H$2,'SEMAINE PAIRE'!$A$15:$A$27,0)+1,MATCH(OFFSET('Planning MAICHE calcul'!H$1,0,-COLUMN()+2),'SEMAINE PAIRE'!$B$13,0))=""), "R.Ext","")} | K10: {=IF(AND(INDEX('SEMAINE PAIRE'!$B$15:$F$27,MATCH('Planning MAICHE calcul'!K$2,'SEMAINE PAIRE'!$A$15:$A$27,0),MATCH(OFFSET('Planning MAICHE calcul'!K$1,0,-COLUMN()+2),'SEMAINE PAIRE'!$B$13,0))=$A10,INDEX('SEMAINE PAIRE'!$B$15:$F$27,MATCH('Planning MAICHE calcul'!K$2,'SEMAINE PAIRE'!$A$15:$A$27,0)+1,MATCH(OFFSET('Planning MAICHE calcul'!K$1,0,-COLUMN()+2),'SEMAINE PAIRE'!$B$13,0))=""), "Fer","")} | L10: {=IF(AND(INDEX('SEMAINE PAIRE'!$B$15:$F$27,MATCH('Planning MAICHE calcul'!L$2,'SEMAINE PAIRE'!$A$15:$A$27,0),MATCH(OFFSET('Planning MAICHE calcul'!L$1,0,-COLUMN()+2),'SEMAINE PAIRE'!$B$13,0))=$A10,INDEX('SEMAINE PAIRE'!$B$15:$F$27,MATCH('Planning MAICHE calcul'!L$2,'SEMAINE PAIRE'!$A$15:$A$27,0)+1,MATCH(OFFSET('Planning MAICHE calcul'!L$1,0,-COLUMN()+2),'SEMAINE PAIRE'!$B$13,0))=""), "ouv","")} | M10: 0.35416667 | N10: 0.53125 | O10: {=IF(AND(INDEX('SEMAINE PAIRE'!$B$15:$F$27,MATCH('Planning MAICHE calcul'!O$2,'SEMAINE PAIRE'!$A$15:$A$27,0),MATCH(OFFSET('Planning MAICHE calcul'!O$1,0,-COLUMN()+2),'SEMAINE PAIRE'!$B$13,0))=$A10,INDEX('SEMAINE PAIRE'!$B$15:$F$27,MATCH('Planning MAICHE calcul'!O$2,'SEMAINE PAIRE'!$A$15:$A$27,0)+1,MATCH(OFFSET('Planning MAICHE calcul'!O$1,0,-COLUMN()+2),'SEMAINE PAIRE'!$B$13,0))=""), "Cui","")} | P10: {=IF(AND(INDEX('SEMAINE PAIRE'!$B$15:$F$27,MATCH('Planning MAICHE calcul'!P$2,'SEMAINE PAIRE'!$A$15:$A$27,0),MATCH(OFFSET('Planning MAICHE calcul'!P$1,0,-COLUMN()+2),'SEMAINE PAIRE'!$B$13,0))=$A10,INDEX('SEMAINE PAIRE'!$B$15:$F$27,MATCH('Planning MAICHE calcul'!P$2,'SEMAINE PAIRE'!$A$15:$A$27,0)+1,MATCH(OFFSET('Planning MAICHE calcul'!P$1,0,-COLUMN()+2),'SEMAINE PAIRE'!$B$13,0))=""), "S1","")} | Q10: {=IF(AND(INDEX('SEMAINE PAIRE'!$B$15:$F$27,MATCH('Planning MAICHE calcul'!Q$2,'SEMAINE PAIRE'!$A$15:$A$27,0),MATCH(OFFSET('Planning MAICHE calcul'!Q$1,0,-COLUMN()+2),'SEMAINE PAIRE'!$B$13,0))=$A10,INDEX('SEMAINE PAIRE'!$B$15:$F$27,MATCH('Planning MAICHE calcul'!Q$2,'SEMAINE PAIRE'!$A$15:$A$27,0)+1,MATCH(OFFSET('Planning MAICHE calcul'!Q$1,0,-COLUMN()+2),'SEMAINE PAIRE'!$B$13,0))=""), "S2","")} | R10: {=IF(AND(INDEX('SEMAINE PAIRE'!$B$15:$F$27,MATCH('Planning MAICHE calcul'!R$2,'SEMAINE PAIRE'!$A$15:$A$27,0),MATCH(OFFSET('Planning MAICHE calcul'!R$1,0,-COLUMN()+2),'SEMAINE PAIRE'!$B$13,0))=$A10,INDEX('SEMAINE PAIRE'!$B$15:$F$27,MATCH('Planning MAICHE calcul'!R$2,'SEMAINE PAIRE'!$A$15:$A$27,0)+1,MATCH(OFFSET('Planning MAICHE calcul'!R$1,0,-COLUMN()+2),'SEMAINE PAIRE'!$B$13,0))=""), "R.Ext","")} | S10: 0.57291667 | T10: 0.6875 | W10: 0.35416667 | X10: 0.53125 | AC10: 0.57291667 | AD10: 0.6875 | AG10: 0.39583333 | AH10: 0.53125 | AM10: 0.57291667 | AN10: 0.6875 | BB10: =ROUND(AZ10-BA10,2) -> 0
A11: P T | B11: {=IF(AND(INDEX('SEMAINE PAIRE'!$B$15:$F$27,MATCH('Planning MAICHE calcul'!B$2,'SEMAINE PAIRE'!$A$15:$A$27,0),MATCH(OFFSET('Planning MAICHE calcul'!B$1,0,-COLUMN()+2),'SEMAINE PAIRE'!$B$13,0))=$A11,INDEX('SEMAINE PAIRE'!$B$15:$F$27,MATCH('Planning MAICHE calcul'!B$2,'SEMAINE PAIRE'!$A$15:$A$27,0)+1,MATCH(OFFSET('Planning MAICHE calcul'!B$1,0,-COLUMN()+2),'SEMAINE PAIRE'!$B$13,0))=""), "ouv","")} | C11: 0.35416667 | D11: 0.53125 | E11: {=IF(AND(INDEX('SEMAINE PAIRE'!$B$15:$F$27,MATCH('Planning MAICHE calcul'!E$2,'SEMAINE PAIRE'!$A$15:$A$27,0),MATCH(OFFSET('Planning MAICHE calcul'!E$1,0,-COLUMN()+2),'SEMAINE PAIRE'!$B$13,0))=$A11,INDEX('SEMAINE PAIRE'!$B$15:$F$27,MATCH('Planning MAICHE calcul'!E$2,'SEMAINE PAIRE'!$A$15:$A$27,0)+1,MATCH(OFFSET('Planning MAICHE calcul'!E$1,0,-COLUMN()+2),'SEMAINE PAIRE'!$B$13,0))=""), "Cui","")} | F11: {=IF(AND(INDEX('SEMAINE PAIRE'!$B$15:$F$27,MATCH('Planning MAICHE calcul'!F$2,'SEMAINE PAIRE'!$A$15:$A$27,0),MATCH(OFFSET('Planning MAICHE calcul'!F$1,0,-COLUMN()+2),'SEMAINE PAIRE'!$B$13,0))=$A11,INDEX('SEMAINE PAIRE'!$B$15:$F$27,MATCH('Planning MAICHE calcul'!F$2,'SEMAINE PAIRE'!$A$15:$A$27,0)+1,MATCH(OFFSET('Planning MAICHE calcul'!F$1,0,-COLUMN()+2),'SEMAINE PAIRE'!$B$13,0))=""), "S1","")} | G11: {=IF(AND(INDEX('SEMAINE PAIRE'!$B$15:$F$27,MATCH('Planning MAICHE calcul'!G$2,'SEMAINE PAIRE'!$A$15:$A$27,0),MATCH(OFFSET('Planning MAICHE calcul'!G$1,0,-COLUMN()+2),'SEMAINE PAIRE'!$B$13,0))=$A11,INDEX('SEMAINE PAIRE'!$B$15:$F$27,MATCH('Planning MAICHE calcul'!G$2,'SEMAINE PAIRE'!$A$15:$A$27,0)+1,MATCH(OFFSET('Planning MAICHE calcul'!G$1,0,-COLUMN()+2),'SEMAINE PAIRE'!$B$13,0))=""), "S2","")} | H11: {=IF(AND(INDEX('SEMAINE PAIRE'!$B$15:$F$27,MATCH('Planning MAICHE calcul'!H$2,'SEMAINE PAIRE'!$A$15:$A$27,0),MATCH(OFFSET('Planning MAICHE calcul'!H$1,0,-COLUMN()+2),'SEMAINE PAIRE'!$B$13,0))=$A11,INDEX('SEMAINE PAIRE'!$B$15:$F$27,MATCH('Planning MAICHE calcul'!H$2,'SEMAINE PAIRE'!$A$15:$A$27,0)+1,MATCH(OFFSET('Planning MAICHE calcul'!H$1,0,-COLUMN()+2),'SEMAINE PAIRE'!$B$13,0))=""), "R.Ext","")} | I11: 0.57291667 | J11: 0.6875 | K11: {=IF(AND(INDEX('SEMAINE PAIRE'!$B$15:$F$27,MATCH('Planning MAICHE calcul'!K$2,'SEMAINE PAIRE'!$A$15:$A$27,0),MATCH(OFFSET('Planning MAICHE calcul'!K$1,0,-COLUMN()+2),'SEMAINE PAIRE'!$B$13,0))=$A11,INDEX('SEMAINE PAIRE'!$B$15:$F$27,MATCH('Planning MAICHE calcul'!K$2,'SEMAINE PAIRE'!$A$15:$A$27,0)+1,MATCH(OFFSET('Planning MAICHE calcul'!K$1,0,-COLUMN()+2),'SEMAINE PAIRE'!$B$13,0))=""), "Fer","")} | L11: {=IF(AND(INDEX('SEMAINE PAIRE'!$B$15:$F$27,MATCH('Planning MAICHE calcul'!L$2,'SEMAINE PAIRE'!$A$15:$A$27,0),MATCH(OFFSET('Planning MAICHE calcul'!L$1,0,-COLUMN()+2),'SEMAINE PAIRE'!$B$13,0))=$A11,INDEX('SEMAINE PAIRE'!$B$15:$F$27,MATCH('Planning MAICHE calcul'!L$2,'SEMAINE PAIRE'!$A$15:$A$27,0)+1,MATCH(OFFSET('Planning MAICHE calcul'!L$1,0,-COLUMN()+2),'SEMAINE PAIRE'!$B$13,0))=""), "ouv","")} | M11: 0.35416667 | N11: 0.53125 | O11: {=IF(AND(INDEX('SEMAINE PAIRE'!$B$15:$F$27,MATCH('Planning MAICHE calcul'!O$2,'SEMAINE PAIRE'!$A$15:$A$27,0),MATCH(OFFSET('Planning MAICHE calcul'!O$1,0,-COLUMN()+2),'SEMAINE PAIRE'!$B$13,0))=$A11,INDEX('SEMAINE PAIRE'!$B$15:$F$27,MATCH('Planning MAICHE calcul'!O$2,'SEMAINE PAIRE'!$A$15:$A$27,0)+1,MATCH(OFFSET('Planning MAICHE calcul'!O$1,0,-COLUMN()+2),'SEMAINE PAIRE'!$B$13,0))=""), "Cui","")} | P11: {=IF(AND(INDEX('SEMAINE PAIRE'!$B$15:$F$27,MATCH('Planning MAICHE calcul'!P$2,'SEMAINE PAIRE'!$A$15:$A$27,0),MATCH(OFFSET('Planning MAICHE calcul'!P$1,0,-COLUMN()+2),'SEMAINE PAIRE'!$B$13,0))=$A11,INDEX('SEMAINE PAIRE'!$B$15:$F$27,MATCH('Planning MAICHE calcul'!P$2,'SEMAINE PAIRE'!$A$15:$A$27,0)+1,MATCH(OFFSET('Planning MAICHE calcul'!P$1,0,-COLUMN()+2),'SEMAINE PAIRE'!$B$13,0))=""), "S1","")} | Q11: {=IF(AND(INDEX('SEMAINE PAIRE'!$B$15:$F$27,MATCH('Planning MAICHE calcul'!Q$2,'SEMAINE PAIRE'!$A$15:$A$27,0),MATCH(OFFSET('Planning MAICHE calcul'!Q$1,0,-COLUMN()+2),'SEMAINE PAIRE'!$B$13,0))=$A11,INDEX('SEMAINE PAIRE'!$B$15:$F$27,MATCH('Planning MAICHE calcul'!Q$2,'SEMAINE PAIRE'!$A$15:$A$27,0)+1,MATCH(OFFSET('Planning MAICHE calcul'!Q$1,0,-COLUMN()+2),'SEMAINE PAIRE'!$B$13,0))=""), "S2","")} | R11: {=IF(AND(INDEX('SEMAINE PAIRE'!$B$15:$F$27,MATCH('Planning MAICHE calcul'!R$2,'SEMAINE PAIRE'!$A$15:$A$27,0),MATCH(OFFSET('Planning MAICHE calcul'!R$1,0,-COLUMN()+2),'SEMAINE PAIRE'!$B$13,0))=$A11,INDEX('SEMAINE PAIRE'!$B$15:$F$27,MATCH('Planning MAICHE calcul'!R$2,'SEMAINE PAIRE'!$A$15:$A$27,0)+1,MATCH(OFFSET('Planning MAICHE calcul'!R$1,0,-COLUMN()+2),'SEMAINE PAIRE'!$B$13,0))=""), "R.Ext","")} | S11: 0.57291667 | T11: 0.6875 | W11: 0.35416667 | X11: 0.375 | AG11: 0.35416667 | AH11: 0.53125 | AM11: 0.57291667 | AN11: 0.6875 | AQ11: 0.35416667 | AR11: 0.53125 | AW11: 0.57291667 | AX11: 0.6875 | BB11: =ROUND(AZ11-BA11,2) -> 0
A12: E F | B12: {=IF(AND(INDEX('SEMAINE PAIRE'!$B$15:$F$27,MATCH('Planning MAICHE calcul'!B$2,'SEMAINE PAIRE'!$A$15:$A$27,0),MATCH(OFFSET('Planning MAICHE calcul'!B$1,0,-COLUMN()+2),'SEMAINE PAIRE'!$B$13,0))=$A12,INDEX('SEMAINE PAIRE'!$B$15:$F$27,MATCH('Planning MAICHE calcul'!B$2,'SEMAINE PAIRE'!$A$15:$A$27,0)+1,MATCH(OFFSET('Planning MAICHE calcul'!B$1,0,-COLUMN()+2),'SEMAINE PAIRE'!$B$13,0))=""), "ouv","")} | C12: 0.35416667 | D12: 0.53125 | E12: {=IF(AND(INDEX('SEMAINE PAIRE'!$B$15:$F$27,MATCH('Planning MAICHE calcul'!E$2,'SEMAINE PAIRE'!$A$15:$A$27,0),MATCH(OFFSET('Planning MAICHE calcul'!E$1,0,-COLUMN()+2),'SEMAINE PAIRE'!$B$13,0))=$A12,INDEX('SEMAINE PAIRE'!$B$15:$F$27,MATCH('Planning MAICHE calcul'!E$2,'SEMAINE PAIRE'!$A$15:$A$27,0)+1,MATCH(OFFSET('Planning MAICHE calcul'!E$1,0,-COLUMN()+2),'SEMAINE PAIRE'!$B$13,0))=""), "Cui","")} | F12: {=IF(AND(INDEX('SEMAINE PAIRE'!$B$15:$F$27,MATCH('Planning MAICHE calcul'!F$2,'SEMAINE PAIRE'!$A$15:$A$27,0),MATCH(OFFSET('Planning MAICHE calcul'!F$1,0,-COLUMN()+2),'SEMAINE PAIRE'!$B$13,0))=$A12,INDEX('SEMAINE PAIRE'!$B$15:$F$27,MATCH('Planning MAICHE calcul'!F$2,'SEMAINE PAIRE'!$A$15:$A$27,0)+1,MATCH(OFFSET('Planning MAICHE calcul'!F$1,0,-COLUMN()+2),'SEMAINE PAIRE'!$B$13,0))=""), "S1","")} | G12: {=IF(AND(INDEX('SEMAINE PAIRE'!$B$15:$F$27,MATCH('Planning MAICHE calcul'!G$2,'SEMAINE PAIRE'!$A$15:$A$27,0),MATCH(OFFSET('Planning MAICHE calcul'!G$1,0,-COLUMN()+2),'SEMAINE PAIRE'!$B$13,0))=$A12,INDEX('SEMAINE PAIRE'!$B$15:$F$27,MATCH('Planning MAICHE calcul'!G$2,'SEMAINE PAIRE'!$A$15:$A$27,0)+1,MATCH(OFFSET('Planning MAICHE calcul'!G$1,0,-COLUMN()+2),'SEMAINE PAIRE'!$B$13,0))=""), "S2","")} | H12: =IF(AND(INDEX('SEMAINE PAIRE'!$B$15:$F$27,MATCH('Planning MAICHE calcul'!H$2,'SEMAINE PAIRE'!$A$15:$A$27,0),MATCH(OFFSET('Planning MAICHE calcul'!H$1,0,-COLUMN()+2),'SEMAINE PAIRE'!$B$13,0))=$A12,INDEX('SEMAINE PAIRE'!$B$15:$F$27,MATCH('Planning MAICHE calcul'!H$2,'SEMAINE PAIRE'!$A$15:$A$27,0)+1,MATCH(OFFSET('Planning MAICHE calcul'!H$1,0,-COLUMN()+2),'SEMAINE PAIRE'!$B$13,0))=""), "R.Ext","") | I12: 0.57291667 | J12: 0.6875 | K12: {=IF(AND(INDEX('SEMAINE PAIRE'!$B$15:$F$27,MATCH('Planning MAICHE calcul'!K$2,'SEMAINE PAIRE'!$A$15:$A$27,0),MATCH(OFFSET('Planning MAICHE calcul'!K$1,0,-COLUMN()+2),'SEMAINE PAIRE'!$B$13,0))=$A12,INDEX('SEMAINE PAIRE'!$B$15:$F$27,MATCH('Planning MAICHE calcul'!K$2,'SEMAINE PAIRE'!$A$15:$A$27,0)+1,MATCH(OFFSET('Planning MAICHE calcul'!K$1,0,-COLUMN()+2),'SEMAINE PAIRE'!$B$13,0))=""), "Fer","")} | L12: {=IF(AND(INDEX('SEMAINE PAIRE'!$B$15:$F$27,MATCH('Planning MAICHE calcul'!L$2,'SEMAINE PAIRE'!$A$15:$A$27,0),MATCH(OFFSET('Planning MAICHE calcul'!L$1,0,-COLUMN()+2),'SEMAINE PAIRE'!$B$13,0))=$A12,INDEX('SEMAINE PAIRE'!$B$15:$F$27,MATCH('Planning MAICHE calcul'!L$2,'SEMAINE PAIRE'!$A$15:$A$27,0)+1,MATCH(OFFSET('Planning MAICHE calcul'!L$1,0,-COLUMN()+2),'SEMAINE PAIRE'!$B$13,0))=""), "ouv","")} | M12: 0.35416667 | N12: 0.53125 | O12: {=IF(AND(INDEX('SEMAINE PAIRE'!$B$15:$F$27,MATCH('Planning MAICHE calcul'!O$2,'SEMAINE PAIRE'!$A$15:$A$27,0),MATCH(OFFSET('Planning MAICHE calcul'!O$1,0,-COLUMN()+2),'SEMAINE PAIRE'!$B$13,0))=$A12,INDEX('SEMAINE PAIRE'!$B$15:$F$27,MATCH('Planning MAICHE calcul'!O$2,'SEMAINE PAIRE'!$A$15:$A$27,0)+1,MATCH(OFFSET('Planning MAICHE calcul'!O$1,0,-COLUMN()+2),'SEMAINE PAIRE'!$B$13,0))=""), "Cui","")} | P12: {=IF(AND(INDEX('SEMAINE PAIRE'!$B$15:$F$27,MATCH('Planning MAICHE calcul'!P$2,'SEMAINE PAIRE'!$A$15:$A$27,0),MATCH(OFFSET('Planning MAICHE calcul'!P$1,0,-COLUMN()+2),'SEMAINE PAIRE'!$B$13,0))=$A12,INDEX('SEMAINE PAIRE'!$B$15:$F$27,MATCH('Planning MAICHE calcul'!P$2,'SEMAINE PAIRE'!$A$15:$A$27,0)+1,MATCH(OFFSET('Planning MAICHE calcul'!P$1,0,-COLUMN()+2),'SEMAINE PAIRE'!$B$13,0))=""), "S1","")} | Q12: {=IF(AND(INDEX('SEMAINE PAIRE'!$B$15:$F$27,MATCH('Planning MAICHE calcul'!Q$2,'SEMAINE PAIRE'!$A$15:$A$27,0),MATCH(OFFSET('Planning MAICHE calcul'!Q$1,0,-COLUMN()+2),'SEMAINE PAIRE'!$B$13,0))=$A12,INDEX('SEMAINE PAIRE'!$B$15:$F$27,MATCH('Planning MAICHE calcul'!Q$2,'SEMAINE PAIRE'!$A$15:$A$27,0)+1,MATCH(OFFSET('Planning MAICHE calcul'!Q$1,0,-COLUMN()+2),'SEMAINE PAIRE'!$B$13,0))=""), "S2","")} | R12: {=IF(AND(INDEX('SEMAINE PAIRE'!$B$15:$F$27,MATCH('Planning MAICHE calcul'!R$2,'SEMAINE PAIRE'!$A$15:$A$27,0),MATCH(OFFSET('Planning MAICHE calcul'!R$1,0,-COLUMN()+2),'SEMAINE PAIRE'!$B$13,0))=$A12,INDEX('SEMAINE PAIRE'!$B$15:$F$27,MATCH('Planning MAICHE calcul'!R$2,'SEMAINE PAIRE'!$A$15:$A$27,0)+1,MATCH(OFFSET('Planning MAICHE calcul'!R$1,0,-COLUMN()+2),'SEMAINE PAIRE'!$B$13,0))=""), "R.Ext","")} | S12: 0.57291667 | T12: 0.6875 | W12: 0.35416667 | X12: 0.53125 | AC12: 0.57291667 | AD12: 0.6875 | AG12: 0.35416667 | AH12: 0.53125 | AM12: 0.57291667 | AN12: 0.6875 | AQ12: 0.35416667 | AR12: 0.53125 | AW12: 0.57291667 | AX12: 0.6875 | BB12: =ROUND(AZ12-BA12,2) -> 0
A13: M S | B13: {=IF(AND(INDEX('SEMAINE PAIRE'!$B$15:$F$27,MATCH('Planning MAICHE calcul'!B$2,'SEMAINE PAIRE'!$A$15:$A$27,0),MATCH(OFFSET('Planning MAICHE calcul'!B$1,0,-COLUMN()+2),'SEMAINE PAIRE'!$B$13,0))=$A13,INDEX('SEMAINE PAIRE'!$B$15:$F$27,MATCH('Planning MAICHE calcul'!B$2,'SEMAINE PAIRE'!$A$15:$A$27,0)+1,MATCH(OFFSET('Planning MAICHE calcul'!B$1,0,-COLUMN()+2),'SEMAINE PAIRE'!$B$13,0))=""), "ouv","")} | C13: 0.35416667 | D13: 0.53125 | E13: {=IF(AND(INDEX('SEMAINE PAIRE'!$B$15:$F$27,MATCH('Planning MAICHE calcul'!E$2,'SEMAINE PAIRE'!$A$15:$A$27,0),MATCH(OFFSET('Planning MAICHE calcul'!E$1,0,-COLUMN()+2),'SEMAINE PAIRE'!$B$13,0))=$A13,INDEX('SEMAINE PAIRE'!$B$15:$F$27,MATCH('Planning MAICHE calcul'!E$2,'SEMAINE PAIRE'!$A$15:$A$27,0)+1,MATCH(OFFSET('Planning MAICHE calcul'!E$1,0,-COLUMN()+2),'SEMAINE PAIRE'!$B$13,0))=""), "Cui","")} | F13: {=IF(AND(INDEX('SEMAINE PAIRE'!$B$15:$F$27,MATCH('Planning MAICHE calcul'!F$2,'SEMAINE PAIRE'!$A$15:$A$27,0),MATCH(OFFSET('Planning MAICHE calcul'!F$1,0,-COLUMN()+2),'SEMAINE PAIRE'!$B$13,0))=$A13,INDEX('SEMAINE PAIRE'!$B$15:$F$27,MATCH('Planning MAICHE calcul'!F$2,'SEMAINE PAIRE'!$A$15:$A$27,0)+1,MATCH(OFFSET('Planning MAICHE calcul'!F$1,0,-COLUMN()+2),'SEMAINE PAIRE'!$B$13,0))=""), "S1","")} | G13: {=IF(AND(INDEX('SEMAINE PAIRE'!$B$15:$F$27,MATCH('Planning MAICHE calcul'!G$2,'SEMAINE PAIRE'!$A$15:$A$27,0),MATCH(OFFSET('Planning MAICHE calcul'!G$1,0,-COLUMN()+2),'SEMAINE PAIRE'!$B$13,0))=$A13,INDEX('SEMAINE PAIRE'!$B$15:$F$27,MATCH('Planning MAICHE calcul'!G$2,'SEMAINE PAIRE'!$A$15:$A$27,0)+1,MATCH(OFFSET('Planning MAICHE calcul'!G$1,0,-COLUMN()+2),'SEMAINE PAIRE'!$B$13,0))=""), "S2","")} | H13: {=IF(AND(INDEX('SEMAINE PAIRE'!$B$15:$F$27,MATCH('Planning MAICHE calcul'!H$2,'SEMAINE PAIRE'!$A$15:$A$27,0),MATCH(OFFSET('Planning MAICHE calcul'!H$1,0,-COLUMN()+2),'SEMAINE PAIRE'!$B$13,0))=$A13,INDEX('SEMAINE PAIRE'!$B$15:$F$27,MATCH('Planning MAICHE calcul'!H$2,'SEMAINE PAIRE'!$A$15:$A$27,0)+1,MATCH(OFFSET('Planning MAICHE calcul'!H$1,0,-COLUMN()+2),'SEMAINE PAIRE'!$B$13,0))=""), "R.Ext","")} | I13: 0.57291667 | J13: 0.6875 | K13: {=IF(AND(INDEX('SEMAINE PAIRE'!$B$15:$F$27,MATCH('Planning MAICHE calcul'!K$2,'SEMAINE PAIRE'!$A$15:$A$27,0),MATCH(OFFSET('Planning MAICHE calcul'!K$1,0,-COLUMN()+2),'SEMAINE PAIRE'!$B$13,0))=$A13,INDEX('SEMAINE PAIRE'!$B$15:$F$27,MATCH('Planning MAICHE calcul'!K$2,'SEMAINE PAIRE'!$A$15:$A$27,0)+1,MATCH(OFFSET('Planning MAICHE calcul'!K$1,0,-COLUMN()+2),'SEMAINE PAIRE'!$B$13,0))=""), "Fer","")} | L13: {=IF(AND(INDEX('SEMAINE PAIRE'!$B$15:$F$27,MATCH('Planning MAICHE calcul'!L$2,'SEMAINE PAIRE'!$A$15:$A$27,0),MATCH(OFFSET('Planning MAICHE calcul'!L$1,0,-COLUMN()+2),'SEMAINE PAIRE'!$B$13,0))=$A13,INDEX('SEMAINE PAIRE'!$B$15:$F$27,MATCH('Planning MAICHE calcul'!L$2,'SEMAINE PAIRE'!$A$15:$A$27,0)+1,MATCH(OFFSET('Planning MAICHE calcul'!L$1,0,-COLUMN()+2),'SEMAINE PAIRE'!$B$13,0))=""), "ouv","")} | M13: 0.35416667 | N13: 0.53125 | O13: {=IF(AND(INDEX('SEMAINE PAIRE'!$B$15:$F$27,MATCH('Planning MAICHE calcul'!O$2,'SEMAINE PAIRE'!$A$15:$A$27,0),MATCH(OFFSET('Planning MAICHE calcul'!O$1,0,-COLUMN()+2),'SEMAINE PAIRE'!$B$13,0))=$A13,INDEX('SEMAINE PAIRE'!$B$15:$F$27,MATCH('Planning MAICHE calcul'!O$2,'SEMAINE PAIRE'!$A$15:$A$27,0)+1,MATCH(OFFSET('Planning MAICHE calcul'!O$1,0,-COLUMN()+2),'SEMAINE PAIRE'!$B$13,0))=""), "Cui","")} | P13: {=IF(AND(INDEX('SEMAINE PAIRE'!$B$15:$F$27,MATCH('Planning MAICHE calcul'!P$2,'SEMAINE PAIRE'!$A$15:$A$27,0),MATCH(OFFSET('Planning MAICHE calcul'!P$1,0,-COLUMN()+2),'SEMAINE PAIRE'!$B$13,0))=$A13,INDEX('SEMAINE PAIRE'!$B$15:$F$27,MATCH('Planning MAICHE calcul'!P$2,'SEMAINE PAIRE'!$A$15:$A$27,0)+1,MATCH(OFFSET('Planning MAICHE calcul'!P$1,0,-COLUMN()+2),'SEMAINE PAIRE'!$B$13,0))=""), "S1","")} | Q13: {=IF(AND(INDEX('SEMAINE PAIRE'!$B$15:$F$27,MATCH('Planning MAICHE calcul'!Q$2,'SEMAINE PAIRE'!$A$15:$A$27,0),MATCH(OFFSET('Planning MAICHE calcul'!Q$1,0,-COLUMN()+2),'SEMAINE PAIRE'!$B$13,0))=$A13,INDEX('SEMAINE PAIRE'!$B$15:$F$27,MATCH('Planning MAICHE calcul'!Q$2,'SEMAINE PAIRE'!$A$15:$A$27,0)+1,MATCH(OFFSET('Planning MAICHE calcul'!Q$1,0,-COLUMN()+2),'SEMAINE PAIRE'!$B$13,0))=""), "S2","")} | R13: {=IF(AND(INDEX('SEMAINE PAIRE'!$B$15:$F$27,MATCH('Planning MAICHE calcul'!R$2,'SEMAINE PAIRE'!$A$15:$A$27,0),MATCH(OFFSET('Planning MAICHE calcul'!R$1,0,-COLUMN()+2),'SEMAINE PAIRE'!$B$13,0))=$A13,INDEX('SEMAINE PAIRE'!$B$15:$F$27,MATCH('Planning MAICHE calcul'!R$2,'SEMAINE PAIRE'!$A$15:$A$27,0)+1,MATCH(OFFSET('Planning MAICHE calcul'!R$1,0,-COLUMN()+2),'SEMAINE PAIRE'!$B$13,0))=""), "R.Ext","")} | S13: 0.57291667 | T13: 0.6875 | W13: 0.35416667 | X13: 0.53125 | AC13: 0.57291667 | AD13: 0.6875 | AG13: 0.35416667 | AH13: 0.53125 | AM13: 0.57291667 | AN13: 0.6875 | AQ13: 0.35416667 | AR13: 0.53125 | AW13: 0.57291667 | AX13: 0.6875
A14: C H | B14: {=IF(AND(INDEX('SEMAINE PAIRE'!$B$15:$F$27,MATCH('Planning MAICHE calcul'!B$2,'SEMAINE PAIRE'!$A$15:$A$27,0),MATCH(OFFSET('Planning MAICHE calcul'!B$1,0,-COLUMN()+2),'SEMAINE PAIRE'!$B$13,0))=$A14,INDEX('SEMAINE PAIRE'!$B$15:$F$27,MATCH('Planning MAICHE calcul'!B$2,'SEMAINE PAIRE'!$A$15:$A$27,0)+1,MATCH(OFFSET('Planning MAICHE calcul'!B$1,0,-COLUMN()+2),'SEMAINE PAIRE'!$B$13,0))=""), "ouv","")} | C14: 0.35416667 | D14: 0.53125 | E14: {=IF(AND(INDEX('SEMAINE PAIRE'!$B$15:$F$27,MATCH('Planning MAICHE calcul'!E$2,'SEMAINE PAIRE'!$A$15:$A$27,0),MATCH(OFFSET('Planning MAICHE calcul'!E$1,0,-COLUMN()+2),'SEMAINE PAIRE'!$B$13,0))=$A14,INDEX('SEMAINE PAIRE'!$B$15:$F$27,MATCH('Planning MAICHE calcul'!E$2,'SEMAINE PAIRE'!$A$15:$A$27,0)+1,MATCH(OFFSET('Planning MAICHE calcul'!E$1,0,-COLUMN()+2),'SEMAINE PAIRE'!$B$13,0))=""), "Cui","")} | F14: {=IF(AND(INDEX('SEMAINE PAIRE'!$B$15:$F$27,MATCH('Planning MAICHE calcul'!F$2,'SEMAINE PAIRE'!$A$15:$A$27,0),MATCH(OFFSET('Planning MAICHE calcul'!F$1,0,-COLUMN()+2),'SEMAINE PAIRE'!$B$13,0))=$A14,INDEX('SEMAINE PAIRE'!$B$15:$F$27,MATCH('Planning MAICHE calcul'!F$2,'SEMAINE PAIRE'!$A$15:$A$27,0)+1,MATCH(OFFSET('Planning MAICHE calcul'!F$1,0,-COLUMN()+2),'SEMAINE PAIRE'!$B$13,0))=""), "S1","")} | G14: {=IF(AND(INDEX('SEMAINE PAIRE'!$B$15:$F$27,MATCH('Planning MAICHE calcul'!G$2,'SEMAINE PAIRE'!$A$15:$A$27,0),MATCH(OFFSET('Planning MAICHE calcul'!G$1,0,-COLUMN()+2),'SEMAINE PAIRE'!$B$13,0))=$A14,INDEX('SEMAINE PAIRE'!$B$15:$F$27,MATCH('Planning MAICHE calcul'!G$2,'SEMAINE PAIRE'!$A$15:$A$27,0)+1,MATCH(OFFSET('Planning MAICHE calcul'!G$1,0,-COLUMN()+2),'SEMAINE PAIRE'!$B$13,0))=""), "S2","")} | H14: {=IF(AND(INDEX('SEMAINE PAIRE'!$B$15:$F$27,MATCH('Planning MAICHE calcul'!H$2,'SEMAINE PAIRE'!$A$15:$A$27,0),MATCH(OFFSET('Planning MAICHE calcul'!H$1,0,-COLUMN()+2),'SEMAINE PAIRE'!$B$13,0))=$A14,INDEX('SEMAINE PAIRE'!$B$15:$F$27,MATCH('Planning MAICHE calcul'!H$2,'SEMAINE PAIRE'!$A$15:$A$27,0)+1,MATCH(OFFSET('Planning MAICHE calcul'!H$1,0,-COLUMN()+2),'SEMAINE PAIRE'!$B$13,0))=""), "R.Ext","")} | I14: 0.57291667 | J14: 0.6875 | K14: {=IF(AND(INDEX('SEMAINE PAIRE'!$B$15:$F$27,MATCH('Planning MAICHE calcul'!K$2,'SEMAINE PAIRE'!$A$15:$A$27,0),MATCH(OFFSET('Planning MAICHE calcul'!K$1,0,-COLUMN()+2),'SEMAINE PAIRE'!$B$13,0))=$A14,INDEX('SEMAINE PAIRE'!$B$15:$F$27,MATCH('Planning MAICHE calcul'!K$2,'SEMAINE PAIRE'!$A$15:$A$27,0)+1,MATCH(OFFSET('Planning MAICHE calcul'!K$1,0,-COLUMN()+2),'SEMAINE PAIRE'!$B$13,0))=""), "Fer","")} | L14: {=IF(AND(INDEX('SEMAINE PAIRE'!$B$15:$F$27,MATCH('Planning MAICHE calcul'!L$2,'SEMAINE PAIRE'!$A$15:$A$27,0),MATCH(OFFSET('Planning MAICHE calcul'!L$1,0,-COLUMN()+2),'SEMAINE PAIRE'!$B$13,0))=$A14,INDEX('SEMAINE PAIRE'!$B$15:$F$27,MATCH('Planning MAICHE calcul'!L$2,'SEMAINE PAIRE'!$A$15:$A$27,0)+1,MATCH(OFFSET('Planning MAICHE calcul'!L$1,0,-COLUMN()+2),'SEMAINE PAIRE'!$B$13,0))=""), "ouv","")} | M14: 0.35416667 | N14: 0.53125 | O14: {=IF(AND(INDEX('SEMAINE PAIRE'!$B$15:$F$27,MATCH('Planning MAICHE calcul'!O$2,'SEMAINE PAIRE'!$A$15:$A$27,0),MATCH(OFFSET('Planning MAICHE calcul'!O$1,0,-COLUMN()+2),'SEMAINE PAIRE'!$B$13,0))=$A14,INDEX('SEMAINE PAIRE'!$B$15:$F$27,MATCH('Planning MAICHE calcul'!O$2,'SEMAINE PAIRE'!$A$15:$A$27,0)+1,MATCH(OFFSET('Planning MAICHE calcul'!O$1,0,-COLUMN()+2),'SEMAINE PAIRE'!$B$13,0))=""), "Cui","")} | P14: {=IF(AND(INDEX('SEMAINE PAIRE'!$B$15:$F$27,MATCH('Planning MAICHE calcul'!P$2,'SEMAINE PAIRE'!$A$15:$A$27,0),MATCH(OFFSET('Planning MAICHE calcul'!P$1,0,-COLUMN()+2),'SEMAINE PAIRE'!$B$13,0))=$A14,INDEX('SEMAINE PAIRE'!$B$15:$F$27,MATCH('Planning MAICHE calcul'!P$2,'SEMAINE PAIRE'!$A$15:$A$27,0)+1,MATCH(OFFSET('Planning MAICHE calcul'!P$1,0,-COLUMN()+2),'SEMAINE PAIRE'!$B$13,0))=""), "S1","")} | Q14: {=IF(AND(INDEX('SEMAINE PAIRE'!$B$15:$F$27,MATCH('Planning MAICHE calcul'!Q$2,'SEMAINE PAIRE'!$A$15:$A$27,0),MATCH(OFFSET('Planning MAICHE calcul'!Q$1,0,-COLUMN()+2),'SEMAINE PAIRE'!$B$13,0))=$A14,INDEX('SEMAINE PAIRE'!$B$15:$F$27,MATCH('Planning MAICHE calcul'!Q$2,'SEMAINE PAIRE'!$A$15:$A$27,0)+1,MATCH(OFFSET('Planning MAICHE calcul'!Q$1,0,-COLUMN()+2),'SEMAINE PAIRE'!$B$13,0))=""), "S2","")} | R14: {=IF(AND(INDEX('SEMAINE PAIRE'!$B$15:$F$27,MATCH('Planning MAICHE calcul'!R$2,'SEMAINE PAIRE'!$A$15:$A$27,0),MATCH(OFFSET('Planning MAICHE calcul'!R$1,0,-COLUMN()+2),'SEMAINE PAIRE'!$B$13,0))=$A14,INDEX('SEMAINE PAIRE'!$B$15:$F$27,MATCH('Planning MAICHE calcul'!R$2,'SEMAINE PAIRE'!$A$15:$A$27,0)+1,MATCH(OFFSET('Planning MAICHE calcul'!R$1,0,-COLUMN()+2),'SEMAINE PAIRE'!$B$13,0))=""), "R.Ext","")} | S14: 0.57291667 | T14: 0.6875 | W14: 0.35416667 | X14: 0.53125 | AC14: 0.57291667 | AD14: 0.6875 | AG14: 0.35416667 | AH14: 0.53125 | AM14: 0.57291667 | AN14: 0.6875 | AQ14: 0.35416667 | AR14: 0.53125 | AW14: 0.57291667 | AX14: 0.6875 | BB14: =ROUND(AZ14-BA14,2) -> 0
A15: H G | B15: {=IF(AND(INDEX('SEMAINE PAIRE'!$B$15:$F$27,MATCH('Planning MAICHE calcul'!B$2,'SEMAINE PAIRE'!$A$15:$A$27,0),MATCH(OFFSET('Planning MAICHE calcul'!B$1,0,-COLUMN()+2),'SEMAINE PAIRE'!$B$13,0))=$A15,INDEX('SEMAINE PAIRE'!$B$15:$F$27,MATCH('Planning MAICHE calcul'!B$2,'SEMAINE PAIRE'!$A$15:$A$27,0)+1,MATCH(OFFSET('Planning MAICHE calcul'!B$1,0,-COLUMN()+2),'SEMAINE PAIRE'!$B$13,0))=""), "ouv","")} | C15: 0.32291667 | D15: 0.5 | E15: {=IF(AND(INDEX('SEMAINE PAIRE'!$B$15:$F$27,MATCH('Planning MAICHE calcul'!E$2,'SEMAINE PAIRE'!$A$15:$A$27,0),MATCH(OFFSET('Planning MAICHE calcul'!E$1,0,-COLUMN()+2),'SEMAINE PAIRE'!$B$13,0))=$A15,INDEX('SEMAINE PAIRE'!$B$15:$F$27,MATCH('Planning MAICHE calcul'!E$2,'SEMAINE PAIRE'!$A$15:$A$27,0)+1,MATCH(OFFSET('Planning MAICHE calcul'!E$1,0,-COLUMN()+2),'SEMAINE PAIRE'!$B$13,0))=""), "Cui","")} | F15: {=IF(AND(INDEX('SEMAINE PAIRE'!$B$15:$F$27,MATCH('Planning MAICHE calcul'!F$2,'SEMAINE PAIRE'!$A$15:$A$27,0),MATCH(OFFSET('Planning MAICHE calcul'!F$1,0,-COLUMN()+2),'SEMAINE PAIRE'!$B$13,0))=$A15,INDEX('SEMAINE PAIRE'!$B$15:$F$27,MATCH('Planning MAICHE calcul'!F$2,'SEMAINE PAIRE'!$A$15:$A$27,0)+1,MATCH(OFFSET('Planning MAICHE calcul'!F$1,0,-COLUMN()+2),'SEMAINE PAIRE'!$B$13,0))=""), "S1","")} | G15: {=IF(AND(INDEX('SEMAINE PAIRE'!$B$15:$F$27,MATCH('Planning MAICHE calcul'!G$2,'SEMAINE PAIRE'!$A$15:$A$27,0),MATCH(OFFSET('Planning MAICHE calcul'!G$1,0,-COLUMN()+2),'SEMAINE PAIRE'!$B$13,0))=$A15,INDEX('SEMAINE PAIRE'!$B$15:$F$27,MATCH('Planning MAICHE calcul'!G$2,'SEMAINE PAIRE'!$A$15:$A$27,0)+1,MATCH(OFFSET('Planning MAICHE calcul'!G$1,0,-COLUMN()+2),'SEMAINE PAIRE'!$B$13,0))=""), "S2","")} | H15: {=IF(AND(INDEX('SEMAINE PAIRE'!$B$15:$F$27,MATCH('Planning MAICHE calcul'!H$2,'SEMAINE PAIRE'!$A$15:$A$27,0),MATCH(OFFSET('Planning MAICHE calcul'!H$1,0,-COLUMN()+2),'SEMAINE PAIRE'!$B$13,0))=$A15,INDEX('SEMAINE PAIRE'!$B$15:$F$27,MATCH('Planning MAICHE calcul'!H$2,'SEMAINE PAIRE'!$A$15:$A$27,0)+1,MATCH(OFFSET('Planning MAICHE calcul'!H$1,0,-COLUMN()+2),'SEMAINE PAIRE'!$B$13,0))=""), "R.Ext","")} | I15: 0.55208333 | J15: 0.70833333 | K15: {=IF(AND(INDEX('SEMAINE PAIRE'!$B$15:$F$27,MATCH('Planning MAICHE calcul'!K$2,'SEMAINE PAIRE'!$A$15:$A$27,0),MATCH(OFFSET('Planning MAICHE calcul'!K$1,0,-COLUMN()+2),'SEMAINE PAIRE'!$B$13,0))=$A15,INDEX('SEMAINE PAIRE'!$B$15:$F$27,MATCH('Planning MAICHE calcul'!K$2,'SEMAINE PAIRE'!$A$15:$A$27,0)+1,MATCH(OFFSET('Planning MAICHE calcul'!K$1,0,-COLUMN()+2),'SEMAINE PAIRE'!$B$13,0))=""), "Fer","")} | L15: {=IF(AND(INDEX('SEMAINE PAIRE'!$B$15:$F$27,MATCH('Planning MAICHE calcul'!L$2,'SEMAINE PAIRE'!$A$15:$A$27,0),MATCH(OFFSET('Planning MAICHE calcul'!L$1,0,-COLUMN()+2),'SEMAINE PAIRE'!$B$13,0))=$A15,INDEX('SEMAINE PAIRE'!$B$15:$F$27,MATCH('Planning MAICHE calcul'!L$2,'SEMAINE PAIRE'!$A$15:$A$27,0)+1,MATCH(OFFSET('Planning MAICHE calcul'!L$1,0,-COLUMN()+2),'SEMAINE PAIRE'!$B$13,0))=""), "ouv","")} | M15: 0.32291667 | N15: 0.5 | O15: {=IF(AND(INDEX('SEMAINE PAIRE'!$B$15:$F$27,MATCH('Planning MAICHE calcul'!O$2,'SEMAINE PAIRE'!$A$15:$A$27,0),MATCH(OFFSET('Planning MAICHE calcul'!O$1,0,-COLUMN()+2),'SEMAINE PAIRE'!$B$13,0))=$A15,INDEX('SEMAINE PAIRE'!$B$15:$F$27,MATCH('Planning MAICHE calcul'!O$2,'SEMAINE PAIRE'!$A$15:$A$27,0)+1,MATCH(OFFSET('Planning MAICHE calcul'!O$1,0,-COLUMN()+2),'SEMAINE PAIRE'!$B$13,0))=""), "Cui","")} | P15: {=IF(AND(INDEX('SEMAINE PAIRE'!$B$15:$F$27,MATCH('Planning MAICHE calcul'!P$2,'SEMAINE PAIRE'!$A$15:$A$27,0),MATCH(OFFSET('Planning MAICHE calcul'!P$1,0,-COLUMN()+2),'SEMAINE PAIRE'!$B$13,0))=$A15,INDEX('SEMAINE PAIRE'!$B$15:$F$27,MATCH('Planning MAICHE calcul'!P$2,'SEMAINE PAIRE'!$A$15:$A$27,0)+1,MATCH(OFFSET('Planning MAICHE calcul'!P$1,0,-COLUMN()+2),'SEMAINE PAIRE'!$B$13,0))=""), "S1","")} | Q15: {=IF(AND(INDEX('SEMAINE PAIRE'!$B$15:$F$27,MATCH('Planning MAICHE calcul'!Q$2,'SEMAINE PAIRE'!$A$15:$A$27,0),MATCH(OFFSET('Planning MAICHE calcul'!Q$1,0,-COLUMN()+2),'SEMAINE PAIRE'!$B$13,0))=$A15,INDEX('SEMAINE PAIRE'!$B$15:$F$27,MATCH('Planning MAICHE calcul'!Q$2,'SEMAINE PAIRE'!$A$15:$A$27,0)+1,MATCH(OFFSET('Planning MAICHE calcul'!Q$1,0,-COLUMN()+2),'SEMAINE PAIRE'!$B$13,0))=""), "S2","")} | R15: {=IF(AND(INDEX('SEMAINE PAIRE'!$B$15:$F$27,MATCH('Planning MAICHE calcul'!R$2,'SEMAINE PAIRE'!$A$15:$A$27,0),MATCH(OFFSET('Planning MAICHE calcul'!R$1,0,-COLUMN()+2),'SEMAINE PAIRE'!$B$13,0))=$A15,INDEX('SEMAINE PAIRE'!$B$15:$F$27,MATCH('Planning MAICHE calcul'!R$2,'SEMAINE PAIRE'!$A$15:$A$27,0)+1,MATCH(OFFSET('Planning MAICHE calcul'!R$1,0,-COLUMN()+2),'SEMAINE PAIRE'!$B$13,0))=""), "R.Ext","")} | S15: 0.55208333 | T15: 0.70833333 | W15: 0.32291667 | X15: 0.5 | AC15: 0.55208333 | AD15: 0.70833333 | AG15: 0.32291667 | AH15: 0.5 | AM15: 0.55208333 | AN15: 0.70833333 | AQ15: 0.32291667 | AR15: 0.44791667 | BB15: =ROUND(AZ15-BA15,2) -> 0
A16: W. E | B16: {=IF(AND(INDEX('SEMAINE PAIRE'!$B$15:$F$27,MATCH('Planning MAICHE calcul'!B$2,'SEMAINE PAIRE'!$A$15:$A$27,0),MATCH(OFFSET('Planning MAICHE calcul'!B$1,0,-COLUMN()+2),'SEMAINE PAIRE'!$B$13,0))=$A16,INDEX('SEMAINE PAIRE'!$B$15:$F$27,MATCH('Planning MAICHE calcul'!B$2,'SEMAINE PAIRE'!$A$15:$A$27,0)+1,MATCH(OFFSET('Planning MAICHE calcul'!B$1,0,-COLUMN()+2),'SEMAINE PAIRE'!$B$13,0))=""), "ouv","")} | C16: 0.35416667 | D16: 0.47916667 | E16: {=IF(AND(INDEX('SEMAINE PAIRE'!$B$15:$F$27,MATCH('Planning MAICHE calcul'!E$2,'SEMAINE PAIRE'!$A$15:$A$27,0),MATCH(OFFSET('Planning MAICHE calcul'!E$1,0,-COLUMN()+2),'SEMAINE PAIRE'!$B$13,0))=$A16,INDEX('SEMAINE PAIRE'!$B$15:$F$27,MATCH('Planning MAICHE calcul'!E$2,'SEMAINE PAIRE'!$A$15:$A$27,0)+1,MATCH(OFFSET('Planning MAICHE calcul'!E$1,0,-COLUMN()+2),'SEMAINE PAIRE'!$B$13,0))=""), "Cui","")} | F16: {=IF(AND(INDEX('SEMAINE PAIRE'!$B$15:$F$27,MATCH('Planning MAICHE calcul'!F$2,'SEMAINE PAIRE'!$A$15:$A$27,0),MATCH(OFFSET('Planning MAICHE calcul'!F$1,0,-COLUMN()+2),'SEMAINE PAIRE'!$B$13,0))=$A16,INDEX('SEMAINE PAIRE'!$B$15:$F$27,MATCH('Planning MAICHE calcul'!F$2,'SEMAINE PAIRE'!$A$15:$A$27,0)+1,MATCH(OFFSET('Planning MAICHE calcul'!F$1,0,-COLUMN()+2),'SEMAINE PAIRE'!$B$13,0))=""), "S1","")} | G16: {=IF(AND(INDEX('SEMAINE PAIRE'!$B$15:$F$27,MATCH('Planning MAICHE calcul'!G$2,'SEMAINE PAIRE'!$A$15:$A$27,0),MATCH(OFFSET('Planning MAICHE calcul'!G$1,0,-COLUMN()+2),'SEMAINE PAIRE'!$B$13,0))=$A16,INDEX('SEMAINE PAIRE'!$B$15:$F$27,MATCH('Planning MAICHE calcul'!G$2,'SEMAINE PAIRE'!$A$15:$A$27,0)+1,MATCH(OFFSET('Planning MAICHE calcul'!G$1,0,-COLUMN()+2),'SEMAINE PAIRE'!$B$13,0))=""), "S2","")} | H16: {=IF(AND(INDEX('SEMAINE PAIRE'!$B$15:$F$27,MATCH('Planning MAICHE calcul'!H$2,'SEMAINE PAIRE'!$A$15:$A$27,0),MATCH(OFFSET('Planning MAICHE calcul'!H$1,0,-COLUMN()+2),'SEMAINE PAIRE'!$B$13,0))=$A16,INDEX('SEMAINE PAIRE'!$B$15:$F$27,MATCH('Planning MAICHE calcul'!H$2,'SEMAINE PAIRE'!$A$15:$A$27,0)+1,MATCH(OFFSET('Planning MAICHE calcul'!H$1,0,-COLUMN()+2),'SEMAINE PAIRE'!$B$13,0))=""), "R.Ext","")} | I16: 0.52083333 | J16: 0.6875 | K16: {=IF(AND(INDEX('SEMAINE PAIRE'!$B$15:$F$27,MATCH('Planning MAICHE calcul'!K$2,'SEMAINE PAIRE'!$A$15:$A$27,0),MATCH(OFFSET('Planning MAICHE calcul'!K$1,0,-COLUMN()+2),'SEMAINE PAIRE'!$B$13,0))=$A16,INDEX('SEMAINE PAIRE'!$B$15:$F$27,MATCH('Planning MAICHE calcul'!K$2,'SEMAINE PAIRE'!$A$15:$A$27,0)+1,MATCH(OFFSET('Planning MAICHE calcul'!K$1,0,-COLUMN()+2),'SEMAINE PAIRE'!$B$13,0))=""), "Fer","")} | L16: {=IF(AND(INDEX('SEMAINE PAIRE'!$B$15:$F$27,MATCH('Planning MAICHE calcul'!L$2,'SEMAINE PAIRE'!$A$15:$A$27,0),MATCH(OFFSET('Planning MAICHE calcul'!L$1,0,-COLUMN()+2),'SEMAINE PAIRE'!$B$13,0))=$A16,INDEX('SEMAINE PAIRE'!$B$15:$F$27,MATCH('Planning MAICHE calcul'!L$2,'SEMAINE PAIRE'!$A$15:$A$27,0)+1,MATCH(OFFSET('Planning MAICHE calcul'!L$1,0,-COLUMN()+2),'SEMAINE PAIRE'!$B$13,0))=""), "ouv","")} | M16: 0.35416667 | N16: 0.47916667 | O16: {=IF(AND(INDEX('SEMAINE PAIRE'!$B$15:$F$27,MATCH('Planning MAICHE calcul'!O$2,'SEMAINE PAIRE'!$A$15:$A$27,0),MATCH(OFFSET('Planning MAICHE calcul'!O$1,0,-COLUMN()+2),'SEMAINE PAIRE'!$B$13,0))=$A16,INDEX('SEMAINE PAIRE'!$B$15:$F$27,MATCH('Planning MAICHE calcul'!O$2,'SEMAINE PAIRE'!$A$15:$A$27,0)+1,MATCH(OFFSET('Planning MAICHE calcul'!O$1,0,-COLUMN()+2),'SEMAINE PAIRE'!$B$13,0))=""), "Cui","")} | P16: {=IF(AND(INDEX('SEMAINE PAIRE'!$B$15:$F$27,MATCH('Planning MAICHE calcul'!P$2,'SEMAINE PAIRE'!$A$15:$A$27,0),MATCH(OFFSET('Planning MAICHE calcul'!P$1,0,-COLUMN()+2),'SEMAINE PAIRE'!$B$13,0))=$A16,INDEX('SEMAINE PAIRE'!$B$15:$F$27,MATCH('Planning MAICHE calcul'!P$2,'SEMAINE PAIRE'!$A$15:$A$27,0)+1,MATCH(OFFSET('Planning MAICHE calcul'!P$1,0,-COLUMN()+2),'SEMAINE PAIRE'!$B$13,0))=""), "S1","")} | Q16: {=IF(AND(INDEX('SEMAINE PAIRE'!$B$15:$F$27,MATCH('Planning MAICHE calcul'!Q$2,'SEMAINE PAIRE'!$A$15:$A$27,0),MATCH(OFFSET('Planning MAICHE calcul'!Q$1,0,-COLUMN()+2),'SEMAINE PAIRE'!$B$13,0))=$A16,INDEX('SEMAINE PAIRE'!$B$15:$F$27,MATCH('Planning MAICHE calcul'!Q$2,'SEMAINE PAIRE'!$A$15:$A$27,0)+1,MATCH(OFFSET('Planning MAICHE calcul'!Q$1,0,-COLUMN()+2),'SEMAINE PAIRE'!$B$13,0))=""), "S2","")} | R16: {=IF(AND(INDEX('SEMAINE PAIRE'!$B$15:$F$27,MATCH('Planning MAICHE calcul'!R$2,'SEMAINE PAIRE'!$A$15:$A$27,0),MATCH(OFFSET('Planning MAICHE calcul'!R$1,0,-COLUMN()+2),'SEMAINE PAIRE'!$B$13,0))=$A16,INDEX('SEMAINE PAIRE'!$B$15:$F$27,MATCH('Planning MAICHE calcul'!R$2,'SEMAINE PAIRE'!$A$15:$A$27,0)+1,MATCH(OFFSET('Planning MAICHE calcul'!R$1,0,-COLUMN()+2),'SEMAINE PAIRE'!$B$13,0))=""), "R.Ext","")} | S16: 0.52083333 | T16: 0.6875 | W16: 0.35416667 | X16: 0.47916667 | AC16: 0.52083333 | AD16: 0.6875 | AG16: 0.35416667 | AH16: 0.47916667 | AM16: 0.52083333 | AN16: 0.6875 | AQ16: 0.35416667 | AR16: 0.47916667 | AW16: 0.52083333 | AX16: 0.6875 | BB16: =ROUND(AZ16-BA16,2) -> 0
BD18: =SUM(BD5:BD15) -> 0 | BG18: =SUM(BG5:BG15) -> 0
B19: o | C19: c | D19: s1 | E19: S2 | F19: f | G19: re
A20: Semaine paire | B20: Ouverture | C20: Cuisine | D20: Service 1 | E20: Service 2 | F20: Fermeture | G20: Repas extérieur :
A21: LUNDI | B21: =COUNTIF(B$4:B$15,B$19) -> 0 | C21: =COUNTIF(G$4:G$15,C$19) -> 0 | D21: =COUNTIF(G$4:G$15,D$19) -> 0 | E21: =COUNTIF(H$4:H$15,E$19) -> 0 | F21: =COUNTIF(I$4:I$15,F$19) -> 0 | G21: =COUNTIF(J$4:J$15,G$19) -> 0 | K21: Tps Ouverture matin : | P21: o | Q21: 0.5 | R21: h | S21: h
A22: MARDI | B22: =COUNTIF(L$4:L$15,B$19) -> 0 | C22: =COUNTIF(Q$4:Q$15,C$19) -> 0 | D22: =COUNTIF(Q$4:Q$15,D$19) -> 0 | E22: =COUNTIF(R$4:R$15,E$19) -> 0 | F22: =COUNTIF(S$4:S$15,F$19) -> 0 | G22: =COUNTIF(T$4:T$15,G$19) -> 0 | K22: Tps Fermeture soir : | P22: f | Q22: 0.25 | R22: h | S22: h
A23: MERCREDI | B23: =COUNTIF(V$4:V$15,B$19) -> 0 | C23: =COUNTIF(AA$4:AA$15,C$19) -> 0 | D23: =COUNTIF(AA$4:AA$15,D$19) -> 0 | E23: =COUNTIF(AB$4:AB$15,E$19) -> 0 | F23: =COUNTIF(AC$4:AC$15,F$19) -> 0 | G23: =COUNTIF(AD$4:AD$15,G$19) -> 0 | K23: Tps Cuisine : | P23: c | Q23: 1 | R23: h | S23: h
A24: JEUDI | B24: =COUNTIF(AF$4:AF$15,B$19) -> 0 | C24: =COUNTIF(AK$4:AK$15,C$19) -> 0 | D24: =COUNTIF(AK$4:AK$15,D$19) -> 0 | E24: =COUNTIF(AL$4:AL$15,E$19) -> 0 | F24: =COUNTIF(AM$4:AM$15,F$19) -> 0 | G24: =COUNTIF(AN$4:AN$15,G$19) -> 0 | K24: Tps Service 1 : | P24: s1 | Q24: 1 | R24: h | S24: h
A25: VENDREDI | B25: =COUNTIF(AP$4:AP$15,B$19) -> 0 | C25: =COUNTIF(AU$4:AU$15,C$19) -> 0 | D25: =COUNTIF(AU$4:AU$15,D$19) -> 0 | E25: =COUNTIF(AV$4:AV$15,E$19) -> 0 | F25: =COUNTIF(AW$4:AW$15,F$19) -> 0 | G25: =COUNTIF(AX$4:AX$15,G$19) -> 0 | K25: Tps Service 2 : | P25: s2 | Q25: 1 | R25: h | S25: h
K26: Repas extérieur : | P26: re | Q26: 1 | R26: h
B28: LUNDI | L28: MARDI | V28: MERCREDI | AF28: JEUDI | AP28: VENDREDI | AZ28: TOTAL SEMAINE | BA28: TEMPS THEO W | BB28: Vérif temps W | BC28: TPS SERVICE | BE28: Nb cui ou ext
A29: SEMAINE IMPAIRE | B29: ouverture | C29: MATIN | E29: Cuisine | F29: Service 1 | G29: Service 2 | H29: Repas Ext | I29: A-MIDI | K29: Fermeture | L29: ouverture | M29: MATIN | O29: Cuisine | P29: Service 1 | Q29: Service 2 | R29: Repas Ext | S29: A-MIDI | U29: Fermeture | V29: ouverture | W29: MATIN | Y29: Cuisine | Z29: Service 1 | AA29: Service 2 | AB29: Repas Ext | AC29: A-MIDI | AE29: Fermeture | AF29: ouverture | AG29: MATIN | AI29: Cuisine | AJ29: Service 1 | AK29: Service 2 | AL29: Repas Ext | AM29: A-MIDI | AO29: Fermeture | AP29: ouverture | AQ29: MATIN | AS29: Cuisine | AT29: Service 1 | AU29: Service 2 | AV29: Repas Ext | AW29: A-MIDI | AY29: Fermeture
C30: Début | D30: Fin | I30: Début | J30: Fin | M30: Début | N30: Fin | S30: Début | T30: Fin | W30: Début | X30: Fin | AC30: Début | AD30: Fin | AG30: Début | AH30: Fin | AM30: Début | AN30: Fin | AQ30: Début | AR30: Fin | AW30: Début | AX30: Fin
A31: Infirmière | C31: 0.35416667 | D31: 0.47916667 | I31: 0.52083333 | J31: 0.6875 | M31: 0.35416667 | N31: 0.47916667 | S31: 0.52083333 | T31: 0.6875 | W31: 0.35416667 | X31: 0.47916667 | AC31: 0.52083333 | AD31: 0.6875 | AG31: 0.35416667 | AH31: 0.47916667 | AM31: 0.52083333 | AN31: 0.6875 | AQ31: 0.35416667 | AR31: 0.47916667 | AW31: 0.52083333 | AX31: 0.6875
A32: A I | C32: 0.35416667 | D32: 0.47916667 | I32: 0.52083333 | J32: 0.6875 | M32: 0.35416667 | N32: 0.47916667 | S32: 0.52083333 | T32: 0.6875 | W32: 0.35416667 | X32: 0.47916667 | AC32: 0.52083333 | AD32: 0.6875 | AG32: 0.35416667 | AH32: 0.47916667 | AM32: 0.52083333 | AN32: 0.63541667 | AQ32: 0.35416667 | AR32: 0.47916667 | AW32: 0.52083333 | AX32: 0.6875 | BE32: =COUNTIF(B32:AY32,"cui")+COUNTIF(B32:AY32,"ext") -> 0
A33: E A | C33: 0.35416667 | D33: 0.53125 | I33: 0.57291667 | J33: 0.6875 | M33: 0.35416667 | N33: 0.53125 | S33: 0.57291667 | T33: 0.6875 | W33: 0.44791667 | X33: 0.53125 | AC33: 0.57291667 | AD33: 0.6875 | AG33: 0.35416667 | AH33: 0.53125 | AM33: 0.57291667 | AN33: 0.6875 | AQ33: 0.35416667 | AR33: 0.53125 | AW33: 0.57291667 | AX33: 0.6875 | BE33: =COUNTIF(B33:AY33,"cui")+COUNTIF(B33:AY33,"ext") -> 0
A34: J Q | C34: 0.35416667 | D34: 0.47916667 | I34: 0.52083333 | J34: 0.6875 | M34: 0.35416667 | N34: 0.47916667 | S34: 0.52083333 | T34: 0.58333333 | W34: 0.35416667 | X34: 0.47916667 | AC34: 0.52083333 | AD34: 0.6875 | AG34: 0.35416667 | AH34: 0.47916667 | AM34: 0.52083333 | AN34: 0.6875 | AQ34: 0.35416667 | AR34: 0.47916667 | AW34: 0.52083333 | AX34: 0.6875 | BE34: =COUNTIF(B34:AY34,"cui")+COUNTIF(B34:AY34,"ext") -> 0
A35: B F | C35: 0.35416667 | D35: 0.47916667 | I35: 0.52083333 | J35: 0.6875 | M35: 0.35416667 | N35: 0.47916667 | S35: 0.52083333 | T35: 0.6875 | W35: 0.35416667 | X35: 0.47916667 | AC35: 0.52083333 | AD35: 0.6875 | AM35: 0.48958333 | AN35: 0.6875 | AQ35: 0.35416667 | AR35: 0.47916667 | AW35: 0.52083333 | AX35: 0.6875 | BE35: =COUNTIF(B35:AY35,"cui")+COUNTIF(B35:AY35,"ext") -> 0
A36: J-C H | C36: 0.35416667 | D36: 0.53125 | I36: 0.57291667 | J36: 0.6875 | M36: 0.35416667 | N36: 0.53125 | S36: 0.57291667 | T36: 0.6875 | W36: 0.35416667 | X36: 0.53125 | AC36: 0.57291667 | AD36: 0.6875 | AG36: 0.35416667 | AH36: 0.53125 | AM36: 0.57291667 | AN36: 0.6875 | AQ36: 0.35416667 | AR36: 0.52083333 | BE36: =COUNTIF(B36:AY36,"cui")+COUNTIF(B36:AY36,"ext") -> 0
A37: V B | M37: 0.35416667 | N37: 0.53125 | S37: 0.57291667 | T37: 0.6875 | W37: 0.35416667 | X37: 0.53125 | AC37: 0.57291667 | AD37: 0.6875 | AQ37: 0.39583333 | AR37: 0.53125 | AW37: 0.57291667 | AX37: 0.6875 | BE37: =COUNTIF(B37:AY37,"cui")+COUNTIF(B37:AY37,"ext") -> 0
A38: P T | C38: 0.35416667 | D38: 0.53125 | I38: 0.57291667 | J38: 0.6875 | M38: 0.35416667 | N38: 0.53125 | S38: 0.57291667 | T38: 0.6875 | W38: 0.35416667 | X38: 0.45833333 | AG38: 0.35416667 | AH38: 0.53125 | AM38: 0.57291667 | AN38: 0.6875 | AQ38: 0.35416667 | AR38: 0.53125 | AW38: 0.57291667 | AX38: 0.6875 | BE38: =COUNTIF(B38:AY38,"cui")+COUNTIF(B38:AY38,"ext") -> 0
A39: E F | C39: 0.35416667 | D39: 0.53125 | I39: 0.57291667 | J39: 0.6875 | M39: 0.35416667 | N39: 0.53125 | S39: 0.57291667 | T39: 0.6875 | W39: 0.35416667 | X39: 0.53125 | AC39: 0.57291667 | AD39: 0.6875 | AG39: 0.35416667 | AH39: 0.53125 | AM39: 0.57291667 | AN39: 0.6875 | AQ39: 0.35416667 | AR39: 0.53125 | AW39: 0.57291667 | AX39: 0.6875 | BE39: =COUNTIF(B39:AY39,"cui")+COUNTIF(B39:AY39,"ext") -> 0
A40: M S | BE40: =COUNTIF(B40:AY40,"cui")+COUNTIF(B40:AY40,"ext") -> 0
A41: C H | C41: 0.35416667 | D41: 0.53125 | I41: 0.57291667 | J41: 0.6875 | M41: 0.35416667 | N41: 0.53125 | S41: 0.57291667 | T41: 0.6875 | W41: 0.35416667 | X41: 0.53125 | AC41: 0.57291667 | AD41: 0.6875 | AG41: 0.35416667 | AH41: 0.53125 | AM41: 0.57291667 | AN41: 0.6875 | AQ41: 0.35416667 | AR41: 0.53125 | AW41: 0.57291667 | AX41: 0.64583333 | BE41: =COUNTIF(B41:AY41,"cui")+COUNTIF(B41:AY41,"ext") -> 0
A42: H G | C42: 0.32291667 | D42: 0.5 | I42: 0.55208333 | J42: 0.70833333 | M42: 0.32291667 | N42: 0.5 | S42: 0.55208333 | T42: 0.70833333 | W42: 0.32291667 | X42: 0.5 | AC42: 0.55208333 | AD42: 0.70833333 | AG42: 0.32291667 | AH42: 0.5 | AM42: 0.55208333 | AN42: 0.70833333 | AQ42: 0.32291667 | AR42: 0.44791667 | BE42: =COUNTIF(B42:AY42,"cui")+COUNTIF(B42:AY42,"ext") -> 0
A43: W. E | C43: 0.35416667 | D43: 0.47916667 | I43: 0.52083333 | J43: 0.6875 | M43: 0.35416667 | N43: 0.47916667 | S43: 0.52083333 | T43: 0.6875 | W43: 0.35416667 | X43: 0.47916667 | AC43: 0.52083333 | AD43: 0.6875 | AG43: 0.35416667 | AH43: 0.47916667 | AM43: 0.52083333 | AN43: 0.6875 | AQ43: 0.35416667 | AR43: 0.47916667 | AW43: 0.52083333 | AX43: 0.6875 | BE43: =COUNTIF(B43:AY43,"cui")+COUNTIF(B43:AY43,"ext") -> 0
B45: o | C45: c | D45: s1 | E45: S2 | F45: f | G45: re
A46: Semaine impaire | B46: Ouverture | C46: Cuisine | D46: Service 1 | E46: Service 2 | F46: Fermeture | G46: Repas extérieur :
A47: LUNDI | B47: =COUNTIF(B$31:B$42,B$45) -> 0 | C47: =COUNTIF(G$31:G$42,C$45) -> 0 | D47: =COUNTIF(G$31:G$42,D$45) -> 0 | E47: =COUNTIF(E$31:E$42,E$45) -> 0 | F47: =COUNTIF(I$31:I$42,F$45) -> 0 | G47: =COUNTIF(J$31:J$42,G$45) -> 0 | K47: Tps Ouverture matin : | P47: o | Q47: 0.5 | R47: h
A48: MARDI | B48: =COUNTIF(L$31:L$42,B$45) -> 0 | C48: =COUNTIF(Q$31:Q$42,C$45) -> 0 | D48: =COUNTIF(Q$31:Q$42,D$45) -> 0 | E48: =COUNTIF(O$31:O$42,E$45) -> 0 | F48: =COUNTIF(S$30:S$42,F$45) -> 0 | G48: =COUNTIF(T$30:T$42,G$45) -> 0 | K48: Tps Fermeture soir : | P48: f | Q48: 0.25 | R48: h
A49: MERCREDI | B49: =COUNTIF(V$31:V$42,B$45) -> 0 | C49: =COUNTIF(AA$30:AA$42,C$45) -> 0 | D49: =COUNTIF(AA$30:AA$42,D$45) -> 0 | E49: =COUNTIF(Y$30:Y$42,E$45) -> 0 | F49: =COUNTIF(AC$30:AC$42,F$45) -> 0 | G49: =COUNTIF(AD$30:AD$42,G$45) -> 0 | K49: Tps Cuisine : | P49: c | Q49: 1 | R49: h
A50: JEUDI | B50: =COUNTIF(AF$31:AF$42,B$45) -> 0 | C50: =COUNTIF(AK$31:AK$42,C$45) -> 0 | D50: =COUNTIF(AK$31:AK$42,D$45) -> 0 | E50: =COUNTIF(AI$31:AI$42,E$45) -> 0 | F50: =COUNTIF(AM$31:AM$42,F$45) -> 0 | G50: =COUNTIF(AN$31:AN$42,G$45) -> 0 | K50: Tps Service 1 : | P50: s1 | Q50: 1 | R50: h
A51: VENDREDI | B51: =COUNTIF(AP$31:AP$42,B$45) -> 0 | C51: =COUNTIF(AU$30:AU$42,C$45) -> 0 | D51: =COUNTIF(AU$31:AU$42,D$45) -> 0 | E51: =COUNTIF(AS$31:AS$42,E$45) -> 0 | F51: =COUNTIF(AW$28:AW$40,F$45) -> 0 | G51: =COUNTIF(AX$28:AX$40,G$45) -> 0 | K51: Tps Service 2 : | P51: s2 | Q51: 1 | R51: h
K52: Repas extérieur : | P52: re | Q52: 1 | R52: h

Sheet SEMAINE PAIRE
A1: Semaine | B1: =_xlfn.ISOWEEKNUM(_Date_Debut_SP) -> 14 | C1: Du | D1: 44655 | E1: au | F1: =D1+4 -> 44659
A3: A I | B3: B F | C3: C H | D3: E A | E3: J-C H | F3: J Q
A4: ='Planning MAICHE calcul'!AN5 -> 0.61458333 | B4: ='Planning MAICHE calcul'!AM8 -> 0.51041667 | D4: ='Planning MAICHE calcul'!AD6 -> 0.60416667 | E4: ='Planning MAICHE calcul'!W9 -> 0.4375 | F4: ='Planning MAICHE calcul'!AN7 -> 0.60416667 | G4: Départ/Arrivée
A5: ='Suivi remplacement'!H2 -> 0.16666667 | B5: ='Suivi remplacement'!E2 -> 0.0625 | C5: ='Suivi remplacement'!G2 -> 0.30208333 | D5: ='Suivi remplacement'!C2 -> 0.32291667 | E5: ='Suivi remplacement'!F2 -> 0 | F5: ='Suivi remplacement'!I2 -> 0.33333333 | G5: H remplacement
A7: P T | B7: V B | C7: W. E | D7: M S | E7: E F
A8: ='Planning MAICHE calcul'!X11 -> 0.375 | G8: Départ/Arrivée
A9: ='Suivi remplacement'!K2 -> 0.083333333 | B9: ='Suivi remplacement'!D2 -> 0.083333333 | C9: ='Suivi remplacement'!L2 -> 0 | D9: ='Suivi remplacement'!J2 -> 0.25 | E9: ='Suivi remplacement'!B2 -> 0.041666667 | G9: H remplacement
A11: Divers
A12: Réser. Véhicule | B12: Angelo Trafic Bleu | C12: Angelo Trafic Bleu | D12: Angelo Trafic Bleu | E12: Angelo Trafic Bleu | F12: Angelo Trafic Bleu
B13: LUNDI | C13: MARDI | D13: MERCREDI | E13: JEUDI | F13: VENDREDI
B14: =D1 -> 44655 | C14: =B14+1 -> 44656 | D14: =C14+1 -> 44657 | E14: =D14+1 -> 44658 | F14: =E14+1 -> 44659
A15: Ouverture | B15: Infirmière | C15: B F | D15: A I | E15: A I | F15: P T
A16: Remplacée | F16: C H
A17: Cuisine | B17: B F | C17: V B | D17: B F | E17: V B | F17: J-C H
A18: Remplacée
A19: Service 1 | B19: Infirmière | C19: M S | D19: J Q | E19: J Q | F19: M S
A20: Remplacée | B20: J-C H
A21: Service 2 | B21: A I | C21: E A | D21: J-C H | E21: P T | F21: P T
A22: Remplacée | F22: C H
A23: Fermeture | B23: A I | C23: B F | D23: M S | E23: B F | F23: B F
A24: Remplacée
A25: Repas EXT | B25: C H | C25: B F
A26: Repas EXT | B26: E F | C26: H G
A27: Repas EXT
A28: Congés | E28: Absence/Formation | I28: Absence/Global
A29: Date | B29: Prénom NOM | C29: Motif | E29: Date | F29: Nom | G29: Horaires | I29: Date | J29: Prénom NOM | K29: Motif

Sheet SEMAINE IMPAIRE
A1: Semaine | B1: =_xlfn.ISOWEEKNUM(_Date_Debut_SI) -> 13 | C1: Du | D1: 44648 | E1: au | F1: =D1+4 -> 44652
A3: A I | B3: B F | C3: C H | D3: E A | E3: J-C H | F3: J Q
A4: ='Planning MAICHE calcul'!AN32 -> 0.63541667 | B4: ='Planning MAICHE calcul'!AM35 -> 0.48958333 | C4: ='Planning MAICHE calcul'!AX41 -> 0.64583333 | D4: ='Planning MAICHE calcul'!W33 -> 0.44791667 | E4: ='Planning MAICHE calcul'!AR36 -> 0.52083333 | F4: ='Planning MAICHE calcul'!T34 -> 0.58333333 | G4: Départ/Arrivée
A5: ='Suivi remplacement'!H2 -> 0.16666667 | B5: ='Suivi remplacement'!E2 -> 0.0625 | C5: ='Suivi remplacement'!G2 -> 0.30208333 | D5: ='Suivi remplacement'!C2 -> 0.32291667 | E5: ='Suivi remplacement'!F2 -> 0 | F5: ='Suivi remplacement'!I2 -> 0.33333333 | G5: H remplacement
A6: P T | B6: V B | C6: W. E | D6: M S | E6: E F
A7: ='Planning MAICHE calcul'!X38 -> 0.45833333 | B7: ='Planning MAICHE calcul'!AQ37 -> 0.39583333 | G7: Départ/Arrivée
A8: ='Suivi remplacement'!K2 -> 0.083333333 | B8: ='Suivi remplacement'!D2 -> 0.083333333 | C8: ='Suivi remplacement'!L2 -> 0 | D8: ='Suivi remplacement'!J2 -> 0.25 | E8: ='Suivi remplacement'!B2 -> 0.041666667 | G8: H remplacement
A10: Divers | C10: Analyse de la situation 16h30 /18h00 | D10: ABS : Claude | E10: ABS : Angelo | F10: ABS : Jean .C
A11: Réser. Véhicule | B11: Angelo Trafic Bleu | C11: Angelo 208 | D11: Angelo Trafic Bleu | E11: Angelo Trafic Bleu | F11: Angelo Trafic Bleu
B12: LUNDI | C12: MARDI | D12: MERCREDI | E12: JEUDI | F12: VENDREDI
B13: =D1 -> 44648 | C13: =B13+1 -> 44649 | D13: =C13+1 -> 44650 | E13: =D13+1 -> 44651 | F13: =E13+1 -> 44652
A14: Ouverture | B14: J Q | C14: M S | D14: A I | E14: M S | F14: M S
A15: Remplacée
A16: Cuisine | B16: B F | C16: V B | D16: B F | E16: J-C H | F16: V B
A17: Remplacée
A18: Service 1 | C18: M S | D18: E A | E18: J Q | F18: J Q
A19: Remplacée | B19: J Q
A20: Service 2 | B20: J-C H | C20: E A | D20: J-C H | F20: C H
A21: Remplacée | E21: E A
A22: Fermeture | B22: A I | C22: A I | D22: E A | E22: B F | F22: A I
A23: Remplacée
A24: Repas EXT
A25: Repas EXT
A26: Repas EXT
A27: Congés | E27: Absence/Formation | I27: Absence/Global
A28: Date | B28: Prénom NOM | C28: Motif | E28: Date | F28: Nom | G28: Horaires | I28: Date | J28: Prénom NOM | K28: Motif
E29: 44650 | F29: HAUTEVELLE C. | G29: 08:30 16:30 | I29: 44650 | J29: HAUTEVELLE C. | K29: Formation
E30: 44652 | F30: HANSER J-C | G30: 5 H Voir planning car 4H | I30: 44652 | J30: HANSER J-C | K30: Formation

Sheet SUIVI CONGES
T1: CONGES PAYES | U1: CP | Z1: SUPRA | AA1: SUP | AQ1: FERIE | AR1: F | BR1: CONGES PAYES | BS1: C | BX1: SUPRA | BY1: SU | CG1: RECUP d' H.Sup | CO1: FERIE | CP1: F | EA1: CONGES PAYES | EB1: C | EG1: SUPRA | EH1: SU | EP1: RECUP d' H.Sup | EX1: FERIE | EY1: F | GC1: CONGES PAYES | GD1: C | GI1: SUPRA | GJ1: SU | GR1: RECUP d' H.Sup | GZ1: FERIE | HA1: F | HX1: CONGES PAYES | HY1: C | ID1: SUPRA | IE1: SU | IM1: RECUP d' H.Sup | IU1: FERIE | IV1: F | KM1: CONGES PAYES | KN1: C | KS1: SUPRA | KT1: SU | LB1: RECUP d' H.Sup | LJ1: FERIE | LK1: F | MP1: CONGES PAYES | MQ1: C | MV1: SUPRA | MW1: SU | NE1: RECUP d' H.Sup | NM1: FERIE | NN1: F
T2: C ANCIENNETE | U2: CA | AA2: / | AI2: ABS cause MALADIE | AJ2: Abs | BR2: C ANCIENNETE | BS2: CA | BY2: / | CG2: ABS cause MALADIE | CH2: Ab | EA2: C ANCIENNETE | EB2: CA | EH2: / | EP2: ABS cause MALADIE | EQ2: Ab | GC2: C ANCIENNETE | GD2: CA | GJ2: / | GR2: ABS cause MALADIE | GS2: Ab | HX2: C ANCIENNETE | HY2: CA | IE2: / | IM2: ABS cause MALADIE | IN2: Ab | KM2: C ANCIENNETE | KN2: CA | KT2: / | LB2: ABS cause MALADIE | LC2: Ab | MP2: C ANCIENNETE | MQ2: CA | MW2: / | NE2: ABS cause MALADIE | NF2: Ab
K3: 09h30 11h00 | O3: =AG9 -> 18/01/22 | U3: / | AA3: / | AI3: CONGES PATERNITE/MATERNITE | AJ3: Pat | BS3: / | BY3: / | CG3: CONGES PATERNITE/MATERNITE | CH3: Pa | EB3: / | EH3: / | EP3: CONGES PATERNITE/MATERNITE | EQ3: Pa | GD3: / | GJ3: / | GR3: CONGES PATERNITE/MATERNITE | GS3: Pa | HY3: / | IE3: / | IM3: CONGES PATERNITE/MATERNITE | IN3: Pa | KN3: / | KT3: / | LB3: CONGES PATERNITE/MATERNITE | LC3: Pa | MQ3: / | MW3: / | NE3: CONGES PATERNITE/MATERNITE | NF3: Pa
U4: / | AA4: / | AJ4: / | BS4: / | BY4: / | CH4: / | EB4: / | EH4: / | EQ4: / | GD4: / | GJ4: / | GS4: / | HY4: / | IE4: / | IN4: / | KN4: / | KT4: / | LC4: / | MQ4: / | MW4: / | NF4: /
B5: Debut | D5: 44348 | G5: 44562
B6: Fin | D6: 44712 | G6: 44926 | P6: JANVIER | AU6: FEVRIER | BW6: MARS | DB6: AVRIL | EF6: MAI | FK6: JUIN | GO6: JUILLET | HT6: AOUT | IY6: SEPTEMBRE | KC6: OCTOBRE | LH6: NOVEMBRE | ML6: DECEMBRE
A7: Compteurs | O7: 2022
A8: ACQUIS | D8: POSE | H8: RESTE | K8: EQUIPE/SECTEUR | L8: CACES | M8: SST | P8: S | Q8: D | R8: L | S8: M | T8: M | U8: J | V8: V | W8: S | X8: D | Y8: L | Z8: M | AA8: M | AB8: J | AC8: V | AD8: S | AE8: D | AF8: L | AG8: M | AH8: M | AI8: J | AJ8: V | AK8: S | AL8: D | AM8: L | AN8: M | AO8: M | AP8: J | AQ8: V | AR8: S | AS8: D | AT8: L | AU8: M | AV8: M | AW8: J | AX8: V | AY8: S | AZ8: D | BA8: L | BB8: M | BC8: M | BD8: J | BE8: V | BF8: S | BG8: D | BH8: L | BI8: M | BJ8: M | BK8: J | BL8: V | BM8: S | BN8: D | BO8: L | BP8: M | BQ8: M | BR8: J | BS8: V | BT8: S | BU8: D | BV8: L | BW8: M | BX8: M | BY8: J | BZ8: V | CA8: S | CB8: D | CC8: L | CD8: M | CE8: M | CF8: J | CG8: V | CH8: S | CI8: D | CJ8: L | CK8: M | CL8: M | CM8: J | CN8: V | CO8: S | CP8: D | CQ8: L | CR8: M | CS8: M | CT8: J | CU8: V | CV8: S | CW8: D | CX8: L | CY8: M | CZ8: M | DA8: J | DB8: V | DC8: S | DD8: D | DE8: L | DF8: M | DG8: M | DH8: J | DI8: V | DJ8: S | DK8: D | DL8: L | DM8: M | DN8: M | DO8: J | DP8: V | DQ8: S | DR8: D | DS8: L | DT8: M | DU8: M | DV8: J | DW8: V | DX8: S | DY8: D | DZ8: L | EA8: M | EB8: M | EC8: J | ED8: V | EE8: S | EF8: D | EG8: L | EH8: M | EI8: M | EJ8: J | EK8: V | EL8: S | EM8: D | EN8: L | EO8: M | EP8: M | EQ8: J | ER8: V | ES8: S | ET8: D | EU8: L | EV8: M | EW8: M | EX8: J | EY8: V | EZ8: S | FA8: D | FB8: L | FC8: M | FD8: M | FE8: J | FF8: V | FG8: S | FH8: D | FI8: L | FJ8: M | FK8: M | FL8: J | FM8: V | FN8: S | FO8: D | FP8: L | FQ8: M | FR8: M | FS8: J | FT8: V | FU8: S | FV8: D | FW8: L | FX8: M | FY8: M | FZ8: J | GA8: V | GB8: S | GC8: D | GD8: L | GE8: M | GF8: M | GG8: J | GH8: V | GI8: S | GJ8: D | GK8: L | GL8: M | GM8: M | GN8: J | GO8: V | GP8: S | GQ8: D | GR8: L | GS8: M | GT8: M | GU8: J | GV8: V | GW8: S | GX8: D | GY8: L | GZ8: M | HA8: M | HB8: J | HC8: V | HD8: S | HE8: D | HF8: L | HG8: M | HH8: M | HI8: J | HJ8: V | HK8: S | HL8: D | HM8: L | HN8: M | HO8: M | HP8: J | HQ8: V | HR8: S | HS8: D | HT8: L | HU8: M | HV8: M | HW8: J | HX8: V | HY8: S | HZ8: D | IA8: L | IB8: M | IC8: M | ID8: J | IE8: V | IF8: S | IG8: D | IH8: L | II8: M | IJ8: M | IK8: J | IL8: V | IM8: S | IN8: D | IO8: L | IP8: M | IQ8: M | IR8: J | IS8: V | IT8: S | IU8: D | IV8: L | IW8: M | IX8: M | IY8: J | IZ8: V | JA8: S | JB8: D | JC8: L | JD8: M | JE8: M | JF8: J | JG8: V | JH8: S | JI8: D | JJ8: L | JK8: M | JL8: M | JM8: J | JN8: V | JO8: S | JP8: D | JQ8: L | JR8: M | JS8: M | JT8: J | JU8: V | JV8: S | JW8: D | JX8: L | JY8: M | JZ8: M | KA8: J | KB8: V | KC8: S | KD8: D | KE8: L | KF8: M | KG8: M | KH8: J | KI8: V | KJ8: S | KK8: D | KL8: L | KM8: M | KN8: M | KO8: J | KP8: V | KQ8: S | KR8: D | KS8: L | KT8: M | KU8: M | KV8: J | KW8: V | KX8: S | KY8: D | KZ8: L | LA8: M | LB8: M | LC8: J | LD8: V | LE8: S | LF8: D | LG8: L | LH8: M | LI8: M | LJ8: J | LK8: V | LL8: S | LM8: D | LN8: L | LO8: M | LP8: M | LQ8: J | LR8: V | LS8: S | LT8: D | LU8: L | LV8: M | LW8: M | LX8: J | LY8: V | LZ8: S | MA8: D | MB8: L | MC8: M | MD8: M | ME8: J | MF8: V | MG8: S | MH8: D | MI8: L | MJ8: M | MK8: M | ML8: J | MM8: V | MN8: S | MO8: D | MP8: L | MQ8: M | MR8: M | MS8: J | MT8: V | MU8: S | MV8: D | MW8: L | MX8: M | MY8: M | MZ8: J | NA8: V | NB8: S | NC8: D | ND8: L | NE8: M | NF8: M | NG8: J | NH8: V | NI8: S | NJ8: D | NK8: L | NL8: M | NM8: M | NN8: J | NO8: V | NP8: S
A9: CONGE PAYE | B9: SUPRA | C9: CONGE ANCIENNETE | D9: CONGE PAYE | E9: SUPRA | F9: CONGE ANCIENNETE | G9: ABS / PAT | H9: CONGE PAYE | I9: SUPRA | J9: CONGE ANCIENNETE | O9: Nom Prénom | P9: 01/01/22 | Q9: 02/01/22 | R9: 03/01/22 | S9: 04/01/22 | T9: 05/01/22 | U9: 06/01/22 | V9: 07/01/22 | W9: 08/01/22 | X9: 09/01/22 | Y9: 10/01/22 | Z9: 11/01/22 | AA9: 12/01/22 | AB9: 13/01/22 | AC9: 14/01/22 | AD9: 15/01/22 | AE9: 16/01/22 | AF9: 17/01/22 | AG9: 18/01/22 | AH9: 19/01/22 | AI9: 20/01/22 | AJ9: 21/01/22 | AK9: 22/01/22 | AL9: 23/01/22 | AM9: 24/01/22 | AN9: 25/01/22 | AO9: 26/01/22 | AP9: 27/01/22 | AQ9: 28/01/22 | AR9: 29/01/22 | AS9: 30/01/22 | AT9: 31/01/22 | AU9: 01/02/22 | AV9: 02/02/22 | AW9: 03/02/22 | AX9: 04/02/22 | AY9: 05/02/22 | AZ9: 06/02/22 | BA9: 07/02/22 | BB9: 08/02/22 | BC9: 09/02/22 | BD9: 10/02/22 | BE9: 11/02/22 | BF9: 12/02/22 | BG9: 13/02/22 | BH9: 14/02/22 | BI9: 15/02/22 | BJ9: 16/02/22 | BK9: 17/02/22 | BL9: 18/02/22 | BM9: 19/02/22 | BN9: 20/02/22 | BO9: 21/02/22 | BP9: 22/02/22 | BQ9: 23/02/22 | BR9: 24/02/22 | BS9: 25/02/22 | BT9: 26/02/22 | BU9: 27/02/22 | BV9: 28/02/22 | BW9: 01/03/22 | BX9: 02/03/22 | BY9: 03/03/22 | BZ9: 04/03/22 | CA9: 05/03/22 | CB9: 06/03/22 | CC9: 07/03/22 | CD9: 08/03/22 | CE9: 09/03/22 | CF9: 10/03/22 | CG9: 11/03/22 | CH9: 12/03/22 | CI9: 13/03/22 | CJ9: 14/03/22 | CK9: 15/03/22 | CL9: 16/03/22 | CM9: 17/03/22 | CN9: 18/03/22 | CO9: 19/03/22 | CP9: 20/03/22 | CQ9: 21/03/22 | CR9: 22/03/22 | CS9: 23/03/22 | CT9: 24/03/22 | CU9: 25/03/22 | CV9: 26/03/22 | CW9: 27/03/22 | CX9: 28/03/22 | CY9: 29/03/22 | CZ9: 30/03/22 | DA9: 31/03/22 | DB9: 01/04/22 | DC9: 02/04/22 | DD9: 03/04/22 | DE9: 04/04/22 | DF9: 05/04/22 | DG9: 06/04/22 | DH9: 07/04/22 | DI9: 08/04/22 | DJ9: 09/04/22 | DK9: 10/04/22 | DL9: 11/04/22 | DM9: 12/04/22 | DN9: 13/04/22 | DO9: 14/04/22 | DP9: 15/04/22 | DQ9: 16/04/22 | DR9: 17/04/22 | DS9: 18/04/22 | DT9: 19/04/22 | DU9: 20/04/22 | DV9: 21/04/22 | DW9: 22/04/22 | DX9: 23/04/22 | DY9: 24/04/22 | DZ9: 25/04/22 | EA9: 26/04/22 | EB9: 27/04/22 | EC9: 28/04/22 | ED9: 29/04/22 | EE9: 30/04/22 | EF9: 01/05/22 | EG9: 02/05/22 | EH9: 03/05/22 | EI9: 04/05/22 | EJ9: 05/05/22 | EK9: 06/05/22 | EL9: 07/05/22 | EM9: 08/05/22 | EN9: 09/05/22 | EO9: 10/05/22 | EP9: 11/05/22 | EQ9: 12/05/22 | ER9: 13/05/22 | ES9: 14/05/22 | ET9: 15/05/22 | EU9: 16/05/22 | EV9: 17/05/22 | EW9: 18/05/22 | EX9: 19/05/22 | EY9: 20/05/22 | EZ9: 21/05/22 | FA9: 22/05/22 | FB9: 23/05/22 | FC9: 24/05/22 | FD9: 25/05/22 | FE9: 26/05/22 | FF9: 27/05/22 | FG9: 28/05/22 | FH9: 29/05/22 | FI9: 30/05/22 | FJ9: 31/05/22 | FK9: 01/06/22 | FL9: 02/06/22 | FM9: 03/06/22 | FN9: 04/06/22 | FO9: 05/06/22 | FP9: 06/06/22 | FQ9: 07/06/22 | FR9: 08/06/22 | FS9: 09/06/22 | FT9: 10/06/22 | FU9: 11/06/22 | FV9: 12/06/22 | FW9: 13/06/22 | FX9: 14/06/22 | FY9: 15/06/22 | FZ9: 16/06/22 | GA9: 17/06/22 | GB9: 18/06/22 | GC9: 19/06/22 | GD9: 20/06/22 | GE9: 21/06/22 | GF9: 22/06/22 | GG9: 23/06/22 | GH9: 24/06/22 | GI9: 25/06/22 | GJ9: 26/06/22 | GK9: 27/06/22 | GL9: 28/06/22 | GM9: 29/06/22 | GN9: 30/06/22 | GO9: 01/07/22 | GP9: 02/07/22 | GQ9: 03/07/22 | GR9: 04/07/22 | GS9: 05/07/22 | GT9: 06/07/22 | GU9: 07/07/22 | GV9: 08/07/22 | GW9: 09/07/22 | GX9: 10/07/22 | GY9: 11/07/22 | GZ9: 12/07/22 | HA9: 13/07/22 | HB9: 14/07/22 | HC9: 15/07/22 | HD9: 16/07/22 | HE9: 17/07/22 | HF9: 18/07/22 | HG9: 19/07/22 | HH9: 20/07/22 | HI9: 21/07/22 | HJ9: 22/07/22 | HK9: 23/07/22 | HL9: 24/07/22 | HM9: 25/07/22 | HN9: 26/07/22 | HO9: 27/07/22 | HP9: 28/07/22 | HQ9: 29/07/22 | HR9: 30/07/22 | HS9: 31/07/22 | HT9: 01/08/22 | HU9: 02/08/22 | HV9: 03/08/22 | HW9: 04/08/22 | HX9: 05/08/22 | HY9: 06/08/22 | HZ9: 07/08/22 | IA9: 08/08/22 | IB9: 09/08/22 | IC9: 10/08/22 | ID9: 11/08/22 | IE9: 12/08/22 | IF9: 13/08/22 | IG9: 14/08/22 | IH9: 15/08/22 | II9: 16/08/22 | IJ9: 17/08/22 | IK9: 18/08/22 | IL9: 19/08/22 | IM9: 20/08/22 | IN9: 21/08/22 | IO9: 22/08/22 | IP9: 23/08/22 | IQ9: 24/08/22 | IR9: 25/08/22 | IS9: 26/08/22 | IT9: 27/08/22 | IU9: 28/08/22 | IV9: 29/08/22 | IW9: 30/08/22 | IX9: 31/08/22 | IY9: 01/09/22 | IZ9: 02/09/22 | JA9: 03/09/22 | JB9: 04/09/22 | JC9: 05/09/22 | JD9: 06/09/22 | JE9: 07/09/22 | JF9: 08/09/22 | JG9: 09/09/22 | JH9: 10/09/22 | JI9: 11/09/22 | JJ9: 12/09/22 | JK9: 13/09/22 | JL9: 14/09/22 | JM9: 15/09/22 | JN9: 16/09/22 | JO9: 17/09/22 | JP9: 18/09/22 | JQ9: 19/09/22 | JR9: 20/09/22 | JS9: 21/09/22 | JT9: 22/09/22 | JU9: 23/09/22 | JV9: 24/09/22 | JW9: 25/09/22 | JX9: 26/09/22 | JY9: 27/09/22 | JZ9: 28/09/22 | KA9: 29/09/22 | KB9: 30/09/22 | KC9: 01/10/22 | KD9: 02/10/22 | KE9: 03/10/22 | KF9: 04/10/22 | KG9: 05/10/22 | KH9: 06/10/22 | KI9: 07/10/22 | KJ9: 08/10/22 | KK9: 09/10/22 | KL9: 10/10/22 | KM9: 11/10/22 | KN9: 12/10/22 | KO9: 13/10/22 | KP9: 14/10/22 | KQ9: 15/10/22 | KR9: 16/10/22 | KS9: 17/10/22 | KT9: 18/10/22 | KU9: 19/10/22 | KV9: 20/10/22 | KW9: 21/10/22 | KX9: 22/10/22 | KY9: 23/10/22 | KZ9: 24/10/22 | LA9: 25/10/22 | LB9: 26/10/22 | LC9: 27/10/22 | LD9: 28/10/22 | LE9: 29/10/22 | LF9: 30/10/22 | LG9: 31/10/22 | LH9: 01/11/22 | LI9: 02/11/22 | LJ9: 03/11/22 | LK9: 04/11/22 | LL9: 05/11/22 | LM9: 06/11/22 | LN9: 07/11/22 | LO9: 08/11/22 | LP9: 09/11/22 | LQ9: 10/11/22 | LR9: 11/11/22 | LS9: 12/11/22 | LT9: 13/11/22 | LU9: 14/11/22 | LV9: 15/11/22 | LW9: 16/11/22 | LX9: 17/11/22 | LY9: 18/11/22 | LZ9: 19/11/22 | MA9: 20/11/22 | MB9: 21/11/22 | MC9: 22/11/22 | MD9: 23/11/22 | ME9: 24/11/22 | MF9: 25/11/22 | MG9: 26/11/22 | MH9: 27/11/22 | MI9: 28/11/22 | MJ9: 29/11/22 | MK9: 30/11/22 | ML9: 01/12/22 | MM9: 02/12/22 | MN9: 03/12/22 | MO9: 04/12/22 | MP9: 05/12/22 | MQ9: 06/12/22 | MR9: 07/12/22 | MS9: 08/12/22 | MT9: 09/12/22 | MU9: 10/12/22 | MV9: 11/12/22 | MW9: 12/12/22 | MX9: 13/12/22 | MY9: 14/12/22 | MZ9: 15/12/22 | NA9: 16/12/22 | NB9: 17/12/22 | NC9: 18/12/22 | ND9: 19/12/22 | NE9: 20/12/22 | NF9: 21/12/22 | NG9: 22/12/22 | NH9: 23/12/22 | NI9: 24/12/22 | NJ9: 25/12/22 | NK9: 26/12/22 | NL9: 27/12/22 | NM9: 28/12/22 | NN9: 29/12/22 | NO9: 30/12/22 | NP9: 31/12/22
A10: MECANIQUE | P10: =IF(ISTEXT(INDEX('Abs Formation'!$B$4:$T$369,MATCH(P$9*1,Tableau6[Date],0),MATCH(Tableau3[[#This Row],[Nom Prénom]],Tableau6[[#Headers],[Infirmière]:[Personne 19]],0)))=TRUE,"Form","") | Q10: =IF(ISTEXT(INDEX('Abs Formation'!$B$4:$T$369,MATCH(Q$9*1,Tableau6[Date],0),MATCH(Tableau3[[#This Row],[Nom Prénom]],Tableau6[[#Headers],[Infirmière]:[Personne 19]],0)))=TRUE,"Form","") | R10: =IF(ISTEXT(INDEX('Abs Formation'!$B$4:$T$369,MATCH(R$9*1,Tableau6[Date],0),MATCH(Tableau3[[#This Row],[Nom Prénom]],Tableau6[[#Headers],[Infirmière]:[Personne 19]],0)))=TRUE,"Form","") | S10: =IF(ISTEXT(INDEX('Abs Formation'!$B$4:$T$369,MATCH(S$9*1,Tableau6[Date],0),MATCH(Tableau3[[#This Row],[Nom Prénom]],Tableau6[[#Headers],[Infirmière]:[Personne 19]],0)))=TRUE,"Form","") | T10: =IF(ISTEXT(INDEX('Abs Formation'!$B$4:$T$369,MATCH(T$9*1,Tableau6[Date],0),MATCH(Tableau3[[#This Row],[Nom Prénom]],Tableau6[[#Headers],[Infirmière]:[Personne 19]],0)))=TRUE,"Form","") | U10: =IF(ISTEXT(INDEX('Abs Formation'!$B$4:$T$369,MATCH(U$9*1,Tableau6[Date],0),MATCH(Tableau3[[#This Row],[Nom Prénom]],Tableau6[[#Headers],[Infirmière]:[Personne 19]],0)))=TRUE,"Form","") | V10: =IF(ISTEXT(INDEX('Abs Formation'!$B$4:$T$369,MATCH(V$9*1,Tableau6[Date],0),MATCH(Tableau3[[#This Row],[Nom Prénom]],Tableau6[[#Headers],[Infirmière]:[Personne 19]],0)))=TRUE,"Form","") | W10: =IF(ISTEXT(INDEX('Abs Formation'!$B$4:$T$369,MATCH(W$9*1,Tableau6[Date],0),MATCH(Tableau3[[#This Row],[Nom Prénom]],Tableau6[[#Headers],[Infirmière]:[Personne 19]],0)))=TRUE,"Form","") | ... NP10: =IF(ISTEXT(INDEX('Abs Formation'!$B$4:$T$369,MATCH(NP$9*1,Tableau6[Date],0),MATCH(Tableau3[[#This Row],[Nom Prénom]],Tableau6[[#Headers],[Infirmière]:[Personne 19]],0)))=TRUE,"Form","")
D11: =COUNTIFS($P11:$NP11,U$1) -> 0 | E11: =COUNTIFS($P11:$NP11,AA$1) -> 0 | F11: =COUNTIFS($P11:$NP11,U$2) -> 0 | G11: =COUNTIFS($P11:$NP11,AJ$2)+COUNTIFS($P11:$NP11,AJ$3) -> 0 | H11: =A11-D11 -> 0 | I11: =B11-E11 -> 0 | J11: =C11-F11 -> 0 | K11: Mécanique | L11: OUI | M11: - | O11: E F | Q11: =IF(ISTEXT(INDEX('Abs Formation'!$B$4:$T$369,MATCH(Q$9*1,Tableau6[Date],0),MATCH(Tableau3[[#This Row],[Nom Prénom]],Tableau6[[#Headers],[Infirmière]:[Personne 19]],0)))=TRUE,"Form","") | R11: =IF(ISTEXT(INDEX('Abs Formation'!$B$4:$T$369,MATCH(R$9*1,Tableau6[Date],0),MATCH(Tableau3[[#This Row],[Nom Prénom]],Tableau6[[#Headers],[Infirmière]:[Personne 19]],0)))=TRUE,"Form","") | S11: =IF(ISTEXT(INDEX('Abs Formation'!$B$4:$T$369,MATCH(S$9*1,Tableau6[Date],0),MATCH(Tableau3[[#This Row],[Nom Prénom]],Tableau6[[#Headers],[Infirmière]:[Personne 19]],0)))=TRUE,"Form","") | T11: =IF(ISTEXT(INDEX('Abs Formation'!$B$4:$T$369,MATCH(T$9*1,Tableau6[Date],0),MATCH(Tableau3[[#This Row],[Nom Prénom]],Tableau6[[#Headers],[Infirmière]:[Personne 19]],0)))=TRUE,"Form","") | U11: =IF(ISTEXT(INDEX('Abs Formation'!$B$4:$T$369,MATCH(U$9*1,Tableau6[Date],0),MATCH(Tableau3[[#This Row],[Nom Prénom]],Tableau6[[#Headers],[Infirmière]:[Personne 19]],0)))=TRUE,"Form","") | V11: =IF(ISTEXT(INDEX('Abs Formation'!$B$4:$T$369,MATCH(V$9*1,Tableau6[Date],0),MATCH(Tableau3[[#This Row],[Nom Prénom]],Tableau6[[#Headers],[Infirmière]:[Personne 19]],0)))=TRUE,"Form","") | W11: =IF(ISTEXT(INDEX('Abs Formation'!$B$4:$T$369,MATCH(W$9*1,Tableau6[Date],0),MATCH(Tableau3[[#This Row],[Nom Prénom]],Tableau6[[#Headers],[Infirmière]:[Personne 19]],0)))=TRUE,"Form","") | X11: =IF(ISTEXT(INDEX('Abs Formation'!$B$4:$T$369,MATCH(X$9*1,Tableau6[Date],0),MATCH(Tableau3[[#This Row],[Nom Prénom]],Tableau6[[#Headers],[Infirmière]:[Personne 19]],0)))=TRUE,"Form","") | ... NP11: =IF(ISTEXT(INDEX('Abs Formation'!$B$4:$T$369,MATCH(NP$9*1,Tableau6[Date],0),MATCH(Tableau3[[#This Row],[Nom Prénom]],Tableau6[[#Headers],[Infirmière]:[Personne 19]],0)))=TRUE,"Form","")
C12: 10 | D12: =COUNTIFS($P12:$NP12,U$1) -> 0 | E12: =COUNTIFS($P12:$NP12,AA$1) -> 0 | F12: =COUNTIFS($P12:$NP12,U$2) -> 0 | G12: =COUNTIFS($P12:$NP12,AJ$2)+COUNTIFS($P12:$NP12,AJ$3) -> 0 | H12: =A12-D12 -> 0 | I12: =B12-E12 -> 0 | J12: =C12-F12 -> 10 | K12: Mécanique | L12: - | M12: - | O12: E A | Q12: =IF(ISTEXT(INDEX('Abs Formation'!$B$4:$T$369,MATCH(Q$9*1,Tableau6[Date],0),MATCH(Tableau3[[#This Row],[Nom Prénom]],Tableau6[[#Headers],[Infirmière]:[Personne 19]],0)))=TRUE,"Form","") | R12: =IF(ISTEXT(INDEX('Abs Formation'!$B$4:$T$369,MATCH(R$9*1,Tableau6[Date],0),MATCH(Tableau3[[#This Row],[Nom Prénom]],Tableau6[[#Headers],[Infirmière]:[Personne 19]],0)))=TRUE,"Form","") | S12: =IF(ISTEXT(INDEX('Abs Formation'!$B$4:$T$369,MATCH(S$9*1,Tableau6[Date],0),MATCH(Tableau3[[#This Row],[Nom Prénom]],Tableau6[[#Headers],[Infirmière]:[Personne 19]],0)))=TRUE,"Form","") | T12: =IF(ISTEXT(INDEX('Abs Formation'!$B$4:$T$369,MATCH(T$9*1,Tableau6[Date],0),MATCH(Tableau3[[#This Row],[Nom Prénom]],Tableau6[[#Headers],[Infirmière]:[Personne 19]],0)))=TRUE,"Form","") | U12: =IF(ISTEXT(INDEX('Abs Formation'!$B$4:$T$369,MATCH(U$9*1,Tableau6[Date],0),MATCH(Tableau3[[#This Row],[Nom Prénom]],Tableau6[[#Headers],[Infirmière]:[Personne 19]],0)))=TRUE,"Form","") | V12: =IF(ISTEXT(INDEX('Abs Formation'!$B$4:$T$369,MATCH(V$9*1,Tableau6[Date],0),MATCH(Tableau3[[#This Row],[Nom Prénom]],Tableau6[[#Headers],[Infirmière]:[Personne 19]],0)))=TRUE,"Form","") | W12: =IF(ISTEXT(INDEX('Abs Formation'!$B$4:$T$369,MATCH(W$9*1,Tableau6[Date],0),MATCH(Tableau3[[#This Row],[Nom Prénom]],Tableau6[[#Headers],[Infirmière]:[Personne 19]],0)))=TRUE,"Form","") | X12: =IF(ISTEXT(INDEX('Abs Formation'!$B$4:$T$369,MATCH(X$9*1,Tableau6[Date],0),MATCH(Tableau3[[#This Row],[Nom Prénom]],Tableau6[[#Headers],[Infirmière]:[Personne 19]],0)))=TRUE,"Form","") | ... NP12: =IF(ISTEXT(INDEX('Abs Formation'!$B$4:$T$369,MATCH(NP$9*1,Tableau6[Date],0),MATCH(Tableau3[[#This Row],[Nom Prénom]],Tableau6[[#Headers],[Infirmière]:[Personne 19]],0)))=TRUE,"Form","")
D13: =COUNTIFS($P13:$NP13,U$1) -> 0 | E13: =COUNTIFS($P13:$NP13,AA$1) -> 0 | F13: =COUNTIFS($P13:$NP13,U$2) -> 0 | G13: =COUNTIFS($P13:$NP13,AJ$2)+COUNTIFS($P13:$NP13,AJ$3) -> 0 | H13: =A13-D13 -> 0 | I13: =B13-E13 -> 0 | J13: =C13-F13 -> 0 | K13: Mécanique | L13: - | M13: - | O13: J-C H | P13: =IF(ISTEXT(INDEX('Abs Formation'!$B$4:$T$369,MATCH(P$9*1,Tableau6[Date],0),MATCH(Tableau3[[#This Row],[Nom Prénom]],Tableau6[[#Headers],[Infirmière]:[Personne 19]],0)))=TRUE,"Form","") | Q13: =IF(ISTEXT(INDEX('Abs Formation'!$B$4:$T$369,MATCH(Q$9*1,Tableau6[Date],0),MATCH(Tableau3[[#This Row],[Nom Prénom]],Tableau6[[#Headers],[Infirmière]:[Personne 19]],0)))=TRUE,"Form","") | R13: =IF(ISTEXT(INDEX('Abs Formation'!$B$4:$T$369,MATCH(R$9*1,Tableau6[Date],0),MATCH(Tableau3[[#This Row],[Nom Prénom]],Tableau6[[#Headers],[Infirmière]:[Personne 19]],0)))=TRUE,"Form","") | S13: =IF(ISTEXT(INDEX('Abs Formation'!$B$4:$T$369,MATCH(S$9*1,Tableau6[Date],0),MATCH(Tableau3[[#This Row],[Nom Prénom]],Tableau6[[#Headers],[Infirmière]:[Personne 19]],0)))=TRUE,"Form","") | T13: =IF(ISTEXT(INDEX('Abs Formation'!$B$4:$T$369,MATCH(T$9*1,Tableau6[Date],0),MATCH(Tableau3[[#This Row],[Nom Prénom]],Tableau6[[#Headers],[Infirmière]:[Personne 19]],0)))=TRUE,"Form","") | U13: =IF(ISTEXT(INDEX('Abs Formation'!$B$4:$T$369,MATCH(U$9*1,Tableau6[Date],0),MATCH(Tableau3[[#This Row],[Nom Prénom]],Tableau6[[#Headers],[Infirmière]:[Personne 19]],0)))=TRUE,"Form","") | V13: =IF(ISTEXT(INDEX('Abs Formation'!$B$4:$T$369,MATCH(V$9*1,Tableau6[Date],0),MATCH(Tableau3[[#This Row],[Nom Prénom]],Tableau6[[#Headers],[Infirmière]:[Personne 19]],0)))=TRUE,"Form","") | W13: =IF(ISTEXT(INDEX('Abs Formation'!$B$4:$T$369,MATCH(W$9*1,Tableau6[Date],0),MATCH(Tableau3[[#This Row],[Nom Prénom]],Tableau6[[#Headers],[Infirmière]:[Personne 19]],0)))=TRUE,"Form","") | ... NP13: =IF(ISTEXT(INDEX('Abs Formation'!$B$4:$T$369,MATCH(NP$9*1,Tableau6[Date],0),MATCH(Tableau3[[#This Row],[Nom Prénom]],Tableau6[[#Headers],[Infirmière]:[Personne 19]],0)))=TRUE,"Form","")
D14: =COUNTIFS($P14:$NP14,U$1) -> 0 | E14: =COUNTIFS($P14:$NP14,AA$1) -> 0 | F14: =COUNTIFS($P14:$NP14,U$2) -> 0 | G14: =COUNTIFS($P14:$NP14,AJ$2)+COUNTIFS($P14:$NP14,AJ$3) -> 0 | H14: =A14-D14 -> 0 | I14: =B14-E14 -> 0 | J14: =C14-F14 -> 0 | P14: =IF(ISTEXT(INDEX('Abs Formation'!$B$4:$T$369,MATCH(P$9*1,Tableau6[Date],0),MATCH(Tableau3[[#This Row],[Nom Prénom]],Tableau6[[#Headers],[Infirmière]:[Personne 19]],0)))=TRUE,"Form","") | Q14: =IF(ISTEXT(INDEX('Abs Formation'!$B$4:$T$369,MATCH(Q$9*1,Tableau6[Date],0),MATCH(Tableau3[[#This Row],[Nom Prénom]],Tableau6[[#Headers],[Infirmière]:[Personne 19]],0)))=TRUE,"Form","") | R14: =IF(ISTEXT(INDEX('Abs Formation'!$B$4:$T$369,MATCH(R$9*1,Tableau6[Date],0),MATCH(Tableau3[[#This Row],[Nom Prénom]],Tableau6[[#Headers],[Infirmière]:[Personne 19]],0)))=TRUE,"Form","") | S14: =IF(ISTEXT(INDEX('Abs Formation'!$B$4:$T$369,MATCH(S$9*1,Tableau6[Date],0),MATCH(Tableau3[[#This Row],[Nom Prénom]],Tableau6[[#Headers],[Infirmière]:[Personne 19]],0)))=TRUE,"Form","") | T14: =IF(ISTEXT(INDEX('Abs Formation'!$B$4:$T$369,MATCH(T$9*1,Tableau6[Date],0),MATCH(Tableau3[[#This Row],[Nom Prénom]],Tableau6[[#Headers],[Infirmière]:[Personne 19]],0)))=TRUE,"Form","") | U14: =IF(ISTEXT(INDEX('Abs Formation'!$B$4:$T$369,MATCH(U$9*1,Tableau6[Date],0),MATCH(Tableau3[[#This Row],[Nom Prénom]],Tableau6[[#Headers],[Infirmière]:[Personne 19]],0)))=TRUE,"Form","") | V14: =IF(ISTEXT(INDEX('Abs Formation'!$B$4:$T$369,MATCH(V$9*1,Tableau6[Date],0),MATCH(Tableau3[[#This Row],[Nom Prénom]],Tableau6[[#Headers],[Infirmière]:[Personne 19]],0)))=TRUE,"Form","") | W14: =IF(ISTEXT(INDEX('Abs Formation'!$B$4:$T$369,MATCH(W$9*1,Tableau6[Date],0),MATCH(Tableau3[[#This Row],[Nom Prénom]],Tableau6[[#Headers],[Infirmière]:[Personne 19]],0)))=TRUE,"Form","") | ... NP14: =IF(ISTEXT(INDEX('Abs Formation'!$B$4:$T$369,MATCH(NP$9*1,Tableau6[Date],0),MATCH(Tableau3[[#This Row],[Nom Prénom]],Tableau6[[#Headers],[Infirmière]:[Personne 19]],0)))=TRUE,"Form","")
D15: =COUNTIFS($P15:$NP15,U$1) -> 0 | E15: =COUNTIFS($P15:$NP15,AA$1) -> 0 | F15: =COUNTIFS($P15:$NP15,U$2) -> 0 | G15: =COUNTIFS($P15:$NP15,AJ$2)+COUNTIFS($P15:$NP15,AJ$3) -> 0 | H15: =A15-D15 -> 0 | I15: =B15-E15 -> 0 | J15: =C15-F15 -> 0 | P15: =IF(ISTEXT(INDEX('Abs Formation'!$B$4:$T$369,MATCH(P$9*1,Tableau6[Date],0),MATCH(Tableau3[[#This Row],[Nom Prénom]],Tableau6[[#Headers],[Infirmière]:[Personne 19]],0)))=TRUE,"Form","") | Q15: =IF(ISTEXT(INDEX('Abs Formation'!$B$4:$T$369,MATCH(Q$9*1,Tableau6[Date],0),MATCH(Tableau3[[#This Row],[Nom Prénom]],Tableau6[[#Headers],[Infirmière]:[Personne 19]],0)))=TRUE,"Form","") | R15: =IF(ISTEXT(INDEX('Abs Formation'!$B$4:$T$369,MATCH(R$9*1,Tableau6[Date],0),MATCH(Tableau3[[#This Row],[Nom Prénom]],Tableau6[[#Headers],[Infirmière]:[Personne 19]],0)))=TRUE,"Form","") | S15: =IF(ISTEXT(INDEX('Abs Formation'!$B$4:$T$369,MATCH(S$9*1,Tableau6[Date],0),MATCH(Tableau3[[#This Row],[Nom Prénom]],Tableau6[[#Headers],[Infirmière]:[Personne 19]],0)))=TRUE,"Form","") | T15: =IF(ISTEXT(INDEX('Abs Formation'!$B$4:$T$369,MATCH(T$9*1,Tableau6[Date],0),MATCH(Tableau3[[#This Row],[Nom Prénom]],Tableau6[[#Headers],[Infirmière]:[Personne 19]],0)))=TRUE,"Form","") | U15: =IF(ISTEXT(INDEX('Abs Formation'!$B$4:$T$369,MATCH(U$9*1,Tableau6[Date],0),MATCH(Tableau3[[#This Row],[Nom Prénom]],Tableau6[[#Headers],[Infirmière]:[Personne 19]],0)))=TRUE,"Form","") | V15: =IF(ISTEXT(INDEX('Abs Formation'!$B$4:$T$369,MATCH(V$9*1,Tableau6[Date],0),MATCH(Tableau3[[#This Row],[Nom Prénom]],Tableau6[[#Headers],[Infirmière]:[Personne 19]],0)))=TRUE,"Form","") | W15: =IF(ISTEXT(INDEX('Abs Formation'!$B$4:$T$369,MATCH(W$9*1,Tableau6[Date],0),MATCH(Tableau3[[#This Row],[Nom Prénom]],Tableau6[[#Headers],[Infirmière]:[Personne 19]],0)))=TRUE,"Form","") | ... NP15: =IF(ISTEXT(INDEX('Abs Formation'!$B$4:$T$369,MATCH(NP$9*1,Tableau6[Date],0),MATCH(Tableau3[[#This Row],[Nom Prénom]],Tableau6[[#Headers],[Infirmière]:[Personne 19]],0)))=TRUE,"Form","")
A16: ASSEMBLAGE CONDITIONNEMENT | P16: =IF(ISTEXT(INDEX('Abs Formation'!$B$4:$T$369,MATCH(P$9*1,Tableau6[Date],0),MATCH(Tableau3[[#This Row],[Nom Prénom]],Tableau6[[#Headers],[Infirmière]:[Personne 19]],0)))=TRUE,"Form","") | Q16: =IF(ISTEXT(INDEX('Abs Formation'!$B$4:$T$369,MATCH(Q$9*1,Tableau6[Date],0),MATCH(Tableau3[[#This Row],[Nom Prénom]],Tableau6[[#Headers],[Infirmière]:[Personne 19]],0)))=TRUE,"Form","") | R16: =IF(ISTEXT(INDEX('Abs Formation'!$B$4:$T$369,MATCH(R$9*1,Tableau6[Date],0),MATCH(Tableau3[[#This Row],[Nom Prénom]],Tableau6[[#Headers],[Infirmière]:[Personne 19]],0)))=TRUE,"Form","") | S16: =IF(ISTEXT(INDEX('Abs Formation'!$B$4:$T$369,MATCH(S$9*1,Tableau6[Date],0),MATCH(Tableau3[[#This Row],[Nom Prénom]],Tableau6[[#Headers],[Infirmière]:[Personne 19]],0)))=TRUE,"Form","") | T16: =IF(ISTEXT(INDEX('Abs Formation'!$B$4:$T$369,MATCH(T$9*1,Tableau6[Date],0),MATCH(Tableau3[[#This Row],[Nom Prénom]],Tableau6[[#Headers],[Infirmière]:[Personne 19]],0)))=TRUE,"Form","") | U16: =IF(ISTEXT(INDEX('Abs Formation'!$B$4:$T$369,MATCH(U$9*1,Tableau6[Date],0),MATCH(Tableau3[[#This Row],[Nom Prénom]],Tableau6[[#Headers],[Infirmière]:[Personne 19]],0)))=TRUE,"Form","") | V16: =IF(ISTEXT(INDEX('Abs Formation'!$B$4:$T$369,MATCH(V$9*1,Tableau6[Date],0),MATCH(Tableau3[[#This Row],[Nom Prénom]],Tableau6[[#Headers],[Infirmière]:[Personne 19]],0)))=TRUE,"Form","") | W16: =IF(ISTEXT(INDEX('Abs Formation'!$B$4:$T$369,MATCH(W$9*1,Tableau6[Date],0),MATCH(Tableau3[[#This Row],[Nom Prénom]],Tableau6[[#Headers],[Infirmière]:[Personne 19]],0)))=TRUE,"Form","") | ... NP16: =IF(ISTEXT(INDEX('Abs Formation'!$B$4:$T$369,MATCH(NP$9*1,Tableau6[Date],0),MATCH(Tableau3[[#This Row],[Nom Prénom]],Tableau6[[#Headers],[Infirmière]:[Personne 19]],0)))=TRUE,"Form","")
D17: =COUNTIFS($P17:$NP17,U$1) -> 0 | E17: =COUNTIFS($P17:$NP17,AA$1) -> 0 | F17: =COUNTIFS($P17:$NP17,U$2) -> 0 | G17: =COUNTIFS($P17:$NP17,AJ$2)+COUNTIFS($P17:$NP17,AJ$3) -> 0 | H17: =A17-D17 -> 0 | I17: =B17-E17 -> 0 | J17: =C17-F17 -> 0 | K17: Assemb./Condi | O17: B F | P17: =IF(ISTEXT(INDEX('Abs Formation'!$B$4:$T$369,MATCH(P$9*1,Tableau6[Date],0),MATCH(Tableau3[[#This Row],[Nom Prénom]],Tableau6[[#Headers],[Infirmière]:[Personne 19]],0)))=TRUE,"Form","") | Q17: =IF(ISTEXT(INDEX('Abs Formation'!$B$4:$T$369,MATCH(Q$9*1,Tableau6[Date],0),MATCH(Tableau3[[#This Row],[Nom Prénom]],Tableau6[[#Headers],[Infirmière]:[Personne 19]],0)))=TRUE,"Form","") | R17: =IF(ISTEXT(INDEX('Abs Formation'!$B$4:$T$369,MATCH(R$9*1,Tableau6[Date],0),MATCH(Tableau3[[#This Row],[Nom Prénom]],Tableau6[[#Headers],[Infirmière]:[Personne 19]],0)))=TRUE,"Form","") | S17: =IF(ISTEXT(INDEX('Abs Formation'!$B$4:$T$369,MATCH(S$9*1,Tableau6[Date],0),MATCH(Tableau3[[#This Row],[Nom Prénom]],Tableau6[[#Headers],[Infirmière]:[Personne 19]],0)))=TRUE,"Form","") | T17: =IF(ISTEXT(INDEX('Abs Formation'!$B$4:$T$369,MATCH(T$9*1,Tableau6[Date],0),MATCH(Tableau3[[#This Row],[Nom Prénom]],Tableau6[[#Headers],[Infirmière]:[Personne 19]],0)))=TRUE,"Form","") | U17: =IF(ISTEXT(INDEX('Abs Formation'!$B$4:$T$369,MATCH(U$9*1,Tableau6[Date],0),MATCH(Tableau3[[#This Row],[Nom Prénom]],Tableau6[[#Headers],[Infirmière]:[Personne 19]],0)))=TRUE,"Form","") | V17: =IF(ISTEXT(INDEX('Abs Formation'!$B$4:$T$369,MATCH(V$9*1,Tableau6[Date],0),MATCH(Tableau3[[#This Row],[Nom Prénom]],Tableau6[[#Headers],[Infirmière]:[Personne 19]],0)))=TRUE,"Form","") | W17: =IF(ISTEXT(INDEX('Abs Formation'!$B$4:$T$369,MATCH(W$9*1,Tableau6[Date],0),MATCH(Tableau3[[#This Row],[Nom Prénom]],Tableau6[[#Headers],[Infirmière]:[Personne 19]],0)))=TRUE,"Form","") | ... NP17: =IF(ISTEXT(INDEX('Abs Formation'!$B$4:$T$369,MATCH(NP$9*1,Tableau6[Date],0),MATCH(Tableau3[[#This Row],[Nom Prénom]],Tableau6[[#Headers],[Infirmière]:[Personne 19]],0)))=TRUE,"Form","")
D18: =COUNTIFS($P18:$NP18,U$1) -> 0 | E18: =COUNTIFS($P18:$NP18,AA$1) -> 0 | F18: =COUNTIFS($P18:$NP18,U$2) -> 0 | G18: =COUNTIFS($P18:$NP18,AJ$2)+COUNTIFS($P18:$NP18,AJ$3) -> 0 | H18: =A18-D18 -> 0 | I18: =B18-E18 -> 0 | J18: =C18-F18 -> 0 | K18: Assemb./Condi | O18: J Q | P18: =IF(ISTEXT(INDEX('Abs Formation'!$B$4:$T$369,MATCH(P$9*1,Tableau6[Date],0),MATCH(Tableau3[[#This Row],[Nom Prénom]],Tableau6[[#Headers],[Infirmière]:[Personne 19]],0)))=TRUE,"Form","") | Q18: =IF(ISTEXT(INDEX('Abs Formation'!$B$4:$T$369,MATCH(Q$9*1,Tableau6[Date],0),MATCH(Tableau3[[#This Row],[Nom Prénom]],Tableau6[[#Headers],[Infirmière]:[Personne 19]],0)))=TRUE,"Form","") | R18: =IF(ISTEXT(INDEX('Abs Formation'!$B$4:$T$369,MATCH(R$9*1,Tableau6[Date],0),MATCH(Tableau3[[#This Row],[Nom Prénom]],Tableau6[[#Headers],[Infirmière]:[Personne 19]],0)))=TRUE,"Form","") | S18: =IF(ISTEXT(INDEX('Abs Formation'!$B$4:$T$369,MATCH(S$9*1,Tableau6[Date],0),MATCH(Tableau3[[#This Row],[Nom Prénom]],Tableau6[[#Headers],[Infirmière]:[Personne 19]],0)))=TRUE,"Form","") | T18: =IF(ISTEXT(INDEX('Abs Formation'!$B$4:$T$369,MATCH(T$9*1,Tableau6[Date],0),MATCH(Tableau3[[#This Row],[Nom Prénom]],Tableau6[[#Headers],[Infirmière]:[Personne 19]],0)))=TRUE,"Form","") | U18: =IF(ISTEXT(INDEX('Abs Formation'!$B$4:$T$369,MATCH(U$9*1,Tableau6[Date],0),MATCH(Tableau3[[#This Row],[Nom Prénom]],Tableau6[[#Headers],[Infirmière]:[Personne 19]],0)))=TRUE,"Form","") | V18: =IF(ISTEXT(INDEX('Abs Formation'!$B$4:$T$369,MATCH(V$9*1,Tableau6[Date],0),MATCH(Tableau3[[#This Row],[Nom Prénom]],Tableau6[[#Headers],[Infirmière]:[Personne 19]],0)))=TRUE,"Form","") | W18: =IF(ISTEXT(INDEX('Abs Formation'!$B$4:$T$369,MATCH(W$9*1,Tableau6[Date],0),MATCH(Tableau3[[#This Row],[Nom Prénom]],Tableau6[[#Headers],[Infirmière]:[Personne 19]],0)))=TRUE,"Form","") | ... NP18: =IF(ISTEXT(INDEX('Abs Formation'!$B$4:$T$369,MATCH(NP$9*1,Tableau6[Date],0),MATCH(Tableau3[[#This Row],[Nom Prénom]],Tableau6[[#Headers],[Infirmière]:[Personne 19]],0)))=TRUE,"Form","")
D19: =COUNTIFS($P19:$NP19,U$1) -> 0 | E19: =COUNTIFS($P19:$NP19,AA$1) -> 0 | F19: =COUNTIFS($P19:$NP19,U$2) -> 0 | G19: =COUNTIFS($P19:$NP19,AJ$2)+COUNTIFS($P19:$NP19,AJ$3) -> 0 | H19: =A19-D19 -> 0 | I19: =B19-E19 -> 0 | J19: =C19-F19 -> 0 | K19: Assemb./Condi | O19: C H | P19: =IF(ISTEXT(INDEX('Abs Formation'!$B$4:$T$369,MATCH(P$9*1,Tableau6[Date],0),MATCH(Tableau3[[#This Row],[Nom Prénom]],Tableau6[[#Headers],[Infirmière]:[Personne 19]],0)))=TRUE,"Form","") | Q19: =IF(ISTEXT(INDEX('Abs Formation'!$B$4:$T$369,MATCH(Q$9*1,Tableau6[Date],0),MATCH(Tableau3[[#This Row],[Nom Prénom]],Tableau6[[#Headers],[Infirmière]:[Personne 19]],0)))=TRUE,"Form","") | R19: =IF(ISTEXT(INDEX('Abs Formation'!$B$4:$T$369,MATCH(R$9*1,Tableau6[Date],0),MATCH(Tableau3[[#This Row],[Nom Prénom]],Tableau6[[#Headers],[Infirmière]:[Personne 19]],0)))=TRUE,"Form","") | S19: =IF(ISTEXT(INDEX('Abs Formation'!$B$4:$T$369,MATCH(S$9*1,Tableau6[Date],0),MATCH(Tableau3[[#This Row],[Nom Prénom]],Tableau6[[#Headers],[Infirmière]:[Personne 19]],0)))=TRUE,"Form","") | T19: =IF(ISTEXT(INDEX('Abs Formation'!$B$4:$T$369,MATCH(T$9*1,Tableau6[Date],0),MATCH(Tableau3[[#This Row],[Nom Prénom]],Tableau6[[#Headers],[Infirmière]:[Personne 19]],0)))=TRUE,"Form","") | U19: =IF(ISTEXT(INDEX('Abs Formation'!$B$4:$T$369,MATCH(U$9*1,Tableau6[Date],0),MATCH(Tableau3[[#This Row],[Nom Prénom]],Tableau6[[#Headers],[Infirmière]:[Personne 19]],0)))=TRUE,"Form","") | V19: =IF(ISTEXT(INDEX('Abs Formation'!$B$4:$T$369,MATCH(V$9*1,Tableau6[Date],0),MATCH(Tableau3[[#This Row],[Nom Prénom]],Tableau6[[#Headers],[Infirmière]:[Personne 19]],0)))=TRUE,"Form","") | W19: =IF(ISTEXT(INDEX('Abs Formation'!$B$4:$T$369,MATCH(W$9*1,Tableau6[Date],0),MATCH(Tableau3[[#This Row],[Nom Prénom]],Tableau6[[#Headers],[Infirmière]:[Personne 19]],0)))=TRUE,"Form","") | ... NP19: =IF(ISTEXT(INDEX('Abs Formation'!$B$4:$T$369,MATCH(NP$9*1,Tableau6[Date],0),MATCH(Tableau3[[#This Row],[Nom Prénom]],Tableau6[[#Headers],[Infirmière]:[Personne 19]],0)))=TRUE,"Form","")
D20: =COUNTIFS($P20:$NP20,U$1) -> 0 | E20: =COUNTIFS($P20:$NP20,AA$1) -> 0 | F20: =COUNTIFS($P20:$NP20,U$2) -> 0 | G20: =COUNTIFS($P20:$NP20,AJ$2)+COUNTIFS($P20:$NP20,AJ$3) -> 0 | H20: =A20-D20 -> 0 | I20: =B20-E20 -> 0 | J20: =C20-F20 -> 0 | K20: Assemb./Condi | O20: P T | P20: =IF(ISTEXT(INDEX('Abs Formation'!$B$4:$T$369,MATCH(P$9*1,Tableau6[Date],0),MATCH(Tableau3[[#This Row],[Nom Prénom]],Tableau6[[#Headers],[Infirmière]:[Personne 19]],0)))=TRUE,"Form","") | Q20: =IF(ISTEXT(INDEX('Abs Formation'!$B$4:$T$369,MATCH(Q$9*1,Tableau6[Date],0),MATCH(Tableau3[[#This Row],[Nom Prénom]],Tableau6[[#Headers],[Infirmière]:[Personne 19]],0)))=TRUE,"Form","") | R20: =IF(ISTEXT(INDEX('Abs Formation'!$B$4:$T$369,MATCH(R$9*1,Tableau6[Date],0),MATCH(Tableau3[[#This Row],[Nom Prénom]],Tableau6[[#Headers],[Infirmière]:[Personne 19]],0)))=TRUE,"Form","") | S20: =IF(ISTEXT(INDEX('Abs Formation'!$B$4:$T$369,MATCH(S$9*1,Tableau6[Date],0),MATCH(Tableau3[[#This Row],[Nom Prénom]],Tableau6[[#Headers],[Infirmière]:[Personne 19]],0)))=TRUE,"Form","") | T20: =IF(ISTEXT(INDEX('Abs Formation'!$B$4:$T$369,MATCH(T$9*1,Tableau6[Date],0),MATCH(Tableau3[[#This Row],[Nom Prénom]],Tableau6[[#Headers],[Infirmière]:[Personne 19]],0)))=TRUE,"Form","") | U20: =IF(ISTEXT(INDEX('Abs Formation'!$B$4:$T$369,MATCH(U$9*1,Tableau6[Date],0),MATCH(Tableau3[[#This Row],[Nom Prénom]],Tableau6[[#Headers],[Infirmière]:[Personne 19]],0)))=TRUE,"Form","") | V20: =IF(ISTEXT(INDEX('Abs Formation'!$B$4:$T$369,MATCH(V$9*1,Tableau6[Date],0),MATCH(Tableau3[[#This Row],[Nom Prénom]],Tableau6[[#Headers],[Infirmière]:[Personne 19]],0)))=TRUE,"Form","") | W20: =IF(ISTEXT(INDEX('Abs Formation'!$B$4:$T$369,MATCH(W$9*1,Tableau6[Date],0),MATCH(Tableau3[[#This Row],[Nom Prénom]],Tableau6[[#Headers],[Infirmière]:[Personne 19]],0)))=TRUE,"Form","") | ... NP20: =IF(ISTEXT(INDEX('Abs Formation'!$B$4:$T$369,MATCH(NP$9*1,Tableau6[Date],0),MATCH(Tableau3[[#This Row],[Nom Prénom]],Tableau6[[#Headers],[Infirmière]:[Personne 19]],0)))=TRUE,"Form","")
D21: =COUNTIFS($P21:$NP21,U$1) -> 0 | E21: =COUNTIFS($P21:$NP21,AA$1) -> 0 | F21: =COUNTIFS($P21:$NP21,U$2) -> 0 | G21: =COUNTIFS($P21:$NP21,AJ$2)+COUNTIFS($P21:$NP21,AJ$3) -> 0 | H21: =A21-D21 -> 0 | I21: =B21-E21 -> 0 | J21: =C21-F21 -> 0 | K21: Assemb./Condi | O21: V B | P21: =IF(ISTEXT(INDEX('Abs Formation'!$B$4:$T$369,MATCH(P$9*1,Tableau6[Date],0),MATCH(Tableau3[[#This Row],[Nom Prénom]],Tableau6[[#Headers],[Infirmière]:[Personne 19]],0)))=TRUE,"Form","") | Q21: =IF(ISTEXT(INDEX('Abs Formation'!$B$4:$T$369,MATCH(Q$9*1,Tableau6[Date],0),MATCH(Tableau3[[#This Row],[Nom Prénom]],Tableau6[[#Headers],[Infirmière]:[Personne 19]],0)))=TRUE,"Form","") | R21: =IF(ISTEXT(INDEX('Abs Formation'!$B$4:$T$369,MATCH(R$9*1,Tableau6[Date],0),MATCH(Tableau3[[#This Row],[Nom Prénom]],Tableau6[[#Headers],[Infirmière]:[Personne 19]],0)))=TRUE,"Form","") | S21: =IF(ISTEXT(INDEX('Abs Formation'!$B$4:$T$369,MATCH(S$9*1,Tableau6[Date],0),MATCH(Tableau3[[#This Row],[Nom Prénom]],Tableau6[[#Headers],[Infirmière]:[Personne 19]],0)))=TRUE,"Form","") | T21: =IF(ISTEXT(INDEX('Abs Formation'!$B$4:$T$369,MATCH(T$9*1,Tableau6[Date],0),MATCH(Tableau3[[#This Row],[Nom Prénom]],Tableau6[[#Headers],[Infirmière]:[Personne 19]],0)))=TRUE,"Form","") | U21: =IF(ISTEXT(INDEX('Abs Formation'!$B$4:$T$369,MATCH(U$9*1,Tableau6[Date],0),MATCH(Tableau3[[#This Row],[Nom Prénom]],Tableau6[[#Headers],[Infirmière]:[Personne 19]],0)))=TRUE,"Form","") | V21: =IF(ISTEXT(INDEX('Abs Formation'!$B$4:$T$369,MATCH(V$9*1,Tableau6[Date],0),MATCH(Tableau3[[#This Row],[Nom Prénom]],Tableau6[[#Headers],[Infirmière]:[Personne 19]],0)))=TRUE,"Form","") | W21: =IF(ISTEXT(INDEX('Abs Formation'!$B$4:$T$369,MATCH(W$9*1,Tableau6[Date],0),MATCH(Tableau3[[#This Row],[Nom Prénom]],Tableau6[[#Headers],[Infirmière]:[Personne 19]],0)))=TRUE,"Form","") | ... NP21: =IF(ISTEXT(INDEX('Abs Formation'!$B$4:$T$369,MATCH(NP$9*1,Tableau6[Date],0),MATCH(Tableau3[[#This Row],[Nom Prénom]],Tableau6[[#Headers],[Infirmière]:[Personne 19]],0)))=TRUE,"Form","")
D22: =COUNTIFS($P22:$NP22,U$1) -> 0 | E22: =COUNTIFS($P22:$NP22,AA$1) -> 0 | F22: =COUNTIFS($P22:$NP22,U$2) -> 0 | G22: =COUNTIFS($P22:$NP22,AJ$2)+COUNTIFS($P22:$NP22,AJ$3) -> 0 | H22: =A22-D22 -> 0 | I22: =B22-E22 -> 0 | J22: =C22-F22 -> 0 | P22: =IF(ISTEXT(INDEX('Abs Formation'!$B$4:$T$369,MATCH(P$9*1,Tableau6[Date],0),MATCH(Tableau3[[#This Row],[Nom Prénom]],Tableau6[[#Headers],[Infirmière]:[Personne 19]],0)))=TRUE,"Form","") | Q22: =IF(ISTEXT(INDEX('Abs Formation'!$B$4:$T$369,MATCH(Q$9*1,Tableau6[Date],0),MATCH(Tableau3[[#This Row],[Nom Prénom]],Tableau6[[#Headers],[Infirmière]:[Personne 19]],0)))=TRUE,"Form","") | R22: =IF(ISTEXT(INDEX('Abs Formation'!$B$4:$T$369,MATCH(R$9*1,Tableau6[Date],0),MATCH(Tableau3[[#This Row],[Nom Prénom]],Tableau6[[#Headers],[Infirmière]:[Personne 19]],0)))=TRUE,"Form","") | S22: =IF(ISTEXT(INDEX('Abs Formation'!$B$4:$T$369,MATCH(S$9*1,Tableau6[Date],0),MATCH(Tableau3[[#This Row],[Nom Prénom]],Tableau6[[#Headers],[Infirmière]:[Personne 19]],0)))=TRUE,"Form","") | T22: =IF(ISTEXT(INDEX('Abs Formation'!$B$4:$T$369,MATCH(T$9*1,Tableau6[Date],0),MATCH(Tableau3[[#This Row],[Nom Prénom]],Tableau6[[#Headers],[Infirmière]:[Personne 19]],0)))=TRUE,"Form","") | U22: =IF(ISTEXT(INDEX('Abs Formation'!$B$4:$T$369,MATCH(U$9*1,Tableau6[Date],0),MATCH(Tableau3[[#This Row],[Nom Prénom]],Tableau6[[#Headers],[Infirmière]:[Personne 19]],0)))=TRUE,"Form","") | V22: =IF(ISTEXT(INDEX('Abs Formation'!$B$4:$T$369,MATCH(V$9*1,Tableau6[Date],0),MATCH(Tableau3[[#This Row],[Nom Prénom]],Tableau6[[#Headers],[Infirmière]:[Personne 19]],0)))=TRUE,"Form","") | W22: =IF(ISTEXT(INDEX('Abs Formation'!$B$4:$T$369,MATCH(W$9*1,Tableau6[Date],0),MATCH(Tableau3[[#This Row],[Nom Prénom]],Tableau6[[#Headers],[Infirmière]:[Personne 19]],0)))=TRUE,"Form","") | ... NP22: =IF(ISTEXT(INDEX('Abs Formation'!$B$4:$T$369,MATCH(NP$9*1,Tableau6[Date],0),MATCH(Tableau3[[#This Row],[Nom Prénom]],Tableau6[[#Headers],[Infirmière]:[Personne 19]],0)))=TRUE,"Form","")
D23: =COUNTIFS($P23:$NP23,U$1) -> 0 | E23: =COUNTIFS($P23:$NP23,AA$1) -> 0 | F23: =COUNTIFS($P23:$NP23,U$2) -> 0 | G23: =COUNTIFS($P23:$NP23,AJ$2)+COUNTIFS($P23:$NP23,AJ$3) -> 0 | H23: =A23-D23 -> 0 | I23: =B23-E23 -> 0 | J23: =C23-F23 -> 0 | P23: =IF(ISTEXT(INDEX('Abs Formation'!$B$4:$T$369,MATCH(P$9*1,Tableau6[Date],0),MATCH(Tableau3[[#This Row],[Nom Prénom]],Tableau6[[#Headers],[Infirmière]:[Personne 19]],0)))=TRUE,"Form","") | Q23: =IF(ISTEXT(INDEX('Abs Formation'!$B$4:$T$369,MATCH(Q$9*1,Tableau6[Date],0),MATCH(Tableau3[[#This Row],[Nom Prénom]],Tableau6[[#Headers],[Infirmière]:[Personne 19]],0)))=TRUE,"Form","") | R23: =IF(ISTEXT(INDEX('Abs Formation'!$B$4:$T$369,MATCH(R$9*1,Tableau6[Date],0),MATCH(Tableau3[[#This Row],[Nom Prénom]],Tableau6[[#Headers],[Infirmière]:[Personne 19]],0)))=TRUE,"Form","") | S23: =IF(ISTEXT(INDEX('Abs Formation'!$B$4:$T$369,MATCH(S$9*1,Tableau6[Date],0),MATCH(Tableau3[[#This Row],[Nom Prénom]],Tableau6[[#Headers],[Infirmière]:[Personne 19]],0)))=TRUE,"Form","") | T23: =IF(ISTEXT(INDEX('Abs Formation'!$B$4:$T$369,MATCH(T$9*1,Tableau6[Date],0),MATCH(Tableau3[[#This Row],[Nom Prénom]],Tableau6[[#Headers],[Infirmière]:[Personne 19]],0)))=TRUE,"Form","") | U23: =IF(ISTEXT(INDEX('Abs Formation'!$B$4:$T$369,MATCH(U$9*1,Tableau6[Date],0),MATCH(Tableau3[[#This Row],[Nom Prénom]],Tableau6[[#Headers],[Infirmière]:[Personne 19]],0)))=TRUE,"Form","") | V23: =IF(ISTEXT(INDEX('Abs Formation'!$B$4:$T$369,MATCH(V$9*1,Tableau6[Date],0),MATCH(Tableau3[[#This Row],[Nom Prénom]],Tableau6[[#Headers],[Infirmière]:[Personne 19]],0)))=TRUE,"Form","") | W23: =IF(ISTEXT(INDEX('Abs Formation'!$B$4:$T$369,MATCH(W$9*1,Tableau6[Date],0),MATCH(Tableau3[[#This Row],[Nom Prénom]],Tableau6[[#Headers],[Infirmière]:[Personne 19]],0)))=TRUE,"Form","") | ... NP23: =IF(ISTEXT(INDEX('Abs Formation'!$B$4:$T$369,MATCH(NP$9*1,Tableau6[Date],0),MATCH(Tableau3[[#This Row],[Nom Prénom]],Tableau6[[#Headers],[Infirmière]:[Personne 19]],0)))=TRUE,"Form","")
D24: =COUNTIFS($P24:$NP24,U$1) -> 0 | E24: =COUNTIFS($P24:$NP24,AA$1) -> 0 | F24: =COUNTIFS($P24:$NP24,U$2) -> 0 | G24: =COUNTIFS($P24:$NP24,AJ$2)+COUNTIFS($P24:$NP24,AJ$3) -> 0 | H24: =A24-D24 -> 0 | I24: =B24-E24 -> 0 | J24: =C24-F24 -> 0 | P24: =IF(ISTEXT(INDEX('Abs Formation'!$B$4:$T$369,MATCH(P$9*1,Tableau6[Date],0),MATCH(Tableau3[[#This Row],[Nom Prénom]],Tableau6[[#Headers],[Infirmière]:[Personne 19]],0)))=TRUE,"Form","") | Q24: =IF(ISTEXT(INDEX('Abs Formation'!$B$4:$T$369,MATCH(Q$9*1,Tableau6[Date],0),MATCH(Tableau3[[#This Row],[Nom Prénom]],Tableau6[[#Headers],[Infirmière]:[Personne 19]],0)))=TRUE,"Form","") | R24: =IF(ISTEXT(INDEX('Abs Formation'!$B$4:$T$369,MATCH(R$9*1,Tableau6[Date],0),MATCH(Tableau3[[#This Row],[Nom Prénom]],Tableau6[[#Headers],[Infirmière]:[Personne 19]],0)))=TRUE,"Form","") | S24: =IF(ISTEXT(INDEX('Abs Formation'!$B$4:$T$369,MATCH(S$9*1,Tableau6[Date],0),MATCH(Tableau3[[#This Row],[Nom Prénom]],Tableau6[[#Headers],[Infirmière]:[Personne 19]],0)))=TRUE,"Form","") | T24: =IF(ISTEXT(INDEX('Abs Formation'!$B$4:$T$369,MATCH(T$9*1,Tableau6[Date],0),MATCH(Tableau3[[#This Row],[Nom Prénom]],Tableau6[[#Headers],[Infirmière]:[Personne 19]],0)))=TRUE,"Form","") | U24: =IF(ISTEXT(INDEX('Abs Formation'!$B$4:$T$369,MATCH(U$9*1,Tableau6[Date],0),MATCH(Tableau3[[#This Row],[Nom Prénom]],Tableau6[[#Headers],[Infirmière]:[Personne 19]],0)))=TRUE,"Form","") | V24: =IF(ISTEXT(INDEX('Abs Formation'!$B$4:$T$369,MATCH(V$9*1,Tableau6[Date],0),MATCH(Tableau3[[#This Row],[Nom Prénom]],Tableau6[[#Headers],[Infirmière]:[Personne 19]],0)))=TRUE,"Form","") | W24: =IF(ISTEXT(INDEX('Abs Formation'!$B$4:$T$369,MATCH(W$9*1,Tableau6[Date],0),MATCH(Tableau3[[#This Row],[Nom Prénom]],Tableau6[[#Headers],[Infirmière]:[Personne 19]],0)))=TRUE,"Form","") | ... NP24: =IF(ISTEXT(INDEX('Abs Formation'!$B$4:$T$369,MATCH(NP$9*1,Tableau6[Date],0),MATCH(Tableau3[[#This Row],[Nom Prénom]],Tableau6[[#Headers],[Infirmière]:[Personne 19]],0)))=TRUE,"Form","")
A25: ESPACE VERT | P25: =IF(ISTEXT(INDEX('Abs Formation'!$B$4:$T$369,MATCH(P$9*1,Tableau6[Date],0),MATCH(Tableau3[[#This Row],[Nom Prénom]],Tableau6[[#Headers],[Infirmière]:[Personne 19]],0)))=TRUE,"Form","") | Q25: =IF(ISTEXT(INDEX('Abs Formation'!$B$4:$T$369,MATCH(Q$9*1,Tableau6[Date],0),MATCH(Tableau3[[#This Row],[Nom Prénom]],Tableau6[[#Headers],[Infirmière]:[Personne 19]],0)))=TRUE,"Form","") | R25: =IF(ISTEXT(INDEX('Abs Formation'!$B$4:$T$369,MATCH(R$9*1,Tableau6[Date],0),MATCH(Tableau3[[#This Row],[Nom Prénom]],Tableau6[[#Headers],[Infirmière]:[Personne 19]],0)))=TRUE,"Form","") | S25: =IF(ISTEXT(INDEX('Abs Formation'!$B$4:$T$369,MATCH(S$9*1,Tableau6[Date],0),MATCH(Tableau3[[#This Row],[Nom Prénom]],Tableau6[[#Headers],[Infirmière]:[Personne 19]],0)))=TRUE,"Form","") | T25: =IF(ISTEXT(INDEX('Abs Formation'!$B$4:$T$369,MATCH(T$9*1,Tableau6[Date],0),MATCH(Tableau3[[#This Row],[Nom Prénom]],Tableau6[[#Headers],[Infirmière]:[Personne 19]],0)))=TRUE,"Form","") | U25: =IF(ISTEXT(INDEX('Abs Formation'!$B$4:$T$369,MATCH(U$9*1,Tableau6[Date],0),MATCH(Tableau3[[#This Row],[Nom Prénom]],Tableau6[[#Headers],[Infirmière]:[Personne 19]],0)))=TRUE,"Form","") | V25: =IF(ISTEXT(INDEX('Abs Formation'!$B$4:$T$369,MATCH(V$9*1,Tableau6[Date],0),MATCH(Tableau3[[#This Row],[Nom Prénom]],Tableau6[[#Headers],[Infirmière]:[Personne 19]],0)))=TRUE,"Form","") | W25: =IF(ISTEXT(INDEX('Abs Formation'!$B$4:$T$369,MATCH(W$9*1,Tableau6[Date],0),MATCH(Tableau3[[#This Row],[Nom Prénom]],Tableau6[[#Headers],[Infirmière]:[Personne 19]],0)))=TRUE,"Form","") | ... NP25: =IF(ISTEXT(INDEX('Abs Formation'!$B$4:$T$369,MATCH(NP$9*1,Tableau6[Date],0),MATCH(Tableau3[[#This Row],[Nom Prénom]],Tableau6[[#Headers],[Infirmière]:[Personne 19]],0)))=TRUE,"Form","")
D26: =COUNTIFS($P26:$NP26,U$1) -> 0 | E26: =COUNTIFS($P26:$NP26,AA$1) -> 0 | F26: =COUNTIFS($P26:$NP26,U$2) -> 0 | G26: =COUNTIFS($P26:$NP26,AJ$2)+COUNTIFS($P26:$NP26,AJ$3) -> 0 | H26: =A26-D26 -> 0 | I26: =B26-E26 -> 0 | J26: =C26-F26 -> 0 | K26: Esp. Vert | O26: A I | P26: =IF(ISTEXT(INDEX('Abs Formation'!$B$4:$T$369,MATCH(P$9*1,Tableau6[Date],0),MATCH(Tableau3[[#This Row],[Nom Prénom]],Tableau6[[#Headers],[Infirmière]:[Personne 19]],0)))=TRUE,"Form","") | Q26: =IF(ISTEXT(INDEX('Abs Formation'!$B$4:$T$369,MATCH(Q$9*1,Tableau6[Date],0),MATCH(Tableau3[[#This Row],[Nom Prénom]],Tableau6[[#Headers],[Infirmière]:[Personne 19]],0)))=TRUE,"Form","") | R26: =IF(ISTEXT(INDEX('Abs Formation'!$B$4:$T$369,MATCH(R$9*1,Tableau6[Date],0),MATCH(Tableau3[[#This Row],[Nom Prénom]],Tableau6[[#Headers],[Infirmière]:[Personne 19]],0)))=TRUE,"Form","") | S26: =IF(ISTEXT(INDEX('Abs Formation'!$B$4:$T$369,MATCH(S$9*1,Tableau6[Date],0),MATCH(Tableau3[[#This Row],[Nom Prénom]],Tableau6[[#Headers],[Infirmière]:[Personne 19]],0)))=TRUE,"Form","") | T26: =IF(ISTEXT(INDEX('Abs Formation'!$B$4:$T$369,MATCH(T$9*1,Tableau6[Date],0),MATCH(Tableau3[[#This Row],[Nom Prénom]],Tableau6[[#Headers],[Infirmière]:[Personne 19]],0)))=TRUE,"Form","") | U26: =IF(ISTEXT(INDEX('Abs Formation'!$B$4:$T$369,MATCH(U$9*1,Tableau6[Date],0),MATCH(Tableau3[[#This Row],[Nom Prénom]],Tableau6[[#Headers],[Infirmière]:[Personne 19]],0)))=TRUE,"Form","") | V26: =IF(ISTEXT(INDEX('Abs Formation'!$B$4:$T$369,MATCH(V$9*1,Tableau6[Date],0),MATCH(Tableau3[[#This Row],[Nom Prénom]],Tableau6[[#Headers],[Infirmière]:[Personne 19]],0)))=TRUE,"Form","") | W26: =IF(ISTEXT(INDEX('Abs Formation'!$B$4:$T$369,MATCH(W$9*1,Tableau6[Date],0),MATCH(Tableau3[[#This Row],[Nom Prénom]],Tableau6[[#Headers],[Infirmière]:[Personne 19]],0)))=TRUE,"Form","") | ... NP26: =IF(ISTEXT(INDEX('Abs Formation'!$B$4:$T$369,MATCH(NP$9*1,Tableau6[Date],0),MATCH(Tableau3[[#This Row],[Nom Prénom]],Tableau6[[#Headers],[Infirmière]:[Personne 19]],0)))=TRUE,"Form","")
D27: =COUNTIFS($P27:$NP27,U$1) -> 0 | E27: =COUNTIFS($P27:$NP27,AA$1) -> 0 | F27: =COUNTIFS($P27:$NP27,U$2) -> 0 | G27: =COUNTIFS($P27:$NP27,AJ$2)+COUNTIFS($P27:$NP27,AJ$3) -> 0 | H27: =A27-D27 -> 0 | I27: =B27-E27 -> 0 | J27: =C27-F27 -> 0 | O27: W. E | P27: =IF(ISTEXT(INDEX('Abs Formation'!$B$4:$T$369,MATCH(P$9*1,Tableau6[Date],0),MATCH(Tableau3[[#This Row],[Nom Prénom]],Tableau6[[#Headers],[Infirmière]:[Personne 19]],0)))=TRUE,"Form","") | Q27: =IF(ISTEXT(INDEX('Abs Formation'!$B$4:$T$369,MATCH(Q$9*1,Tableau6[Date],0),MATCH(Tableau3[[#This Row],[Nom Prénom]],Tableau6[[#Headers],[Infirmière]:[Personne 19]],0)))=TRUE,"Form","") | R27: =IF(ISTEXT(INDEX('Abs Formation'!$B$4:$T$369,MATCH(R$9*1,Tableau6[Date],0),MATCH(Tableau3[[#This Row],[Nom Prénom]],Tableau6[[#Headers],[Infirmière]:[Personne 19]],0)))=TRUE,"Form","") | S27: =IF(ISTEXT(INDEX('Abs Formation'!$B$4:$T$369,MATCH(S$9*1,Tableau6[Date],0),MATCH(Tableau3[[#This Row],[Nom Prénom]],Tableau6[[#Headers],[Infirmière]:[Personne 19]],0)))=TRUE,"Form","") | T27: =IF(ISTEXT(INDEX('Abs Formation'!$B$4:$T$369,MATCH(T$9*1,Tableau6[Date],0),MATCH(Tableau3[[#This Row],[Nom Prénom]],Tableau6[[#Headers],[Infirmière]:[Personne 19]],0)))=TRUE,"Form","") | U27: =IF(ISTEXT(INDEX('Abs Formation'!$B$4:$T$369,MATCH(U$9*1,Tableau6[Date],0),MATCH(Tableau3[[#This Row],[Nom Prénom]],Tableau6[[#Headers],[Infirmière]:[Personne 19]],0)))=TRUE,"Form","") | V27: =IF(ISTEXT(INDEX('Abs Formation'!$B$4:$T$369,MATCH(V$9*1,Tableau6[Date],0),MATCH(Tableau3[[#This Row],[Nom Prénom]],Tableau6[[#Headers],[Infirmière]:[Personne 19]],0)))=TRUE,"Form","") | W27: =IF(ISTEXT(INDEX('Abs Formation'!$B$4:$T$369,MATCH(W$9*1,Tableau6[Date],0),MATCH(Tableau3[[#This Row],[Nom Prénom]],Tableau6[[#Headers],[Infirmière]:[Personne 19]],0)))=TRUE,"Form","") | ... NP27: =IF(ISTEXT(INDEX('Abs Formation'!$B$4:$T$369,MATCH(NP$9*1,Tableau6[Date],0),MATCH(Tableau3[[#This Row],[Nom Prénom]],Tableau6[[#Headers],[Infirmière]:[Personne 19]],0)))=TRUE,"Form","")
D28: =COUNTIFS($P28:$NP28,U$1) -> 0 | E28: =COUNTIFS($P28:$NP28,AA$1) -> 0 | F28: =COUNTIFS($P28:$NP28,U$2) -> 0 | G28: =COUNTIFS($P28:$NP28,AJ$2)+COUNTIFS($P28:$NP28,AJ$3) -> 0 | H28: =A28-D28 -> 0 | I28: =B28-E28 -> 0 | J28: =C28-F28 -> 0 | P28: =IF(ISTEXT(INDEX('Abs Formation'!$B$4:$T$369,MATCH(P$9*1,Tableau6[Date],0),MATCH(Tableau3[[#This Row],[Nom Prénom]],Tableau6[[#Headers],[Infirmière]:[Personne 19]],0)))=TRUE,"Form","") | Q28: =IF(ISTEXT(INDEX('Abs Formation'!$B$4:$T$369,MATCH(Q$9*1,Tableau6[Date],0),MATCH(Tableau3[[#This Row],[Nom Prénom]],Tableau6[[#Headers],[Infirmière]:[Personne 19]],0)))=TRUE,"Form","") | R28: =IF(ISTEXT(INDEX('Abs Formation'!$B$4:$T$369,MATCH(R$9*1,Tableau6[Date],0),MATCH(Tableau3[[#This Row],[Nom Prénom]],Tableau6[[#Headers],[Infirmière]:[Personne 19]],0)))=TRUE,"Form","") | S28: =IF(ISTEXT(INDEX('Abs Formation'!$B$4:$T$369,MATCH(S$9*1,Tableau6[Date],0),MATCH(Tableau3[[#This Row],[Nom Prénom]],Tableau6[[#Headers],[Infirmière]:[Personne 19]],0)))=TRUE,"Form","") | T28: =IF(ISTEXT(INDEX('Abs Formation'!$B$4:$T$369,MATCH(T$9*1,Tableau6[Date],0),MATCH(Tableau3[[#This Row],[Nom Prénom]],Tableau6[[#Headers],[Infirmière]:[Personne 19]],0)))=TRUE,"Form","") | U28: =IF(ISTEXT(INDEX('Abs Formation'!$B$4:$T$369,MATCH(U$9*1,Tableau6[Date],0),MATCH(Tableau3[[#This Row],[Nom Prénom]],Tableau6[[#Headers],[Infirmière]:[Personne 19]],0)))=TRUE,"Form","") | V28: =IF(ISTEXT(INDEX('Abs Formation'!$B$4:$T$369,MATCH(V$9*1,Tableau6[Date],0),MATCH(Tableau3[[#This Row],[Nom Prénom]],Tableau6[[#Headers],[Infirmière]:[Personne 19]],0)))=TRUE,"Form","") | W28: =IF(ISTEXT(INDEX('Abs Formation'!$B$4:$T$369,MATCH(W$9*1,Tableau6[Date],0),MATCH(Tableau3[[#This Row],[Nom Prénom]],Tableau6[[#Headers],[Infirmière]:[Personne 19]],0)))=TRUE,"Form","") | ... NP28: =IF(ISTEXT(INDEX('Abs Formation'!$B$4:$T$369,MATCH(NP$9*1,Tableau6[Date],0),MATCH(Tableau3[[#This Row],[Nom Prénom]],Tableau6[[#Headers],[Infirmière]:[Personne 19]],0)))=TRUE,"Form","")
D29: =COUNTIFS($P29:$NP29,U$1) -> 0 | E29: =COUNTIFS($P29:$NP29,AA$1) -> 0 | F29: =COUNTIFS($P29:$NP29,U$2) -> 0 | G29: =COUNTIFS($P29:$NP29,AJ$2)+COUNTIFS($P29:$NP29,AJ$3) -> 0 | H29: =A29-D29 -> 0 | I29: =B29-E29 -> 0 | J29: =C29-F29 -> 0 | P29: =IF(ISTEXT(INDEX('Abs Formation'!$B$4:$T$369,MATCH(P$9*1,Tableau6[Date],0),MATCH(Tableau3[[#This Row],[Nom Prénom]],Tableau6[[#Headers],[Infirmière]:[Personne 19]],0)))=TRUE,"Form","") | Q29: =IF(ISTEXT(INDEX('Abs Formation'!$B$4:$T$369,MATCH(Q$9*1,Tableau6[Date],0),MATCH(Tableau3[[#This Row],[Nom Prénom]],Tableau6[[#Headers],[Infirmière]:[Personne 19]],0)))=TRUE,"Form","") | R29: =IF(ISTEXT(INDEX('Abs Formation'!$B$4:$T$369,MATCH(R$9*1,Tableau6[Date],0),MATCH(Tableau3[[#This Row],[Nom Prénom]],Tableau6[[#Headers],[Infirmière]:[Personne 19]],0)))=TRUE,"Form","") | S29: =IF(ISTEXT(INDEX('Abs Formation'!$B$4:$T$369,MATCH(S$9*1,Tableau6[Date],0),MATCH(Tableau3[[#This Row],[Nom Prénom]],Tableau6[[#Headers],[Infirmière]:[Personne 19]],0)))=TRUE,"Form","") | T29: =IF(ISTEXT(INDEX('Abs Formation'!$B$4:$T$369,MATCH(T$9*1,Tableau6[Date],0),MATCH(Tableau3[[#This Row],[Nom Prénom]],Tableau6[[#Headers],[Infirmière]:[Personne 19]],0)))=TRUE,"Form","") | U29: =IF(ISTEXT(INDEX('Abs Formation'!$B$4:$T$369,MATCH(U$9*1,Tableau6[Date],0),MATCH(Tableau3[[#This Row],[Nom Prénom]],Tableau6[[#Headers],[Infirmière]:[Personne 19]],0)))=TRUE,"Form","") | V29: =IF(ISTEXT(INDEX('Abs Formation'!$B$4:$T$369,MATCH(V$9*1,Tableau6[Date],0),MATCH(Tableau3[[#This Row],[Nom Prénom]],Tableau6[[#Headers],[Infirmière]:[Personne 19]],0)))=TRUE,"Form","") | W29: =IF(ISTEXT(INDEX('Abs Formation'!$B$4:$T$369,MATCH(W$9*1,Tableau6[Date],0),MATCH(Tableau3[[#This Row],[Nom Prénom]],Tableau6[[#Headers],[Infirmière]:[Personne 19]],0)))=TRUE,"Form","") | ... NP29: =IF(ISTEXT(INDEX('Abs Formation'!$B$4:$T$369,MATCH(NP$9*1,Tableau6[Date],0),MATCH(Tableau3[[#This Row],[Nom Prénom]],Tableau6[[#Headers],[Infirmière]:[Personne 19]],0)))=TRUE,"Form","")
A30: AUTRES | P30: =IF(ISTEXT(INDEX('Abs Formation'!$B$4:$T$369,MATCH(P$9*1,Tableau6[Date],0),MATCH(Tableau3[[#This Row],[Nom Prénom]],Tableau6[[#Headers],[Infirmière]:[Personne 19]],0)))=TRUE,"Form","") | Q30: =IF(ISTEXT(INDEX('Abs Formation'!$B$4:$T$369,MATCH(Q$9*1,Tableau6[Date],0),MATCH(Tableau3[[#This Row],[Nom Prénom]],Tableau6[[#Headers],[Infirmière]:[Personne 19]],0)))=TRUE,"Form","") | R30: =IF(ISTEXT(INDEX('Abs Formation'!$B$4:$T$369,MATCH(R$9*1,Tableau6[Date],0),MATCH(Tableau3[[#This Row],[Nom Prénom]],Tableau6[[#Headers],[Infirmière]:[Personne 19]],0)))=TRUE,"Form","") | S30: =IF(ISTEXT(INDEX('Abs Formation'!$B$4:$T$369,MATCH(S$9*1,Tableau6[Date],0),MATCH(Tableau3[[#This Row],[Nom Prénom]],Tableau6[[#Headers],[Infirmière]:[Personne 19]],0)))=TRUE,"Form","") | T30: =IF(ISTEXT(INDEX('Abs Formation'!$B$4:$T$369,MATCH(T$9*1,Tableau6[Date],0),MATCH(Tableau3[[#This Row],[Nom Prénom]],Tableau6[[#Headers],[Infirmière]:[Personne 19]],0)))=TRUE,"Form","") | U30: =IF(ISTEXT(INDEX('Abs Formation'!$B$4:$T$369,MATCH(U$9*1,Tableau6[Date],0),MATCH(Tableau3[[#This Row],[Nom Prénom]],Tableau6[[#Headers],[Infirmière]:[Personne 19]],0)))=TRUE,"Form","") | V30: =IF(ISTEXT(INDEX('Abs Formation'!$B$4:$T$369,MATCH(V$9*1,Tableau6[Date],0),MATCH(Tableau3[[#This Row],[Nom Prénom]],Tableau6[[#Headers],[Infirmière]:[Personne 19]],0)))=TRUE,"Form","") | W30: =IF(ISTEXT(INDEX('Abs Formation'!$B$4:$T$369,MATCH(W$9*1,Tableau6[Date],0),MATCH(Tableau3[[#This Row],[Nom Prénom]],Tableau6[[#Headers],[Infirmière]:[Personne 19]],0)))=TRUE,"Form","") | ... NP30: =IF(ISTEXT(INDEX('Abs Formation'!$B$4:$T$369,MATCH(NP$9*1,Tableau6[Date],0),MATCH(Tableau3[[#This Row],[Nom Prénom]],Tableau6[[#Headers],[Infirmière]:[Personne 19]],0)))=TRUE,"Form","")
D31: =COUNTIFS($P31:$NP31,U$1) -> 0 | E31: =COUNTIFS($P31:$NP31,AA$1) -> 0 | F31: =COUNTIFS($P31:$NP31,U$2) -> 0 | G31: =COUNTIFS($P31:$NP31,AJ$2)+COUNTIFS($P31:$NP31,AJ$3) -> 0 | H31: =A31-D31 -> 0 | I31: =B31-E31 -> 0 | J31: =C31-F31 -> 0 | K31: Autres | O31: Infirmière | P31: =IF(ISTEXT(INDEX('Abs Formation'!$B$4:$T$369,MATCH(P$9*1,Tableau6[Date],0),MATCH(Tableau3[[#This Row],[Nom Prénom]],Tableau6[[#Headers],[Infirmière]:[Personne 19]],0)))=TRUE,"Form","") | Q31: =IF(ISTEXT(INDEX('Abs Formation'!$B$4:$T$369,MATCH(Q$9*1,Tableau6[Date],0),MATCH(Tableau3[[#This Row],[Nom Prénom]],Tableau6[[#Headers],[Infirmière]:[Personne 19]],0)))=TRUE,"Form","") | R31: =IF(ISTEXT(INDEX('Abs Formation'!$B$4:$T$369,MATCH(R$9*1,Tableau6[Date],0),MATCH(Tableau3[[#This Row],[Nom Prénom]],Tableau6[[#Headers],[Infirmière]:[Personne 19]],0)))=TRUE,"Form","") | S31: =IF(ISTEXT(INDEX('Abs Formation'!$B$4:$T$369,MATCH(S$9*1,Tableau6[Date],0),MATCH(Tableau3[[#This Row],[Nom Prénom]],Tableau6[[#Headers],[Infirmière]:[Personne 19]],0)))=TRUE,"Form","") | T31: =IF(ISTEXT(INDEX('Abs Formation'!$B$4:$T$369,MATCH(T$9*1,Tableau6[Date],0),MATCH(Tableau3[[#This Row],[Nom Prénom]],Tableau6[[#Headers],[Infirmière]:[Personne 19]],0)))=TRUE,"Form","") | U31: =IF(ISTEXT(INDEX('Abs Formation'!$B$4:$T$369,MATCH(U$9*1,Tableau6[Date],0),MATCH(Tableau3[[#This Row],[Nom Prénom]],Tableau6[[#Headers],[Infirmière]:[Personne 19]],0)))=TRUE,"Form","") | V31: =IF(ISTEXT(INDEX('Abs Formation'!$B$4:$T$369,MATCH(V$9*1,Tableau6[Date],0),MATCH(Tableau3[[#This Row],[Nom Prénom]],Tableau6[[#Headers],[Infirmière]:[Personne 19]],0)))=TRUE,"Form","") | W31: =IF(ISTEXT(INDEX('Abs Formation'!$B$4:$T$369,MATCH(W$9*1,Tableau6[Date],0),MATCH(Tableau3[[#This Row],[Nom Prénom]],Tableau6[[#Headers],[Infirmière]:[Personne 19]],0)))=TRUE,"Form","") | ... NP31: =IF(ISTEXT(INDEX('Abs Formation'!$B$4:$T$369,MATCH(NP$9*1,Tableau6[Date],0),MATCH(Tableau3[[#This Row],[Nom Prénom]],Tableau6[[#Headers],[Infirmière]:[Personne 19]],0)))=TRUE,"Form","")
D32: =COUNTIFS($P32:$NP32,U$1) -> 0 | E32: =COUNTIFS($P32:$NP32,AA$1) -> 0 | F32: =COUNTIFS($P32:$NP32,U$2) -> 0 | G32: =COUNTIFS($P32:$NP32,AJ$2)+COUNTIFS($P32:$NP32,AJ$3) -> 0 | H32: =A32-D32 -> 0 | I32: =B32-E32 -> 0 | J32: =C32-F32 -> 0 | K32: Autres | O32: H G | P32: =IF(ISTEXT(INDEX('Abs Formation'!$B$4:$T$369,MATCH(P$9*1,Tableau6[Date],0),MATCH(Tableau3[[#This Row],[Nom Prénom]],Tableau6[[#Headers],[Infirmière]:[Personne 19]],0)))=TRUE,"Form","") | Q32: =IF(ISTEXT(INDEX('Abs Formation'!$B$4:$T$369,MATCH(Q$9*1,Tableau6[Date],0),MATCH(Tableau3[[#This Row],[Nom Prénom]],Tableau6[[#Headers],[Infirmière]:[Personne 19]],0)))=TRUE,"Form","") | R32: =IF(ISTEXT(INDEX('Abs Formation'!$B$4:$T$369,MATCH(R$9*1,Tableau6[Date],0),MATCH(Tableau3[[#This Row],[Nom Prénom]],Tableau6[[#Headers],[Infirmière]:[Personne 19]],0)))=TRUE,"Form","") | S32: =IF(ISTEXT(INDEX('Abs Formation'!$B$4:$T$369,MATCH(S$9*1,Tableau6[Date],0),MATCH(Tableau3[[#This Row],[Nom Prénom]],Tableau6[[#Headers],[Infirmière]:[Personne 19]],0)))=TRUE,"Form","") | T32: =IF(ISTEXT(INDEX('Abs Formation'!$B$4:$T$369,MATCH(T$9*1,Tableau6[Date],0),MATCH(Tableau3[[#This Row],[Nom Prénom]],Tableau6[[#Headers],[Infirmière]:[Personne 19]],0)))=TRUE,"Form","") | U32: =IF(ISTEXT(INDEX('Abs Formation'!$B$4:$T$369,MATCH(U$9*1,Tableau6[Date],0),MATCH(Tableau3[[#This Row],[Nom Prénom]],Tableau6[[#Headers],[Infirmière]:[Personne 19]],0)))=TRUE,"Form","") | V32: =IF(ISTEXT(INDEX('Abs Formation'!$B$4:$T$369,MATCH(V$9*1,Tableau6[Date],0),MATCH(Tableau3[[#This Row],[Nom Prénom]],Tableau6[[#Headers],[Infirmière]:[Personne 19]],0)))=TRUE,"Form","") | W32: =IF(ISTEXT(INDEX('Abs Formation'!$B$4:$T$369,MATCH(W$9*1,Tableau6[Date],0),MATCH(Tableau3[[#This Row],[Nom Prénom]],Tableau6[[#Headers],[Infirmière]:[Personne 19]],0)))=TRUE,"Form","") | ... NP32: =IF(ISTEXT(INDEX('Abs Formation'!$B$4:$T$369,MATCH(NP$9*1,Tableau6[Date],0),MATCH(Tableau3[[#This Row],[Nom Prénom]],Tableau6[[#Headers],[Infirmière]:[Personne 19]],0)))=TRUE,"Form","")
D33: =COUNTIFS($P33:$NP33,U$1) -> 0 | E33: =COUNTIFS($P33:$NP33,AA$1) -> 0 | F33: =COUNTIFS($P33:$NP33,U$2) -> 0 | G33: =COUNTIFS($P33:$NP33,AJ$2)+COUNTIFS($P33:$NP33,AJ$3) -> 0 | H33: =A33-D33 -> 0 | I33: =B33-E33 -> 0 | J33: =C33-F33 -> 0 | K33: Autres | O33: M S | P33: =IF(ISTEXT(INDEX('Abs Formation'!$B$4:$T$369,MATCH(P$9*1,Tableau6[Date],0),MATCH(Tableau3[[#This Row],[Nom Prénom]],Tableau6[[#Headers],[Infirmière]:[Personne 19]],0)))=TRUE,"Form","") | Q33: =IF(ISTEXT(INDEX('Abs Formation'!$B$4:$T$369,MATCH(Q$9*1,Tableau6[Date],0),MATCH(Tableau3[[#This Row],[Nom Prénom]],Tableau6[[#Headers],[Infirmière]:[Personne 19]],0)))=TRUE,"Form","") | R33: =IF(ISTEXT(INDEX('Abs Formation'!$B$4:$T$369,MATCH(R$9*1,Tableau6[Date],0),MATCH(Tableau3[[#This Row],[Nom Prénom]],Tableau6[[#Headers],[Infirmière]:[Personne 19]],0)))=TRUE,"Form","") | S33: =IF(ISTEXT(INDEX('Abs Formation'!$B$4:$T$369,MATCH(S$9*1,Tableau6[Date],0),MATCH(Tableau3[[#This Row],[Nom Prénom]],Tableau6[[#Headers],[Infirmière]:[Personne 19]],0)))=TRUE,"Form","") | T33: =IF(ISTEXT(INDEX('Abs Formation'!$B$4:$T$369,MATCH(T$9*1,Tableau6[Date],0),MATCH(Tableau3[[#This Row],[Nom Prénom]],Tableau6[[#Headers],[Infirmière]:[Personne 19]],0)))=TRUE,"Form","") | U33: =IF(ISTEXT(INDEX('Abs Formation'!$B$4:$T$369,MATCH(U$9*1,Tableau6[Date],0),MATCH(Tableau3[[#This Row],[Nom Prénom]],Tableau6[[#Headers],[Infirmière]:[Personne 19]],0)))=TRUE,"Form","") | V33: =IF(ISTEXT(INDEX('Abs Formation'!$B$4:$T$369,MATCH(V$9*1,Tableau6[Date],0),MATCH(Tableau3[[#This Row],[Nom Prénom]],Tableau6[[#Headers],[Infirmière]:[Personne 19]],0)))=TRUE,"Form","") | W33: =IF(ISTEXT(INDEX('Abs Formation'!$B$4:$T$369,MATCH(W$9*1,Tableau6[Date],0),MATCH(Tableau3[[#This Row],[Nom Prénom]],Tableau6[[#Headers],[Infirmière]:[Personne 19]],0)))=TRUE,"Form","") | ... NP33: =IF(ISTEXT(INDEX('Abs Formation'!$B$4:$T$369,MATCH(NP$9*1,Tableau6[Date],0),MATCH(Tableau3[[#This Row],[Nom Prénom]],Tableau6[[#Headers],[Infirmière]:[Personne 19]],0)))=TRUE,"Form","")
D34: =COUNTIFS($P34:$NP34,U$1) -> 0 | E34: =COUNTIFS($P34:$NP34,AA$1) -> 0 | F34: =COUNTIFS($P34:$NP34,U$2) -> 0 | G34: =COUNTIFS($P34:$NP34,AJ$2)+COUNTIFS($P34:$NP34,AJ$3) -> 0 | H34: =A34-D34 -> 0 | I34: =B34-E34 -> 0 | J34: =C34-F34 -> 0 | K34: Autres | L34: OUI | M34: NON | O34: GTC | P34: =IF(ISTEXT(INDEX('Abs Formation'!$B$4:$T$369,MATCH(P$9*1,Tableau6[Date],0),MATCH(Tableau3[[#This Row],[Nom Prénom]],Tableau6[[#Headers],[Infirmière]:[Personne 19]],0)))=TRUE,"Form","") | Q34: =IF(ISTEXT(INDEX('Abs Formation'!$B$4:$T$369,MATCH(Q$9*1,Tableau6[Date],0),MATCH(Tableau3[[#This Row],[Nom Prénom]],Tableau6[[#Headers],[Infirmière]:[Personne 19]],0)))=TRUE,"Form","") | R34: =IF(ISTEXT(INDEX('Abs Formation'!$B$4:$T$369,MATCH(R$9*1,Tableau6[Date],0),MATCH(Tableau3[[#This Row],[Nom Prénom]],Tableau6[[#Headers],[Infirmière]:[Personne 19]],0)))=TRUE,"Form","") | S34: =IF(ISTEXT(INDEX('Abs Formation'!$B$4:$T$369,MATCH(S$9*1,Tableau6[Date],0),MATCH(Tableau3[[#This Row],[Nom Prénom]],Tableau6[[#Headers],[Infirmière]:[Personne 19]],0)))=TRUE,"Form","") | T34: =IF(ISTEXT(INDEX('Abs Formation'!$B$4:$T$369,MATCH(T$9*1,Tableau6[Date],0),MATCH(Tableau3[[#This Row],[Nom Prénom]],Tableau6[[#Headers],[Infirmière]:[Personne 19]],0)))=TRUE,"Form","") | U34: =IF(ISTEXT(INDEX('Abs Formation'!$B$4:$T$369,MATCH(U$9*1,Tableau6[Date],0),MATCH(Tableau3[[#This Row],[Nom Prénom]],Tableau6[[#Headers],[Infirmière]:[Personne 19]],0)))=TRUE,"Form","") | V34: =IF(ISTEXT(INDEX('Abs Formation'!$B$4:$T$369,MATCH(V$9*1,Tableau6[Date],0),MATCH(Tableau3[[#This Row],[Nom Prénom]],Tableau6[[#Headers],[Infirmière]:[Personne 19]],0)))=TRUE,"Form","") | W34: =IF(ISTEXT(INDEX('Abs Formation'!$B$4:$T$369,MATCH(W$9*1,Tableau6[Date],0),MATCH(Tableau3[[#This Row],[Nom Prénom]],Tableau6[[#Headers],[Infirmière]:[Personne 19]],0)))=TRUE,"Form","") | ... NP34: =IF(ISTEXT(INDEX('Abs Formation'!$B$4:$T$369,MATCH(NP$9*1,Tableau6[Date],0),MATCH(Tableau3[[#This Row],[Nom Prénom]],Tableau6[[#Headers],[Infirmière]:[Personne 19]],0)))=TRUE,"Form","")
D35: =COUNTIFS($P35:$NP35,U$1) -> 0 | E35: =COUNTIFS($P35:$NP35,AA$1) -> 0 | F35: =COUNTIFS($P35:$NP35,U$2) -> 0 | G35: =COUNTIFS($P35:$NP35,AJ$2)+COUNTIFS($P35:$NP35,AJ$3) -> 0 | H35: =A35-D35 -> 0 | I35: =B35-E35 -> 0 | J35: =C35-F35 -> 0 | P35: =IF(ISTEXT(INDEX('Abs Formation'!$B$4:$T$369,MATCH(P$9*1,Tableau6[Date],0),MATCH(Tableau3[[#This Row],[Nom Prénom]],Tableau6[[#Headers],[Infirmière]:[Personne 19]],0)))=TRUE,"Form","") | Q35: =IF(ISTEXT(INDEX('Abs Formation'!$B$4:$T$369,MATCH(Q$9*1,Tableau6[Date],0),MATCH(Tableau3[[#This Row],[Nom Prénom]],Tableau6[[#Headers],[Infirmière]:[Personne 19]],0)))=TRUE,"Form","") | R35: =IF(ISTEXT(INDEX('Abs Formation'!$B$4:$T$369,MATCH(R$9*1,Tableau6[Date],0),MATCH(Tableau3[[#This Row],[Nom Prénom]],Tableau6[[#Headers],[Infirmière]:[Personne 19]],0)))=TRUE,"Form","") | S35: =IF(ISTEXT(INDEX('Abs Formation'!$B$4:$T$369,MATCH(S$9*1,Tableau6[Date],0),MATCH(Tableau3[[#This Row],[Nom Prénom]],Tableau6[[#Headers],[Infirmière]:[Personne 19]],0)))=TRUE,"Form","") | T35: =IF(ISTEXT(INDEX('Abs Formation'!$B$4:$T$369,MATCH(T$9*1,Tableau6[Date],0),MATCH(Tableau3[[#This Row],[Nom Prénom]],Tableau6[[#Headers],[Infirmière]:[Personne 19]],0)))=TRUE,"Form","") | U35: =IF(ISTEXT(INDEX('Abs Formation'!$B$4:$T$369,MATCH(U$9*1,Tableau6[Date],0),MATCH(Tableau3[[#This Row],[Nom Prénom]],Tableau6[[#Headers],[Infirmière]:[Personne 19]],0)))=TRUE,"Form","") | V35: =IF(ISTEXT(INDEX('Abs Formation'!$B$4:$T$369,MATCH(V$9*1,Tableau6[Date],0),MATCH(Tableau3[[#This Row],[Nom Prénom]],Tableau6[[#Headers],[Infirmière]:[Personne 19]],0)))=TRUE,"Form","") | W35: =IF(ISTEXT(INDEX('Abs Formation'!$B$4:$T$369,MATCH(W$9*1,Tableau6[Date],0),MATCH(Tableau3[[#This Row],[Nom Prénom]],Tableau6[[#Headers],[Infirmière]:[Personne 19]],0)))=TRUE,"Form","") | ... NP35: =IF(ISTEXT(INDEX('Abs Formation'!$B$4:$T$369,MATCH(NP$9*1,Tableau6[Date],0),MATCH(Tableau3[[#This Row],[Nom Prénom]],Tableau6[[#Headers],[Infirmière]:[Personne 19]],0)))=TRUE,"Form","")
D36: =COUNTIFS($P36:$NP36,U$1) -> 0 | E36: =COUNTIFS($P36:$NP36,AA$1) -> 0 | F36: =COUNTIFS($P36:$NP36,U$2) -> 0 | G36: =COUNTIFS($P36:$NP36,AJ$2)+COUNTIFS($P36:$NP36,AJ$3) -> 0 | H36: =A36-D36 -> 0 | I36: =B36-E36 -> 0 | J36: =C36-F36 -> 0 | P36: =IF(ISTEXT(INDEX('Abs Formation'!$B$4:$T$369,MATCH(P$9*1,Tableau6[Date],0),MATCH(Tableau3[[#This Row],[Nom Prénom]],Tableau6[[#Headers],[Infirmière]:[Personne 19]],0)))=TRUE,"Form","") | Q36: =IF(ISTEXT(INDEX('Abs Formation'!$B$4:$T$369,MATCH(Q$9*1,Tableau6[Date],0),MATCH(Tableau3[[#This Row],[Nom Prénom]],Tableau6[[#Headers],[Infirmière]:[Personne 19]],0)))=TRUE,"Form","") | R36: =IF(ISTEXT(INDEX('Abs Formation'!$B$4:$T$369,MATCH(R$9*1,Tableau6[Date],0),MATCH(Tableau3[[#This Row],[Nom Prénom]],Tableau6[[#Headers],[Infirmière]:[Personne 19]],0)))=TRUE,"Form","") | S36: =IF(ISTEXT(INDEX('Abs Formation'!$B$4:$T$369,MATCH(S$9*1,Tableau6[Date],0),MATCH(Tableau3[[#This Row],[Nom Prénom]],Tableau6[[#Headers],[Infirmière]:[Personne 19]],0)))=TRUE,"Form","") | T36: =IF(ISTEXT(INDEX('Abs Formation'!$B$4:$T$369,MATCH(T$9*1,Tableau6[Date],0),MATCH(Tableau3[[#This Row],[Nom Prénom]],Tableau6[[#Headers],[Infirmière]:[Personne 19]],0)))=TRUE,"Form","") | U36: =IF(ISTEXT(INDEX('Abs Formation'!$B$4:$T$369,MATCH(U$9*1,Tableau6[Date],0),MATCH(Tableau3[[#This Row],[Nom Prénom]],Tableau6[[#Headers],[Infirmière]:[Personne 19]],0)))=TRUE,"Form","") | V36: =IF(ISTEXT(INDEX('Abs Formation'!$B$4:$T$369,MATCH(V$9*1,Tableau6[Date],0),MATCH(Tableau3[[#This Row],[Nom Prénom]],Tableau6[[#Headers],[Infirmière]:[Personne 19]],0)))=TRUE,"Form","") | W36: =IF(ISTEXT(INDEX('Abs Formation'!$B$4:$T$369,MATCH(W$9*1,Tableau6[Date],0),MATCH(Tableau3[[#This Row],[Nom Prénom]],Tableau6[[#Headers],[Infirmière]:[Personne 19]],0)))=TRUE,"Form","") | ... NP36: =IF(ISTEXT(INDEX('Abs Formation'!$B$4:$T$369,MATCH(NP$9*1,Tableau6[Date],0),MATCH(Tableau3[[#This Row],[Nom Prénom]],Tableau6[[#Headers],[Infirmière]:[Personne 19]],0)))=TRUE,"Form","")
D37: =COUNTIFS($P37:$NP37,U$1) -> 0 | E37: =COUNTIFS($P37:$NP37,AA$1) -> 0 | F37: =COUNTIFS($P37:$NP37,U$2) -> 0 | G37: =COUNTIFS($P37:$NP37,AJ$2)+COUNTIFS($P37:$NP37,AJ$3) -> 0 | H37: =A37-D37 -> 0 | I37: =B37-E37 -> 0 | J37: =C37-F37 -> 0 | P37: =IF(ISTEXT(INDEX('Abs Formation'!$B$4:$T$369,MATCH(P$9*1,Tableau6[Date],0),MATCH(Tableau3[[#This Row],[Nom Prénom]],Tableau6[[#Headers],[Infirmière]:[Personne 19]],0)))=TRUE,"Form","") | Q37: =IF(ISTEXT(INDEX('Abs Formation'!$B$4:$T$369,MATCH(Q$9*1,Tableau6[Date],0),MATCH(Tableau3[[#This Row],[Nom Prénom]],Tableau6[[#Headers],[Infirmière]:[Personne 19]],0)))=TRUE,"Form","") | R37: =IF(ISTEXT(INDEX('Abs Formation'!$B$4:$T$369,MATCH(R$9*1,Tableau6[Date],0),MATCH(Tableau3[[#This Row],[Nom Prénom]],Tableau6[[#Headers],[Infirmière]:[Personne 19]],0)))=TRUE,"Form","") | S37: =IF(ISTEXT(INDEX('Abs Formation'!$B$4:$T$369,MATCH(S$9*1,Tableau6[Date],0),MATCH(Tableau3[[#This Row],[Nom Prénom]],Tableau6[[#Headers],[Infirmière]:[Personne 19]],0)))=TRUE,"Form","") | T37: =IF(ISTEXT(INDEX('Abs Formation'!$B$4:$T$369,MATCH(T$9*1,Tableau6[Date],0),MATCH(Tableau3[[#This Row],[Nom Prénom]],Tableau6[[#Headers],[Infirmière]:[Personne 19]],0)))=TRUE,"Form","") | U37: =IF(ISTEXT(INDEX('Abs Formation'!$B$4:$T$369,MATCH(U$9*1,Tableau6[Date],0),MATCH(Tableau3[[#This Row],[Nom Prénom]],Tableau6[[#Headers],[Infirmière]:[Personne 19]],0)))=TRUE,"Form","") | V37: =IF(ISTEXT(INDEX('Abs Formation'!$B$4:$T$369,MATCH(V$9*1,Tableau6[Date],0),MATCH(Tableau3[[#This Row],[Nom Prénom]],Tableau6[[#Headers],[Infirmière]:[Personne 19]],0)))=TRUE,"Form","") | W37: =IF(ISTEXT(INDEX('Abs Formation'!$B$4:$T$369,MATCH(W$9*1,Tableau6[Date],0),MATCH(Tableau3[[#This Row],[Nom Prénom]],Tableau6[[#Headers],[Infirmière]:[Personne 19]],0)))=TRUE,"Form","") | ... NP37: =IF(ISTEXT(INDEX('Abs Formation'!$B$4:$T$369,MATCH(NP$9*1,Tableau6[Date],0),MATCH(Tableau3[[#This Row],[Nom Prénom]],Tableau6[[#Headers],[Infirmière]:[Personne 19]],0)))=TRUE,"Form","")
D38: =COUNTIFS($P38:$NP38,U$1) -> 0 | E38: =COUNTIFS($P38:$NP38,AA$1) -> 0 | F38: =COUNTIFS($P38:$NP38,U$2) -> 0 | G38: =COUNTIFS($P38:$NP38,AJ$2)+COUNTIFS($P38:$NP38,AJ$3) -> 0 | H38: =A38-D38 -> 0 | I38: =B38-E38 -> 0 | J38: =C38-F38 -> 0 | P38: =IF(ISTEXT(INDEX('Abs Formation'!$B$4:$T$369,MATCH(P$9*1,Tableau6[Date],0),MATCH(Tableau3[[#This Row],[Nom Prénom]],Tableau6[[#Headers],[Infirmière]:[Personne 19]],0)))=TRUE,"Form","") | Q38: =IF(ISTEXT(INDEX('Abs Formation'!$B$4:$T$369,MATCH(Q$9*1,Tableau6[Date],0),MATCH(Tableau3[[#This Row],[Nom Prénom]],Tableau6[[#Headers],[Infirmière]:[Personne 19]],0)))=TRUE,"Form","") | R38: =IF(ISTEXT(INDEX('Abs Formation'!$B$4:$T$369,MATCH(R$9*1,Tableau6[Date],0),MATCH(Tableau3[[#This Row],[Nom Prénom]],Tableau6[[#Headers],[Infirmière]:[Personne 19]],0)))=TRUE,"Form","") | S38: =IF(ISTEXT(INDEX('Abs Formation'!$B$4:$T$369,MATCH(S$9*1,Tableau6[Date],0),MATCH(Tableau3[[#This Row],[Nom Prénom]],Tableau6[[#Headers],[Infirmière]:[Personne 19]],0)))=TRUE,"Form","") | T38: =IF(ISTEXT(INDEX('Abs Formation'!$B$4:$T$369,MATCH(T$9*1,Tableau6[Date],0),MATCH(Tableau3[[#This Row],[Nom Prénom]],Tableau6[[#Headers],[Infirmière]:[Personne 19]],0)))=TRUE,"Form","") | U38: =IF(ISTEXT(INDEX('Abs Formation'!$B$4:$T$369,MATCH(U$9*1,Tableau6[Date],0),MATCH(Tableau3[[#This Row],[Nom Prénom]],Tableau6[[#Headers],[Infirmière]:[Personne 19]],0)))=TRUE,"Form","") | V38: =IF(ISTEXT(INDEX('Abs Formation'!$B$4:$T$369,MATCH(V$9*1,Tableau6[Date],0),MATCH(Tableau3[[#This Row],[Nom Prénom]],Tableau6[[#Headers],[Infirmière]:[Personne 19]],0)))=TRUE,"Form","") | W38: =IF(ISTEXT(INDEX('Abs Formation'!$B$4:$T$369,MATCH(W$9*1,Tableau6[Date],0),MATCH(Tableau3[[#This Row],[Nom Prénom]],Tableau6[[#Headers],[Infirmière]:[Personne 19]],0)))=TRUE,"Form","") | ... NP38: =IF(ISTEXT(INDEX('Abs Formation'!$B$4:$T$369,MATCH(NP$9*1,Tableau6[Date],0),MATCH(Tableau3[[#This Row],[Nom Prénom]],Tableau6[[#Headers],[Infirmière]:[Personne 19]],0)))=TRUE,"Form","")
D39: =COUNTIFS($P39:$NP39,U$1) -> 0 | E39: =COUNTIFS($P39:$NP39,AA$1) -> 0 | F39: =COUNTIFS($P39:$NP39,U$2) -> 0 | G39: =COUNTIFS($P39:$NP39,AJ$2)+COUNTIFS($P39:$NP39,AJ$3) -> 0 | H39: =A39-D39 -> 0 | I39: =B39-E39 -> 0 | J39: =C39-F39 -> 0 | P39: =IF(ISTEXT(INDEX('Abs Formation'!$B$4:$T$369,MATCH(P$9*1,Tableau6[Date],0),MATCH(Tableau3[[#This Row],[Nom Prénom]],Tableau6[[#Headers],[Infirmière]:[Personne 19]],0)))=TRUE,"Form","") | Q39: =IF(ISTEXT(INDEX('Abs Formation'!$B$4:$T$369,MATCH(Q$9*1,Tableau6[Date],0),MATCH(Tableau3[[#This Row],[Nom Prénom]],Tableau6[[#Headers],[Infirmière]:[Personne 19]],0)))=TRUE,"Form","") | R39: =IF(ISTEXT(INDEX('Abs Formation'!$B$4:$T$369,MATCH(R$9*1,Tableau6[Date],0),MATCH(Tableau3[[#This Row],[Nom Prénom]],Tableau6[[#Headers],[Infirmière]:[Personne 19]],0)))=TRUE,"Form","") | S39: =IF(ISTEXT(INDEX('Abs Formation'!$B$4:$T$369,MATCH(S$9*1,Tableau6[Date],0),MATCH(Tableau3[[#This Row],[Nom Prénom]],Tableau6[[#Headers],[Infirmière]:[Personne 19]],0)))=TRUE,"Form","") | T39: =IF(ISTEXT(INDEX('Abs Formation'!$B$4:$T$369,MATCH(T$9*1,Tableau6[Date],0),MATCH(Tableau3[[#This Row],[Nom Prénom]],Tableau6[[#Headers],[Infirmière]:[Personne 19]],0)))=TRUE,"Form","") | U39: =IF(ISTEXT(INDEX('Abs Formation'!$B$4:$T$369,MATCH(U$9*1,Tableau6[Date],0),MATCH(Tableau3[[#This Row],[Nom Prénom]],Tableau6[[#Headers],[Infirmière]:[Personne 19]],0)))=TRUE,"Form","") | V39: =IF(ISTEXT(INDEX('Abs Formation'!$B$4:$T$369,MATCH(V$9*1,Tableau6[Date],0),MATCH(Tableau3[[#This Row],[Nom Prénom]],Tableau6[[#Headers],[Infirmière]:[Personne 19]],0)))=TRUE,"Form","") | W39: =IF(ISTEXT(INDEX('Abs Formation'!$B$4:$T$369,MATCH(W$9*1,Tableau6[Date],0),MATCH(Tableau3[[#This Row],[Nom Prénom]],Tableau6[[#Headers],[Infirmière]:[Personne 19]],0)))=TRUE,"Form","") | ... NP39: =IF(ISTEXT(INDEX('Abs Formation'!$B$4:$T$369,MATCH(NP$9*1,Tableau6[Date],0),MATCH(Tableau3[[#This Row],[Nom Prénom]],Tableau6[[#Headers],[Infirmière]:[Personne 19]],0)))=TRUE,"Form","")
D40: =COUNTIFS($P40:$NP40,U$1) -> 0 | E40: =COUNTIFS($P40:$NP40,AA$1) -> 0 | F40: =COUNTIFS($P40:$NP40,U$2) -> 0 | G40: =COUNTIFS($P40:$NP40,AJ$2)+COUNTIFS($P40:$NP40,AJ$3) -> 0 | H40: =A40-D40 -> 0 | I40: =B40-E40 -> 0 | J40: =C40-F40 -> 0 | P40: =IF(ISTEXT(INDEX('Abs Formation'!$B$4:$T$369,MATCH(P$9*1,Tableau6[Date],0),MATCH(Tableau3[[#This Row],[Nom Prénom]],Tableau6[[#Headers],[Infirmière]:[Personne 19]],0)))=TRUE,"Form","") | Q40: =IF(ISTEXT(INDEX('Abs Formation'!$B$4:$T$369,MATCH(Q$9*1,Tableau6[Date],0),MATCH(Tableau3[[#This Row],[Nom Prénom]],Tableau6[[#Headers],[Infirmière]:[Personne 19]],0)))=TRUE,"Form","") | R40: =IF(ISTEXT(INDEX('Abs Formation'!$B$4:$T$369,MATCH(R$9*1,Tableau6[Date],0),MATCH(Tableau3[[#This Row],[Nom Prénom]],Tableau6[[#Headers],[Infirmière]:[Personne 19]],0)))=TRUE,"Form","") | S40: =IF(ISTEXT(INDEX('Abs Formation'!$B$4:$T$369,MATCH(S$9*1,Tableau6[Date],0),MATCH(Tableau3[[#This Row],[Nom Prénom]],Tableau6[[#Headers],[Infirmière]:[Personne 19]],0)))=TRUE,"Form","") | T40: =IF(ISTEXT(INDEX('Abs Formation'!$B$4:$T$369,MATCH(T$9*1,Tableau6[Date],0),MATCH(Tableau3[[#This Row],[Nom Prénom]],Tableau6[[#Headers],[Infirmière]:[Personne 19]],0)))=TRUE,"Form","") | U40: =IF(ISTEXT(INDEX('Abs Formation'!$B$4:$T$369,MATCH(U$9*1,Tableau6[Date],0),MATCH(Tableau3[[#This Row],[Nom Prénom]],Tableau6[[#Headers],[Infirmière]:[Personne 19]],0)))=TRUE,"Form","") | V40: =IF(ISTEXT(INDEX('Abs Formation'!$B$4:$T$369,MATCH(V$9*1,Tableau6[Date],0),MATCH(Tableau3[[#This Row],[Nom Prénom]],Tableau6[[#Headers],[Infirmière]:[Personne 19]],0)))=TRUE,"Form","") | W40: =IF(ISTEXT(INDEX('Abs Formation'!$B$4:$T$369,MATCH(W$9*1,Tableau6[Date],0),MATCH(Tableau3[[#This Row],[Nom Prénom]],Tableau6[[#Headers],[Infirmière]:[Personne 19]],0)))=TRUE,"Form","") | ... NP40: =IF(ISTEXT(INDEX('Abs Formation'!$B$4:$T$369,MATCH(NP$9*1,Tableau6[Date],0),MATCH(Tableau3[[#This Row],[Nom Prénom]],Tableau6[[#Headers],[Infirmière]:[Personne 19]],0)))=TRUE,"Form","")
D41: =COUNTIFS($P41:$NP41,U$1) -> 0 | E41: =COUNTIFS($P41:$NP41,AA$1) -> 0 | F41: =COUNTIFS($P41:$NP41,U$2) -> 0 | G41: =COUNTIFS($P41:$NP41,AJ$2)+COUNTIFS($P41:$NP41,AJ$3) -> 0 | H41: =A41-D41 -> 0 | I41: =B41-E41 -> 0 | J41: =C41-F41 -> 0 | P41: =IF(ISTEXT(INDEX('Abs Formation'!$B$4:$T$369,MATCH(P$9*1,Tableau6[Date],0),MATCH(Tableau3[[#This Row],[Nom Prénom]],Tableau6[[#Headers],[Infirmière]:[Personne 19]],0)))=TRUE,"Form","") | Q41: =IF(ISTEXT(INDEX('Abs Formation'!$B$4:$T$369,MATCH(Q$9*1,Tableau6[Date],0),MATCH(Tableau3[[#This Row],[Nom Prénom]],Tableau6[[#Headers],[Infirmière]:[Personne 19]],0)))=TRUE,"Form","") | R41: =IF(ISTEXT(INDEX('Abs Formation'!$B$4:$T$369,MATCH(R$9*1,Tableau6[Date],0),MATCH(Tableau3[[#This Row],[Nom Prénom]],Tableau6[[#Headers],[Infirmière]:[Personne 19]],0)))=TRUE,"Form","") | S41: =IF(ISTEXT(INDEX('Abs Formation'!$B$4:$T$369,MATCH(S$9*1,Tableau6[Date],0),MATCH(Tableau3[[#This Row],[Nom Prénom]],Tableau6[[#Headers],[Infirmière]:[Personne 19]],0)))=TRUE,"Form","") | T41: =IF(ISTEXT(INDEX('Abs Formation'!$B$4:$T$369,MATCH(T$9*1,Tableau6[Date],0),MATCH(Tableau3[[#This Row],[Nom Prénom]],Tableau6[[#Headers],[Infirmière]:[Personne 19]],0)))=TRUE,"Form","") | U41: =IF(ISTEXT(INDEX('Abs Formation'!$B$4:$T$369,MATCH(U$9*1,Tableau6[Date],0),MATCH(Tableau3[[#This Row],[Nom Prénom]],Tableau6[[#Headers],[Infirmière]:[Personne 19]],0)))=TRUE,"Form","") | V41: =IF(ISTEXT(INDEX('Abs Formation'!$B$4:$T$369,MATCH(V$9*1,Tableau6[Date],0),MATCH(Tableau3[[#This Row],[Nom Prénom]],Tableau6[[#Headers],[Infirmière]:[Personne 19]],0)))=TRUE,"Form","") | W41: =IF(ISTEXT(INDEX('Abs Formation'!$B$4:$T$369,MATCH(W$9*1,Tableau6[Date],0),MATCH(Tableau3[[#This Row],[Nom Prénom]],Tableau6[[#Headers],[Infirmière]:[Personne 19]],0)))=TRUE,"Form","") | ... NP41: =IF(ISTEXT(INDEX('Abs Formation'!$B$4:$T$369,MATCH(NP$9*1,Tableau6[Date],0),MATCH(Tableau3[[#This Row],[Nom Prénom]],Tableau6[[#Headers],[Infirmière]:[Personne 19]],0)))=TRUE,"Form","")
D42: =COUNTIFS($P42:$NP42,U$1) -> 0 | E42: =COUNTIFS($P42:$NP42,AA$1) -> 0 | F42: =COUNTIFS($P42:$NP42,U$2) -> 0 | G42: =COUNTIFS($P42:$NP42,AJ$2)+COUNTIFS($P42:$NP42,AJ$3) -> 0 | H42: =A42-D42 -> 0 | I42: =B42-E42 -> 0 | J42: =C42-F42 -> 0 | P42: =IF(ISTEXT(INDEX('Abs Formation'!$B$4:$T$369,MATCH(P$9*1,Tableau6[Date],0),MATCH(Tableau3[[#This Row],[Nom Prénom]],Tableau6[[#Headers],[Infirmière]:[Personne 19]],0)))=TRUE,"Form","") | Q42: =IF(ISTEXT(INDEX('Abs Formation'!$B$4:$T$369,MATCH(Q$9*1,Tableau6[Date],0),MATCH(Tableau3[[#This Row],[Nom Prénom]],Tableau6[[#Headers],[Infirmière]:[Personne 19]],0)))=TRUE,"Form","") | R42: =IF(ISTEXT(INDEX('Abs Formation'!$B$4:$T$369,MATCH(R$9*1,Tableau6[Date],0),MATCH(Tableau3[[#This Row],[Nom Prénom]],Tableau6[[#Headers],[Infirmière]:[Personne 19]],0)))=TRUE,"Form","") | S42: =IF(ISTEXT(INDEX('Abs Formation'!$B$4:$T$369,MATCH(S$9*1,Tableau6[Date],0),MATCH(Tableau3[[#This Row],[Nom Prénom]],Tableau6[[#Headers],[Infirmière]:[Personne 19]],0)))=TRUE,"Form","") | T42: =IF(ISTEXT(INDEX('Abs Formation'!$B$4:$T$369,MATCH(T$9*1,Tableau6[Date],0),MATCH(Tableau3[[#This Row],[Nom Prénom]],Tableau6[[#Headers],[Infirmière]:[Personne 19]],0)))=TRUE,"Form","") | U42: =IF(ISTEXT(INDEX('Abs Formation'!$B$4:$T$369,MATCH(U$9*1,Tableau6[Date],0),MATCH(Tableau3[[#This Row],[Nom Prénom]],Tableau6[[#Headers],[Infirmière]:[Personne 19]],0)))=TRUE,"Form","") | V42: =IF(ISTEXT(INDEX('Abs Formation'!$B$4:$T$369,MATCH(V$9*1,Tableau6[Date],0),MATCH(Tableau3[[#This Row],[Nom Prénom]],Tableau6[[#Headers],[Infirmière]:[Personne 19]],0)))=TRUE,"Form","") | W42: =IF(ISTEXT(INDEX('Abs Formation'!$B$4:$T$369,MATCH(W$9*1,Tableau6[Date],0),MATCH(Tableau3[[#This Row],[Nom Prénom]],Tableau6[[#Headers],[Infirmière]:[Personne 19]],0)))=TRUE,"Form","") | ... NP42: =IF(ISTEXT(INDEX('Abs Formation'!$B$4:$T$369,MATCH(NP$9*1,Tableau6[Date],0),MATCH(Tableau3[[#This Row],[Nom Prénom]],Tableau6[[#Headers],[Infirmière]:[Personne 19]],0)))=TRUE,"Form","")
D43: =COUNTIFS($P43:$NP43,U$1) -> 0 | E43: =COUNTIFS($P43:$NP43,AA$1) -> 0 | F43: =COUNTIFS($P43:$NP43,U$2) -> 0 | G43: =COUNTIFS($P43:$NP43,AJ$2)+COUNTIFS($P43:$NP43,AJ$3) -> 0 | H43: =A43-D43 -> 0 | I43: =B43-E43 -> 0 | J43: =C43-F43 -> 0 | P43: =IF(ISTEXT(INDEX('Abs Formation'!$B$4:$T$369,MATCH(P$9*1,Tableau6[Date],0),MATCH(Tableau3[[#This Row],[Nom Prénom]],Tableau6[[#Headers],[Infirmière]:[Personne 19]],0)))=TRUE,"Form","") | Q43: =IF(ISTEXT(INDEX('Abs Formation'!$B$4:$T$369,MATCH(Q$9*1,Tableau6[Date],0),MATCH(Tableau3[[#This Row],[Nom Prénom]],Tableau6[[#Headers],[Infirmière]:[Personne 19]],0)))=TRUE,"Form","") | R43: =IF(ISTEXT(INDEX('Abs Formation'!$B$4:$T$369,MATCH(R$9*1,Tableau6[Date],0),MATCH(Tableau3[[#This Row],[Nom Prénom]],Tableau6[[#Headers],[Infirmière]:[Personne 19]],0)))=TRUE,"Form","") | S43: =IF(ISTEXT(INDEX('Abs Formation'!$B$4:$T$369,MATCH(S$9*1,Tableau6[Date],0),MATCH(Tableau3[[#This Row],[Nom Prénom]],Tableau6[[#Headers],[Infirmière]:[Personne 19]],0)))=TRUE,"Form","") | T43: =IF(ISTEXT(INDEX('Abs Formation'!$B$4:$T$369,MATCH(T$9*1,Tableau6[Date],0),MATCH(Tableau3[[#This Row],[Nom Prénom]],Tableau6[[#Headers],[Infirmière]:[Personne 19]],0)))=TRUE,"Form","") | U43: =IF(ISTEXT(INDEX('Abs Formation'!$B$4:$T$369,MATCH(U$9*1,Tableau6[Date],0),MATCH(Tableau3[[#This Row],[Nom Prénom]],Tableau6[[#Headers],[Infirmière]:[Personne 19]],0)))=TRUE,"Form","") | V43: =IF(ISTEXT(INDEX('Abs Formation'!$B$4:$T$369,MATCH(V$9*1,Tableau6[Date],0),MATCH(Tableau3[[#This Row],[Nom Prénom]],Tableau6[[#Headers],[Infirmière]:[Personne 19]],0)))=TRUE,"Form","") | W43: =IF(ISTEXT(INDEX('Abs Formation'!$B$4:$T$369,MATCH(W$9*1,Tableau6[Date],0),MATCH(Tableau3[[#This Row],[Nom Prénom]],Tableau6[[#Headers],[Infirmière]:[Personne 19]],0)))=TRUE,"Form","") | ... NP43: =IF(ISTEXT(INDEX('Abs Formation'!$B$4:$T$369,MATCH(NP$9*1,Tableau6[Date],0),MATCH(Tableau3[[#This Row],[Nom Prénom]],Tableau6[[#Headers],[Infirmière]:[Personne 19]],0)))=TRUE,"Form","")
I45: 27 mai Fermeture jour à poser
I46: 6 juin Fermeture jour à poser (idéalement Supra)

Sheet Abs Formation
A1: Récupération - Formation
A3: Date | B3: Infirmière | C3: A I | D3: B F | E3: C H | F3: E A | G3: E F | H3: H G | I3: J-C H | J3: J Q | K3: M S | L3: P T | M3: V B | N3: W. E | O3: GTC | P3: Personne 15 | Q3: Personne 16 | R3: Personne 17 | S3: Personne 18 | T3: Personne 19
A4: 44562
A5: 44563
A6: 44564
A7: 44565
A8: 44566
A9: 44567
A10: 44568
A11: 44569
A12: 44570
A13: 44571
A14: 44572
A15: 44573
... A79: 44637
A80: 44638 | I80: 5 H Voir planning car 4H
A81: 44639
A82: 44640
A83: 44641
A84: 44642
A85: 44643
A86: 44644
A87: 44645
A88: 44646
A89: 44647
A90: 44648
A91: 44649
A92: 44650 | E92: 08:30 16:30
A93: 44651
A94: 44652 | I94: 5 H Voir planning car 4H
A95: 44653
A96: 44654
A97: 44655
A98: 44656
A99: 44657
A100: 44658
A101: 44659
A102: 44660
A103: 44661
A104: 44662
A105: 44663
A106: 44664
... A121: 44679
A122: 44680 | I122: 5 H Voir planning car 4H
A123: 44681
A124: 44682
A125: 44683
A126: 44684
A127: 44685
A128: 44686
A129: 44687
A130: 44688
A131: 44689
A132: 44690 | I132: 08h30 16h30
A133: 44691
A134: 44692
A135: 44693
A136: 44694
A137: 44695
A138: 44696
A139: 44697
A140: 44698
A141: 44699
A142: 44700
A143: 44701
A144: 44702
... A368: 44926

Sheet Suivi remplacement
A1: SUIVI DES HEURES DE REMPLACEMENTS
A2: Total | B2: =SUM(B4:B55) -> 0.041666667 | C2: =SUM(C4:C55) -> 0.32291667 | D2: =SUM(D4:D55) -> 0.083333333 | E2: =SUM(E4:E55) -> 0.0625 | F2: =SUM(F4:F55) -> 0 | G2: =SUM(G4:G55) -> 0.30208333 | H2: =SUM(H4:H55) -> 0.16666667 | I2: =SUM(I4:I55) -> 0.33333333 | ... AA2: =SUM(AA4:AA55) -> 0
B3: Enri | C3: Emm | D3: Vér | E3: Bé | F3: Jean | G3: Clau | H3: Ang | I3: Joë | J3: Mari | K3: Peg | L3: Wi
A4: S1 | C4: 0.041666667 | I4: 0.041666667 | J4: 0.041666667 | K4: 0.041666667
A5: S2 | I5: 0.041666667
A6: S3 | C6: 0.041666667 | I6: 0.041666667
A7: S4 | C7: 0.041666667 | D7: 0.041666667 | G7: 0.010416667 | H7: 0.041666667 | I7: 0.041666667 | J7: 0.020833333
A8: S5 | G8: 0.041666667 | H8: 0.041666667
A9: S6 | G9: 0.0625 | H9: 0.041666667 | I9: 0.041666667 | J9: 0.0625
A10: S7 | B10: 0.020833333 | E10: 0.041666667 | G10: 0.083333333 | H10: 0.020833333 | J10: 0.041666667
A11: S8 | B11: 0.020833333 | C11: 0.072916667 | D11: 0.041666667 | E11: 0.020833333 | G11: 0.0625 | I11: 0.041666667
A12: S9 | C12: 0.041666667 | H12: 0.020833333 | J12: 0.041666667
A13: S10 | G13: 0.041666667 | I13: 0.041666667 | K13: 0.041666667
A14: S11 | C14: 0.041666667 | I14: 0.041666667
A15: S12 | C15: 0.041666667 | J15: 0.041666667
A16: S13
A17: S14
A18: S15
A19: S16
A20: S17
A21: S18
A22: S19
A23: S20
A24: S21
A25: S22
A26: S23
A27: S24
... A55: S52
A56: TOTAL | B56: =SUM(B4:B55) -> 0.041666667 | C56: =SUM(C4:C55) -> 0.32291667 | D56: =SUM(D4:D55) -> 0.083333333 | E56: =SUM(E4:E55) -> 0.0625 | F56: =SUM(F4:F55) -> 0 | G56: =SUM(G4:G55) -> 0.30208333 | H56: =SUM(H4:H55) -> 0.16666667 | I56: =SUM(I4:I55) -> 0.33333333 | ... AA56: =SUM(AA4:AA55) -> 0

Sheet Feuil1
A1: SIMULATION SUR 2 SEMAINES
B3: OUVERTURE | C3: UPC | D3: 1ER SERVICE | E3: 2eme SERVICE | F3: FERMETURE | G3: Total | I3: jours sur 2 semaines | J3: 10
B4: 0.5 | C4: 1 | D4: 1 | E4: 1 | F4: 0.25 | G4: =SUM(B4:F4) -> 3.75
A5: 2 SEMAINES | B5: =B4*J3 -> 5 | C5: =C4*J3 -> 10 | D5: =D4*J3 -> 10 | E5: =E4*J3 -> 10 | F5: =F4*J3 -> 2.5 | G5: =SUM(B5:F5) -> 37.5
A7: SIMULATION AVEC 8 ENCADRANTS
B8: Taux de présence | C8: Heures à effectuer
A9: NOM Prénom
A10: Inf | B10: 0.4 | C10: =B10*B23 -> 1.875
A11: Emm | B11: 1 | C11: =B11*B23 -> 4.6875
A12: Vér | B12: 0.6 | C12: =B12*B23 -> 2.8125
A13: Bé | B13: 1 | C13: =B13*B23 -> 4.6875
A14: Jean | B14: 1 | C14: =B14*B23 -> 4.6875
A15: Clau | B15: 1 | C15: =B15*B23 -> 4.6875
A16: Personne 7 | B16: 1 | C16: =B16*B23 -> 4.6875
A17: Personne 8 | B17: 1 | C17: =B17*B23 -> 4.6875
A19: Personne 9 | B19: 1 | C19: =B19*B23 -> 4.6875
A20: TOTAL | B20: =SUM(B10:B19) -> 8 | C20: =SUM(C10:C19) -> 37.5
A22: Total des heures 2 semainesavec 8'encadrants
B23: =G5/B20 -> 4.6875
A25: SIMULATION AVEC 8 ENCADRANTS
B26: Taux de présence | C26: Heures à effectuer
A27: NOM Prénom
A28: Personne 1 | B28: 0.4 | C28: =B28*B41 -> 1.6853933
A29: Personne 2 | B29: 1 | C29: =B29*B41 -> 4.2134831
A30: Personne 3 | B30: 0.6 | C30: =B30*B41 -> 2.5280899
A31: Personne 4 | B31: 1 | C31: =B31*B41 -> 4.2134831
A32: Personne 5 | B32: 1 | C32: =B32*B41 -> 4.2134831
A33: Personne 6 | B33: 1 | C33: =B33*B41 -> 4.2134831
A34: Personne 7 | B34: 1 | C34: =B34*B41 -> 4.2134831
A35: Personne 8 | B35: 1 | C35: =B35*B41 -> 4.2134831
A36: Personne 9 | B36: 1 | C36: =B36*B41 -> 4.2134831
A37: Personne 10 | B37: 0.9 | C37: =B37*B41 -> 3.7921348
A38: TOTAL | B38: =SUM(B28:B37) -> 8.9 | C38: =SUM(C28:C37) -> 37.5
A40: Total des heures 2 semaines avec 9 encadrants
B41: =G5/B38 -> 4.2134831

Sheet Parametre
A4: Salarié | C4: Code | D4: Libellé
A5: Infirmière | C5: CP | D5: Congé Payé
A6: A I | C6: CA | D6: Congé annuel
A7: B F | C7: SU | D7: Supra
A8: C H | C8: AB | D8: Absence
A9: E A | C9: PA | D9: Pater. Mater.
A10: E F | C10: Form | D10: Formation
A11: H G
A12: J-C H
A13: J Q
A14: M S
A15: P T
A16: V B
A17: W. E
A18: GTC
