Workbook
Name _Date_Debut_SI: 'SEMAINE IMPAIRE'!$D$1
Name _Date_Debut_SP: 'SEMAINE PAIRE'!$D$1
Name _Date_Fin_SI: 'SEMAINE IMPAIRE'!$F$1
Name _Date_Fin_SP: 'SEMAINE PAIRE'!$F$1

Sheet Planning MAICHE calcul
B1: LUNDI | L1: MARDI | V1: MERCREDI | AF1: JEUDI | AP1: VENDREDI | AZ1: TOTAL SEMAINE | BA1: TEMPS THEO W | BB1: Vérif temps W | BC1: TPS SERVICE | BD1: TPS SERVICE sur 2 semaines - cui et ext | BE1: TPS SERVICE sur 2 semaines avec cui et ext | BF1: Nb cui ou ext | BG1: ETP
A2: SEMAINE PAIRE | B2: ouverture | C2: MATIN | E2: Cuisine | F2: Service 1 | G2: Service 2 | H2: Repas Ext | I2: A-MIDI | K2: Fermeture | L2: ouverture | M2: MATIN | O2: Cuisine | P2: Service 1 | Q2: Service 2 | R2: Repas Ext | S2: A-MIDI | U2: Fermeture | V2: ouverture | W2: MATIN | Y2: Cuisine | Z2: Service 1 | AA2: Service 2 | AB2: Repas Ext | AC2: A-MIDI | AE2: Fermeture | AF2: ouverture | AG2: MATIN | AI2: Cuisine | AJ2: Service 1 | AK2: Service 2 | AL2: Repas Ext | AM2: A-MIDI | AO2: Fermeture | AP2: ouverture | AQ2: MATIN | AS2: Cuisine | AT2: Service 1 | AU2: Service 2 | AV2: Repas Ext | AW2: A-MIDI | AY2: Fermeture
C3: Début | D3: Fin | I3: Début | J3: Fin | M3: Début | N3: Fin | S3: Début | T3: Fin | W3: Début | X3: Fin | AC3: Début | AD3: Fin | AG3: Début | AH3: Fin | AM3: Début | AN3: Fin | AQ3: Début | AR3: Fin | AW3: Début | AX3: Fin
A4: Infirmière | B4: {=IF(AND(INDEX('SEMAINE PAIRE'!$B$15:$F$27,MATCH('Planning MAICHE calcul'!B$2,'SEMAINE PAIRE'!$A$15:$A$27,0),MATCH(OFFSET('Planning MAICHE calcul'!B$1,0,-COLUMN()+2),'SEMAINE PAIRE'!$B$13,0))=$A4,INDEX('SEMAINE PAIRE'!$B$15:$F$27,MATCH('Planning MAICHE calcul'!B$2,'SEMAINE PAIRE'!$A$15:$A$27,0)+1,MATCH(OFFSET('Planning MAICHE calcul'!B$1,0,-COLUMN()+2),'SEMAINE PAIRE'!$B$13,0))=""), "ouv","")} -> ouv | C4: 0.35416667 | D4: 0.47916667 | E4: {=IF(AND(INDEX('SEMAINE PAIRE'!$B$15:$F$27,MATCH('Planning MAICHE calcul'!E$2,'SEMAINE PAIRE'!$A$15:$A$27,0),MATCH(OFFSET('Planning MAICHE calcul'!E$1,0,-COLUMN()+2),'SEMAINE PAIRE'!$B$13,0))=$A4,INDEX('SEMAINE PAIRE'!$B$15:$F$27,MATCH('Planning MAICHE calcul'!E$2,'SEMAINE PAIRE'!$A$15:$A$27,0)+1,MATCH(OFFSET('Planning MAICHE calcul'!E$1,0,-COLUMN()+2),'SEMAINE PAIRE'!$B$13,0))=""), "Cui","")} | F4: {=IF(AND(INDEX('SEMAINE PAIRE'!$B$15:$F$27,MATCH('Planning MAICHE calcul'!F$2,'SEMAINE PAIRE'!$A$15:$A$27,0),MATCH(OFFSET('Planning MAICHE calcul'!F$1,0,-COLUMN()+2),'SEMAINE PAIRE'!$B$13,0))=$A4,INDEX('SEMAINE PAIRE'!$B$15:$F$27,MATCH('Planning MAICHE calcul'!F$2,'SEMAINE PAIRE'!$A$15:$A$27,0)+1,MATCH(OFFSET('Planning MAICHE calcul'!F$1,0,-COLUMN()+2),'SEMAINE PAIRE'!$B$13,0))=""), "S1","")} | G4: {=IF(AND(INDEX('SEMAINE PAIRE'!$B$15:$F$27,MATCH('Planning MAICHE calcul'!G$2,'SEMAINE PAIRE'!$A$15:$A$27,0),MATCH(OFFSET('Planning MAICHE calcul'!G$1,0,-COLUMN()+2),'SEMAINE PAIRE'!$B$13,0))=$A4,INDEX('SEMAINE PAIRE'!$B$15:$F$27,MATCH('Planning MAICHE calcul'!G$2,'SEMAINE PAIRE'!$A$15:$A$27,0)+1,MATCH(OFFSET('Planning MAICHE calcul'!G$1,0,-COLUMN()+2),'SEMAINE PAIRE'!$B$13,0))=""), "S2","")} | H4: {=IF(AND(INDEX('SEMAINE PAIRE'!$B$15:$F$27,MATCH('Planning MAICHE calcul'!H$2,'SEMAINE PAIRE'!$A$15:$A$27,0),MATCH(OFFSET('Planning MAICHE calcul'!H$1,0,-COLUMN()+2),'SEMAINE PAIRE'!$B$13,0))=$A4,INDEX('SEMAINE PAIRE'!$B$15:$F$27,MATCH('Planning MAICHE calcul'!H$2,'SEMAINE PAIRE'!$A$15:$A$27,0)+1,MATCH(OFFSET('Planning MAICHE calcul'!H$1,0,-COLUMN()+2),'SEMAINE PAIRE'!$B$13,0))=""), "R.Ext","")} | I4: 0.52083333 | J4: 0.6875 | K4: {=IF(AND(INDEX('SEMAINE PAIRE'!$B$15:$F$27,MATCH('Planning MAICHE calcul'!K$2,'SEMAINE PAIRE'!$A$15:$A$27,0),MATCH(OFFSET('Planning MAICHE calcul'!K$1,0,-COLUMN()+2),'SEMAINE PAIRE'!$B$13,0))=$A4,INDEX('SEMAINE PAIRE'!$B$15:$F$27,MATCH('Planning MAICHE calcul'!K$2,'SEMAINE PAIRE'!$A$15:$A$27,0)+1,MATCH(OFFSET('Planning MAICHE calcul'!K$1,0,-COLUMN()+2),'SEMAINE PAIRE'!$B$13,0))=""), "Fer","")} | L4: {=IF(AND(INDEX('SEMAINE PAIRE'!$B$15:$F$27,MATCH('Planning MAICHE calcul'!L$2,'SEMAINE PAIRE'!$A$15:$A$27,0),MATCH(OFFSET('Planning MAICHE calcul'!L$1,0,-COLUMN()+2),'SEMAINE PAIRE'!$B$13,0))=$A4,INDEX('SEMAINE PAIRE'!$B$15:$F$27,MATCH('Planning MAICHE calcul'!L$2,'SEMAINE PAIRE'!$A$15:$A$27,0)+1,MATCH(OFFSET('Planning MAICHE calcul'!L$1,0,-COLUMN()+2),'SEMAINE PAIRE'!$B$13,0))=""), "ouv","")} -> ouv | M4: 0.35416667 | N4: 0.47916667 | O4: {=IF(AND(INDEX('SEMAINE PAIRE'!$B$15:$F$27,MATCH('Planning MAICHE calcul'!O$2,'SEMAINE PAIRE'!$A$15:$A$27,0),MATCH(OFFSET('Planning MAICHE calcul'!O$1,0,-COLUMN()+2),'SEMAINE PAIRE'!$B$13,0))=$A4,INDEX('SEMAINE PAIRE'!$B$15:$F$27,MATCH('Planning MAICHE calcul'!O$2,'SEMAINE PAIRE'!$A$15:$A$27,0)+1,MATCH(OFFSET('Planning MAICHE calcul'!O$1,0,-COLUMN()+2),'SEMAINE PAIRE'!$B$13,0))=""), "Cui","")} | P4: {=IF(AND(INDEX('SEMAINE PAIRE'!$B$15:$F$27,MATCH('Planning MAICHE calcul'!P$2,'SEMAINE PAIRE'!$A$15:$A$27,0),MATCH(OFFSET('Planning MAICHE calcul'!P$1,0,-COLUMN()+2),'SEMAINE PAIRE'!$B$13,0))=$A4,INDEX('SEMAINE PAIRE'!$B$15:$F$27,MATCH('Planning MAICHE calcul'!P$2,'SEMAINE PAIRE'!$A$15:$A$27,0)+1,MATCH(OFFSET('Planning MAICHE calcul'!P$1,0,-COLUMN()+2),'SEMAINE PAIRE'!$B$13,0))=""), "S1","")} | Q4: {=IF(AND(INDEX('SEMAINE PAIRE'!$B$15:$F$27,MATCH('Planning MAICHE calcul'!Q$2,'SEMAINE PAIRE'!$A$15:$A$27,0),MATCH(OFFSET('Planning MAICHE calcul'!Q$1,0,-COLUMN()+2),'SEMAINE PAIRE'!$B$13,0))=$A4,INDEX('SEMAINE PAIRE'!$B$15:$F$27,MATCH('Planning MAICHE calcul'!Q$2,'SEMAINE PAIRE'!$A$15:$A$27,0)+1,MATCH(OFFSET('Planning MAICHE calcul'!Q$1,0,-COLUMN()+2),'SEMAINE PAIRE'!$B$13,0))=""), "S2","")} | R4: {=IF(AND(INDEX('SEMAINE PAIRE'!$B$15:$F$27,MATCH('Planning MAICHE calcul'!R$2,'SEMAINE PAIRE'!$A$15:$A$27,0),MATCH(OFFSET('Planning MAICHE calcul'!R$1,0,-COLUMN()+2),'SEMAINE PAIRE'!$B$13,0))=$A4,INDEX('SEMAINE PAIRE'!$B$15:$F$27,MATCH('Planning MAICHE calcul'!R$2,'SEMAINE PAIRE'!$A$15:$A$27,0)+1,MATCH(OFFSET('Planning MAICHE calcul'!R$1,0,-COLUMN()+2),'SEMAINE PAIRE'!$B$13,0))=""), "R.Ext","")} | S4: 0.52083333 | T4: 0.6875 | V4: {=IF(AND(INDEX('SEMAINE PAIRE'!$B$15:$F$27,MATCH('Planning MAICHE calcul'!V$2,'SEMAINE PAIRE'!$A$15:$A$27,0),MATCH(OFFSET('Planning MAICHE calcul'!V$1,0,-COLUMN()+2),'SEMAINE PAIRE'!$B$13,0))=$A4,INDEX('SEMAINE PAIRE'!$B$15:$F$27,MATCH('Planning MAICHE calcul'!V$2,'SEMAINE PAIRE'!$A$15:$A$27,0)+1,MATCH(OFFSET('Planning MAICHE calcul'!V$1,0,-COLUMN()+2),'SEMAINE PAIRE'!$B$13,0))=""), "ouv","")} -> ouv | W4: 0.35416667 | X4: 0.47916667 | Y4: {=IF(AND(INDEX('SEMAINE PAIRE'!$B$15:$F$27,MATCH('Planning MAICHE calcul'!Y$2,'SEMAINE PAIRE'!$A$15:$A$27,0),MATCH(OFFSET('Planning MAICHE calcul'!Y$1,0,-COLUMN()+2),'SEMAINE PAIRE'!$B$13,0))=$A4,INDEX('SEMAINE PAIRE'!$B$15:$F$27,MATCH('Planning MAICHE calcul'!Y$2,'SEMAINE PAIRE'!$A$15:$A$27,0)+1,MATCH(OFFSET('Planning MAICHE calcul'!Y$1,0,-COLUMN()+2),'SEMAINE PAIRE'!$B$13,0))=""), "Cui","")} | AF4: {=IF(AND(INDEX('SEMAINE PAIRE'!$B$15:$F$27,MATCH('Planning MAICHE calcul'!AF$2,'SEMAINE PAIRE'!$A$15:$A$27,0),MATCH(OFFSET('Planning MAICHE calcul'!AF$1,0,-COLUMN()+2),'SEMAINE PAIRE'!$B$13,0))=$A4,INDEX('SEMAINE PAIRE'!$B$15:$F$27,MATCH('Planning MAICHE calcul'!AF$2,'SEMAINE PAIRE'!$A$15:$A$27,0)+1,MATCH(OFFSET('Planning MAICHE calcul'!AF$1,0,-COLUMN()+2),'SEMAINE PAIRE'!$B$13,0))=""), "ouv","")} -> ouv | AG4: 0.35416667 | AH4: 0.47916667 | AM4: 0.52083333 | AN4: 0.6875 | AQ4: 0.35416667 | AR4: 0.47916667 | AW4: 0.52083333 | AX4: 0.6875
A5: A I | B5: {=IF(AND(INDEX('SEMAINE PAIRE'!$B$15:$F$27,MATCH('Planning MAICHE calcul'!B$2,'SEMAINE PAIRE'!$A$15:$A$27,0),MATCH(OFFSET('Planning MAICHE calcul'!B$1,0,-COLUMN()+2),'SEMAINE PAIRE'!$B$13,0))=$A5,INDEX('SEMAINE PAIRE'!$B$15:$F$27,MATCH('Planning MAICHE calcul'!B$2,'SEMAINE PAIRE'!$A$15:$A$27,0)+1,MATCH(OFFSET('Planning MAICHE calcul'!B$1,0,-COLUMN()+2),'SEMAINE PAIRE'!$B$13,0))=""), "ouv","")} | C5: 0.35416667 | D5: 0.47916667 | E5: {=IF(AND(INDEX('SEMAINE PAIRE'!$B$15:$F$27,MATCH('Planning MAICHE calcul'!E$2,'SEMAINE PAIRE'!$A$15:$A$27,0),MATCH(OFFSET('Planning MAICHE calcul'!E$1,0,-COLUMN()+2),'SEMAINE PAIRE'!$B$13,0))=$A5,INDEX('SEMAINE PAIRE'!$B$15:$F$27,MATCH('Planning MAICHE calcul'!E$2,'SEMAINE PAIRE'!$A$15:$A$27,0)+1,MATCH(OFFSET('Planning MAICHE calcul'!E$1,0,-COLUMN()+2),'SEMAINE PAIRE'!$B$13,0))=""), "Cui","")} | F5: {=IF(AND(INDEX('SEMAINE PAIRE'!$B$15:$F$27,MATCH('Planning MAICHE calcul'!F$2,'SEMAINE PAIRE'!$A$15:$A$27,0),MATCH(OFFSET('Planning MAICHE calcul'!F$1,0,-COLUMN()+2),'SEMAINE PAIRE'!$B$13,0))=$A5,INDEX('SEMAINE PAIRE'!$B$15:$F$27,MATCH('Planning MAICHE calcul'!F$2,'SEMAINE PAIRE'!$A$15:$A$27,0)+1,MATCH(OFFSET('Planning MAICHE calcul'!F$1,0,-COLUMN()+2),'SEMAINE PAIRE'!$B$13,0))=""), "S1","")} | G5: {=IF(AND(INDEX('SEMAINE PAIRE'!$B$15:$F$27,MATCH('Planning MAICHE calcul'!G$2,'SEMAINE PAIRE'!$A$15:$A$27,0),MATCH(OFFSET('Planning MAICHE calcul'!G$1,0,-COLUMN()+2),'SEMAINE PAIRE'!$B$13,0))=$A5,INDEX('SEMAINE PAIRE'!$B$15:$F$27,MATCH('Planning MAICHE calcul'!G$2,'SEMAINE PAIRE'!$A$15:$A$27,0)+1,MATCH(OFFSET('Planning MAICHE calcul'!G$1,0,-COLUMN()+2),'SEMAINE PAIRE'!$B$13,0))=""), "S2","")} -> S2 | H5: {=IF(AND(INDEX('SEMAINE PAIRE'!$B$15:$F$27,MATCH('Planning MAICHE calcul'!H$2,'SEMAINE PAIRE'!$A$15:$A$27,0),MATCH(OFFSET('Planning MAICHE calcul'!H$1,0,-COLUMN()+2),'SEMAINE PAIRE'!$B$13,0))=$A5,INDEX('SEMAINE PAIRE'!$B$15:$F$27,MATCH('Planning MAICHE calcul'!H$2,'SEMAINE PAIRE'!$A$15:$A$27,0)+1,MATCH(OFFSET('Planning MAICHE calcul'!H$1,0,-COLUMN()+2),'SEMAINE PAIRE'!$B$13,0))=""), "R.Ext","")} | I5: 0.52083333 | J5: 0.6875 | K5: {=IF(AND(INDEX('SEMAINE PAIRE'!$B$15:$F$27,MATCH('Planning MAICHE calcul'!K$2,'SEMAINE PAIRE'!$A$15:$A$27,0),MATCH(OFFSET('Planning MAICHE calcul'!K$1,0,-COLUMN()+2),'SEMAINE PAIRE'!$B$13,0))=$A5,INDEX('SEMAINE PAIRE'!$B$15:$F$27,MATCH('Planning MAICHE calcul'!K$2,'SEMAINE PAIRE'!$A$15:$A$27,0)+1,MATCH(OFFSET('Planning MAICHE calcul'!K$1,0,-COLUMN()+2),'SEMAINE PAIRE'!$B$13,0))=""), "Fer","")} -> Fer | L5: {=IF(AND(INDEX('SEMAINE PAIRE'!$B$15:$F$27,MATCH('Planning MAICHE calcul'!L$2,'SEMAINE PAIRE'!$A$15:$A$27,0),MATCH(OFFSET('Planning MAICHE calcul'!L$1,0,-COLUMN()+2),'SEMAINE PAIRE'!$B$13,0))=$A5,INDEX('SEMAINE PAIRE'!$B$15:$F$27,MATCH('Planning MAICHE calcul'!L$2,'SEMAINE PAIRE'!$A$15:$A$27,0)+1,MATCH(OFFSET('Planning MAICHE calcul'!L$1,0,-COLUMN()+2),'SEMAINE PAIRE'!$B$13,0))=""), "ouv","")} | M5: 0.35416667 | N5: 0.47916667 | O5: {=IF(AND(INDEX('SEMAINE PAIRE'!$B$15:$F$27,MATCH('Planning MAICHE calcul'!O$2,'SEMAINE PAIRE'!$A$15:$A$27,0),MATCH(OFFSET('Planning MAICHE calcul'!O$1,0,-COLUMN()+2),'SEMAINE PAIRE'!$B$13,0))=$A5,INDEX('SEMAINE PAIRE'!$B$15:$F$27,MATCH('Planning MAICHE calcul'!O$2,'SEMAINE PAIRE'!$A$15:$A$27,0)+1,MATCH(OFFSET('Planning MAICHE calcul'!O$1,0,-COLUMN()+2),'SEMAINE PAIRE'!$B$13,0))=""), "Cui","")} | P5: {=IF(AND(INDEX('SEMAINE PAIRE'!$B$15:$F$27,MATCH('Planning MAICHE calcul'!P$2,'SEMAINE PAIRE'!$A$15:$A$27,0),MATCH(OFFSET('Planning MAICHE calcul'!P$1,0,-COLUMN()+2),'SEMAINE PAIRE'!$B$13,0))=$A5,INDEX('SEMAINE PAIRE'!$B$15:$F$27,MATCH('Planning MAICHE calcul'!P$2,'SEMAINE PAIRE'!$A$15:$A$27,0)+1,MATCH(OFFSET('Planning MAICHE calcul'!P$1,0,-COLUMN()+2),'SEMAINE PAIRE'!$B$13,0))=""), "S1","")} | Q5: {=IF(AND(INDEX('SEMAINE PAIRE'!$B$15:$F$27,MATCH('Planning MAICHE calcul'!Q$2,'SEMAINE PAIRE'!$A$15:$A$27,0),MATCH(OFFSET('Planning MAICHE calcul'!Q$1,0,-COLUMN()+2),'SEMAINE PAIRE'!$B$13,0))=$A5,INDEX('SEMAINE PAIRE'!$B$15:$F$27,MATCH('Planning MAICHE calcul'!Q$2,'SEMAINE PAIRE'!$A$15:$A$27,0)+1,MATCH(OFFSET('Planning MAICHE calcul'!Q$1,0,-COLUMN()+2),'SEMAINE PAIRE'!$B$13,0))=""), "S2","")} -> S2 | R5: {=IF(AND(INDEX('SEMAINE PAIRE'!$B$15:$F$27,MATCH('Planning MAICHE calcul'!R$2,'SEMAINE PAIRE'!$A$15:$A$27,0),MATCH(OFFSET('Planning MAICHE calcul'!R$1,0,-COLUMN()+2),'SEMAINE PAIRE'!$B$13,0))=$A5,INDEX('SEMAINE PAIRE'!$B$15:$F$27,MATCH('Planning MAICHE calcul'!R$2,'SEMAINE PAIRE'!$A$15:$A$27,0)+1,MATCH(OFFSET('Planning MAICHE calcul'!R$1,0,-COLUMN()+2),'SEMAINE PAIRE'!$B$13,0))=""), "R.Ext","")} | S5: 0.35416667 | T5: 0.47916667 | W5: 0.35416667 | X5: 0.47916667 | AC5: 0.52083333 | AD5: 0.6875 | AG5: 0.35416667 | AH5: 0.47916667 | AM5: 0.52083333 | AN5: 0.61458333 | AQ5: 0.35416667 | AR5: 0.47916667 | AW5: 0.52083333 | AX5: 0.6875
A6: E A | B6: {=IF(AND(INDEX('SEMAINE PAIRE'!$B$15:$F$27,MATCH('Planning MAICHE calcul'!B$2,'SEMAINE PAIRE'!$A$15:$A$27,0),MATCH(OFFSET('Planning MAICHE calcul'!B$1,0,-COLUMN()+2),'SEMAINE PAIRE'!$B$13,0))=$A6,INDEX('SEMAINE PAIRE'!$B$15:$F$27,MATCH('Planning MAICHE calcul'!B$2,'SEMAINE PAIRE'!$A$15:$A$27,0)+1,MATCH(OFFSET('Planning MAICHE calcul'!B$1,0,-COLUMN()+2),'SEMAINE PAIRE'!$B$13,0))=""), "ouv","")} | C6: 0.35416667 | D6: 0.53125 | E6: {=IF(AND(INDEX('SEMAINE PAIRE'!$B$15:$F$27,MATCH('Planning MAICHE calcul'!E$2,'SEMAINE PAIRE'!$A$15:$A$27,0),MATCH(OFFSET('Planning MAICHE calcul'!E$1,0,-COLUMN()+2),'SEMAINE PAIRE'!$B$13,0))=$A6,INDEX('SEMAINE PAIRE'!$B$15:$F$27,MATCH('Planning MAICHE calcul'!E$2,'SEMAINE PAIRE'!$A$15:$A$27,0)+1,MATCH(OFFSET('Planning MAICHE calcul'!E$1,0,-COLUMN()+2),'SEMAINE PAIRE'!$B$13,0))=""), "Cui","")} | F6: {=IF(AND(INDEX('SEMAINE PAIRE'!$B$15:$F$27,MATCH('Planning MAICHE calcul'!F$2,'SEMAINE PAIRE'!$A$15:$A$27,0),MATCH(OFFSET('Planning MAICHE calcul'!F$1,0,-COLUMN()+2),'SEMAINE PAIRE'!$B$13,0))=$A6,INDEX('SEMAINE PAIRE'!$B$15:$F$27,MATCH('Planning MAICHE calcul'!F$2,'SEMAINE PAIRE'!$A$15:$A$27,0)+1,MATCH(OFFSET('Planning MAICHE calcul'!F$1,0,-COLUMN()+2),'SEMAINE PAIRE'!$B$13,0))=""), "S1","")} | G6: {=IF(AND(INDEX('SEMAINE PAIRE'!$B$15:$F$27,MATCH('Planning MAICHE calcul'!G$2,'SEMAINE PAIRE'!$A$15:$A$27,0),MATCH(OFFSET('Planning MAICHE calcul'!G$1,0,-COLUMN()+2),'SEMAINE PAIRE'!$B$13,0))=$A6,INDEX('SEMAINE PAIRE'!$B$15:$F$27,MATCH('Planning MAICHE calcul'!G$2,'SEMAINE PAIRE'!$A$15:$A$27,0)+1,MATCH(OFFSET('Planning MAICHE calcul'!G$1,0,-COLUMN()+2),'SEMAINE PAIRE'!$B$13,0))=""), "S2","")} | H6: {=IF(AND(INDEX('SEMAINE PAIRE'!$B$15:$F$27,MATCH('Planning MAICHE calcul'!H$2,'SEMAINE PAIRE'!$A$15:$A$27,0),MATCH(OFFSET('Planning MAICHE calcul'!H$1,0,-COLUMN()+2),'SEMAINE PAIRE'!$B$13,0))=$A6,INDEX('SEMAINE PAIRE'!$B$15:$F$27,MATCH('Planning MAICHE calcul'!H$2,'SEMAINE PAIRE'!$A$15:$A$27,0)+1,MATCH(OFFSET('Planning MAICHE calcul'!H$1,0,-COLUMN()+2),'SEMAINE PAIRE'!$B$13,0))=""), "R.Ext","")} | I6: 0.57291667 | J6: 0.6875 | K6: {=IF(AND(INDEX('SEMAINE PAIRE'!$B$15:$F$27,MATCH('Planning MAICHE calcul'!K$2,'SEMAINE PAIRE'!$A$15:$A$27,0),MATCH(OFFSET('Planning MAICHE calcul'!K$1,0,-COLUMN()+2),'SEMAINE PAIRE'!$B$13,0))=$A6,INDEX('SEMAINE PAIRE'!$B$15:$F$27,MATCH('Planning MAICHE calcul'!K$2,'SEMAINE PAIRE'!$A$15:$A$27,0)+1,MATCH(OFFSET('Planning MAICHE calcul'!K$1,0,-COLUMN()+2),'SEMAINE PAIRE'!$B$13,0))=""), "Fer","")} | L6: {=IF(AND(INDEX('SEMAINE PAIRE'!$B$15:$F$27,MATCH('Planning MAICHE calcul'!L$2,'SEMAINE PAIRE'!$A$15:$A$27,0),MATCH(OFFSET('Planning MAICHE calcul'!L$1,0,-COLUMN()+2),'SEMAINE PAIRE'!$B$13,0))=$A6,INDEX('SEMAINE PAIRE'!$B$15:$F$27,MATCH('Planning MAICHE calcul'!L$2,'SEMAINE PAIRE'!$A$15:$A$27,0)+1,MATCH(OFFSET('Planning MAICHE calcul'!L$1,0,-COLUMN()+2),'SEMAINE PAIRE'!$B$13,0))=""), "ouv","")} | M6: 0.35416667 | N6: 0.53125 | O6: {=IF(AND(INDEX('SEMAINE PAIRE'!$B$15:$F$27,MATCH('Planning MAICHE calcul'!O$2,'SEMAINE PAIRE'!$A$15:$A$27,0),MATCH(OFFSET('Planning MAICHE calcul'!O$1,0,-COLUMN()+2),'SEMAINE PAIRE'!$B$13,0))=$A6,INDEX('SEMAINE PAIRE'!$B$15:$F$27,MATCH('Planning MAICHE calcul'!O$2,'SEMAINE PAIRE'!$A$15:$A$27,0)+1,MATCH(OFFSET('Planning MAICHE calcul'!O$1,0,-COLUMN()+2),'SEMAINE PAIRE'!$B$13,0))=""), "Cui","")} | P6: {=IF(AND(INDEX('SEMAINE PAIRE'!$B$15:$F$27,MATCH('Planning MAICHE calcul'!P$2,'SEMAINE PAIRE'!$A$15:$A$27,0),MATCH(OFFSET('Planning MAICHE calcul'!P$1,0,-COLUMN()+2),'SEMAINE PAIRE'!$B$13,0))=$A6,INDEX('SEMAINE PAIRE'!$B$15:$F$27,MATCH('Planning MAICHE calcul'!P$2,'SEMAINE PAIRE'!$A$15:$A$27,0)+1,MATCH(OFFSET('Planning MAICHE calcul'!P$1,0,-COLUMN()+2),'SEMAINE PAIRE'!$B$13,0))=""), "S1","")} | Q6: {=IF(AND(INDEX('SEMAINE PAIRE'!$B$15:$F$27,MATCH('Planning MAICHE calcul'!Q$2,'SEMAINE PAIRE'!$A$15:$A$27,0),MATCH(OFFSET('Planning MAICHE calcul'!Q$1,0,-COLUMN()+2),'SEMAINE PAIRE'!$B$13,0))=$A6,INDEX('SEMAINE PAIRE'!$B$15:$F$27,MATCH('Planning MAICHE calcul'!Q$2,'SEMAINE PAIRE'!$A$15:$A$27,0)+1,MATCH(OFFSET('Planning MAICHE calcul'!Q$1,0,-COLUMN()+2),'SEMAINE PAIRE'!$B$13,0))=""), "S2","")} | R6: {=IF(AND(INDEX('SEMAINE PAIRE'!$B$15:$F$27,MATCH('Planning MAICHE calcul'!R$2,'SEMAINE PAIRE'!$A$15:$A$27,0),MATCH(OFFSET('Planning MAICHE calcul'!R$1,0,-COLUMN()+2),'SEMAINE PAIRE'!$B$13,0))=$A6,INDEX('SEMAINE PAIRE'!$B$15:$F$27,MATCH('Planning MAICHE calcul'!R$2,'SEMAINE PAIRE'!$A$15:$A$27,0)+1,MATCH(OFFSET('Planning MAICHE calcul'!R$1,0,-COLUMN()+2),'SEMAINE PAIRE'!$B$13,0))=""), "R.Ext","")} | S6: 0.57291667 | T6: 0.6875 | W6: 0.35416667 | X6: 0.53125 | AC6: 0.57291667 | AD6: 0.60416667 | AG6: 0.35416667 | AH6: 0.53125 | AM6: 0.57291667 | AN6: 0.6875 | AQ6: 0.35416667 | AR6: 0.53125 | AW6: 0.57291667 | AX6: 0.6875 | BB6: =ROUND(AZ6-BA6,2) -> 0
A7: J Q | B7: {=IF(AND(INDEX('SEMAINE PAIRE'!$B$15:$F$27,MATCH('Planning MAICHE calcul'!B$2,'SEMAINE PAIRE'!$A$15:$A$27,0),MATCH(OFFSET('Planning MAICHE calcul'!B$1,0,-COLUMN()+2),'SEMAINE PAIRE'!$B$13,0))=$A7,INDEX('SEMAINE PAIRE'!$B$15:$F$27,MATCH('Planning MAICHE calcul'!B$2,'SEMAINE PAIRE'!$A$15:$A$27,0)+1,MATCH(OFFSET('Planning MAICHE calcul'!B$1,0,-COLUMN()+2),'SEMAINE PAIRE'!$B$13,0))=""), "ouv","")} | C7: 0.35416667 | D7: 0.47916667 | E7: {=IF(AND(INDEX('SEMAINE PAIRE'!$B$15:$F$27,MATCH('Planning MAICHE calcul'!E$2,'SEMAINE PAIRE'!$A$15:$A$27,0),MATCH(OFFSET('Planning MAICHE calcul'!E$1,0,-COLUMN()+2),'SEMAINE PAIRE'!$B$13,0))=$A7,INDEX('SEMAINE PAIRE'!$B$15:$F$27,MATCH('Planning MAICHE calcul'!E$2,'SEMAINE PAIRE'!$A$15:$A$27,0)+1,MATCH(OFFSET('Planning MAICHE calcul'!E$1,0,-COLUMN()+2),'SEMAINE PAIRE'!$B$13,0))=""), "Cui","")} | F7: {=IF(AND(INDEX('SEMAINE PAIRE'!$B$15:$F$27,MATCH('Planning MAICHE calcul'!F$2,'SEMAINE PAIRE'!$A$15:$A$27,0),MATCH(OFFSET('Planning MAICHE calcul'!F$1,0,-COLUMN()+2),'SEMAINE PAIRE'!$B$13,0))=$A7,INDEX('SEMAINE PAIRE'!$B$15:$F$27,MATCH('Planning MAICHE calcul'!F$2,'SEMAINE PAIRE'!$A$15:$A$27,0)+1,MATCH(OFFSET('Planning MAICHE calcul'!F$1,0,-COLUMN()+2),'SEMAINE PAIRE'!$B$13,0))=""), "S1","")} | G7: {=IF(AND(INDEX('SEMAINE PAIRE'!$B$15:$F$27,MATCH('Planning MAICHE calcul'!G$2,'SEMAINE PAIRE'!$A$15:$A$27,0),MATCH(OFFSET('Planning MAICHE calcul'!G$1,0,-COLUMN()+2),'SEMAINE PAIRE'!$B$13,0))=$A7,INDEX('SEMAINE PAIRE'!$B$15:$F$27,MATCH('Planning MAICHE calcul'!G$2,'SEMAINE PAIRE'!$A$15:$A$27,0)+1,MATCH(OFFSET('Planning MAICHE calcul'!G$1,0,-COLUMN()+2),'SEMAINE PAIRE'!$B$13,0))=""), "S2","")} | H7: {=IF(AND(INDEX('SEMAINE PAIRE'!$B$15:$F$27,MATCH('Planning MAICHE calcul'!H$2,'SEMAINE PAIRE'!$A$15:$A$27,0),MATCH(OFFSET('Planning MAICHE calcul'!H$1,0,-COLUMN()+2),'SEMAINE PAIRE'!$B$13,0))=$A7,INDEX('SEMAINE PAIRE'!$B$15:$F$27,MATCH('Planning MAICHE calcul'!H$2,'SEMAINE PAIRE'!$A$15:$A$27,0)+1,MATCH(OFFSET('Planning MAICHE calcul'!H$1,0,-COLUMN()+2),'SEMAINE PAIRE'!$B$13,0))=""), "R.Ext","")} | I7: 0.52083333 | J7: 0.6875 | K7: {=IF(AND(INDEX('SEMAINE PAIRE'!$B$15:$F$27,MATCH('Planning MAICHE calcul'!K$2,'SEMAINE PAIRE'!$A$15:$A$27,0),MATCH(OFFSET('Planning MAICHE calcul'!K$1,0,-COLUMN()+2),'SEMAINE PAIRE'!$B$13,0))=$A7,INDEX('SEMAINE PAIRE'!$B$15:$F$27,MATCH('Planning MAICHE calcul'!K$2,'SEMAINE PAIRE'!$A$15:$A$27,0)+1,MATCH(OFFSET('Planning MAICHE calcul'!K$1,0,-COLUMN()+2),'SEMAINE PAIRE'!$B$13,0))=""), "Fer","")} | L7: {=IF(AND(INDEX('SEMAINE PAIRE'!$B$15:$F$27,MATCH('Planning MAICHE calcul'!L$2,'SEMAINE PAIRE'!$A$15:$A$27,0),MATCH(OFFSET('Planning MAICHE calcul'!L$1,0,-COLUMN()+2),'SEMAINE PAIRE'!$B$13,0))=$A7,INDEX('SEMAINE PAIRE'!$B$15:$F$27,MATCH('Planning MAICHE calcul'!L$2,'SEMAINE PAIRE'!$A$15:$A$27,0)+1,MATCH(OFFSET('Planning MAICHE calcul'!L$1,0,-COLUMN()+2),'SEMAINE PAIRE'!$B$13,0))=""), "ouv","")} | M7: 0.35416667 | N7: 0.47916667 | O7: {=IF(AND(INDEX('SEMAINE PAIRE'!$B$15:$F$27,MATCH('Planning MAICHE calcul'!O$2,'SEMAINE PAIRE'!$A$15:$A$27,0),MATCH(OFFSET('Planning MAICHE calcul'!O$1,0,-COLUMN()+2),'SEMAINE PAIRE'!$B$13,0))=$A7,INDEX('SEMAINE PAIRE'!$B$15:$F$27,MATCH('Planning MAICHE calcul'!O$2,'SEMAINE PAIRE'!$A$15:$A$27,0)+1,MATCH(OFFSET('Planning MAICHE calcul'!O$1,0,-COLUMN()+2),'SEMAINE PAIRE'!$B$13,0))=""), "Cui","")} | P7: {=IF(AND(INDEX('SEMAINE PAIRE'!$B$15:$F$27,MATCH('Planning MAICHE calcul'!P$2,'SEMAINE PAIRE'!$A$15:$A$27,0),MATCH(OFFSET('Planning MAICHE calcul'!P$1,0,-COLUMN()+2),'SEMAINE PAIRE'!$B$13,0))=$A7,INDEX('SEMAINE PAIRE'!$B$15:$F$27,MATCH('Planning MAICHE calcul'!P$2,'SEMAINE PAIRE'!$A$15:$A$27,0)+1,MATCH(OFFSET('Planning MAICHE calcul'!P$1,0,-COLUMN()+2),'SEMAINE PAIRE'!$B$13,0))=""), "S1","")} | Q7: {=IF(AND(INDEX('SEMAINE PAIRE'!$B$15:$F$27,MATCH('Planning MAICHE calcul'!Q$2,'SEMAINE PAIRE'!$A$15:$A$27,0),MATCH(OFFSET('Planning MAICHE calcul'!Q$1,0,-COLUMN()+2),'SEMAINE PAIRE'!$B$13,0))=$A7,INDEX('SEMAINE PAIRE'!$B$15:$F$27,MATCH('Planning MAICHE calcul'!Q$2,'SEMAINE PAIRE'!$A$15:$A$27,0)+1,MATCH(OFFSET('Planning MAICHE calcul'!Q$1,0,-COLUMN()+2),'SEMAINE PAIRE'!$B$13,0))=""), "S2","")} | R7: {=IF(AND(INDEX('SEMAINE PAIRE'!$B$15:$F$27,MATCH('Planning MAICHE calcul'!R$2,'SEMAINE PAIRE'!$A$15:$A$27,0),MATCH(OFFSET('Planning MAICHE calcul'!R$1,0,-COLUMN()+2),'SEMAINE PAIRE'!$B$13,0))=$A7,INDEX('SEMAINE PAIRE'!$B$15:$F$27,MATCH('Planning MAICHE calcul'!R$2,'SEMAINE PAIRE'!$A$15:$A$27,0)+1,MATCH(OFFSET('Planning MAICHE calcul'!R$1,0,-COLUMN()+2),'SEMAINE PAIRE'!$B$13,0))=""), "R.Ext","")} | S7: 0.52083333 | T7: 0.6875 | W7: 0.35416667 | X7: 0.47916667 | AC7: 0.52083333 | AD7: 0.6875 | AG7: 0.35416667 | AH7: 0.47916667 | AM7: 0.52083333 | AN7: 0.60416667 | AQ7: 0.35416667 | AR7: 0.47916667 | AW7: 0.52083333 | AX7: 0.6875 | BB7: =ROUND(AZ7-BA7,2) -> 0
A8: B F | B8: {=IF(AND(INDEX('SEMAINE PAIRE'!$B$15:$F$27,MATCH('Planning MAICHE calcul'!B$2,'SEMAINE PAIRE'!$A$15:$A$27,0),MATCH(OFFSET('Planning MAICHE calcul'!B$1,0,-COLUMN()+2),'SEMAINE PAIRE'!$B$13,0))=$A8,INDEX('SEMAINE PAIRE'!$B$15:$F$27,MATCH('Planning MAICHE calcul'!B$2,'SEMAINE PAIRE'!$A$15:$A$27,0)+1,MATCH(OFFSET('Planning MAICHE calcul'!B$1,0,-COLUMN()+2),'SEMAINE PAIRE'!$B$13,0))=""), "ouv","")} | C8: 0.35416667 | D8: 0.47916667 | E8: {=IF(AND(INDEX('SEMAINE PAIRE'!$B$15:$F$27,MATCH('Planning MAICHE calcul'!E$2,'SEMAINE PAIRE'!$A$15:$A$27,0),MATCH(OFFSET('Planning MAICHE calcul'!E$1,0,-COLUMN()+2),'SEMAINE PAIRE'!$B$13,0))=$A8,INDEX('SEMAINE PAIRE'!$B$15:$F$27,MATCH('Planning MAICHE calcul'!E$2,'SEMAINE PAIRE'!$A$15:$A$27,0)+1,MATCH(OFFSET('Planning MAICHE calcul'!E$1,0,-COLUMN()+2),'SEMAINE PAIRE'!$B$13,0))=""), "Cui","")} -> Cui | F8: {=IF(AND(INDEX('SEMAINE PAIRE'!$B$15:$F$27,MATCH('Planning MAICHE calcul'!F$2,'SEMAINE PAIRE'!$A$15:$A$27,0),MATCH(OFFSET('Planning MAICHE calcul'!F$1,0,-COLUMN()+2),'SEMAINE PAIRE'!$B$13,0))=$A8,INDEX('SEMAINE PAIRE'!$B$15:$F$27,MATCH('Planning MAICHE calcul'!F$2,'SEMAINE PAIRE'!$A$15:$A$27,0)+1,MATCH(OFFSET('Planning MAICHE calcul'!F$1,0,-COLUMN()+2),'SEMAINE PAIRE'!$B$13,0))=""), "S1","")} | G8: {=IF(AND(INDEX('SEMAINE PAIRE'!$B$15:$F$27,MATCH('Planning MAICHE calcul'!G$2,'SEMAINE PAIRE'!$A$15:$A$27,0),MATCH(OFFSET('Planning MAICHE calcul'!G$1,0,-COLUMN()+2),'SEMAINE PAIRE'!$B$13,0))=$A8,INDEX('SEMAINE PAIRE'!$B$15:$F$27,MATCH('Planning MAICHE calcul'!G$2,'SEMAINE PAIRE'!$A$15:$A$27,0)+1,MATCH(OFFSET('Planning MAICHE calcul'!G$1,0,-COLUMN()+2),'SEMAINE PAIRE'!$B$13,0))=""), "S2","")} | H8: {=IF(AND(INDEX('SEMAINE PAIRE'!$B$15:$F$27,MATCH('Planning MAICHE calcul'!H$2,'SEMAINE PAIRE'!$A$15:$A$27,0),MATCH(OFFSET('Planning MAICHE calcul'!H$1,0,-COLUMN()+2),'SEMAINE PAIRE'!$B$13,0))=$A8,INDEX('SEMAINE PAIRE'!$B$15:$F$27,MATCH('Planning MAICHE calcul'!H$2,'SEMAINE PAIRE'!$A$15:$A$27,0)+1,MATCH(OFFSET('Planning MAICHE calcul'!H$1,0,-COLUMN()+2),'SEMAINE PAIRE'!$B$13,0))=""), "R.Ext","")} | I8: 0.52083333 | J8: 0.6875 | K8: {=IF(AND(INDEX('SEMAINE PAIRE'!$B$15:$F$27,MATCH('Planning MAICHE calcul'!K$2,'SEMAINE PAIRE'!$A$15:$A$27,0),MATCH(OFFSET('Planning MAICHE calcul'!K$1,0,-COLUMN()+2),'SEMAINE PAIRE'!$B$13,0))=$A8,INDEX('SEMAINE PAIRE'!$B$15:$F$27,MATCH('Planning MAICHE calcul'!K$2,'SEMAINE PAIRE'!$A$15:$A$27,0)+1,MATCH(OFFSET('Planning MAICHE calcul'!K$1,0,-COLUMN()+2),'SEMAINE PAIRE'!$B$13,0))=""), "Fer","")} | L8: {=IF(AND(INDEX('SEMAINE PAIRE'!$B$15:$F$27,MATCH('Planning MAICHE calcul'!L$2,'SEMAINE PAIRE'!$A$15:$A$27,0),MATCH(OFFSET('Planning MAICHE calcul'!L$1,0,-COLUMN()+2),'SEMAINE PAIRE'!$B$13,0))=$A8,INDEX('SEMAINE PAIRE'!$B$15:$F$27,MATCH('Planning MAICHE calcul'!L$2,'SEMAINE PAIRE'!$A$15:$A$27,0)+1,MATCH(OFFSET('Planning MAICHE calcul'!L$1,0,-COLUMN()+2),'SEMAINE PAIRE'!$B$13,0))=""), "ouv","")} | M8: 0.35416667 | N8: 0.47916667 | O8: {=IF(AND(INDEX('SEMAINE PAIRE'!$B$15:$F$27,MATCH('Planning MAICHE calcul'!O$2,'SEMAINE PAIRE'!$A$15:$A$27,0),MATCH(OFFSET('Planning MAICHE calcul'!O$1,0,-COLUMN()+2),'SEMAINE PAIRE'!$B$13,0))=$A8,INDEX('SEMAINE PAIRE'!$B$15:$F$27,MATCH('Planning MAICHE calcul'!O$2,'SEMAINE PAIRE'!$A$15:$A$27,0)+1,MATCH(OFFSET('Planning MAICHE calcul'!O$1,0,-COLUMN()+2),'SEMAINE PAIRE'!$B$13,0))=""), "Cui","")} -> Cui | P8: {=IF(AND(INDEX('SEMAINE PAIRE'!$B$15:$F$27,MATCH('Planning MAICHE calcul'!P$2,'SEMAINE PAIRE'!$A$15:$A$27,0),MATCH(OFFSET('Planning MAICHE calcul'!P$1,0,-COLUMN()+2),'SEMAINE PAIRE'!$B$13,0))=$A8,INDEX('SEMAINE PAIRE'!$B$15:$F$27,MATCH('Planning MAICHE calcul'!P$2,'SEMAINE PAIRE'!$A$15:$A$27,0)+1,MATCH(OFFSET('Planning MAICHE calcul'!P$1,0,-COLUMN()+2),'SEMAINE PAIRE'!$B$13,0))=""), "S1","")} | Q8: {=IF(AND(INDEX('SEMAINE PAIRE'!$B$15:$F$27,MATCH('Planning MAICHE calcul'!Q$2,'SEMAINE PAIRE'!$A$15:$A$27,0),MATCH(OFFSET('Planning MAICHE calcul'!Q$1,0,-COLUMN()+2),'SEMAINE PAIRE'!$B$13,0))=$A8,INDEX('SEMAINE PAIRE'!$B$15:$F$27,MATCH('Planning MAICHE calcul'!Q$2,'SEMAINE PAIRE'!$A$15:$A$27,0)+1,MATCH(OFFSET('Planning MAICHE calcul'!Q$1,0,-COLUMN()+2),'SEMAINE PAIRE'!$B$13,0))=""), "S2","")} | R8: {=IF(AND(INDEX('SEMAINE PAIRE'!$B$15:$F$27,MATCH('Planning MAICHE calcul'!R$2,'SEMAINE PAIRE'!$A$15:$A$27,0),MATCH(OFFSET('Planning MAICHE calcul'!R$1,0,-COLUMN()+2),'SEMAINE PAIRE'!$B$13,0))=$A8,INDEX('SEMAINE PAIRE'!$B$15:$F$27,MATCH('Planning MAICHE calcul'!R$2,'SEMAINE PAIRE'!$A$15:$A$27,0)+1,MATCH(OFFSET('Planning MAICHE calcul'!R$1,0,-COLUMN()+2),'SEMAINE PAIRE'!$B$13,0))=""), "R.Ext","")} | S8: 0.52083333 | T8: 0.6875 | W8: 0.35416667 | X8: 0.47916667 | AC8: 0.52083333 | AD8: 0.6875 | AM8: 0.51041667 | AN8: 0.6875 | AQ8: 0.35416667 | AR8: 0.47916667 | AW8: 0.52083333 | AX8: 0.6875 | BB8: =ROUND(AZ8-BA8,2) -> 0
A9: J-C H | B9: {=IF(AND(INDEX('SEMAINE PAIRE'!$B$15:$F$27,MATCH('Planning MAICHE calcul'!B$2,'SEMAINE PAIRE'!$A$15:$A$27,0),MATCH(OFFSET('Planning MAICHE calcul'!B$1,0,-COLUMN()+2),'SEMAINE PAIRE'!$B$13,0))=$A9,INDEX('SEMAINE PAIRE'!$B$15:$F$27,MATCH('Planning MAICHE calcul'!B$2,'SEMAINE PAIRE'!$A$15:$A$27,0)+1,MATCH(OFFSET('Planning MAICHE calcul'!B$1,0,-COLUMN()+2),'SEMAINE PAIRE'!$B$13,0))=""), "ouv","")} | C9: 0.35416667 | D9: 0.53125 | E9: {=IF(AND(INDEX('SEMAINE PAIRE'!$B$15:$F$27,MATCH('Planning MAICHE calcul'!E$2,'SEMAINE PAIRE'!$A$15:$A$27,0),MATCH(OFFSET('Planning MAICHE calcul'!E$1,0,-COLUMN()+2),'SEMAINE PAIRE'!$B$13,0))=$A9,INDEX('SEMAINE PAIRE'!$B$15:$F$27,MATCH('Planning MAICHE calcul'!E$2,'SEMAINE PAIRE'!$A$15:$A$27,0)+1,MATCH(OFFSET('Planning MAICHE calcul'!E$1,0,-COLUMN()+2),'SEMAINE PAIRE'!$B$13,0))=""), "Cui","")} | F9: {=IF(AND(INDEX('SEMAINE PAIRE'!$B$15:$F$27,MATCH('Planning MAICHE calcul'!F$2,'SEMAINE PAIRE'!$A$15:$A$27,0),MATCH(OFFSET('Planning MAICHE calcul'!F$1,0,-COLUMN()+2),'SEMAINE PAIRE'!$B$13,0))=$A9,INDEX('SEMAINE PAIRE'!$B$15:$F$27,MATCH('Planning MAICHE calcul'!F$2,'SEMAINE PAIRE'!$A$15:$A$27,0)+1,MATCH(OFFSET('Planning MAICHE calcul'!F$1,0,-COLUMN()+2),'SEMAINE PAIRE'!$B$13,0))=""), "S1","")} | G9: {=IF(AND(INDEX('SEMAINE PAIRE'!$B$15:$F$27,MATCH('Planning MAICHE calcul'!G$2,'SEMAINE PAIRE'!$A$15:$A$27,0),MATCH(OFFSET('Planning MAICHE calcul'!G$1,0,-COLUMN()+2),'SEMAINE PAIRE'!$B$13,0))=$A9,INDEX('SEMAINE PAIRE'!$B$15:$F$27,MATCH('Planning MAICHE calcul'!G$2,'SEMAINE PAIRE'!$A$15:$A$27,0)+1,MATCH(OFFSET('Planning MAICHE calcul'!G$1,0,-COLUMN()+2),'SEMAINE PAIRE'!$B$13,0))=""), "S2","")} | H9: {=IF(AND(INDEX('SEMAINE PAIRE'!$B$15:$F$27,MATCH('Planning MAICHE calcul'!H$2,'SEMAINE PAIRE'!$A$15:$A$27,0),MATCH(OFFSET('Planning MAICHE calcul'!H$1,0,-COLUMN()+2),'SEMAINE PAIRE'!$B$13,0))=$A9,INDEX('SEMAINE PAIRE'!$B$15:$F$27,MATCH('Planning MAICHE calcul'!H$2,'SEMAINE PAIRE'!$A$15:$A$27,0)+1,MATCH(OFFSET('Planning MAICHE calcul'!H$1,0,-COLUMN()+2),'SEMAINE PAIRE'!$B$13,0))=""), "R.Ext","")} | I9: 0.57291667 | J9: 0.6875 | K9: {=IF(AND(INDEX('SEMAINE PAIRE'!$B$15:$F$27,MATCH('Planning MAICHE calcul'!K$2,'SEMAINE PAIRE'!$A$15:$A$27,0),MATCH(OFFSET('Planning MAICHE calcul'!K$1,0,-COLUMN()+2),'SEMAINE PAIRE'!$B$13,0))=$A9,INDEX('SEMAINE PAIRE'!$B$15:$F$27,MATCH('Planning MAICHE calcul'!K$2,'SEMAINE PAIRE'!$A$15:$A$27,0)+1,MATCH(OFFSET('Planning MAICHE calcul'!K$1,0,-COLUMN()+2),'SEMAINE PAIRE'!$B$13,0))=""), "Fer","")} | L9: {=IF(AND(INDEX('SEMAINE PAIRE'!$B$15:$F$27,MATCH('Planning MAICHE calcul'!L$2,'SEMAINE PAIRE'!$A$15:$A$27,0),MATCH(OFFSET('Planning MAICHE calcul'!L$1,0,-COLUMN()+2),'SEMAINE PAIRE'!$B$13,0))=$A9,INDEX('SEMAINE PAIRE'!$B$15:$F$27,MATCH('Planning MAICHE calcul'!L$2,'SEMAINE PAIRE'!$A$15:$A$27,0)+1,MATCH(OFFSET('Planning MAICHE calcul'!L$1,0,-COLUMN()+2),'SEMAINE PAIRE'!$B$13,0))=""), "ouv","")} | M9: 0.35416667 | N9: 0.53125 | O9: {=IF(AND(INDEX('SEMAINE PAIRE'!$B$15:$F$27,MATCH('Planning MAICHE calcul'!O$2,'SEMAINE PAIRE'!$A$15:$A$27,0),MATCH(OFFSET('Planning MAICHE calcul'!O$1,0,-COLUMN()+2),'SEMAINE PAIRE'!$B$13,0))=$A9,INDEX('SEMAINE PAIRE'!$B$15:$F$27,MATCH('Planning MAICHE calcul'!O$2,'SEMAINE PAIRE'!$A$15:$A$27,0)+1,MATCH(OFFSET('Planning MAICHE calcul'!O$1,0,-COLUMN()+2),'SEMAINE PAIRE'!$B$13,0))=""), "Cui","")} | P9: {=IF(AND(INDEX('SEMAINE PAIRE'!$B$15:$F$27,MATCH('Planning MAICHE calcul'!P$2,'SEMAINE PAIRE'!$A$15:$A$27,0),MATCH(OFFSET('Planning MAICHE calcul'!P$1,0,-COLUMN()+2),'SEMAINE PAIRE'!$B$13,0))=$A9,INDEX('SEMAINE PAIRE'!$B$15:$F$27,MATCH('Planning MAICHE calcul'!P$2,'SEMAINE PAIRE'!$A$15:$A$27,0)+1,MATCH(OFFSET('Planning MAICHE calcul'!P$1,0,-COLUMN()+2),'SEMAINE PAIRE'!$B$13,0))=""), "S1","")} | Q9: {=IF(AND(INDEX('SEMAINE PAIRE'!$B$15:$F$27,MATCH('Planning MAICHE calcul'!Q$2,'SEMAINE PAIRE'!$A$15:$A$27,0),MATCH(OFFSET('Planning MAICHE calcul'!Q$1,0,-COLUMN()+2),'SEMAINE PAIRE'!$B$13,0))=$A9,INDEX('SEMAINE PAIRE'!$B$15:$F$27,MATCH('Planning MAICHE calcul'!Q$2,'SEMAINE PAIRE'!$A$15:$A$27,0)+1,MATCH(OFFSET('Planning MAICHE calcul'!Q$1,0,-COLUMN()+2),'SEMAINE PAIRE'!$B$13,0))=""), "S2","")} | R9: {=IF(AND(INDEX('SEMAINE PAIRE'!$B$15:$F$27,MATCH('Planning MAICHE calcul'!R$2,'SEMAINE PAIRE'!$A$15:$A$27,0),MATCH(OFFSET('Planning MAICHE calcul'!R$1,0,-COLUMN()+2),'SEMAINE PAIRE'!$B$13,0))=$A9,INDEX('SEMAINE PAIRE'!$B$15:$F$27,MATCH('Planning MAICHE calcul'!R$2,'SEMAINE PAIRE'!$A$15:$A$27,0)+1,MATCH(OFFSET('Planning MAICHE calcul'!R$1,0,-COLUMN()+2),'SEMAINE PAIRE'!$B$13,0))=""), "R.Ext","")} | S9: 0.57291667 | T9: 0.6875 | W9: 0.4375 | X9: 0.53125 | AC9: 0.57291667 | AD9: 0.6875 | AG9: 0.35416667 | AH9: 0.53125 | AM9: 0.57291667 | AN9: 0.6875 | AQ9: 0.35416667 | AR9: 0.53125 | AW9: 0.57291667 | AX9: 0.6875 | BB9: =ROUND(AZ9-BA9,2) -> 0
A10: V B | B10: {=IF(AND(INDEX('SEMAINE PAIRE'!$B$15:$F$27,MATCH('Planning MAICHE calcul'!B$2,'SEMAINE PAIRE'!$A$15:$A$27,0),MATCH(OFFSET('Planning MAICHE calcul'!B$1,0,-COLUMN()+2),'SEMAINE PAIRE'!$B$13,0))=$A10,INDEX('SEMAINE PAIRE'!$B$15:$F$27,MATCH('Planning MAICHE calcul'!B$2,'SEMAINE PAIRE'!$A$15:$A$27,0)+1,MATCH(OFFSET('Planning MAICHE calcul'!B$1,0,-COLUMN()+2),'SEMAINE PAIRE'!$B$13,0))=""), "ouv","")} | E10: {=IF(AND(INDEX('SEMAINE PAIRE'!$B$15:$F$27,MATCH('Planning MAICHE calcul'!E$2,'SEMAINE PAIRE'!$A$15:$A$27,0),MATCH(OFFSET('Planning MAICHE calcul'!E$1,0,-COLUMN()+2),'SEMAINE PAIRE'!$B$13,0))=$A10,INDEX('SEMAINE PAIRE'!$B$15:$F$27,MATCH('Planning MAICHE calcul'!E$2,'SEMAINE PAIRE'!$A$15:$A$27,0)+1,MATCH(OFFSET('Planning MAICHE calcul'!E$1,0,-COLUMN()+2),'SEMAINE PAIRE'!$B$13,0))=""), "Cui","")} | F10: {=IF(AND(INDEX('SEMAINE PAIRE'!$B$15:$F$27,MATCH('Planning MAICHE calcul'!F$2,'SEMAINE PAIRE'!$A$15:$A$27,0),MATCH(OFFSET('Planning MAICHE calcul'!F$1,0,-COLUMN()+2),'SEMAINE PAIRE'!$B$13,0))=$A10,INDEX('SEMAINE PAIRE'!$B$15:$F$27,MATCH('Planning MAICHE calcul'!F$2,'SEMAINE PAIRE'!$A$15:$A$27,0)+1,MATCH(OFFSET('Planning MAICHE calcul'!F$1,0,-COLUMN()+2),'SEMAINE PAIRE'!$B$13,0))=""), "S1","")} | G10: {=IF(AND(INDEX('SEMAINE PAIRE'!$B$15:$F$27,MATCH('Planning MAICHE calcul'!G$2,'SEMAINE PAIRE'!$A$15:$A$27,0),MATCH(OFFSET('Planning MAICHE calcul'!G$1,0,-COLUMN()+2),'SEMAINE PAIRE'!$B$13,0))=$A10,INDEX('SEMAINE PAIRE'!$B$15:$F$27,MATCH('Planning MAICHE calcul'!G$2,'SEMAINE PAIRE'!$A$15:$A$27,0)+1,MATCH(OFFSET('Planning MAICHE calcul'!G$1,0,-COLUMN()+2),'SEMAINE PAIRE'!$B$13,0))=""), "S2","")} | H10: {=IF(AND(INDEX('SEMAINE PAIRE'!$B$15:$F$27,MATCH('Planning MAICHE calcul'!H$2,'SEMAINE PAIRE'!$A$15:$A$27,0),MATCH(OFFSET('Planning MAICHE calcul'!H$1,0,-COLUMN()+2),'SEMAINE PAIRE'!$B$13,0))=$A10,INDEX('SEMAINE PAIRE'!$B$15:$F$27,MATCH('Planning MAICHE calcul'!H$2,'SEMAINE PAIRE'!$A$15:$A$27,0)+1,MATCH(OFFSET('Planning MAICHE calcul'!H$1,0,-COLUMN()+2),'SEMAINE PAIRE'!$B$13,0))=""), "R.Ext","")} | K10: {=IF(AND(INDEX('SEMAINE PAIRE'!$B$15:$F$27,MATCH('Planning MAICHE calcul'!K$2,'SEMAINE PAIRE'!$A$15:$A$27,0),MATCH(OFFSET('Planning MAICHE calcul'!K$1,0,-COLUMN()+2),'SEMAINE PAIRE'!$B$13,0))=$A10,INDEX('SEMAINE PAIRE'!$B$15:$F$27,MATCH('Planning MAICHE calcul'!K$2,'SEMAINE PAIRE'!$A$15:$A$27,0)+1,MATCH(OFFSET('Planning MAICHE calcul'!K$1,0,-COLUMN()+2),'SEMAINE PAIRE'!$B$13,0))=""), "Fer","")} | L10: {=IF(AND(INDEX('SEMAINE PAIRE'!$B$15:$F$27,MATCH('Planning MAICHE calcul'!L$2,'SEMAINE PAIRE'!$A$15:$A$27,0),MATCH(OFFSET('Planning MAICHE calcul'!L$1,0,-COLUMN()+2),'SEMAINE PAIRE'!$B$13,0))=$A10,INDEX('SEMAINE PAIRE'!$B$15:$F$27,MATCH('Planning MAICHE calcul'!L$2,'SEMAINE PAIRE'!$A$15:$A$27,0)+1,MATCH(OFFSET('Planning MAICHE calcul'!L$1,0,-COLUMN()+2),'SEMAINE PAIRE'!$B$13,0))=""), "ouv","")} | M10: 0.35416667 | N10: 0.53125 | O10: {=IF(AND(INDEX('SEMAINE PAIRE'!$B$15:$F$27,MATCH('Planning MAICHE calcul'!O$2,'SEMAINE PAIRE'!$A$15:$A$27,0),MATCH(OFFSET('Planning MAICHE calcul'!O$1,0,-COLUMN()+2),'SEMAINE PAIRE'!$B$13,0))=$A10,INDEX('SEMAINE PAIRE'!$B$15:$F$27,MATCH('Planning MAICHE calcul'!O$2,'SEMAINE PAIRE'!$A$15:$A$27,0)+1,MATCH(OFFSET('Planning MAICHE calcul'!O$1,0,-COLUMN()+2),'SEMAINE PAIRE'!$B$13,0))=""), "Cui","")} | P10: {=IF(AND(INDEX('SEMAINE PAIRE'!$B$15:$F$27,MATCH('Planning MAICHE calcul'!P$2,'SEMAINE PAIRE'!$A$15:$A$27,0),MATCH(OFFSET('Planning MAICHE calcul'!P$1,0,-COLUMN()+2),'SEMAINE PAIRE'!$B$13,0))=$A10,INDEX('SEMAINE PAIRE'!$B$15:$F$27,MATCH('Planning MAICHE calcul'!P$2,'SEMAINE PAIRE'!$A$15:$A$27,0)+1,MATCH(OFFSET('Planning MAICHE calcul'!P$1,0,-COLUMN()+2),'SEMAINE PAIRE'!$B$13,0))=""), "S1","")} | Q10: {=IF(AND(INDEX('SEMAINE PAIRE'!$B$15:$F$27,MATCH('Planning MAICHE calcul'!Q$2,'SEMAINE PAIRE'!$A$15:$A$27,0),MATCH(OFFSET('Planning MAICHE calcul'!Q$1,0,-COLUMN()+2),'SEMAINE PAIRE'!$B$13,0))=$A10,INDEX('SEMAINE PAIRE'!$B$15:$F$27,MATCH('Planning MAICHE calcul'!Q$2,'SEMAINE PAIRE'!$A$15:$A$27,0)+1,MATCH(OFFSET('Planning MAICHE calcul'!Q$1,0,-COLUMN()+2),'SEMAINE PAIRE'!$B$13,0))=""), "S2","")} | R10: {=IF(AND(INDEX('SEMAINE PAIRE'!$B$15:$F$27,MATCH('Planning MAICHE calcul'!R$2,'SEMAINE PAIRE'!$A$15:$A$27,0),MATCH(OFFSET('Planning MAICHE calcul'!R$1,0,-COLUMN()+2),'SEMAINE PAIRE'!$B$13,0))=$A10,INDEX('SEMAINE PAIRE'!$B$15:$F$27,MATCH('Planning MAICHE calcul'!R$2,'SEMAINE PAIRE'!$A$15:$A$27,0)+1,MATCH(OFFSET('Planning MAICHE calcul'!R$1,0,-COLUMN()+2),'SEMAINE PAIRE'!$B$13,0))=""), "R.Ext","")} | S10: 0.57291667 | T10: 0.6875 | W10: 0.35416667 | X10: 0.53125 | AC10: 0.57291667 | AD10: 0.6875 | AG10: 0.39583333 | AH10: 0.53125 | AM10: 0.57291667 | AN10: 0.6875 | BB10: =ROUND(AZ10-BA10,2) -> 0
A11: P T | B11: {=IF(AND(INDEX('SEMAINE PAIRE'!$B$15:$F$27,MATCH('Planning MAICHE calcul'!B$2,'SEMAINE PAIRE'!$A$15:$A$27,0),MATCH(OFFSET('Planning MAICHE calcul'!B$1,0,-COLUMN()+2),'SEMAINE PAIRE'!$B$13,0))=$A11,INDEX('SEMAINE PAIRE'!$B$15:$F$27,MATCH('Planning MAICHE calcul'!B$2,'SEMAINE PAIRE'!$A$15:$A$27,0)+1,MATCH(OFFSET('Planning MAICHE calcul'!B$1,0,-COLUMN()+2),'SEMAINE PAIRE'!$B$13,0))=""), "ouv","")} | C11: 0.35416667 | D11: 0.53125 | E11: {=IF(AND(INDEX('SEMAINE PAIRE'!$B$15:$F$27,MATCH('Planning MAICHE calcul'!E$2,'SEMAINE PAIRE'!$A$15:$A$27,0),MATCH(OFFSET('Planning MAICHE calcul'!E$1,0,-COLUMN()+2),'SEMAINE PAIRE'!$B$13,0))=$A11,INDEX('SEMAINE PAIRE'!$B$15:$F$27,MATCH('Planning MAICHE calcul'!E$2,'SEMAINE PAIRE'!$A$15:$A$27,0)+1,MATCH(OFFSET('Planning MAICHE calcul'!E$1,0,-COLUMN()+2),'SEMAINE PAIRE'!$B$13,0))=""), "Cui","")} | F11: {=IF(AND(INDEX('SEMAINE PAIRE'!$B$15:$F$27,MATCH('Planning MAICHE calcul'!F$2,'SEMAINE PAIRE'!$A$15:$A$27,0),MATCH(OFFSET('Planning MAICHE calcul'!F$1,0,-COLUMN()+2),'SEMAINE PAIRE'!$B$13,0))=$A11,INDEX('SEMAINE PAIRE'!$B$15:$F$27,MATCH('Planning MAICHE calcul'!F$2,'SEMAINE PAIRE'!$A$15:$A$27,0)+1,MATCH(OFFSET('Planning MAICHE calcul'!F$1,0,-COLUMN()+2),'SEMAINE PAIRE'!$B$13,0))=""), "S1","")} | G11: {=IF(AND(INDEX('SEMAINE PAIRE'!$B$15:$F$27,MATCH('Planning MAICHE calcul'!G$2,'SEMAINE PAIRE'!$A$15:$A$27,0),MATCH(OFFSET('Planning MAICHE calcul'!G$1,0,-COLUMN()+2),'SEMAINE PAIRE'!$B$13,0))=$A11,INDEX('SEMAINE PAIRE'!$B$15:$F$27,MATCH('Planning MAICHE calcul'!G$2,'SEMAINE PAIRE'!$A$15:$A$27,0)+1,MATCH(OFFSET('Planning MAICHE calcul'!G$1,0,-COLUMN()+2),'SEMAINE PAIRE'!$B$13,0))=""), "S2","")} | H11: {=IF(AND(INDEX('SEMAINE PAIRE'!$B$15:$F$27,MATCH('Planning MAICHE calcul'!H$2,'SEMAINE PAIRE'!$A$15:$A$27,0),MATCH(OFFSET('Planning MAICHE calcul'!H$1,0,-COLUMN()+2),'SEMAINE PAIRE'!$B$13,0))=$A11,INDEX('SEMAINE PAIRE'!$B$15:$F$27,MATCH('Planning MAICHE calcul'!H$2,'SEMAINE PAIRE'!$A$15:$A$27,0)+1,MATCH(OFFSET('Planning MAICHE calcul'!H$1,0,-COLUMN()+2),'SEMAINE PAIRE'!$B$13,0))=""), "R.Ext","")} | I11: 0.57291667 | J11: 0.6875 | K11: {=IF(AND(INDEX('SEMAINE PAIRE'!$B$15:$F$27,MATCH('Planning MAICHE calcul'!K$2,'SEMAINE PAIRE'!$A$15:$A$27,0),MATCH(OFFSET('Planning MAICHE calcul'!K$1,0,-COLUMN()+2),'SEMAINE PAIRE'!$B$13,0))=$A11,INDEX('SEMAINE PAIRE'!$B$15:$F$27,MATCH('Planning MAICHE calcul'!K$2,'SEMAINE PAIRE'!$A$15:$A$27,0)+1,MATCH(OFFSET('Planning MAICHE calcul'!K$1,0,-COLUMN()+2),'SEMAINE PAIRE'!$B$13,0))=""), "Fer","")} | L11: {=IF(AND(INDEX('SEMAINE PAIRE'!$B$15:$F$27,MATCH('Planning MAICHE calcul'!L$2,'SEMAINE PAIRE'!$A$15:$A$27,0),MATCH(OFFSET('Planning MAICHE calcul'!L$1,0,-COLUMN()+2),'SEMAINE PAIRE'!$B$13,0))=$A11,INDEX('SEMAINE PAIRE'!$B$15:$F$27,MATCH('Planning MAICHE calcul'!L$2,'SEMAINE PAIRE'!$A$15:$A$27,0)+1,MATCH(OFFSET('Planning MAICHE calcul'!L$1,0,-COLUMN()+2),'SEMAINE PAIRE'!$B$13,0))=""), "ouv","")} | M11: 0.35416667 | N11: 0.53125 | O11: {=IF(AND(INDEX('SEMAINE PAIRE'!$B$15:$F$27,MATCH('Planning MAICHE calcul'!O$2,'SEMAINE PAIRE'!$A$15:$A$27,0),MATCH(OFFSET('Planning MAICHE calcul'!O$1,0,-COLUMN()+2),'SEMAINE PAIRE'!$B$13,0))=$A11,INDEX('SEMAINE PAIRE'!$B$15:$F$27,MATCH('Planning MAICHE calcul'!O$2,'SEMAINE PAIRE'!$A$15:$A$27,0)+1,MATCH(OFFSET('Planning MAICHE calcul'!O$1,0,-COLUMN()+2),'SEMAINE PAIRE'!$B$13,0))=""), "Cui","")} | P11: {=IF(AND(INDEX('SEMAINE PAIRE'!$B$15:$F$27,MATCH('Planning MAICHE calcul'!P$2,'SEMAINE PAIRE'!$A$15:$A$27,0),MATCH(OFFSET('Planning MAICHE calcul'!P$1,0,-COLUMN()+2),'SEMAINE PAIRE'!$B$13,0))=$A11,INDEX('SEMAINE PAIRE'!$B$15:$F$27,MATCH('Planning MAICHE calcul'!P$2,'SEMAINE PAIRE'!$A$15:$A$27,0)+1,MATCH(OFFSET('Planning MAICHE calcul'!P$1,0,-COLUMN()+2),'SEMAINE PAIRE'!$B$13,0))=""), "S1","")} | Q11: {=IF(AND(INDEX('SEMAINE PAIRE'!$B$15:$F$27,MATCH('Planning MAICHE calcul'!Q$2,'SEMAINE PAIRE'!$A$15:$A$27,0),MATCH(OFFSET('Planning MAICHE calcul'!Q$1,0,-COLUMN()+2),'SEMAINE PAIRE'!$B$13,0))=$A11,INDEX('SEMAINE PAIRE'!$B$15:$F$27,MATCH('Planning MAICHE calcul'!Q$2,'SEMAINE PAIRE'!$A$15:$A$27,0)+1,MATCH(OFFSET('Planning MAICHE calcul'!Q$1,0,-COLUMN()+2),'SEMAINE PAIRE'!$B$13,0))=""), "S2","")} | R11: {=IF(AND(INDEX('SEMAINE PAIRE'!$B$15:$F$27,MATCH('Planning MAICHE calcul'!R$2,'SEMAINE PAIRE'!$A$15:$A$27,0),MATCH(OFFSET('Planning MAICHE calcul'!R$1,0,-COLUMN()+2),'SEMAINE PAIRE'!$B$13,0))=$A11,INDEX('SEMAINE PAIRE'!$B$15:$F$27,MATCH('Planning MAICHE calcul'!R$2,'SEMAINE PAIRE'!$A$15:$A$27,0)+1,MATCH(OFFSET('Planning MAICHE calcul'!R$1,0,-COLUMN()+2),'SEMAINE PAIRE'!$B$13,0))=""), "R.Ext","")} | S11: 0.57291667 | T11: 0.6875 | W11: 0.35416667 | X11: 0.375 | AG11: 0.35416667 | AH11: 0.53125 | AM11: 0.57291667 | AN11: 0.6875 | AQ11: 0.35416667 | AR11: 0.53125 | AW11: 0.57291667 | AX11: 0.6875 | BB11: =ROUND(AZ11-BA11,2) -> 0
A12: E F | B12: {=IF(AND(INDEX('SEMAINE PAIRE'!$B$15:$F$27,MATCH('Planning MAICHE calcul'!B$2,'SEMAINE PAIRE'!$A$15:$A$27,0),MATCH(OFFSET('Planning MAICHE calcul'!B$1,0,-COLUMN()+2),'SEMAINE PAIRE'!$B$13,0))=$A12,INDEX('SEMAINE PAIRE'!$B$15:$F$27,MATCH('Planning MAICHE calcul'!B$2,'SEMAINE PAIRE'!$A$15:$A$27,0)+1,MATCH(OFFSET('Planning MAICHE calcul'!B$1,0,-COLUMN()+2),'SEMAINE PAIRE'!$B$13,0))=""), "ouv","")} | C12: 0.35416667 | D12: 0.53125 | E12: {=IF(AND(INDEX('SEMAINE PAIRE'!$B$15:$F$27,MATCH('Planning MAICHE calcul'!E$2,'SEMAINE PAIRE'!$A$15:$A$27,0),MATCH(OFFSET('Planning MAICHE calcul'!E$1,0,-COLUMN()+2),'SEMAINE PAIRE'!$B$13,0))=$A12,INDEX('SEMAINE PAIRE'!$B$15:$F$27,MATCH('Planning MAICHE calcul'!E$2,'SEMAINE PAIRE'!$A$15:$A$27,0)+1,MATCH(OFFSET('Planning MAICHE calcul'!E$1,0,-COLUMN()+2),'SEMAINE PAIRE'!$B$13,0))=""), "Cui","")} | F12: {=IF(AND(INDEX('SEMAINE PAIRE'!$B$15:$F$27,MATCH('Planning MAICHE calcul'!F$2,'SEMAINE PAIRE'!$A$15:$A$27,0),MATCH(OFFSET('Planning MAICHE calcul'!F$1,0,-COLUMN()+2),'SEMAINE PAIRE'!$B$13,0))=$A12,INDEX('SEMAINE PAIRE'!$B$15:$F$27,MATCH('Planning MAICHE calcul'!F$2,'SEMAINE PAIRE'!$A$15:$A$27,0)+1,MATCH(OFFSET('Planning MAICHE calcul'!F$1,0,-COLUMN()+2),'SEMAINE PAIRE'!$B$13,0))=""), "S1","")} | G12: {=IF(AND(INDEX('SEMAINE PAIRE'!$B$15:$F$27,MATCH('Planning MAICHE calcul'!G$2,'SEMAINE PAIRE'!$A$15:$A$27,0),MATCH(OFFSET('Planning MAICHE calcul'!G$1,0,-COLUMN()+2),'SEMAINE PAIRE'!$B$13,0))=$A12,INDEX('SEMAINE PAIRE'!$B$15:$F$27,MATCH('Planning MAICHE calcul'!G$2,'SEMAINE PAIRE'!$A$15:$A$27,0)+1,MATCH(OFFSET('Planning MAICHE calcul'!G$1,0,-COLUMN()+2),'SEMAINE PAIRE'!$B$13,0))=""), "S2","")} | H12: =IF(AND(INDEX('SEMAINE PAIRE'!$B$15:$F$27,MATCH('Planning MAICHE calcul'!H$2,'SEMAINE PAIRE'!$A$15:$A$27,0),MATCH(OFFSET('Planning MAICHE calcul'!H$1,0,-COLUMN()+2),'SEMAINE PAIRE'!$B$13,0))=$A12,INDEX('SEMAINE PAIRE'!$B$15:$F$27,MATCH('Planning MAICHE calcul'!H$2,'SEMAINE PAIRE'!$A$15:$A$27,0)+1,MATCH(OFFSET('Planning MAICHE calcul'!H$1,0,-COLUMN()+2),'SEMAINE PAIRE'!$B$13,0))=""), "R.Ext","") | I12: 0.57291667 | J12: 0.6875 | K12: {=IF(AND(INDEX('SEMAINE PAIRE'!$B$15:$F$27,MATCH('Planning MAICHE calcul'!K$2,'SEMAINE PAIRE'!$A$15:$A$27,0),MATCH(OFFSET('Planning MAICHE calcul'!K$1,0,-COLUMN()+2),'SEMAINE PAIRE'!$B$13,0))=$A12,INDEX('SEMAINE PAIRE'!$B$15:$F$27,MATCH('Planning MAICHE calcul'!K$2,'SEMAINE PAIRE'!$A$15:$A$27,0)+1,MATCH(OFFSET('Planning MAICHE calcul'!K$1,0,-COLUMN()+2),'SEMAINE PAIRE'!$B$13,0))=""), "Fer","")} | L12: {=IF(AND(INDEX('SEMAINE PAIRE'!$B$15:$F$27,MATCH('Planning MAICHE calcul'!L$2,'SEMAINE PAIRE'!$A$15:$A$27,0),MATCH(OFFSET('Planning MAICHE calcul'!L$1,0,-COLUMN()+2),'SEMAINE PAIRE'!$B$13,0))=$A12,INDEX('SEMAINE PAIRE'!$B$15:$F$27,MATCH('Planning MAICHE calcul'!L$2,'SEMAINE PAIRE'!$A$15:$A$27,0)+1,MATCH(OFFSET('Planning MAICHE calcul'!L$1,0,-COLUMN()+2),'SEMAINE PAIRE'!$B$13,0))=""), "ouv","")} | M12: 0.35416667 | N12: 0.53125 | O12: {=IF(AND(INDEX('SEMAINE PAIRE'!$B$15:$F$27,MATCH('Planning MAICHE calcul'!O$2,'SEMAINE PAIRE'!$A$15:$A$27,0),MATCH(OFFSET('Planning MAICHE calcul'!O$1,0,-COLUMN()+2),'SEMAINE PAIRE'!$B$13,0))=$A12,INDEX('SEMAINE PAIRE'!$B$15:$F$27,MATCH('Planning MAICHE calcul'!O$2,'SEMAINE PAIRE'!$A$15:$A$27,0)+1,MATCH(OFFSET('Planning MAICHE calcul'!O$1,0,-COLUMN()+2),'SEMAINE PAIRE'!$B$13,0))=""), "Cui","")} | P12: {=IF(AND(INDEX('SEMAINE PAIRE'!$B$15:$F$27,MATCH('Planning MAICHE calcul'!P$2,'SEMAINE PAIRE'!$A$15:$A$27,0),MATCH(OFFSET('Planning MAICHE calcul'!P$1,0,-COLUMN()+2),'SEMAINE PAIRE'!$B$13,0))=$A12,INDEX('SEMAINE PAIRE'!$B$15:$F$27,MATCH('Planning MAICHE calcul'!P$2,'SEMAINE PAIRE'!$A$15:$A$27,0)+1,MATCH(OFFSET('Planning MAICHE calcul'!P$1,0,-COLUMN()+2),'SEMAINE PAIRE'!$B$13,0))=""), "S1","")} | Q12: {=IF(AND(INDEX('SEMAINE PAIRE'!$B$15:$F$27,MATCH('Planning MAICHE calcul'!Q$2,'SEMAINE PAIRE'!$A$15:$A$27,0),MATCH(OFFSET('Planning MAICHE calcul'!Q$1,0,-COLUMN()+2),'SEMAINE PAIRE'!$B$13,0))=$A12,INDEX('SEMAINE PAIRE'!$B$15:$F$27,MATCH('Planning MAICHE calcul'!Q$2,'SEMAINE PAIRE'!$A$15:$A$27,0)+1,MATCH(OFFSET('Planning MAICHE calcul'!Q$1,0,-COLUMN()+2),'SEMAINE PAIRE'!$B$13,0))=""), "S2","")} | R12: {=IF(AND(INDEX('SEMAINE PAIRE'!$B$15:$F$27,MATCH('Planning MAICHE calcul'!R$2,'SEMAINE PAIRE'!$A$15:$A$27,0),MATCH(OFFSET('Planning MAICHE calcul'!R$1,0,-COLUMN()+2),'SEMAINE PAIRE'!$B$13,0))=$A12,INDEX('SEMAINE PAIRE'!$B$15:$F$27,MATCH('Planning MAICHE calcul'!R$2,'SEMAINE PAIRE'!$A$15:$A$27,0)+1,MATCH(OFFSET('Planning MAICHE calcul'!R$1,0,-COLUMN()+2),'SEMAINE PAIRE'!$B$13,0))=""), "R.Ext","")} | S12: 0.57291667 | T12: 0.6875 | W12: 0.35416667 | X12: 0.53125 | AC12: 0.57291667 | AD12: 0.6875 | AG12: 0.35416667 | AH12: 0.53125 | AM12: 0.57291667 | AN12: 0.6875 | AQ12: 0.35416667 | AR12: 0.53125 | AW12: 0.57291667 | AX12: 0.6875 | BB12: =ROUND(AZ12-BA12,2) -> 0
A13: M S | B13: {=IF(AND(INDEX('SEMAINE PAIRE'!$B$15:$F$27,MATCH('Planning MAICHE calcul'!B$2,'SEMAINE PAIRE'!$A$15:$A$27,0),MATCH(OFFSET('Planning MAICHE calcul'!B$1,0,-COLUMN()+2),'SEMAINE PAIRE'!$B$13,0))=$A13,INDEX('SEMAINE PAIRE'!$B$15:$F$27,MATCH('Planning MAICHE calcul'!B$2,'SEMAINE PAIRE'!$A$15:$A$27,0)+1,MATCH(OFFSET('Planning MAICHE calcul'!B$1,0,-COLUMN()+2),'SEMAINE PAIRE'!$B$13,0))=""), "ouv","")} | C13: 0.35416667 | D13: 0.53125 | E13: {=IF(AND(INDEX('SEMAINE PAIRE'!$B$15:$F$27,MATCH('Planning MAICHE calcul'!E$2,'SEMAINE PAIRE'!$A$15:$A$27,0),MATCH(OFFSET('Planning MAICHE calcul'!E$1,0,-COLUMN()+2),'SEMAINE PAIRE'!$B$13,0))=$A13,INDEX('SEMAINE PAIRE'!$B$15:$F$27,MATCH('Planning MAICHE calcul'!E$2,'SEMAINE PAIRE'!$A$15:$A$27,0)+1,MATCH(OFFSET('Planning MAICHE calcul'!E$1,0,-COLUMN()+2),'SEMAINE PAIRE'!$B$13,0))=""), "Cui","")} | F13: {=IF(AND(INDEX('SEMAINE PAIRE'!$B$15:$F$27,MATCH('Planning MAICHE calcul'!F$2,'SEMAINE PAIRE'!$A$15:$A$27,0),MATCH(OFFSET('Planning MAICHE calcul'!F$1,0,-COLUMN()+2),'SEMAINE PAIRE'!$B$13,0))=$A13,INDEX('SEMAINE PAIRE'!$B$15:$F$27,MATCH('Planning MAICHE calcul'!F$2,'SEMAINE PAIRE'!$A$15:$A$27,0)+1,MATCH(OFFSET('Planning MAICHE calcul'!F$1,0,-COLUMN()+2),'SEMAINE PAIRE'!$B$13,0))=""), "S1","")} | G13: {=IF(AND(INDEX('SEMAINE PAIRE'!$B$15:$F$27,MATCH('Planning MAICHE calcul'!G$2,'SEMAINE PAIRE'!$A$15:$A$27,0),MATCH(OFFSET('Planning MAICHE calcul'!G$1,0,-COLUMN()+2),'SEMAINE PAIRE'!$B$13,0))=$A13,INDEX('SEMAINE PAIRE'!$B$15:$F$27,MATCH('Planning MAICHE calcul'!G$2,'SEMAINE PAIRE'!$A$15:$A$27,0)+1,MATCH(OFFSET('Planning MAICHE calcul'!G$1,0,-COLUMN()+2),'SEMAINE PAIRE'!$B$13,0))=""), "S2","")} | H13: {=IF(AND(INDEX('SEMAINE PAIRE'!$B$15:$F$27,MATCH('Planning MAICHE calcul'!H$2,'SEMAINE PAIRE'!$A$15:$A$27,0),MATCH(OFFSET('Planning MAICHE calcul'!H$1,0,-COLUMN()+2),'SEMAINE PAIRE'!$B$13,0))=$A13,INDEX('SEMAINE PAIRE'!$B$15:$F$27,MATCH('Planning MAICHE calcul'!H$2,'SEMAINE PAIRE'!$A$15:$A$27,0)+1,MATCH(OFFSET('Planning MAICHE calcul'!H$1,0,-COLUMN()+2),'SEMAINE PAIRE'!$B$13,0))=""), "R.Ext","")} | I13: 0.57291667 | J13: 0.6875 | K13: {=IF(AND(INDEX('SEMAINE PAIRE'!$B$15:$F$27,MATCH('Planning MAICHE calcul'!K$2,'SEMAINE PAIRE'!$A$15:$A$27,0),MATCH(OFFSET('Planning MAICHE calcul'!K$1,0,-COLUMN()+2),'SEMAINE PAIRE'!$B$13,0))=$A13,INDEX('SEMAINE PAIRE'!$B$15:$F$27,MATCH('Planning MAICHE calcul'!K$2,'SEMAINE PAIRE'!$A$15:$A$27,0)+1,MATCH(OFFSET('Planning MAICHE calcul'!K$1,0,-COLUMN()+2),'SEMAINE PAIRE'!$B$13,0))=""), "Fer","")} | L13: {=IF(AND(INDEX('SEMAINE PAIRE'!$B$15:$F$27,MATCH('Planning MAICHE calcul'!L$2,'SEMAINE PAIRE'!$A$15:$A$27,0),MATCH(OFFSET('Planning MAICHE calcul'!L$1,0,-COLUMN()+2),'SEMAINE PAIRE'!$B$13,0))=$A13,INDEX('SEMAINE PAIRE'!$B$15:$F$27,MATCH('Planning MAICHE calcul'!L$2,'SEMAINE PAIRE'!$A$15:$A$27,0)+1,MATCH(OFFSET('Planning MAICHE calcul'!L$1,0,-COLUMN()+2),'SEMAINE PAIRE'!$B$13,0))=""), "ouv","")} | M13: 0.35416667 | N13: 0.53125 | O13: {=IF(AND(INDEX('SEMAINE PAIRE'!$B$15:$F$27,MATCH('Planning MAICHE calcul'!O$2,'SEMAINE PAIRE'!$A$15:$A$27,0),MATCH(OFFSET('Planning MAICHE calcul'!O$1,0,-COLUMN()+2),'SEMAINE PAIRE'!$B$13,0))=$A13,INDEX('SEMAINE PAIRE'!$B$15:$F$27,MATCH('Planning MAICHE calcul'!O$2,'SEMAINE PAIRE'!$A$15:$A$27,0)+1,MATCH(OFFSET('Planning MAICHE calcul'!O$1,0,-COLUMN()+2),'SEMAINE PAIRE'!$B$13,0))=""), "Cui","")} | P13: {=IF(AND(INDEX('SEMAINE PAIRE'!$B$15:$F$27,MATCH('Planning MAICHE calcul'!P$2,'SEMAINE PAIRE'!$A$15:$A$27,0),MATCH(OFFSET('Planning MAICHE calcul'!P$1,0,-COLUMN()+2),'SEMAINE PAIRE'!$B$13,0))=$A13,INDEX('SEMAINE PAIRE'!$B$15:$F$27,MATCH('Planning MAICHE calcul'!P$2,'SEMAINE PAIRE'!$A$15:$A$27,0)+1,MATCH(OFFSET('Planning MAICHE calcul'!P$1,0,-COLUMN()+2),'SEMAINE PAIRE'!$B$13,0))=""), "S1","")} | Q13: {=IF(AND(INDEX('SEMAINE PAIRE'!$B$15:$F$27,MATCH('Planning MAICHE calcul'!Q$2,'SEMAINE PAIRE'!$A$15:$A$27,0),MATCH(OFFSET('Planning MAICHE calcul'!Q$1,0,-COLUMN()+2),'SEMAINE PAIRE'!$B$13,0))=$A13,INDEX('SEMAINE PAIRE'!$B$15:$F$27,MATCH('Planning MAICHE calcul'!Q$2,'SEMAINE PAIRE'!$A$15:$A$27,0)+1,MATCH(OFFSET('Planning MAICHE calcul'!Q$1,0,-COLUMN()+2),'SEMAINE PAIRE'!$B$13,0))=""), "S2","")} | R13: {=IF(AND(INDEX('SEMAINE PAIRE'!$B$15:$F$27,MATCH('Planning MAICHE calcul'!R$2,'SEMAINE PAIRE'!$A$15:$A$27,0),MATCH(OFFSET('Planning MAICHE calcul'!R$1,0,-COLUMN()+2),'SEMAINE PAIRE'!$B$13,0))=$A13,INDEX('SEMAINE PAIRE'!$B$15:$F$27,MATCH('Planning MAICHE calcul'!R$2,'SEMAINE PAIRE'!$A$15:$A$27,0)+1,MATCH(OFFSET('Planning MAICHE calcul'!R$1,0,-COLUMN()+2),'SEMAINE PAIRE'!$B$13,0))=""), "R.Ext","")} | S13: 0.57291667 | T13: 0.6875 | W13: 0.35416667 | X13: 0.53125 | AC13: 0.57291667 | AD13: 0.6875 | AG13: 0.35416667 | AH13: 0.53125 | AM13: 0.57291667 | AN13: 0.6875 | AQ13: 0.35416667 | AR13: 0.53125 | AW13: 0.57291667 | AX13: 0.6875
A14: C H | B14: {=IF(AND(INDEX('SEMAINE PAIRE'!$B$15:$F$27,MATCH('Planning MAICHE calcul'!B$2,'SEMAINE PAIRE'!$A$15:$A$27,0),MATCH(OFFSET('Planning MAICHE calcul'!B$1,0,-COLUMN()+2),'SEMAINE PAIRE'!$B$13,0))=$A14,INDEX('SEMAINE PAIRE'!$B$15:$F$27,MATCH('Planning MAICHE calcul'!B$2,'SEMAINE PAIRE'!$A$15:$A$27,0)+1,MATCH(OFFSET('Planning MAICHE calcul'!B$1,0,-COLUMN()+2),'SEMAINE PAIRE'!$B$13,0))=""), "ouv","")} | C14: 0.35416667 | D14: 0.53125 | E14: {=IF(AND(INDEX('SEMAINE PAIRE'!$B$15:$F$27,MATCH('Planning MAICHE calcul'!E$2,'SEMAINE PAIRE'!$A$15:$A$27,0),MATCH(OFFSET('Planning MAICHE calcul'!E$1,0,-COLUMN()+2),'SEMAINE PAIRE'!$B$13,0))=$A14,INDEX('SEMAINE PAIRE'!$B$15:$F$27,MATCH('Planning MAICHE calcul'!E$2,'SEMAINE PAIRE'!$A$15:$A$27,0)+1,MATCH(OFFSET('Planning MAICHE calcul'!E$1,0,-COLUMN()+2),'SEMAINE PAIRE'!$B$13,0))=""), "Cui","")} | F14: {=IF(AND(INDEX('SEMAINE PAIRE'!$B$15:$F$27,MATCH('Planning MAICHE calcul'!F$2,'SEMAINE PAIRE'!$A$15:$A$27,0),MATCH(OFFSET('Planning MAICHE calcul'!F$1,0,-COLUMN()+2),'SEMAINE PAIRE'!$B$13,0))=$A14,INDEX('SEMAINE PAIRE'!$B$15:$F$27,MATCH('Planning MAICHE calcul'!F$2,'SEMAINE PAIRE'!$A$15:$A$27,0)+1,MATCH(OFFSET('Planning MAICHE calcul'!F$1,0,-COLUMN()+2),'SEMAINE PAIRE'!$B$13,0))=""), "S1","")} | G14: {=IF(AND(INDEX('SEMAINE PAIRE'!$B$15:$F$27,MATCH('Planning MAICHE calcul'!G$2,'SEMAINE PAIRE'!$A$15:$A$27,0),MATCH(OFFSET('Planning MAICHE calcul'!G$1,0,-COLUMN()+2),'SEMAINE PAIRE'!$B$13,0))=$A14,INDEX('SEMAINE PAIRE'!$B$15:$F$27,MATCH('Planning MAICHE calcul'!G$2,'SEMAINE PAIRE'!$A$15:$A$27,0)+1,MATCH(OFFSET('Planning MAICHE calcul'!G$1,0,-COLUMN()+2),'SEMAINE PAIRE'!$B$13,0))=""), "S2","")} | H14: {=IF(AND(INDEX('SEMAINE PAIRE'!$B$15:$F$27,MATCH('Planning MAICHE calcul'!H$2,'SEMAINE PAIRE'!$A$15:$A$27,0),MATCH(OFFSET('Planning MAICHE calcul'!H$1,0,-COLUMN()+2),'SEMAINE PAIRE'!$B$13,0))=$A14,INDEX('SEMAINE PAIRE'!$B$15:$F$27,MATCH('Planning MAICHE calcul'!H$2,'SEMAINE PAIRE'!$A$15:$A$27,0)+1,MATCH(OFFSET('Planning MAICHE calcul'!H$1,0,-COLUMN()+2),'SEMAINE PAIRE'!$B$13,0))=""), "R.Ext","")} | I14: 0.57291667 | J14: 0.6875 | K14: {=IF(AND(INDEX('SEMAINE PAIRE'!$B$15:$F$27,MATCH('Planning MAICHE calcul'!K$2,'SEMAINE PAIRE'!$A$15:$A$27,0),MATCH(OFFSET('Planning MAICHE calcul'!K$1,0,-COLUMN()+2),'SEMAINE PAIRE'!$B$13,0))=$A14,INDEX('SEMAINE PAIRE'!$B$15:$F$27,MATCH('Planning MAICHE calcul'!K$2,'SEMAINE PAIRE'!$A$15:$A$27,0)+1,MATCH(OFFSET('Planning MAICHE calcul'!K$1,0,-COLUMN()+2),'SEMAINE PAIRE'!$B$13,0))=""), "Fer","")} | L14: {=IF(AND(INDEX('SEMAINE PAIRE'!$B$15:$F$27,MATCH('Planning MAICHE calcul'!L$2,'SEMAINE PAIRE'!$A$15:$A$27,0),MATCH(OFFSET('Planning MAICHE calcul'!L$1,0,-COLUMN()+2),'SEMAINE PAIRE'!$B$13,0))=$A14,INDEX('SEMAINE PAIRE'!$B$15:$F$27,MATCH('Planning MAICHE calcul'!L$2,'SEMAINE PAIRE'!$A$15:$A$27,0)+1,MATCH(OFFSET('Planning MAICHE calcul'!L$1,0,-COLUMN()+2),'SEMAINE PAIRE'!$B$13,0))=""), "ouv","")} | M14: 0.35416667 | N14: 0.53125 | O14: {=IF(AND(INDEX('SEMAINE PAIRE'!$B$15:$F$27,MATCH('Planning MAICHE calcul'!O$2,'SEMAINE PAIRE'!$A$15:$A$27,0),MATCH(OFFSET('Planning MAICHE calcul'!O$1,0,-COLUMN()+2),'SEMAINE PAIRE'!$B$13,0))=$A14,INDEX('SEMAINE PAIRE'!$B$15:$F$27,MATCH('Planning MAICHE calcul'!O$2,'SEMAINE PAIRE'!$A$15:$A$27,0)+1,MATCH(OFFSET('Planning MAICHE calcul'!O$1,0,-COLUMN()+2),'SEMAINE PAIRE'!$B$13,0))=""), "Cui","")} | P14: {=IF(AND(INDEX('SEMAINE PAIRE'!$B$15:$F$27,MATCH('Planning MAICHE calcul'!P$2,'SEMAINE PAIRE'!$A$15:$A$27,0),MATCH(OFFSET('Planning MAICHE calcul'!P$1,0,-COLUMN()+2),'SEMAINE PAIRE'!$B$13,0))=$A14,INDEX('SEMAINE PAIRE'!$B$15:$F$27,MATCH('Planning MAICHE calcul'!P$2,'SEMAINE PAIRE'!$A$15:$A$27,0)+1,MATCH(OFFSET('Planning MAICHE calcul'!P$1,0,-COLUMN()+2),'SEMAINE PAIRE'!$B$13,0))=""), "S1","")} | Q14: {=IF(AND(INDEX('SEMAINE PAIRE'!$B$15:$F$27,MATCH('Planning MAICHE calcul'!Q$2,'SEMAINE PAIRE'!$A$15:$A$27,0),MATCH(OFFSET('Planning MAICHE calcul'!Q$1,0,-COLUMN()+2),'SEMAINE PAIRE'!$B$13,0))=$A14,INDEX('SEMAINE PAIRE'!$B$15:$F$27,MATCH('Planning MAICHE calcul'!Q$2,'SEMAINE PAIRE'!$A$15:$A$27,0)+1,MATCH(OFFSET('Planning MAICHE calcul'!Q$1,0,-COLUMN()+2),'SEMAINE PAIRE'!$B$13,0))=""), "S2","")} | R14: {=IF(AND(INDEX('SEMAINE PAIRE'!$B$15:$F$27,MATCH('Planning MAICHE calcul'!R$2,'SEMAINE PAIRE'!$A$15:$A$27,0),MATCH(OFFSET('Planning MAICHE calcul'!R$1,0,-COLUMN()+2),'SEMAINE PAIRE'!$B$13,0))=$A14,INDEX('SEMAINE PAIRE'!$B$15:$F$27,MATCH('Planning MAICHE calcul'!R$2,'SEMAINE PAIRE'!$A$15:$A$27,0)+1,MATCH(OFFSET('Planning MAICHE calcul'!R$1,0,-COLUMN()+2),'SEMAINE PAIRE'!$B$13,0))=""), "R.Ext","")} | S14: 0.57291667 | T14: 0.6875 | W14: 0.35416667 | X14: 0.53125 | AC14: 0.57291667 | AD14: 0.6875 | AG14: 0.35416667 | AH14: 0.53125 | AM14: 0.57291667 | AN14: 0.6875 | AQ14: 0.35416667 | AR14: 0.53125 | AW14: 0.57291667 | AX14: 0.6875 | BB14: =ROUND(AZ14-BA14,2) -> 0
