Workbook
Name _Date_Debut_SI: 'SEMAINE IMPAIRE'!$D$1
Name _Date_Debut_SP: 'SEMAINE PAIRE'!$D$1
Name _Date_Fin_SI: 'SEMAINE IMPAIRE'!$F$1
Name _Date_Fin_SP: 'SEMAINE PAIRE'!$F$1

Sheet Planning MAICHE calcul
B1: LUNDI | L1: MARDI | V1: MERCREDI | AF1: JEUDI | AP1: VENDREDI | AZ1: TOTAL SEMAINE | BA1: TEMPS THEO W | BB1: Vérif temps W | BC1: TPS SERVICE | BD1: TPS SERVICE sur 2 semaines - cui et ext | BE1: TPS SERVICE sur 2 semaines avec cui et ext | BF1: Nb cui ou ext | BG1: ETP
A2: SEMAINE PAIRE | B2: ouverture | C2: MATIN | E2: Cuisine | F2: Service 1 | G2: Service 2 | H2: Repas Ext | I2: A-MIDI | K2: Fermeture | L2: ouverture | M2: MATIN | O2: Cuisine | P2: Service 1 | Q2: Service 2 | R2: Repas Extérieur | S2: A-MIDI | U2: Fermeture | V2: ouverture | W2: MATIN | Y2: Cuisine | Z2: Service 1 | AA2: Service 2 | AB2: Repas Extérieur | AC2: A-MIDI | AE2: Fermeture | AF2: ouverture | AG2: MATIN | AI2: Cuisine | AJ2: Service 1 | AK2: Service 2 | AL2: Repas Extérieur | AM2: A-MIDI | AO2: Fermeture | AP2: ouverture | AQ2: MATIN | AS2: Cuisine | AT2: Service 1 | AU2: Service 2 | AV2: Repas Extérieur | AW2: A-MIDI | AY2: Fermeture
C3: Début | D3: Fin | I3: Début | J3: Fin | M3: Début | N3: Fin | S3: Début | T3: Fin | W3: Début | X3: Fin | AC3: Début | AD3: Fin | AG3: Début | AH3: Fin | AM3: Début | AN3: Fin | AQ3: Début | AR3: Fin | AW3: Début | AX3: Fin
A4: Infirmière | B4: {=IF(AND(INDEX('SEMAINE PAIRE'!$B$15:$F$27,MATCH('Planning MAICHE calcul'!B$2,'SEMAINE PAIRE'!$A$15:$A$27,0),MATCH(OFFSET('Planning MAICHE calcul'!B$1,0,-COLUMN()+2),'SEMAINE PAIRE'!$B$13,0))=$A4,INDEX('SEMAINE PAIRE'!$B$15:$F$27,MATCH('Planning MAICHE calcul'!B$2,'SEMAINE PAIRE'!$A$15:$A$27,0)+1,MATCH(OFFSET('Planning MAICHE calcul'!B$1,0,-COLUMN()+2),'SEMAINE PAIRE'!$B$13,0))=""), "ouv","")} | C4: 0.35416667 | D4: 0.47916667 | E4: {=IF(AND(INDEX('SEMAINE PAIRE'!$B$15:$F$27,MATCH('Planning MAICHE calcul'!E$2,'SEMAINE PAIRE'!$A$15:$A$27,0),MATCH(OFFSET('Planning MAICHE calcul'!E$1,0,-COLUMN()+2),'SEMAINE PAIRE'!$B$13,0))=$A4,INDEX('SEMAINE PAIRE'!$B$15:$F$27,MATCH('Planning MAICHE calcul'!E$2,'SEMAINE PAIRE'!$A$15:$A$27,0)+1,MATCH(OFFSET('Planning MAICHE calcul'!E$1,0,-COLUMN()+2),'SEMAINE PAIRE'!$B$13,0))=""), "Cui","")} | F4: {=IF(AND(INDEX('SEMAINE PAIRE'!$B$15:$F$27,MATCH('Planning MAICHE calcul'!F$2,'SEMAINE PAIRE'!$A$15:$A$27,0),MATCH(OFFSET('Planning MAICHE calcul'!F$1,0,-COLUMN()+2),'SEMAINE PAIRE'!$B$13,0))=$A4,INDEX('SEMAINE PAIRE'!$B$15:$F$27,MATCH('Planning MAICHE calcul'!F$2,'SEMAINE PAIRE'!$A$15:$A$27,0)+1,MATCH(OFFSET('Planning MAICHE calcul'!F$1,0,-COLUMN()+2),'SEMAINE PAIRE'!$B$13,0))=""), "S1","")} | G4: {=IF(AND(INDEX('SEMAINE PAIRE'!$B$15:$F$27,MATCH('Planning MAICHE calcul'!G$2,'SEMAINE PAIRE'!$A$15:$A$27,0),MATCH(OFFSET('Planning MAICHE calcul'!G$1,0,-COLUMN()+2),'SEMAINE PAIRE'!$B$13,0))=$A4,INDEX('SEMAINE PAIRE'!$B$15:$F$27,MATCH('Planning MAICHE calcul'!G$2,'SEMAINE PAIRE'!$A$15:$A$27,0)+1,MATCH(OFFSET('Planning MAICHE calcul'!G$1,0,-COLUMN()+2),'SEMAINE PAIRE'!$B$13,0))=""), "S2","")} | H4: {=IF(AND(INDEX('SEMAINE PAIRE'!$B$15:$F$27,MATCH('Planning MAICHE calcul'!H$2,'SEMAINE PAIRE'!$A$15:$A$27,0),MATCH(OFFSET('Planning MAICHE calcul'!H$1,0,-COLUMN()+2),'SEMAINE PAIRE'!$B$13,0))=$A4,INDEX('SEMAINE PAIRE'!$B$15:$F$27,MATCH('Planning MAICHE calcul'!H$2,'SEMAINE PAIRE'!$A$15:$A$27,0)+1,MATCH(OFFSET('Planning MAICHE calcul'!H$1,0,-COLUMN()+2),'SEMAINE PAIRE'!$B$13,0))=""), "R.Ext","")} | I4: 0.52083333 | J4: 0.6875 | K4: {=IF(AND(INDEX('SEMAINE PAIRE'!$B$15:$F$27,MATCH('Planning MAICHE calcul'!K$2,'SEMAINE PAIRE'!$A$15:$A$27,0),MATCH(OFFSET('Planning MAICHE calcul'!K$1,0,-COLUMN()+2),'SEMAINE PAIRE'!$B$13,0))=$A4,INDEX('SEMAINE PAIRE'!$B$15:$F$27,MATCH('Planning MAICHE calcul'!K$2,'SEMAINE PAIRE'!$A$15:$A$27,0)+1,MATCH(OFFSET('Planning MAICHE calcul'!K$1,0,-COLUMN()+2),'SEMAINE PAIRE'!$B$13,0))=""), "Fer","")} | L4: =IF(AND(INDEX('SEMAINE PAIRE'!$B$15:$F$27,MATCH('Planning MAICHE calcul'!L$2,'SEMAINE PAIRE'!$A$15:$A$27,0),MATCH(OFFSET('Planning MAICHE calcul'!L$1,0,-COLUMN()+2),'SEMAINE PAIRE'!$C$13,0))=$A4,INDEX('SEMAINE PAIRE'!$B$15:$F$27,MATCH('Planning MAICHE calcul'!L$2,'SEMAINE PAIRE'!$A$15:$A$27,0)+1,MATCH(OFFSET('Planning MAICHE calcul'!L$1,0,-COLUMN()+2),'SEMAINE PAIRE'!$B$13,0))=""), "ouv","") -> #N/A | M4: 0.35416667 | N4: 0.47916667 | S4: 0.52083333 | T4: 0.6875 | W4: 0.35416667 | X4: 0.47916667 | AG4: 0.35416667 | AH4: 0.47916667 | AM4: 0.52083333 | AN4: 0.6875 | AQ4: 0.35416667 | AR4: 0.47916667 | AW4: 0.52083333 | AX4: 0.6875
A5: A I | B5: {=IF(AND(INDEX('SEMAINE PAIRE'!$B$15:$F$27,MATCH('Planning MAICHE calcul'!B$2,'SEMAINE PAIRE'!$A$15:$A$27,0),MATCH(OFFSET('Planning MAICHE calcul'!B$1,0,-COLUMN()+2),'SEMAINE PAIRE'!$B$13,0))=$A5,INDEX('SEMAINE PAIRE'!$B$15:$F$27,MATCH('Planning MAICHE calcul'!B$2,'SEMAINE PAIRE'!$A$15:$A$27,0)+1,MATCH(OFFSET('Planning MAICHE calcul'!B$1,0,-COLUMN()+2),'SEMAINE PAIRE'!$B$13,0))=""), "ouv","")} | C5: 0.35416667 | D5: 0.47916667 | E5: {=IF(AND(INDEX('SEMAINE PAIRE'!$B$15:$F$27,MATCH('Planning MAICHE calcul'!E$2,'SEMAINE PAIRE'!$A$15:$A$27,0),MATCH(OFFSET('Planning MAICHE calcul'!E$1,0,-COLUMN()+2),'SEMAINE PAIRE'!$B$13,0))=$A5,INDEX('SEMAINE PAIRE'!$B$15:$F$27,MATCH('Planning MAICHE calcul'!E$2,'SEMAINE PAIRE'!$A$15:$A$27,0)+1,MATCH(OFFSET('Planning MAICHE calcul'!E$1,0,-COLUMN()+2),'SEMAINE PAIRE'!$B$13,0))=""), "Cui","")} | F5: {=IF(AND(INDEX('SEMAINE PAIRE'!$B$15:$F$27,MATCH('Planning MAICHE calcul'!F$2,'SEMAINE PAIRE'!$A$15:$A$27,0),MATCH(OFFSET('Planning MAICHE calcul'!F$1,0,-COLUMN()+2),'SEMAINE PAIRE'!$B$13,0))=$A5,INDEX('SEMAINE PAIRE'!$B$15:$F$27,MATCH('Planning MAICHE calcul'!F$2,'SEMAINE PAIRE'!$A$15:$A$27,0)+1,MATCH(OFFSET('Planning MAICHE calcul'!F$1,0,-COLUMN()+2),'SEMAINE PAIRE'!$B$13,0))=""), "S1","")} | G5: {=IF(AND(INDEX('SEMAINE PAIRE'!$B$15:$F$27,MATCH('Planning MAICHE calcul'!G$2,'SEMAINE PAIRE'!$A$15:$A$27,0),MATCH(OFFSET('Planning MAICHE calcul'!G$1,0,-COLUMN()+2),'SEMAINE PAIRE'!$B$13,0))=$A5,INDEX('SEMAINE PAIRE'!$B$15:$F$27,MATCH('Planning MAICHE calcul'!G$2,'SEMAINE PAIRE'!$A$15:$A$27,0)+1,MATCH(OFFSET('Planning MAICHE calcul'!G$1,0,-COLUMN()+2),'SEMAINE PAIRE'!$B$13,0))=""), "S2","")} -> S2 | H5: {=IF(AND(INDEX('SEMAINE PAIRE'!$B$15:$F$27,MATCH('Planning MAICHE calcul'!H$2,'SEMAINE PAIRE'!$A$15:$A$27,0),MATCH(OFFSET('Planning MAICHE calcul'!H$1,0,-COLUMN()+2),'SEMAINE PAIRE'!$B$13,0))=$A5,INDEX('SEMAINE PAIRE'!$B$15:$F$27,MATCH('Planning MAICHE calcul'!H$2,'SEMAINE PAIRE'!$A$15:$A$27,0)+1,MATCH(OFFSET('Planning MAICHE calcul'!H$1,0,-COLUMN()+2),'SEMAINE PAIRE'!$B$13,0))=""), "R.Ext","")} | I5: 0.52083333 | J5: 0.6875 | K5: {=IF(AND(INDEX('SEMAINE PAIRE'!$B$15:$F$27,MATCH('Planning MAICHE calcul'!K$2,'SEMAINE PAIRE'!$A$15:$A$27,0),MATCH(OFFSET('Planning MAICHE calcul'!K$1,0,-COLUMN()+2),'SEMAINE PAIRE'!$B$13,0))=$A5,INDEX('SEMAINE PAIRE'!$B$15:$F$27,MATCH('Planning MAICHE calcul'!K$2,'SEMAINE PAIRE'!$A$15:$A$27,0)+1,MATCH(OFFSET('Planning MAICHE calcul'!K$1,0,-COLUMN()+2),'SEMAINE PAIRE'!$B$13,0))=""), "Fer","")} -> Fer | M5: 0.35416667 | N5: 0.47916667 | S5: 0.35416667 | T5: 0.47916667 | W5: 0.35416667 | X5: 0.47916667 | AC5: 0.52083333 | AD5: 0.6875 | AG5: 0.35416667 | AH5: 0.47916667 | AM5: 0.52083333 | AN5: 0.61458333 | AQ5: 0.35416667 | AR5: 0.47916667 | AW5: 0.52083333 | AX5: 0.6875
A6: E A | B6: {=IF(AND(INDEX('SEMAINE PAIRE'!$B$15:$F$27,MATCH('Planning MAICHE calcul'!B$2,'SEMAINE PAIRE'!$A$15:$A$27,0),MATCH(OFFSET('Planning MAICHE calcul'!B$1,0,-COLUMN()+2),'SEMAINE PAIRE'!$B$13,0))=$A6,INDEX('SEMAINE PAIRE'!$B$15:$F$27,MATCH('Planning MAICHE calcul'!B$2,'SEMAINE PAIRE'!$A$15:$A$27,0)+1,MATCH(OFFSET('Planning MAICHE calcul'!B$1,0,-COLUMN()+2),'SEMAINE PAIRE'!$B$13,0))=""), "ouv","")} | C6: 0.35416667 | D6: 0.53125 | E6: {=IF(AND(INDEX('SEMAINE PAIRE'!$B$15:$F$27,MATCH('Planning MAICHE calcul'!E$2,'SEMAINE PAIRE'!$A$15:$A$27,0),MATCH(OFFSET('Planning MAICHE calcul'!E$1,0,-COLUMN()+2),'SEMAINE PAIRE'!$B$13,0))=$A6,INDEX('SEMAINE PAIRE'!$B$15:$F$27,MATCH('Planning MAICHE calcul'!E$2,'SEMAINE PAIRE'!$A$15:$A$27,0)+1,MATCH(OFFSET('Planning MAICHE calcul'!E$1,0,-COLUMN()+2),'SEMAINE PAIRE'!$B$13,0))=""), "Cui","")} | F6: {=IF(AND(INDEX('SEMAINE PAIRE'!$B$15:$F$27,MATCH('Planning MAICHE calcul'!F$2,'SEMAINE PAIRE'!$A$15:$A$27,0),MATCH(OFFSET('Planning MAICHE calcul'!F$1,0,-COLUMN()+2),'SEMAINE PAIRE'!$B$13,0))=$A6,INDEX('SEMAINE PAIRE'!$B$15:$F$27,MATCH('Planning MAICHE calcul'!F$2,'SEMAINE PAIRE'!$A$15:$A$27,0)+1,MATCH(OFFSET('Planning MAICHE calcul'!F$1,0,-COLUMN()+2),'SEMAINE PAIRE'!$B$13,0))=""), "S1","")} | G6: {=IF(AND(INDEX('SEMAINE PAIRE'!$B$15:$F$27,MATCH('Planning MAICHE calcul'!G$2,'SEMAINE PAIRE'!$A$15:$A$27,0),MATCH(OFFSET('Planning MAICHE calcul'!G$1,0,-COLUMN()+2),'SEMAINE PAIRE'!$B$13,0))=$A6,INDEX('SEMAINE PAIRE'!$B$15:$F$27,MATCH('Planning MAICHE calcul'!G$2,'SEMAINE PAIRE'!$A$15:$A$27,0)+1,MATCH(OFFSET('Planning MAICHE calcul'!G$1,0,-COLUMN()+2),'SEMAINE PAIRE'!$B$13,0))=""), "S2","")} | H6: {=IF(AND(INDEX('SEMAINE PAIRE'!$B$15:$F$27,MATCH('Planning MAICHE calcul'!H$2,'SEMAINE PAIRE'!$A$15:$A$27,0),MATCH(OFFSET('Planning MAICHE calcul'!H$1,0,-COLUMN()+2),'SEMAINE PAIRE'!$B$13,0))=$A6,INDEX('SEMAINE PAIRE'!$B$15:$F$27,MATCH('Planning MAICHE calcul'!H$2,'SEMAINE PAIRE'!$A$15:$A$27,0)+1,MATCH(OFFSET('Planning MAICHE calcul'!H$1,0,-COLUMN()+2),'SEMAINE PAIRE'!$B$13,0))=""), "R.Ext","")} | I6: 0.57291667 | J6: 0.6875 | K6: {=IF(AND(INDEX('SEMAINE PAIRE'!$B$15:$F$27,MATCH('Planning MAICHE calcul'!K$2,'SEMAINE PAIRE'!$A$15:$A$27,0),MATCH(OFFSET('Planning MAICHE calcul'!K$1,0,-COLUMN()+2),'SEMAINE PAIRE'!$B$13,0))=$A6,INDEX('SEMAINE PAIRE'!$B$15:$F$27,MATCH('Planning MAICHE calcul'!K$2,'SEMAINE PAIRE'!$A$15:$A$27,0)+1,MATCH(OFFSET('Planning MAICHE calcul'!K$1,0,-COLUMN()+2),'SEMAINE PAIRE'!$B$13,0))=""), "Fer","")} | M6: 0.35416667 | N6: 0.53125 | S6: 0.57291667 | T6: 0.6875 | W6: 0.35416667 | X6: 0.53125 | AC6: 0.57291667 | AD6: 0.60416667 | AG6: 0.35416667 | AH6: 0.53125 | AM6: 0.57291667 | AN6: 0.6875 | AQ6: 0.35416667 | AR6: 0.53125 | AW6: 0.57291667 | AX6: 0.6875 | BB6: =ROUND(AZ6-BA6,2) -> 0
A7: J Q | B7: {=IF(AND(INDEX('SEMAINE PAIRE'!$B$15:$F$27,MATCH('Planning MAICHE calcul'!B$2,'SEMAINE PAIRE'!$A$15:$A$27,0),MATCH(OFFSET('Planning MAICHE calcul'!B$1,0,-COLUMN()+2),'SEMAINE PAIRE'!$B$13,0))=$A7,INDEX('SEMAINE PAIRE'!$B$15:$F$27,MATCH('Planning MAICHE calcul'!B$2,'SEMAINE PAIRE'!$A$15:$A$27,0)+1,MATCH(OFFSET('Planning MAICHE calcul'!B$1,0,-COLUMN()+2),'SEMAINE PAIRE'!$B$13,0))=""), "ouv","")} | C7: 0.35416667 | D7: 0.47916667 | E7: {=IF(AND(INDEX('SEMAINE PAIRE'!$B$15:$F$27,MATCH('Planning MAICHE calcul'!E$2,'SEMAINE PAIRE'!$A$15:$A$27,0),MATCH(OFFSET('Planning MAICHE calcul'!E$1,0,-COLUMN()+2),'SEMAINE PAIRE'!$B$13,0))=$A7,INDEX('SEMAINE PAIRE'!$B$15:$F$27,MATCH('Planning MAICHE calcul'!E$2,'SEMAINE PAIRE'!$A$15:$A$27,0)+1,MATCH(OFFSET('Planning MAICHE calcul'!E$1,0,-COLUMN()+2),'SEMAINE PAIRE'!$B$13,0))=""), "Cui","")} | F7: {=IF(AND(INDEX('SEMAINE PAIRE'!$B$15:$F$27,MATCH('Planning MAICHE calcul'!F$2,'SEMAINE PAIRE'!$A$15:$A$27,0),MATCH(OFFSET('Planning MAICHE calcul'!F$1,0,-COLUMN()+2),'SEMAINE PAIRE'!$B$13,0))=$A7,INDEX('SEMAINE PAIRE'!$B$15:$F$27,MATCH('Planning MAICHE calcul'!F$2,'SEMAINE PAIRE'!$A$15:$A$27,0)+1,MATCH(OFFSET('Planning MAICHE calcul'!F$1,0,-COLUMN()+2),'SEMAINE PAIRE'!$B$13,0))=""), "S1","")} | G7: {=IF(AND(INDEX('SEMAINE PAIRE'!$B$15:$F$27,MATCH('Planning MAICHE calcul'!G$2,'SEMAINE PAIRE'!$A$15:$A$27,0),MATCH(OFFSET('Planning MAICHE calcul'!G$1,0,-COLUMN()+2),'SEMAINE PAIRE'!$B$13,0))=$A7,INDEX('SEMAINE PAIRE'!$B$15:$F$27,MATCH('Planning MAICHE calcul'!G$2,'SEMAINE PAIRE'!$A$15:$A$27,0)+1,MATCH(OFFSET('Planning MAICHE calcul'!G$1,0,-COLUMN()+2),'SEMAINE PAIRE'!$B$13,0))=""), "S2","")} | H7: {=IF(AND(INDEX('SEMAINE PAIRE'!$B$15:$F$27,MATCH('Planning MAICHE calcul'!H$2,'SEMAINE PAIRE'!$A$15:$A$27,0),MATCH(OFFSET('Planning MAICHE calcul'!H$1,0,-COLUMN()+2),'SEMAINE PAIRE'!$B$13,0))=$A7,INDEX('SEMAINE PAIRE'!$B$15:$F$27,MATCH('Planning MAICHE calcul'!H$2,'SEMAINE PAIRE'!$A$15:$A$27,0)+1,MATCH(OFFSET('Planning MAICHE calcul'!H$1,0,-COLUMN()+2),'SEMAINE PAIRE'!$B$13,0))=""), "R.Ext","")} | I7: 0.52083333 | J7: 0.6875 | K7: {=IF(AND(INDEX('SEMAINE PAIRE'!$B$15:$F$27,MATCH('Planning MAICHE calcul'!K$2,'SEMAINE PAIRE'!$A$15:$A$27,0),MATCH(OFFSET('Planning MAICHE calcul'!K$1,0,-COLUMN()+2),'SEMAINE PAIRE'!$B$13,0))=$A7,INDEX('SEMAINE PAIRE'!$B$15:$F$27,MATCH('Planning MAICHE calcul'!K$2,'SEMAINE PAIRE'!$A$15:$A$27,0)+1,MATCH(OFFSET('Planning MAICHE calcul'!K$1,0,-COLUMN()+2),'SEMAINE PAIRE'!$B$13,0))=""), "Fer","")} | M7: 0.35416667 | N7: 0.47916667 | S7: 0.52083333 | T7: 0.6875 | W7: 0.35416667 | X7: 0.47916667 | AC7: 0.52083333 | AD7: 0.6875 | AG7: 0.35416667 | AH7: 0.47916667 | AM7: 0.52083333 | AN7: 0.60416667 | AQ7: 0.35416667 | AR7: 0.47916667 | AW7: 0.52083333 | AX7: 0.6875 | BB7: =ROUND(AZ7-BA7,2) -> 0
A8: B F | B8: {=IF(AND(INDEX('SEMAINE PAIRE'!$B$15:$F$27,MATCH('Planning MAICHE calcul'!B$2,'SEMAINE PAIRE'!$A$15:$A$27,0),MATCH(OFFSET('Planning MAICHE calcul'!B$1,0,-COLUMN()+2),'SEMAINE PAIRE'!$B$13,0))=$A8,INDEX('SEMAINE PAIRE'!$B$15:$F$27,MATCH('Planning MAICHE calcul'!B$2,'SEMAINE PAIRE'!$A$15:$A$27,0)+1,MATCH(OFFSET('Planning MAICHE calcul'!B$1,0,-COLUMN()+2),'SEMAINE PAIRE'!$B$13,0))=""), "ouv","")} | C8: 0.35416667 | D8: 0.47916667 | E8: {=IF(AND(INDEX('SEMAINE PAIRE'!$B$15:$F$27,MATCH('Planning MAICHE calcul'!E$2,'SEMAINE PAIRE'!$A$15:$A$27,0),MATCH(OFFSET('Planning MAICHE calcul'!E$1,0,-COLUMN()+2),'SEMAINE PAIRE'!$B$13,0))=$A8,INDEX('SEMAINE PAIRE'!$B$15:$F$27,MATCH('Planning MAICHE calcul'!E$2,'SEMAINE PAIRE'!$A$15:$A$27,0)+1,MATCH(OFFSET('Planning MAICHE calcul'!E$1,0,-COLUMN()+2),'SEMAINE PAIRE'!$B$13,0))=""), "Cui","")} -> Cui | F8: {=IF(AND(INDEX('SEMAINE PAIRE'!$B$15:$F$27,MATCH('Planning MAICHE calcul'!F$2,'SEMAINE PAIRE'!$A$15:$A$27,0),MATCH(OFFSET('Planning MAICHE calcul'!F$1,0,-COLUMN()+2),'SEMAINE PAIRE'!$B$13,0))=$A8,INDEX('SEMAINE PAIRE'!$B$15:$F$27,MATCH('Planning MAICHE calcul'!F$2,'SEMAINE PAIRE'!$A$15:$A$27,0)+1,MATCH(OFFSET('Planning MAICHE calcul'!F$1,0,-COLUMN()+2),'SEMAINE PAIRE'!$B$13,0))=""), "S1","")} | G8: {=IF(AND(INDEX('SEMAINE PAIRE'!$B$15:$F$27,MATCH('Planning MAICHE calcul'!G$2,'SEMAINE PAIRE'!$A$15:$A$27,0),MATCH(OFFSET('Planning MAICHE calcul'!G$1,0,-COLUMN()+2),'SEMAINE PAIRE'!$B$13,0))=$A8,INDEX('SEMAINE PAIRE'!$B$15:$F$27,MATCH('Planning MAICHE calcul'!G$2,'SEMAINE PAIRE'!$A$15:$A$27,0)+1,MATCH(OFFSET('Planning MAICHE calcul'!G$1,0,-COLUMN()+2),'SEMAINE PAIRE'!$B$13,0))=""), "S2","")} | H8: {=IF(AND(INDEX('SEMAINE PAIRE'!$B$15:$F$27,MATCH('Planning MAICHE calcul'!H$2,'SEMAINE PAIRE'!$A$15:$A$27,0),MATCH(OFFSET('Planning MAICHE calcul'!H$1,0,-COLUMN()+2),'SEMAINE PAIRE'!$B$13,0))=$A8,INDEX('SEMAINE PAIRE'!$B$15:$F$27,MATCH('Planning MAICHE calcul'!H$2,'SEMAINE PAIRE'!$A$15:$A$27,0)+1,MATCH(OFFSET('Planning MAICHE calcul'!H$1,0,-COLUMN()+2),'SEMAINE PAIRE'!$B$13,0))=""), "R.Ext","")} | I8: 0.52083333 | J8: 0.6875 | K8: {=IF(AND(INDEX('SEMAINE PAIRE'!$B$15:$F$27,MATCH('Planning MAICHE calcul'!K$2,'SEMAINE PAIRE'!$A$15:$A$27,0),MATCH(OFFSET('Planning MAICHE calcul'!K$1,0,-COLUMN()+2),'SEMAINE PAIRE'!$B$13,0))=$A8,INDEX('SEMAINE PAIRE'!$B$15:$F$27,MATCH('Planning MAICHE calcul'!K$2,'SEMAINE PAIRE'!$A$15:$A$27,0)+1,MATCH(OFFSET('Planning MAICHE calcul'!K$1,0,-COLUMN()+2),'SEMAINE PAIRE'!$B$13,0))=""), "Fer","")} | M8: 0.35416667 | N8: 0.47916667 | S8: 0.52083333 | T8: 0.6875 | W8: 0.35416667 | X8: 0.47916667 | AC8: 0.52083333 | AD8: 0.6875 | AM8: 0.51041667 | AN8: 0.6875 | AQ8: 0.35416667 | AR8: 0.47916667 | AW8: 0.52083333 | AX8: 0.6875 | BB8: =ROUND(AZ8-BA8,2) -> 0
A9: J-C H | B9: {=IF(AND(INDEX('SEMAINE PAIRE'!$B$15:$F$27,MATCH('Planning MAICHE calcul'!B$2,'SEMAINE PAIRE'!$A$15:$A$27,0),MATCH(OFFSET('Planning MAICHE calcul'!B$1,0,-COLUMN()+2),'SEMAINE PAIRE'!$B$13,0))=$A9,INDEX('SEMAINE PAIRE'!$B$15:$F$27,MATCH('Planning MAICHE calcul'!B$2,'SEMAINE PAIRE'!$A$15:$A$27,0)+1,MATCH(OFFSET('Planning MAICHE calcul'!B$1,0,-COLUMN()+2),'SEMAINE PAIRE'!$B$13,0))=""), "ouv","")} | C9: 0.35416667 | D9: 0.53125 | E9: {=IF(AND(INDEX('SEMAINE PAIRE'!$B$15:$F$27,MATCH('Planning MAICHE calcul'!E$2,'SEMAINE PAIRE'!$A$15:$A$27,0),MATCH(OFFSET('Planning MAICHE calcul'!E$1,0,-COLUMN()+2),'SEMAINE PAIRE'!$B$13,0))=$A9,INDEX('SEMAINE PAIRE'!$B$15:$F$27,MATCH('Planning MAICHE calcul'!E$2,'SEMAINE PAIRE'!$A$15:$A$27,0)+1,MATCH(OFFSET('Planning MAICHE calcul'!E$1,0,-COLUMN()+2),'SEMAINE PAIRE'!$B$13,0))=""), "Cui","")} | F9: {=IF(AND(INDEX('SEMAINE PAIRE'!$B$15:$F$27,MATCH('Planning MAICHE calcul'!F$2,'SEMAINE PAIRE'!$A$15:$A$27,0),MATCH(OFFSET('Planning MAICHE calcul'!F$1,0,-COLUMN()+2),'SEMAINE PAIRE'!$B$13,0))=$A9,INDEX('SEMAINE PAIRE'!$B$15:$F$27,MATCH('Planning MAICHE calcul'!F$2,'SEMAINE PAIRE'!$A$15:$A$27,0)+1,MATCH(OFFSET('Planning MAICHE calcul'!F$1,0,-COLUMN()+2),'SEMAINE PAIRE'!$B$13,0))=""), "S1","")} | G9: {=IF(AND(INDEX('SEMAINE PAIRE'!$B$15:$F$27,MATCH('Planning MAICHE calcul'!G$2,'SEMAINE PAIRE'!$A$15:$A$27,0),MATCH(OFFSET('Planning MAICHE calcul'!G$1,0,-COLUMN()+2),'SEMAINE PAIRE'!$B$13,0))=$A9,INDEX('SEMAINE PAIRE'!$B$15:$F$27,MATCH('Planning MAICHE calcul'!G$2,'SEMAINE PAIRE'!$A$15:$A$27,0)+1,MATCH(OFFSET('Planning MAICHE calcul'!G$1,0,-COLUMN()+2),'SEMAINE PAIRE'!$B$13,0))=""), "S2","")} | H9: {=IF(AND(INDEX('SEMAINE PAIRE'!$B$15:$F$27,MATCH('Planning MAICHE calcul'!H$2,'SEMAINE PAIRE'!$A$15:$A$27,0),MATCH(OFFSET('Planning MAICHE calcul'!H$1,0,-COLUMN()+2),'SEMAINE PAIRE'!$B$13,0))=$A9,INDEX('SEMAINE PAIRE'!$B$15:$F$27,MATCH('Planning MAICHE calcul'!H$2,'SEMAINE PAIRE'!$A$15:$A$27,0)+1,MATCH(OFFSET('Planning MAICHE calcul'!H$1,0,-COLUMN()+2),'SEMAINE PAIRE'!$B$13,0))=""), "R.Ext","")} | I9: 0.57291667 | J9: 0.6875 | K9: {=IF(AND(INDEX('SEMAINE PAIRE'!$B$15:$F$27,MATCH('Planning MAICHE calcul'!K$2,'SEMAINE PAIRE'!$A$15:$A$27,0),MATCH(OFFSET('Planning MAICHE calcul'!K$1,0,-COLUMN()+2),'SEMAINE PAIRE'!$B$13,0))=$A9,INDEX('SEMAINE PAIRE'!$B$15:$F$27,MATCH('Planning MAICHE calcul'!K$2,'SEMAINE PAIRE'!$A$15:$A$27,0)+1,MATCH(OFFSET('Planning MAICHE calcul'!K$1,0,-COLUMN()+2),'SEMAINE PAIRE'!$B$13,0))=""), "Fer","")} | M9: 0.35416667 | N9: 0.53125 | S9: 0.57291667 | T9: 0.6875 | W9: 0.4375 | X9: 0.53125 | AC9: 0.57291667 | AD9: 0.6875 | AG9: 0.35416667 | AH9: 0.53125 | AM9: 0.57291667 | AN9: 0.6875 | AQ9: 0.35416667 | AR9: 0.53125 | AW9: 0.57291667 | AX9: 0.6875 | BB9: =ROUND(AZ9-BA9,2) -> 0
A10: V B | B10: {=IF(AND(INDEX('SEMAINE PAIRE'!$B$15:$F$27,MATCH('Planning MAICHE calcul'!B$2,'SEMAINE PAIRE'!$A$15:$A$27,0),MATCH(OFFSET('Planning MAICHE calcul'!B$1,0,-COLUMN()+2),'SEMAINE PAIRE'!$B$13,0))=$A10,INDEX('SEMAINE PAIRE'!$B$15:$F$27,MATCH('Planning MAICHE calcul'!B$2,'SEMAINE PAIRE'!$A$15:$A$27,0)+1,MATCH(OFFSET('Planning MAICHE calcul'!B$1,0,-COLUMN()+2),'SEMAINE PAIRE'!$B$13,0))=""), "ouv","")} | E10: {=IF(AND(INDEX('SEMAINE PAIRE'!$B$15:$F$27,MATCH('Planning MAICHE calcul'!E$2,'SEMAINE PAIRE'!$A$15:$A$27,0),MATCH(OFFSET('Planning MAICHE calcul'!E$1,0,-COLUMN()+2),'SEMAINE PAIRE'!$B$13,0))=$A10,INDEX('SEMAINE PAIRE'!$B$15:$F$27,MATCH('Planning MAICHE calcul'!E$2,'SEMAINE PAIRE'!$A$15:$A$27,0)+1,MATCH(OFFSET('Planning MAICHE calcul'!E$1,0,-COLUMN()+2),'SEMAINE PAIRE'!$B$13,0))=""), "Cui","")} | F10: {=IF(AND(INDEX('SEMAINE PAIRE'!$B$15:$F$27,MATCH('Planning MAICHE calcul'!F$2,'SEMAINE PAIRE'!$A$15:$A$27,0),MATCH(OFFSET('Planning MAICHE calcul'!F$1,0,-COLUMN()+2),'SEMAINE PAIRE'!$B$13,0))=$A10,INDEX('SEMAINE PAIRE'!$B$15:$F$27,MATCH('Planning MAICHE calcul'!F$2,'SEMAINE PAIRE'!$A$15:$A$27,0)+1,MATCH(OFFSET('Planning MAICHE calcul'!F$1,0,-COLUMN()+2),'SEMAINE PAIRE'!$B$13,0))=""), "S1","")} | G10: {=IF(AND(INDEX('SEMAINE PAIRE'!$B$15:$F$27,MATCH('Planning MAICHE calcul'!G$2,'SEMAINE PAIRE'!$A$15:$A$27,0),MATCH(OFFSET('Planning MAICHE calcul'!G$1,0,-COLUMN()+2),'SEMAINE PAIRE'!$B$13,0))=$A10,INDEX('SEMAINE PAIRE'!$B$15:$F$27,MATCH('Planning MAICHE calcul'!G$2,'SEMAINE PAIRE'!$A$15:$A$27,0)+1,MATCH(OFFSET('Planning MAICHE calcul'!G$1,0,-COLUMN()+2),'SEMAINE PAIRE'!$B$13,0))=""), "S2","")} | H10: {=IF(AND(INDEX('SEMAINE PAIRE'!$B$15:$F$27,MATCH('Planning MAICHE calcul'!H$2,'SEMAINE PAIRE'!$A$15:$A$27,0),MATCH(OFFSET('Planning MAICHE calcul'!H$1,0,-COLUMN()+2),'SEMAINE PAIRE'!$B$13,0))=$A10,INDEX('SEMAINE PAIRE'!$B$15:$F$27,MATCH('Planning MAICHE calcul'!H$2,'SEMAINE PAIRE'!$A$15:$A$27,0)+1,MATCH(OFFSET('Planning MAICHE calcul'!H$1,0,-COLUMN()+2),'SEMAINE PAIRE'!$B$13,0))=""), "R.Ext","")} | K10: {=IF(AND(INDEX('SEMAINE PAIRE'!$B$15:$F$27,MATCH('Planning MAICHE calcul'!K$2,'SEMAINE PAIRE'!$A$15:$A$27,0),MATCH(OFFSET('Planning MAICHE calcul'!K$1,0,-COLUMN()+2),'SEMAINE PAIRE'!$B$13,0))=$A10,INDEX('SEMAINE PAIRE'!$B$15:$F$27,MATCH('Planning MAICHE calcul'!K$2,'SEMAINE PAIRE'!$A$15:$A$27,0)+1,MATCH(OFFSET('Planning MAICHE calcul'!K$1,0,-COLUMN()+2),'SEMAINE PAIRE'!$B$13,0))=""), "Fer","")} | M10: 0.35416667 | N10: 0.53125 | S10: 0.57291667 | T10: 0.6875 | W10: 0.35416667 | X10: 0.53125 | AC10: 0.57291667 | AD10: 0.6875 | AG10: 0.39583333 | AH10: 0.53125 | AM10: 0.57291667 | AN10: 0.6875 | BB10: =ROUND(AZ10-BA10,2) -> 0
A11: P T | B11: {=IF(AND(INDEX('SEMAINE PAIRE'!$B$15:$F$27,MATCH('Planning MAICHE calcul'!B$2,'SEMAINE PAIRE'!$A$15:$A$27,0),MATCH(OFFSET('Planning MAICHE calcul'!B$1,0,-COLUMN()+2),'SEMAINE PAIRE'!$B$13,0))=$A11,INDEX('SEMAINE PAIRE'!$B$15:$F$27,MATCH('Planning MAICHE calcul'!B$2,'SEMAINE PAIRE'!$A$15:$A$27,0)+1,MATCH(OFFSET('Planning MAICHE calcul'!B$1,0,-COLUMN()+2),'SEMAINE PAIRE'!$B$13,0))=""), "ouv","")} | C11: 0.35416667 | D11: 0.53125 | E11: {=IF(AND(INDEX('SEMAINE PAIRE'!$B$15:$F$27,MATCH('Planning MAICHE calcul'!E$2,'SEMAINE PAIRE'!$A$15:$A$27,0),MATCH(OFFSET('Planning MAICHE calcul'!E$1,0,-COLUMN()+2),'SEMAINE PAIRE'!$B$13,0))=$A11,INDEX('SEMAINE PAIRE'!$B$15:$F$27,MATCH('Planning MAICHE calcul'!E$2,'SEMAINE PAIRE'!$A$15:$A$27,0)+1,MATCH(OFFSET('Planning MAICHE calcul'!E$1,0,-COLUMN()+2),'SEMAINE PAIRE'!$B$13,0))=""), "Cui","")} | F11: {=IF(AND(INDEX('SEMAINE PAIRE'!$B$15:$F$27,MATCH('Planning MAICHE calcul'!F$2,'SEMAINE PAIRE'!$A$15:$A$27,0),MATCH(OFFSET('Planning MAICHE calcul'!F$1,0,-COLUMN()+2),'SEMAINE PAIRE'!$B$13,0))=$A11,INDEX('SEMAINE PAIRE'!$B$15:$F$27,MATCH('Planning MAICHE calcul'!F$2,'SEMAINE PAIRE'!$A$15:$A$27,0)+1,MATCH(OFFSET('Planning MAICHE calcul'!F$1,0,-COLUMN()+2),'SEMAINE PAIRE'!$B$13,0))=""), "S1","")} | G11: {=IF(AND(INDEX('SEMAINE PAIRE'!$B$15:$F$27,MATCH('Planning MAICHE calcul'!G$2,'SEMAINE PAIRE'!$A$15:$A$27,0),MATCH(OFFSET('Planning MAICHE calcul'!G$1,0,-COLUMN()+2),'SEMAINE PAIRE'!$B$13,0))=$A11,INDEX('SEMAINE PAIRE'!$B$15:$F$27,MATCH('Planning MAICHE calcul'!G$2,'SEMAINE PAIRE'!$A$15:$A$27,0)+1,MATCH(OFFSET('Planning MAICHE calcul'!G$1,0,-COLUMN()+2),'SEMAINE PAIRE'!$B$13,0))=""), "S2","")} | H11: {=IF(AND(INDEX('SEMAINE PAIRE'!$B$15:$F$27,MATCH('Planning MAICHE calcul'!H$2,'SEMAINE PAIRE'!$A$15:$A$27,0),MATCH(OFFSET('Planning MAICHE calcul'!H$1,0,-COLUMN()+2),'SEMAINE PAIRE'!$B$13,0))=$A11,INDEX('SEMAINE PAIRE'!$B$15:$F$27,MATCH('Planning MAICHE calcul'!H$2,'SEMAINE PAIRE'!$A$15:$A$27,0)+1,MATCH(OFFSET('Planning MAICHE calcul'!H$1,0,-COLUMN()+2),'SEMAINE PAIRE'!$B$13,0))=""), "R.Ext","")} | I11: 0.57291667 | J11: 0.6875 | K11: {=IF(AND(INDEX('SEMAINE PAIRE'!$B$15:$F$27,MATCH('Planning MAICHE calcul'!K$2,'SEMAINE PAIRE'!$A$15:$A$27,0),MATCH(OFFSET('Planning MAICHE calcul'!K$1,0,-COLUMN()+2),'SEMAINE PAIRE'!$B$13,0))=$A11,INDEX('SEMAINE PAIRE'!$B$15:$F$27,MATCH('Planning MAICHE calcul'!K$2,'SEMAINE PAIRE'!$A$15:$A$27,0)+1,MATCH(OFFSET('Planning MAICHE calcul'!K$1,0,-COLUMN()+2),'SEMAINE PAIRE'!$B$13,0))=""), "Fer","")} | M11: 0.35416667 | N11: 0.53125 | S11: 0.57291667 | T11: 0.6875 | W11: 0.35416667 | X11: 0.375 | AG11: 0.35416667 | AH11: 0.53125 | AM11: 0.57291667 | AN11: 0.6875 | AQ11: 0.35416667 | AR11: 0.53125 | AW11: 0.57291667 | AX11: 0.6875 | BB11: =ROUND(AZ11-BA11,2) -> 0
A12: E F | B12: {=IF(AND(INDEX('SEMAINE PAIRE'!$B$15:$F$27,MATCH('Planning MAICHE calcul'!B$2,'SEMAINE PAIRE'!$A$15:$A$27,0),MATCH(OFFSET('Planning MAICHE calcul'!B$1,0,-COLUMN()+2),'SEMAINE PAIRE'!$B$13,0))=$A12,INDEX('SEMAINE PAIRE'!$B$15:$F$27,MATCH('Planning MAICHE calcul'!B$2,'SEMAINE PAIRE'!$A$15:$A$27,0)+1,MATCH(OFFSET('Planning MAICHE calcul'!B$1,0,-COLUMN()+2),'SEMAINE PAIRE'!$B$13,0))=""), "ouv","")} | C12: 0.35416667 | D12: 0.53125 | E12: {=IF(AND(INDEX('SEMAINE PAIRE'!$B$15:$F$27,MATCH('Planning MAICHE calcul'!E$2,'SEMAINE PAIRE'!$A$15:$A$27,0),MATCH(OFFSET('Planning MAICHE calcul'!E$1,0,-COLUMN()+2),'SEMAINE PAIRE'!$B$13,0))=$A12,INDEX('SEMAINE PAIRE'!$B$15:$F$27,MATCH('Planning MAICHE calcul'!E$2,'SEMAINE PAIRE'!$A$15:$A$27,0)+1,MATCH(OFFSET('Planning MAICHE calcul'!E$1,0,-COLUMN()+2),'SEMAINE PAIRE'!$B$13,0))=""), "Cui","")} | F12: {=IF(AND(INDEX('SEMAINE PAIRE'!$B$15:$F$27,MATCH('Planning MAICHE calcul'!F$2,'SEMAINE PAIRE'!$A$15:$A$27,0),MATCH(OFFSET('Planning MAICHE calcul'!F$1,0,-COLUMN()+2),'SEMAINE PAIRE'!$B$13,0))=$A12,INDEX('SEMAINE PAIRE'!$B$15:$F$27,MATCH('Planning MAICHE calcul'!F$2,'SEMAINE PAIRE'!$A$15:$A$27,0)+1,MATCH(OFFSET('Planning MAICHE calcul'!F$1,0,-COLUMN()+2),'SEMAINE PAIRE'!$B$13,0))=""), "S1","")} | G12: {=IF(AND(INDEX('SEMAINE PAIRE'!$B$15:$F$27,MATCH('Planning MAICHE calcul'!G$2,'SEMAINE PAIRE'!$A$15:$A$27,0),MATCH(OFFSET('Planning MAICHE calcul'!G$1,0,-COLUMN()+2),'SEMAINE PAIRE'!$B$13,0))=$A12,INDEX('SEMAINE PAIRE'!$B$15:$F$27,MATCH('Planning MAICHE calcul'!G$2,'SEMAINE PAIRE'!$A$15:$A$27,0)+1,MATCH(OFFSET('Planning MAICHE calcul'!G$1,0,-COLUMN()+2),'SEMAINE PAIRE'!$B$13,0))=""), "S2","")} | H12: {=IF(AND(INDEX('SEMAINE PAIRE'!$B$15:$F$27,MATCH('Planning MAICHE calcul'!H$2,'SEMAINE PAIRE'!$A$15:$A$27,0),MATCH(OFFSET('Planning MAICHE calcul'!H$1,0,-COLUMN()+2),'SEMAINE PAIRE'!$B$13,0))=$A12,INDEX('SEMAINE PAIRE'!$B$15:$F$27,MATCH('Planning MAICHE calcul'!H$2,'SEMAINE PAIRE'!$A$15:$A$27,0)+1,MATCH(OFFSET('Planning MAICHE calcul'!H$1,0,-COLUMN()+2),'SEMAINE PAIRE'!$B$13,0))=""), "R.Ext","")} | I12: 0.57291667 | J12: 0.6875 | K12: {=IF(AND(INDEX('SEMAINE PAIRE'!$B$15:$F$27,MATCH('Planning MAICHE calcul'!K$2,'SEMAINE PAIRE'!$A$15:$A$27,0),MATCH(OFFSET('Planning MAICHE calcul'!K$1,0,-COLUMN()+2),'SEMAINE PAIRE'!$B$13,0))=$A12,INDEX('SEMAINE PAIRE'!$B$15:$F$27,MATCH('Planning MAICHE calcul'!K$2,'SEMAINE PAIRE'!$A$15:$A$27,0)+1,MATCH(OFFSET('Planning MAICHE calcul'!K$1,0,-COLUMN()+2),'SEMAINE PAIRE'!$B$13,0))=""), "Fer","")} | M12: 0.35416667 | N12: 0.53125 | S12: 0.57291667 | T12: 0.6875 | W12: 0.35416667 | X12: 0.53125 | AC12: 0.57291667 | AD12: 0.6875 | AG12: 0.35416667 | AH12: 0.53125 | AM12: 0.57291667 | AN12: 0.6875 | AQ12: 0.35416667 | AR12: 0.53125 | AW12: 0.57291667 | AX12: 0.6875 | BB12: =ROUND(AZ12-BA12,2) -> 0
A13: M S | B13: {=IF(AND(INDEX('SEMAINE PAIRE'!$B$15:$F$27,MATCH('Planning MAICHE calcul'!B$2,'SEMAINE PAIRE'!$A$15:$A$27,0),MATCH(OFFSET('Planning MAICHE calcul'!B$1,0,-COLUMN()+2),'SEMAINE PAIRE'!$B$13,0))=$A13,INDEX('SEMAINE PAIRE'!$B$15:$F$27,MATCH('Planning MAICHE calcul'!B$2,'SEMAINE PAIRE'!$A$15:$A$27,0)+1,MATCH(OFFSET('Planning MAICHE calcul'!B$1,0,-COLUMN()+2),'SEMAINE PAIRE'!$B$13,0))=""), "ouv","")} | C13: 0.35416667 | D13: 0.53125 | E13: {=IF(AND(INDEX('SEMAINE PAIRE'!$B$15:$F$27,MATCH('Planning MAICHE calcul'!E$2,'SEMAINE PAIRE'!$A$15:$A$27,0),MATCH(OFFSET('Planning MAICHE calcul'!E$1,0,-COLUMN()+2),'SEMAINE PAIRE'!$B$13,0))=$A13,INDEX('SEMAINE PAIRE'!$B$15:$F$27,MATCH('Planning MAICHE calcul'!E$2,'SEMAINE PAIRE'!$A$15:$A$27,0)+1,MATCH(OFFSET('Planning MAICHE calcul'!E$1,0,-COLUMN()+2),'SEMAINE PAIRE'!$B$13,0))=""), "Cui","")} | F13: {=IF(AND(INDEX('SEMAINE PAIRE'!$B$15:$F$27,MATCH('Planning MAICHE calcul'!F$2,'SEMAINE PAIRE'!$A$15:$A$27,0),MATCH(OFFSET('Planning MAICHE calcul'!F$1,0,-COLUMN()+2),'SEMAINE PAIRE'!$B$13,0))=$A13,INDEX('SEMAINE PAIRE'!$B$15:$F$27,MATCH('Planning MAICHE calcul'!F$2,'SEMAINE PAIRE'!$A$15:$A$27,0)+1,MATCH(OFFSET('Planning MAICHE calcul'!F$1,0,-COLUMN()+2),'SEMAINE PAIRE'!$B$13,0))=""), "S1","")} | G13: {=IF(AND(INDEX('SEMAINE PAIRE'!$B$15:$F$27,MATCH('Planning MAICHE calcul'!G$2,'SEMAINE PAIRE'!$A$15:$A$27,0),MATCH(OFFSET('Planning MAICHE calcul'!G$1,0,-COLUMN()+2),'SEMAINE PAIRE'!$B$13,0))=$A13,INDEX('SEMAINE PAIRE'!$B$15:$F$27,MATCH('Planning MAICHE calcul'!G$2,'SEMAINE PAIRE'!$A$15:$A$27,0)+1,MATCH(OFFSET('Planning MAICHE calcul'!G$1,0,-COLUMN()+2),'SEMAINE PAIRE'!$B$13,0))=""), "S2","")} | H13: {=IF(AND(INDEX('SEMAINE PAIRE'!$B$15:$F$27,MATCH('Planning MAICHE calcul'!H$2,'SEMAINE PAIRE'!$A$15:$A$27,0),MATCH(OFFSET('Planning MAICHE calcul'!H$1,0,-COLUMN()+2),'SEMAINE PAIRE'!$B$13,0))=$A13,INDEX('SEMAINE PAIRE'!$B$15:$F$27,MATCH('Planning MAICHE calcul'!H$2,'SEMAINE PAIRE'!$A$15:$A$27,0)+1,MATCH(OFFSET('Planning MAICHE calcul'!H$1,0,-COLUMN()+2),'SEMAINE PAIRE'!$B$13,0))=""), "R.Ext","")} | I13: 0.57291667 | J13: 0.6875 | K13: {=IF(AND(INDEX('SEMAINE PAIRE'!$B$15:$F$27,MATCH('Planning MAICHE calcul'!K$2,'SEMAINE PAIRE'!$A$15:$A$27,0),MATCH(OFFSET('Planning MAICHE calcul'!K$1,0,-COLUMN()+2),'SEMAINE PAIRE'!$B$13,0))=$A13,INDEX('SEMAINE PAIRE'!$B$15:$F$27,MATCH('Planning MAICHE calcul'!K$2,'SEMAINE PAIRE'!$A$15:$A$27,0)+1,MATCH(OFFSET('Planning MAICHE calcul'!K$1,0,-COLUMN()+2),'SEMAINE PAIRE'!$B$13,0))=""), "Fer","")} | M13: 0.35416667 | N13: 0.53125 | S13: 0.57291667 | T13: 0.6875 | W13: 0.35416667 | X13: 0.53125 | AC13: 0.57291667 | AD13: 0.6875 | AG13: 0.35416667 | AH13: 0.53125 | AM13: 0.57291667 | AN13: 0.6875 | AQ13: 0.35416667 | AR13: 0.53125 | AW13: 0.57291667 | AX13: 0.6875
A14: C H | B14: {=IF(AND(INDEX('SEMAINE PAIRE'!$B$15:$F$27,MATCH('Planning MAICHE calcul'!B$2,'SEMAINE PAIRE'!$A$15:$A$27,0),MATCH(OFFSET('Planning MAICHE calcul'!B$1,0,-COLUMN()+2),'SEMAINE PAIRE'!$B$13,0))=$A14,INDEX('SEMAINE PAIRE'!$B$15:$F$27,MATCH('Planning MAICHE calcul'!B$2,'SEMAINE PAIRE'!$A$15:$A$27,0)+1,MATCH(OFFSET('Planning MAICHE calcul'!B$1,0,-COLUMN()+2),'SEMAINE PAIRE'!$B$13,0))=""), "ouv","")} -> ouv | C14: 0.35416667 | D14: 0.53125 | E14: {=IF(AND(INDEX('SEMAINE PAIRE'!$B$15:$F$27,MATCH('Planning MAICHE calcul'!E$2,'SEMAINE PAIRE'!$A$15:$A$27,0),MATCH(OFFSET('Planning MAICHE calcul'!E$1,0,-COLUMN()+2),'SEMAINE PAIRE'!$B$13,0))=$A14,INDEX('SEMAINE PAIRE'!$B$15:$F$27,MATCH('Planning MAICHE calcul'!E$2,'SEMAINE PAIRE'!$A$15:$A$27,0)+1,MATCH(OFFSET('Planning MAICHE calcul'!E$1,0,-COLUMN()+2),'SEMAINE PAIRE'!$B$13,0))=""), "Cui","")} | F14: {=IF(AND(INDEX('SEMAINE PAIRE'!$B$15:$F$27,MATCH('Planning MAICHE calcul'!F$2,'SEMAINE PAIRE'!$A$15:$A$27,0),MATCH(OFFSET('Planning MAICHE calcul'!F$1,0,-COLUMN()+2),'SEMAINE PAIRE'!$B$13,0))=$A14,INDEX('SEMAINE PAIRE'!$B$15:$F$27,MATCH('Planning MAICHE calcul'!F$2,'SEMAINE PAIRE'!$A$15:$A$27,0)+1,MATCH(OFFSET('Planning MAICHE calcul'!F$1,0,-COLUMN()+2),'SEMAINE PAIRE'!$B$13,0))=""), "S1","")} | G14: {=IF(AND(INDEX('SEMAINE PAIRE'!$B$15:$F$27,MATCH('Planning MAICHE calcul'!G$2,'SEMAINE PAIRE'!$A$15:$A$27,0),MATCH(OFFSET('Planning MAICHE calcul'!G$1,0,-COLUMN()+2),'SEMAINE PAIRE'!$B$13,0))=$A14,INDEX('SEMAINE PAIRE'!$B$15:$F$27,MATCH('Planning MAICHE calcul'!G$2,'SEMAINE PAIRE'!$A$15:$A$27,0)+1,MATCH(OFFSET('Planning MAICHE calcul'!G$1,0,-COLUMN()+2),'SEMAINE PAIRE'!$B$13,0))=""), "S2","")} | H14: {=IF(AND(INDEX('SEMAINE PAIRE'!$B$15:$F$27,MATCH('Planning MAICHE calcul'!H$2,'SEMAINE PAIRE'!$A$15:$A$27,0),MATCH(OFFSET('Planning MAICHE calcul'!H$1,0,-COLUMN()+2),'SEMAINE PAIRE'!$B$13,0))=$A14,INDEX('SEMAINE PAIRE'!$B$15:$F$27,MATCH('Planning MAICHE calcul'!H$2,'SEMAINE PAIRE'!$A$15:$A$27,0)+1,MATCH(OFFSET('Planning MAICHE calcul'!H$1,0,-COLUMN()+2),'SEMAINE PAIRE'!$B$13,0))=""), "R.Ext","")} | I14: 0.57291667 | J14: 0.6875 | K14: {=IF(AND(INDEX('SEMAINE PAIRE'!$B$15:$F$27,MATCH('Planning MAICHE calcul'!K$2,'SEMAINE PAIRE'!$A$15:$A$27,0),MATCH(OFFSET('Planning MAICHE calcul'!K$1,0,-COLUMN()+2),'SEMAINE PAIRE'!$B$13,0))=$A14,INDEX('SEMAINE PAIRE'!$B$15:$F$27,MATCH('Planning MAICHE calcul'!K$2,'SEMAINE PAIRE'!$A$15:$A$27,0)+1,MATCH(OFFSET('Planning MAICHE calcul'!K$1,0,-COLUMN()+2),'SEMAINE PAIRE'!$B$13,0))=""), "Fer","")} | M14: 0.35416667 | N14: 0.53125 | S14: 0.57291667 | T14: 0.6875 | W14: 0.35416667 | X14: 0.53125 | AC14: 0.57291667 | AD14: 0.6875 | AG14: 0.35416667 | AH14: 0.53125 | AM14: 0.57291667 | AN14: 0.6875 | AQ14: 0.35416667 | AR14: 0.53125 | AW14: 0.57291667 | AX14: 0.6875 | BB14: =ROUND(AZ14-BA14,2) -> 0
A15: H G | B15: {=IF(AND(INDEX('SEMAINE PAIRE'!$B$15:$F$27,MATCH('Planning MAICHE calcul'!B$2,'SEMAINE PAIRE'!$A$15:$A$27,0),MATCH(OFFSET('Planning MAICHE calcul'!B$1,0,-COLUMN()+2),'SEMAINE PAIRE'!$B$13,0))=$A15,INDEX('SEMAINE PAIRE'!$B$15:$F$27,MATCH('Planning MAICHE calcul'!B$2,'SEMAINE PAIRE'!$A$15:$A$27,0)+1,MATCH(OFFSET('Planning MAICHE calcul'!B$1,0,-COLUMN()+2),'SEMAINE PAIRE'!$B$13,0))=""), "ouv","")} | C15: 0.32291667 | D15: 0.5 | E15: {=IF(AND(INDEX('SEMAINE PAIRE'!$B$15:$F$27,MATCH('Planning MAICHE calcul'!E$2,'SEMAINE PAIRE'!$A$15:$A$27,0),MATCH(OFFSET('Planning MAICHE calcul'!E$1,0,-COLUMN()+2),'SEMAINE PAIRE'!$B$13,0))=$A15,INDEX('SEMAINE PAIRE'!$B$15:$F$27,MATCH('Planning MAICHE calcul'!E$2,'SEMAINE PAIRE'!$A$15:$A$27,0)+1,MATCH(OFFSET('Planning MAICHE calcul'!E$1,0,-COLUMN()+2),'SEMAINE PAIRE'!$B$13,0))=""), "Cui","")} | F15: {=IF(AND(INDEX('SEMAINE PAIRE'!$B$15:$F$27,MATCH('Planning MAICHE calcul'!F$2,'SEMAINE PAIRE'!$A$15:$A$27,0),MATCH(OFFSET('Planning MAICHE calcul'!F$1,0,-COLUMN()+2),'SEMAINE PAIRE'!$B$13,0))=$A15,INDEX('SEMAINE PAIRE'!$B$15:$F$27,MATCH('Planning MAICHE calcul'!F$2,'SEMAINE PAIRE'!$A$15:$A$27,0)+1,MATCH(OFFSET('Planning MAICHE calcul'!F$1,0,-COLUMN()+2),'SEMAINE PAIRE'!$B$13,0))=""), "S1","")} | G15: {=IF(AND(INDEX('SEMAINE PAIRE'!$B$15:$F$27,MATCH('Planning MAICHE calcul'!G$2,'SEMAINE PAIRE'!$A$15:$A$27,0),MATCH(OFFSET('Planning MAICHE calcul'!G$1,0,-COLUMN()+2),'SEMAINE PAIRE'!$B$13,0))=$A15,INDEX('SEMAINE PAIRE'!$B$15:$F$27,MATCH('Planning MAICHE calcul'!G$2,'SEMAINE PAIRE'!$A$15:$A$27,0)+1,MATCH(OFFSET('Planning MAICHE calcul'!G$1,0,-COLUMN()+2),'SEMAINE PAIRE'!$B$13,0))=""), "S2","")} | H15: {=IF(AND(INDEX('SEMAINE PAIRE'!$B$15:$F$27,MATCH('Planning MAICHE calcul'!H$2,'SEMAINE PAIRE'!$A$15:$A$27,0),MATCH(OFFSET('Planning MAICHE calcul'!H$1,0,-COLUMN()+2),'SEMAINE PAIRE'!$B$13,0))=$A15,INDEX('SEMAINE PAIRE'!$B$15:$F$27,MATCH('Planning MAICHE calcul'!H$2,'SEMAINE PAIRE'!$A$15:$A$27,0)+1,MATCH(OFFSET('Planning MAICHE calcul'!H$1,0,-COLUMN()+2),'SEMAINE PAIRE'!$B$13,0))=""), "R.Ext","")} | I15: 0.55208333 | J15: 0.70833333 | K15: {=IF(AND(INDEX('SEMAINE PAIRE'!$B$15:$F$27,MATCH('Planning MAICHE calcul'!K$2,'SEMAINE PAIRE'!$A$15:$A$27,0),MATCH(OFFSET('Planning MAICHE calcul'!K$1,0,-COLUMN()+2),'SEMAINE PAIRE'!$B$13,0))=$A15,INDEX('SEMAINE PAIRE'!$B$15:$F$27,MATCH('Planning MAICHE calcul'!K$2,'SEMAINE PAIRE'!$A$15:$A$27,0)+1,MATCH(OFFSET('Planning MAICHE calcul'!K$1,0,-COLUMN()+2),'SEMAINE PAIRE'!$B$13,0))=""), "Fer","")} | M15: 0.32291667 | N15: 0.5 | S15: 0.55208333 | T15: 0.70833333 | W15: 0.32291667 | X15: 0.5 | AC15: 0.55208333 | AD15: 0.70833333 | AG15: 0.32291667 | AH15: 0.5 | AM15: 0.55208333 | AN15: 0.70833333 | AQ15: 0.32291667 | AR15: 0.44791667 | BB15: =ROUND(AZ15-BA15,2) -> 0
A16: W. E | B16: {=IF(AND(INDEX('SEMAINE PAIRE'!$B$15:$F$27,MATCH('Planning MAICHE calcul'!B$2,'SEMAINE PAIRE'!$A$15:$A$27,0),MATCH(OFFSET('Planning MAICHE calcul'!B$1,0,-COLUMN()+2),'SEMAINE PAIRE'!$B$13,0))=$A16,INDEX('SEMAINE PAIRE'!$B$15:$F$27,MATCH('Planning MAICHE calcul'!B$2,'SEMAINE PAIRE'!$A$15:$A$27,0)+1,MATCH(OFFSET('Planning MAICHE calcul'!B$1,0,-COLUMN()+2),'SEMAINE PAIRE'!$B$13,0))=""), "ouv","")} | C16: 0.35416667 | D16: 0.47916667 | E16: {=IF(AND(INDEX('SEMAINE PAIRE'!$B$15:$F$27,MATCH('Planning MAICHE calcul'!E$2,'SEMAINE PAIRE'!$A$15:$A$27,0),MATCH(OFFSET('Planning MAICHE calcul'!E$1,0,-COLUMN()+2),'SEMAINE PAIRE'!$B$13,0))=$A16,INDEX('SEMAINE PAIRE'!$B$15:$F$27,MATCH('Planning MAICHE calcul'!E$2,'SEMAINE PAIRE'!$A$15:$A$27,0)+1,MATCH(OFFSET('Planning MAICHE calcul'!E$1,0,-COLUMN()+2),'SEMAINE PAIRE'!$B$13,0))=""), "Cui","")} | F16: {=IF(AND(INDEX('SEMAINE PAIRE'!$B$15:$F$27,MATCH('Planning MAICHE calcul'!F$2,'SEMAINE PAIRE'!$A$15:$A$27,0),MATCH(OFFSET('Planning MAICHE calcul'!F$1,0,-COLUMN()+2),'SEMAINE PAIRE'!$B$13,0))=$A16,INDEX('SEMAINE PAIRE'!$B$15:$F$27,MATCH('Planning MAICHE calcul'!F$2,'SEMAINE PAIRE'!$A$15:$A$27,0)+1,MATCH(OFFSET('Planning MAICHE calcul'!F$1,0,-COLUMN()+2),'SEMAINE PAIRE'!$B$13,0))=""), "S1","")} | G16: {=IF(AND(INDEX('SEMAINE PAIRE'!$B$15:$F$27,MATCH('Planning MAICHE calcul'!G$2,'SEMAINE PAIRE'!$A$15:$A$27,0),MATCH(OFFSET('Planning MAICHE calcul'!G$1,0,-COLUMN()+2),'SEMAINE PAIRE'!$B$13,0))=$A16,INDEX('SEMAINE PAIRE'!$B$15:$F$27,MATCH('Planning MAICHE calcul'!G$2,'SEMAINE PAIRE'!$A$15:$A$27,0)+1,MATCH(OFFSET('Planning MAICHE calcul'!G$1,0,-COLUMN()+2),'SEMAINE PAIRE'!$B$13,0))=""), "S2","")} | H16: {=IF(AND(INDEX('SEMAINE PAIRE'!$B$15:$F$27,MATCH('Planning MAICHE calcul'!H$2,'SEMAINE PAIRE'!$A$15:$A$27,0),MATCH(OFFSET('Planning MAICHE calcul'!H$1,0,-COLUMN()+2),'SEMAINE PAIRE'!$B$13,0))=$A16,INDEX('SEMAINE PAIRE'!$B$15:$F$27,MATCH('Planning MAICHE calcul'!H$2,'SEMAINE PAIRE'!$A$15:$A$27,0)+1,MATCH(OFFSET('Planning MAICHE calcul'!H$1,0,-COLUMN()+2),'SEMAINE PAIRE'!$B$13,0))=""), "R.Ext","")} | I16: 0.52083333 | J16: 0.6875 | K16: {=IF(AND(INDEX('SEMAINE PAIRE'!$B$15:$F$27,MATCH('Planning MAICHE calcul'!K$2,'SEMAINE PAIRE'!$A$15:$A$27,0),MATCH(OFFSET('Planning MAICHE calcul'!K$1,0,-COLUMN()+2),'SEMAINE PAIRE'!$B$13,0))=$A16,INDEX('SEMAINE PAIRE'!$B$15:$F$27,MATCH('Planning MAICHE calcul'!K$2,'SEMAINE PAIRE'!$A$15:$A$27,0)+1,MATCH(OFFSET('Planning MAICHE calcul'!K$1,0,-COLUMN()+2),'SEMAINE PAIRE'!$B$13,0))=""), "Fer","")} | M16: 0.35416667 | N16: 0.47916667 | S16: 0.52083333 | T16: 0.6875 | W16: 0.35416667 | X16: 0.47916667 | AC16: 0.52083333 | AD16: 0.6875 | AG16: 0.35416667 | AH16: 0.47916667 | AM16: 0.52083333 | AN16: 0.6875 | AQ16: 0.35416667 | AR16: 0.47916667 | AW16: 0.52083333 | AX16: 0.6875 | BB16: =ROUND(AZ16-BA16,2) -> 0
BD18: =SUM(BD5:BD15) -> 0 | BG18: =SUM(BG5:BG15) -> 0
B19: o | C19: c | D19: s1 | E19: S2 | F19: f | G19: re
A20: Semaine paire | B20: Ouverture | C20: Cuisine | D20: Service 1 | E20: Service 2 | F20: Fermeture | G20: Repas extérieur :
A21: LUNDI | B21: =COUNTIF(B$4:B$15,B$19) -> 0 | C21: =COUNTIF(G$4:G$15,C$19) -> 0 | D21: =COUNTIF(G$4:G$15,D$19) -> 0 | E21: =COUNTIF(H$4:H$15,E$19) -> 0 | F21: =COUNTIF(I$4:I$15,F$19) -> 0 | G21: =COUNTIF(J$4:J$15,G$19) -> 0 | K21: Tps Ouverture matin : | P21: o | Q21: 0.5 | R21: h | S21: h
A22: MARDI | B22: =COUNTIF(L$4:L$15,B$19) -> 0 | C22: =COUNTIF(Q$4:Q$15,C$19) -> 0 | D22: =COUNTIF(Q$4:Q$15,D$19) -> 0 | E22: =COUNTIF(R$4:R$15,E$19) -> 0 | F22: =COUNTIF(S$4:S$15,F$19) -> 0 | G22: =COUNTIF(T$4:T$15,G$19) -> 0 | K22: Tps Fermeture soir : | P22: f | Q22: 0.25 | R22: h | S22: h
A23: MERCREDI | B23: =COUNTIF(V$4:V$15,B$19) -> 0 | C23: =COUNTIF(AA$4:AA$15,C$19) -> 0 | D23: =COUNTIF(AA$4:AA$15,D$19) -> 0 | E23: =COUNTIF(AB$4:AB$15,E$19) -> 0 | F23: =COUNTIF(AC$4:AC$15,F$19) -> 0 | G23: =COUNTIF(AD$4:AD$15,G$19) -> 0 | K23: Tps Cuisine : | P23: c | Q23: 1 | R23: h | S23: h
A24: JEUDI | B24: =COUNTIF(AF$4:AF$15,B$19) -> 0 | C24: =COUNTIF(AK$4:AK$15,C$19) -> 0 | D24: =COUNTIF(AK$4:AK$15,D$19) -> 0 | E24: =COUNTIF(AL$4:AL$15,E$19) -> 0 | F24: =COUNTIF(AM$4:AM$15,F$19) -> 0 | G24: =COUNTIF(AN$4:AN$15,G$19) -> 0 | K24: Tps Service 1 : | P24: s1 | Q24: 1 | R24: h | S24: h
A25: VENDREDI | B25: =COUNTIF(AP$4:AP$15,B$19) -> 0 | C25: =COUNTIF(AU$4:AU$15,C$19) -> 0 | D25: =COUNTIF(AU$4:AU$15,D$19) -> 0 | E25: =COUNTIF(AV$4:AV$15,E$19) -> 0 | F25: =COUNTIF(AW$4:AW$15,F$19) -> 0 | G25: =COUNTIF(AX$4:AX$15,G$19) -> 0 | K25: Tps Service 2 : | P25: s2 | Q25: 1 | R25: h | S25: h
K26: Repas extérieur : | P26: re | Q26: 1 | R26: h
B28: LUNDI | L28: MARDI | V28: MERCREDI | AF28: JEUDI | AP28: VENDREDI | AZ28: TOTAL SEMAINE | BA28: TEMPS THEO W | BB28: Vérif temps W | BC28: TPS SERVICE | BE28: Nb cui ou ext
A29: SEMAINE IMPAIRE | B29: ouverture | C29: MATIN | E29: Cuisine | F29: Service 1 | G29: Service 2 | H29: Repas Extérieur | I29: A-MIDI | K29: Fermeture | L29: ouverture | M29: MATIN | O29: Cuisine | P29: Service 1 | Q29: Service 2 | R29: Repas Extérieur | S29: A-MIDI | U29: Fermeture | V29: ouverture | W29: MATIN | Y29: Cuisine | Z29: Service 1 | AA29: Service 2 | AB29: Repas Extérieur | AC29: A-MIDI | AE29: Fermeture | AF29: ouverture | AG29: MATIN | AI29: Cuisine | AJ29: Service 1 | AK29: Service 2 | AL29: Repas Extérieur | AM29: A-MIDI | AO29: Fermeture | AP29: ouverture | AQ29: MATIN | AS29: Cuisine | AT29: Service 1 | AU29: Service 2 | AV29: Repas Extérieur | AW29: A-MIDI | AY29: Fermeture
C30: Début | D30: Fin | I30: Début | J30: Fin | M30: Début | N30: Fin | S30: Début | T30: Fin | W30: Début | X30: Fin | AC30: Début | AD30: Fin | AG30: Début | AH30: Fin | AM30: Début | AN30: Fin | AQ30: Début | AR30: Fin | AW30: Début | AX30: Fin
A31: Infirmière | C31: 0.35416667 | D31: 0.47916667 | I31: 0.52083333 | J31: 0.6875 | M31: 0.35416667 | N31: 0.47916667 | S31: 0.52083333 | T31: 0.6875 | W31: 0.35416667 | X31: 0.47916667 | AC31: 0.52083333 | AD31: 0.6875 | AG31: 0.35416667 | AH31: 0.47916667 | AM31: 0.52083333 | AN31: 0.6875 | AQ31: 0.35416667 | AR31: 0.47916667 | AW31: 0.52083333 | AX31: 0.6875
A32: A I | C32: 0.35416667 | D32: 0.47916667 | I32: 0.52083333 | J32: 0.6875 | M32: 0.35416667 | N32: 0.47916667 | S32: 0.52083333 | T32: 0.6875 | W32: 0.35416667 | X32: 0.47916667 | AC32: 0.52083333 | AD32: 0.6875 | AG32: 0.35416667 | AH32: 0.47916667 | AM32: 0.52083333 | AN32: 0.63541667 | AQ32: 0.35416667 | AR32: 0.47916667 | AW32: 0.52083333 | AX32: 0.6875 | BE32: =COUNTIF(B32:AY32,"cui")+COUNTIF(B32:AY32,"ext") -> 0
A33: E A | C33: 0.35416667 | D33: 0.53125 | I33: 0.57291667 | J33: 0.6875 | M33: 0.35416667 | N33: 0.53125 | S33: 0.57291667 | T33: 0.6875 | W33: 0.44791667 | X33: 0.53125 | AC33: 0.57291667 | AD33: 0.6875 | AG33: 0.35416667 | AH33: 0.53125 | AM33: 0.57291667 | AN33: 0.6875 | AQ33: 0.35416667 | AR33: 0.53125 | AW33: 0.57291667 | AX33: 0.6875 | BE33: =COUNTIF(B33:AY33,"cui")+COUNTIF(B33:AY33,"ext") -> 0
A34: J Q | C34: 0.35416667 | D34: 0.47916667 | I34: 0.52083333 | J34: 0.6875 | M34: 0.35416667 | N34: 0.47916667 | S34: 0.52083333 | T34: 0.58333333 | W34: 0.35416667 | X34: 0.47916667 | AC34: 0.52083333 | AD34: 0.6875 | AG34: 0.35416667 | AH34: 0.47916667 | AM34: 0.52083333 | AN34: 0.6875 | AQ34: 0.35416667 | AR34: 0.47916667 | AW34: 0.52083333 | AX34: 0.6875 | BE34: =COUNTIF(B34:AY34,"cui")+COUNTIF(B34:AY34,"ext") -> 0
A35: B F | C35: 0.35416667 | D35: 0.47916667 | I35: 0.52083333 | J35: 0.6875 | M35: 0.35416667 | N35: 0.47916667 | S35: 0.52083333 | T35: 0.6875 | W35: 0.35416667 | X35: 0.47916667 | AC35: 0.52083333 | AD35: 0.6875 | AM35: 0.48958333 | AN35: 0.6875 | AQ35: 0.35416667 | AR35: 0.47916667 | AW35: 0.52083333 | AX35: 0.6875 | BE35: =COUNTIF(B35:AY35,"cui")+COUNTIF(B35:AY35,"ext") -> 0
A36: J-C H | C36: 0.35416667 | D36: 0.53125 | I36: 0.57291667 | J36: 0.6875 | M36: 0.35416667 | N36: 0.53125 | S36: 0.57291667 | T36: 0.6875 | W36: 0.35416667 | X36: 0.53125 | AC36: 0.57291667 | AD36: 0.6875 | AG36: 0.35416667 | AH36: 0.53125 | AM36: 0.57291667 | AN36: 0.6875 | AQ36: 0.35416667 | AR36: 0.52083333 | BE36: =COUNTIF(B36:AY36,"cui")+COUNTIF(B36:AY36,"ext") -> 0
A37: V B | M37: 0.35416667 | N37: 0.53125 | S37: 0.57291667 | T37: 0.6875 | W37: 0.35416667 | X37: 0.53125 | AC37: 0.57291667 | AD37: 0.6875 | AQ37: 0.39583333 | AR37: 0.53125 | AW37: 0.57291667 | AX37: 0.6875 | BE37: =COUNTIF(B37:AY37,"cui")+COUNTIF(B37:AY37,"ext") -> 0
A38: P T | C38: 0.35416667 | D38: 0.53125 | I38: 0.57291667 | J38: 0.6875 | M38: 0.35416667 | N38: 0.53125 | S38: 0.57291667 | T38: 0.6875 | W38: 0.35416667 | X38: 0.45833333 | AG38: 0.35416667 | AH38: 0.53125 | AM38: 0.57291667 | AN38: 0.6875 | AQ38: 0.35416667 | AR38: 0.53125 | AW38: 0.57291667 | AX38: 0.6875 | BE38: =COUNTIF(B38:AY38,"cui")+COUNTIF(B38:AY38,"ext") -> 0
A39: E F | C39: 0.35416667 | D39: 0.53125 | I39: 0.57291667 | J39: 0.6875 | M39: 0.35416667 | N39: 0.53125 | S39: 0.57291667 | T39: 0.6875 | W39: 0.35416667 | X39: 0.53125 | AC39: 0.57291667 | AD39: 0.6875 | AG39: 0.35416667 | AH39: 0.53125 | AM39: 0.57291667 | AN39: 0.6875 | AQ39: 0.35416667 | AR39: 0.53125 | AW39: 0.57291667 | AX39: 0.6875 | BE39: =COUNTIF(B39:AY39,"cui")+COUNTIF(B39:AY39,"ext") -> 0
A40: M S | BE40: =COUNTIF(B40:AY40,"cui")+COUNTIF(B40:AY40,"ext") -> 0
A41: C H | C41: 0.35416667 | D41: 0.53125 | I41: 0.57291667 | J41: 0.6875 | M41: 0.35416667 | N41: 0.53125 | S41: 0.57291667 | T41: 0.6875 | W41: 0.35416667 | X41: 0.53125 | AC41: 0.57291667 | AD41: 0.6875 | AG41: 0.35416667 | AH41: 0.53125 | AM41: 0.57291667 | AN41: 0.6875 | AQ41: 0.35416667 | AR41: 0.53125 | AW41: 0.57291667 | AX41: 0.64583333 | BE41: =COUNTIF(B41:AY41,"cui")+COUNTIF(B41:AY41,"ext") -> 0
A42: H G | C42: 0.32291667 | D42: 0.5 | I42: 0.55208333 | J42: 0.70833333 | M42: 0.32291667 | N42: 0.5 | S42: 0.55208333 | T42: 0.70833333 | W42: 0.32291667 | X42: 0.5 | AC42: 0.55208333 | AD42: 0.70833333 | AG42: 0.32291667 | AH42: 0.5 | AM42: 0.55208333 | AN42: 0.70833333 | AQ42: 0.32291667 | AR42: 0.44791667 | BE42: =COUNTIF(B42:AY42,"cui")+COUNTIF(B42:AY42,"ext") -> 0
...

Sheet SEMAINE PAIRE
A1: Semaine | B1: =_xlfn.ISOWEEKNUM(_Date_Debut_SP) -> 14 | C1: Du | D1: 44655 | E1: au | F1: =D1+4 -> 44659
A3: A I | B3: B F | C3: C H | D3: E A | E3: J-C H | F3: J Q
A4: ='Planning MAICHE calcul'!AN5 -> 0.61458333 | B4: ='Planning MAICHE calcul'!AM8 -> 0.51041667 | D4: ='Planning MAICHE calcul'!AD6 -> 0.60416667 | E4: ='Planning MAICHE calcul'!W9 -> 0.4375 | F4: ='Planning MAICHE calcul'!AN7 -> 0.60416667 | G4: Départ/Arrivée
A5: ='Suivi remplacement'!H2 -> 0.16666667 | B5: ='Suivi remplacement'!E2 -> 0.0625 | C5: ='Suivi remplacement'!G2 -> 0.30208333 | D5: ='Suivi remplacement'!C2 -> 0.32291667 | E5: ='Suivi remplacement'!F2 -> 0 | F5: ='Suivi remplacement'!I2 -> 0.33333333 | G5: H remplacement
A7: P T | B7: V B | C7: W. E | D7: M S | E7: E F
A8: ='Planning MAICHE calcul'!X11 -> 0.375 | G8: Départ/Arrivée
A9: ='Suivi remplacement'!K2 -> 0.083333333 | B9: ='Suivi remplacement'!D2 -> 0.083333333 | C9: ='Suivi remplacement'!L2 -> 0 | D9: ='Suivi remplacement'!J2 -> 0.25 | E9: ='Suivi remplacement'!B2 -> 0.041666667 | G9: H remplacement
A11: Divers
A12: Réser. Véhicule | B12: Angelo Trafic Bleu | C12: Angelo Trafic Bleu | D12: Angelo Trafic Bleu | E12: Angelo Trafic Bleu | F12: Angelo Trafic Bleu
B13: LUNDI | C13: MARDI | D13: MERCREDI | E13: JEUDI | F13: VENDREDI
B14: =D1 -> 44655 | C14: =B14+1 -> 44656 | D14: =C14+1 -> 44657 | E14: =D14+1 -> 44658 | F14: =E14+1 -> 44659
A15: Ouverture | B15: C H | C15: Infirmière | D15: A I | E15: A I | F15: P T
A16: Remplacée | F16: C H
A17: Cuisine | B17: B F | C17: V B | D17: B F | E17: V B | F17: J-C H
A18: Remplacée
A19: Service 1 | B19: Infirmière | C19: M S | D19: J Q | E19: J Q | F19: M S
A20: Remplacée | B20: J-C H
A21: Service 2 | B21: A I | C21: E A | D21: J-C H | E21: P T | F21: P T
A22: Remplacée | F22: C H
A23: Fermeture | B23: A I | C23: B F | D23: M S | E23: B F | F23: B F
A24: Remplacée
A25: Repas EXT
A26: Repas EXT
A27: Repas EXT
A28: Congés | E28: Absence/Formation | I28: Absence/Global
A29: Date | B29: Prénom NOM | C29: Motif | E29: Date | F29: Nom | G29: Horaires | I29: Date | J29: Prénom NOM | K29: Motif

Sheet SEMAINE IMPAIRE
A1: Semaine | B1: =_xlfn.ISOWEEKNUM(_Date_Debut_SI) -> 13 | C1: Du | D1: 44648 | E1: au | F1: =D1+4 -> 44652
A3: A I | B3: B F | C3: C H | D3: E A | E3: J-C H | F3: J Q
A4: ='Planning MAICHE calcul'!AN32 -> 0.63541667 | B4: ='Planning MAICHE calcul'!AM35 -> 0.48958333 | C4: ='Planning MAICHE calcul'!AX41 -> 0.64583333 | D4: ='Planning MAICHE calcul'!W33 -> 0.44791667 | E4: ='Planning MAICHE calcul'!AR36 -> 0.52083333 | F4: ='Planning MAICHE calcul'!T34 -> 0.58333333 | G4: Départ/Arrivée
A5: ='Suivi remplacement'!H2 -> 0.16666667 | B5: ='Suivi remplacement'!E2 -> 0.0625 | C5: ='Suivi remplacement'!G2 -> 0.30208333 | D5: ='Suivi remplacement'!C2 -> 0.32291667 | E5: ='Suivi remplacement'!F2 -> 0 | F5: ='Suivi remplacement'!I2 -> 0.33333333 | G5: H remplacement
A6: P T | B6: V B | C6: W. E | D6: M S | E6: E F
A7: ='Planning MAICHE calcul'!X38 -> 0.45833333 | B7: ='Planning MAICHE calcul'!AQ37 -> 0.39583333 | G7: Départ/Arrivée
A8: ='Suivi remplacement'!K2 -> 0.083333333 | B8: ='Suivi remplacement'!D2 -> 0.083333333 | C8: ='Suivi remplacement'!L2 -> 0 | D8: ='Suivi remplacement'!J2 -> 0.25 | E8: ='Suivi remplacement'!B2 -> 0.041666667 | G8: H remplacement
A10: Divers | C10: Analyse de la situation 16h30 /18h00 | D10: ABS : Claude | E10: ABS : Angelo | F10: ABS : Jean .C
A11: Réser. Véhicule | B11: Angelo Trafic Bleu | C11: Angelo 208 | D11: Angelo Trafic Bleu | E11: Angelo Trafic Bleu | F11: Angelo Trafic Bleu
B12: LUNDI | C12: MARDI | D12: MERCREDI | E12: JEUDI | F12: VENDREDI
B13: =D1 -> 44648 | C13: =B13+1 -> 44649 | D13: =C13+1 -> 44650 | E13: =D13+1 -> 44651 | F13: =E13+1 -> 44652
A14: Ouverture | B14: J Q | C14: M S | D14: A I | E14: M S | F14: M S
A15: Remplacée
A16: Cuisine | B16: B F | C16: V B | D16: B F | E16: J-C H | F16: V B
A17: Remplacée
A18: Service 1 | C18: M S | D18: E A | E18: J Q | F18: J Q
A19: Remplacée | B19: J Q
A20: Service 2 | B20: J-C H | C20: E A | D20: J-C H | F20: C H
A21: Remplacée | E21: E A
A22: Fermeture | B22: A I | C22: A I | D22: E A | E22: B F | F22: A I
A23: Remplacée
A24: Repas EXT
A25: Repas EXT
A26: Repas EXT
A27: Congés | E27: Absence/Formation | I27: Absence/Global
A28: Date | B28: Prénom NOM | C28: Motif | E28: Date | F28: Nom | G28: Horaires | I28: Date | J28: Prénom NOM | K28: Motif
E29: 44650 | F29: HAUTEVELLE C. | G29: 08:30 16:30 | I29: 44650 | J29: HAUTEVELLE C. | K29: Formation
E30: 44652 | F30: HANSER J-C | G30: 5 H Voir planning car 4H | I30: 44652 | J30: HANSER J-C | K30: Formation

Sheet SUIVI CONGES
T1: CONGES PAYES | U1: CP | Z1: SUPRA | AA1: SUP | AQ1: FERIE | AR1: F | BR1: CONGES PAYES | BS1: C | BX1: SUPRA | BY1: SU | CG1: RECUP d' H.Sup | CO1: FERIE | CP1: F | EA1: CONGES PAYES | EB1: C | EG1: SUPRA | EH1: SU | EP1: RECUP d' H.Sup | EX1: FERIE | EY1: F | GC1: CONGES PAYES | GD1: C | GI1: SUPRA | GJ1: SU | GR1: RECUP d' H.Sup | GZ1: FERIE | HA1: F | HX1: CONGES PAYES | HY1: C | ID1: SUPRA | IE1: SU | IM1: RECUP d' H.Sup | IU1: FERIE | IV1: F | KM1: CONGES PAYES | KN1: C | KS1: SUPRA | KT1: SU | LB1: RECUP d' H.Sup | LJ1: FERIE | LK1: F | MP1: CONGES PAYES | MQ1: C | MV1: SUPRA | MW1: SU | NE1: RECUP d' H.Sup | NM1: FERIE | NN1: F
T2: C ANCIENNETE | U2: CA | AA2: / | AI2: ABS cause MALADIE | AJ2: Abs | BR2: C ANCIENNETE | BS2: CA | BY2: / | CG2: ABS cause MALADIE | CH2: Ab | EA2: C ANCIENNETE | EB2: CA | EH2: / | EP2: ABS cause MALADIE | EQ2: Ab | GC2: C ANCIENNETE | GD2: CA | GJ2: / | GR2: ABS cause MALADIE | GS2: Ab | HX2: C ANCIENNETE | HY2: CA | IE2: / | IM2: ABS cause MALADIE | IN2: Ab | KM2: C ANCIENNETE | KN2: CA | KT2: / | LB2: ABS cause MALADIE | LC2: Ab | MP2: C ANCIENNETE | MQ2: CA | MW2: / | NE2: ABS cause MALADIE | NF2: Ab
K3: 09h30 11h00 | O3: =AG9 -> 18/01/22 | U3: / | AA3: / | AI3: CONGES PATERNITE/MATERNITE | AJ3: Pat | BS3: / | BY3: / | CG3: CONGES PATERNITE/MATERNITE | CH3: Pa | EB3: / | EH3: / | EP3: CONGES PATERNITE/MATERNITE | EQ3: Pa | GD3: / | GJ3: / | GR3: CONGES PATERNITE/MATERNITE | GS3: Pa | HY3: / | IE3: / | IM3: CONGES PATERNITE/MATERNITE | IN3: Pa | KN3: / | KT3: / | LB3: CONGES PATERNITE/MATERNITE | LC3: Pa | MQ3: / | MW3: / | NE3: CONGES PATERNITE/MATERNITE | NF3: Pa
U4: / | AA4: / | AJ4: / | BS4: / | BY4: / | CH4: / | EB4: / | EH4: / | EQ4: / | GD4: / | GJ4: / | GS4: / | HY4: / | IE4: / | IN4: / | KN4: / | KT4: / | LC4: / | MQ4: / | MW4: / | NF4: /
B5: Debut | D5: 44348 | G5: 44562
B6: Fin | D6: 44712 | G6: 44926 | P6: JANVIER | AU6: FEVRIER | BW6: MARS | DB6: AVRIL | EF6: MAI | FK6: JUIN | GO6: JUILLET | HT6: AOUT | IY6: SEPTEMBRE | KC6: OCTOBRE | LH6: NOVEMBRE | ML6: DECEMBRE
A7: Compteurs | O7: 2022
A8: ACQUIS | D8: POSE | H8: RESTE | K8: EQUIPE/SECTEUR | L8: CACES | M8: SST | P8: S | Q8: D | R8: L | S8: M | T8: M | U8: J | V8: V | W8: S | X8: D | Y8: L | Z8: M | AA8: M | AB8: J | AC8: V | AD8: S | AE8: D | AF8: L | AG8: M | AH8: M | AI8: J | AJ8: V | AK8: S | AL8: D | AM8: L | AN8: M | AO8: M | AP8: J | AQ8: V | AR8: S | AS8: D | AT8: L | AU8: M | AV8: M | AW8: J | AX8: V | AY8: S | AZ8: D | BA8: L | BB8: M | BC8: M | BD8: J | BE8: V | BF8: S | BG8: D | BH8: L | BI8: M | BJ8: M | BK8: J | BL8: V | BM8: S | BN8: D | BO8: L | BP8: M | BQ8: M | BR8: J | BS8: V | BT8: S | BU8: D | BV8: L | BW8: M | BX8: M | BY8: J | BZ8: V | CA8: S | CB8: D | CC8: L | CD8: M | CE8: M | CF8: J | CG8: V | CH8: S | CI8: D | CJ8: L | CK8: M | CL8: M | CM8: J | CN8: V | CO8: S | CP8: D | CQ8: L | CR8: M | CS8: M | CT8: J | CU8: V | CV8: S | CW8: D | CX8: L | CY8: M | CZ8: M | DA8: J | DB8: V | DC8: S | DD8: D | DE8: L | DF8: M | DG8: M | DH8: J | DI8: V | DJ8: S | DK8: D | DL8: L | DM8: M | DN8: M | DO8: J | DP8: V | DQ8: S | DR8: D | DS8: L | DT8: M | DU8: M | DV8: J | DW8: V | DX8: S | DY8: D | DZ8: L | EA8: M | EB8: M | EC8: J | ED8: V | EE8: S | EF8: D | EG8: L | EH8: M | EI8: M | EJ8: J | EK8: V | EL8: S | EM8: D | EN8: L | EO8: M | EP8: M | EQ8: J | ER8: V | ES8: S | ET8: D | EU8: L | EV8: M | EW8: M | EX8: J | EY8: V | EZ8: S | FA8: D | FB8: L | FC8: M | FD8: M | FE8: J | FF8: V | FG8: S | FH8: D | FI8: L | FJ8: M | FK8: M | FL8: J | FM8: V | FN8: S | FO8: D | FP8: L | FQ8: M | FR8: M | FS8: J | FT8: V | FU8: S | FV8: D | FW8: L | FX8: M | FY8: M | FZ8: J | GA8: V | GB8: S | GC8: D | GD8: L | GE8: M | GF8: M | GG8: J | GH8: V | GI8: S | GJ8: D | GK8: L | GL8: M | GM8: M | GN8: J | GO8: V | GP8: S | GQ8: D | GR8: L | GS8: M | GT8: M | GU8: J | GV8: V | GW8: S | GX8: D | GY8: L | GZ8: M | HA8: M | HB8: J | HC8: V | HD8: S | HE8: D | HF8: L | HG8: M | HH8: M | HI8: J | HJ8: V | HK8: S | HL8: D | HM8: L | HN8: M | HO8: M | HP8: J | HQ8: V | HR8: S | HS8: D | HT8: L | HU8: M | HV8: M | HW8: J | HX8: V | HY8: S | HZ8: D | IA8: L | IB8: M | IC8: M | ID8: J | IE8: V | IF8: S | IG8: D | IH8: L | II8: M | IJ8: M | IK8: J | IL8: V | IM8: S | IN8: D | IO8: L | IP8: M | IQ8: M | IR8: J | IS8: V | IT8: S | IU8: D | IV8: L | IW8: M | IX8: M | IY8: J | IZ8: V | JA8: S | JB8: D | JC8: L | JD8: M | JE8: M | JF8: J | JG8: V | JH8: S | JI8: D | JJ8: L | JK8: M | JL8: M | JM8: J | JN8: V | JO8: S | JP8: D | JQ8: L | JR8: M | JS8: M | JT8: J | JU8: V | JV8: S | JW8: D | JX8: L | JY8: M | JZ8: M | KA8: J | KB8: V | KC8: S | KD8: D | KE8: L | KF8: M | KG8: M | KH8: J | KI8: V | KJ8: S | KK8: D | KL8: L | KM8: M | KN8: M | KO8: J | KP8: V | KQ8: S | KR8: D | KS8: L | KT8: M | KU8: M | KV8: J | KW8: V | KX8: S | KY8: D | KZ8: L | LA8: M | LB8: M | LC8: J | LD8: V | LE8: S | LF8: D | LG8: L | LH8: M | LI8: M | LJ8: J | LK8: V | LL8: S | LM8: D | LN8: L | LO8: M | LP8: M | LQ8: J | LR8: V | LS8: S | LT8: D | LU8: L | LV8: M | LW8: M | LX8: J | LY8: V | LZ8: S | MA8: D | MB8: L | MC8: M | MD8: M | ME8: J | MF8: V | MG8: S | MH8: D | MI8: L | MJ8: M | MK8: M | ML8: J | MM8: V | MN8: S | MO8: D | MP8: L | MQ8: M | MR8: M | MS8: J | MT8: V | MU8: S | MV8: D | MW8: L | MX8: M | MY8: M | MZ8: J | NA8: V | NB8: S | NC8: D | ND8: L | NE8: M | NF8: M | NG8: J | NH8: V | NI8: S | NJ8: D | NK8: L | NL8: M | NM8: M | NN8: J | NO8: V | NP8: S
