Workbook
Name ListeComptes: CmptesBancaires[Comptes bancaires]
Name ListeDép: 'Centre de Pilotage'!$B$4:$B$10
Name ListeMois: Balmois[Mois]
Name ListePaiement: Paiement[Type de paiement]
Name ListeRev: 'Centre de Pilotage'!$C$4:$C$7
Name SCDép: Dépenses[]

Sheet Journal des dépenses
A1: Journal des dépenses
A3: Mois | B3: Catégories | C3: Sous-catégories | D3: Jour | E3: Type de paiement | F3: Libellé | G3: Comptes | H3: Montant
B74: Date | C74: Nombre d'opérations / mois
B75: Janvier | C75: =COUNTIF($A$4:$A$4,B75) -> 0
B76: Février | C76: =COUNTIF($D$4:$D$4,B76) -> 0
B77: Mars | C77: =COUNTIF($D$4:$D$4,B77) -> 0
B78: Avril | C78: =COUNTIF($D$4:$D$4,B78) -> 0
B79: Mai | C79: =COUNTIF($D$4:$D$4,B79) -> 0
B80: Juin | C80: =COUNTIF($D$4:$D$4,B80) -> 0
B81: Juillet | C81: =COUNTIF($D$4:$D$4,B81) -> 0
B82: Août | C82: =COUNTIF($D$4:$D$4,B82) -> 0
B83: Septembre | C83: =COUNTIF($D$4:$D$4,B83) -> 0
B84: Octobre | C84: =COUNTIF($D$4:$D$4,B84) -> 0
B85: Novembre | C85: =COUNTIF($D$4:$D$4,B85) -> 0
B86: Décembre | C86: =COUNTIF($D$4:$D$4,B86) -> 0
B87: Total | C87: =SUM(C75:C86) -> 0
B89: Type de paiement | C89: Nombre d'opérations
B90: ='[1]Centre de Pilotage'!B21 -> Prélèvement | C90: =COUNTIF($E$4:$E$4,B90) -> 0
B91: ='[1]Centre de Pilotage'!B22 -> CB | C91: =COUNTIF($E$4:$E$4,B91) -> 0
B92: ='[1]Centre de Pilotage'!B23 -> Virement | C92: =COUNTIF($E$4:$E$4,B92) -> 0
B93: ='[1]Centre de Pilotage'!B24 -> Chèque | C93: =COUNTIF($E$4:$E$4,B93) -> 0
B94: ='[1]Centre de Pilotage'!B25 -> Espèce | C94: =COUNTIF($E$4:$E$4,B94) -> 0
B95: Total | C95: =SUM(C90:C94) -> 0

Sheet Centre de Pilotage
A1: Centre de pilotage
B3: Dépenses | C3: Revenus | E3: Habitation | F3: Dépenses courantes | G3: Loisirs | H3: Voiture | I3: Impôts/Taxes | J3: Divers | K3: Vacances
B4: Habitation | C4: Revenus professionnels | E4: Loyer | F4: Abonnement TV | G4: Restaurants | H4: Emprunt voiture | I4: Impôt sur le Revenu | J4: Prestations médicales | K4: Hébergement
B5: Dépenses courantes | C5: Famille/Proches | E5: Charges d'habitation | F5: Internet | G5: Vêtements | H5: Assurance voiture | I5: Taxe foncière | J5: Crédit autres | K5: Restauration
B6: Loisirs | C6: Revenus de Placement | E6: Assurance habitation | F6: Téléphone | G6: Sport | H6: Parking/Péage | I6: Taxe d'habitation | J6: Retrait d'argent | K6: Transport
B7: Voiture | C7: Autres Revenus | E7: Emprunt habitation | F7: Abonnement numérique | G7: Culture | H7: Carburant | I7: Frais juridiques | J7: Jeux d'argent | K7: Loisirs
B8: Impôts/taxes | E8: Travaux | F8: Courses | G8: Numérique | H8: Entretien voiture | I8: Frais bancaires | J8: Cadeaux/Dons | K8: Cadeaux
B9: Divers | E9: Emprunt Travaux | F9: Mutuelle | G9: Autres loisirs | H9: Contravention | J9: Frais de scolarité | K9: Dépenses diverses
B10: Vacances/Week-end | E10: Investissement mobilier | F10: Sécurité Sociale | J10: Virement vers comptes
E11: Jardin | F11: Coiffeur | J11: Autres
E12: Gaz, Electricité, Eau | F12: Entretien quotidien
B15: Comptes bancaires | C15: Solde Initial
B16: Livret Jeune | C16: 1627.68 | E16: Revenus professionnels | F16: Famille/Proches | G16: Revenus de Placement | H16: Autres Revenus
B17: Livret Bleu | C17: 3569.26 | E17: Salaire | F17: Pension Alimentaire | G17: Intérêts bancaires | H17: Bourse
B18: Eurocompte Jeune | C18: 103 | E18: Prime | F18: Cadeaux/Dons | G18: Jeux d'argent | H18: Aide au Logement
E19: Frais professionnels | G19: Virement vers comptes | H19: Rbt Santé
B20: Type de paiement | E20: Indemnité chômage, RSA | H20: Gains/Rbt exceptionnels
B21: Prélèvement | E21: Indemnité de stage
B22: CB
B23: Virement
B24: Chèque
B25: Espèce
B27: Dépenses par catégories | C27: Montant | D27: % | F27: Revenus par catégories | G27: Montant | H27: %
B28: =B4 -> Habitation | C28: =[1]Dépenses!N4 -> 0 | D28: =IF(C28>0,C28/C$35,"") | F28: ='Centre de Pilotage'!C4 -> Revenus professionnels | G28: =[1]Revenus!N4 -> 0 | H28: =IF(G28>0,G28/G32,"")
B29: =B5 -> Dépenses courantes | C29: =[1]Dépenses!N15 -> 0 | D29: =IF(C29>0,C29/C$35,"") | F29: ='Centre de Pilotage'!C5 -> Famille/Proches | G29: =[1]Revenus!N11 -> 0 | H29: =IF(G29>0,G29/G32,"")
B30: =B6 -> Loisirs | C30: =[1]Dépenses!N26 -> 0 | D30: =IF(C30>0,C30/C$35,"") | F30: ='Centre de Pilotage'!C6 -> Revenus de Placement | G30: =[1]Revenus!N15 -> 0 | H30: =IF(G30,G30/G32,"")
B31: =B7 -> Voiture | C31: =[1]Dépenses!N34 -> 0 | D31: =IF(C31,C31/C$35,"") | F31: ='Centre de Pilotage'!C7 -> Autres Revenus | G31: =[1]Revenus!N20 -> 0 | H31: =IF(G31>0,G31/G32,"")
B32: =B8 -> Impôts/taxes | C32: =[1]Dépenses!N42 -> 0 | D32: =IF(C32>0,C32/C$35,"") | F32: Total | G32: =[1]Revenus!N26 -> 0 | H32: =IF(G32>0,SUM(H28:H31),"")
B33: =B9 -> Divers | C33: =[1]Dépenses!N49 -> 0 | D33: =IF(C33>0,C33/C$35,"")
B34: =B10 -> Vacances/Week-end | C34: =[1]Dépenses!N59 -> 0 | D34: =IF(C34,C34/C$35,"")
B35: Total | C35: =SUM(C28:C34) -> 0 | D35: =IF(C35>0,SUM(D28:D34),"")
B37: Mois | C37: Balance mensuelle
B38: Janvier | C38: =[1]Revenus!B26-[1]Dépenses!B67 -> 0
B39: Février | C39: =[1]Revenus!C26-[1]Dépenses!C67 -> 0
B40: Mars | C40: =[1]Revenus!D26-[1]Dépenses!D67 -> 0
B41: Avril | C41: =[1]Revenus!E26-[1]Dépenses!E67 -> 0
B42: Mai | C42: =[1]Revenus!F26-[1]Dépenses!F67 -> 0
B43: Juin | C43: =[1]Revenus!G26-[1]Dépenses!G67 -> 0
B44: Juillet | C44: =[1]Revenus!H26-[1]Dépenses!H67 -> 0
B45: Août | C45: =[1]Revenus!I26-[1]Dépenses!I67 -> 0
...
