Workbook

Sheet Region Centre
A1: Code | B1: Nombre de cas | C1: Masculin | D1: Féminin | E1: Total
A2: C1 | B2: 4 | C2: 2 | D2: 2 | E2: 4
A3: C2 | B3: 169 | C3: 101 | D3: 68 | E3: 169
A4: C3 | B4: 232 | C4: 104 | D4: 128 | E4: 232
A5: C4 | B5: 13 | C5: 6 | D5: 7 | E5: 13
A6: C5 | B6: 320 | C6: 185 | D6: 135 | E6: 320
A7: C6 | B7: 1068 | C7: 396 | D7: 672 | E7: 1068
A8: C7 | B8: 343 | C8: 203 | D8: 140 | E8: 343
A9: C8 | B9: 127 | C9: 53 | D9: 74 | E9: 127
A10: C9 | B10: 4 | C10: 2 | D10: 2 | E10: 4
A11: C10 | B11: 60 | C11: 36 | D11: 24 | E11: 60
A12: Total | B12: 2340 | C12: 1088 | D12: 1252 | E12: 2340

Sheet Region Nord
A1: Code | B1: Nombre de cas | C1: Masculin | D1: Féminin | E1: Total
A2: C1 | B2: 1 | C2: 0 | D2: 1 | E2: 1
A3: C2 | B3: 40 | C3: 27 | D3: 13 | E3: 40
A4: C3 | B4: 32 | C4: 9 | D4: 23 | E4: 32
A5: C4 | B5: 4 | C5: 3 | D5: 1 | E5: 4
A6: C5 | B6: 0 | C6: 0 | D6: 0 | E6: 0
A7: C6 | B7: 3 | C7: 0 | D7: 3 | E7: 3
A8: C7 | B8: 50 | C8: 29 | D8: 21 | E8: 50
A9: C8 | B9: 43 | C9: 18 | D9: 25 | E9: 43
A10: C9 | B10: 1 | C10: 1 | D10: 0 | E10: 1
A11: C10 | B11: 4 | C11: 2 | D11: 2 | E11: 4
A12: Total | B12: 178 | C12: 89 | D12: 89 | E12: 178

Sheet Région Sud
A1: Code | B1: Nombre de cas | C1: Masculin | D1: Féminin | E1: Total
A2: C1 | B2: 0 | C2: 0 | D2: 0 | E2: 0
A3: C2 | B3: 58 | C3: 36 | D3: 22 | E3: 58
A4: C3 | B4: 48 | C4: 26 | D4: 22 | E4: 48
A5: C4 | B5: 13 | C5: 8 | D5: 5 | E5: 13
A6: C5 | B6: 0 | C6: 0 | D6: 0 | E6: 0
A7: C6 | B7: 147 | C7: 70 | D7: 77 | E7: 147
A8: C7 | B8: 113 | C8: 67 | D8: 46 | E8: 113
A9: C8 | B9: 24 | C9: 12 | D9: 12 | E9: 24
A10: C9 | B10: 1 | C10: 1 | D10: 0 | E10: 1
A11: C10 | B11: 20 | C11: 12 | D11: 8 | E11: 20
A12: Total | B12: 424 | C12: 232 | D12: 192 | E12: 424

Sheet Région Est
A1: Code | B1: Nombre de cas | C1: Masculin | D1: Féminin | E1: Total
A2: C1 | B2: 7 | C2: 3 | D2: 4 | E2: 7
A3: C2 | B3: 135 | C3: 83 | D3: 52 | E3: 135
A4: C3 | B4: 158 | C4: 57 | D4: 101 | E4: 158
A5: C4 | B5: 17 | C5: 6 | D5: 11 | E5: 17
A6: C5 | B6: 2 | C6: 0 | D6: 2 | E6: 2
A7: C6 | B7: 41 | C7: 13 | D7: 28 | E7: 41
A8: C7 | B8: 233 | C8: 139 | D8: 94 | E8: 233
A9: C8 | B9: 109 | C9: 55 | D9: 54 | E9: 109
A10: C9 | B10: 7 | C10: 4 | D10: 3 | E10: 7
A11: C10 | B11: 26 | C11: 14 | D11: 12 | E11: 26
A12: Total | B12: 735 | C12: 374 | D12: 361 | E12: 735

Sheet Région Ouest
A1: Code | B1: Nombre de cas | C1: Masculin | D1: Féminin | E1: Total
A2: C1 | B2: 1 | C2: 0 | D2: 1 | E2: 1
A3: C2 | B3: 61 | C3: 40 | D3: 21 | E3: 61
A4: C3 | B4: 16 | C4: 5 | D4: 11 | E4: 16
A5: C4 | B5: 5 | C5: 2 | D5: 3 | E5: 5
A6: C5 | B6: 1 | C6: 0 | D6: 1 | E6: 1
A7: C6 | B7: 58 | C7: 27 | D7: 31 | E7: 58
A8: C7 | B8: 61 | C8: 35 | D8: 26 | E8: 61
A9: C8 | B9: 42 | C9: 19 | D9: 23 | E9: 42
A10: C9 | B10: 6 | C10: 5 | D10: 1 | E10: 6
A11: C10 | B11: 9 | C11: 5 | D11: 4 | E11: 9
A12: total | B12: =SUM(B2:B11) -> 260 | C12: =SUM(C2:C11) -> 138 | D12: =SUM(D2:D11) -> 122 | E12: 260

Sheet Consolidé Global
A1: Code | B1: Nombre de cas | C1: Masculin | D1: Féminin | E1: Total
A2: C1 | B2: =SUM('Region Centre:Région Ouest'!B2) -> 13 | C2: =SUM('Region Centre:Région Ouest'!C2) -> 5 | D2: =SUM('Region Centre:Région Ouest'!D2) -> 8 | E2: =SUM('Region Centre:Région Ouest'!E2) -> 13
A3: C2 | B3: =SUM('Region Centre:Région Ouest'!B3) -> 463 | C3: =SUM('Region Centre:Région Ouest'!C3) -> 287 | D3: =SUM('Region Centre:Région Ouest'!D3) -> 176 | E3: =SUM('Region Centre:Région Ouest'!E3) -> 463
A4: C3 | B4: =SUM('Region Centre:Région Ouest'!B4) -> 486 | C4: =SUM('Region Centre:Région Ouest'!C4) -> 201 | D4: =SUM('Region Centre:Région Ouest'!D4) -> 285 | E4: =SUM('Region Centre:Région Ouest'!E4) -> 486
A5: C4 | B5: =SUM('Region Centre:Région Ouest'!B5) -> 52 | C5: =SUM('Region Centre:Région Ouest'!C5) -> 25 | D5: =SUM('Region Centre:Région Ouest'!D5) -> 27 | E5: =SUM('Region Centre:Région Ouest'!E5) -> 52
A6: C5 | B6: =SUM('Region Centre:Région Ouest'!B6) -> 323 | C6: =SUM('Region Centre:Région Ouest'!C6) -> 185 | D6: =SUM('Region Centre:Région Ouest'!D6) -> 138 | E6: =SUM('Region Centre:Région Ouest'!E6) -> 323
A7: C6 | B7: =SUM('Region Centre:Région Ouest'!B7) -> 1317 | C7: =SUM('Region Centre:Région Ouest'!C7) -> 506 | D7: =SUM('Region Centre:Région Ouest'!D7) -> 811 | E7: =SUM('Region Centre:Région Ouest'!E7) -> 1317
A8: C7 | B8: =SUM('Region Centre:Région Ouest'!B8) -> 800 | C8: =SUM('Region Centre:Région Ouest'!C8) -> 473 | D8: =SUM('Region Centre:Région Ouest'!D8) -> 327 | E8: =SUM('Region Centre:Région Ouest'!E8) -> 800
A9: C8 | B9: =SUM('Region Centre:Région Ouest'!B9) -> 345 | C9: =SUM('Region Centre:Région Ouest'!C9) -> 157 | D9: =SUM('Region Centre:Région Ouest'!D9) -> 188 | E9: =SUM('Region Centre:Région Ouest'!E9) -> 345
A10: C9 | B10: =SUM('Region Centre:Région Ouest'!B10) -> 19 | C10: =SUM('Region Centre:Région Ouest'!C10) -> 13 | D10: =SUM('Region Centre:Région Ouest'!D10) -> 6 | E10: =SUM('Region Centre:Région Ouest'!E10) -> 19
A11: C10 | B11: =SUM('Region Centre:Région Ouest'!B11) -> 119 | C11: =SUM('Region Centre:Région Ouest'!C11) -> 69 | D11: =SUM('Region Centre:Région Ouest'!D11) -> 50 | E11: =SUM('Region Centre:Région Ouest'!E11) -> 119
A12: TOTAL | B12: ='Région Ouest'!B12+'Région Est'!B12+'Région Sud'!B12+'Region Nord'!B12+'Region Centre'!B12 -> 3937 | C12: ='Région Ouest'!C12+'Région Est'!C12+'Région Sud'!C12+'Region Nord'!C12+'Region Centre'!C12 -> 1921 | D12: ='Région Ouest'!D12+'Région Est'!D12+'Région Sud'!D12+'Region Nord'!D12+'Region Centre'!D12 -> 2016 | E12: ='Région Ouest'!E12+'Région Est'!E12+'Région Sud'!E12+'Region Nord'!E12+'Region Centre'!E12 -> 3937

Sheet C1
A1: Régions | B1: Nombre de cas | C1: Masculin | D1: Féminin | E1: Total
A2: Centre | B2: 4 | C2: 2 | D2: 2 | E2: 4
A3: Nord | B3: 1 | C3: 0 | D3: 1 | E3: 1
A4: Sud | B4: 0 | C4: 0 | D4: 0 | E4: 0
A5: Est | B5: 7 | C5: 3 | D5: 4 | E5: 7
A6: Ouest | B6: 1 | C6: 0 | D6: 1 | E6: 1

Sheet C2
A1: Régions | B1: Nombre de cas | C1: Masculin | D1: Féminin | E1: Total
A2: Centre
A3: Nord
A4: Sud
A5: Est
A6: Ouest

Sheet C3
A1: Régions | B1: Nombre de cas | C1: Masculin | D1: Féminin | E1: Total
A2: Centre
A3: Nord
A4: Sud
A5: Est
A6: Ouest

Sheet C4
A1: Régions | B1: Nombre de cas | C1: Masculin | D1: Féminin | E1: Total
A2: Centre
A3: Nord
A4: Sud
A5: Est
A6: Ouest

Sheet C5
A1: Régions | B1: Nombre de cas | C1: Masculin | D1: Féminin | E1: Total
A2: Centre
A3: Nord
A4: Sud
A5: Est
A6: Ouest

Sheet C6
A1: Régions | B1: Nombre de cas | C1: Masculin | D1: Féminin | E1: Total
A2: Centre
A3: Nord
A4: Sud
A5: Est
A6: Ouest

Sheet C7
A1: Régions | B1: Nombre de cas | C1: Masculin | D1: Féminin | E1: Total
A2: Centre
A3: Nord
A4: Sud
A5: Est
A6: Ouest

Sheet C8
A1: Régions | B1: Nombre de cas | C1: Masculin | D1: Féminin | E1: Total
A2: Centre
A3: Nord
A4: Sud
A5: Est
A6: Ouest

Sheet C9
A1: Régions | B1: Nombre de cas | C1: Masculin | D1: Féminin | E1: Total
A2: Centre
A3: Nord
A4: Sud
A5: Est
A6: Ouest

Sheet C10
A1: Régions | B1: Nombre de cas | C1: Masculin | D1: Féminin | E1: Total
A2: Centre
A3: Nord
A4: Sud
A5: Est
A6: Ouest
