Workbook
Name Activité: #REF!

Sheet 2004-2006
B2: Nom | C2: Prénom | D2: N° Carte | E2: Adresse | F2: CP | G2: Ville | H2: Téléphone | I2: Portable | J2: Email | K2: Date Naiss | N2: Date
K3: Mois | L3: Jour | M3: Année
A4: 75 | B4: ASSEZ | C4: Sylvie | D4: 75 | E4: cotes Belot | F4: 21170 | G4: Montot | H4: 380298411 | K4: =IF((N4)="","",IF(MONTH(N4)=1,"Janvier",IF(MONTH(N4)=2,"Février",IF(MONTH(N4)=3,"Mars",IF(MONTH(N4)=4,"Avril",IF(MONTH(N4)=5,"Mai",IF(MONTH(N4)=6,"Juin",IF(MONTH(N4)=7,"Juillet",IF(MONTH(N4)=8,"Août",IF(MONTH(N4)=9,"Septembre",IF(MONTH(N4)=10,"Octobre",IF(MONTH(N4)=11,"Novembre","Décembre")))))))))))) | L4: =IF(N4="","",DAY(N4)) | M4: =IF(N4="","",YEAR(N4))
A5: 76 | B5: BAJOTET | C5: Marie-Thérèse | D5: 76 | F5: 21470 | G5: Brazey en plaine | I5: 626473855 | K5: =IF((N5)="","",IF(MONTH(N5)=1,"Janvier",IF(MONTH(N5)=2,"Février",IF(MONTH(N5)=3,"Mars",IF(MONTH(N5)=4,"Avril",IF(MONTH(N5)=5,"Mai",IF(MONTH(N5)=6,"Juin",IF(MONTH(N5)=7,"Juillet",IF(MONTH(N5)=8,"Août",IF(MONTH(N5)=9,"Septembre",IF(MONTH(N5)=10,"Octobre",IF(MONTH(N5)=11,"Novembre","Décembre")))))))))))) | L5: =IF(N5="","",DAY(N5)) | M5: =IF(N5="","",YEAR(N5))
A6: 4 | B6: BEHEREC | C6: Franck | D6: 4 | E6: 3 Impasse Verdi | F6: 21470 | G6: Brazey en plaine | H6: 380298947 | I6: 614462165 | J6: franck.beherec@wanadoo.fr | K6: =IF((N6)="","",IF(MONTH(N6)=1,"Janvier",IF(MONTH(N6)=2,"Février",IF(MONTH(N6)=3,"Mars",IF(MONTH(N6)=4,"Avril",IF(MONTH(N6)=5,"Mai",IF(MONTH(N6)=6,"Juin",IF(MONTH(N6)=7,"Juillet",IF(MONTH(N6)=8,"Août",IF(MONTH(N6)=9,"Septembre",IF(MONTH(N6)=10,"Octobre",IF(MONTH(N6)=11,"Novembre","Décembre")))))))))))) -> Octobre | L6: =IF(N6="","",DAY(N6)) -> 24 | M6: =IF(N6="","",YEAR(N6)) -> 1967 | N6: 24769
A7: 77 | B7: Belleterre | C7: Christiane | D7: 77 | E7: 39, Quai de la butte | F7: 21170 | G7: Losne | K7: =IF((N7)="","",IF(MONTH(N7)=1,"Janvier",IF(MONTH(N7)=2,"Février",IF(MONTH(N7)=3,"Mars",IF(MONTH(N7)=4,"Avril",IF(MONTH(N7)=5,"Mai",IF(MONTH(N7)=6,"Juin",IF(MONTH(N7)=7,"Juillet",IF(MONTH(N7)=8,"Août",IF(MONTH(N7)=9,"Septembre",IF(MONTH(N7)=10,"Octobre",IF(MONTH(N7)=11,"Novembre","Décembre")))))))))))) -> Octobre | L7: =IF(N7="","",DAY(N7)) -> 14 | M7: =IF(N7="","",YEAR(N7)) -> 1950 | N7: 18550
A8: 7 | B8: Bernigaud | C8: Yvonne | D8: 7 | E8: Les Floralies | F8: 21170 | G8: St Jean de Losne | K8: =IF((N8)="","",IF(MONTH(N8)=1,"Janvier",IF(MONTH(N8)=2,"Février",IF(MONTH(N8)=3,"Mars",IF(MONTH(N8)=4,"Avril",IF(MONTH(N8)=5,"Mai",IF(MONTH(N8)=6,"Juin",IF(MONTH(N8)=7,"Juillet",IF(MONTH(N8)=8,"Août",IF(MONTH(N8)=9,"Septembre",IF(MONTH(N8)=10,"Octobre",IF(MONTH(N8)=11,"Novembre","Décembre")))))))))))) -> Janvier | L8: =IF(N8="","",DAY(N8)) -> 24 | M8: =IF(N8="","",YEAR(N8)) -> 1932 | N8: 11712
A9: 8 | B9: Blanc | C9: Gérard | D9: 8 | E9: 19, Ancienne route de Seurre | F9: 21170 | G9: Losne | K9: =IF((N9)="","",IF(MONTH(N9)=1,"Janvier",IF(MONTH(N9)=2,"Février",IF(MONTH(N9)=3,"Mars",IF(MONTH(N9)=4,"Avril",IF(MONTH(N9)=5,"Mai",IF(MONTH(N9)=6,"Juin",IF(MONTH(N9)=7,"Juillet",IF(MONTH(N9)=8,"Août",IF(MONTH(N9)=9,"Septembre",IF(MONTH(N9)=10,"Octobre",IF(MONTH(N9)=11,"Novembre","Décembre")))))))))))) -> Décembre | L9: =IF(N9="","",DAY(N9)) -> 12 | M9: =IF(N9="","",YEAR(N9)) -> 1961 | N9: 22627
A10: 9 | B10: Boudrot | C10: Alain | D10: 9 | E10: 13, Rue des illes | F10: 21170 | G10: St Jean de Losne | K10: =IF((N10)="","",IF(MONTH(N10)=1,"Janvier",IF(MONTH(N10)=2,"Février",IF(MONTH(N10)=3,"Mars",IF(MONTH(N10)=4,"Avril",IF(MONTH(N10)=5,"Mai",IF(MONTH(N10)=6,"Juin",IF(MONTH(N10)=7,"Juillet",IF(MONTH(N10)=8,"Août",IF(MONTH(N10)=9,"Septembre",IF(MONTH(N10)=10,"Octobre",IF(MONTH(N10)=11,"Novembre","Décembre")))))))))))) -> Février | L10: =IF(N10="","",DAY(N10)) -> 9 | M10: =IF(N10="","",YEAR(N10)) -> 1965 | N10: 23782
A11: 10 | B11: Bougaud | C11: Catherine | D11: 10 | E11: 10, Rue de St Loup | F11: 39410 | G11: St Aubin (39) | K11: =IF((N11)="","",IF(MONTH(N11)=1,"Janvier",IF(MONTH(N11)=2,"Février",IF(MONTH(N11)=3,"Mars",IF(MONTH(N11)=4,"Avril",IF(MONTH(N11)=5,"Mai",IF(MONTH(N11)=6,"Juin",IF(MONTH(N11)=7,"Juillet",IF(MONTH(N11)=8,"Août",IF(MONTH(N11)=9,"Septembre",IF(MONTH(N11)=10,"Octobre",IF(MONTH(N11)=11,"Novembre","Décembre")))))))))))) -> Septembre | L11: =IF(N11="","",DAY(N11)) -> 13 | M11: =IF(N11="","",YEAR(N11)) -> 1963 | N11: 23267
A12: 11 | B12: Boulardot | C12: Jean-Paul | D12: 11 | E12: 35, Rue de la Saône | F12: 21170 | G12: St Jean de Losne | K12: =IF((N12)="","",IF(MONTH(N12)=1,"Janvier",IF(MONTH(N12)=2,"Février",IF(MONTH(N12)=3,"Mars",IF(MONTH(N12)=4,"Avril",IF(MONTH(N12)=5,"Mai",IF(MONTH(N12)=6,"Juin",IF(MONTH(N12)=7,"Juillet",IF(MONTH(N12)=8,"Août",IF(MONTH(N12)=9,"Septembre",IF(MONTH(N12)=10,"Octobre",IF(MONTH(N12)=11,"Novembre","Décembre")))))))))))) -> Avril | L12: =IF(N12="","",DAY(N12)) -> 21 | M12: =IF(N12="","",YEAR(N12)) -> 1957 | N12: 20931
A13: 12 | B13: Bruant | C13: Gérard | D13: 12 | E13: 10, Rue de la Saône | F13: 21170 | G13: Chaugey | K13: =IF((N13)="","",IF(MONTH(N13)=1,"Janvier",IF(MONTH(N13)=2,"Février",IF(MONTH(N13)=3,"Mars",IF(MONTH(N13)=4,"Avril",IF(MONTH(N13)=5,"Mai",IF(MONTH(N13)=6,"Juin",IF(MONTH(N13)=7,"Juillet",IF(MONTH(N13)=8,"Août",IF(MONTH(N13)=9,"Septembre",IF(MONTH(N13)=10,"Octobre",IF(MONTH(N13)=11,"Novembre","Décembre")))))))))))) -> Mai | L13: =IF(N13="","",DAY(N13)) -> 21 | M13: =IF(N13="","",YEAR(N13)) -> 1936 | N13: 13291
A14: 64 | B14: Bullier | C14: Patrick | D14: 64 | E14: 4, Rue des bois | F14: 21250 | G14: Chamblanc | K14: =IF((N14)="","",IF(MONTH(N14)=1,"Janvier",IF(MONTH(N14)=2,"Février",IF(MONTH(N14)=3,"Mars",IF(MONTH(N14)=4,"Avril",IF(MONTH(N14)=5,"Mai",IF(MONTH(N14)=6,"Juin",IF(MONTH(N14)=7,"Juillet",IF(MONTH(N14)=8,"Août",IF(MONTH(N14)=9,"Septembre",IF(MONTH(N14)=10,"Octobre",IF(MONTH(N14)=11,"Novembre","Décembre")))))))))))) -> Avril | L14: =IF(N14="","",DAY(N14)) -> 19 | M14: =IF(N14="","",YEAR(N14)) -> 1953 | N14: 19468
A15: 19 | B15: CLEMENCE | C15: Bernard | D15: 19 | E15: 9 Rue de la petite levée | F15: 21170 | G15: Losne | H15: 380392678 | I15: 677647670 | J15: bernard-clemence@wanadoo.fr | K15: =IF((N15)="","",IF(MONTH(N15)=1,"Janvier",IF(MONTH(N15)=2,"Février",IF(MONTH(N15)=3,"Mars",IF(MONTH(N15)=4,"Avril",IF(MONTH(N15)=5,"Mai",IF(MONTH(N15)=6,"Juin",IF(MONTH(N15)=7,"Juillet",IF(MONTH(N15)=8,"Août",IF(MONTH(N15)=9,"Septembre",IF(MONTH(N15)=10,"Octobre",IF(MONTH(N15)=11,"Novembre","Décembre")))))))))))) -> Mars | L15: =IF(N15="","",DAY(N15)) -> 6 | M15: =IF(N15="","",YEAR(N15)) -> 1942 | N15: 15406
A16: 13 | B16: Cattano | C16: François | D16: 13 | E16: 23, Rue du moulin | F16: 21170 | G16: Echenon | K16: =IF((N16)="","",IF(MONTH(N16)=1,"Janvier",IF(MONTH(N16)=2,"Février",IF(MONTH(N16)=3,"Mars",IF(MONTH(N16)=4,"Avril",IF(MONTH(N16)=5,"Mai",IF(MONTH(N16)=6,"Juin",IF(MONTH(N16)=7,"Juillet",IF(MONTH(N16)=8,"Août",IF(MONTH(N16)=9,"Septembre",IF(MONTH(N16)=10,"Octobre",IF(MONTH(N16)=11,"Novembre","Décembre")))))))))))) | L16: =IF(N16="","",DAY(N16)) | M16: =IF(N16="","",YEAR(N16))
A17: 14 | B17: Cattano | C17: Michel | D17: 14 | E17: 23, Rue du moulin | F17: 21170 | G17: Echenon | K17: =IF((N17)="","",IF(MONTH(N17)=1,"Janvier",IF(MONTH(N17)=2,"Février",IF(MONTH(N17)=3,"Mars",IF(MONTH(N17)=4,"Avril",IF(MONTH(N17)=5,"Mai",IF(MONTH(N17)=6,"Juin",IF(MONTH(N17)=7,"Juillet",IF(MONTH(N17)=8,"Août",IF(MONTH(N17)=9,"Septembre",IF(MONTH(N17)=10,"Octobre",IF(MONTH(N17)=11,"Novembre","Décembre")))))))))))) | L17: =IF(N17="","",DAY(N17)) | M17: =IF(N17="","",YEAR(N17))
A18: 15 | B18: Caty | C18: Alain | D18: 15 | E18: Rue du patis des buissons | F18: 21250 | G18: Tichey | K18: =IF((N18)="","",IF(MONTH(N18)=1,"Janvier",IF(MONTH(N18)=2,"Février",IF(MONTH(N18)=3,"Mars",IF(MONTH(N18)=4,"Avril",IF(MONTH(N18)=5,"Mai",IF(MONTH(N18)=6,"Juin",IF(MONTH(N18)=7,"Juillet",IF(MONTH(N18)=8,"Août",IF(MONTH(N18)=9,"Septembre",IF(MONTH(N18)=10,"Octobre",IF(MONTH(N18)=11,"Novembre","Décembre")))))))))))) -> Mars | L18: =IF(N18="","",DAY(N18)) -> 4 | M18: =IF(N18="","",YEAR(N18)) -> 1936 | N18: 13213
A19: 16 | B19: CATY | C19: Anne Marie | D19: 16 | E19: rue du patis des buissons | F19: 21250 | G19: Tichey | H19: 380210868 | K19: =IF((N19)="","",IF(MONTH(N19)=1,"Janvier",IF(MONTH(N19)=2,"Février",IF(MONTH(N19)=3,"Mars",IF(MONTH(N19)=4,"Avril",IF(MONTH(N19)=5,"Mai",IF(MONTH(N19)=6,"Juin",IF(MONTH(N19)=7,"Juillet",IF(MONTH(N19)=8,"Août",IF(MONTH(N19)=9,"Septembre",IF(MONTH(N19)=10,"Octobre",IF(MONTH(N19)=11,"Novembre","Décembre")))))))))))) -> Février | L19: =IF(N19="","",DAY(N19)) -> 13 | M19: =IF(N19="","",YEAR(N19)) -> 1938 | N19: 13924
A20: 3 | B20: Chaventon | C20: Emmanuel | D20: 3 | E20: 4, Ruelle des Morts | F20: 21170 | G20: Charrey sur Saône | K20: =IF((N20)="","",IF(MONTH(N20)=1,"Janvier",IF(MONTH(N20)=2,"Février",IF(MONTH(N20)=3,"Mars",IF(MONTH(N20)=4,"Avril",IF(MONTH(N20)=5,"Mai",IF(MONTH(N20)=6,"Juin",IF(MONTH(N20)=7,"Juillet",IF(MONTH(N20)=8,"Août",IF(MONTH(N20)=9,"Septembre",IF(MONTH(N20)=10,"Octobre",IF(MONTH(N20)=11,"Novembre","Décembre")))))))))))) | L20: =IF(N20="","",DAY(N20)) | M20: =IF(N20="","",YEAR(N20))
A21: 18 | B21: Chaventon | C21: Françoise | D21: 18 | E21: 4, Ruelle des morts | F21: 21170 | G21: Charrey sur Saône | K21: =IF((N21)="","",IF(MONTH(N21)=1,"Janvier",IF(MONTH(N21)=2,"Février",IF(MONTH(N21)=3,"Mars",IF(MONTH(N21)=4,"Avril",IF(MONTH(N21)=5,"Mai",IF(MONTH(N21)=6,"Juin",IF(MONTH(N21)=7,"Juillet",IF(MONTH(N21)=8,"Août",IF(MONTH(N21)=9,"Septembre",IF(MONTH(N21)=10,"Octobre",IF(MONTH(N21)=11,"Novembre","Décembre")))))))))))) | L21: =IF(N21="","",DAY(N21)) | M21: =IF(N21="","",YEAR(N21))
A22: 17 | B22: Chaventon | C22: Gérard | D22: 17 | E22: 4, Ruelle des morts | F22: 21170 | G22: Charrey sur Saône | K22: =IF((N22)="","",IF(MONTH(N22)=1,"Janvier",IF(MONTH(N22)=2,"Février",IF(MONTH(N22)=3,"Mars",IF(MONTH(N22)=4,"Avril",IF(MONTH(N22)=5,"Mai",IF(MONTH(N22)=6,"Juin",IF(MONTH(N22)=7,"Juillet",IF(MONTH(N22)=8,"Août",IF(MONTH(N22)=9,"Septembre",IF(MONTH(N22)=10,"Octobre",IF(MONTH(N22)=11,"Novembre","Décembre")))))))))))) | L22: =IF(N22="","",DAY(N22)) | M22: =IF(N22="","",YEAR(N22))
A23: 65 | B23: Constancias | C23: Anne-Marie | D23: 65 | E23: 12, Imp de fleurs | F23: 21250 | G23: Seurre | K23: =IF((N23)="","",IF(MONTH(N23)=1,"Janvier",IF(MONTH(N23)=2,"Février",IF(MONTH(N23)=3,"Mars",IF(MONTH(N23)=4,"Avril",IF(MONTH(N23)=5,"Mai",IF(MONTH(N23)=6,"Juin",IF(MONTH(N23)=7,"Juillet",IF(MONTH(N23)=8,"Août",IF(MONTH(N23)=9,"Septembre",IF(MONTH(N23)=10,"Octobre",IF(MONTH(N23)=11,"Novembre","Décembre")))))))))))) -> Septembre | L23: =IF(N23="","",DAY(N23)) -> 5 | M23: =IF(N23="","",YEAR(N23)) -> 1947 | N23: 17415
A24: 20 | B24: CORNOT | C24: Daniel | D24: 20 | E24: 4 ter grande rue du faubourg St Michel | F24: 21250 | G24: Seurre | H24: 380210480 | J24: cornot.daniel@wanadoo.fr | K24: =IF((N24)="","",IF(MONTH(N24)=1,"Janvier",IF(MONTH(N24)=2,"Février",IF(MONTH(N24)=3,"Mars",IF(MONTH(N24)=4,"Avril",IF(MONTH(N24)=5,"Mai",IF(MONTH(N24)=6,"Juin",IF(MONTH(N24)=7,"Juillet",IF(MONTH(N24)=8,"Août",IF(MONTH(N24)=9,"Septembre",IF(MONTH(N24)=10,"Octobre",IF(MONTH(N24)=11,"Novembre","Décembre")))))))))))) | L24: =IF(N24="","",DAY(N24)) | M24: =IF(N24="","",YEAR(N24))
A25: 21 | B25: CORNUEL | C25: Michel | D25: 21 | E25: 14 Rue St Jacques | F25: 21170 | G25: St Usage | H25: 380291162 | J25: cornuel.michel@wanadoo.fr | K25: =IF((N25)="","",IF(MONTH(N25)=1,"Janvier",IF(MONTH(N25)=2,"Février",IF(MONTH(N25)=3,"Mars",IF(MONTH(N25)=4,"Avril",IF(MONTH(N25)=5,"Mai",IF(MONTH(N25)=6,"Juin",IF(MONTH(N25)=7,"Juillet",IF(MONTH(N25)=8,"Août",IF(MONTH(N25)=9,"Septembre",IF(MONTH(N25)=10,"Octobre",IF(MONTH(N25)=11,"Novembre","Décembre")))))))))))) -> Septembre | L25: =IF(N25="","",DAY(N25)) -> 5 | M25: =IF(N25="","",YEAR(N25)) -> 1943 | N25: 15954
A26: 66 | B26: Crotet | C26: Roger | D26: 66 | E26: 51, Grand chemin de Charrey | F26: 21170 | G26: Esbarres | K26: =IF((N26)="","",IF(MONTH(N26)=1,"Janvier",IF(MONTH(N26)=2,"Février",IF(MONTH(N26)=3,"Mars",IF(MONTH(N26)=4,"Avril",IF(MONTH(N26)=5,"Mai",IF(MONTH(N26)=6,"Juin",IF(MONTH(N26)=7,"Juillet",IF(MONTH(N26)=8,"Août",IF(MONTH(N26)=9,"Septembre",IF(MONTH(N26)=10,"Octobre",IF(MONTH(N26)=11,"Novembre","Décembre")))))))))))) | L26: =IF(N26="","",DAY(N26)) | M26: =IF(N26="","",YEAR(N26))
A27: 22 | B27: Cureau | C27: Bernard | D27: 22 | E27: 5, Quai National | F27: 21170 | G27: St Jean de Losne | K27: =IF((N27)="","",IF(MONTH(N27)=1,"Janvier",IF(MONTH(N27)=2,"Février",IF(MONTH(N27)=3,"Mars",IF(MONTH(N27)=4,"Avril",IF(MONTH(N27)=5,"Mai",IF(MONTH(N27)=6,"Juin",IF(MONTH(N27)=7,"Juillet",IF(MONTH(N27)=8,"Août",IF(MONTH(N27)=9,"Septembre",IF(MONTH(N27)=10,"Octobre",IF(MONTH(N27)=11,"Novembre","Décembre")))))))))))) -> Avril | L27: =IF(N27="","",DAY(N27)) -> 5 | M27: =IF(N27="","",YEAR(N27)) -> 1927 | N27: 9957
A28: 23 | B28: Degrace | C28: Michele | D28: 23 | E28: 21, Rue du paradis | F28: 21170 | G28: Maison-Dieu | K28: =IF((N28)="","",IF(MONTH(N28)=1,"Janvier",IF(MONTH(N28)=2,"Février",IF(MONTH(N28)=3,"Mars",IF(MONTH(N28)=4,"Avril",IF(MONTH(N28)=5,"Mai",IF(MONTH(N28)=6,"Juin",IF(MONTH(N28)=7,"Juillet",IF(MONTH(N28)=8,"Août",IF(MONTH(N28)=9,"Septembre",IF(MONTH(N28)=10,"Octobre",IF(MONTH(N28)=11,"Novembre","Décembre")))))))))))) | L28: =IF(N28="","",DAY(N28)) | M28: =IF(N28="","",YEAR(N28))
A29: 24 | B29: Del Gaudio | C29: Anne | D29: 24 | E29: 79, Grande rue | F29: 21130 | G29: Champdotre | K29: =IF((N29)="","",IF(MONTH(N29)=1,"Janvier",IF(MONTH(N29)=2,"Février",IF(MONTH(N29)=3,"Mars",IF(MONTH(N29)=4,"Avril",IF(MONTH(N29)=5,"Mai",IF(MONTH(N29)=6,"Juin",IF(MONTH(N29)=7,"Juillet",IF(MONTH(N29)=8,"Août",IF(MONTH(N29)=9,"Septembre",IF(MONTH(N29)=10,"Octobre",IF(MONTH(N29)=11,"Novembre","Décembre")))))))))))) | L29: =IF(N29="","",DAY(N29)) | M29: =IF(N29="","",YEAR(N29))
A30: 25 | B30: Del Gaudio | C30: Isa | D30: 25 | E30: 79 Grande rue | F30: 21130 | G30: Champdotre | H30: 380394711 | K30: =IF((N30)="","",IF(MONTH(N30)=1,"Janvier",IF(MONTH(N30)=2,"Février",IF(MONTH(N30)=3,"Mars",IF(MONTH(N30)=4,"Avril",IF(MONTH(N30)=5,"Mai",IF(MONTH(N30)=6,"Juin",IF(MONTH(N30)=7,"Juillet",IF(MONTH(N30)=8,"Août",IF(MONTH(N30)=9,"Septembre",IF(MONTH(N30)=10,"Octobre",IF(MONTH(N30)=11,"Novembre","Décembre")))))))))))) | L30: =IF(N30="","",DAY(N30)) | M30: =IF(N30="","",YEAR(N30))
A31: 26 | B31: DELAGRANGE | C31: Michel | D31: 26 | E31: 225 Rue du château | F31: 21250 | G31: Broin | H31: 380269485 | J31: michel.delagrange@wanadoo.fr | K31: =IF((N31)="","",IF(MONTH(N31)=1,"Janvier",IF(MONTH(N31)=2,"Février",IF(MONTH(N31)=3,"Mars",IF(MONTH(N31)=4,"Avril",IF(MONTH(N31)=5,"Mai",IF(MONTH(N31)=6,"Juin",IF(MONTH(N31)=7,"Juillet",IF(MONTH(N31)=8,"Août",IF(MONTH(N31)=9,"Septembre",IF(MONTH(N31)=10,"Octobre",IF(MONTH(N31)=11,"Novembre","Décembre")))))))))))) -> Avril | L31: =IF(N31="","",DAY(N31)) -> 18 | M31: =IF(N31="","",YEAR(N31)) -> 1938 | N31: 13988
A32: 66 | B32: Donnet | C32: Sandrine | D32: 66 | E32: 17, Rue Marion | F32: 21170 | G32: St Jean de Losne | K32: =IF((N32)="","",IF(MONTH(N32)=1,"Janvier",IF(MONTH(N32)=2,"Février",IF(MONTH(N32)=3,"Mars",IF(MONTH(N32)=4,"Avril",IF(MONTH(N32)=5,"Mai",IF(MONTH(N32)=6,"Juin",IF(MONTH(N32)=7,"Juillet",IF(MONTH(N32)=8,"Août",IF(MONTH(N32)=9,"Septembre",IF(MONTH(N32)=10,"Octobre",IF(MONTH(N32)=11,"Novembre","Décembre")))))))))))) -> Septembre | L32: =IF(N32="","",DAY(N32)) -> 23 | M32: =IF(N32="","",YEAR(N32)) -> 1950 | N32: 18529
A33: 27 | B33: Dromard | C33: Michelle | D33: 27 | E33: 1, Rue du 8 mai 1945 | F33: 21250 | G33: Seurre | K33: =IF((N33)="","",IF(MONTH(N33)=1,"Janvier",IF(MONTH(N33)=2,"Février",IF(MONTH(N33)=3,"Mars",IF(MONTH(N33)=4,"Avril",IF(MONTH(N33)=5,"Mai",IF(MONTH(N33)=6,"Juin",IF(MONTH(N33)=7,"Juillet",IF(MONTH(N33)=8,"Août",IF(MONTH(N33)=9,"Septembre",IF(MONTH(N33)=10,"Octobre",IF(MONTH(N33)=11,"Novembre","Décembre")))))))))))) -> Mars | L33: =IF(N33="","",DAY(N33)) -> 10 | M33: =IF(N33="","",YEAR(N33)) -> 1938 | N33: 13949
A34: 28 | B34: Dromard | C34: Robert | D34: 28 | E34: 1, Rue du 8 mai 1945 | F34: 21250 | G34: Seurre | K34: =IF((N34)="","",IF(MONTH(N34)=1,"Janvier",IF(MONTH(N34)=2,"Février",IF(MONTH(N34)=3,"Mars",IF(MONTH(N34)=4,"Avril",IF(MONTH(N34)=5,"Mai",IF(MONTH(N34)=6,"Juin",IF(MONTH(N34)=7,"Juillet",IF(MONTH(N34)=8,"Août",IF(MONTH(N34)=9,"Septembre",IF(MONTH(N34)=10,"Octobre",IF(MONTH(N34)=11,"Novembre","Décembre")))))))))))) -> Octobre | L34: =IF(N34="","",DAY(N34)) -> 6 | M34: =IF(N34="","",YEAR(N34)) -> 1937 | N34: 13794
A35: 67 | B35: Drouelle | C35: Denise | D35: 67 | E35: 7, Port St Jean | F35: 21170 | G35: St Jean de Losne | K35: =IF((N35)="","",IF(MONTH(N35)=1,"Janvier",IF(MONTH(N35)=2,"Février",IF(MONTH(N35)=3,"Mars",IF(MONTH(N35)=4,"Avril",IF(MONTH(N35)=5,"Mai",IF(MONTH(N35)=6,"Juin",IF(MONTH(N35)=7,"Juillet",IF(MONTH(N35)=8,"Août",IF(MONTH(N35)=9,"Septembre",IF(MONTH(N35)=10,"Octobre",IF(MONTH(N35)=11,"Novembre","Décembre")))))))))))) -> Mars | L35: =IF(N35="","",DAY(N35)) -> 16 | M35: =IF(N35="","",YEAR(N35)) -> 1931 | N35: 11398
A36: 29 | B36: Dubroca | C36: Thierry | D36: 29 | E36: 37b, Rue Charles Dumont | F36: 21000 | G36: Dijon | K36: =IF((N36)="","",IF(MONTH(N36)=1,"Janvier",IF(MONTH(N36)=2,"Février",IF(MONTH(N36)=3,"Mars",IF(MONTH(N36)=4,"Avril",IF(MONTH(N36)=5,"Mai",IF(MONTH(N36)=6,"Juin",IF(MONTH(N36)=7,"Juillet",IF(MONTH(N36)=8,"Août",IF(MONTH(N36)=9,"Septembre",IF(MONTH(N36)=10,"Octobre",IF(MONTH(N36)=11,"Novembre","Décembre")))))))))))) -> Novembre | L36: =IF(N36="","",DAY(N36)) -> 10 | M36: =IF(N36="","",YEAR(N36)) -> 1951 | N36: 18942
A37: 68 | B37: Evrard | C37: Stéphanie | D37: 68 | E37: Rue Capitaine Coignet | F37: 21130 | G37: Auxonne | K37: =IF((N37)="","",IF(MONTH(N37)=1,"Janvier",IF(MONTH(N37)=2,"Février",IF(MONTH(N37)=3,"Mars",IF(MONTH(N37)=4,"Avril",IF(MONTH(N37)=5,"Mai",IF(MONTH(N37)=6,"Juin",IF(MONTH(N37)=7,"Juillet",IF(MONTH(N37)=8,"Août",IF(MONTH(N37)=9,"Septembre",IF(MONTH(N37)=10,"Octobre",IF(MONTH(N37)=11,"Novembre","Décembre")))))))))))) | L37: =IF(N37="","",DAY(N37)) | M37: =IF(N37="","",YEAR(N37))
A38: 32 | B38: GANEE | C38: Daniel | D38: 32 | E38: 13bis Rue porte de Dijon | F38: 21170 | G38: St Jean de Losne | H38: 380392406 | I38: 687393975 | K38: =IF((N38)="","",IF(MONTH(N38)=1,"Janvier",IF(MONTH(N38)=2,"Février",IF(MONTH(N38)=3,"Mars",IF(MONTH(N38)=4,"Avril",IF(MONTH(N38)=5,"Mai",IF(MONTH(N38)=6,"Juin",IF(MONTH(N38)=7,"Juillet",IF(MONTH(N38)=8,"Août",IF(MONTH(N38)=9,"Septembre",IF(MONTH(N38)=10,"Octobre",IF(MONTH(N38)=11,"Novembre","Décembre")))))))))))) -> Décembre | L38: =IF(N38="","",DAY(N38)) -> 19 | M38: =IF(N38="","",YEAR(N38)) -> 1949 | N38: 18251
A39: 30 | B39: Farion-Variot | C39: Jocelyne | D39: 30 | E39: 29, Allée de Bellevue | F39: 21170 | G39: Losne | K39: =IF((N39)="","",IF(MONTH(N39)=1,"Janvier",IF(MONTH(N39)=2,"Février",IF(MONTH(N39)=3,"Mars",IF(MONTH(N39)=4,"Avril",IF(MONTH(N39)=5,"Mai",IF(MONTH(N39)=6,"Juin",IF(MONTH(N39)=7,"Juillet",IF(MONTH(N39)=8,"Août",IF(MONTH(N39)=9,"Septembre",IF(MONTH(N39)=10,"Octobre",IF(MONTH(N39)=11,"Novembre","Décembre")))))))))))) | L39: =IF(N39="","",DAY(N39)) | M39: =IF(N39="","",YEAR(N39))
A40: 2 | B40: Faure | C40: Robert | D40: 2 | E40: Rue de la Liberté | F40: 21170 | G40: St Jean de Losne | K40: =IF((N40)="","",IF(MONTH(N40)=1,"Janvier",IF(MONTH(N40)=2,"Février",IF(MONTH(N40)=3,"Mars",IF(MONTH(N40)=4,"Avril",IF(MONTH(N40)=5,"Mai",IF(MONTH(N40)=6,"Juin",IF(MONTH(N40)=7,"Juillet",IF(MONTH(N40)=8,"Août",IF(MONTH(N40)=9,"Septembre",IF(MONTH(N40)=10,"Octobre",IF(MONTH(N40)=11,"Novembre","Décembre")))))))))))) -> Avril | L40: =IF(N40="","",DAY(N40)) -> 7 | M40: =IF(N40="","",YEAR(N40)) -> 1968 | N40: 24935
A41: 1 | B41: Faure | C41: Sylvain | D41: 1 | E41: 14, Rue des Messiers | F41: 21170 | G41: St Jean de Losne | K41: =IF((N41)="","",IF(MONTH(N41)=1,"Janvier",IF(MONTH(N41)=2,"Février",IF(MONTH(N41)=3,"Mars",IF(MONTH(N41)=4,"Avril",IF(MONTH(N41)=5,"Mai",IF(MONTH(N41)=6,"Juin",IF(MONTH(N41)=7,"Juillet",IF(MONTH(N41)=8,"Août",IF(MONTH(N41)=9,"Septembre",IF(MONTH(N41)=10,"Octobre",IF(MONTH(N41)=11,"Novembre","Décembre")))))))))))) -> Décembre | L41: =IF(N41="","",DAY(N41)) -> 20 | M41: =IF(N41="","",YEAR(N41)) -> 1971 | N41: 26287
...

Sheet 2006-2007
B2: Nom | C2: Prénom | D2: N° Carte | E2: Adresse | F2: CP | G2: Ville | H2: Téléphone | I2: Portable | J2: Email | K2: Date Naiss | N2: Date
K3: Mois | L3: Jour | M3: Année
A4: 4 | B4: BEHEREC | C4: Franck | D4: 4 | E4: 3 Impasse Verdi | F4: 21470 | G4: Brazey en plaine | H4: 380298947 | I4: 614462165 | J4: franck.beherec@wanadoo.fr | K4: =IF((N4)="","",IF(MONTH(N4)=1,"Janvier",IF(MONTH(N4)=2,"Février",IF(MONTH(N4)=3,"Mars",IF(MONTH(N4)=4,"Avril",IF(MONTH(N4)=5,"Mai",IF(MONTH(N4)=6,"Juin",IF(MONTH(N4)=7,"Juillet",IF(MONTH(N4)=8,"Août",IF(MONTH(N4)=9,"Septembre",IF(MONTH(N4)=10,"Octobre",IF(MONTH(N4)=11,"Novembre","Décembre")))))))))))) -> Octobre | L4: =IF(N4="","",DAY(N4)) -> 24 | M4: =IF(N4="","",YEAR(N4)) -> 1967 | N4: 24769
A5: 135 | B5: BEUDET | C5: Jean | D5: 135 | E5: 12, Clos de Bellevue | F5: 21250 | G5: Pouilly sur Saone | H5: 380204308 | K5: =IF((N5)="","",IF(MONTH(N5)=1,"Janvier",IF(MONTH(N5)=2,"Février",IF(MONTH(N5)=3,"Mars",IF(MONTH(N5)=4,"Avril",IF(MONTH(N5)=5,"Mai",IF(MONTH(N5)=6,"Juin",IF(MONTH(N5)=7,"Juillet",IF(MONTH(N5)=8,"Août",IF(MONTH(N5)=9,"Septembre",IF(MONTH(N5)=10,"Octobre",IF(MONTH(N5)=11,"Novembre","Décembre")))))))))))) -> Janvier | L5: =IF(N5="","",DAY(N5)) -> 6 | M5: =IF(N5="","",YEAR(N5)) -> 1938 | N5: 13886
A6: 79 | B6: BOILLAUD | C6: Jean-Louis | D6: 79 | E6: 8 Route de Beaune | F6: 21170 | G6: St Usage | H6: 380290667 | I6: 679396168 | J6: jl.boillaud@wanadoo.fr | K6: =IF((N6)="","",IF(MONTH(N6)=1,"Janvier",IF(MONTH(N6)=2,"Février",IF(MONTH(N6)=3,"Mars",IF(MONTH(N6)=4,"Avril",IF(MONTH(N6)=5,"Mai",IF(MONTH(N6)=6,"Juin",IF(MONTH(N6)=7,"Juillet",IF(MONTH(N6)=8,"Août",IF(MONTH(N6)=9,"Septembre",IF(MONTH(N6)=10,"Octobre",IF(MONTH(N6)=11,"Novembre","Décembre")))))))))))) -> Juin | L6: =IF(N6="","",DAY(N6)) -> 8 | M6: =IF(N6="","",YEAR(N6)) -> 1945 | N6: 16596
A7: 80 | B7: BUSSIERE | C7: Monique | D7: 80 | E7: 9, Grande rue | F7: 21250 | G7: Bonnencontre | H7: 380363662 | K7: =IF((N7)="","",IF(MONTH(N7)=1,"Janvier",IF(MONTH(N7)=2,"Février",IF(MONTH(N7)=3,"Mars",IF(MONTH(N7)=4,"Avril",IF(MONTH(N7)=5,"Mai",IF(MONTH(N7)=6,"Juin",IF(MONTH(N7)=7,"Juillet",IF(MONTH(N7)=8,"Août",IF(MONTH(N7)=9,"Septembre",IF(MONTH(N7)=10,"Octobre",IF(MONTH(N7)=11,"Novembre","Décembre")))))))))))) -> Juillet | L7: =IF(N7="","",DAY(N7)) -> 7 | M7: =IF(N7="","",YEAR(N7)) -> 1947 | N7: 17355
A8: 81 | B8: CAPELLI | C8: Chantal | D8: 81 | E8: 26 Route de Beaune | F8: 21170 | G8: St Usage | H8: 380779059 | J8: Biquette999@yahoo.fr | K8: =IF((N8)="","",IF(MONTH(N8)=1,"Janvier",IF(MONTH(N8)=2,"Février",IF(MONTH(N8)=3,"Mars",IF(MONTH(N8)=4,"Avril",IF(MONTH(N8)=5,"Mai",IF(MONTH(N8)=6,"Juin",IF(MONTH(N8)=7,"Juillet",IF(MONTH(N8)=8,"Août",IF(MONTH(N8)=9,"Septembre",IF(MONTH(N8)=10,"Octobre",IF(MONTH(N8)=11,"Novembre","Décembre")))))))))))) -> Août | L8: =IF(N8="","",DAY(N8)) -> 10 | M8: =IF(N8="","",YEAR(N8)) -> 1944 | N8: 16294
A9: 82 | B9: CARREZ | C9: Alain | D9: 82 | E9: 15 Rue de la mare | F9: 21170 | G9: Montot | H9: 380329317 | I9: 678333988 | J9: acarrez@wanadoo.fr | K9: =IF((N9)="","",IF(MONTH(N9)=1,"Janvier",IF(MONTH(N9)=2,"Février",IF(MONTH(N9)=3,"Mars",IF(MONTH(N9)=4,"Avril",IF(MONTH(N9)=5,"Mai",IF(MONTH(N9)=6,"Juin",IF(MONTH(N9)=7,"Juillet",IF(MONTH(N9)=8,"Août",IF(MONTH(N9)=9,"Septembre",IF(MONTH(N9)=10,"Octobre",IF(MONTH(N9)=11,"Novembre","Décembre")))))))))))) -> Juillet | L9: =IF(N9="","",DAY(N9)) -> 23 | M9: =IF(N9="","",YEAR(N9)) -> 1947 | N9: 17371
A10: 16 | B10: CATY | C10: Anne Marie | D10: 16 | E10: rue du patis des buissons | F10: 21250 | G10: Tichey | H10: 380210868 | K10: =IF((N10)="","",IF(MONTH(N10)=1,"Janvier",IF(MONTH(N10)=2,"Février",IF(MONTH(N10)=3,"Mars",IF(MONTH(N10)=4,"Avril",IF(MONTH(N10)=5,"Mai",IF(MONTH(N10)=6,"Juin",IF(MONTH(N10)=7,"Juillet",IF(MONTH(N10)=8,"Août",IF(MONTH(N10)=9,"Septembre",IF(MONTH(N10)=10,"Octobre",IF(MONTH(N10)=11,"Novembre","Décembre")))))))))))) -> Février | L10: =IF(N10="","",DAY(N10)) -> 13 | M10: =IF(N10="","",YEAR(N10)) -> 1938 | N10: 13924
A11: 83 | B11: CHEVALIER | C11: Rachel | D11: 83 | E11: 23 Rue Chanoine Bonnard | F11: 21470 | G11: Brazey en plaine | H11: 380298577 | K11: =IF((N11)="","",IF(MONTH(N11)=1,"Janvier",IF(MONTH(N11)=2,"Février",IF(MONTH(N11)=3,"Mars",IF(MONTH(N11)=4,"Avril",IF(MONTH(N11)=5,"Mai",IF(MONTH(N11)=6,"Juin",IF(MONTH(N11)=7,"Juillet",IF(MONTH(N11)=8,"Août",IF(MONTH(N11)=9,"Septembre",IF(MONTH(N11)=10,"Octobre",IF(MONTH(N11)=11,"Novembre","Décembre")))))))))))) | L11: =IF(N11="","",DAY(N11)) | M11: =IF(N11="","",YEAR(N11))
A12: 84 | B12: COMBET | C12: Monique | D12: 84 | F12: 21250 | G12: Pagny la Ville | H12: 380363450 | K12: =IF((N12)="","",IF(MONTH(N12)=1,"Janvier",IF(MONTH(N12)=2,"Février",IF(MONTH(N12)=3,"Mars",IF(MONTH(N12)=4,"Avril",IF(MONTH(N12)=5,"Mai",IF(MONTH(N12)=6,"Juin",IF(MONTH(N12)=7,"Juillet",IF(MONTH(N12)=8,"Août",IF(MONTH(N12)=9,"Septembre",IF(MONTH(N12)=10,"Octobre",IF(MONTH(N12)=11,"Novembre","Décembre")))))))))))) | L12: =IF(N12="","",DAY(N12)) | M12: =IF(N12="","",YEAR(N12))
A13: 85 | B13: DECOSNE | C13: Denise | D13: 85 | E13: 29 Rue de Meix | F13: 21250 | G13: Seurre | H13: 380210183 | K13: =IF((N13)="","",IF(MONTH(N13)=1,"Janvier",IF(MONTH(N13)=2,"Février",IF(MONTH(N13)=3,"Mars",IF(MONTH(N13)=4,"Avril",IF(MONTH(N13)=5,"Mai",IF(MONTH(N13)=6,"Juin",IF(MONTH(N13)=7,"Juillet",IF(MONTH(N13)=8,"Août",IF(MONTH(N13)=9,"Septembre",IF(MONTH(N13)=10,"Octobre",IF(MONTH(N13)=11,"Novembre","Décembre")))))))))))) | L13: =IF(N13="","",DAY(N13)) | M13: =IF(N13="","",YEAR(N13))
A14: 26 | B14: DELAGRANGE | C14: Michel | D14: 26 | E14: 225 Rue du château | F14: 21250 | G14: Broin | H14: 380269485 | J14: michel.delagrange@wanadoo.fr | K14: =IF((N14)="","",IF(MONTH(N14)=1,"Janvier",IF(MONTH(N14)=2,"Février",IF(MONTH(N14)=3,"Mars",IF(MONTH(N14)=4,"Avril",IF(MONTH(N14)=5,"Mai",IF(MONTH(N14)=6,"Juin",IF(MONTH(N14)=7,"Juillet",IF(MONTH(N14)=8,"Août",IF(MONTH(N14)=9,"Septembre",IF(MONTH(N14)=10,"Octobre",IF(MONTH(N14)=11,"Novembre","Décembre")))))))))))) -> Avril | L14: =IF(N14="","",DAY(N14)) -> 18 | M14: =IF(N14="","",YEAR(N14)) -> 1938 | N14: 13988
A15: 2 | B15: FAURE | C15: Robert | D15: 2 | E15: Rue de la Liberté | F15: 21170 | G15: St Jean de Losne | K15: Avril | L15: 7 | M15: 1968 | N15: 24935
A16: 1 | B16: FAURE | C16: Sylvain | D16: 1 | E16: 14, Rue des Messiers | F16: 21170 | G16: St Jean de Losne | K16: =IF((N16)="","",IF(MONTH(N16)=1,"Janvier",IF(MONTH(N16)=2,"Février",IF(MONTH(N16)=3,"Mars",IF(MONTH(N16)=4,"Avril",IF(MONTH(N16)=5,"Mai",IF(MONTH(N16)=6,"Juin",IF(MONTH(N16)=7,"Juillet",IF(MONTH(N16)=8,"Août",IF(MONTH(N16)=9,"Septembre",IF(MONTH(N16)=10,"Octobre",IF(MONTH(N16)=11,"Novembre","Décembre")))))))))))) -> Décembre | L16: =IF(N16="","",DAY(N16)) -> 20 | M16: =IF(N16="","",YEAR(N16)) -> 1971 | N16: 26287
A17: 86 | B17: FORTIN | C17: Marie-Thérèse | D17: 86 | E17: 50, Avenue de la Gare | F17: 21910 | G17: Saulon la Chapelle | H17: 380397913 | J17: mariethe.fo1@aliceadsl.fr | K17: =IF((N17)="","",IF(MONTH(N17)=1,"Janvier",IF(MONTH(N17)=2,"Février",IF(MONTH(N17)=3,"Mars",IF(MONTH(N17)=4,"Avril",IF(MONTH(N17)=5,"Mai",IF(MONTH(N17)=6,"Juin",IF(MONTH(N17)=7,"Juillet",IF(MONTH(N17)=8,"Août",IF(MONTH(N17)=9,"Septembre",IF(MONTH(N17)=10,"Octobre",IF(MONTH(N17)=11,"Novembre","Décembre")))))))))))) -> Mai | L17: =IF(N17="","",DAY(N17)) -> 31 | M17: =IF(N17="","",YEAR(N17)) -> 1943 | N17: 15857
A18: 87 | B18: FREYLON | C18: Patrick | D18: 87 | F18: 21250 | G18: Pagny la Ville | I18: 623308282 | J18: patrick-freylon@neuf,fr | K18: =IF((N18)="","",IF(MONTH(N18)=1,"Janvier",IF(MONTH(N18)=2,"Février",IF(MONTH(N18)=3,"Mars",IF(MONTH(N18)=4,"Avril",IF(MONTH(N18)=5,"Mai",IF(MONTH(N18)=6,"Juin",IF(MONTH(N18)=7,"Juillet",IF(MONTH(N18)=8,"Août",IF(MONTH(N18)=9,"Septembre",IF(MONTH(N18)=10,"Octobre",IF(MONTH(N18)=11,"Novembre","Décembre")))))))))))) | L18: =IF(N18="","",DAY(N18)) | M18: =IF(N18="","",YEAR(N18))
A19: 88 | B19: GAGNEPAIN | C19: Sabine | D19: 88 | E19: 4, Rue de Beauraing | F19: 21250 | G19: Seurre | H19: 380203724 | K19: =IF((N19)="","",IF(MONTH(N19)=1,"Janvier",IF(MONTH(N19)=2,"Février",IF(MONTH(N19)=3,"Mars",IF(MONTH(N19)=4,"Avril",IF(MONTH(N19)=5,"Mai",IF(MONTH(N19)=6,"Juin",IF(MONTH(N19)=7,"Juillet",IF(MONTH(N19)=8,"Août",IF(MONTH(N19)=9,"Septembre",IF(MONTH(N19)=10,"Octobre",IF(MONTH(N19)=11,"Novembre","Décembre")))))))))))) | L19: =IF(N19="","",DAY(N19)) | M19: =IF(N19="","",YEAR(N19))
A20: 33 | B20: GAUTHERON | C20: Christiane | D20: 33 | E20: 2, Rue des lilas | F20: 21170 | G20: Losne | H20: 380291147 | I20: 616900396 | J20: gautheroncl@wanadoo.fr | K20: =IF((N20)="","",IF(MONTH(N20)=1,"Janvier",IF(MONTH(N20)=2,"Février",IF(MONTH(N20)=3,"Mars",IF(MONTH(N20)=4,"Avril",IF(MONTH(N20)=5,"Mai",IF(MONTH(N20)=6,"Juin",IF(MONTH(N20)=7,"Juillet",IF(MONTH(N20)=8,"Août",IF(MONTH(N20)=9,"Septembre",IF(MONTH(N20)=10,"Octobre",IF(MONTH(N20)=11,"Novembre","Décembre")))))))))))) | L20: =IF(N20="","",DAY(N20)) | M20: =IF(N20="","",YEAR(N20))
A21: 34 | B21: GAUTHERON | C21: Claude | D21: 34 | E21: 2, Rue des lilas | F21: 21170 | G21: Losne | H21: 380291147 | I21: 616900396 | J21: gautheroncl@wanadoo.fr | K21: =IF((N21)="","",IF(MONTH(N21)=1,"Janvier",IF(MONTH(N21)=2,"Février",IF(MONTH(N21)=3,"Mars",IF(MONTH(N21)=4,"Avril",IF(MONTH(N21)=5,"Mai",IF(MONTH(N21)=6,"Juin",IF(MONTH(N21)=7,"Juillet",IF(MONTH(N21)=8,"Août",IF(MONTH(N21)=9,"Septembre",IF(MONTH(N21)=10,"Octobre",IF(MONTH(N21)=11,"Novembre","Décembre")))))))))))) -> Février | L21: =IF(N21="","",DAY(N21)) -> 16 | M21: =IF(N21="","",YEAR(N21)) -> 1937 | N21: 13562
A22: 89 | B22: HELIOT | C22: Alexis | D22: 89 | E22: 25 Route de la Saône | F22: 21170 | G22: Losne | H22: 380291553 | K22: =IF((N22)="","",IF(MONTH(N22)=1,"Janvier",IF(MONTH(N22)=2,"Février",IF(MONTH(N22)=3,"Mars",IF(MONTH(N22)=4,"Avril",IF(MONTH(N22)=5,"Mai",IF(MONTH(N22)=6,"Juin",IF(MONTH(N22)=7,"Juillet",IF(MONTH(N22)=8,"Août",IF(MONTH(N22)=9,"Septembre",IF(MONTH(N22)=10,"Octobre",IF(MONTH(N22)=11,"Novembre","Décembre")))))))))))) | L22: =IF(N22="","",DAY(N22)) | M22: =IF(N22="","",YEAR(N22))
A23: 90 | B23: HUGUENOT | C23: Jean-Louis | D23: 90 | E23: 25 Rue Chanoine Bonnard | F23: 21470 | G23: Brazey en plaine | H23: 380298316 | J23: huguenotjl@aol.com | K23: =IF((N23)="","",IF(MONTH(N23)=1,"Janvier",IF(MONTH(N23)=2,"Février",IF(MONTH(N23)=3,"Mars",IF(MONTH(N23)=4,"Avril",IF(MONTH(N23)=5,"Mai",IF(MONTH(N23)=6,"Juin",IF(MONTH(N23)=7,"Juillet",IF(MONTH(N23)=8,"Août",IF(MONTH(N23)=9,"Septembre",IF(MONTH(N23)=10,"Octobre",IF(MONTH(N23)=11,"Novembre","Décembre")))))))))))) | L23: =IF(N23="","",DAY(N23)) | M23: =IF(N23="","",YEAR(N23))
A24: 91 | B24: HUGUENOT | C24: Etienne | D24: 91 | E24: 25 Rue Chanoine Bonnard | F24: 21470 | G24: Brazey en plaine | H24: 380298316 | K24: =IF((N24)="","",IF(MONTH(N24)=1,"Janvier",IF(MONTH(N24)=2,"Février",IF(MONTH(N24)=3,"Mars",IF(MONTH(N24)=4,"Avril",IF(MONTH(N24)=5,"Mai",IF(MONTH(N24)=6,"Juin",IF(MONTH(N24)=7,"Juillet",IF(MONTH(N24)=8,"Août",IF(MONTH(N24)=9,"Septembre",IF(MONTH(N24)=10,"Octobre",IF(MONTH(N24)=11,"Novembre","Décembre")))))))))))) | L24: =IF(N24="","",DAY(N24)) | M24: =IF(N24="","",YEAR(N24))
A25: 92 | B25: HUGUENOT | C25: Robin | D25: 92 | E25: 25 Rue Chanoine Bonnard | F25: 21470 | G25: Brazey en plaine | H25: 380298316 | K25: =IF((N25)="","",IF(MONTH(N25)=1,"Janvier",IF(MONTH(N25)=2,"Février",IF(MONTH(N25)=3,"Mars",IF(MONTH(N25)=4,"Avril",IF(MONTH(N25)=5,"Mai",IF(MONTH(N25)=6,"Juin",IF(MONTH(N25)=7,"Juillet",IF(MONTH(N25)=8,"Août",IF(MONTH(N25)=9,"Septembre",IF(MONTH(N25)=10,"Octobre",IF(MONTH(N25)=11,"Novembre","Décembre")))))))))))) | L25: =IF(N25="","",DAY(N25)) | M25: =IF(N25="","",YEAR(N25))
A26: 36 | B26: JAN | C26: LOUIS | D26: 36 | E26: 5 Route de Trouhans | F26: 21170 | G26: St Usage | H26: 380392269 | J26: jan.louis2@wanadoo.fr | K26: =IF((N26)="","",IF(MONTH(N26)=1,"Janvier",IF(MONTH(N26)=2,"Février",IF(MONTH(N26)=3,"Mars",IF(MONTH(N26)=4,"Avril",IF(MONTH(N26)=5,"Mai",IF(MONTH(N26)=6,"Juin",IF(MONTH(N26)=7,"Juillet",IF(MONTH(N26)=8,"Août",IF(MONTH(N26)=9,"Septembre",IF(MONTH(N26)=10,"Octobre",IF(MONTH(N26)=11,"Novembre","Décembre")))))))))))) -> Février | L26: =IF(N26="","",DAY(N26)) -> 11 | M26: =IF(N26="","",YEAR(N26)) -> 1923 | N26: 8443
A27: 93 | B27: JEANNIN | C27: Gérard | D27: 93 | E27: 15 Rue Monge | F27: 21170 | G27: St Jean de Losne | H27: 380501337 | K27: =IF((N27)="","",IF(MONTH(N27)=1,"Janvier",IF(MONTH(N27)=2,"Février",IF(MONTH(N27)=3,"Mars",IF(MONTH(N27)=4,"Avril",IF(MONTH(N27)=5,"Mai",IF(MONTH(N27)=6,"Juin",IF(MONTH(N27)=7,"Juillet",IF(MONTH(N27)=8,"Août",IF(MONTH(N27)=9,"Septembre",IF(MONTH(N27)=10,"Octobre",IF(MONTH(N27)=11,"Novembre","Décembre")))))))))))) | L27: =IF(N27="","",DAY(N27)) | M27: =IF(N27="","",YEAR(N27))
A28: 94 | B28: JEANNIN | C28: Sylvie | D28: 94 | E28: 15 Rue Monge | F28: 21170 | G28: St Jean de Losne | H28: 380501337 | I28: 611668101 | J28: jeannin_rougelet@hotmail.fr | K28: =IF((N28)="","",IF(MONTH(N28)=1,"Janvier",IF(MONTH(N28)=2,"Février",IF(MONTH(N28)=3,"Mars",IF(MONTH(N28)=4,"Avril",IF(MONTH(N28)=5,"Mai",IF(MONTH(N28)=6,"Juin",IF(MONTH(N28)=7,"Juillet",IF(MONTH(N28)=8,"Août",IF(MONTH(N28)=9,"Septembre",IF(MONTH(N28)=10,"Octobre",IF(MONTH(N28)=11,"Novembre","Décembre")))))))))))) | L28: =IF(N28="","",DAY(N28)) | M28: =IF(N28="","",YEAR(N28))
A29: 37 | B29: LACREUSE | C29: Gérard | D29: 37 | E29: 1, Rue Sainte Barbe | F29: 21250 | G29: Seurre | H29: 380211007 | J29: anglacreuse@orange.fr | K29: =IF((N29)="","",IF(MONTH(N29)=1,"Janvier",IF(MONTH(N29)=2,"Février",IF(MONTH(N29)=3,"Mars",IF(MONTH(N29)=4,"Avril",IF(MONTH(N29)=5,"Mai",IF(MONTH(N29)=6,"Juin",IF(MONTH(N29)=7,"Juillet",IF(MONTH(N29)=8,"Août",IF(MONTH(N29)=9,"Septembre",IF(MONTH(N29)=10,"Octobre",IF(MONTH(N29)=11,"Novembre","Décembre")))))))))))) -> Octobre | L29: =IF(N29="","",DAY(N29)) -> 14 | M29: =IF(N29="","",YEAR(N29)) -> 1947 | N29: 17454
A30: 40 | B30: LEGROS | C30: Lucien | D30: 40 | E30: 66, Grande rue | F30: 21250 | G30: Pagny la Ville | H30: 380363191 | J30: legros.lucien@wanadoo.fr | K30: =IF((N30)="","",IF(MONTH(N30)=1,"Janvier",IF(MONTH(N30)=2,"Février",IF(MONTH(N30)=3,"Mars",IF(MONTH(N30)=4,"Avril",IF(MONTH(N30)=5,"Mai",IF(MONTH(N30)=6,"Juin",IF(MONTH(N30)=7,"Juillet",IF(MONTH(N30)=8,"Août",IF(MONTH(N30)=9,"Septembre",IF(MONTH(N30)=10,"Octobre",IF(MONTH(N30)=11,"Novembre","Décembre")))))))))))) -> Février | L30: =IF(N30="","",DAY(N30)) -> 16 | M30: =IF(N30="","",YEAR(N30)) -> 1933 | N30: 12101
A31: 95 | B31: LEROUX | C31: Patrick | D31: 95 | F31: 21470 | G31: Brazey en plaine | I31: 603430826 | K31: =IF((N31)="","",IF(MONTH(N31)=1,"Janvier",IF(MONTH(N31)=2,"Février",IF(MONTH(N31)=3,"Mars",IF(MONTH(N31)=4,"Avril",IF(MONTH(N31)=5,"Mai",IF(MONTH(N31)=6,"Juin",IF(MONTH(N31)=7,"Juillet",IF(MONTH(N31)=8,"Août",IF(MONTH(N31)=9,"Septembre",IF(MONTH(N31)=10,"Octobre",IF(MONTH(N31)=11,"Novembre","Décembre")))))))))))) -> Janvier | L31: =IF(N31="","",DAY(N31)) -> 12 | M31: =IF(N31="","",YEAR(N31)) -> 1954 | N31: 19736
A32: 96 | B32: LEROY | C32: Claude | D32: 96 | E32: 20 Meix aux Cas | F32: 21470 | G32: Brazey en plaine | H32: 380298966 | K32: =IF((N32)="","",IF(MONTH(N32)=1,"Janvier",IF(MONTH(N32)=2,"Février",IF(MONTH(N32)=3,"Mars",IF(MONTH(N32)=4,"Avril",IF(MONTH(N32)=5,"Mai",IF(MONTH(N32)=6,"Juin",IF(MONTH(N32)=7,"Juillet",IF(MONTH(N32)=8,"Août",IF(MONTH(N32)=9,"Septembre",IF(MONTH(N32)=10,"Octobre",IF(MONTH(N32)=11,"Novembre","Décembre")))))))))))) | L32: =IF(N32="","",DAY(N32)) | M32: =IF(N32="","",YEAR(N32))
A33: 97 | B33: LINCK | C33: Quentin | D33: 97 | E33: 11 Cours Pierre et Marie Curie | F33: 21470 | G33: Brazey en plaine | H33: 380298966 | K33: =IF((N33)="","",IF(MONTH(N33)=1,"Janvier",IF(MONTH(N33)=2,"Février",IF(MONTH(N33)=3,"Mars",IF(MONTH(N33)=4,"Avril",IF(MONTH(N33)=5,"Mai",IF(MONTH(N33)=6,"Juin",IF(MONTH(N33)=7,"Juillet",IF(MONTH(N33)=8,"Août",IF(MONTH(N33)=9,"Septembre",IF(MONTH(N33)=10,"Octobre",IF(MONTH(N33)=11,"Novembre","Décembre")))))))))))) | L33: =IF(N33="","",DAY(N33)) | M33: =IF(N33="","",YEAR(N33))
A34: 98 | B34: MARCHAND | C34: Michel | D34: 98 | E34: 19 Rue du Jura | F34: 21110 | G34: Aiserey | H34: 380297202 | K34: =IF((N34)="","",IF(MONTH(N34)=1,"Janvier",IF(MONTH(N34)=2,"Février",IF(MONTH(N34)=3,"Mars",IF(MONTH(N34)=4,"Avril",IF(MONTH(N34)=5,"Mai",IF(MONTH(N34)=6,"Juin",IF(MONTH(N34)=7,"Juillet",IF(MONTH(N34)=8,"Août",IF(MONTH(N34)=9,"Septembre",IF(MONTH(N34)=10,"Octobre",IF(MONTH(N34)=11,"Novembre","Décembre")))))))))))) | L34: =IF(N34="","",DAY(N34)) | M34: =IF(N34="","",YEAR(N34))
A35: 42 | B35: MARGUERY | C35: Bernard | D35: 42 | E35: 6, Rue de la place | F35: 21250 | G35: Labruyère | K35: Décembre | L35: 31 | M35: 1930 | N35: 11323
A36: 99 | B36: MATHIRON | C36: David | D36: 99 | E36: 3 Rue de la rivière | F36: 21110 | G36: Bessey les Citeaux | I36: 623664409 | K36: =IF((N36)="","",IF(MONTH(N36)=1,"Janvier",IF(MONTH(N36)=2,"Février",IF(MONTH(N36)=3,"Mars",IF(MONTH(N36)=4,"Avril",IF(MONTH(N36)=5,"Mai",IF(MONTH(N36)=6,"Juin",IF(MONTH(N36)=7,"Juillet",IF(MONTH(N36)=8,"Août",IF(MONTH(N36)=9,"Septembre",IF(MONTH(N36)=10,"Octobre",IF(MONTH(N36)=11,"Novembre","Décembre")))))))))))) | L36: =IF(N36="","",DAY(N36)) | M36: =IF(N36="","",YEAR(N36))
A37: 100 | B37: MATHIRON | C37: Ghislaine | D37: 100 | E37: 3 Rue de la rivière | F37: 21110 | G37: Bessey les Citeaux | H37: 380297865 | K37: =IF((N37)="","",IF(MONTH(N37)=1,"Janvier",IF(MONTH(N37)=2,"Février",IF(MONTH(N37)=3,"Mars",IF(MONTH(N37)=4,"Avril",IF(MONTH(N37)=5,"Mai",IF(MONTH(N37)=6,"Juin",IF(MONTH(N37)=7,"Juillet",IF(MONTH(N37)=8,"Août",IF(MONTH(N37)=9,"Septembre",IF(MONTH(N37)=10,"Octobre",IF(MONTH(N37)=11,"Novembre","Décembre")))))))))))) | L37: =IF(N37="","",DAY(N37)) | M37: =IF(N37="","",YEAR(N37))
A38: 101 | B38: MATHIRON | C38: Virginie | D38: 101 | E38: Allée bastion des Charmilles | F38: 21170 | G38: St Jean de Losne | I38: 678718325 | K38: =IF((N38)="","",IF(MONTH(N38)=1,"Janvier",IF(MONTH(N38)=2,"Février",IF(MONTH(N38)=3,"Mars",IF(MONTH(N38)=4,"Avril",IF(MONTH(N38)=5,"Mai",IF(MONTH(N38)=6,"Juin",IF(MONTH(N38)=7,"Juillet",IF(MONTH(N38)=8,"Août",IF(MONTH(N38)=9,"Septembre",IF(MONTH(N38)=10,"Octobre",IF(MONTH(N38)=11,"Novembre","Décembre")))))))))))) | L38: =IF(N38="","",DAY(N38)) | M38: =IF(N38="","",YEAR(N38))
A39: 102 | B39: MAZUE | C39: Nelly | D39: 102 | E39: 29 Grande route de Seurre | F39: 21250 | G39: Chamblanc | H39: 380204515 | K39: =IF((N39)="","",IF(MONTH(N39)=1,"Janvier",IF(MONTH(N39)=2,"Février",IF(MONTH(N39)=3,"Mars",IF(MONTH(N39)=4,"Avril",IF(MONTH(N39)=5,"Mai",IF(MONTH(N39)=6,"Juin",IF(MONTH(N39)=7,"Juillet",IF(MONTH(N39)=8,"Août",IF(MONTH(N39)=9,"Septembre",IF(MONTH(N39)=10,"Octobre",IF(MONTH(N39)=11,"Novembre","Décembre")))))))))))) | L39: =IF(N39="","",DAY(N39)) | M39: =IF(N39="","",YEAR(N39))
A40: 103 | B40: MICHAUD | C40: Sylvie | D40: 103 | E40: Impasse Jean Curé | F40: 21470 | G40: Brazey en plaine | H40: 380298230 | K40: =IF((N40)="","",IF(MONTH(N40)=1,"Janvier",IF(MONTH(N40)=2,"Février",IF(MONTH(N40)=3,"Mars",IF(MONTH(N40)=4,"Avril",IF(MONTH(N40)=5,"Mai",IF(MONTH(N40)=6,"Juin",IF(MONTH(N40)=7,"Juillet",IF(MONTH(N40)=8,"Août",IF(MONTH(N40)=9,"Septembre",IF(MONTH(N40)=10,"Octobre",IF(MONTH(N40)=11,"Novembre","Décembre")))))))))))) | L40: =IF(N40="","",DAY(N40)) | M40: =IF(N40="","",YEAR(N40))
A41: 70 | B41: MILLIOT | C41: Virginie | D41: 70 | E41: 17, Rue meix brulé | F41: 21170 | G41: St Jean de Losne | K41: Juillet | L41: 7 | M41: 1955 | N41: 20277
...

Sheet 2007-2008
B2: Nom | C2: Prénom | D2: N° Carte | E2: Adresse | F2: CP | G2: Ville | H2: Téléphone | I2: Portable | J2: Email | K2: Date Naiss | N2: A ou R | P2: Date
K3: Mois | L3: Jour | M3: Année
A4: 126 | B4: Amiot | C4: André | D4: 126 | E4: 14, Rue des Oies | F4: 21170 | G4: Echenon | H4: 380290222 | K4: =IF((P4)="","",IF(MONTH(P4)=1,"Janvier",IF(MONTH(P4)=2,"Février",IF(MONTH(P4)=3,"Mars",IF(MONTH(P4)=4,"Avril",IF(MONTH(P4)=5,"Mai",IF(MONTH(P4)=6,"Juin",IF(MONTH(P4)=7,"Juillet",IF(MONTH(P4)=8,"Août",IF(MONTH(P4)=9,"Septembre",IF(MONTH(P4)=10,"Octobre",IF(MONTH(P4)=11,"Novembre","Décembre")))))))))))) -> Janvier | L4: =IF(P4="","",DAY(P4)) -> 19 | M4: =IF(P4="","",YEAR(P4)) -> 1947 | N4: A | O4: P | P4: 17186
A5: 4 | B5: Beherec | C5: Franck | D5: 4 | E5: 3 Impasse Verdi | F5: 21470 | G5: Brazey en plaine | H5: 380298947 | I5: 614462165 | J5: franck.beherec@wanadoo.fr | K5: =IF((P5)="","",IF(MONTH(P5)=1,"Janvier",IF(MONTH(P5)=2,"Février",IF(MONTH(P5)=3,"Mars",IF(MONTH(P5)=4,"Avril",IF(MONTH(P5)=5,"Mai",IF(MONTH(P5)=6,"Juin",IF(MONTH(P5)=7,"Juillet",IF(MONTH(P5)=8,"Août",IF(MONTH(P5)=9,"Septembre",IF(MONTH(P5)=10,"Octobre",IF(MONTH(P5)=11,"Novembre","Décembre")))))))))))) -> Octobre | L5: =IF(P5="","",DAY(P5)) -> 24 | M5: =IF(P5="","",YEAR(P5)) -> 1967 | N5: R | O5: P | P5: 24769
A6: 135 | B6: Beudet | C6: Jean | D6: 135 | E6: 12, Clos de Bellevue | F6: 21250 | G6: Pouilly sur Saone | H6: 380204308 | K6: =IF((P6)="","",IF(MONTH(P6)=1,"Janvier",IF(MONTH(P6)=2,"Février",IF(MONTH(P6)=3,"Mars",IF(MONTH(P6)=4,"Avril",IF(MONTH(P6)=5,"Mai",IF(MONTH(P6)=6,"Juin",IF(MONTH(P6)=7,"Juillet",IF(MONTH(P6)=8,"Août",IF(MONTH(P6)=9,"Septembre",IF(MONTH(P6)=10,"Octobre",IF(MONTH(P6)=11,"Novembre","Décembre")))))))))))) -> Janvier | L6: =IF(P6="","",DAY(P6)) -> 6 | M6: =IF(P6="","",YEAR(P6)) -> 1938 | N6: R | O6: P | P6: 13886
A7: 79 | B7: Boillaud | C7: Jean-Louis | D7: 79 | E7: 8 Route de Beaune | F7: 21170 | G7: St Usage | H7: 380290667 | I7: 679396168 | J7: jl.boillaud@wanadoo.fr | K7: =IF((P7)="","",IF(MONTH(P7)=1,"Janvier",IF(MONTH(P7)=2,"Février",IF(MONTH(P7)=3,"Mars",IF(MONTH(P7)=4,"Avril",IF(MONTH(P7)=5,"Mai",IF(MONTH(P7)=6,"Juin",IF(MONTH(P7)=7,"Juillet",IF(MONTH(P7)=8,"Août",IF(MONTH(P7)=9,"Septembre",IF(MONTH(P7)=10,"Octobre",IF(MONTH(P7)=11,"Novembre","Décembre")))))))))))) -> Juin | L7: =IF(P7="","",DAY(P7)) -> 6 | M7: =IF(P7="","",YEAR(P7)) -> 1945 | N7: R | O7: P | P7: 16594
A8: 133 | B8: Boulogne | C8: Jean-Marie | D8: 133 | E8: 28, Rue du Chanoine Bonnard | F8: 21470 | G8: Brazey en plaine | I8: 630499384 | K8: =IF((P8)="","",IF(MONTH(P8)=1,"Janvier",IF(MONTH(P8)=2,"Février",IF(MONTH(P8)=3,"Mars",IF(MONTH(P8)=4,"Avril",IF(MONTH(P8)=5,"Mai",IF(MONTH(P8)=6,"Juin",IF(MONTH(P8)=7,"Juillet",IF(MONTH(P8)=8,"Août",IF(MONTH(P8)=9,"Septembre",IF(MONTH(P8)=10,"Octobre",IF(MONTH(P8)=11,"Novembre","Décembre")))))))))))) -> Juin | L8: =IF(P8="","",DAY(P8)) -> 24 | M8: =IF(P8="","",YEAR(P8)) -> 1941 | N8: A | O8: P | P8: 15151
A9: 80 | B9: Bussiere | C9: Monique | D9: 80 | E9: 9, Grande rue | F9: 21250 | G9: Bonnencontre | H9: 380363662 | K9: =IF((P9)="","",IF(MONTH(P9)=1,"Janvier",IF(MONTH(P9)=2,"Février",IF(MONTH(P9)=3,"Mars",IF(MONTH(P9)=4,"Avril",IF(MONTH(P9)=5,"Mai",IF(MONTH(P9)=6,"Juin",IF(MONTH(P9)=7,"Juillet",IF(MONTH(P9)=8,"Août",IF(MONTH(P9)=9,"Septembre",IF(MONTH(P9)=10,"Octobre",IF(MONTH(P9)=11,"Novembre","Décembre")))))))))))) -> Juillet | L9: =IF(P9="","",DAY(P9)) -> 7 | M9: =IF(P9="","",YEAR(P9)) -> 1947 | N9: R | O9: P | P9: 17355
A10: 81 | B10: Capelli | C10: Chantal | D10: 81 | E10: 26 Route de Beaune | F10: 21170 | G10: St Usage | H10: 380779059 | J10: Biquette999@yahoo.fr | K10: =IF((P10)="","",IF(MONTH(P10)=1,"Janvier",IF(MONTH(P10)=2,"Février",IF(MONTH(P10)=3,"Mars",IF(MONTH(P10)=4,"Avril",IF(MONTH(P10)=5,"Mai",IF(MONTH(P10)=6,"Juin",IF(MONTH(P10)=7,"Juillet",IF(MONTH(P10)=8,"Août",IF(MONTH(P10)=9,"Septembre",IF(MONTH(P10)=10,"Octobre",IF(MONTH(P10)=11,"Novembre","Décembre")))))))))))) -> Août | L10: =IF(P10="","",DAY(P10)) -> 10 | M10: =IF(P10="","",YEAR(P10)) -> 1944 | N10: R | O10: P | P10: 16294
A11: 82 | B11: Carrez | C11: Alain | D11: 82 | E11: 15 Rue de la mare | F11: 21170 | G11: Montot | H11: 380329317 | I11: 678333988 | J11: acarrez@wanadoo.fr | K11: =IF((P11)="","",IF(MONTH(P11)=1,"Janvier",IF(MONTH(P11)=2,"Février",IF(MONTH(P11)=3,"Mars",IF(MONTH(P11)=4,"Avril",IF(MONTH(P11)=5,"Mai",IF(MONTH(P11)=6,"Juin",IF(MONTH(P11)=7,"Juillet",IF(MONTH(P11)=8,"Août",IF(MONTH(P11)=9,"Septembre",IF(MONTH(P11)=10,"Octobre",IF(MONTH(P11)=11,"Novembre","Décembre")))))))))))) -> Juillet | L11: =IF(P11="","",DAY(P11)) -> 23 | M11: =IF(P11="","",YEAR(P11)) -> 1947 | N11: A | O11: P | P11: 17371
A12: 128 | B12: Chauvot | C12: Madeleine | D12: 128 | E12: 61, Rue le Meix au tas | F12: 21470 | G12: Brazey en plaine | H12: 380299829 | K12: =IF((P12)="","",IF(MONTH(P12)=1,"Janvier",IF(MONTH(P12)=2,"Février",IF(MONTH(P12)=3,"Mars",IF(MONTH(P12)=4,"Avril",IF(MONTH(P12)=5,"Mai",IF(MONTH(P12)=6,"Juin",IF(MONTH(P12)=7,"Juillet",IF(MONTH(P12)=8,"Août",IF(MONTH(P12)=9,"Septembre",IF(MONTH(P12)=10,"Octobre",IF(MONTH(P12)=11,"Novembre","Décembre")))))))))))) -> Septembre | L12: =IF(P12="","",DAY(P12)) -> 21 | M12: =IF(P12="","",YEAR(P12)) -> 1949 | N12: A | O12: P | P12: 18162
A13: 127 | B13: Chenevoy | C13: Paulette | D13: 127 | E13: 1; Rue du Ponteux | F13: 21170 | G13: Losne | H13: 380290468 | I13: 632368023 | J13: paulette.chenevoy@orange.fr | K13: =IF((P13)="","",IF(MONTH(P13)=1,"Janvier",IF(MONTH(P13)=2,"Février",IF(MONTH(P13)=3,"Mars",IF(MONTH(P13)=4,"Avril",IF(MONTH(P13)=5,"Mai",IF(MONTH(P13)=6,"Juin",IF(MONTH(P13)=7,"Juillet",IF(MONTH(P13)=8,"Août",IF(MONTH(P13)=9,"Septembre",IF(MONTH(P13)=10,"Octobre",IF(MONTH(P13)=11,"Novembre","Décembre")))))))))))) -> Mars | L13: =IF(P13="","",DAY(P13)) -> 30 | M13: =IF(P13="","",YEAR(P13)) -> 1935 | N13: A | O13: P | P13: 12873
B14: Chevalier | C14: Rachel | D14: 83 | E14: 23, Rue Chanoine Bonnard | F14: 21470 | G14: Brazey en plaine
A15: 19 | B15: Clemence | C15: Bernard | D15: 19 | E15: 9 Rue de la petite levée | F15: 21170 | G15: Losne | H15: 380392678 | I15: 677647670 | J15: bernard-clemence@wanadoo.fr | K15: =IF((P15)="","",IF(MONTH(P15)=1,"Janvier",IF(MONTH(P15)=2,"Février",IF(MONTH(P15)=3,"Mars",IF(MONTH(P15)=4,"Avril",IF(MONTH(P15)=5,"Mai",IF(MONTH(P15)=6,"Juin",IF(MONTH(P15)=7,"Juillet",IF(MONTH(P15)=8,"Août",IF(MONTH(P15)=9,"Septembre",IF(MONTH(P15)=10,"Octobre",IF(MONTH(P15)=11,"Novembre","Décembre")))))))))))) -> Mars | L15: =IF(P15="","",DAY(P15)) -> 6 | M15: =IF(P15="","",YEAR(P15)) -> 1942 | N15: R | O15: P | P15: 15406
A16: 136 | B16: Clemence | C16: René | D16: 136 | E16: 9, Rue d'Auxonne | F16: 21470 | G16: Brazey en plaine | H16: 380298449 | K16: =IF((P16)="","",IF(MONTH(P16)=1,"Janvier",IF(MONTH(P16)=2,"Février",IF(MONTH(P16)=3,"Mars",IF(MONTH(P16)=4,"Avril",IF(MONTH(P16)=5,"Mai",IF(MONTH(P16)=6,"Juin",IF(MONTH(P16)=7,"Juillet",IF(MONTH(P16)=8,"Août",IF(MONTH(P16)=9,"Septembre",IF(MONTH(P16)=10,"Octobre",IF(MONTH(P16)=11,"Novembre","Décembre")))))))))))) -> Février | L16: =IF(P16="","",DAY(P16)) -> 28 | M16: =IF(P16="","",YEAR(P16)) -> 1943 | N16: A | O16: P | P16: 15765
B17: Combet | C17: Monique | D17: 84 | F17: 21250 | G17: Pagny la Ville
A18: 21 | B18: Cornuel | C18: Michel | D18: 21 | E18: 14 Rue St Jacques | F18: 21170 | G18: St Usage | H18: 380291162 | J18: cornuel.michel@wanadoo.fr | K18: =IF((P18)="","",IF(MONTH(P18)=1,"Janvier",IF(MONTH(P18)=2,"Février",IF(MONTH(P18)=3,"Mars",IF(MONTH(P18)=4,"Avril",IF(MONTH(P18)=5,"Mai",IF(MONTH(P18)=6,"Juin",IF(MONTH(P18)=7,"Juillet",IF(MONTH(P18)=8,"Août",IF(MONTH(P18)=9,"Septembre",IF(MONTH(P18)=10,"Octobre",IF(MONTH(P18)=11,"Novembre","Décembre")))))))))))) -> Septembre | L18: =IF(P18="","",DAY(P18)) -> 5 | M18: =IF(P18="","",YEAR(P18)) -> 1943 | N18: R | O18: P | P18: 15954
A19: 129 | B19: Degobe | C19: Annie | D19: 129 | E19: 8, Rue du canal | F19: 21470 | G19: Brazey en plaine | H19: 380298005 | I19: 677326924 | K19: =IF((P19)="","",IF(MONTH(P19)=1,"Janvier",IF(MONTH(P19)=2,"Février",IF(MONTH(P19)=3,"Mars",IF(MONTH(P19)=4,"Avril",IF(MONTH(P19)=5,"Mai",IF(MONTH(P19)=6,"Juin",IF(MONTH(P19)=7,"Juillet",IF(MONTH(P19)=8,"Août",IF(MONTH(P19)=9,"Septembre",IF(MONTH(P19)=10,"Octobre",IF(MONTH(P19)=11,"Novembre","Décembre")))))))))))) | L19: =IF(P19="","",DAY(P19)) | M19: =IF(P19="","",YEAR(P19)) | N19: A | O19: P
A20: 26 | B20: Delagrange | C20: Michel | D20: 26 | E20: 225 Rue du château | F20: 21250 | G20: Broin | H20: 380269485 | J20: michel.delagrange@wanadoo.fr | K20: =IF((P20)="","",IF(MONTH(P20)=1,"Janvier",IF(MONTH(P20)=2,"Février",IF(MONTH(P20)=3,"Mars",IF(MONTH(P20)=4,"Avril",IF(MONTH(P20)=5,"Mai",IF(MONTH(P20)=6,"Juin",IF(MONTH(P20)=7,"Juillet",IF(MONTH(P20)=8,"Août",IF(MONTH(P20)=9,"Septembre",IF(MONTH(P20)=10,"Octobre",IF(MONTH(P20)=11,"Novembre","Décembre")))))))))))) -> Avril | L20: =IF(P20="","",DAY(P20)) -> 18 | M20: =IF(P20="","",YEAR(P20)) -> 1938 | N20: R | O20: P | P20: 13988
A21: 131 | B21: Dessint | C21: Michel | D21: 131 | E21: 8, Ancienne route de Seurre | F21: 21170 | G21: Losne | I21: 624976601 | K21: =IF((P21)="","",IF(MONTH(P21)=1,"Janvier",IF(MONTH(P21)=2,"Février",IF(MONTH(P21)=3,"Mars",IF(MONTH(P21)=4,"Avril",IF(MONTH(P21)=5,"Mai",IF(MONTH(P21)=6,"Juin",IF(MONTH(P21)=7,"Juillet",IF(MONTH(P21)=8,"Août",IF(MONTH(P21)=9,"Septembre",IF(MONTH(P21)=10,"Octobre",IF(MONTH(P21)=11,"Novembre","Décembre")))))))))))) -> Août | L21: =IF(P21="","",DAY(P21)) -> 3 | M21: =IF(P21="","",YEAR(P21)) -> 1934 | N21: A | O21: P | P21: 12634
A22: 132 | B22: Dupart | C22: Michel | D22: 132 | E22: 23, Route de Montot | F22: 21170 | G22: St Usage | I22: 672774655 | K22: =IF((P22)="","",IF(MONTH(P22)=1,"Janvier",IF(MONTH(P22)=2,"Février",IF(MONTH(P22)=3,"Mars",IF(MONTH(P22)=4,"Avril",IF(MONTH(P22)=5,"Mai",IF(MONTH(P22)=6,"Juin",IF(MONTH(P22)=7,"Juillet",IF(MONTH(P22)=8,"Août",IF(MONTH(P22)=9,"Septembre",IF(MONTH(P22)=10,"Octobre",IF(MONTH(P22)=11,"Novembre","Décembre")))))))))))) -> Mars | L22: =IF(P22="","",DAY(P22)) -> 13 | M22: =IF(P22="","",YEAR(P22)) -> 1965 | N22: A | O22: P | P22: 23814
A23: 1 | B23: Fauré | C23: Sylvain | D23: 1 | E23: 14, Rue des Messiers | F23: 21170 | G23: Losne | I23: 650073803 | J23: sylvain@idis21.fr | K23: =IF((P23)="","",IF(MONTH(P23)=1,"Janvier",IF(MONTH(P23)=2,"Février",IF(MONTH(P23)=3,"Mars",IF(MONTH(P23)=4,"Avril",IF(MONTH(P23)=5,"Mai",IF(MONTH(P23)=6,"Juin",IF(MONTH(P23)=7,"Juillet",IF(MONTH(P23)=8,"Août",IF(MONTH(P23)=9,"Septembre",IF(MONTH(P23)=10,"Octobre",IF(MONTH(P23)=11,"Novembre","Décembre")))))))))))) -> Décembre | L23: =IF(P23="","",DAY(P23)) -> 20 | M23: =IF(P23="","",YEAR(P23)) -> 1971 | N23: R | O23: P | P23: 26287
A24: 86 | B24: Fortin | C24: Marie-Thérèse | D24: 86 | E24: 50, Avenue de la Gare | F24: 21910 | G24: Saulon la Chapelle | H24: 380397913 | J24: mariethe.fo1@aliceadsl.fr | K24: =IF((P24)="","",IF(MONTH(P24)=1,"Janvier",IF(MONTH(P24)=2,"Février",IF(MONTH(P24)=3,"Mars",IF(MONTH(P24)=4,"Avril",IF(MONTH(P24)=5,"Mai",IF(MONTH(P24)=6,"Juin",IF(MONTH(P24)=7,"Juillet",IF(MONTH(P24)=8,"Août",IF(MONTH(P24)=9,"Septembre",IF(MONTH(P24)=10,"Octobre",IF(MONTH(P24)=11,"Novembre","Décembre")))))))))))) -> Mai | L24: =IF(P24="","",DAY(P24)) -> 31 | M24: =IF(P24="","",YEAR(P24)) -> 1943 | N24: R | O24: P | P24: 15857
A25: 119 | B25: Garcia | C25: Jean-Paul | D25: 119 | E25: 12 Route de Trouhans | F25: 21170 | G25: St Usage | H25: 380291109 | K25: =IF((P25)="","",IF(MONTH(P25)=1,"Janvier",IF(MONTH(P25)=2,"Février",IF(MONTH(P25)=3,"Mars",IF(MONTH(P25)=4,"Avril",IF(MONTH(P25)=5,"Mai",IF(MONTH(P25)=6,"Juin",IF(MONTH(P25)=7,"Juillet",IF(MONTH(P25)=8,"Août",IF(MONTH(P25)=9,"Septembre",IF(MONTH(P25)=10,"Octobre",IF(MONTH(P25)=11,"Novembre","Décembre")))))))))))) -> Septembre | L25: =IF(P25="","",DAY(P25)) -> 18 | M25: =IF(P25="","",YEAR(P25)) -> 1936 | N25: A | O25: P | P25: 13411
A26: 34 | B26: Gautheron | C26: Claude | D26: 34 | E26: 2 Rue des lilas | F26: 21170 | G26: Losne | H26: 380291147 | I26: 616900396 | J26: gautheroncl@wanadoo.fr | K26: =IF((P26)="","",IF(MONTH(P26)=1,"Janvier",IF(MONTH(P26)=2,"Février",IF(MONTH(P26)=3,"Mars",IF(MONTH(P26)=4,"Avril",IF(MONTH(P26)=5,"Mai",IF(MONTH(P26)=6,"Juin",IF(MONTH(P26)=7,"Juillet",IF(MONTH(P26)=8,"Août",IF(MONTH(P26)=9,"Septembre",IF(MONTH(P26)=10,"Octobre",IF(MONTH(P26)=11,"Novembre","Décembre")))))))))))) -> Février | L26: =IF(P26="","",DAY(P26)) -> 16 | M26: =IF(P26="","",YEAR(P26)) -> 1937 | N26: R | O26: P | P26: 13562
A27: 123 | B27: Grosjean | C27: Denise | D27: 123 | E27: 606, Rue d'Amont | F27: 21250 | G27: Broin | H27: 380269365 | I27: 680818913 | J27: grosjean.d2@wanadoo.fr | K27: =IF((P27)="","",IF(MONTH(P27)=1,"Janvier",IF(MONTH(P27)=2,"Février",IF(MONTH(P27)=3,"Mars",IF(MONTH(P27)=4,"Avril",IF(MONTH(P27)=5,"Mai",IF(MONTH(P27)=6,"Juin",IF(MONTH(P27)=7,"Juillet",IF(MONTH(P27)=8,"Août",IF(MONTH(P27)=9,"Septembre",IF(MONTH(P27)=10,"Octobre",IF(MONTH(P27)=11,"Novembre","Décembre")))))))))))) -> Décembre | L27: =IF(P27="","",DAY(P27)) -> 14 | M27: =IF(P27="","",YEAR(P27)) -> 1944 | N27: A | O27: P | P27: 16420
A28: 122 | B28: Hory | C28: Patricia | D28: 122 | E28: 2, Rue du chanoine Bonnard | F28: 21470 | G28: Brazey en plaine | H28: 380298050 | I28: 661553459 | K28: =IF((P28)="","",IF(MONTH(P28)=1,"Janvier",IF(MONTH(P28)=2,"Février",IF(MONTH(P28)=3,"Mars",IF(MONTH(P28)=4,"Avril",IF(MONTH(P28)=5,"Mai",IF(MONTH(P28)=6,"Juin",IF(MONTH(P28)=7,"Juillet",IF(MONTH(P28)=8,"Août",IF(MONTH(P28)=9,"Septembre",IF(MONTH(P28)=10,"Octobre",IF(MONTH(P28)=11,"Novembre","Décembre")))))))))))) -> Mars | L28: =IF(P28="","",DAY(P28)) -> 19 | M28: =IF(P28="","",YEAR(P28)) -> 1965 | N28: A | O28: P | P28: 23820
A29: 130 | B29: Jacotot | C29: Louis-Nicolas | D29: 130 | E29: 3, Grande rue | F29: 21250 | G29: Bonnencontre | H29: 380363174 | K29: =IF((P29)="","",IF(MONTH(P29)=1,"Janvier",IF(MONTH(P29)=2,"Février",IF(MONTH(P29)=3,"Mars",IF(MONTH(P29)=4,"Avril",IF(MONTH(P29)=5,"Mai",IF(MONTH(P29)=6,"Juin",IF(MONTH(P29)=7,"Juillet",IF(MONTH(P29)=8,"Août",IF(MONTH(P29)=9,"Septembre",IF(MONTH(P29)=10,"Octobre",IF(MONTH(P29)=11,"Novembre","Décembre")))))))))))) -> Avril | L29: =IF(P29="","",DAY(P29)) -> 22 | M29: =IF(P29="","",YEAR(P29)) -> 1998 | N29: A | O29: P | P29: 35907
A30: 120 | B30: Jacoutot | C30: Jean | D30: 120 | E30: 19, Rue des gardes | F30: 39410 | G30: St Aubin | H30: 384700232 | J30: jean.jacoutot@free.fr | K30: =IF((P30)="","",IF(MONTH(P30)=1,"Janvier",IF(MONTH(P30)=2,"Février",IF(MONTH(P30)=3,"Mars",IF(MONTH(P30)=4,"Avril",IF(MONTH(P30)=5,"Mai",IF(MONTH(P30)=6,"Juin",IF(MONTH(P30)=7,"Juillet",IF(MONTH(P30)=8,"Août",IF(MONTH(P30)=9,"Septembre",IF(MONTH(P30)=10,"Octobre",IF(MONTH(P30)=11,"Novembre","Décembre")))))))))))) -> Novembre | L30: =IF(P30="","",DAY(P30)) -> 22 | M30: =IF(P30="","",YEAR(P30)) -> 1951 | N30: A | O30: P | P30: 18954
A31: 36 | B31: Jan | C31: Louis | D31: 36 | E31: 5 Route de Trouhans | F31: 21170 | G31: St Usage | H31: 380392269 | J31: jan.louis2@wanadoo.fr | K31: =IF((P31)="","",IF(MONTH(P31)=1,"Janvier",IF(MONTH(P31)=2,"Février",IF(MONTH(P31)=3,"Mars",IF(MONTH(P31)=4,"Avril",IF(MONTH(P31)=5,"Mai",IF(MONTH(P31)=6,"Juin",IF(MONTH(P31)=7,"Juillet",IF(MONTH(P31)=8,"Août",IF(MONTH(P31)=9,"Septembre",IF(MONTH(P31)=10,"Octobre",IF(MONTH(P31)=11,"Novembre","Décembre")))))))))))) -> Février | L31: =IF(P31="","",DAY(P31)) -> 11 | M31: =IF(P31="","",YEAR(P31)) -> 1923 | N31: R | O31: P | P31: 8443
A32: 134 | B32: Jeanniard | C32: Robert | D32: 134 | E32: 3, Rue des Bleuets | F32: 21110 | G32: Aiserey | H32: 380297547 | J32: robert.jeanniard@tele2.fr | K32: =IF((P32)="","",IF(MONTH(P32)=1,"Janvier",IF(MONTH(P32)=2,"Février",IF(MONTH(P32)=3,"Mars",IF(MONTH(P32)=4,"Avril",IF(MONTH(P32)=5,"Mai",IF(MONTH(P32)=6,"Juin",IF(MONTH(P32)=7,"Juillet",IF(MONTH(P32)=8,"Août",IF(MONTH(P32)=9,"Septembre",IF(MONTH(P32)=10,"Octobre",IF(MONTH(P32)=11,"Novembre","Décembre")))))))))))) -> Janvier | L32: =IF(P32="","",DAY(P32)) -> 28 | M32: =IF(P32="","",YEAR(P32)) -> 1947 | N32: A | O32: P | P32: 17195
A33: 37 | B33: Lacreuse | C33: Gérard | D33: 37 | E33: 1, Rue Sainte Barbe | F33: 21250 | G33: Seurre | H33: 380211007 | J33: anglacreuse@orange.fr | K33: =IF((P33)="","",IF(MONTH(P33)=1,"Janvier",IF(MONTH(P33)=2,"Février",IF(MONTH(P33)=3,"Mars",IF(MONTH(P33)=4,"Avril",IF(MONTH(P33)=5,"Mai",IF(MONTH(P33)=6,"Juin",IF(MONTH(P33)=7,"Juillet",IF(MONTH(P33)=8,"Août",IF(MONTH(P33)=9,"Septembre",IF(MONTH(P33)=10,"Octobre",IF(MONTH(P33)=11,"Novembre","Décembre")))))))))))) -> Octobre | L33: =IF(P33="","",DAY(P33)) -> 14 | M33: =IF(P33="","",YEAR(P33)) -> 1947 | N33: R | O33: P | P33: 17454
A34: 40 | B34: Legros | C34: Lucien | D34: 40 | E34: 66, Grande rue | F34: 21250 | G34: Pagny la Ville | H34: 380363191 | J34: legros.lucien@wanadoo.fr | K34: =IF((P34)="","",IF(MONTH(P34)=1,"Janvier",IF(MONTH(P34)=2,"Février",IF(MONTH(P34)=3,"Mars",IF(MONTH(P34)=4,"Avril",IF(MONTH(P34)=5,"Mai",IF(MONTH(P34)=6,"Juin",IF(MONTH(P34)=7,"Juillet",IF(MONTH(P34)=8,"Août",IF(MONTH(P34)=9,"Septembre",IF(MONTH(P34)=10,"Octobre",IF(MONTH(P34)=11,"Novembre","Décembre")))))))))))) -> Février | L34: =IF(P34="","",DAY(P34)) -> 16 | M34: =IF(P34="","",YEAR(P34)) -> 1933 | N34: R | O34: P | P34: 12101
A35: 125 | B35: Martiny | C35: Jean-Pierre | D35: 125 | E35: 43, Rue de Seurre | F35: 21170 | G35: Losne | H35: 380390805 | J35: jean-pierre.martiny21@orange.fr | K35: =IF((P35)="","",IF(MONTH(P35)=1,"Janvier",IF(MONTH(P35)=2,"Février",IF(MONTH(P35)=3,"Mars",IF(MONTH(P35)=4,"Avril",IF(MONTH(P35)=5,"Mai",IF(MONTH(P35)=6,"Juin",IF(MONTH(P35)=7,"Juillet",IF(MONTH(P35)=8,"Août",IF(MONTH(P35)=9,"Septembre",IF(MONTH(P35)=10,"Octobre",IF(MONTH(P35)=11,"Novembre","Décembre")))))))))))) -> Septembre | L35: =IF(P35="","",DAY(P35)) -> 23 | M35: =IF(P35="","",YEAR(P35)) -> 1942 | N35: A | O35: P | P35: 15607
A36: 121 | B36: Monot | C36: Sylvie | D36: 121 | E36: Rue du Tissage | F36: 21470 | G36: Brazey en plaine | I36: 677027216 | K36: =IF((P36)="","",IF(MONTH(P36)=1,"Janvier",IF(MONTH(P36)=2,"Février",IF(MONTH(P36)=3,"Mars",IF(MONTH(P36)=4,"Avril",IF(MONTH(P36)=5,"Mai",IF(MONTH(P36)=6,"Juin",IF(MONTH(P36)=7,"Juillet",IF(MONTH(P36)=8,"Août",IF(MONTH(P36)=9,"Septembre",IF(MONTH(P36)=10,"Octobre",IF(MONTH(P36)=11,"Novembre","Décembre")))))))))))) -> Octobre | L36: =IF(P36="","",DAY(P36)) -> 28 | M36: =IF(P36="","",YEAR(P36)) -> 1956 | N36: A | O36: P | P36: 20756
A37: 44 | B37: Moreux | C37: Richard | D37: 44 | E37: 4 Rue du château | F37: 21110 | G37: Bessey les Citeaux | H37: 380297726 | I37: 662937092 | J37: richardmoreux@aol.com | K37: =IF((P37)="","",IF(MONTH(P37)=1,"Janvier",IF(MONTH(P37)=2,"Février",IF(MONTH(P37)=3,"Mars",IF(MONTH(P37)=4,"Avril",IF(MONTH(P37)=5,"Mai",IF(MONTH(P37)=6,"Juin",IF(MONTH(P37)=7,"Juillet",IF(MONTH(P37)=8,"Août",IF(MONTH(P37)=9,"Septembre",IF(MONTH(P37)=10,"Octobre",IF(MONTH(P37)=11,"Novembre","Décembre")))))))))))) -> Août | L37: =IF(P37="","",DAY(P37)) -> 12 | M37: =IF(P37="","",YEAR(P37)) -> 1949 | N37: R | O37: P | P37: 18122
A38: 107 | B38: Pamart | C38: Alain | D38: 107 | E38: 9 Rue champ Baudot | F38: 21170 | G38: Echenon | H38: 380343871 | J38: pamartalain@neuf.fr | K38: =IF((P38)="","",IF(MONTH(P38)=1,"Janvier",IF(MONTH(P38)=2,"Février",IF(MONTH(P38)=3,"Mars",IF(MONTH(P38)=4,"Avril",IF(MONTH(P38)=5,"Mai",IF(MONTH(P38)=6,"Juin",IF(MONTH(P38)=7,"Juillet",IF(MONTH(P38)=8,"Août",IF(MONTH(P38)=9,"Septembre",IF(MONTH(P38)=10,"Octobre",IF(MONTH(P38)=11,"Novembre","Décembre")))))))))))) -> Mai | L38: =IF(P38="","",DAY(P38)) -> 6 | M38: =IF(P38="","",YEAR(P38)) -> 1944 | N38: R | O38: P | P38: 16198
A39: 48 | B39: Parizot | C39: Eveline | D39: 48 | E39: 17, Ancienne route de Seurre | F39: 21170 | G39: Losne | H39: 380392997 | J39: parizot.evelyne@neuf.fr | K39: =IF((P39)="","",IF(MONTH(P39)=1,"Janvier",IF(MONTH(P39)=2,"Février",IF(MONTH(P39)=3,"Mars",IF(MONTH(P39)=4,"Avril",IF(MONTH(P39)=5,"Mai",IF(MONTH(P39)=6,"Juin",IF(MONTH(P39)=7,"Juillet",IF(MONTH(P39)=8,"Août",IF(MONTH(P39)=9,"Septembre",IF(MONTH(P39)=10,"Octobre",IF(MONTH(P39)=11,"Novembre","Décembre")))))))))))) -> Août | L39: =IF(P39="","",DAY(P39)) -> 18 | M39: =IF(P39="","",YEAR(P39)) -> 1951 | N39: R | O39: P | P39: 18858
B40: Pascanet | C40: Odile | D40: 116 | E40: 3, Rue des Meix | F40: 21250 | G40: Chamblanc
B41: Passemard | C41: Annie | D41: 108 | E41: 1, Rue du moulin | F41: 21470 | G41: Brazey en plaine
...

Sheet 2008-2009
B2: Nom | C2: Prénom | D2: N° Carte | E2: Adresse | F2: CP | G2: Ville | H2: Téléphone | I2: Portable | J2: Email | K2: Date Naiss | N2: A ou R | P2: Date
K3: Mois | L3: Jour | M3: Année
