Workbook
Name Activité: #REF!

Sheet 2004-2006
B2: Nom | C2: Prénom | D2: N° Carte | E2: Adresse | F2: CP | G2: Ville | H2: Téléphone | I2: Portable | J2: Email | K2: Date Naiss | N2: Date
K3: Mois | L3: Jour | M3: Année
A4: 75 | B4: ASSEZ | C4: Sylvie | D4: 75 | E4: cotes Belot | F4: 21170 | G4: Montot | H4: 380298411 | K4: =IF((N4)="","",IF(MONTH(N4)=1,"Janvier",IF(MONTH(N4)=2,"Février",IF(MONTH(N4)=3,"Mars",IF(MONTH(N4)=4,"Avril",IF(MONTH(N4)=5,"Mai",IF(MONTH(N4)=6,"Juin",IF(MONTH(N4)=7,"Juillet",IF(MONTH(N4)=8,"Août",IF(MONTH(N4)=9,"Septembre",IF(MONTH(N4)=10,"Octobre",IF(MONTH(N4)=11,"Novembre","Décembre")))))))))))) | L4: =IF(N4="","",DAY(N4)) | M4: =IF(N4="","",YEAR(N4))
A5: 76 | B5: BAJOTET | C5: Marie-Thérèse | D5: 76 | F5: 21470 | G5: Brazey en plaine | I5: 626473855 | K5: =IF((N5)="","",IF(MONTH(N5)=1,"Janvier",IF(MONTH(N5)=2,"Février",IF(MONTH(N5)=3,"Mars",IF(MONTH(N5)=4,"Avril",IF(MONTH(N5)=5,"Mai",IF(MONTH(N5)=6,"Juin",IF(MONTH(N5)=7,"Juillet",IF(MONTH(N5)=8,"Août",IF(MONTH(N5)=9,"Septembre",IF(MONTH(N5)=10,"Octobre",IF(MONTH(N5)=11,"Novembre","Décembre")))))))))))) | L5: =IF(N5="","",DAY(N5)) | M5: =IF(N5="","",YEAR(N5))
A6: 4 | B6: BEHEREC | C6: Franck | D6: 4 | E6: 3 Impasse Verdi | F6: 21470 | G6: Brazey en plaine | H6: 380298947 | I6: 614462165 | J6: franck.beherec@wanadoo.fr | K6: =IF((N6)="","",IF(MONTH(N6)=1,"Janvier",IF(MONTH(N6)=2,"Février",IF(MONTH(N6)=3,"Mars",IF(MONTH(N6)=4,"Avril",IF(MONTH(N6)=5,"Mai",IF(MONTH(N6)=6,"Juin",IF(MONTH(N6)=7,"Juillet",IF(MONTH(N6)=8,"Août",IF(MONTH(N6)=9,"Septembre",IF(MONTH(N6)=10,"Octobre",IF(MONTH(N6)=11,"Novembre","Décembre")))))))))))) -> Octobre | L6: =IF(N6="","",DAY(N6)) -> 24 | M6: =IF(N6="","",YEAR(N6)) -> 1967 | N6: 24769
A7: 77 | B7: Belleterre | C7: Christiane | D7: 77 | E7: 39, Quai de la butte | F7: 21170 | G7: Losne | K7: =IF((N7)="","",IF(MONTH(N7)=1,"Janvier",IF(MONTH(N7)=2,"Février",IF(MONTH(N7)=3,"Mars",IF(MONTH(N7)=4,"Avril",IF(MONTH(N7)=5,"Mai",IF(MONTH(N7)=6,"Juin",IF(MONTH(N7)=7,"Juillet",IF(MONTH(N7)=8,"Août",IF(MONTH(N7)=9,"Septembre",IF(MONTH(N7)=10,"Octobre",IF(MONTH(N7)=11,"Novembre","Décembre")))))))))))) -> Octobre | L7: =IF(N7="","",DAY(N7)) -> 14 | M7: =IF(N7="","",YEAR(N7)) -> 1950 | N7: 18550
A8: 7 | B8: Bernigaud | C8: Yvonne | D8: 7 | E8: Les Floralies | F8: 21170 | G8: St Jean de Losne | K8: =IF((N8)="","",IF(MONTH(N8)=1,"Janvier",IF(MONTH(N8)=2,"Février",IF(MONTH(N8)=3,"Mars",IF(MONTH(N8)=4,"Avril",IF(MONTH(N8)=5,"Mai",IF(MONTH(N8)=6,"Juin",IF(MONTH(N8)=7,"Juillet",IF(MONTH(N8)=8,"Août",IF(MONTH(N8)=9,"Septembre",IF(MONTH(N8)=10,"Octobre",IF(MONTH(N8)=11,"Novembre","Décembre")))))))))))) -> Janvier | L8: =IF(N8="","",DAY(N8)) -> 24 | M8: =IF(N8="","",YEAR(N8)) -> 1932 | N8: 11712
A9: 8 | B9: Blanc | C9: Gérard | D9: 8 | E9: 19, Ancienne route de Seurre | F9: 21170 | G9: Losne | K9: =IF((N9)="","",IF(MONTH(N9)=1,"Janvier",IF(MONTH(N9)=2,"Février",IF(MONTH(N9)=3,"Mars",IF(MONTH(N9)=4,"Avril",IF(MONTH(N9)=5,"Mai",IF(MONTH(N9)=6,"Juin",IF(MONTH(N9)=7,"Juillet",IF(MONTH(N9)=8,"Août",IF(MONTH(N9)=9,"Septembre",IF(MONTH(N9)=10,"Octobre",IF(MONTH(N9)=11,"Novembre","Décembre")))))))))))) -> Décembre | L9: =IF(N9="","",DAY(N9)) -> 12 | M9: =IF(N9="","",YEAR(N9)) -> 1961 | N9: 22627
A10: 9 | B10: Boudrot | C10: Alain | D10: 9 | E10: 13, Rue des illes | F10: 21170 | G10: St Jean de Losne | K10: =IF((N10)="","",IF(MONTH(N10)=1,"Janvier",IF(MONTH(N10)=2,"Février",IF(MONTH(N10)=3,"Mars",IF(MONTH(N10)=4,"Avril",IF(MONTH(N10)=5,"Mai",IF(MONTH(N10)=6,"Juin",IF(MONTH(N10)=7,"Juillet",IF(MONTH(N10)=8,"Août",IF(MONTH(N10)=9,"Septembre",IF(MONTH(N10)=10,"Octobre",IF(MONTH(N10)=11,"Novembre","Décembre")))))))))))) -> Février | L10: =IF(N10="","",DAY(N10)) -> 9 | M10: =IF(N10="","",YEAR(N10)) -> 1965 | N10: 23782
A11: 10 | B11: Bougaud | C11: Catherine | D11: 10 | E11: 10, Rue de St Loup | F11: 39410 | G11: St Aubin (39) | K11: =IF((N11)="","",IF(MONTH(N11)=1,"Janvier",IF(MONTH(N11)=2,"Février",IF(MONTH(N11)=3,"Mars",IF(MONTH(N11)=4,"Avril",IF(MONTH(N11)=5,"Mai",IF(MONTH(N11)=6,"Juin",IF(MONTH(N11)=7,"Juillet",IF(MONTH(N11)=8,"Août",IF(MONTH(N11)=9,"Septembre",IF(MONTH(N11)=10,"Octobre",IF(MONTH(N11)=11,"Novembre","Décembre")))))))))))) -> Septembre | L11: =IF(N11="","",DAY(N11)) -> 13 | M11: =IF(N11="","",YEAR(N11)) -> 1963 | N11: 23267
A12: 11 | B12: Boulardot | C12: Jean-Paul | D12: 11 | E12: 35, Rue de la Saône | F12: 21170 | G12: St Jean de Losne | K12: =IF((N12)="","",IF(MONTH(N12)=1,"Janvier",IF(MONTH(N12)=2,"Février",IF(MONTH(N12)=3,"Mars",IF(MONTH(N12)=4,"Avril",IF(MONTH(N12)=5,"Mai",IF(MONTH(N12)=6,"Juin",IF(MONTH(N12)=7,"Juillet",IF(MONTH(N12)=8,"Août",IF(MONTH(N12)=9,"Septembre",IF(MONTH(N12)=10,"Octobre",IF(MONTH(N12)=11,"Novembre","Décembre")))))))))))) -> Avril | L12: =IF(N12="","",DAY(N12)) -> 21 | M12: =IF(N12="","",YEAR(N12)) -> 1957 | N12: 20931
A13: 12 | B13: Bruant | C13: Gérard | D13: 12 | E13: 10, Rue de la Saône | F13: 21170 | G13: Chaugey | K13: =IF((N13)="","",IF(MONTH(N13)=1,"Janvier",IF(MONTH(N13)=2,"Février",IF(MONTH(N13)=3,"Mars",IF(MONTH(N13)=4,"Avril",IF(MONTH(N13)=5,"Mai",IF(MONTH(N13)=6,"Juin",IF(MONTH(N13)=7,"Juillet",IF(MONTH(N13)=8,"Août",IF(MONTH(N13)=9,"Septembre",IF(MONTH(N13)=10,"Octobre",IF(MONTH(N13)=11,"Novembre","Décembre")))))))))))) -> Mai | L13: =IF(N13="","",DAY(N13)) -> 21 | M13: =IF(N13="","",YEAR(N13)) -> 1936 | N13: 13291
A14: 64 | B14: Bullier | C14: Patrick | D14: 64 | E14: 4, Rue des bois | F14: 21250 | G14: Chamblanc | K14: =IF((N14)="","",IF(MONTH(N14)=1,"Janvier",IF(MONTH(N14)=2,"Février",IF(MONTH(N14)=3,"Mars",IF(MONTH(N14)=4,"Avril",IF(MONTH(N14)=5,"Mai",IF(MONTH(N14)=6,"Juin",IF(MONTH(N14)=7,"Juillet",IF(MONTH(N14)=8,"Août",IF(MONTH(N14)=9,"Septembre",IF(MONTH(N14)=10,"Octobre",IF(MONTH(N14)=11,"Novembre","Décembre")))))))))))) -> Avril | L14: =IF(N14="","",DAY(N14)) -> 19 | M14: =IF(N14="","",YEAR(N14)) -> 1953 | N14: 19468
A15: 19 | B15: CLEMENCE | C15: Bernard | D15: 19 | E15: 9 Rue de la petite levée | F15: 21170 | G15: Losne | H15: 380392678 | I15: 677647670 | J15: bernard-clemence@wanadoo.fr | K15: =IF((N15)="","",IF(MONTH(N15)=1,"Janvier",IF(MONTH(N15)=2,"Février",IF(MONTH(N15)=3,"Mars",IF(MONTH(N15)=4,"Avril",IF(MONTH(N15)=5,"Mai",IF(MONTH(N15)=6,"Juin",IF(MONTH(N15)=7,"Juillet",IF(MONTH(N15)=8,"Août",IF(MONTH(N15)=9,"Septembre",IF(MONTH(N15)=10,"Octobre",IF(MONTH(N15)=11,"Novembre","Décembre")))))))))))) -> Mars | L15: =IF(N15="","",DAY(N15)) -> 6 | M15: =IF(N15="","",YEAR(N15)) -> 1942 | N15: 15406
A16: 13 | B16: Cattano | C16: François | D16: 13 | E16: 23, Rue du moulin | F16: 21170 | G16: Echenon | K16: =IF((N16)="","",IF(MONTH(N16)=1,"Janvier",IF(MONTH(N16)=2,"Février",IF(MONTH(N16)=3,"Mars",IF(MONTH(N16)=4,"Avril",IF(MONTH(N16)=5,"Mai",IF(MONTH(N16)=6,"Juin",IF(MONTH(N16)=7,"Juillet",IF(MONTH(N16)=8,"Août",IF(MONTH(N16)=9,"Septembre",IF(MONTH(N16)=10,"Octobre",IF(MONTH(N16)=11,"Novembre","Décembre")))))))))))) | L16: =IF(N16="","",DAY(N16)) | M16: =IF(N16="","",YEAR(N16))
A17: 14 | B17: Cattano | C17: Michel | D17: 14 | E17: 23, Rue du moulin | F17: 21170 | G17: Echenon | K17: =IF((N17)="","",IF(MONTH(N17)=1,"Janvier",IF(MONTH(N17)=2,"Février",IF(MONTH(N17)=3,"Mars",IF(MONTH(N17)=4,"Avril",IF(MONTH(N17)=5,"Mai",IF(MONTH(N17)=6,"Juin",IF(MONTH(N17)=7,"Juillet",IF(MONTH(N17)=8,"Août",IF(MONTH(N17)=9,"Septembre",IF(MONTH(N17)=10,"Octobre",IF(MONTH(N17)=11,"Novembre","Décembre")))))))))))) | L17: =IF(N17="","",DAY(N17)) | M17: =IF(N17="","",YEAR(N17))
A18: 15 | B18: Caty | C18: Alain | D18: 15 | E18: Rue du patis des buissons | F18: 21250 | G18: Tichey | K18: =IF((N18)="","",IF(MONTH(N18)=1,"Janvier",IF(MONTH(N18)=2,"Février",IF(MONTH(N18)=3,"Mars",IF(MONTH(N18)=4,"Avril",IF(MONTH(N18)=5,"Mai",IF(MONTH(N18)=6,"Juin",IF(MONTH(N18)=7,"Juillet",IF(MONTH(N18)=8,"Août",IF(MONTH(N18)=9,"Septembre",IF(MONTH(N18)=10,"Octobre",IF(MONTH(N18)=11,"Novembre","Décembre")))))))))))) -> Mars | L18: =IF(N18="","",DAY(N18)) -> 4 | M18: =IF(N18="","",YEAR(N18)) -> 1936 | N18: 13213
A19: 16 | B19: CATY | C19: Anne Marie | D19: 16 | E19: rue du patis des buissons | F19: 21250 | G19: Tichey | H19: 380210868 | K19: =IF((N19)="","",IF(MONTH(N19)=1,"Janvier",IF(MONTH(N19)=2,"Février",IF(MONTH(N19)=3,"Mars",IF(MONTH(N19)=4,"Avril",IF(MONTH(N19)=5,"Mai",IF(MONTH(N19)=6,"Juin",IF(MONTH(N19)=7,"Juillet",IF(MONTH(N19)=8,"Août",IF(MONTH(N19)=9,"Septembre",IF(MONTH(N19)=10,"Octobre",IF(MONTH(N19)=11,"Novembre","Décembre")))))))))))) -> Février | L19: =IF(N19="","",DAY(N19)) -> 13 | M19: =IF(N19="","",YEAR(N19)) -> 1938 | N19: 13924
A20: 3 | B20: Chaventon | C20: Emmanuel | D20: 3 | E20: 4, Ruelle des Morts | F20: 21170 | G20: Charrey sur Saône | K20: =IF((N20)="","",IF(MONTH(N20)=1,"Janvier",IF(MONTH(N20)=2,"Février",IF(MONTH(N20)=3,"Mars",IF(MONTH(N20)=4,"Avril",IF(MONTH(N20)=5,"Mai",IF(MONTH(N20)=6,"Juin",IF(MONTH(N20)=7,"Juillet",IF(MONTH(N20)=8,"Août",IF(MONTH(N20)=9,"Septembre",IF(MONTH(N20)=10,"Octobre",IF(MONTH(N20)=11,"Novembre","Décembre")))))))))))) | L20: =IF(N20="","",DAY(N20)) | M20: =IF(N20="","",YEAR(N20))
A21: 18 | B21: Chaventon | C21: Françoise | D21: 18 | E21: 4, Ruelle des morts | F21: 21170 | G21: Charrey sur Saône | K21: =IF((N21)="","",IF(MONTH(N21)=1,"Janvier",IF(MONTH(N21)=2,"Février",IF(MONTH(N21)=3,"Mars",IF(MONTH(N21)=4,"Avril",IF(MONTH(N21)=5,"Mai",IF(MONTH(N21)=6,"Juin",IF(MONTH(N21)=7,"Juillet",IF(MONTH(N21)=8,"Août",IF(MONTH(N21)=9,"Septembre",IF(MONTH(N21)=10,"Octobre",IF(MONTH(N21)=11,"Novembre","Décembre")))))))))))) | L21: =IF(N21="","",DAY(N21)) | M21: =IF(N21="","",YEAR(N21))
A22: 17 | B22: Chaventon | C22: Gérard | D22: 17 | E22: 4, Ruelle des morts | F22: 21170 | G22: Charrey sur Saône | K22: =IF((N22)="","",IF(MONTH(N22)=1,"Janvier",IF(MONTH(N22)=2,"Février",IF(MONTH(N22)=3,"Mars",IF(MONTH(N22)=4,"Avril",IF(MONTH(N22)=5,"Mai",IF(MONTH(N22)=6,"Juin",IF(MONTH(N22)=7,"Juillet",IF(MONTH(N22)=8,"Août",IF(MONTH(N22)=9,"Septembre",IF(MONTH(N22)=10,"Octobre",IF(MONTH(N22)=11,"Novembre","Décembre")))))))))))) | L22: =IF(N22="","",DAY(N22)) | M22: =IF(N22="","",YEAR(N22))
A23: 65 | B23: Constancias | C23: Anne-Marie | D23: 65 | E23: 12, Imp de fleurs | F23: 21250 | G23: Seurre | K23: =IF((N23)="","",IF(MONTH(N23)=1,"Janvier",IF(MONTH(N23)=2,"Février",IF(MONTH(N23)=3,"Mars",IF(MONTH(N23)=4,"Avril",IF(MONTH(N23)=5,"Mai",IF(MONTH(N23)=6,"Juin",IF(MONTH(N23)=7,"Juillet",IF(MONTH(N23)=8,"Août",IF(MONTH(N23)=9,"Septembre",IF(MONTH(N23)=10,"Octobre",IF(MONTH(N23)=11,"Novembre","Décembre")))))))))))) -> Septembre | L23: =IF(N23="","",DAY(N23)) -> 5 | M23: =IF(N23="","",YEAR(N23)) -> 1947 | N23: 17415
A24: 20 | B24: CORNOT | C24: Daniel | D24: 20 | E24: 4 ter grande rue du faubourg St Michel | F24: 21250 | G24: Seurre | H24: 380210480 | J24: cornot.daniel@wanadoo.fr | K24: =IF((N24)="","",IF(MONTH(N24)=1,"Janvier",IF(MONTH(N24)=2,"Février",IF(MONTH(N24)=3,"Mars",IF(MONTH(N24)=4,"Avril",IF(MONTH(N24)=5,"Mai",IF(MONTH(N24)=6,"Juin",IF(MONTH(N24)=7,"Juillet",IF(MONTH(N24)=8,"Août",IF(MONTH(N24)=9,"Septembre",IF(MONTH(N24)=10,"Octobre",IF(MONTH(N24)=11,"Novembre","Décembre")))))))))))) | L24: =IF(N24="","",DAY(N24)) | M24: =IF(N24="","",YEAR(N24))
A25: 21 | B25: CORNUEL | C25: Michel | D25: 21 | E25: 14 Rue St Jacques | F25: 21170 | G25: St Usage | H25: 380291162 | J25: cornuel.michel@wanadoo.fr | K25: =IF((N25)="","",IF(MONTH(N25)=1,"Janvier",IF(MONTH(N25)=2,"Février",IF(MONTH(N25)=3,"Mars",IF(MONTH(N25)=4,"Avril",IF(MONTH(N25)=5,"Mai",IF(MONTH(N25)=6,"Juin",IF(MONTH(N25)=7,"Juillet",IF(MONTH(N25)=8,"Août",IF(MONTH(N25)=9,"Septembre",IF(MONTH(N25)=10,"Octobre",IF(MONTH(N25)=11,"Novembre","Décembre")))))))))))) -> Septembre | L25: =IF(N25="","",DAY(N25)) -> 5 | M25: =IF(N25="","",YEAR(N25)) -> 1943 | N25: 15954
A26: 66 | B26: Crotet | C26: Roger | D26: 66 | E26: 51, Grand chemin de Charrey | F26: 21170 | G26: Esbarres | K26: =IF((N26)="","",IF(MONTH(N26)=1,"Janvier",IF(MONTH(N26)=2,"Février",IF(MONTH(N26)=3,"Mars",IF(MONTH(N26)=4,"Avril",IF(MONTH(N26)=5,"Mai",IF(MONTH(N26)=6,"Juin",IF(MONTH(N26)=7,"Juillet",IF(MONTH(N26)=8,"Août",IF(MONTH(N26)=9,"Septembre",IF(MONTH(N26)=10,"Octobre",IF(MONTH(N26)=11,"Novembre","Décembre")))))))))))) | L26: =IF(N26="","",DAY(N26)) | M26: =IF(N26="","",YEAR(N26))
A27: 22 | B27: Cureau | C27: Bernard | D27: 22 | E27: 5, Quai National | F27: 21170 | G27: St Jean de Losne | K27: =IF((N27)="","",IF(MONTH(N27)=1,"Janvier",IF(MONTH(N27)=2,"Février",IF(MONTH(N27)=3,"Mars",IF(MONTH(N27)=4,"Avril",IF(MONTH(N27)=5,"Mai",IF(MONTH(N27)=6,"Juin",IF(MONTH(N27)=7,"Juillet",IF(MONTH(N27)=8,"Août",IF(MONTH(N27)=9,"Septembre",IF(MONTH(N27)=10,"Octobre",IF(MONTH(N27)=11,"Novembre","Décembre")))))))))))) -> Avril | L27: =IF(N27="","",DAY(N27)) -> 5 | M27: =IF(N27="","",YEAR(N27)) -> 1927 | N27: 9957
A28: 23 | B28: Degrace | C28: Michele | D28: 23 | E28: 21, Rue du paradis | F28: 21170 | G28: Maison-Dieu | K28: =IF((N28)="","",IF(MONTH(N28)=1,"Janvier",IF(MONTH(N28)=2,"Février",IF(MONTH(N28)=3,"Mars",IF(MONTH(N28)=4,"Avril",IF(MONTH(N28)=5,"Mai",IF(MONTH(N28)=6,"Juin",IF(MONTH(N28)=7,"Juillet",IF(MONTH(N28)=8,"Août",IF(MONTH(N28)=9,"Septembre",IF(MONTH(N28)=10,"Octobre",IF(MONTH(N28)=11,"Novembre","Décembre")))))))))))) | L28: =IF(N28="","",DAY(N28)) | M28: =IF(N28="","",YEAR(N28))
A29: 24 | B29: Del Gaudio | C29: Anne | D29: 24 | E29: 79, Grande rue | F29: 21130 | G29: Champdotre | K29: =IF((N29)="","",IF(MONTH(N29)=1,"Janvier",IF(MONTH(N29)=2,"Février",IF(MONTH(N29)=3,"Mars",IF(MONTH(N29)=4,"Avril",IF(MONTH(N29)=5,"Mai",IF(MONTH(N29)=6,"Juin",IF(MONTH(N29)=7,"Juillet",IF(MONTH(N29)=8,"Août",IF(MONTH(N29)=9,"Septembre",IF(MONTH(N29)=10,"Octobre",IF(MONTH(N29)=11,"Novembre","Décembre")))))))))))) | L29: =IF(N29="","",DAY(N29)) | M29: =IF(N29="","",YEAR(N29))
A30: 25 | B30: Del Gaudio | C30: Isa | D30: 25 | E30: 79 Grande rue | F30: 21130 | G30: Champdotre | H30: 380394711 | K30: =IF((N30)="","",IF(MONTH(N30)=1,"Janvier",IF(MONTH(N30)=2,"Février",IF(MONTH(N30)=3,"Mars",IF(MONTH(N30)=4,"Avril",IF(MONTH(N30)=5,"Mai",IF(MONTH(N30)=6,"Juin",IF(MONTH(N30)=7,"Juillet",IF(MONTH(N30)=8,"Août",IF(MONTH(N30)=9,"Septembre",IF(MONTH(N30)=10,"Octobre",IF(MONTH(N30)=11,"Novembre","Décembre")))))))))))) | L30: =IF(N30="","",DAY(N30)) | M30: =IF(N30="","",YEAR(N30))
A31: 26 | B31: DELAGRANGE | C31: Michel | D31: 26 | E31: 225 Rue du château | F31: 21250 | G31: Broin | H31: 380269485 | J31: michel.delagrange@wanadoo.fr | K31: =IF((N31)="","",IF(MONTH(N31)=1,"Janvier",IF(MONTH(N31)=2,"Février",IF(MONTH(N31)=3,"Mars",IF(MONTH(N31)=4,"Avril",IF(MONTH(N31)=5,"Mai",IF(MONTH(N31)=6,"Juin",IF(MONTH(N31)=7,"Juillet",IF(MONTH(N31)=8,"Août",IF(MONTH(N31)=9,"Septembre",IF(MONTH(N31)=10,"Octobre",IF(MONTH(N31)=11,"Novembre","Décembre")))))))))))) -> Avril | L31: =IF(N31="","",DAY(N31)) -> 18 | M31: =IF(N31="","",YEAR(N31)) -> 1938 | N31: 13988
A32: 66 | B32: Donnet | C32: Sandrine | D32: 66 | E32: 17, Rue Marion | F32: 21170 | G32: St Jean de Losne | K32: =IF((N32)="","",IF(MONTH(N32)=1,"Janvier",IF(MONTH(N32)=2,"Février",IF(MONTH(N32)=3,"Mars",IF(MONTH(N32)=4,"Avril",IF(MONTH(N32)=5,"Mai",IF(MONTH(N32)=6,"Juin",IF(MONTH(N32)=7,"Juillet",IF(MONTH(N32)=8,"Août",IF(MONTH(N32)=9,"Septembre",IF(MONTH(N32)=10,"Octobre",IF(MONTH(N32)=11,"Novembre","Décembre")))))))))))) -> Septembre | L32: =IF(N32="","",DAY(N32)) -> 23 | M32: =IF(N32="","",YEAR(N32)) -> 1950 | N32: 18529
A33: 27 | B33: Dromard | C33: Michelle | D33: 27 | E33: 1, Rue du 8 mai 1945 | F33: 21250 | G33: Seurre | K33: =IF((N33)="","",IF(MONTH(N33)=1,"Janvier",IF(MONTH(N33)=2,"Février",IF(MONTH(N33)=3,"Mars",IF(MONTH(N33)=4,"Avril",IF(MONTH(N33)=5,"Mai",IF(MONTH(N33)=6,"Juin",IF(MONTH(N33)=7,"Juillet",IF(MONTH(N33)=8,"Août",IF(MONTH(N33)=9,"Septembre",IF(MONTH(N33)=10,"Octobre",IF(MONTH(N33)=11,"Novembre","Décembre")))))))))))) -> Mars | L33: =IF(N33="","",DAY(N33)) -> 10 | M33: =IF(N33="","",YEAR(N33)) -> 1938 | N33: 13949
A34: 28 | B34: Dromard | C34: Robert | D34: 28 | E34: 1, Rue du 8 mai 1945 | F34: 21250 | G34: Seurre | K34: =IF((N34)="","",IF(MONTH(N34)=1,"Janvier",IF(MONTH(N34)=2,"Février",IF(MONTH(N34)=3,"Mars",IF(MONTH(N34)=4,"Avril",IF(MONTH(N34)=5,"Mai",IF(MONTH(N34)=6,"Juin",IF(MONTH(N34)=7,"Juillet",IF(MONTH(N34)=8,"Août",IF(MONTH(N34)=9,"Septembre",IF(MONTH(N34)=10,"Octobre",IF(MONTH(N34)=11,"Novembre","Décembre")))))))))))) -> Octobre | L34: =IF(N34="","",DAY(N34)) -> 6 | M34: =IF(N34="","",YEAR(N34)) -> 1937 | N34: 13794
A35: 67 | B35: Drouelle | C35: Denise | D35: 67 | E35: 7, Port St Jean | F35: 21170 | G35: St Jean de Losne | K35: =IF((N35)="","",IF(MONTH(N35)=1,"Janvier",IF(MONTH(N35)=2,"Février",IF(MONTH(N35)=3,"Mars",IF(MONTH(N35)=4,"Avril",IF(MONTH(N35)=5,"Mai",IF(MONTH(N35)=6,"Juin",IF(MONTH(N35)=7,"Juillet",IF(MONTH(N35)=8,"Août",IF(MONTH(N35)=9,"Septembre",IF(MONTH(N35)=10,"Octobre",IF(MONTH(N35)=11,"Novembre","Décembre")))))))))))) -> Mars | L35: =IF(N35="","",DAY(N35)) -> 16 | M35: =IF(N35="","",YEAR(N35)) -> 1931 | N35: 11398
A36: 29 | B36: Dubroca | C36: Thierry | D36: 29 | E36: 37b, Rue Charles Dumont | F36: 21000 | G36: Dijon | K36: =IF((N36)="","",IF(MONTH(N36)=1,"Janvier",IF(MONTH(N36)=2,"Février",IF(MONTH(N36)=3,"Mars",IF(MONTH(N36)=4,"Avril",IF(MONTH(N36)=5,"Mai",IF(MONTH(N36)=6,"Juin",IF(MONTH(N36)=7,"Juillet",IF(MONTH(N36)=8,"Août",IF(MONTH(N36)=9,"Septembre",IF(MONTH(N36)=10,"Octobre",IF(MONTH(N36)=11,"Novembre","Décembre")))))))))))) -> Novembre | L36: =IF(N36="","",DAY(N36)) -> 10 | M36: =IF(N36="","",YEAR(N36)) -> 1951 | N36: 18942
A37: 68 | B37: Evrard | C37: Stéphanie | D37: 68 | E37: Rue Capitaine Coignet | F37: 21130 | G37: Auxonne | K37: =IF((N37)="","",IF(MONTH(N37)=1,"Janvier",IF(MONTH(N37)=2,"Février",IF(MONTH(N37)=3,"Mars",IF(MONTH(N37)=4,"Avril",IF(MONTH(N37)=5,"Mai",IF(MONTH(N37)=6,"Juin",IF(MONTH(N37)=7,"Juillet",IF(MONTH(N37)=8,"Août",IF(MONTH(N37)=9,"Septembre",IF(MONTH(N37)=10,"Octobre",IF(MONTH(N37)=11,"Novembre","Décembre")))))))))))) | L37: =IF(N37="","",DAY(N37)) | M37: =IF(N37="","",YEAR(N37))
A38: 32 | B38: GANEE | C38: Daniel | D38: 32 | E38: 13bis Rue porte de Dijon | F38: 21170 | G38: St Jean de Losne | H38: 380392406 | I38: 687393975 | K38: =IF((N38)="","",IF(MONTH(N38)=1,"Janvier",IF(MONTH(N38)=2,"Février",IF(MONTH(N38)=3,"Mars",IF(MONTH(N38)=4,"Avril",IF(MONTH(N38)=5,"Mai",IF(MONTH(N38)=6,"Juin",IF(MONTH(N38)=7,"Juillet",IF(MONTH(N38)=8,"Août",IF(MONTH(N38)=9,"Septembre",IF(MONTH(N38)=10,"Octobre",IF(MONTH(N38)=11,"Novembre","Décembre")))))))))))) -> Décembre | L38: =IF(N38="","",DAY(N38)) -> 19 | M38: =IF(N38="","",YEAR(N38)) -> 1949 | N38: 18251
A39: 30 | B39: Farion-Variot | C39: Jocelyne | D39: 30 | E39: 29, Allée de Bellevue | F39: 21170 | G39: Losne | K39: =IF((N39)="","",IF(MONTH(N39)=1,"Janvier",IF(MONTH(N39)=2,"Février",IF(MONTH(N39)=3,"Mars",IF(MONTH(N39)=4,"Avril",IF(MONTH(N39)=5,"Mai",IF(MONTH(N39)=6,"Juin",IF(MONTH(N39)=7,"Juillet",IF(MONTH(N39)=8,"Août",IF(MONTH(N39)=9,"Septembre",IF(MONTH(N39)=10,"Octobre",IF(MONTH(N39)=11,"Novembre","Décembre")))))))))))) | L39: =IF(N39="","",DAY(N39)) | M39: =IF(N39="","",YEAR(N39))
A40: 2 | B40: Faure | C40: Robert | D40: 2 | E40: Rue de la Liberté | F40: 21170 | G40: St Jean de Losne | K40: =IF((N40)="","",IF(MONTH(N40)=1,"Janvier",IF(MONTH(N40)=2,"Février",IF(MONTH(N40)=3,"Mars",IF(MONTH(N40)=4,"Avril",IF(MONTH(N40)=5,"Mai",IF(MONTH(N40)=6,"Juin",IF(MONTH(N40)=7,"Juillet",IF(MONTH(N40)=8,"Août",IF(MONTH(N40)=9,"Septembre",IF(MONTH(N40)=10,"Octobre",IF(MONTH(N40)=11,"Novembre","Décembre")))))))))))) -> Avril | L40: =IF(N40="","",DAY(N40)) -> 7 | M40: =IF(N40="","",YEAR(N40)) -> 1968 | N40: 24935
A41: 1 | B41: Faure | C41: Sylvain | D41: 1 | E41: 14, Rue des Messiers | F41: 21170 | G41: St Jean de Losne | K41: =IF((N41)="","",IF(MONTH(N41)=1,"Janvier",IF(MONTH(N41)=2,"Février",IF(MONTH(N41)=3,"Mars",IF(MONTH(N41)=4,"Avril",IF(MONTH(N41)=5,"Mai",IF(MONTH(N41)=6,"Juin",IF(MONTH(N41)=7,"Juillet",IF(MONTH(N41)=8,"Août",IF(MONTH(N41)=9,"Septembre",IF(MONTH(N41)=10,"Octobre",IF(MONTH(N41)=11,"Novembre","Décembre")))))))))))) -> Décembre | L41: =IF(N41="","",DAY(N41)) -> 20 | M41: =IF(N41="","",YEAR(N41)) -> 1971 | N41: 26287
A42: 31 | B42: François | C42: Pascal | D42: 31 | E42: 11, Avenue de Chambolland | F42: 21700 | G42: Nuit St Georges | K42: =IF((N42)="","",IF(MONTH(N42)=1,"Janvier",IF(MONTH(N42)=2,"Février",IF(MONTH(N42)=3,"Mars",IF(MONTH(N42)=4,"Avril",IF(MONTH(N42)=5,"Mai",IF(MONTH(N42)=6,"Juin",IF(MONTH(N42)=7,"Juillet",IF(MONTH(N42)=8,"Août",IF(MONTH(N42)=9,"Septembre",IF(MONTH(N42)=10,"Octobre",IF(MONTH(N42)=11,"Novembre","Décembre")))))))))))) | L42: =IF(N42="","",DAY(N42)) | M42: =IF(N42="","",YEAR(N42))
A43: 33 | B43: Gautheron | C43: Christiane | D43: 33 | E43: 2, Rue des lilas | F43: 21170 | G43: Losne | H43: 380291147 | I43: 616900396 | J43: gautheroncl@wanadoo.fr | K43: =IF((N43)="","",IF(MONTH(N43)=1,"Janvier",IF(MONTH(N43)=2,"Février",IF(MONTH(N43)=3,"Mars",IF(MONTH(N43)=4,"Avril",IF(MONTH(N43)=5,"Mai",IF(MONTH(N43)=6,"Juin",IF(MONTH(N43)=7,"Juillet",IF(MONTH(N43)=8,"Août",IF(MONTH(N43)=9,"Septembre",IF(MONTH(N43)=10,"Octobre",IF(MONTH(N43)=11,"Novembre","Décembre")))))))))))) | L43: =IF(N43="","",DAY(N43)) | M43: =IF(N43="","",YEAR(N43))
A44: 34 | B44: Gautheron | C44: Claude | D44: 34 | E44: 2, Rue des lilas | F44: 21170 | G44: Losne | H44: 380291147 | I44: 616900396 | J44: gautheroncl@wanadoo.fr | K44: =IF((N44)="","",IF(MONTH(N44)=1,"Janvier",IF(MONTH(N44)=2,"Février",IF(MONTH(N44)=3,"Mars",IF(MONTH(N44)=4,"Avril",IF(MONTH(N44)=5,"Mai",IF(MONTH(N44)=6,"Juin",IF(MONTH(N44)=7,"Juillet",IF(MONTH(N44)=8,"Août",IF(MONTH(N44)=9,"Septembre",IF(MONTH(N44)=10,"Octobre",IF(MONTH(N44)=11,"Novembre","Décembre")))))))))))) -> Février | L44: =IF(N44="","",DAY(N44)) -> 16 | M44: =IF(N44="","",YEAR(N44)) -> 1937 | N44: 13562
A45: 35 | B45: Hallvin | C45: Pierre | D45: 35 | E45: 5 Rue de la place | F45: 21250 | G45: Labruyère | K45: =IF((N45)="","",IF(MONTH(N45)=1,"Janvier",IF(MONTH(N45)=2,"Février",IF(MONTH(N45)=3,"Mars",IF(MONTH(N45)=4,"Avril",IF(MONTH(N45)=5,"Mai",IF(MONTH(N45)=6,"Juin",IF(MONTH(N45)=7,"Juillet",IF(MONTH(N45)=8,"Août",IF(MONTH(N45)=9,"Septembre",IF(MONTH(N45)=10,"Octobre",IF(MONTH(N45)=11,"Novembre","Décembre")))))))))))) | L45: =IF(N45="","",DAY(N45)) | M45: =IF(N45="","",YEAR(N45))
A46: 6 | B46: Jamin | C46: Frédéric | D46: 6 | E46: 8, Rue du champ Baudot | F46: 21170 | G46: Echenon | K46: =IF((N46)="","",IF(MONTH(N46)=1,"Janvier",IF(MONTH(N46)=2,"Février",IF(MONTH(N46)=3,"Mars",IF(MONTH(N46)=4,"Avril",IF(MONTH(N46)=5,"Mai",IF(MONTH(N46)=6,"Juin",IF(MONTH(N46)=7,"Juillet",IF(MONTH(N46)=8,"Août",IF(MONTH(N46)=9,"Septembre",IF(MONTH(N46)=10,"Octobre",IF(MONTH(N46)=11,"Novembre","Décembre")))))))))))) | L46: =IF(N46="","",DAY(N46)) | M46: =IF(N46="","",YEAR(N46))
A47: 36 | B47: JAN | C47: LOUIS | D47: 36 | E47: 5 Route de Trouhans | F47: 21170 | G47: St Usage | H47: 380392269 | J47: jan.louis2@wanadoo.fr | K47: =IF((N47)="","",IF(MONTH(N47)=1,"Janvier",IF(MONTH(N47)=2,"Février",IF(MONTH(N47)=3,"Mars",IF(MONTH(N47)=4,"Avril",IF(MONTH(N47)=5,"Mai",IF(MONTH(N47)=6,"Juin",IF(MONTH(N47)=7,"Juillet",IF(MONTH(N47)=8,"Août",IF(MONTH(N47)=9,"Septembre",IF(MONTH(N47)=10,"Octobre",IF(MONTH(N47)=11,"Novembre","Décembre")))))))))))) -> Février | L47: =IF(N47="","",DAY(N47)) -> 11 | M47: =IF(N47="","",YEAR(N47)) -> 1923 | N47: 8443
A48: 69 | B48: Gestin | C48: Joël | D48: 69 | E48: 10, Rue du chagnot | F48: 21170 | G48: Echenon | K48: =IF((N48)="","",IF(MONTH(N48)=1,"Janvier",IF(MONTH(N48)=2,"Février",IF(MONTH(N48)=3,"Mars",IF(MONTH(N48)=4,"Avril",IF(MONTH(N48)=5,"Mai",IF(MONTH(N48)=6,"Juin",IF(MONTH(N48)=7,"Juillet",IF(MONTH(N48)=8,"Août",IF(MONTH(N48)=9,"Septembre",IF(MONTH(N48)=10,"Octobre",IF(MONTH(N48)=11,"Novembre","Décembre")))))))))))) | L48: =IF(N48="","",DAY(N48)) | M48: =IF(N48="","",YEAR(N48))
A49: 37 | B49: LACREUSE | C49: Gérard | D49: 37 | E49: 1, Rue Sainte Barbe | F49: 21250 | G49: Seurre | H49: 380211007 | J49: anglacreuse@orange.fr | K49: =IF((N49)="","",IF(MONTH(N49)=1,"Janvier",IF(MONTH(N49)=2,"Février",IF(MONTH(N49)=3,"Mars",IF(MONTH(N49)=4,"Avril",IF(MONTH(N49)=5,"Mai",IF(MONTH(N49)=6,"Juin",IF(MONTH(N49)=7,"Juillet",IF(MONTH(N49)=8,"Août",IF(MONTH(N49)=9,"Septembre",IF(MONTH(N49)=10,"Octobre",IF(MONTH(N49)=11,"Novembre","Décembre")))))))))))) -> Octobre | L49: =IF(N49="","",DAY(N49)) -> 14 | M49: =IF(N49="","",YEAR(N49)) -> 1947 | N49: 17454
A50: 38 | B50: Lefevre | C50: Denise | D50: 38 | E50: Rue d'en haut | F50: 21250 | G50: Montagny les Seurre | K50: =IF((N50)="","",IF(MONTH(N50)=1,"Janvier",IF(MONTH(N50)=2,"Février",IF(MONTH(N50)=3,"Mars",IF(MONTH(N50)=4,"Avril",IF(MONTH(N50)=5,"Mai",IF(MONTH(N50)=6,"Juin",IF(MONTH(N50)=7,"Juillet",IF(MONTH(N50)=8,"Août",IF(MONTH(N50)=9,"Septembre",IF(MONTH(N50)=10,"Octobre",IF(MONTH(N50)=11,"Novembre","Décembre")))))))))))) | L50: =IF(N50="","",DAY(N50)) | M50: =IF(N50="","",YEAR(N50))
A51: 39 | B51: Lefevre | C51: Joelle | D51: 39 | E51: Rue d'en haut | F51: 21250 | G51: Montagny les Seurre | K51: =IF((N51)="","",IF(MONTH(N51)=1,"Janvier",IF(MONTH(N51)=2,"Février",IF(MONTH(N51)=3,"Mars",IF(MONTH(N51)=4,"Avril",IF(MONTH(N51)=5,"Mai",IF(MONTH(N51)=6,"Juin",IF(MONTH(N51)=7,"Juillet",IF(MONTH(N51)=8,"Août",IF(MONTH(N51)=9,"Septembre",IF(MONTH(N51)=10,"Octobre",IF(MONTH(N51)=11,"Novembre","Décembre")))))))))))) | L51: =IF(N51="","",DAY(N51)) | M51: =IF(N51="","",YEAR(N51))
A52: 41 | B52: Malnoy | C52: Monique | D52: 41 | E52: 5, Rue des bleuets | F52: 21170 | G52: Maison-Dieu | K52: =IF((N52)="","",IF(MONTH(N52)=1,"Janvier",IF(MONTH(N52)=2,"Février",IF(MONTH(N52)=3,"Mars",IF(MONTH(N52)=4,"Avril",IF(MONTH(N52)=5,"Mai",IF(MONTH(N52)=6,"Juin",IF(MONTH(N52)=7,"Juillet",IF(MONTH(N52)=8,"Août",IF(MONTH(N52)=9,"Septembre",IF(MONTH(N52)=10,"Octobre",IF(MONTH(N52)=11,"Novembre","Décembre")))))))))))) | L52: =IF(N52="","",DAY(N52)) | M52: =IF(N52="","",YEAR(N52))
A53: 42 | B53: Marguery | C53: Bernard | D53: 42 | E53: 6, Rue de la place | F53: 21250 | G53: Labruyère | K53: =IF((N53)="","",IF(MONTH(N53)=1,"Janvier",IF(MONTH(N53)=2,"Février",IF(MONTH(N53)=3,"Mars",IF(MONTH(N53)=4,"Avril",IF(MONTH(N53)=5,"Mai",IF(MONTH(N53)=6,"Juin",IF(MONTH(N53)=7,"Juillet",IF(MONTH(N53)=8,"Août",IF(MONTH(N53)=9,"Septembre",IF(MONTH(N53)=10,"Octobre",IF(MONTH(N53)=11,"Novembre","Décembre")))))))))))) -> Décembre | L53: =IF(N53="","",DAY(N53)) -> 31 | M53: =IF(N53="","",YEAR(N53)) -> 1930 | N53: 11323
A54: 43 | B54: Momus | C54: Denise | D54: 43 | E54: 6, Rue de la place | F54: 21250 | G54: Labruyère | K54: =IF((N54)="","",IF(MONTH(N54)=1,"Janvier",IF(MONTH(N54)=2,"Février",IF(MONTH(N54)=3,"Mars",IF(MONTH(N54)=4,"Avril",IF(MONTH(N54)=5,"Mai",IF(MONTH(N54)=6,"Juin",IF(MONTH(N54)=7,"Juillet",IF(MONTH(N54)=8,"Août",IF(MONTH(N54)=9,"Septembre",IF(MONTH(N54)=10,"Octobre",IF(MONTH(N54)=11,"Novembre","Décembre")))))))))))) -> Mars | L54: =IF(N54="","",DAY(N54)) -> 14 | M54: =IF(N54="","",YEAR(N54)) -> 1930 | N54: 11031
A55: 44 | B55: MOREUX | C55: Richard | D55: 44 | E55: 4 Rue du château | F55: 21110 | G55: Bessey les Citeaux | H55: 380297726 | I55: 662937092 | J55: richardmoreux@aol.com | K55: =IF((N55)="","",IF(MONTH(N55)=1,"Janvier",IF(MONTH(N55)=2,"Février",IF(MONTH(N55)=3,"Mars",IF(MONTH(N55)=4,"Avril",IF(MONTH(N55)=5,"Mai",IF(MONTH(N55)=6,"Juin",IF(MONTH(N55)=7,"Juillet",IF(MONTH(N55)=8,"Août",IF(MONTH(N55)=9,"Septembre",IF(MONTH(N55)=10,"Octobre",IF(MONTH(N55)=11,"Novembre","Décembre")))))))))))) -> Août | L55: =IF(N55="","",DAY(N55)) -> 21 | M55: =IF(N55="","",YEAR(N55)) -> 1949 | N55: 18131
A56: 45 | B56: Moullet | C56: Danielle | D56: 45 | E56: 18, Rue du château | F56: 21170 | G56: St Jean de Losne | K56: =IF((N56)="","",IF(MONTH(N56)=1,"Janvier",IF(MONTH(N56)=2,"Février",IF(MONTH(N56)=3,"Mars",IF(MONTH(N56)=4,"Avril",IF(MONTH(N56)=5,"Mai",IF(MONTH(N56)=6,"Juin",IF(MONTH(N56)=7,"Juillet",IF(MONTH(N56)=8,"Août",IF(MONTH(N56)=9,"Septembre",IF(MONTH(N56)=10,"Octobre",IF(MONTH(N56)=11,"Novembre","Décembre")))))))))))) -> Mai | L56: =IF(N56="","",DAY(N56)) -> 11 | M56: =IF(N56="","",YEAR(N56)) -> 1943 | N56: 15837
A57: 46 | B57: Muller | C57: Christine | D57: 46 | E57: 1, Rue de Verdun | F57: 39410 | G57: St Aubin | K57: =IF((N57)="","",IF(MONTH(N57)=1,"Janvier",IF(MONTH(N57)=2,"Février",IF(MONTH(N57)=3,"Mars",IF(MONTH(N57)=4,"Avril",IF(MONTH(N57)=5,"Mai",IF(MONTH(N57)=6,"Juin",IF(MONTH(N57)=7,"Juillet",IF(MONTH(N57)=8,"Août",IF(MONTH(N57)=9,"Septembre",IF(MONTH(N57)=10,"Octobre",IF(MONTH(N57)=11,"Novembre","Décembre")))))))))))) | L57: =IF(N57="","",DAY(N57)) | M57: =IF(N57="","",YEAR(N57))
A58: 47 | B58: Papirer | C58: Dominique | D58: 47 | E58: 11, Rue d'Amont | F58: 21250 | G58: Bonnencontre | K58: =IF((N58)="","",IF(MONTH(N58)=1,"Janvier",IF(MONTH(N58)=2,"Février",IF(MONTH(N58)=3,"Mars",IF(MONTH(N58)=4,"Avril",IF(MONTH(N58)=5,"Mai",IF(MONTH(N58)=6,"Juin",IF(MONTH(N58)=7,"Juillet",IF(MONTH(N58)=8,"Août",IF(MONTH(N58)=9,"Septembre",IF(MONTH(N58)=10,"Octobre",IF(MONTH(N58)=11,"Novembre","Décembre")))))))))))) -> Avril | L58: =IF(N58="","",DAY(N58)) -> 21 | M58: =IF(N58="","",YEAR(N58)) -> 1951 | N58: 18739
A59: 49 | B59: Parriaux | C59: Françoise | D59: 49 | E59: 8 Impasse des fleurs | F59: 21250 | G59: Seurre | H59: 380210878 | I59: 620163759 | J59: parriaux.jean-marie@wanadoo.fr | K59: =IF((N59)="","",IF(MONTH(N59)=1,"Janvier",IF(MONTH(N59)=2,"Février",IF(MONTH(N59)=3,"Mars",IF(MONTH(N59)=4,"Avril",IF(MONTH(N59)=5,"Mai",IF(MONTH(N59)=6,"Juin",IF(MONTH(N59)=7,"Juillet",IF(MONTH(N59)=8,"Août",IF(MONTH(N59)=9,"Septembre",IF(MONTH(N59)=10,"Octobre",IF(MONTH(N59)=11,"Novembre","Décembre")))))))))))) -> Avril | L59: =IF(N59="","",DAY(N59)) -> 14 | M59: =IF(N59="","",YEAR(N59)) -> 1945 | N59: 16541
A60: 50 | B60: Parriaux | C60: Jean-Marie | D60: 50 | E60: 8, Impasse des fleurs | F60: 21250 | G60: Seurre | K60: =IF((N60)="","",IF(MONTH(N60)=1,"Janvier",IF(MONTH(N60)=2,"Février",IF(MONTH(N60)=3,"Mars",IF(MONTH(N60)=4,"Avril",IF(MONTH(N60)=5,"Mai",IF(MONTH(N60)=6,"Juin",IF(MONTH(N60)=7,"Juillet",IF(MONTH(N60)=8,"Août",IF(MONTH(N60)=9,"Septembre",IF(MONTH(N60)=10,"Octobre",IF(MONTH(N60)=11,"Novembre","Décembre")))))))))))) -> Octobre | L60: =IF(N60="","",DAY(N60)) -> 8 | M60: =IF(N60="","",YEAR(N60)) -> 1943 | N60: 15987
A61: 48 | B61: PARIZOT | C61: Evelyne | D61: 48 | E61: 17 Ancienne route de Seurre | F61: 21170 | G61: Losne | H61: 380392997 | J61: parizot.eveline@neuf.fr | K61: =IF((N61)="","",IF(MONTH(N61)=1,"Janvier",IF(MONTH(N61)=2,"Février",IF(MONTH(N61)=3,"Mars",IF(MONTH(N61)=4,"Avril",IF(MONTH(N61)=5,"Mai",IF(MONTH(N61)=6,"Juin",IF(MONTH(N61)=7,"Juillet",IF(MONTH(N61)=8,"Août",IF(MONTH(N61)=9,"Septembre",IF(MONTH(N61)=10,"Octobre",IF(MONTH(N61)=11,"Novembre","Décembre")))))))))))) -> Août | L61: =IF(N61="","",DAY(N61)) -> 18 | M61: =IF(N61="","",YEAR(N61)) -> 1951 | N61: 18858
A62: 54 | B62: PERRIGUEUR | C62: Suzanne | D62: 54 | E62: Rue du Bernon | F62: 21250 | G62: Broin | H62: 380269104 | I62: 699210787 | J62: supauze@wanadoo.fr | K62: =IF((N62)="","",IF(MONTH(N62)=1,"Janvier",IF(MONTH(N62)=2,"Février",IF(MONTH(N62)=3,"Mars",IF(MONTH(N62)=4,"Avril",IF(MONTH(N62)=5,"Mai",IF(MONTH(N62)=6,"Juin",IF(MONTH(N62)=7,"Juillet",IF(MONTH(N62)=8,"Août",IF(MONTH(N62)=9,"Septembre",IF(MONTH(N62)=10,"Octobre",IF(MONTH(N62)=11,"Novembre","Décembre")))))))))))) -> Avril | L62: =IF(N62="","",DAY(N62)) -> 1 | M62: =IF(N62="","",YEAR(N62)) -> 1942 | N62: 15432
A63: 51 | B63: Perret | C63: Sophie | D63: 51 | E63: 10, Rue du port de pierre | F63: 21170 | G63: Maison-Dieu | K63: =IF((N63)="","",IF(MONTH(N63)=1,"Janvier",IF(MONTH(N63)=2,"Février",IF(MONTH(N63)=3,"Mars",IF(MONTH(N63)=4,"Avril",IF(MONTH(N63)=5,"Mai",IF(MONTH(N63)=6,"Juin",IF(MONTH(N63)=7,"Juillet",IF(MONTH(N63)=8,"Août",IF(MONTH(N63)=9,"Septembre",IF(MONTH(N63)=10,"Octobre",IF(MONTH(N63)=11,"Novembre","Décembre")))))))))))) -> Juillet | L63: =IF(N63="","",DAY(N63)) -> 7 | M63: =IF(N63="","",YEAR(N63)) -> 1959 | N63: 21738
A64: 52 | B64: Perret | C64: Frédéric | D64: 52 | E64: 10, Rue du port de pierre | F64: 21170 | G64: Maison-Dieu | K64: =IF((N64)="","",IF(MONTH(N64)=1,"Janvier",IF(MONTH(N64)=2,"Février",IF(MONTH(N64)=3,"Mars",IF(MONTH(N64)=4,"Avril",IF(MONTH(N64)=5,"Mai",IF(MONTH(N64)=6,"Juin",IF(MONTH(N64)=7,"Juillet",IF(MONTH(N64)=8,"Août",IF(MONTH(N64)=9,"Septembre",IF(MONTH(N64)=10,"Octobre",IF(MONTH(N64)=11,"Novembre","Décembre")))))))))))) -> Octobre | L64: =IF(N64="","",DAY(N64)) -> 30 | M64: =IF(N64="","",YEAR(N64)) -> 1968 | N64: 25141
A65: 53 | B65: Perret | C65: Anthony | D65: 53 | E65: 10, Rue du pont de pierre | F65: 21170 | G65: Maison-Dieu | K65: =IF((N65)="","",IF(MONTH(N65)=1,"Janvier",IF(MONTH(N65)=2,"Février",IF(MONTH(N65)=3,"Mars",IF(MONTH(N65)=4,"Avril",IF(MONTH(N65)=5,"Mai",IF(MONTH(N65)=6,"Juin",IF(MONTH(N65)=7,"Juillet",IF(MONTH(N65)=8,"Août",IF(MONTH(N65)=9,"Septembre",IF(MONTH(N65)=10,"Octobre",IF(MONTH(N65)=11,"Novembre","Décembre")))))))))))) -> Juillet | L65: =IF(N65="","",DAY(N65)) -> 27 | M65: =IF(N65="","",YEAR(N65)) -> 1989 | N65: 32716
A66: 55 | B66: Poussiere | C66: Jacques | D66: 55 | E66: 24, Rue de Chamergy | F66: 21170 | G66: Losne | K66: =IF((N66)="","",IF(MONTH(N66)=1,"Janvier",IF(MONTH(N66)=2,"Février",IF(MONTH(N66)=3,"Mars",IF(MONTH(N66)=4,"Avril",IF(MONTH(N66)=5,"Mai",IF(MONTH(N66)=6,"Juin",IF(MONTH(N66)=7,"Juillet",IF(MONTH(N66)=8,"Août",IF(MONTH(N66)=9,"Septembre",IF(MONTH(N66)=10,"Octobre",IF(MONTH(N66)=11,"Novembre","Décembre")))))))))))) -> Juillet | L66: =IF(N66="","",DAY(N66)) -> 21 | M66: =IF(N66="","",YEAR(N66)) -> 1941 | N66: 15178
A67: 71 | B67: Rassalle | C67: Catherine | D67: 71 | E67: 13, Quai de la butte | F67: 21170 | G67: Losne | K67: =IF((N67)="","",IF(MONTH(N67)=1,"Janvier",IF(MONTH(N67)=2,"Février",IF(MONTH(N67)=3,"Mars",IF(MONTH(N67)=4,"Avril",IF(MONTH(N67)=5,"Mai",IF(MONTH(N67)=6,"Juin",IF(MONTH(N67)=7,"Juillet",IF(MONTH(N67)=8,"Août",IF(MONTH(N67)=9,"Septembre",IF(MONTH(N67)=10,"Octobre",IF(MONTH(N67)=11,"Novembre","Décembre")))))))))))) -> Avril | L67: =IF(N67="","",DAY(N67)) -> 18 | M67: =IF(N67="","",YEAR(N67)) -> 1960 | N67: 22024
A68: 56 | B68: Ricamard | C68: Marie-Claude | D68: 56 | E68: 10, Rue du port Bernard | F68: 21170 | G68: Echenon | K68: =IF((N68)="","",IF(MONTH(N68)=1,"Janvier",IF(MONTH(N68)=2,"Février",IF(MONTH(N68)=3,"Mars",IF(MONTH(N68)=4,"Avril",IF(MONTH(N68)=5,"Mai",IF(MONTH(N68)=6,"Juin",IF(MONTH(N68)=7,"Juillet",IF(MONTH(N68)=8,"Août",IF(MONTH(N68)=9,"Septembre",IF(MONTH(N68)=10,"Octobre",IF(MONTH(N68)=11,"Novembre","Décembre")))))))))))) -> Mars | L68: =IF(N68="","",DAY(N68)) -> 29 | M68: =IF(N68="","",YEAR(N68)) -> 1943 | N68: 15794
A69: 57 | B69: Richard | C69: Gaëtant | D69: 57 | E69: 12, Rue de Savernnes | F69: 21170 | G69: Laperrière sur Saône | K69: =IF((N69)="","",IF(MONTH(N69)=1,"Janvier",IF(MONTH(N69)=2,"Février",IF(MONTH(N69)=3,"Mars",IF(MONTH(N69)=4,"Avril",IF(MONTH(N69)=5,"Mai",IF(MONTH(N69)=6,"Juin",IF(MONTH(N69)=7,"Juillet",IF(MONTH(N69)=8,"Août",IF(MONTH(N69)=9,"Septembre",IF(MONTH(N69)=10,"Octobre",IF(MONTH(N69)=11,"Novembre","Décembre")))))))))))) -> Septembre | L69: =IF(N69="","",DAY(N69)) -> 20 | M69: =IF(N69="","",YEAR(N69)) -> 1985 | N69: 31310
A70: 58 | B70: RICHETIN | C70: Paul | D70: 58 | E70: Rue du Brenon | F70: 21250 | G70: Broin | H70: 380269104 | I70: 699210787 | J70: supauze@wanadoo.fr | K70: =IF((N70)="","",IF(MONTH(N70)=1,"Janvier",IF(MONTH(N70)=2,"Février",IF(MONTH(N70)=3,"Mars",IF(MONTH(N70)=4,"Avril",IF(MONTH(N70)=5,"Mai",IF(MONTH(N70)=6,"Juin",IF(MONTH(N70)=7,"Juillet",IF(MONTH(N70)=8,"Août",IF(MONTH(N70)=9,"Septembre",IF(MONTH(N70)=10,"Octobre",IF(MONTH(N70)=11,"Novembre","Décembre")))))))))))) -> Avril | L70: =IF(N70="","",DAY(N70)) -> 17 | M70: =IF(N70="","",YEAR(N70)) -> 1936 | N70: 13257
A71: 72 | B71: Robelet | C71: Jacqueline | D71: 72 | E71: 25, Quai National | F71: 21170 | G71: St Jean de Losne | K71: =IF((N71)="","",IF(MONTH(N71)=1,"Janvier",IF(MONTH(N71)=2,"Février",IF(MONTH(N71)=3,"Mars",IF(MONTH(N71)=4,"Avril",IF(MONTH(N71)=5,"Mai",IF(MONTH(N71)=6,"Juin",IF(MONTH(N71)=7,"Juillet",IF(MONTH(N71)=8,"Août",IF(MONTH(N71)=9,"Septembre",IF(MONTH(N71)=10,"Octobre",IF(MONTH(N71)=11,"Novembre","Décembre")))))))))))) -> Octobre | L71: =IF(N71="","",DAY(N71)) -> 7 | M71: =IF(N71="","",YEAR(N71)) -> 1952 | N71: 19274
A72: 73 | B72: Said Oili | C72: Oili Issouf | D72: 73 | E72: 3, Place de halles | F72: 21170 | G72: St Jean de Losne | K72: =IF((N72)="","",IF(MONTH(N72)=1,"Janvier",IF(MONTH(N72)=2,"Février",IF(MONTH(N72)=3,"Mars",IF(MONTH(N72)=4,"Avril",IF(MONTH(N72)=5,"Mai",IF(MONTH(N72)=6,"Juin",IF(MONTH(N72)=7,"Juillet",IF(MONTH(N72)=8,"Août",IF(MONTH(N72)=9,"Septembre",IF(MONTH(N72)=10,"Octobre",IF(MONTH(N72)=11,"Novembre","Décembre")))))))))))) -> Décembre | L72: =IF(N72="","",DAY(N72)) -> 12 | M72: =IF(N72="","",YEAR(N72)) -> 1973 | N72: 27010
A73: 59 | B73: Saint Felix | C73: Georgette | D73: 59 | E73: 10, Bastions du Wauxhall | F73: 21170 | G73: St Jean de Losne | H73: 380290333 | J73: georgette.saintfelix@orange.fr | K73: =IF((N73)="","",IF(MONTH(N73)=1,"Janvier",IF(MONTH(N73)=2,"Février",IF(MONTH(N73)=3,"Mars",IF(MONTH(N73)=4,"Avril",IF(MONTH(N73)=5,"Mai",IF(MONTH(N73)=6,"Juin",IF(MONTH(N73)=7,"Juillet",IF(MONTH(N73)=8,"Août",IF(MONTH(N73)=9,"Septembre",IF(MONTH(N73)=10,"Octobre",IF(MONTH(N73)=11,"Novembre","Décembre")))))))))))) -> Août | L73: =IF(N73="","",DAY(N73)) -> 27 | M73: =IF(N73="","",YEAR(N73)) -> 1929 | N73: 10832
A74: 60 | B74: Taberlet | C74: Claude | D74: 60 | E74: 15, Route de Losne | F74: 39410 | G74: St Aubin | K74: =IF((N74)="","",IF(MONTH(N74)=1,"Janvier",IF(MONTH(N74)=2,"Février",IF(MONTH(N74)=3,"Mars",IF(MONTH(N74)=4,"Avril",IF(MONTH(N74)=5,"Mai",IF(MONTH(N74)=6,"Juin",IF(MONTH(N74)=7,"Juillet",IF(MONTH(N74)=8,"Août",IF(MONTH(N74)=9,"Septembre",IF(MONTH(N74)=10,"Octobre",IF(MONTH(N74)=11,"Novembre","Décembre")))))))))))) | L74: =IF(N74="","",DAY(N74)) | M74: =IF(N74="","",YEAR(N74))
A75: 61 | B75: THIEBEAUX | C75: Chantal | D75: 61 | E75: 20 Route de Dijon | F75: 21470 | G75: Brazey en plaine | H75: 380299528 | J75: mamiebrazey@aliceadsl.fr | K75: =IF((N75)="","",IF(MONTH(N75)=1,"Janvier",IF(MONTH(N75)=2,"Février",IF(MONTH(N75)=3,"Mars",IF(MONTH(N75)=4,"Avril",IF(MONTH(N75)=5,"Mai",IF(MONTH(N75)=6,"Juin",IF(MONTH(N75)=7,"Juillet",IF(MONTH(N75)=8,"Août",IF(MONTH(N75)=9,"Septembre",IF(MONTH(N75)=10,"Octobre",IF(MONTH(N75)=11,"Novembre","Décembre")))))))))))) -> Mai | L75: =IF(N75="","",DAY(N75)) -> 26 | M75: =IF(N75="","",YEAR(N75)) -> 1939 | N75: 14391
A76: 62 | B76: Vandel | C76: Isabelle | D76: 62 | E76: 9, Route de Pagny | F76: 21170 | G76: Charrey sur Saône | K76: =IF((N76)="","",IF(MONTH(N76)=1,"Janvier",IF(MONTH(N76)=2,"Février",IF(MONTH(N76)=3,"Mars",IF(MONTH(N76)=4,"Avril",IF(MONTH(N76)=5,"Mai",IF(MONTH(N76)=6,"Juin",IF(MONTH(N76)=7,"Juillet",IF(MONTH(N76)=8,"Août",IF(MONTH(N76)=9,"Septembre",IF(MONTH(N76)=10,"Octobre",IF(MONTH(N76)=11,"Novembre","Décembre")))))))))))) -> Août | L76: =IF(N76="","",DAY(N76)) -> 30 | M76: =IF(N76="","",YEAR(N76)) -> 1960 | N76: 22158
A77: 74 | B77: Verne | C77: Martine | D77: 74 | E77: 12, Rue Vernier | F77: 21170 | G77: St Symphorien sur Saône | K77: =IF((N77)="","",IF(MONTH(N77)=1,"Janvier",IF(MONTH(N77)=2,"Février",IF(MONTH(N77)=3,"Mars",IF(MONTH(N77)=4,"Avril",IF(MONTH(N77)=5,"Mai",IF(MONTH(N77)=6,"Juin",IF(MONTH(N77)=7,"Juillet",IF(MONTH(N77)=8,"Août",IF(MONTH(N77)=9,"Septembre",IF(MONTH(N77)=10,"Octobre",IF(MONTH(N77)=11,"Novembre","Décembre")))))))))))) | L77: =IF(N77="","",DAY(N77)) | M77: =IF(N77="","",YEAR(N77))
A78: 5 | B78: Vossaert | C78: Olivier | D78: 5 | E78: 3, Rue du poirier | F78: 21170 | G78: Laperrière sur Saône | K78: =IF((N78)="","",IF(MONTH(N78)=1,"Janvier",IF(MONTH(N78)=2,"Février",IF(MONTH(N78)=3,"Mars",IF(MONTH(N78)=4,"Avril",IF(MONTH(N78)=5,"Mai",IF(MONTH(N78)=6,"Juin",IF(MONTH(N78)=7,"Juillet",IF(MONTH(N78)=8,"Août",IF(MONTH(N78)=9,"Septembre",IF(MONTH(N78)=10,"Octobre",IF(MONTH(N78)=11,"Novembre","Décembre")))))))))))) | L78: =IF(N78="","",DAY(N78)) | M78: =IF(N78="","",YEAR(N78))
A79: 63 | B79: Zobel | C79: Fabienne | D79: 63 | E79: 25, Avenue de la gare | F79: 21170 | G79: St Usage | K79: =IF((N79)="","",IF(MONTH(N79)=1,"Janvier",IF(MONTH(N79)=2,"Février",IF(MONTH(N79)=3,"Mars",IF(MONTH(N79)=4,"Avril",IF(MONTH(N79)=5,"Mai",IF(MONTH(N79)=6,"Juin",IF(MONTH(N79)=7,"Juillet",IF(MONTH(N79)=8,"Août",IF(MONTH(N79)=9,"Septembre",IF(MONTH(N79)=10,"Octobre",IF(MONTH(N79)=11,"Novembre","Décembre")))))))))))) | L79: =IF(N79="","",DAY(N79)) | M79: =IF(N79="","",YEAR(N79))
E82: 78 Adhérents

Sheet 2006-2007
B2: Nom | C2: Prénom | D2: N° Carte | E2: Adresse | F2: CP | G2: Ville | H2: Téléphone | I2: Portable | J2: Email | K2: Date Naiss | N2: Date
K3: Mois | L3: Jour | M3: Année
A4: 4 | B4: BEHEREC | C4: Franck | D4: 4 | E4: 3 Impasse Verdi | F4: 21470 | G4: Brazey en plaine | H4: 380298947 | I4: 614462165 | J4: franck.beherec@wanadoo.fr | K4: =IF((N4)="","",IF(MONTH(N4)=1,"Janvier",IF(MONTH(N4)=2,"Février",IF(MONTH(N4)=3,"Mars",IF(MONTH(N4)=4,"Avril",IF(MONTH(N4)=5,"Mai",IF(MONTH(N4)=6,"Juin",IF(MONTH(N4)=7,"Juillet",IF(MONTH(N4)=8,"Août",IF(MONTH(N4)=9,"Septembre",IF(MONTH(N4)=10,"Octobre",IF(MONTH(N4)=11,"Novembre","Décembre")))))))))))) -> Octobre | L4: =IF(N4="","",DAY(N4)) -> 24 | M4: =IF(N4="","",YEAR(N4)) -> 1967 | N4: 24769
A5: 135 | B5: BEUDET | C5: Jean | D5: 135 | E5: 12, Clos de Bellevue | F5: 21250 | G5: Pouilly sur Saone | H5: 380204308 | K5: =IF((N5)="","",IF(MONTH(N5)=1,"Janvier",IF(MONTH(N5)=2,"Février",IF(MONTH(N5)=3,"Mars",IF(MONTH(N5)=4,"Avril",IF(MONTH(N5)=5,"Mai",IF(MONTH(N5)=6,"Juin",IF(MONTH(N5)=7,"Juillet",IF(MONTH(N5)=8,"Août",IF(MONTH(N5)=9,"Septembre",IF(MONTH(N5)=10,"Octobre",IF(MONTH(N5)=11,"Novembre","Décembre")))))))))))) -> Janvier | L5: =IF(N5="","",DAY(N5)) -> 6 | M5: =IF(N5="","",YEAR(N5)) -> 1938 | N5: 13886
A6: 79 | B6: BOILLAUD | C6: Jean-Louis | D6: 79 | E6: 8 Route de Beaune | F6: 21170 | G6: St Usage | H6: 380290667 | I6: 679396168 | J6: jl.boillaud@wanadoo.fr | K6: =IF((N6)="","",IF(MONTH(N6)=1,"Janvier",IF(MONTH(N6)=2,"Février",IF(MONTH(N6)=3,"Mars",IF(MONTH(N6)=4,"Avril",IF(MONTH(N6)=5,"Mai",IF(MONTH(N6)=6,"Juin",IF(MONTH(N6)=7,"Juillet",IF(MONTH(N6)=8,"Août",IF(MONTH(N6)=9,"Septembre",IF(MONTH(N6)=10,"Octobre",IF(MONTH(N6)=11,"Novembre","Décembre")))))))))))) -> Juin | L6: =IF(N6="","",DAY(N6)) -> 8 | M6: =IF(N6="","",YEAR(N6)) -> 1945 | N6: 16596
A7: 80 | B7: BUSSIERE | C7: Monique | D7: 80 | E7: 9, Grande rue | F7: 21250 | G7: Bonnencontre | H7: 380363662 | K7: =IF((N7)="","",IF(MONTH(N7)=1,"Janvier",IF(MONTH(N7)=2,"Février",IF(MONTH(N7)=3,"Mars",IF(MONTH(N7)=4,"Avril",IF(MONTH(N7)=5,"Mai",IF(MONTH(N7)=6,"Juin",IF(MONTH(N7)=7,"Juillet",IF(MONTH(N7)=8,"Août",IF(MONTH(N7)=9,"Septembre",IF(MONTH(N7)=10,"Octobre",IF(MONTH(N7)=11,"Novembre","Décembre")))))))))))) -> Juillet | L7: =IF(N7="","",DAY(N7)) -> 7 | M7: =IF(N7="","",YEAR(N7)) -> 1947 | N7: 17355
A8: 81 | B8: CAPELLI | C8: Chantal | D8: 81 | E8: 26 Route de Beaune | F8: 21170 | G8: St Usage | H8: 380779059 | J8: Biquette999@yahoo.fr | K8: =IF((N8)="","",IF(MONTH(N8)=1,"Janvier",IF(MONTH(N8)=2,"Février",IF(MONTH(N8)=3,"Mars",IF(MONTH(N8)=4,"Avril",IF(MONTH(N8)=5,"Mai",IF(MONTH(N8)=6,"Juin",IF(MONTH(N8)=7,"Juillet",IF(MONTH(N8)=8,"Août",IF(MONTH(N8)=9,"Septembre",IF(MONTH(N8)=10,"Octobre",IF(MONTH(N8)=11,"Novembre","Décembre")))))))))))) -> Août | L8: =IF(N8="","",DAY(N8)) -> 10 | M8: =IF(N8="","",YEAR(N8)) -> 1944 | N8: 16294
A9: 82 | B9: CARREZ | C9: Alain | D9: 82 | E9: 15 Rue de la mare | F9: 21170 | G9: Montot | H9: 380329317 | I9: 678333988 | J9: acarrez@wanadoo.fr | K9: =IF((N9)="","",IF(MONTH(N9)=1,"Janvier",IF(MONTH(N9)=2,"Février",IF(MONTH(N9)=3,"Mars",IF(MONTH(N9)=4,"Avril",IF(MONTH(N9)=5,"Mai",IF(MONTH(N9)=6,"Juin",IF(MONTH(N9)=7,"Juillet",IF(MONTH(N9)=8,"Août",IF(MONTH(N9)=9,"Septembre",IF(MONTH(N9)=10,"Octobre",IF(MONTH(N9)=11,"Novembre","Décembre")))))))))))) -> Juillet | L9: =IF(N9="","",DAY(N9)) -> 23 | M9: =IF(N9="","",YEAR(N9)) -> 1947 | N9: 17371
A10: 16 | B10: CATY | C10: Anne Marie | D10: 16 | E10: rue du patis des buissons | F10: 21250 | G10: Tichey | H10: 380210868 | K10: =IF((N10)="","",IF(MONTH(N10)=1,"Janvier",IF(MONTH(N10)=2,"Février",IF(MONTH(N10)=3,"Mars",IF(MONTH(N10)=4,"Avril",IF(MONTH(N10)=5,"Mai",IF(MONTH(N10)=6,"Juin",IF(MONTH(N10)=7,"Juillet",IF(MONTH(N10)=8,"Août",IF(MONTH(N10)=9,"Septembre",IF(MONTH(N10)=10,"Octobre",IF(MONTH(N10)=11,"Novembre","Décembre")))))))))))) -> Février | L10: =IF(N10="","",DAY(N10)) -> 13 | M10: =IF(N10="","",YEAR(N10)) -> 1938 | N10: 13924
A11: 83 | B11: CHEVALIER | C11: Rachel | D11: 83 | E11: 23 Rue Chanoine Bonnard | F11: 21470 | G11: Brazey en plaine | H11: 380298577 | K11: =IF((N11)="","",IF(MONTH(N11)=1,"Janvier",IF(MONTH(N11)=2,"Février",IF(MONTH(N11)=3,"Mars",IF(MONTH(N11)=4,"Avril",IF(MONTH(N11)=5,"Mai",IF(MONTH(N11)=6,"Juin",IF(MONTH(N11)=7,"Juillet",IF(MONTH(N11)=8,"Août",IF(MONTH(N11)=9,"Septembre",IF(MONTH(N11)=10,"Octobre",IF(MONTH(N11)=11,"Novembre","Décembre")))))))))))) | L11: =IF(N11="","",DAY(N11)) | M11: =IF(N11="","",YEAR(N11))
A12: 84 | B12: COMBET | C12: Monique | D12: 84 | F12: 21250 | G12: Pagny la Ville | H12: 380363450 | K12: =IF((N12)="","",IF(MONTH(N12)=1,"Janvier",IF(MONTH(N12)=2,"Février",IF(MONTH(N12)=3,"Mars",IF(MONTH(N12)=4,"Avril",IF(MONTH(N12)=5,"Mai",IF(MONTH(N12)=6,"Juin",IF(MONTH(N12)=7,"Juillet",IF(MONTH(N12)=8,"Août",IF(MONTH(N12)=9,"Septembre",IF(MONTH(N12)=10,"Octobre",IF(MONTH(N12)=11,"Novembre","Décembre")))))))))))) | L12: =IF(N12="","",DAY(N12)) | M12: =IF(N12="","",YEAR(N12))
A13: 85 | B13: DECOSNE | C13: Denise | D13: 85 | E13: 29 Rue de Meix | F13: 21250 | G13: Seurre | H13: 380210183 | K13: =IF((N13)="","",IF(MONTH(N13)=1,"Janvier",IF(MONTH(N13)=2,"Février",IF(MONTH(N13)=3,"Mars",IF(MONTH(N13)=4,"Avril",IF(MONTH(N13)=5,"Mai",IF(MONTH(N13)=6,"Juin",IF(MONTH(N13)=7,"Juillet",IF(MONTH(N13)=8,"Août",IF(MONTH(N13)=9,"Septembre",IF(MONTH(N13)=10,"Octobre",IF(MONTH(N13)=11,"Novembre","Décembre")))))))))))) | L13: =IF(N13="","",DAY(N13)) | M13: =IF(N13="","",YEAR(N13))
A14: 26 | B14: DELAGRANGE | C14: Michel | D14: 26 | E14: 225 Rue du château | F14: 21250 | G14: Broin | H14: 380269485 | J14: michel.delagrange@wanadoo.fr | K14: =IF((N14)="","",IF(MONTH(N14)=1,"Janvier",IF(MONTH(N14)=2,"Février",IF(MONTH(N14)=3,"Mars",IF(MONTH(N14)=4,"Avril",IF(MONTH(N14)=5,"Mai",IF(MONTH(N14)=6,"Juin",IF(MONTH(N14)=7,"Juillet",IF(MONTH(N14)=8,"Août",IF(MONTH(N14)=9,"Septembre",IF(MONTH(N14)=10,"Octobre",IF(MONTH(N14)=11,"Novembre","Décembre")))))))))))) -> Avril | L14: =IF(N14="","",DAY(N14)) -> 18 | M14: =IF(N14="","",YEAR(N14)) -> 1938 | N14: 13988
A15: 2 | B15: FAURE | C15: Robert | D15: 2 | E15: Rue de la Liberté | F15: 21170 | G15: St Jean de Losne | K15: Avril | L15: 7 | M15: 1968 | N15: 24935
A16: 1 | B16: FAURE | C16: Sylvain | D16: 1 | E16: 14, Rue des Messiers | F16: 21170 | G16: St Jean de Losne | K16: =IF((N16)="","",IF(MONTH(N16)=1,"Janvier",IF(MONTH(N16)=2,"Février",IF(MONTH(N16)=3,"Mars",IF(MONTH(N16)=4,"Avril",IF(MONTH(N16)=5,"Mai",IF(MONTH(N16)=6,"Juin",IF(MONTH(N16)=7,"Juillet",IF(MONTH(N16)=8,"Août",IF(MONTH(N16)=9,"Septembre",IF(MONTH(N16)=10,"Octobre",IF(MONTH(N16)=11,"Novembre","Décembre")))))))))))) -> Décembre | L16: =IF(N16="","",DAY(N16)) -> 20 | M16: =IF(N16="","",YEAR(N16)) -> 1971 | N16: 26287
A17: 86 | B17: FORTIN | C17: Marie-Thérèse | D17: 86 | E17: 50, Avenue de la Gare | F17: 21910 | G17: Saulon la Chapelle | H17: 380397913 | J17: mariethe.fo1@aliceadsl.fr | K17: =IF((N17)="","",IF(MONTH(N17)=1,"Janvier",IF(MONTH(N17)=2,"Février",IF(MONTH(N17)=3,"Mars",IF(MONTH(N17)=4,"Avril",IF(MONTH(N17)=5,"Mai",IF(MONTH(N17)=6,"Juin",IF(MONTH(N17)=7,"Juillet",IF(MONTH(N17)=8,"Août",IF(MONTH(N17)=9,"Septembre",IF(MONTH(N17)=10,"Octobre",IF(MONTH(N17)=11,"Novembre","Décembre")))))))))))) -> Mai | L17: =IF(N17="","",DAY(N17)) -> 31 | M17: =IF(N17="","",YEAR(N17)) -> 1943 | N17: 15857
A18: 87 | B18: FREYLON | C18: Patrick | D18: 87 | F18: 21250 | G18: Pagny la Ville | I18: 623308282 | J18: patrick-freylon@neuf,fr | K18: =IF((N18)="","",IF(MONTH(N18)=1,"Janvier",IF(MONTH(N18)=2,"Février",IF(MONTH(N18)=3,"Mars",IF(MONTH(N18)=4,"Avril",IF(MONTH(N18)=5,"Mai",IF(MONTH(N18)=6,"Juin",IF(MONTH(N18)=7,"Juillet",IF(MONTH(N18)=8,"Août",IF(MONTH(N18)=9,"Septembre",IF(MONTH(N18)=10,"Octobre",IF(MONTH(N18)=11,"Novembre","Décembre")))))))))))) | L18: =IF(N18="","",DAY(N18)) | M18: =IF(N18="","",YEAR(N18))
A19: 88 | B19: GAGNEPAIN | C19: Sabine | D19: 88 | E19: 4, Rue de Beauraing | F19: 21250 | G19: Seurre | H19: 380203724 | K19: =IF((N19)="","",IF(MONTH(N19)=1,"Janvier",IF(MONTH(N19)=2,"Février",IF(MONTH(N19)=3,"Mars",IF(MONTH(N19)=4,"Avril",IF(MONTH(N19)=5,"Mai",IF(MONTH(N19)=6,"Juin",IF(MONTH(N19)=7,"Juillet",IF(MONTH(N19)=8,"Août",IF(MONTH(N19)=9,"Septembre",IF(MONTH(N19)=10,"Octobre",IF(MONTH(N19)=11,"Novembre","Décembre")))))))))))) | L19: =IF(N19="","",DAY(N19)) | M19: =IF(N19="","",YEAR(N19))
A20: 33 | B20: GAUTHERON | C20: Christiane | D20: 33 | E20: 2, Rue des lilas | F20: 21170 | G20: Losne | H20: 380291147 | I20: 616900396 | J20: gautheroncl@wanadoo.fr | K20: =IF((N20)="","",IF(MONTH(N20)=1,"Janvier",IF(MONTH(N20)=2,"Février",IF(MONTH(N20)=3,"Mars",IF(MONTH(N20)=4,"Avril",IF(MONTH(N20)=5,"Mai",IF(MONTH(N20)=6,"Juin",IF(MONTH(N20)=7,"Juillet",IF(MONTH(N20)=8,"Août",IF(MONTH(N20)=9,"Septembre",IF(MONTH(N20)=10,"Octobre",IF(MONTH(N20)=11,"Novembre","Décembre")))))))))))) | L20: =IF(N20="","",DAY(N20)) | M20: =IF(N20="","",YEAR(N20))
A21: 34 | B21: GAUTHERON | C21: Claude | D21: 34 | E21: 2, Rue des lilas | F21: 21170 | G21: Losne | H21: 380291147 | I21: 616900396 | J21: gautheroncl@wanadoo.fr | K21: =IF((N21)="","",IF(MONTH(N21)=1,"Janvier",IF(MONTH(N21)=2,"Février",IF(MONTH(N21)=3,"Mars",IF(MONTH(N21)=4,"Avril",IF(MONTH(N21)=5,"Mai",IF(MONTH(N21)=6,"Juin",IF(MONTH(N21)=7,"Juillet",IF(MONTH(N21)=8,"Août",IF(MONTH(N21)=9,"Septembre",IF(MONTH(N21)=10,"Octobre",IF(MONTH(N21)=11,"Novembre","Décembre")))))))))))) -> Février | L21: =IF(N21="","",DAY(N21)) -> 16 | M21: =IF(N21="","",YEAR(N21)) -> 1937 | N21: 13562
A22: 89 | B22: HELIOT | C22: Alexis | D22: 89 | E22: 25 Route de la Saône | F22: 21170 | G22: Losne | H22: 380291553 | K22: =IF((N22)="","",IF(MONTH(N22)=1,"Janvier",IF(MONTH(N22)=2,"Février",IF(MONTH(N22)=3,"Mars",IF(MONTH(N22)=4,"Avril",IF(MONTH(N22)=5,"Mai",IF(MONTH(N22)=6,"Juin",IF(MONTH(N22)=7,"Juillet",IF(MONTH(N22)=8,"Août",IF(MONTH(N22)=9,"Septembre",IF(MONTH(N22)=10,"Octobre",IF(MONTH(N22)=11,"Novembre","Décembre")))))))))))) | L22: =IF(N22="","",DAY(N22)) | M22: =IF(N22="","",YEAR(N22))
A23: 90 | B23: HUGUENOT | C23: Jean-Louis | D23: 90 | E23: 25 Rue Chanoine Bonnard | F23: 21470 | G23: Brazey en plaine | H23: 380298316 | J23: huguenotjl@aol.com | K23: =IF((N23)="","",IF(MONTH(N23)=1,"Janvier",IF(MONTH(N23)=2,"Février",IF(MONTH(N23)=3,"Mars",IF(MONTH(N23)=4,"Avril",IF(MONTH(N23)=5,"Mai",IF(MONTH(N23)=6,"Juin",IF(MONTH(N23)=7,"Juillet",IF(MONTH(N23)=8,"Août",IF(MONTH(N23)=9,"Septembre",IF(MONTH(N23)=10,"Octobre",IF(MONTH(N23)=11,"Novembre","Décembre")))))))))))) | L23: =IF(N23="","",DAY(N23)) | M23: =IF(N23="","",YEAR(N23))
A24: 91 | B24: HUGUENOT | C24: Etienne | D24: 91 | E24: 25 Rue Chanoine Bonnard | F24: 21470 | G24: Brazey en plaine | H24: 380298316 | K24: =IF((N24)="","",IF(MONTH(N24)=1,"Janvier",IF(MONTH(N24)=2,"Février",IF(MONTH(N24)=3,"Mars",IF(MONTH(N24)=4,"Avril",IF(MONTH(N24)=5,"Mai",IF(MONTH(N24)=6,"Juin",IF(MONTH(N24)=7,"Juillet",IF(MONTH(N24)=8,"Août",IF(MONTH(N24)=9,"Septembre",IF(MONTH(N24)=10,"Octobre",IF(MONTH(N24)=11,"Novembre","Décembre")))))))))))) | L24: =IF(N24="","",DAY(N24)) | M24: =IF(N24="","",YEAR(N24))
A25: 92 | B25: HUGUENOT | C25: Robin | D25: 92 | E25: 25 Rue Chanoine Bonnard | F25: 21470 | G25: Brazey en plaine | H25: 380298316 | K25: =IF((N25)="","",IF(MONTH(N25)=1,"Janvier",IF(MONTH(N25)=2,"Février",IF(MONTH(N25)=3,"Mars",IF(MONTH(N25)=4,"Avril",IF(MONTH(N25)=5,"Mai",IF(MONTH(N25)=6,"Juin",IF(MONTH(N25)=7,"Juillet",IF(MONTH(N25)=8,"Août",IF(MONTH(N25)=9,"Septembre",IF(MONTH(N25)=10,"Octobre",IF(MONTH(N25)=11,"Novembre","Décembre")))))))))))) | L25: =IF(N25="","",DAY(N25)) | M25: =IF(N25="","",YEAR(N25))
A26: 36 | B26: JAN | C26: LOUIS | D26: 36 | E26: 5 Route de Trouhans | F26: 21170 | G26: St Usage | H26: 380392269 | J26: jan.louis2@wanadoo.fr | K26: =IF((N26)="","",IF(MONTH(N26)=1,"Janvier",IF(MONTH(N26)=2,"Février",IF(MONTH(N26)=3,"Mars",IF(MONTH(N26)=4,"Avril",IF(MONTH(N26)=5,"Mai",IF(MONTH(N26)=6,"Juin",IF(MONTH(N26)=7,"Juillet",IF(MONTH(N26)=8,"Août",IF(MONTH(N26)=9,"Septembre",IF(MONTH(N26)=10,"Octobre",IF(MONTH(N26)=11,"Novembre","Décembre")))))))))))) -> Février | L26: =IF(N26="","",DAY(N26)) -> 11 | M26: =IF(N26="","",YEAR(N26)) -> 1923 | N26: 8443
A27: 93 | B27: JEANNIN | C27: Gérard | D27: 93 | E27: 15 Rue Monge | F27: 21170 | G27: St Jean de Losne | H27: 380501337 | K27: =IF((N27)="","",IF(MONTH(N27)=1,"Janvier",IF(MONTH(N27)=2,"Février",IF(MONTH(N27)=3,"Mars",IF(MONTH(N27)=4,"Avril",IF(MONTH(N27)=5,"Mai",IF(MONTH(N27)=6,"Juin",IF(MONTH(N27)=7,"Juillet",IF(MONTH(N27)=8,"Août",IF(MONTH(N27)=9,"Septembre",IF(MONTH(N27)=10,"Octobre",IF(MONTH(N27)=11,"Novembre","Décembre")))))))))))) | L27: =IF(N27="","",DAY(N27)) | M27: =IF(N27="","",YEAR(N27))
A28: 94 | B28: JEANNIN | C28: Sylvie | D28: 94 | E28: 15 Rue Monge | F28: 21170 | G28: St Jean de Losne | H28: 380501337 | I28: 611668101 | J28: jeannin_rougelet@hotmail.fr | K28: =IF((N28)="","",IF(MONTH(N28)=1,"Janvier",IF(MONTH(N28)=2,"Février",IF(MONTH(N28)=3,"Mars",IF(MONTH(N28)=4,"Avril",IF(MONTH(N28)=5,"Mai",IF(MONTH(N28)=6,"Juin",IF(MONTH(N28)=7,"Juillet",IF(MONTH(N28)=8,"Août",IF(MONTH(N28)=9,"Septembre",IF(MONTH(N28)=10,"Octobre",IF(MONTH(N28)=11,"Novembre","Décembre")))))))))))) | L28: =IF(N28="","",DAY(N28)) | M28: =IF(N28="","",YEAR(N28))
A29: 37 | B29: LACREUSE | C29: Gérard | D29: 37 | E29: 1, Rue Sainte Barbe | F29: 21250 | G29: Seurre | H29: 380211007 | J29: anglacreuse@orange.fr | K29: =IF((N29)="","",IF(MONTH(N29)=1,"Janvier",IF(MONTH(N29)=2,"Février",IF(MONTH(N29)=3,"Mars",IF(MONTH(N29)=4,"Avril",IF(MONTH(N29)=5,"Mai",IF(MONTH(N29)=6,"Juin",IF(MONTH(N29)=7,"Juillet",IF(MONTH(N29)=8,"Août",IF(MONTH(N29)=9,"Septembre",IF(MONTH(N29)=10,"Octobre",IF(MONTH(N29)=11,"Novembre","Décembre")))))))))))) -> Octobre | L29: =IF(N29="","",DAY(N29)) -> 14 | M29: =IF(N29="","",YEAR(N29)) -> 1947 | N29: 17454
A30: 40 | B30: LEGROS | C30: Lucien | D30: 40 | E30: 66, Grande rue | F30: 21250 | G30: Pagny la Ville | H30: 380363191 | J30: legros.lucien@wanadoo.fr | K30: =IF((N30)="","",IF(MONTH(N30)=1,"Janvier",IF(MONTH(N30)=2,"Février",IF(MONTH(N30)=3,"Mars",IF(MONTH(N30)=4,"Avril",IF(MONTH(N30)=5,"Mai",IF(MONTH(N30)=6,"Juin",IF(MONTH(N30)=7,"Juillet",IF(MONTH(N30)=8,"Août",IF(MONTH(N30)=9,"Septembre",IF(MONTH(N30)=10,"Octobre",IF(MONTH(N30)=11,"Novembre","Décembre")))))))))))) -> Février | L30: =IF(N30="","",DAY(N30)) -> 16 | M30: =IF(N30="","",YEAR(N30)) -> 1933 | N30: 12101
A31: 95 | B31: LEROUX | C31: Patrick | D31: 95 | F31: 21470 | G31: Brazey en plaine | I31: 603430826 | K31: =IF((N31)="","",IF(MONTH(N31)=1,"Janvier",IF(MONTH(N31)=2,"Février",IF(MONTH(N31)=3,"Mars",IF(MONTH(N31)=4,"Avril",IF(MONTH(N31)=5,"Mai",IF(MONTH(N31)=6,"Juin",IF(MONTH(N31)=7,"Juillet",IF(MONTH(N31)=8,"Août",IF(MONTH(N31)=9,"Septembre",IF(MONTH(N31)=10,"Octobre",IF(MONTH(N31)=11,"Novembre","Décembre")))))))))))) -> Janvier | L31: =IF(N31="","",DAY(N31)) -> 12 | M31: =IF(N31="","",YEAR(N31)) -> 1954 | N31: 19736
A32: 96 | B32: LEROY | C32: Claude | D32: 96 | E32: 20 Meix aux Cas | F32: 21470 | G32: Brazey en plaine | H32: 380298966 | K32: =IF((N32)="","",IF(MONTH(N32)=1,"Janvier",IF(MONTH(N32)=2,"Février",IF(MONTH(N32)=3,"Mars",IF(MONTH(N32)=4,"Avril",IF(MONTH(N32)=5,"Mai",IF(MONTH(N32)=6,"Juin",IF(MONTH(N32)=7,"Juillet",IF(MONTH(N32)=8,"Août",IF(MONTH(N32)=9,"Septembre",IF(MONTH(N32)=10,"Octobre",IF(MONTH(N32)=11,"Novembre","Décembre")))))))))))) | L32: =IF(N32="","",DAY(N32)) | M32: =IF(N32="","",YEAR(N32))
A33: 97 | B33: LINCK | C33: Quentin | D33: 97 | E33: 11 Cours Pierre et Marie Curie | F33: 21470 | G33: Brazey en plaine | H33: 380298966 | K33: =IF((N33)="","",IF(MONTH(N33)=1,"Janvier",IF(MONTH(N33)=2,"Février",IF(MONTH(N33)=3,"Mars",IF(MONTH(N33)=4,"Avril",IF(MONTH(N33)=5,"Mai",IF(MONTH(N33)=6,"Juin",IF(MONTH(N33)=7,"Juillet",IF(MONTH(N33)=8,"Août",IF(MONTH(N33)=9,"Septembre",IF(MONTH(N33)=10,"Octobre",IF(MONTH(N33)=11,"Novembre","Décembre")))))))))))) | L33: =IF(N33="","",DAY(N33)) | M33: =IF(N33="","",YEAR(N33))
A34: 98 | B34: MARCHAND | C34: Michel | D34: 98 | E34: 19 Rue du Jura | F34: 21110 | G34: Aiserey | H34: 380297202 | K34: =IF((N34)="","",IF(MONTH(N34)=1,"Janvier",IF(MONTH(N34)=2,"Février",IF(MONTH(N34)=3,"Mars",IF(MONTH(N34)=4,"Avril",IF(MONTH(N34)=5,"Mai",IF(MONTH(N34)=6,"Juin",IF(MONTH(N34)=7,"Juillet",IF(MONTH(N34)=8,"Août",IF(MONTH(N34)=9,"Septembre",IF(MONTH(N34)=10,"Octobre",IF(MONTH(N34)=11,"Novembre","Décembre")))))))))))) | L34: =IF(N34="","",DAY(N34)) | M34: =IF(N34="","",YEAR(N34))
A35: 42 | B35: MARGUERY | C35: Bernard | D35: 42 | E35: 6, Rue de la place | F35: 21250 | G35: Labruyère | K35: Décembre | L35: 31 | M35: 1930 | N35: 11323
A36: 99 | B36: MATHIRON | C36: David | D36: 99 | E36: 3 Rue de la rivière | F36: 21110 | G36: Bessey les Citeaux | I36: 623664409 | K36: =IF((N36)="","",IF(MONTH(N36)=1,"Janvier",IF(MONTH(N36)=2,"Février",IF(MONTH(N36)=3,"Mars",IF(MONTH(N36)=4,"Avril",IF(MONTH(N36)=5,"Mai",IF(MONTH(N36)=6,"Juin",IF(MONTH(N36)=7,"Juillet",IF(MONTH(N36)=8,"Août",IF(MONTH(N36)=9,"Septembre",IF(MONTH(N36)=10,"Octobre",IF(MONTH(N36)=11,"Novembre","Décembre")))))))))))) | L36: =IF(N36="","",DAY(N36)) | M36: =IF(N36="","",YEAR(N36))
A37: 100 | B37: MATHIRON | C37: Ghislaine | D37: 100 | E37: 3 Rue de la rivière | F37: 21110 | G37: Bessey les Citeaux | H37: 380297865 | K37: =IF((N37)="","",IF(MONTH(N37)=1,"Janvier",IF(MONTH(N37)=2,"Février",IF(MONTH(N37)=3,"Mars",IF(MONTH(N37)=4,"Avril",IF(MONTH(N37)=5,"Mai",IF(MONTH(N37)=6,"Juin",IF(MONTH(N37)=7,"Juillet",IF(MONTH(N37)=8,"Août",IF(MONTH(N37)=9,"Septembre",IF(MONTH(N37)=10,"Octobre",IF(MONTH(N37)=11,"Novembre","Décembre")))))))))))) | L37: =IF(N37="","",DAY(N37)) | M37: =IF(N37="","",YEAR(N37))
A38: 101 | B38: MATHIRON | C38: Virginie | D38: 101 | E38: Allée bastion des Charmilles | F38: 21170 | G38: St Jean de Losne | I38: 678718325 | K38: =IF((N38)="","",IF(MONTH(N38)=1,"Janvier",IF(MONTH(N38)=2,"Février",IF(MONTH(N38)=3,"Mars",IF(MONTH(N38)=4,"Avril",IF(MONTH(N38)=5,"Mai",IF(MONTH(N38)=6,"Juin",IF(MONTH(N38)=7,"Juillet",IF(MONTH(N38)=8,"Août",IF(MONTH(N38)=9,"Septembre",IF(MONTH(N38)=10,"Octobre",IF(MONTH(N38)=11,"Novembre","Décembre")))))))))))) | L38: =IF(N38="","",DAY(N38)) | M38: =IF(N38="","",YEAR(N38))
A39: 102 | B39: MAZUE | C39: Nelly | D39: 102 | E39: 29 Grande route de Seurre | F39: 21250 | G39: Chamblanc | H39: 380204515 | K39: =IF((N39)="","",IF(MONTH(N39)=1,"Janvier",IF(MONTH(N39)=2,"Février",IF(MONTH(N39)=3,"Mars",IF(MONTH(N39)=4,"Avril",IF(MONTH(N39)=5,"Mai",IF(MONTH(N39)=6,"Juin",IF(MONTH(N39)=7,"Juillet",IF(MONTH(N39)=8,"Août",IF(MONTH(N39)=9,"Septembre",IF(MONTH(N39)=10,"Octobre",IF(MONTH(N39)=11,"Novembre","Décembre")))))))))))) | L39: =IF(N39="","",DAY(N39)) | M39: =IF(N39="","",YEAR(N39))
A40: 103 | B40: MICHAUD | C40: Sylvie | D40: 103 | E40: Impasse Jean Curé | F40: 21470 | G40: Brazey en plaine | H40: 380298230 | K40: =IF((N40)="","",IF(MONTH(N40)=1,"Janvier",IF(MONTH(N40)=2,"Février",IF(MONTH(N40)=3,"Mars",IF(MONTH(N40)=4,"Avril",IF(MONTH(N40)=5,"Mai",IF(MONTH(N40)=6,"Juin",IF(MONTH(N40)=7,"Juillet",IF(MONTH(N40)=8,"Août",IF(MONTH(N40)=9,"Septembre",IF(MONTH(N40)=10,"Octobre",IF(MONTH(N40)=11,"Novembre","Décembre")))))))))))) | L40: =IF(N40="","",DAY(N40)) | M40: =IF(N40="","",YEAR(N40))
A41: 70 | B41: MILLIOT | C41: Virginie | D41: 70 | E41: 17, Rue meix brulé | F41: 21170 | G41: St Jean de Losne | K41: Juillet | L41: 7 | M41: 1955 | N41: 20277
A42: 44 | B42: MOREUX | C42: Richard | D42: 44 | E42: 4 Rue du château | F42: 21110 | G42: Bessey les Citeaux | H42: 380297726 | I42: 662937092 | J42: richardmoreux@aol.com | K42: =IF((N42)="","",IF(MONTH(N42)=1,"Janvier",IF(MONTH(N42)=2,"Février",IF(MONTH(N42)=3,"Mars",IF(MONTH(N42)=4,"Avril",IF(MONTH(N42)=5,"Mai",IF(MONTH(N42)=6,"Juin",IF(MONTH(N42)=7,"Juillet",IF(MONTH(N42)=8,"Août",IF(MONTH(N42)=9,"Septembre",IF(MONTH(N42)=10,"Octobre",IF(MONTH(N42)=11,"Novembre","Décembre")))))))))))) -> Août | L42: =IF(N42="","",DAY(N42)) -> 21 | M42: =IF(N42="","",YEAR(N42)) -> 1949 | N42: 18131
A43: 104 | B43: MOUROLIN | C43: Jean-Claude | D43: 104 | E43: 20 Rue du paradis | F43: 21170 | G43: Maison-Dieu | H43: 380291556 | K43: =IF((N43)="","",IF(MONTH(N43)=1,"Janvier",IF(MONTH(N43)=2,"Février",IF(MONTH(N43)=3,"Mars",IF(MONTH(N43)=4,"Avril",IF(MONTH(N43)=5,"Mai",IF(MONTH(N43)=6,"Juin",IF(MONTH(N43)=7,"Juillet",IF(MONTH(N43)=8,"Août",IF(MONTH(N43)=9,"Septembre",IF(MONTH(N43)=10,"Octobre",IF(MONTH(N43)=11,"Novembre","Décembre")))))))))))) | L43: =IF(N43="","",DAY(N43)) | M43: =IF(N43="","",YEAR(N43))
A44: 46 | B44: MULLER | C44: Christine | D44: 46 | E44: 1, Rue de Verdun | F44: 39410 | G44: St Aubin
A45: 105 | B45: NIOLLET | C45: Michele | D45: 105 | E45: 1 Ancienne route de Seurre | F45: 21170 | G45: St Jean de Losne | H45: 380392354 | I45: 610386150 | J45: niollet.michele@neuf.fr | K45: =IF((N45)="","",IF(MONTH(N45)=1,"Janvier",IF(MONTH(N45)=2,"Février",IF(MONTH(N45)=3,"Mars",IF(MONTH(N45)=4,"Avril",IF(MONTH(N45)=5,"Mai",IF(MONTH(N45)=6,"Juin",IF(MONTH(N45)=7,"Juillet",IF(MONTH(N45)=8,"Août",IF(MONTH(N45)=9,"Septembre",IF(MONTH(N45)=10,"Octobre",IF(MONTH(N45)=11,"Novembre","Décembre")))))))))))) -> Juillet | L45: =IF(N45="","",DAY(N45)) -> 6 | M45: =IF(N45="","",YEAR(N45)) -> 1944 | N45: 16259
A46: 106 | B46: ORENGA | C46: Catherine | D46: 106 | E46: 2 ruelle des Moreaux | F46: 21170 | G46: Maison-Dieu | H46: 380290833 | I46: 608184914 | J46: vincent.orenga@club-internet.fr | K46: =IF((N46)="","",IF(MONTH(N46)=1,"Janvier",IF(MONTH(N46)=2,"Février",IF(MONTH(N46)=3,"Mars",IF(MONTH(N46)=4,"Avril",IF(MONTH(N46)=5,"Mai",IF(MONTH(N46)=6,"Juin",IF(MONTH(N46)=7,"Juillet",IF(MONTH(N46)=8,"Août",IF(MONTH(N46)=9,"Septembre",IF(MONTH(N46)=10,"Octobre",IF(MONTH(N46)=11,"Novembre","Décembre")))))))))))) -> Février | L46: =IF(N46="","",DAY(N46)) -> 1 | M46: =IF(N46="","",YEAR(N46)) -> 1964 | N46: 23408
A47: 108 | B47: PASSEMARD | C47: Annie | D47: 108 | E47: 1 Rue du moulin | F47: 21470 | G47: Brazey en plaine | H47: 380299171 | K47: =IF((N47)="","",IF(MONTH(N47)=1,"Janvier",IF(MONTH(N47)=2,"Février",IF(MONTH(N47)=3,"Mars",IF(MONTH(N47)=4,"Avril",IF(MONTH(N47)=5,"Mai",IF(MONTH(N47)=6,"Juin",IF(MONTH(N47)=7,"Juillet",IF(MONTH(N47)=8,"Août",IF(MONTH(N47)=9,"Septembre",IF(MONTH(N47)=10,"Octobre",IF(MONTH(N47)=11,"Novembre","Décembre")))))))))))) | L47: =IF(N47="","",DAY(N47)) | M47: =IF(N47="","",YEAR(N47))
A48: 109 | B48: PASSEMARD | C48: Jacqueline | D48: 109 | E48: 5 Rue de la Biètre | F48: 21470 | G48: Brazey en plaine | H48: 380299274 | K48: =IF((N48)="","",IF(MONTH(N48)=1,"Janvier",IF(MONTH(N48)=2,"Février",IF(MONTH(N48)=3,"Mars",IF(MONTH(N48)=4,"Avril",IF(MONTH(N48)=5,"Mai",IF(MONTH(N48)=6,"Juin",IF(MONTH(N48)=7,"Juillet",IF(MONTH(N48)=8,"Août",IF(MONTH(N48)=9,"Septembre",IF(MONTH(N48)=10,"Octobre",IF(MONTH(N48)=11,"Novembre","Décembre")))))))))))) | L48: =IF(N48="","",DAY(N48)) | M48: =IF(N48="","",YEAR(N48))
A49: 110 | B49: PASSEMARD | C49: Robert | D49: 110 | E49: 5 Rue de la Biètre | F49: 21470 | G49: Brazey en plaine | H49: 380299274 | K49: =IF((N49)="","",IF(MONTH(N49)=1,"Janvier",IF(MONTH(N49)=2,"Février",IF(MONTH(N49)=3,"Mars",IF(MONTH(N49)=4,"Avril",IF(MONTH(N49)=5,"Mai",IF(MONTH(N49)=6,"Juin",IF(MONTH(N49)=7,"Juillet",IF(MONTH(N49)=8,"Août",IF(MONTH(N49)=9,"Septembre",IF(MONTH(N49)=10,"Octobre",IF(MONTH(N49)=11,"Novembre","Décembre")))))))))))) | L49: =IF(N49="","",DAY(N49)) | M49: =IF(N49="","",YEAR(N49))
A50: 54 | B50: PERRIGUEUR | C50: Suzanne | D50: 54 | E50: Rue du Bernon | F50: 21250 | G50: Broin | H50: 380269104 | I50: 699210787 | J50: supauze@wanadoo.fr | K50: =IF((N50)="","",IF(MONTH(N50)=1,"Janvier",IF(MONTH(N50)=2,"Février",IF(MONTH(N50)=3,"Mars",IF(MONTH(N50)=4,"Avril",IF(MONTH(N50)=5,"Mai",IF(MONTH(N50)=6,"Juin",IF(MONTH(N50)=7,"Juillet",IF(MONTH(N50)=8,"Août",IF(MONTH(N50)=9,"Septembre",IF(MONTH(N50)=10,"Octobre",IF(MONTH(N50)=11,"Novembre","Décembre")))))))))))) -> Avril | L50: =IF(N50="","",DAY(N50)) -> 1 | M50: =IF(N50="","",YEAR(N50)) -> 1942 | N50: 15432
A51: 111 | B51: PICARD | C51: Jean | D51: 111 | E51: 59 Rue Antoine Masson | F51: 21130 | G51: Auxonne | H51: 380373004 | K51: =IF((N51)="","",IF(MONTH(N51)=1,"Janvier",IF(MONTH(N51)=2,"Février",IF(MONTH(N51)=3,"Mars",IF(MONTH(N51)=4,"Avril",IF(MONTH(N51)=5,"Mai",IF(MONTH(N51)=6,"Juin",IF(MONTH(N51)=7,"Juillet",IF(MONTH(N51)=8,"Août",IF(MONTH(N51)=9,"Septembre",IF(MONTH(N51)=10,"Octobre",IF(MONTH(N51)=11,"Novembre","Décembre")))))))))))) | L51: =IF(N51="","",DAY(N51)) | M51: =IF(N51="","",YEAR(N51))
A52: 112 | B52: PICARD | C52: Adrienne | D52: 112 | E52: 59 Rue Antoine Masson | F52: 21130 | G52: Auxonne | H52: 380373004 | K52: =IF((N52)="","",IF(MONTH(N52)=1,"Janvier",IF(MONTH(N52)=2,"Février",IF(MONTH(N52)=3,"Mars",IF(MONTH(N52)=4,"Avril",IF(MONTH(N52)=5,"Mai",IF(MONTH(N52)=6,"Juin",IF(MONTH(N52)=7,"Juillet",IF(MONTH(N52)=8,"Août",IF(MONTH(N52)=9,"Septembre",IF(MONTH(N52)=10,"Octobre",IF(MONTH(N52)=11,"Novembre","Décembre")))))))))))) | L52: =IF(N52="","",DAY(N52)) | M52: =IF(N52="","",YEAR(N52))
A53: 58 | B53: RICHETIN | C53: Paul | D53: 58 | E53: Rue du Brenon | F53: 21250 | G53: Broin | H53: 380269104 | I53: 699210787 | J53: supauze@wanadoo.fr | K53: =IF((N53)="","",IF(MONTH(N53)=1,"Janvier",IF(MONTH(N53)=2,"Février",IF(MONTH(N53)=3,"Mars",IF(MONTH(N53)=4,"Avril",IF(MONTH(N53)=5,"Mai",IF(MONTH(N53)=6,"Juin",IF(MONTH(N53)=7,"Juillet",IF(MONTH(N53)=8,"Août",IF(MONTH(N53)=9,"Septembre",IF(MONTH(N53)=10,"Octobre",IF(MONTH(N53)=11,"Novembre","Décembre")))))))))))) -> Avril | L53: =IF(N53="","",DAY(N53)) -> 17 | M53: =IF(N53="","",YEAR(N53)) -> 1936 | N53: 13257
A54: 114 | B54: SAUDER | C54: Marie-Odile | D54: 114 | E54: 12 Meix d'Ebarres | F54: 21470 | G54: Brazey en plaine | H54: 380299731 | K54: =IF((N54)="","",IF(MONTH(N54)=1,"Janvier",IF(MONTH(N54)=2,"Février",IF(MONTH(N54)=3,"Mars",IF(MONTH(N54)=4,"Avril",IF(MONTH(N54)=5,"Mai",IF(MONTH(N54)=6,"Juin",IF(MONTH(N54)=7,"Juillet",IF(MONTH(N54)=8,"Août",IF(MONTH(N54)=9,"Septembre",IF(MONTH(N54)=10,"Octobre",IF(MONTH(N54)=11,"Novembre","Décembre")))))))))))) | L54: =IF(N54="","",DAY(N54)) | M54: =IF(N54="","",YEAR(N54))
A55: 115 | B55: SEGUIN | C55: Joelle | D55: 115 | E55: 10 Rue du tissage | F55: 21470 | G55: Brazey en plaine | H55: 380299412 | K55: =IF((N55)="","",IF(MONTH(N55)=1,"Janvier",IF(MONTH(N55)=2,"Février",IF(MONTH(N55)=3,"Mars",IF(MONTH(N55)=4,"Avril",IF(MONTH(N55)=5,"Mai",IF(MONTH(N55)=6,"Juin",IF(MONTH(N55)=7,"Juillet",IF(MONTH(N55)=8,"Août",IF(MONTH(N55)=9,"Septembre",IF(MONTH(N55)=10,"Octobre",IF(MONTH(N55)=11,"Novembre","Décembre")))))))))))) | L55: =IF(N55="","",DAY(N55)) | M55: =IF(N55="","",YEAR(N55))
A56: 61 | B56: THIEBEAUX | C56: Chantal | D56: 61 | E56: 20 Route de Dijon | F56: 21470 | G56: Brazey en plaine | H56: 380299528 | J56: mamiebrazey@aliceadsl.fr | K56: =IF((N56)="","",IF(MONTH(N56)=1,"Janvier",IF(MONTH(N56)=2,"Février",IF(MONTH(N56)=3,"Mars",IF(MONTH(N56)=4,"Avril",IF(MONTH(N56)=5,"Mai",IF(MONTH(N56)=6,"Juin",IF(MONTH(N56)=7,"Juillet",IF(MONTH(N56)=8,"Août",IF(MONTH(N56)=9,"Septembre",IF(MONTH(N56)=10,"Octobre",IF(MONTH(N56)=11,"Novembre","Décembre")))))))))))) -> Mai | L56: =IF(N56="","",DAY(N56)) -> 26 | M56: =IF(N56="","",YEAR(N56)) -> 1939 | N56: 14391
A57: 117 | B57: WINTER | C57: Michel | D57: 117 | E57: 22, Rue du Brevail | F57: 21470 | G57: Brazey en plaine | H57: 380299416 | K57: =IF((N57)="","",IF(MONTH(N57)=1,"Janvier",IF(MONTH(N57)=2,"Février",IF(MONTH(N57)=3,"Mars",IF(MONTH(N57)=4,"Avril",IF(MONTH(N57)=5,"Mai",IF(MONTH(N57)=6,"Juin",IF(MONTH(N57)=7,"Juillet",IF(MONTH(N57)=8,"Août",IF(MONTH(N57)=9,"Septembre",IF(MONTH(N57)=10,"Octobre",IF(MONTH(N57)=11,"Novembre","Décembre")))))))))))) -> Août | L57: =IF(N57="","",DAY(N57)) -> 15 | M57: =IF(N57="","",YEAR(N57)) -> 1934 | N57: 12646
A58: 118 | B58: WINTER | C58: Michele | D58: 118 | E58: 22 Rue du Brevail | F58: 21470 | G58: Brazey en plaine | H58: 380299416 | K58: =IF((N58)="","",IF(MONTH(N58)=1,"Janvier",IF(MONTH(N58)=2,"Février",IF(MONTH(N58)=3,"Mars",IF(MONTH(N58)=4,"Avril",IF(MONTH(N58)=5,"Mai",IF(MONTH(N58)=6,"Juin",IF(MONTH(N58)=7,"Juillet",IF(MONTH(N58)=8,"Août",IF(MONTH(N58)=9,"Septembre",IF(MONTH(N58)=10,"Octobre",IF(MONTH(N58)=11,"Novembre","Décembre")))))))))))) | L58: =IF(N58="","",DAY(N58)) | M58: =IF(N58="","",YEAR(N58))
E60: 55 Adhérents

Sheet 2007-2008
B2: Nom | C2: Prénom | D2: N° Carte | E2: Adresse | F2: CP | G2: Ville | H2: Téléphone | I2: Portable | J2: Email | K2: Date Naiss | N2: A ou R | P2: Date
K3: Mois | L3: Jour | M3: Année
A4: 126 | B4: Amiot | C4: André | D4: 126 | E4: 14, Rue des Oies | F4: 21170 | G4: Echenon | H4: 380290222 | K4: =IF((P4)="","",IF(MONTH(P4)=1,"Janvier",IF(MONTH(P4)=2,"Février",IF(MONTH(P4)=3,"Mars",IF(MONTH(P4)=4,"Avril",IF(MONTH(P4)=5,"Mai",IF(MONTH(P4)=6,"Juin",IF(MONTH(P4)=7,"Juillet",IF(MONTH(P4)=8,"Août",IF(MONTH(P4)=9,"Septembre",IF(MONTH(P4)=10,"Octobre",IF(MONTH(P4)=11,"Novembre","Décembre")))))))))))) -> Janvier | L4: =IF(P4="","",DAY(P4)) -> 19 | M4: =IF(P4="","",YEAR(P4)) -> 1947 | N4: A | O4: P | P4: 17186
A5: 4 | B5: Beherec | C5: Franck | D5: 4 | E5: 3 Impasse Verdi | F5: 21470 | G5: Brazey en plaine | H5: 380298947 | I5: 614462165 | J5: franck.beherec@wanadoo.fr | K5: =IF((P5)="","",IF(MONTH(P5)=1,"Janvier",IF(MONTH(P5)=2,"Février",IF(MONTH(P5)=3,"Mars",IF(MONTH(P5)=4,"Avril",IF(MONTH(P5)=5,"Mai",IF(MONTH(P5)=6,"Juin",IF(MONTH(P5)=7,"Juillet",IF(MONTH(P5)=8,"Août",IF(MONTH(P5)=9,"Septembre",IF(MONTH(P5)=10,"Octobre",IF(MONTH(P5)=11,"Novembre","Décembre")))))))))))) -> Octobre | L5: =IF(P5="","",DAY(P5)) -> 24 | M5: =IF(P5="","",YEAR(P5)) -> 1967 | N5: R | O5: P | P5: 24769
A6: 135 | B6: Beudet | C6: Jean | D6: 135 | E6: 12, Clos de Bellevue | F6: 21250 | G6: Pouilly sur Saone | H6: 380204308 | K6: =IF((P6)="","",IF(MONTH(P6)=1,"Janvier",IF(MONTH(P6)=2,"Février",IF(MONTH(P6)=3,"Mars",IF(MONTH(P6)=4,"Avril",IF(MONTH(P6)=5,"Mai",IF(MONTH(P6)=6,"Juin",IF(MONTH(P6)=7,"Juillet",IF(MONTH(P6)=8,"Août",IF(MONTH(P6)=9,"Septembre",IF(MONTH(P6)=10,"Octobre",IF(MONTH(P6)=11,"Novembre","Décembre")))))))))))) -> Janvier | L6: =IF(P6="","",DAY(P6)) -> 6 | M6: =IF(P6="","",YEAR(P6)) -> 1938 | N6: R | O6: P | P6: 13886
A7: 79 | B7: Boillaud | C7: Jean-Louis | D7: 79 | E7: 8 Route de Beaune | F7: 21170 | G7: St Usage | H7: 380290667 | I7: 679396168 | J7: jl.boillaud@wanadoo.fr | K7: =IF((P7)="","",IF(MONTH(P7)=1,"Janvier",IF(MONTH(P7)=2,"Février",IF(MONTH(P7)=3,"Mars",IF(MONTH(P7)=4,"Avril",IF(MONTH(P7)=5,"Mai",IF(MONTH(P7)=6,"Juin",IF(MONTH(P7)=7,"Juillet",IF(MONTH(P7)=8,"Août",IF(MONTH(P7)=9,"Septembre",IF(MONTH(P7)=10,"Octobre",IF(MONTH(P7)=11,"Novembre","Décembre")))))))))))) -> Juin | L7: =IF(P7="","",DAY(P7)) -> 6 | M7: =IF(P7="","",YEAR(P7)) -> 1945 | N7: R | O7: P | P7: 16594
A8: 133 | B8: Boulogne | C8: Jean-Marie | D8: 133 | E8: 28, Rue du Chanoine Bonnard | F8: 21470 | G8: Brazey en plaine | I8: 630499384 | K8: =IF((P8)="","",IF(MONTH(P8)=1,"Janvier",IF(MONTH(P8)=2,"Février",IF(MONTH(P8)=3,"Mars",IF(MONTH(P8)=4,"Avril",IF(MONTH(P8)=5,"Mai",IF(MONTH(P8)=6,"Juin",IF(MONTH(P8)=7,"Juillet",IF(MONTH(P8)=8,"Août",IF(MONTH(P8)=9,"Septembre",IF(MONTH(P8)=10,"Octobre",IF(MONTH(P8)=11,"Novembre","Décembre")))))))))))) -> Juin | L8: =IF(P8="","",DAY(P8)) -> 24 | M8: =IF(P8="","",YEAR(P8)) -> 1941 | N8: A | O8: P | P8: 15151
A9: 80 | B9: Bussiere | C9: Monique | D9: 80 | E9: 9, Grande rue | F9: 21250 | G9: Bonnencontre | H9: 380363662 | K9: =IF((P9)="","",IF(MONTH(P9)=1,"Janvier",IF(MONTH(P9)=2,"Février",IF(MONTH(P9)=3,"Mars",IF(MONTH(P9)=4,"Avril",IF(MONTH(P9)=5,"Mai",IF(MONTH(P9)=6,"Juin",IF(MONTH(P9)=7,"Juillet",IF(MONTH(P9)=8,"Août",IF(MONTH(P9)=9,"Septembre",IF(MONTH(P9)=10,"Octobre",IF(MONTH(P9)=11,"Novembre","Décembre")))))))))))) -> Juillet | L9: =IF(P9="","",DAY(P9)) -> 7 | M9: =IF(P9="","",YEAR(P9)) -> 1947 | N9: R | O9: P | P9: 17355
A10: 81 | B10: Capelli | C10: Chantal | D10: 81 | E10: 26 Route de Beaune | F10: 21170 | G10: St Usage | H10: 380779059 | J10: Biquette999@yahoo.fr | K10: =IF((P10)="","",IF(MONTH(P10)=1,"Janvier",IF(MONTH(P10)=2,"Février",IF(MONTH(P10)=3,"Mars",IF(MONTH(P10)=4,"Avril",IF(MONTH(P10)=5,"Mai",IF(MONTH(P10)=6,"Juin",IF(MONTH(P10)=7,"Juillet",IF(MONTH(P10)=8,"Août",IF(MONTH(P10)=9,"Septembre",IF(MONTH(P10)=10,"Octobre",IF(MONTH(P10)=11,"Novembre","Décembre")))))))))))) -> Août | L10: =IF(P10="","",DAY(P10)) -> 10 | M10: =IF(P10="","",YEAR(P10)) -> 1944 | N10: R | O10: P | P10: 16294
A11: 82 | B11: Carrez | C11: Alain | D11: 82 | E11: 15 Rue de la mare | F11: 21170 | G11: Montot | H11: 380329317 | I11: 678333988 | J11: acarrez@wanadoo.fr | K11: =IF((P11)="","",IF(MONTH(P11)=1,"Janvier",IF(MONTH(P11)=2,"Février",IF(MONTH(P11)=3,"Mars",IF(MONTH(P11)=4,"Avril",IF(MONTH(P11)=5,"Mai",IF(MONTH(P11)=6,"Juin",IF(MONTH(P11)=7,"Juillet",IF(MONTH(P11)=8,"Août",IF(MONTH(P11)=9,"Septembre",IF(MONTH(P11)=10,"Octobre",IF(MONTH(P11)=11,"Novembre","Décembre")))))))))))) -> Juillet | L11: =IF(P11="","",DAY(P11)) -> 23 | M11: =IF(P11="","",YEAR(P11)) -> 1947 | N11: A | O11: P | P11: 17371
A12: 128 | B12: Chauvot | C12: Madeleine | D12: 128 | E12: 61, Rue le Meix au tas | F12: 21470 | G12: Brazey en plaine | H12: 380299829 | K12: =IF((P12)="","",IF(MONTH(P12)=1,"Janvier",IF(MONTH(P12)=2,"Février",IF(MONTH(P12)=3,"Mars",IF(MONTH(P12)=4,"Avril",IF(MONTH(P12)=5,"Mai",IF(MONTH(P12)=6,"Juin",IF(MONTH(P12)=7,"Juillet",IF(MONTH(P12)=8,"Août",IF(MONTH(P12)=9,"Septembre",IF(MONTH(P12)=10,"Octobre",IF(MONTH(P12)=11,"Novembre","Décembre")))))))))))) -> Septembre | L12: =IF(P12="","",DAY(P12)) -> 21 | M12: =IF(P12="","",YEAR(P12)) -> 1949 | N12: A | O12: P | P12: 18162
A13: 127 | B13: Chenevoy | C13: Paulette | D13: 127 | E13: 1; Rue du Ponteux | F13: 21170 | G13: Losne | H13: 380290468 | I13: 632368023 | J13: paulette.chenevoy@orange.fr | K13: =IF((P13)="","",IF(MONTH(P13)=1,"Janvier",IF(MONTH(P13)=2,"Février",IF(MONTH(P13)=3,"Mars",IF(MONTH(P13)=4,"Avril",IF(MONTH(P13)=5,"Mai",IF(MONTH(P13)=6,"Juin",IF(MONTH(P13)=7,"Juillet",IF(MONTH(P13)=8,"Août",IF(MONTH(P13)=9,"Septembre",IF(MONTH(P13)=10,"Octobre",IF(MONTH(P13)=11,"Novembre","Décembre")))))))))))) -> Mars | L13: =IF(P13="","",DAY(P13)) -> 30 | M13: =IF(P13="","",YEAR(P13)) -> 1935 | N13: A | O13: P | P13: 12873
B14: Chevalier | C14: Rachel | D14: 83 | E14: 23, Rue Chanoine Bonnard | F14: 21470 | G14: Brazey en plaine
A15: 19 | B15: Clemence | C15: Bernard | D15: 19 | E15: 9 Rue de la petite levée | F15: 21170 | G15: Losne | H15: 380392678 | I15: 677647670 | J15: bernard-clemence@wanadoo.fr | K15: =IF((P15)="","",IF(MONTH(P15)=1,"Janvier",IF(MONTH(P15)=2,"Février",IF(MONTH(P15)=3,"Mars",IF(MONTH(P15)=4,"Avril",IF(MONTH(P15)=5,"Mai",IF(MONTH(P15)=6,"Juin",IF(MONTH(P15)=7,"Juillet",IF(MONTH(P15)=8,"Août",IF(MONTH(P15)=9,"Septembre",IF(MONTH(P15)=10,"Octobre",IF(MONTH(P15)=11,"Novembre","Décembre")))))))))))) -> Mars | L15: =IF(P15="","",DAY(P15)) -> 6 | M15: =IF(P15="","",YEAR(P15)) -> 1942 | N15: R | O15: P | P15: 15406
A16: 136 | B16: Clemence | C16: René | D16: 136 | E16: 9, Rue d'Auxonne | F16: 21470 | G16: Brazey en plaine | H16: 380298449 | K16: =IF((P16)="","",IF(MONTH(P16)=1,"Janvier",IF(MONTH(P16)=2,"Février",IF(MONTH(P16)=3,"Mars",IF(MONTH(P16)=4,"Avril",IF(MONTH(P16)=5,"Mai",IF(MONTH(P16)=6,"Juin",IF(MONTH(P16)=7,"Juillet",IF(MONTH(P16)=8,"Août",IF(MONTH(P16)=9,"Septembre",IF(MONTH(P16)=10,"Octobre",IF(MONTH(P16)=11,"Novembre","Décembre")))))))))))) -> Février | L16: =IF(P16="","",DAY(P16)) -> 28 | M16: =IF(P16="","",YEAR(P16)) -> 1943 | N16: A | O16: P | P16: 15765
B17: Combet | C17: Monique | D17: 84 | F17: 21250 | G17: Pagny la Ville
A18: 21 | B18: Cornuel | C18: Michel | D18: 21 | E18: 14 Rue St Jacques | F18: 21170 | G18: St Usage | H18: 380291162 | J18: cornuel.michel@wanadoo.fr | K18: =IF((P18)="","",IF(MONTH(P18)=1,"Janvier",IF(MONTH(P18)=2,"Février",IF(MONTH(P18)=3,"Mars",IF(MONTH(P18)=4,"Avril",IF(MONTH(P18)=5,"Mai",IF(MONTH(P18)=6,"Juin",IF(MONTH(P18)=7,"Juillet",IF(MONTH(P18)=8,"Août",IF(MONTH(P18)=9,"Septembre",IF(MONTH(P18)=10,"Octobre",IF(MONTH(P18)=11,"Novembre","Décembre")))))))))))) -> Septembre | L18: =IF(P18="","",DAY(P18)) -> 5 | M18: =IF(P18="","",YEAR(P18)) -> 1943 | N18: R | O18: P | P18: 15954
A19: 129 | B19: Degobe | C19: Annie | D19: 129 | E19: 8, Rue du canal | F19: 21470 | G19: Brazey en plaine | H19: 380298005 | I19: 677326924 | K19: =IF((P19)="","",IF(MONTH(P19)=1,"Janvier",IF(MONTH(P19)=2,"Février",IF(MONTH(P19)=3,"Mars",IF(MONTH(P19)=4,"Avril",IF(MONTH(P19)=5,"Mai",IF(MONTH(P19)=6,"Juin",IF(MONTH(P19)=7,"Juillet",IF(MONTH(P19)=8,"Août",IF(MONTH(P19)=9,"Septembre",IF(MONTH(P19)=10,"Octobre",IF(MONTH(P19)=11,"Novembre","Décembre")))))))))))) | L19: =IF(P19="","",DAY(P19)) | M19: =IF(P19="","",YEAR(P19)) | N19: A | O19: P
A20: 26 | B20: Delagrange | C20: Michel | D20: 26 | E20: 225 Rue du château | F20: 21250 | G20: Broin | H20: 380269485 | J20: michel.delagrange@wanadoo.fr | K20: =IF((P20)="","",IF(MONTH(P20)=1,"Janvier",IF(MONTH(P20)=2,"Février",IF(MONTH(P20)=3,"Mars",IF(MONTH(P20)=4,"Avril",IF(MONTH(P20)=5,"Mai",IF(MONTH(P20)=6,"Juin",IF(MONTH(P20)=7,"Juillet",IF(MONTH(P20)=8,"Août",IF(MONTH(P20)=9,"Septembre",IF(MONTH(P20)=10,"Octobre",IF(MONTH(P20)=11,"Novembre","Décembre")))))))))))) -> Avril | L20: =IF(P20="","",DAY(P20)) -> 18 | M20: =IF(P20="","",YEAR(P20)) -> 1938 | N20: R | O20: P | P20: 13988
A21: 131 | B21: Dessint | C21: Michel | D21: 131 | E21: 8, Ancienne route de Seurre | F21: 21170 | G21: Losne | I21: 624976601 | K21: =IF((P21)="","",IF(MONTH(P21)=1,"Janvier",IF(MONTH(P21)=2,"Février",IF(MONTH(P21)=3,"Mars",IF(MONTH(P21)=4,"Avril",IF(MONTH(P21)=5,"Mai",IF(MONTH(P21)=6,"Juin",IF(MONTH(P21)=7,"Juillet",IF(MONTH(P21)=8,"Août",IF(MONTH(P21)=9,"Septembre",IF(MONTH(P21)=10,"Octobre",IF(MONTH(P21)=11,"Novembre","Décembre")))))))))))) -> Août | L21: =IF(P21="","",DAY(P21)) -> 3 | M21: =IF(P21="","",YEAR(P21)) -> 1934 | N21: A | O21: P | P21: 12634
A22: 132 | B22: Dupart | C22: Michel | D22: 132 | E22: 23, Route de Montot | F22: 21170 | G22: St Usage | I22: 672774655 | K22: =IF((P22)="","",IF(MONTH(P22)=1,"Janvier",IF(MONTH(P22)=2,"Février",IF(MONTH(P22)=3,"Mars",IF(MONTH(P22)=4,"Avril",IF(MONTH(P22)=5,"Mai",IF(MONTH(P22)=6,"Juin",IF(MONTH(P22)=7,"Juillet",IF(MONTH(P22)=8,"Août",IF(MONTH(P22)=9,"Septembre",IF(MONTH(P22)=10,"Octobre",IF(MONTH(P22)=11,"Novembre","Décembre")))))))))))) -> Mars | L22: =IF(P22="","",DAY(P22)) -> 13 | M22: =IF(P22="","",YEAR(P22)) -> 1965 | N22: A | O22: P | P22: 23814
A23: 1 | B23: Fauré | C23: Sylvain | D23: 1 | E23: 14, Rue des Messiers | F23: 21170 | G23: Losne | I23: 650073803 | J23: sylvain@idis21.fr | K23: =IF((P23)="","",IF(MONTH(P23)=1,"Janvier",IF(MONTH(P23)=2,"Février",IF(MONTH(P23)=3,"Mars",IF(MONTH(P23)=4,"Avril",IF(MONTH(P23)=5,"Mai",IF(MONTH(P23)=6,"Juin",IF(MONTH(P23)=7,"Juillet",IF(MONTH(P23)=8,"Août",IF(MONTH(P23)=9,"Septembre",IF(MONTH(P23)=10,"Octobre",IF(MONTH(P23)=11,"Novembre","Décembre")))))))))))) -> Décembre | L23: =IF(P23="","",DAY(P23)) -> 20 | M23: =IF(P23="","",YEAR(P23)) -> 1971 | N23: R | O23: P | P23: 26287
A24: 86 | B24: Fortin | C24: Marie-Thérèse | D24: 86 | E24: 50, Avenue de la Gare | F24: 21910 | G24: Saulon la Chapelle | H24: 380397913 | J24: mariethe.fo1@aliceadsl.fr | K24: =IF((P24)="","",IF(MONTH(P24)=1,"Janvier",IF(MONTH(P24)=2,"Février",IF(MONTH(P24)=3,"Mars",IF(MONTH(P24)=4,"Avril",IF(MONTH(P24)=5,"Mai",IF(MONTH(P24)=6,"Juin",IF(MONTH(P24)=7,"Juillet",IF(MONTH(P24)=8,"Août",IF(MONTH(P24)=9,"Septembre",IF(MONTH(P24)=10,"Octobre",IF(MONTH(P24)=11,"Novembre","Décembre")))))))))))) -> Mai | L24: =IF(P24="","",DAY(P24)) -> 31 | M24: =IF(P24="","",YEAR(P24)) -> 1943 | N24: R | O24: P | P24: 15857
A25: 119 | B25: Garcia | C25: Jean-Paul | D25: 119 | E25: 12 Route de Trouhans | F25: 21170 | G25: St Usage | H25: 380291109 | K25: =IF((P25)="","",IF(MONTH(P25)=1,"Janvier",IF(MONTH(P25)=2,"Février",IF(MONTH(P25)=3,"Mars",IF(MONTH(P25)=4,"Avril",IF(MONTH(P25)=5,"Mai",IF(MONTH(P25)=6,"Juin",IF(MONTH(P25)=7,"Juillet",IF(MONTH(P25)=8,"Août",IF(MONTH(P25)=9,"Septembre",IF(MONTH(P25)=10,"Octobre",IF(MONTH(P25)=11,"Novembre","Décembre")))))))))))) -> Septembre | L25: =IF(P25="","",DAY(P25)) -> 18 | M25: =IF(P25="","",YEAR(P25)) -> 1936 | N25: A | O25: P | P25: 13411
A26: 34 | B26: Gautheron | C26: Claude | D26: 34 | E26: 2 Rue des lilas | F26: 21170 | G26: Losne | H26: 380291147 | I26: 616900396 | J26: gautheroncl@wanadoo.fr | K26: =IF((P26)="","",IF(MONTH(P26)=1,"Janvier",IF(MONTH(P26)=2,"Février",IF(MONTH(P26)=3,"Mars",IF(MONTH(P26)=4,"Avril",IF(MONTH(P26)=5,"Mai",IF(MONTH(P26)=6,"Juin",IF(MONTH(P26)=7,"Juillet",IF(MONTH(P26)=8,"Août",IF(MONTH(P26)=9,"Septembre",IF(MONTH(P26)=10,"Octobre",IF(MONTH(P26)=11,"Novembre","Décembre")))))))))))) -> Février | L26: =IF(P26="","",DAY(P26)) -> 16 | M26: =IF(P26="","",YEAR(P26)) -> 1937 | N26: R | O26: P | P26: 13562
A27: 123 | B27: Grosjean | C27: Denise | D27: 123 | E27: 606, Rue d'Amont | F27: 21250 | G27: Broin | H27: 380269365 | I27: 680818913 | J27: grosjean.d2@wanadoo.fr | K27: =IF((P27)="","",IF(MONTH(P27)=1,"Janvier",IF(MONTH(P27)=2,"Février",IF(MONTH(P27)=3,"Mars",IF(MONTH(P27)=4,"Avril",IF(MONTH(P27)=5,"Mai",IF(MONTH(P27)=6,"Juin",IF(MONTH(P27)=7,"Juillet",IF(MONTH(P27)=8,"Août",IF(MONTH(P27)=9,"Septembre",IF(MONTH(P27)=10,"Octobre",IF(MONTH(P27)=11,"Novembre","Décembre")))))))))))) -> Décembre | L27: =IF(P27="","",DAY(P27)) -> 14 | M27: =IF(P27="","",YEAR(P27)) -> 1944 | N27: A | O27: P | P27: 16420
A28: 122 | B28: Hory | C28: Patricia | D28: 122 | E28: 2, Rue du chanoine Bonnard | F28: 21470 | G28: Brazey en plaine | H28: 380298050 | I28: 661553459 | K28: =IF((P28)="","",IF(MONTH(P28)=1,"Janvier",IF(MONTH(P28)=2,"Février",IF(MONTH(P28)=3,"Mars",IF(MONTH(P28)=4,"Avril",IF(MONTH(P28)=5,"Mai",IF(MONTH(P28)=6,"Juin",IF(MONTH(P28)=7,"Juillet",IF(MONTH(P28)=8,"Août",IF(MONTH(P28)=9,"Septembre",IF(MONTH(P28)=10,"Octobre",IF(MONTH(P28)=11,"Novembre","Décembre")))))))))))) -> Mars | L28: =IF(P28="","",DAY(P28)) -> 19 | M28: =IF(P28="","",YEAR(P28)) -> 1965 | N28: A | O28: P | P28: 23820
A29: 130 | B29: Jacotot | C29: Louis-Nicolas | D29: 130 | E29: 3, Grande rue | F29: 21250 | G29: Bonnencontre | H29: 380363174 | K29: =IF((P29)="","",IF(MONTH(P29)=1,"Janvier",IF(MONTH(P29)=2,"Février",IF(MONTH(P29)=3,"Mars",IF(MONTH(P29)=4,"Avril",IF(MONTH(P29)=5,"Mai",IF(MONTH(P29)=6,"Juin",IF(MONTH(P29)=7,"Juillet",IF(MONTH(P29)=8,"Août",IF(MONTH(P29)=9,"Septembre",IF(MONTH(P29)=10,"Octobre",IF(MONTH(P29)=11,"Novembre","Décembre")))))))))))) -> Avril | L29: =IF(P29="","",DAY(P29)) -> 22 | M29: =IF(P29="","",YEAR(P29)) -> 1998 | N29: A | O29: P | P29: 35907
A30: 120 | B30: Jacoutot | C30: Jean | D30: 120 | E30: 19, Rue des gardes | F30: 39410 | G30: St Aubin | H30: 384700232 | J30: jean.jacoutot@free.fr | K30: =IF((P30)="","",IF(MONTH(P30)=1,"Janvier",IF(MONTH(P30)=2,"Février",IF(MONTH(P30)=3,"Mars",IF(MONTH(P30)=4,"Avril",IF(MONTH(P30)=5,"Mai",IF(MONTH(P30)=6,"Juin",IF(MONTH(P30)=7,"Juillet",IF(MONTH(P30)=8,"Août",IF(MONTH(P30)=9,"Septembre",IF(MONTH(P30)=10,"Octobre",IF(MONTH(P30)=11,"Novembre","Décembre")))))))))))) -> Novembre | L30: =IF(P30="","",DAY(P30)) -> 22 | M30: =IF(P30="","",YEAR(P30)) -> 1951 | N30: A | O30: P | P30: 18954
A31: 36 | B31: Jan | C31: Louis | D31: 36 | E31: 5 Route de Trouhans | F31: 21170 | G31: St Usage | H31: 380392269 | J31: jan.louis2@wanadoo.fr | K31: =IF((P31)="","",IF(MONTH(P31)=1,"Janvier",IF(MONTH(P31)=2,"Février",IF(MONTH(P31)=3,"Mars",IF(MONTH(P31)=4,"Avril",IF(MONTH(P31)=5,"Mai",IF(MONTH(P31)=6,"Juin",IF(MONTH(P31)=7,"Juillet",IF(MONTH(P31)=8,"Août",IF(MONTH(P31)=9,"Septembre",IF(MONTH(P31)=10,"Octobre",IF(MONTH(P31)=11,"Novembre","Décembre")))))))))))) -> Février | L31: =IF(P31="","",DAY(P31)) -> 11 | M31: =IF(P31="","",YEAR(P31)) -> 1923 | N31: R | O31: P | P31: 8443
A32: 134 | B32: Jeanniard | C32: Robert | D32: 134 | E32: 3, Rue des Bleuets | F32: 21110 | G32: Aiserey | H32: 380297547 | J32: robert.jeanniard@tele2.fr | K32: =IF((P32)="","",IF(MONTH(P32)=1,"Janvier",IF(MONTH(P32)=2,"Février",IF(MONTH(P32)=3,"Mars",IF(MONTH(P32)=4,"Avril",IF(MONTH(P32)=5,"Mai",IF(MONTH(P32)=6,"Juin",IF(MONTH(P32)=7,"Juillet",IF(MONTH(P32)=8,"Août",IF(MONTH(P32)=9,"Septembre",IF(MONTH(P32)=10,"Octobre",IF(MONTH(P32)=11,"Novembre","Décembre")))))))))))) -> Janvier | L32: =IF(P32="","",DAY(P32)) -> 28 | M32: =IF(P32="","",YEAR(P32)) -> 1947 | N32: A | O32: P | P32: 17195
A33: 37 | B33: Lacreuse | C33: Gérard | D33: 37 | E33: 1, Rue Sainte Barbe | F33: 21250 | G33: Seurre | H33: 380211007 | J33: anglacreuse@orange.fr | K33: =IF((P33)="","",IF(MONTH(P33)=1,"Janvier",IF(MONTH(P33)=2,"Février",IF(MONTH(P33)=3,"Mars",IF(MONTH(P33)=4,"Avril",IF(MONTH(P33)=5,"Mai",IF(MONTH(P33)=6,"Juin",IF(MONTH(P33)=7,"Juillet",IF(MONTH(P33)=8,"Août",IF(MONTH(P33)=9,"Septembre",IF(MONTH(P33)=10,"Octobre",IF(MONTH(P33)=11,"Novembre","Décembre")))))))))))) -> Octobre | L33: =IF(P33="","",DAY(P33)) -> 14 | M33: =IF(P33="","",YEAR(P33)) -> 1947 | N33: R | O33: P | P33: 17454
A34: 40 | B34: Legros | C34: Lucien | D34: 40 | E34: 66, Grande rue | F34: 21250 | G34: Pagny la Ville | H34: 380363191 | J34: legros.lucien@wanadoo.fr | K34: =IF((P34)="","",IF(MONTH(P34)=1,"Janvier",IF(MONTH(P34)=2,"Février",IF(MONTH(P34)=3,"Mars",IF(MONTH(P34)=4,"Avril",IF(MONTH(P34)=5,"Mai",IF(MONTH(P34)=6,"Juin",IF(MONTH(P34)=7,"Juillet",IF(MONTH(P34)=8,"Août",IF(MONTH(P34)=9,"Septembre",IF(MONTH(P34)=10,"Octobre",IF(MONTH(P34)=11,"Novembre","Décembre")))))))))))) -> Février | L34: =IF(P34="","",DAY(P34)) -> 16 | M34: =IF(P34="","",YEAR(P34)) -> 1933 | N34: R | O34: P | P34: 12101
A35: 125 | B35: Martiny | C35: Jean-Pierre | D35: 125 | E35: 43, Rue de Seurre | F35: 21170 | G35: Losne | H35: 380390805 | J35: jean-pierre.martiny21@orange.fr | K35: =IF((P35)="","",IF(MONTH(P35)=1,"Janvier",IF(MONTH(P35)=2,"Février",IF(MONTH(P35)=3,"Mars",IF(MONTH(P35)=4,"Avril",IF(MONTH(P35)=5,"Mai",IF(MONTH(P35)=6,"Juin",IF(MONTH(P35)=7,"Juillet",IF(MONTH(P35)=8,"Août",IF(MONTH(P35)=9,"Septembre",IF(MONTH(P35)=10,"Octobre",IF(MONTH(P35)=11,"Novembre","Décembre")))))))))))) -> Septembre | L35: =IF(P35="","",DAY(P35)) -> 23 | M35: =IF(P35="","",YEAR(P35)) -> 1942 | N35: A | O35: P | P35: 15607
A36: 121 | B36: Monot | C36: Sylvie | D36: 121 | E36: Rue du Tissage | F36: 21470 | G36: Brazey en plaine | I36: 677027216 | K36: =IF((P36)="","",IF(MONTH(P36)=1,"Janvier",IF(MONTH(P36)=2,"Février",IF(MONTH(P36)=3,"Mars",IF(MONTH(P36)=4,"Avril",IF(MONTH(P36)=5,"Mai",IF(MONTH(P36)=6,"Juin",IF(MONTH(P36)=7,"Juillet",IF(MONTH(P36)=8,"Août",IF(MONTH(P36)=9,"Septembre",IF(MONTH(P36)=10,"Octobre",IF(MONTH(P36)=11,"Novembre","Décembre")))))))))))) -> Octobre | L36: =IF(P36="","",DAY(P36)) -> 28 | M36: =IF(P36="","",YEAR(P36)) -> 1956 | N36: A | O36: P | P36: 20756
A37: 44 | B37: Moreux | C37: Richard | D37: 44 | E37: 4 Rue du château | F37: 21110 | G37: Bessey les Citeaux | H37: 380297726 | I37: 662937092 | J37: richardmoreux@aol.com | K37: =IF((P37)="","",IF(MONTH(P37)=1,"Janvier",IF(MONTH(P37)=2,"Février",IF(MONTH(P37)=3,"Mars",IF(MONTH(P37)=4,"Avril",IF(MONTH(P37)=5,"Mai",IF(MONTH(P37)=6,"Juin",IF(MONTH(P37)=7,"Juillet",IF(MONTH(P37)=8,"Août",IF(MONTH(P37)=9,"Septembre",IF(MONTH(P37)=10,"Octobre",IF(MONTH(P37)=11,"Novembre","Décembre")))))))))))) -> Août | L37: =IF(P37="","",DAY(P37)) -> 12 | M37: =IF(P37="","",YEAR(P37)) -> 1949 | N37: R | O37: P | P37: 18122
A38: 107 | B38: Pamart | C38: Alain | D38: 107 | E38: 9 Rue champ Baudot | F38: 21170 | G38: Echenon | H38: 380343871 | J38: pamartalain@neuf.fr | K38: =IF((P38)="","",IF(MONTH(P38)=1,"Janvier",IF(MONTH(P38)=2,"Février",IF(MONTH(P38)=3,"Mars",IF(MONTH(P38)=4,"Avril",IF(MONTH(P38)=5,"Mai",IF(MONTH(P38)=6,"Juin",IF(MONTH(P38)=7,"Juillet",IF(MONTH(P38)=8,"Août",IF(MONTH(P38)=9,"Septembre",IF(MONTH(P38)=10,"Octobre",IF(MONTH(P38)=11,"Novembre","Décembre")))))))))))) -> Mai | L38: =IF(P38="","",DAY(P38)) -> 6 | M38: =IF(P38="","",YEAR(P38)) -> 1944 | N38: R | O38: P | P38: 16198
A39: 48 | B39: Parizot | C39: Eveline | D39: 48 | E39: 17, Ancienne route de Seurre | F39: 21170 | G39: Losne | H39: 380392997 | J39: parizot.evelyne@neuf.fr | K39: =IF((P39)="","",IF(MONTH(P39)=1,"Janvier",IF(MONTH(P39)=2,"Février",IF(MONTH(P39)=3,"Mars",IF(MONTH(P39)=4,"Avril",IF(MONTH(P39)=5,"Mai",IF(MONTH(P39)=6,"Juin",IF(MONTH(P39)=7,"Juillet",IF(MONTH(P39)=8,"Août",IF(MONTH(P39)=9,"Septembre",IF(MONTH(P39)=10,"Octobre",IF(MONTH(P39)=11,"Novembre","Décembre")))))))))))) -> Août | L39: =IF(P39="","",DAY(P39)) -> 18 | M39: =IF(P39="","",YEAR(P39)) -> 1951 | N39: R | O39: P | P39: 18858
B40: Pascanet | C40: Odile | D40: 116 | E40: 3, Rue des Meix | F40: 21250 | G40: Chamblanc
B41: Passemard | C41: Annie | D41: 108 | E41: 1, Rue du moulin | F41: 21470 | G41: Brazey en plaine
B42: Passemard | C42: Jaqueline | D42: 109 | E42: 5, Rue de la Biètre | F42: 21470 | G42: Brazey en plaine
B43: Passemard | C43: Robert | D43: 110 | E43: 5, Rue de la Biètre | F43: 21470 | G43: Brazey en plaine
A44: 54 | B44: Perrigueur | C44: Suzanne | D44: 54 | E44: Rue du Bernon | F44: 21250 | G44: Broin | H44: 380269104 | I44: 699210787 | J44: supauze@wanadoo.fr | K44: =IF((P44)="","",IF(MONTH(P44)=1,"Janvier",IF(MONTH(P44)=2,"Février",IF(MONTH(P44)=3,"Mars",IF(MONTH(P44)=4,"Avril",IF(MONTH(P44)=5,"Mai",IF(MONTH(P44)=6,"Juin",IF(MONTH(P44)=7,"Juillet",IF(MONTH(P44)=8,"Août",IF(MONTH(P44)=9,"Septembre",IF(MONTH(P44)=10,"Octobre",IF(MONTH(P44)=11,"Novembre","Décembre")))))))))))) -> Avril | L44: =IF(P44="","",DAY(P44)) -> 1 | M44: =IF(P44="","",YEAR(P44)) -> 1942 | N44: R | O44: P | P44: 15432
A45: 124 | B45: Pilotto | C45: Michele | D45: 124 | E45: 35, Avenue de la Gare | F45: 21470 | G45: St Usage | H45: 380368907 | J45: michel.pilotto@wanadoo.fr | K45: =IF((P45)="","",IF(MONTH(P45)=1,"Janvier",IF(MONTH(P45)=2,"Février",IF(MONTH(P45)=3,"Mars",IF(MONTH(P45)=4,"Avril",IF(MONTH(P45)=5,"Mai",IF(MONTH(P45)=6,"Juin",IF(MONTH(P45)=7,"Juillet",IF(MONTH(P45)=8,"Août",IF(MONTH(P45)=9,"Septembre",IF(MONTH(P45)=10,"Octobre",IF(MONTH(P45)=11,"Novembre","Décembre")))))))))))) -> Mars | L45: =IF(P45="","",DAY(P45)) -> 31 | M45: =IF(P45="","",YEAR(P45)) -> 1947 | N45: A | O45: P | P45: 17257
A46: 113 | B46: Renard | C46: Georges | D46: 113 | E46: 7 Rue du champ Baudot | F46: 21170 | G46: Echenon | H46: 380779267 | J46: gren2@neuf.fr | K46: =IF((P46)="","",IF(MONTH(P46)=1,"Janvier",IF(MONTH(P46)=2,"Février",IF(MONTH(P46)=3,"Mars",IF(MONTH(P46)=4,"Avril",IF(MONTH(P46)=5,"Mai",IF(MONTH(P46)=6,"Juin",IF(MONTH(P46)=7,"Juillet",IF(MONTH(P46)=8,"Août",IF(MONTH(P46)=9,"Septembre",IF(MONTH(P46)=10,"Octobre",IF(MONTH(P46)=11,"Novembre","Décembre")))))))))))) -> Novembre | L46: =IF(P46="","",DAY(P46)) -> 23 | M46: =IF(P46="","",YEAR(P46)) -> 1936 | N46: R | O46: P | P46: 13477
A47: 58 | B47: Richetin | C47: Paul | D47: 58 | E47: Rue du Brenon | F47: 21250 | G47: Broin | H47: 380269104 | I47: 699210787 | J47: supauze@wanadoo.fr | K47: =IF((P47)="","",IF(MONTH(P47)=1,"Janvier",IF(MONTH(P47)=2,"Février",IF(MONTH(P47)=3,"Mars",IF(MONTH(P47)=4,"Avril",IF(MONTH(P47)=5,"Mai",IF(MONTH(P47)=6,"Juin",IF(MONTH(P47)=7,"Juillet",IF(MONTH(P47)=8,"Août",IF(MONTH(P47)=9,"Septembre",IF(MONTH(P47)=10,"Octobre",IF(MONTH(P47)=11,"Novembre","Décembre")))))))))))) -> Mars | L47: =IF(P47="","",DAY(P47)) -> 17 | M47: =IF(P47="","",YEAR(P47)) -> 1936 | N47: R | O47: P | P47: 13226
A48: 61 | B48: Thiebeaux | C48: Chantal | D48: 61 | E48: 20 Route de Dijon | F48: 21470 | G48: Brazey en plaine | H48: 380299528 | J48: mamiebrazey@aliceadsl.fr | K48: =IF((P48)="","",IF(MONTH(P48)=1,"Janvier",IF(MONTH(P48)=2,"Février",IF(MONTH(P48)=3,"Mars",IF(MONTH(P48)=4,"Avril",IF(MONTH(P48)=5,"Mai",IF(MONTH(P48)=6,"Juin",IF(MONTH(P48)=7,"Juillet",IF(MONTH(P48)=8,"Août",IF(MONTH(P48)=9,"Septembre",IF(MONTH(P48)=10,"Octobre",IF(MONTH(P48)=11,"Novembre","Décembre")))))))))))) -> Mai | L48: =IF(P48="","",DAY(P48)) -> 26 | M48: =IF(P48="","",YEAR(P48)) -> 1939 | N48: R | O48: P | P48: 14391
A49: 117 | B49: Winter | C49: Michel | D49: 117 | E49: 22, Rue du Brevail | F49: 21470 | G49: Brazey en plaine | H49: 380299416 | K49: =IF((P49)="","",IF(MONTH(P49)=1,"Janvier",IF(MONTH(P49)=2,"Février",IF(MONTH(P49)=3,"Mars",IF(MONTH(P49)=4,"Avril",IF(MONTH(P49)=5,"Mai",IF(MONTH(P49)=6,"Juin",IF(MONTH(P49)=7,"Juillet",IF(MONTH(P49)=8,"Août",IF(MONTH(P49)=9,"Septembre",IF(MONTH(P49)=10,"Octobre",IF(MONTH(P49)=11,"Novembre","Décembre")))))))))))) -> Septembre | L49: =IF(P49="","",DAY(P49)) -> 15 | M49: =IF(P49="","",YEAR(P49)) -> 1934 | N49: R | O49: P | P49: 12677
D51: En Gras : Les membres du bureau | F51: En Bleu Gras : Les Formateurs
B54: Total = 46
C56: Dont : 17 Nouveaux Adhérents

Sheet 2008-2009
B2: Nom | C2: Prénom | D2: N° Carte | E2: Adresse | F2: CP | G2: Ville | H2: Téléphone | I2: Portable | J2: Email | K2: Date Naiss | N2: A ou R | P2: Date
K3: Mois | L3: Jour | M3: Année
A4: 155 | B4: Baland | C4: Monique | D4: 155 | K4: =IF((P4)="","",IF(MONTH(P4)=1,"Janvier",IF(MONTH(P4)=2,"Février",IF(MONTH(P4)=3,"Mars",IF(MONTH(P4)=4,"Avril",IF(MONTH(P4)=5,"Mai",IF(MONTH(P4)=6,"Juin",IF(MONTH(P4)=7,"Juillet",IF(MONTH(P4)=8,"Août",IF(MONTH(P4)=9,"Septembre",IF(MONTH(P4)=10,"Octobre",IF(MONTH(P4)=11,"Novembre","Décembre")))))))))))) -> Juin | L4: =IF(P4="","",DAY(P4)) -> 1 | M4: =IF(P4="","",YEAR(P4)) -> 1940 | N4: A | O4: P | P4: 14763
A5: 4 | B5: Beherec | C5: Franck | D5: 4 | K5: =IF((P5)="","",IF(MONTH(P5)=1,"Janvier",IF(MONTH(P5)=2,"Février",IF(MONTH(P5)=3,"Mars",IF(MONTH(P5)=4,"Avril",IF(MONTH(P5)=5,"Mai",IF(MONTH(P5)=6,"Juin",IF(MONTH(P5)=7,"Juillet",IF(MONTH(P5)=8,"Août",IF(MONTH(P5)=9,"Septembre",IF(MONTH(P5)=10,"Octobre",IF(MONTH(P5)=11,"Novembre","Décembre")))))))))))) -> Octobre | L5: =IF(P5="","",DAY(P5)) -> 24 | M5: =IF(P5="","",YEAR(P5)) -> 1967 | N5: R | P5: 24769
A6: 156 | B6: Beliard | C6: Christophe | D6: 156 | K6: =IF((P6)="","",IF(MONTH(P6)=1,"Janvier",IF(MONTH(P6)=2,"Février",IF(MONTH(P6)=3,"Mars",IF(MONTH(P6)=4,"Avril",IF(MONTH(P6)=5,"Mai",IF(MONTH(P6)=6,"Juin",IF(MONTH(P6)=7,"Juillet",IF(MONTH(P6)=8,"Août",IF(MONTH(P6)=9,"Septembre",IF(MONTH(P6)=10,"Octobre",IF(MONTH(P6)=11,"Novembre","Décembre")))))))))))) -> Novembre | L6: =IF(P6="","",DAY(P6)) -> 30 | M6: =IF(P6="","",YEAR(P6)) -> 1972 | N6: A | O6: P | P6: 26633
A7: 144 | B7: Bettler | C7: Christian | D7: 144 | K7: =IF((P7)="","",IF(MONTH(P7)=1,"Janvier",IF(MONTH(P7)=2,"Février",IF(MONTH(P7)=3,"Mars",IF(MONTH(P7)=4,"Avril",IF(MONTH(P7)=5,"Mai",IF(MONTH(P7)=6,"Juin",IF(MONTH(P7)=7,"Juillet",IF(MONTH(P7)=8,"Août",IF(MONTH(P7)=9,"Septembre",IF(MONTH(P7)=10,"Octobre",IF(MONTH(P7)=11,"Novembre","Décembre")))))))))))) -> Février | L7: =IF(P7="","",DAY(P7)) -> 27 | M7: =IF(P7="","",YEAR(P7)) -> 1954 | N7: A | O7: P | P7: 19782
A8: 135 | B8: Beudet | C8: Jean | D8: 135 | K8: =IF((P8)="","",IF(MONTH(P8)=1,"Janvier",IF(MONTH(P8)=2,"Février",IF(MONTH(P8)=3,"Mars",IF(MONTH(P8)=4,"Avril",IF(MONTH(P8)=5,"Mai",IF(MONTH(P8)=6,"Juin",IF(MONTH(P8)=7,"Juillet",IF(MONTH(P8)=8,"Août",IF(MONTH(P8)=9,"Septembre",IF(MONTH(P8)=10,"Octobre",IF(MONTH(P8)=11,"Novembre","Décembre")))))))))))) -> Janvier | L8: =IF(P8="","",DAY(P8)) -> 6 | M8: =IF(P8="","",YEAR(P8)) -> 1938 | N8: R | O8: P | P8: 13886
A9: 133 | B9: Boulogne | C9: Jean-Marie | D9: 133 | K9: =IF((P9)="","",IF(MONTH(P9)=1,"Janvier",IF(MONTH(P9)=2,"Février",IF(MONTH(P9)=3,"Mars",IF(MONTH(P9)=4,"Avril",IF(MONTH(P9)=5,"Mai",IF(MONTH(P9)=6,"Juin",IF(MONTH(P9)=7,"Juillet",IF(MONTH(P9)=8,"Août",IF(MONTH(P9)=9,"Septembre",IF(MONTH(P9)=10,"Octobre",IF(MONTH(P9)=11,"Novembre","Décembre")))))))))))) -> Juin | L9: =IF(P9="","",DAY(P9)) -> 24 | M9: =IF(P9="","",YEAR(P9)) -> 1941 | N9: R | O9: P | P9: 15151
A10: 160 | B10: Brugnot | C10: Claudette | D10: 160 | K10: =IF((P10)="","",IF(MONTH(P10)=1,"Janvier",IF(MONTH(P10)=2,"Février",IF(MONTH(P10)=3,"Mars",IF(MONTH(P10)=4,"Avril",IF(MONTH(P10)=5,"Mai",IF(MONTH(P10)=6,"Juin",IF(MONTH(P10)=7,"Juillet",IF(MONTH(P10)=8,"Août",IF(MONTH(P10)=9,"Septembre",IF(MONTH(P10)=10,"Octobre",IF(MONTH(P10)=11,"Novembre","Décembre")))))))))))) -> Septembre | L10: =IF(P10="","",DAY(P10)) -> 20 | M10: =IF(P10="","",YEAR(P10)) -> 1947 | N10: A | O10: P | P10: 17430
A11: 154 | B11: Brun | C11: Ghislaine | D11: 154 | K11: =IF((P11)="","",IF(MONTH(P11)=1,"Janvier",IF(MONTH(P11)=2,"Février",IF(MONTH(P11)=3,"Mars",IF(MONTH(P11)=4,"Avril",IF(MONTH(P11)=5,"Mai",IF(MONTH(P11)=6,"Juin",IF(MONTH(P11)=7,"Juillet",IF(MONTH(P11)=8,"Août",IF(MONTH(P11)=9,"Septembre",IF(MONTH(P11)=10,"Octobre",IF(MONTH(P11)=11,"Novembre","Décembre")))))))))))) -> Janvier | L11: =IF(P11="","",DAY(P11)) -> 14 | M11: =IF(P11="","",YEAR(P11)) -> 1955 | N11: A | O11: P | P11: 20103
A12: 80 | B12: Bussiere | C12: Monique | D12: 80 | K12: =IF((P12)="","",IF(MONTH(P12)=1,"Janvier",IF(MONTH(P12)=2,"Février",IF(MONTH(P12)=3,"Mars",IF(MONTH(P12)=4,"Avril",IF(MONTH(P12)=5,"Mai",IF(MONTH(P12)=6,"Juin",IF(MONTH(P12)=7,"Juillet",IF(MONTH(P12)=8,"Août",IF(MONTH(P12)=9,"Septembre",IF(MONTH(P12)=10,"Octobre",IF(MONTH(P12)=11,"Novembre","Décembre")))))))))))) -> Juillet | L12: =IF(P12="","",DAY(P12)) -> 7 | M12: =IF(P12="","",YEAR(P12)) -> 1947 | N12: R | O12: P | P12: 17355
A13: 81 | B13: Capelli | C13: Chantal | D13: 81 | K13: =IF((P13)="","",IF(MONTH(P13)=1,"Janvier",IF(MONTH(P13)=2,"Février",IF(MONTH(P13)=3,"Mars",IF(MONTH(P13)=4,"Avril",IF(MONTH(P13)=5,"Mai",IF(MONTH(P13)=6,"Juin",IF(MONTH(P13)=7,"Juillet",IF(MONTH(P13)=8,"Août",IF(MONTH(P13)=9,"Septembre",IF(MONTH(P13)=10,"Octobre",IF(MONTH(P13)=11,"Novembre","Décembre")))))))))))) -> Août | L13: =IF(P13="","",DAY(P13)) -> 10 | M13: =IF(P13="","",YEAR(P13)) -> 1944 | N13: R | O13: P | P13: 16294
A14: 82 | B14: Carrez | C14: Alain | D14: 82 | K14: =IF((P14)="","",IF(MONTH(P14)=1,"Janvier",IF(MONTH(P14)=2,"Février",IF(MONTH(P14)=3,"Mars",IF(MONTH(P14)=4,"Avril",IF(MONTH(P14)=5,"Mai",IF(MONTH(P14)=6,"Juin",IF(MONTH(P14)=7,"Juillet",IF(MONTH(P14)=8,"Août",IF(MONTH(P14)=9,"Septembre",IF(MONTH(P14)=10,"Octobre",IF(MONTH(P14)=11,"Novembre","Décembre")))))))))))) -> Juillet | L14: =IF(P14="","",DAY(P14)) -> 23 | M14: =IF(P14="","",YEAR(P14)) -> 1947 | N14: R | O14: P | P14: 17371
A15: 127 | B15: Chenevoy | C15: Paulette | D15: 127 | K15: =IF((P15)="","",IF(MONTH(P15)=1,"Janvier",IF(MONTH(P15)=2,"Février",IF(MONTH(P15)=3,"Mars",IF(MONTH(P15)=4,"Avril",IF(MONTH(P15)=5,"Mai",IF(MONTH(P15)=6,"Juin",IF(MONTH(P15)=7,"Juillet",IF(MONTH(P15)=8,"Août",IF(MONTH(P15)=9,"Septembre",IF(MONTH(P15)=10,"Octobre",IF(MONTH(P15)=11,"Novembre","Décembre")))))))))))) -> Mars | L15: =IF(P15="","",DAY(P15)) -> 30 | M15: =IF(P15="","",YEAR(P15)) -> 1935 | N15: R | O15: P | P15: 12873
A16: 19 | B16: Clemence | C16: Bernard | D16: 19 | K16: =IF((P16)="","",IF(MONTH(P16)=1,"Janvier",IF(MONTH(P16)=2,"Février",IF(MONTH(P16)=3,"Mars",IF(MONTH(P16)=4,"Avril",IF(MONTH(P16)=5,"Mai",IF(MONTH(P16)=6,"Juin",IF(MONTH(P16)=7,"Juillet",IF(MONTH(P16)=8,"Août",IF(MONTH(P16)=9,"Septembre",IF(MONTH(P16)=10,"Octobre",IF(MONTH(P16)=11,"Novembre","Décembre")))))))))))) -> Mars | L16: =IF(P16="","",DAY(P16)) -> 6 | M16: =IF(P16="","",YEAR(P16)) -> 1942 | N16: R | O16: P | P16: 15406
A17: 136 | B17: Clemence | C17: René | D17: 136 | K17: =IF((P17)="","",IF(MONTH(P17)=1,"Janvier",IF(MONTH(P17)=2,"Février",IF(MONTH(P17)=3,"Mars",IF(MONTH(P17)=4,"Avril",IF(MONTH(P17)=5,"Mai",IF(MONTH(P17)=6,"Juin",IF(MONTH(P17)=7,"Juillet",IF(MONTH(P17)=8,"Août",IF(MONTH(P17)=9,"Septembre",IF(MONTH(P17)=10,"Octobre",IF(MONTH(P17)=11,"Novembre","Décembre")))))))))))) -> Février | L17: =IF(P17="","",DAY(P17)) -> 28 | M17: =IF(P17="","",YEAR(P17)) -> 1943 | N17: R | O17: P | P17: 15765
... A23: 157 | B23: Dupart | C23: Michel | D23: 132 | K23: =IF((P23)="","",IF(MONTH(P23)=1,"Janvier",IF(MONTH(P23)=2,"Février",IF(MONTH(P23)=3,"Mars",IF(MONTH(P23)=4,"Avril",IF(MONTH(P23)=5,"Mai",IF(MONTH(P23)=6,"Juin",IF(MONTH(P23)=7,"Juillet",IF(MONTH(P23)=8,"Août",IF(MONTH(P23)=9,"Septembre",IF(MONTH(P23)=10,"Octobre",IF(MONTH(P23)=11,"Novembre","Décembre")))))))))))) -> Mars | L23: =IF(P23="","",DAY(P23)) -> 13 | M23: =IF(P23="","",YEAR(P23)) -> 1965 | N23: A | O23: P | P23: 23814
A24: 1 | B24: Fauré | C24: Sylvain | D24: 1 | K24: =IF((P24)="","",IF(MONTH(P24)=1,"Janvier",IF(MONTH(P24)=2,"Février",IF(MONTH(P24)=3,"Mars",IF(MONTH(P24)=4,"Avril",IF(MONTH(P24)=5,"Mai",IF(MONTH(P24)=6,"Juin",IF(MONTH(P24)=7,"Juillet",IF(MONTH(P24)=8,"Août",IF(MONTH(P24)=9,"Septembre",IF(MONTH(P24)=10,"Octobre",IF(MONTH(P24)=11,"Novembre","Décembre")))))))))))) -> Décembre | L24: =IF(P24="","",DAY(P24)) -> 20 | M24: =IF(P24="","",YEAR(P24)) -> 1971 | N24: R | P24: 26287
A25: 143 | B25: Fevre | C25: Virginie | D25: 143 | K25: =IF((P25)="","",IF(MONTH(P25)=1,"Janvier",IF(MONTH(P25)=2,"Février",IF(MONTH(P25)=3,"Mars",IF(MONTH(P25)=4,"Avril",IF(MONTH(P25)=5,"Mai",IF(MONTH(P25)=6,"Juin",IF(MONTH(P25)=7,"Juillet",IF(MONTH(P25)=8,"Août",IF(MONTH(P25)=9,"Septembre",IF(MONTH(P25)=10,"Octobre",IF(MONTH(P25)=11,"Novembre","Décembre")))))))))))) -> Août | L25: =IF(P25="","",DAY(P25)) -> 3 | M25: =IF(P25="","",YEAR(P25)) -> 1964 | N25: A | O25: P | P25: 23592
A26: 86 | B26: Fortin | C26: Marie-Thérèse | D26: 86 | K26: =IF((P26)="","",IF(MONTH(P26)=1,"Janvier",IF(MONTH(P26)=2,"Février",IF(MONTH(P26)=3,"Mars",IF(MONTH(P26)=4,"Avril",IF(MONTH(P26)=5,"Mai",IF(MONTH(P26)=6,"Juin",IF(MONTH(P26)=7,"Juillet",IF(MONTH(P26)=8,"Août",IF(MONTH(P26)=9,"Septembre",IF(MONTH(P26)=10,"Octobre",IF(MONTH(P26)=11,"Novembre","Décembre")))))))))))) -> Mai | L26: =IF(P26="","",DAY(P26)) -> 31 | M26: =IF(P26="","",YEAR(P26)) -> 1943 | N26: R | O26: P | P26: 15857
A27: 139 | B27: Garaudet | C27: Martine | D27: 139 | K27: =IF((P27)="","",IF(MONTH(P27)=1,"Janvier",IF(MONTH(P27)=2,"Février",IF(MONTH(P27)=3,"Mars",IF(MONTH(P27)=4,"Avril",IF(MONTH(P27)=5,"Mai",IF(MONTH(P27)=6,"Juin",IF(MONTH(P27)=7,"Juillet",IF(MONTH(P27)=8,"Août",IF(MONTH(P27)=9,"Septembre",IF(MONTH(P27)=10,"Octobre",IF(MONTH(P27)=11,"Novembre","Décembre")))))))))))) -> Août | L27: =IF(P27="","",DAY(P27)) -> 19 | M27: =IF(P27="","",YEAR(P27)) -> 1943 | N27: A | O27: P | P27: 15937
A28: 119 | B28: Garcia | C28: Jean-Paul | D28: 119 | K28: =IF((P28)="","",IF(MONTH(P28)=1,"Janvier",IF(MONTH(P28)=2,"Février",IF(MONTH(P28)=3,"Mars",IF(MONTH(P28)=4,"Avril",IF(MONTH(P28)=5,"Mai",IF(MONTH(P28)=6,"Juin",IF(MONTH(P28)=7,"Juillet",IF(MONTH(P28)=8,"Août",IF(MONTH(P28)=9,"Septembre",IF(MONTH(P28)=10,"Octobre",IF(MONTH(P28)=11,"Novembre","Décembre")))))))))))) -> Septembre | L28: =IF(P28="","",DAY(P28)) -> 19 | M28: =IF(P28="","",YEAR(P28)) -> 1936 | N28: R | O28: P | P28: 13412
A29: 163 | B29: Gaudez | C29: Martine | D29: 163 | K29: =IF((P29)="","",IF(MONTH(P29)=1,"Janvier",IF(MONTH(P29)=2,"Février",IF(MONTH(P29)=3,"Mars",IF(MONTH(P29)=4,"Avril",IF(MONTH(P29)=5,"Mai",IF(MONTH(P29)=6,"Juin",IF(MONTH(P29)=7,"Juillet",IF(MONTH(P29)=8,"Août",IF(MONTH(P29)=9,"Septembre",IF(MONTH(P29)=10,"Octobre",IF(MONTH(P29)=11,"Novembre","Décembre")))))))))))) -> Juin | L29: =IF(P29="","",DAY(P29)) -> 9 | M29: =IF(P29="","",YEAR(P29)) -> 1957 | N29: A | O29: P | P29: 20980
A30: 141 | B30: Gaussens | C30: Didier | D30: 141 | K30: =IF((P30)="","",IF(MONTH(P30)=1,"Janvier",IF(MONTH(P30)=2,"Février",IF(MONTH(P30)=3,"Mars",IF(MONTH(P30)=4,"Avril",IF(MONTH(P30)=5,"Mai",IF(MONTH(P30)=6,"Juin",IF(MONTH(P30)=7,"Juillet",IF(MONTH(P30)=8,"Août",IF(MONTH(P30)=9,"Septembre",IF(MONTH(P30)=10,"Octobre",IF(MONTH(P30)=11,"Novembre","Décembre")))))))))))) -> Mars | L30: =IF(P30="","",DAY(P30)) -> 7 | M30: =IF(P30="","",YEAR(P30)) -> 1952 | N30: A | O30: P | P30: 19060
A31: 34 | B31: Gautheron | C31: Claude | D31: 34 | K31: =IF((P31)="","",IF(MONTH(P31)=1,"Janvier",IF(MONTH(P31)=2,"Février",IF(MONTH(P31)=3,"Mars",IF(MONTH(P31)=4,"Avril",IF(MONTH(P31)=5,"Mai",IF(MONTH(P31)=6,"Juin",IF(MONTH(P31)=7,"Juillet",IF(MONTH(P31)=8,"Août",IF(MONTH(P31)=9,"Septembre",IF(MONTH(P31)=10,"Octobre",IF(MONTH(P31)=11,"Novembre","Décembre")))))))))))) -> Février | L31: =IF(P31="","",DAY(P31)) -> 16 | M31: =IF(P31="","",YEAR(P31)) -> 1937 | N31: R | O31: P | P31: 13562
A32: 159 | B32: Gautheron | C32: Roger | D32: 159 | K32: =IF((P32)="","",IF(MONTH(P32)=1,"Janvier",IF(MONTH(P32)=2,"Février",IF(MONTH(P32)=3,"Mars",IF(MONTH(P32)=4,"Avril",IF(MONTH(P32)=5,"Mai",IF(MONTH(P32)=6,"Juin",IF(MONTH(P32)=7,"Juillet",IF(MONTH(P32)=8,"Août",IF(MONTH(P32)=9,"Septembre",IF(MONTH(P32)=10,"Octobre",IF(MONTH(P32)=11,"Novembre","Décembre")))))))))))) -> Juin | L32: =IF(P32="","",DAY(P32)) -> 16 | M32: =IF(P32="","",YEAR(P32)) -> 1944 | N32: A | O32: P | P32: 16239
A33: 122 | B33: Hory | C33: Patricia | D33: 122 | K33: =IF((P33)="","",IF(MONTH(P33)=1,"Janvier",IF(MONTH(P33)=2,"Février",IF(MONTH(P33)=3,"Mars",IF(MONTH(P33)=4,"Avril",IF(MONTH(P33)=5,"Mai",IF(MONTH(P33)=6,"Juin",IF(MONTH(P33)=7,"Juillet",IF(MONTH(P33)=8,"Août",IF(MONTH(P33)=9,"Septembre",IF(MONTH(P33)=10,"Octobre",IF(MONTH(P33)=11,"Novembre","Décembre")))))))))))) -> Mars | L33: =IF(P33="","",DAY(P33)) -> 19 | M33: =IF(P33="","",YEAR(P33)) -> 1965 | N33: R | O33: P | P33: 23820
A34: 130 | B34: Jacotot | C34: Louis-Nicolas | D34: 130 | K34: =IF((P34)="","",IF(MONTH(P34)=1,"Janvier",IF(MONTH(P34)=2,"Février",IF(MONTH(P34)=3,"Mars",IF(MONTH(P34)=4,"Avril",IF(MONTH(P34)=5,"Mai",IF(MONTH(P34)=6,"Juin",IF(MONTH(P34)=7,"Juillet",IF(MONTH(P34)=8,"Août",IF(MONTH(P34)=9,"Septembre",IF(MONTH(P34)=10,"Octobre",IF(MONTH(P34)=11,"Novembre","Décembre")))))))))))) -> Avril | L34: =IF(P34="","",DAY(P34)) -> 22 | M34: =IF(P34="","",YEAR(P34)) -> 1998 | N34: R | O34: P | P34: 35907
A35: 164 | B35: Jacotot | C35: Laurence | D35: 164 | K35: =IF((P35)="","",IF(MONTH(P35)=1,"Janvier",IF(MONTH(P35)=2,"Février",IF(MONTH(P35)=3,"Mars",IF(MONTH(P35)=4,"Avril",IF(MONTH(P35)=5,"Mai",IF(MONTH(P35)=6,"Juin",IF(MONTH(P35)=7,"Juillet",IF(MONTH(P35)=8,"Août",IF(MONTH(P35)=9,"Septembre",IF(MONTH(P35)=10,"Octobre",IF(MONTH(P35)=11,"Novembre","Décembre")))))))))))) -> Juillet | L35: =IF(P35="","",DAY(P35)) -> 8 | M35: =IF(P35="","",YEAR(P35)) -> 1959 | N35: A | O35: P | P35: 21739
A36: 120 | B36: Jacoutot | C36: Jean | D36: 120 | K36: =IF((P36)="","",IF(MONTH(P36)=1,"Janvier",IF(MONTH(P36)=2,"Février",IF(MONTH(P36)=3,"Mars",IF(MONTH(P36)=4,"Avril",IF(MONTH(P36)=5,"Mai",IF(MONTH(P36)=6,"Juin",IF(MONTH(P36)=7,"Juillet",IF(MONTH(P36)=8,"Août",IF(MONTH(P36)=9,"Septembre",IF(MONTH(P36)=10,"Octobre",IF(MONTH(P36)=11,"Novembre","Décembre")))))))))))) -> Novembre | L36: =IF(P36="","",DAY(P36)) -> 22 | M36: =IF(P36="","",YEAR(P36)) -> 1951 | N36: R | O36: P | P36: 18954
... A38: 36 | B38: Jan | C38: Louis | D38: 36 | K38: =IF((P38)="","",IF(MONTH(P38)=1,"Janvier",IF(MONTH(P38)=2,"Février",IF(MONTH(P38)=3,"Mars",IF(MONTH(P38)=4,"Avril",IF(MONTH(P38)=5,"Mai",IF(MONTH(P38)=6,"Juin",IF(MONTH(P38)=7,"Juillet",IF(MONTH(P38)=8,"Août",IF(MONTH(P38)=9,"Septembre",IF(MONTH(P38)=10,"Octobre",IF(MONTH(P38)=11,"Novembre","Décembre")))))))))))) -> Février | L38: =IF(P38="","",DAY(P38)) -> 11 | M38: =IF(P38="","",YEAR(P38)) -> 1923 | N38: R | O38: P | P38: 8443
A39: 37 | B39: Lacreuse | C39: Gérard | D39: 37 | K39: =IF((P39)="","",IF(MONTH(P39)=1,"Janvier",IF(MONTH(P39)=2,"Février",IF(MONTH(P39)=3,"Mars",IF(MONTH(P39)=4,"Avril",IF(MONTH(P39)=5,"Mai",IF(MONTH(P39)=6,"Juin",IF(MONTH(P39)=7,"Juillet",IF(MONTH(P39)=8,"Août",IF(MONTH(P39)=9,"Septembre",IF(MONTH(P39)=10,"Octobre",IF(MONTH(P39)=11,"Novembre","Décembre")))))))))))) -> Octobre | L39: =IF(P39="","",DAY(P39)) -> 14 | M39: =IF(P39="","",YEAR(P39)) -> 1947 | N39: R | P39: 17454
A40: 145 | B40: Lapostolle | C40: François | D40: 145 | K40: =IF((P40)="","",IF(MONTH(P40)=1,"Janvier",IF(MONTH(P40)=2,"Février",IF(MONTH(P40)=3,"Mars",IF(MONTH(P40)=4,"Avril",IF(MONTH(P40)=5,"Mai",IF(MONTH(P40)=6,"Juin",IF(MONTH(P40)=7,"Juillet",IF(MONTH(P40)=8,"Août",IF(MONTH(P40)=9,"Septembre",IF(MONTH(P40)=10,"Octobre",IF(MONTH(P40)=11,"Novembre","Décembre")))))))))))) -> Décembre | L40: =IF(P40="","",DAY(P40)) -> 4 | M40: =IF(P40="","",YEAR(P40)) -> 1937 | N40: A | O40: P | P40: 13853
A41: 40 | B41: Legros | C41: Lucien | D41: 40 | K41: =IF((P41)="","",IF(MONTH(P41)=1,"Janvier",IF(MONTH(P41)=2,"Février",IF(MONTH(P41)=3,"Mars",IF(MONTH(P41)=4,"Avril",IF(MONTH(P41)=5,"Mai",IF(MONTH(P41)=6,"Juin",IF(MONTH(P41)=7,"Juillet",IF(MONTH(P41)=8,"Août",IF(MONTH(P41)=9,"Septembre",IF(MONTH(P41)=10,"Octobre",IF(MONTH(P41)=11,"Novembre","Décembre")))))))))))) -> Février | L41: =IF(P41="","",DAY(P41)) -> 16 | M41: =IF(P41="","",YEAR(P41)) -> 1933 | N41: R | O41: P | P41: 12101
A42: 161 | B42: Lerondeau | C42: Michele | D42: 161 | K42: =IF((P42)="","",IF(MONTH(P42)=1,"Janvier",IF(MONTH(P42)=2,"Février",IF(MONTH(P42)=3,"Mars",IF(MONTH(P42)=4,"Avril",IF(MONTH(P42)=5,"Mai",IF(MONTH(P42)=6,"Juin",IF(MONTH(P42)=7,"Juillet",IF(MONTH(P42)=8,"Août",IF(MONTH(P42)=9,"Septembre",IF(MONTH(P42)=10,"Octobre",IF(MONTH(P42)=11,"Novembre","Décembre")))))))))))) -> Juin | L42: =IF(P42="","",DAY(P42)) -> 25 | M42: =IF(P42="","",YEAR(P42)) -> 1950 | N42: A | O42: P | P42: 18439
A43: 95 | B43: Leroux | C43: Patrick | D43: 95 | K43: =IF((P43)="","",IF(MONTH(P43)=1,"Janvier",IF(MONTH(P43)=2,"Février",IF(MONTH(P43)=3,"Mars",IF(MONTH(P43)=4,"Avril",IF(MONTH(P43)=5,"Mai",IF(MONTH(P43)=6,"Juin",IF(MONTH(P43)=7,"Juillet",IF(MONTH(P43)=8,"Août",IF(MONTH(P43)=9,"Septembre",IF(MONTH(P43)=10,"Octobre",IF(MONTH(P43)=11,"Novembre","Décembre")))))))))))) -> Janvier | L43: =IF(P43="","",DAY(P43)) -> 12 | M43: =IF(P43="","",YEAR(P43)) -> 1954 | N43: R | O43: P | P43: 19736
A44: 158 | B44: Lhuillier | C44: Paul | D44: 158 | K44: =IF((P44)="","",IF(MONTH(P44)=1,"Janvier",IF(MONTH(P44)=2,"Février",IF(MONTH(P44)=3,"Mars",IF(MONTH(P44)=4,"Avril",IF(MONTH(P44)=5,"Mai",IF(MONTH(P44)=6,"Juin",IF(MONTH(P44)=7,"Juillet",IF(MONTH(P44)=8,"Août",IF(MONTH(P44)=9,"Septembre",IF(MONTH(P44)=10,"Octobre",IF(MONTH(P44)=11,"Novembre","Décembre")))))))))))) -> Septembre | L44: =IF(P44="","",DAY(P44)) -> 23 | M44: =IF(P44="","",YEAR(P44)) -> 1951 | N44: A | O44: P | P44: 18894
A45: 125 | B45: Martiny | C45: Jean-Pierre | D45: 125 | K45: =IF((P45)="","",IF(MONTH(P45)=1,"Janvier",IF(MONTH(P45)=2,"Février",IF(MONTH(P45)=3,"Mars",IF(MONTH(P45)=4,"Avril",IF(MONTH(P45)=5,"Mai",IF(MONTH(P45)=6,"Juin",IF(MONTH(P45)=7,"Juillet",IF(MONTH(P45)=8,"Août",IF(MONTH(P45)=9,"Septembre",IF(MONTH(P45)=10,"Octobre",IF(MONTH(P45)=11,"Novembre","Décembre")))))))))))) -> Septembre | L45: =IF(P45="","",DAY(P45)) -> 23 | M45: =IF(P45="","",YEAR(P45)) -> 1942 | N45: R | O45: P | P45: 15607
A46: 103 | B46: Michaud | C46: Sylvie | D46: 103 | K46: =IF((P46)="","",IF(MONTH(P46)=1,"Janvier",IF(MONTH(P46)=2,"Février",IF(MONTH(P46)=3,"Mars",IF(MONTH(P46)=4,"Avril",IF(MONTH(P46)=5,"Mai",IF(MONTH(P46)=6,"Juin",IF(MONTH(P46)=7,"Juillet",IF(MONTH(P46)=8,"Août",IF(MONTH(P46)=9,"Septembre",IF(MONTH(P46)=10,"Octobre",IF(MONTH(P46)=11,"Novembre","Décembre")))))))))))) | L46: =IF(P46="","",DAY(P46)) | M46: =IF(P46="","",YEAR(P46)) | N46: A | O46: P
A47: 162 | B47: Mignot | C47: Mireille | D47: 162 | K47: =IF((P47)="","",IF(MONTH(P47)=1,"Janvier",IF(MONTH(P47)=2,"Février",IF(MONTH(P47)=3,"Mars",IF(MONTH(P47)=4,"Avril",IF(MONTH(P47)=5,"Mai",IF(MONTH(P47)=6,"Juin",IF(MONTH(P47)=7,"Juillet",IF(MONTH(P47)=8,"Août",IF(MONTH(P47)=9,"Septembre",IF(MONTH(P47)=10,"Octobre",IF(MONTH(P47)=11,"Novembre","Décembre")))))))))))) -> Janvier | L47: =IF(P47="","",DAY(P47)) -> 28 | M47: =IF(P47="","",YEAR(P47)) -> 1947 | N47: A | O47: P | P47: 17195
A48: 121 | B48: Monot | C48: Sylvie | D48: 121 | K48: =IF((P48)="","",IF(MONTH(P48)=1,"Janvier",IF(MONTH(P48)=2,"Février",IF(MONTH(P48)=3,"Mars",IF(MONTH(P48)=4,"Avril",IF(MONTH(P48)=5,"Mai",IF(MONTH(P48)=6,"Juin",IF(MONTH(P48)=7,"Juillet",IF(MONTH(P48)=8,"Août",IF(MONTH(P48)=9,"Septembre",IF(MONTH(P48)=10,"Octobre",IF(MONTH(P48)=11,"Novembre","Décembre")))))))))))) -> Octobre | L48: =IF(P48="","",DAY(P48)) -> 28 | M48: =IF(P48="","",YEAR(P48)) -> 1956 | N48: R | O48: P | P48: 20756
A49: 44 | B49: Moreux | C49: Richard | D49: 44 | K49: =IF((P49)="","",IF(MONTH(P49)=1,"Janvier",IF(MONTH(P49)=2,"Février",IF(MONTH(P49)=3,"Mars",IF(MONTH(P49)=4,"Avril",IF(MONTH(P49)=5,"Mai",IF(MONTH(P49)=6,"Juin",IF(MONTH(P49)=7,"Juillet",IF(MONTH(P49)=8,"Août",IF(MONTH(P49)=9,"Septembre",IF(MONTH(P49)=10,"Octobre",IF(MONTH(P49)=11,"Novembre","Décembre")))))))))))) -> Août | L49: =IF(P49="","",DAY(P49)) -> 21 | M49: =IF(P49="","",YEAR(P49)) -> 1949 | N49: R | P49: 18131
A50: 142 | B50: Nicolas | C50: Monique | D50: 142 | K50: =IF((P50)="","",IF(MONTH(P50)=1,"Janvier",IF(MONTH(P50)=2,"Février",IF(MONTH(P50)=3,"Mars",IF(MONTH(P50)=4,"Avril",IF(MONTH(P50)=5,"Mai",IF(MONTH(P50)=6,"Juin",IF(MONTH(P50)=7,"Juillet",IF(MONTH(P50)=8,"Août",IF(MONTH(P50)=9,"Septembre",IF(MONTH(P50)=10,"Octobre",IF(MONTH(P50)=11,"Novembre","Décembre")))))))))))) -> Mars | L50: =IF(P50="","",DAY(P50)) -> 12 | M50: =IF(P50="","",YEAR(P50)) -> 1948 | N50: A | O50: P | P50: 17604
A51: 140 | B51: Paget | C51: Rose Marie | D51: 140 | K51: =IF((P51)="","",IF(MONTH(P51)=1,"Janvier",IF(MONTH(P51)=2,"Février",IF(MONTH(P51)=3,"Mars",IF(MONTH(P51)=4,"Avril",IF(MONTH(P51)=5,"Mai",IF(MONTH(P51)=6,"Juin",IF(MONTH(P51)=7,"Juillet",IF(MONTH(P51)=8,"Août",IF(MONTH(P51)=9,"Septembre",IF(MONTH(P51)=10,"Octobre",IF(MONTH(P51)=11,"Novembre","Décembre")))))))))))) -> Mai | L51: =IF(P51="","",DAY(P51)) -> 26 | M51: =IF(P51="","",YEAR(P51)) -> 1952 | N51: A | O51: P | P51: 19140
A52: 107 | B52: Pamart | C52: Alain | D52: 107 | K52: =IF((P52)="","",IF(MONTH(P52)=1,"Janvier",IF(MONTH(P52)=2,"Février",IF(MONTH(P52)=3,"Mars",IF(MONTH(P52)=4,"Avril",IF(MONTH(P52)=5,"Mai",IF(MONTH(P52)=6,"Juin",IF(MONTH(P52)=7,"Juillet",IF(MONTH(P52)=8,"Août",IF(MONTH(P52)=9,"Septembre",IF(MONTH(P52)=10,"Octobre",IF(MONTH(P52)=11,"Novembre","Décembre")))))))))))) -> Mai | L52: =IF(P52="","",DAY(P52)) -> 6 | M52: =IF(P52="","",YEAR(P52)) -> 1944 | N52: R | O52: P | P52: 16198
A53: 48 | B53: Parizot | C53: Eveline | D53: 48 | K53: =IF((P53)="","",IF(MONTH(P53)=1,"Janvier",IF(MONTH(P53)=2,"Février",IF(MONTH(P53)=3,"Mars",IF(MONTH(P53)=4,"Avril",IF(MONTH(P53)=5,"Mai",IF(MONTH(P53)=6,"Juin",IF(MONTH(P53)=7,"Juillet",IF(MONTH(P53)=8,"Août",IF(MONTH(P53)=9,"Septembre",IF(MONTH(P53)=10,"Octobre",IF(MONTH(P53)=11,"Novembre","Décembre")))))))))))) -> Août | L53: =IF(P53="","",DAY(P53)) -> 18 | M53: =IF(P53="","",YEAR(P53)) -> 1951 | N53: R | O53: P | P53: 18858
A54: 54 | B54: Perrigueur | C54: Suzanne | D54: 54 | K54: =IF((P54)="","",IF(MONTH(P54)=1,"Janvier",IF(MONTH(P54)=2,"Février",IF(MONTH(P54)=3,"Mars",IF(MONTH(P54)=4,"Avril",IF(MONTH(P54)=5,"Mai",IF(MONTH(P54)=6,"Juin",IF(MONTH(P54)=7,"Juillet",IF(MONTH(P54)=8,"Août",IF(MONTH(P54)=9,"Septembre",IF(MONTH(P54)=10,"Octobre",IF(MONTH(P54)=11,"Novembre","Décembre")))))))))))) -> Avril | L54: =IF(P54="","",DAY(P54)) -> 1 | M54: =IF(P54="","",YEAR(P54)) -> 1942 | N54: R | O54: P | P54: 15432
A55: 149 | B55: Pouthier | C55: Chantal | D55: 149 | K55: =IF((P55)="","",IF(MONTH(P55)=1,"Janvier",IF(MONTH(P55)=2,"Février",IF(MONTH(P55)=3,"Mars",IF(MONTH(P55)=4,"Avril",IF(MONTH(P55)=5,"Mai",IF(MONTH(P55)=6,"Juin",IF(MONTH(P55)=7,"Juillet",IF(MONTH(P55)=8,"Août",IF(MONTH(P55)=9,"Septembre",IF(MONTH(P55)=10,"Octobre",IF(MONTH(P55)=11,"Novembre","Décembre")))))))))))) -> Août | L55: =IF(P55="","",DAY(P55)) -> 17 | M55: =IF(P55="","",YEAR(P55)) -> 1948 | N55: A | O55: P | P55: 17762
A56: 146 | B56: Prat | C56: Richard | D56: 146 | K56: =IF((P56)="","",IF(MONTH(P56)=1,"Janvier",IF(MONTH(P56)=2,"Février",IF(MONTH(P56)=3,"Mars",IF(MONTH(P56)=4,"Avril",IF(MONTH(P56)=5,"Mai",IF(MONTH(P56)=6,"Juin",IF(MONTH(P56)=7,"Juillet",IF(MONTH(P56)=8,"Août",IF(MONTH(P56)=9,"Septembre",IF(MONTH(P56)=10,"Octobre",IF(MONTH(P56)=11,"Novembre","Décembre")))))))))))) -> Avril | L56: =IF(P56="","",DAY(P56)) -> 21 | M56: =IF(P56="","",YEAR(P56)) -> 1947 | N56: A | O56: P | P56: 17278
A57: 147 | B57: Prat | C57: Nicole | D57: 147 | K57: =IF((P57)="","",IF(MONTH(P57)=1,"Janvier",IF(MONTH(P57)=2,"Février",IF(MONTH(P57)=3,"Mars",IF(MONTH(P57)=4,"Avril",IF(MONTH(P57)=5,"Mai",IF(MONTH(P57)=6,"Juin",IF(MONTH(P57)=7,"Juillet",IF(MONTH(P57)=8,"Août",IF(MONTH(P57)=9,"Septembre",IF(MONTH(P57)=10,"Octobre",IF(MONTH(P57)=11,"Novembre","Décembre")))))))))))) -> Juin | L57: =IF(P57="","",DAY(P57)) -> 1 | M57: =IF(P57="","",YEAR(P57)) -> 1949 | N57: A | O57: P | P57: 18050
A58: 58 | B58: Richetin | C58: Paul | D58: 58 | K58: =IF((P58)="","",IF(MONTH(P58)=1,"Janvier",IF(MONTH(P58)=2,"Février",IF(MONTH(P58)=3,"Mars",IF(MONTH(P58)=4,"Avril",IF(MONTH(P58)=5,"Mai",IF(MONTH(P58)=6,"Juin",IF(MONTH(P58)=7,"Juillet",IF(MONTH(P58)=8,"Août",IF(MONTH(P58)=9,"Septembre",IF(MONTH(P58)=10,"Octobre",IF(MONTH(P58)=11,"Novembre","Décembre")))))))))))) -> Mars | L58: =IF(P58="","",DAY(P58)) -> 17 | M58: =IF(P58="","",YEAR(P58)) -> 1936 | N58: R | O58: P | P58: 13226
A59: 150 | B59: Royer-Cassard | C59: Martine | D59: 150 | K59: =IF((P59)="","",IF(MONTH(P59)=1,"Janvier",IF(MONTH(P59)=2,"Février",IF(MONTH(P59)=3,"Mars",IF(MONTH(P59)=4,"Avril",IF(MONTH(P59)=5,"Mai",IF(MONTH(P59)=6,"Juin",IF(MONTH(P59)=7,"Juillet",IF(MONTH(P59)=8,"Août",IF(MONTH(P59)=9,"Septembre",IF(MONTH(P59)=10,"Octobre",IF(MONTH(P59)=11,"Novembre","Décembre")))))))))))) -> Mai | L59: =IF(P59="","",DAY(P59)) -> 14 | M59: =IF(P59="","",YEAR(P59)) -> 1957 | N59: A | O59: P | P59: 20954
A60: 61 | B60: Thiebeaux | C60: Chantal | D60: 61 | K60: =IF((P60)="","",IF(MONTH(P60)=1,"Janvier",IF(MONTH(P60)=2,"Février",IF(MONTH(P60)=3,"Mars",IF(MONTH(P60)=4,"Avril",IF(MONTH(P60)=5,"Mai",IF(MONTH(P60)=6,"Juin",IF(MONTH(P60)=7,"Juillet",IF(MONTH(P60)=8,"Août",IF(MONTH(P60)=9,"Septembre",IF(MONTH(P60)=10,"Octobre",IF(MONTH(P60)=11,"Novembre","Décembre")))))))))))) -> Mai | L60: =IF(P60="","",DAY(P60)) -> 26 | M60: =IF(P60="","",YEAR(P60)) -> 1939 | N60: R | P60: 14391
A61: 152 | B61: Tisserandot | C61: Michele | D61: 152 | K61: =IF((P61)="","",IF(MONTH(P61)=1,"Janvier",IF(MONTH(P61)=2,"Février",IF(MONTH(P61)=3,"Mars",IF(MONTH(P61)=4,"Avril",IF(MONTH(P61)=5,"Mai",IF(MONTH(P61)=6,"Juin",IF(MONTH(P61)=7,"Juillet",IF(MONTH(P61)=8,"Août",IF(MONTH(P61)=9,"Septembre",IF(MONTH(P61)=10,"Octobre",IF(MONTH(P61)=11,"Novembre","Décembre")))))))))))) -> Juillet | L61: =IF(P61="","",DAY(P61)) -> 24 | M61: =IF(P61="","",YEAR(P61)) -> 1948 | N61: A | O61: P | P61: 17738
A62: 148 | B62: Vauchet | C62: Georgette | D62: 148 | K62: =IF((P62)="","",IF(MONTH(P62)=1,"Janvier",IF(MONTH(P62)=2,"Février",IF(MONTH(P62)=3,"Mars",IF(MONTH(P62)=4,"Avril",IF(MONTH(P62)=5,"Mai",IF(MONTH(P62)=6,"Juin",IF(MONTH(P62)=7,"Juillet",IF(MONTH(P62)=8,"Août",IF(MONTH(P62)=9,"Septembre",IF(MONTH(P62)=10,"Octobre",IF(MONTH(P62)=11,"Novembre","Décembre")))))))))))) -> Novembre | L62: =IF(P62="","",DAY(P62)) -> 21 | M62: =IF(P62="","",YEAR(P62)) -> 1948 | N62: A | O62: P | P62: 17858
A63: 138 | B63: Villemin | C63: Janine | D63: 138 | K63: =IF((P63)="","",IF(MONTH(P63)=1,"Janvier",IF(MONTH(P63)=2,"Février",IF(MONTH(P63)=3,"Mars",IF(MONTH(P63)=4,"Avril",IF(MONTH(P63)=5,"Mai",IF(MONTH(P63)=6,"Juin",IF(MONTH(P63)=7,"Juillet",IF(MONTH(P63)=8,"Août",IF(MONTH(P63)=9,"Septembre",IF(MONTH(P63)=10,"Octobre",IF(MONTH(P63)=11,"Novembre","Décembre")))))))))))) | L63: =IF(P63="","",DAY(P63)) | M63: =IF(P63="","",YEAR(P63)) | N63: A | O63: P
A64: 117 | B64: Winter | C64: Michel | D64: 117 | K64: =IF((P64)="","",IF(MONTH(P64)=1,"Janvier",IF(MONTH(P64)=2,"Février",IF(MONTH(P64)=3,"Mars",IF(MONTH(P64)=4,"Avril",IF(MONTH(P64)=5,"Mai",IF(MONTH(P64)=6,"Juin",IF(MONTH(P64)=7,"Juillet",IF(MONTH(P64)=8,"Août",IF(MONTH(P64)=9,"Septembre",IF(MONTH(P64)=10,"Octobre",IF(MONTH(P64)=11,"Novembre","Décembre")))))))))))) -> Septembre | L64: =IF(P64="","",DAY(P64)) -> 15 | M64: =IF(P64="","",YEAR(P64)) -> 1934 | N64: R | O64: P | P64: 12677
A67: Adhérents | B67: Total = | C67: 61 | D67: Adhérents
A68: Noveaux | B68: Dont : | C68: 28 | D68: Nouveaux
A71: En Gras : Les membres du bureau | D71: En Gras : Les membres du bureau | F71: En Bleu Gras : Les Animateurs

Sheet 2009-2010
B2: Nom | C2: Prénom | D2: N° Carte | E2: Adresse | F2: CP | G2: Ville | H2: Téléphone | I2: Portable | J2: Email | K2: Date Naiss | N2: A ou R | P2: Date
K3: Mois | L3: Jour | M3: Année
A4: 183 | B4: Alagama | C4: Alex | D4: 183 | E4: 9a, Rue Maréchal Delattre de Tassigny | F4: 21470 | G4: Brazey en plaine | H4: 380329906 | I4: 632060653 | K4: =IF((P4)="","",IF(MONTH(P4)=1,"Janvier",IF(MONTH(P4)=2,"Février",IF(MONTH(P4)=3,"Mars",IF(MONTH(P4)=4,"Avril",IF(MONTH(P4)=5,"Mai",IF(MONTH(P4)=6,"Juin",IF(MONTH(P4)=7,"Juillet",IF(MONTH(P4)=8,"Août",IF(MONTH(P4)=9,"Septembre",IF(MONTH(P4)=10,"Octobre",IF(MONTH(P4)=11,"Novembre","Décembre")))))))))))) -> Septembre | L4: =IF(P4="","",DAY(P4)) -> 19 | M4: =IF(P4="","",YEAR(P4)) -> 1960 | N4: A | O4: P | P4: 22178
A5: 178 | B5: Arbassier | C5: Jean-Claude | D5: 178 | E5: 16, Route d'Auxonne | F5: 21170 | G5: Montot | I5: 698808355 | K5: =IF((P5)="","",IF(MONTH(P5)=1,"Janvier",IF(MONTH(P5)=2,"Février",IF(MONTH(P5)=3,"Mars",IF(MONTH(P5)=4,"Avril",IF(MONTH(P5)=5,"Mai",IF(MONTH(P5)=6,"Juin",IF(MONTH(P5)=7,"Juillet",IF(MONTH(P5)=8,"Août",IF(MONTH(P5)=9,"Septembre",IF(MONTH(P5)=10,"Octobre",IF(MONTH(P5)=11,"Novembre","Décembre")))))))))))) -> Juillet | L5: =IF(P5="","",DAY(P5)) -> 1 | M5: =IF(P5="","",YEAR(P5)) -> 1954 | N5: A | O5: P | P5: 19906
A6: 155 | B6: Baland | C6: Monique | D6: 155 | E6: 5 bd, Mansard - Appt 7 | F6: 21800 | G6: Quétigny | H6: 380317303 | I6: 620431090 | J6: monique.baland@wanadoo.fr | K6: =IF((P6)="","",IF(MONTH(P6)=1,"Janvier",IF(MONTH(P6)=2,"Février",IF(MONTH(P6)=3,"Mars",IF(MONTH(P6)=4,"Avril",IF(MONTH(P6)=5,"Mai",IF(MONTH(P6)=6,"Juin",IF(MONTH(P6)=7,"Juillet",IF(MONTH(P6)=8,"Août",IF(MONTH(P6)=9,"Septembre",IF(MONTH(P6)=10,"Octobre",IF(MONTH(P6)=11,"Novembre","Décembre")))))))))))) -> Juin | L6: =IF(P6="","",DAY(P6)) -> 1 | M6: =IF(P6="","",YEAR(P6)) -> 1940 | N6: R | O6: P | P6: 14763
A7: 4 | B7: Beherec | C7: Franck | D7: 4 | E7: 3 Impasse Verdi | F7: 21470 | G7: Brazey en plaine | H7: 380298947 | I7: 614462165 | J7: frafra21000@gmail.com | K7: =IF((P7)="","",IF(MONTH(P7)=1,"Janvier",IF(MONTH(P7)=2,"Février",IF(MONTH(P7)=3,"Mars",IF(MONTH(P7)=4,"Avril",IF(MONTH(P7)=5,"Mai",IF(MONTH(P7)=6,"Juin",IF(MONTH(P7)=7,"Juillet",IF(MONTH(P7)=8,"Août",IF(MONTH(P7)=9,"Septembre",IF(MONTH(P7)=10,"Octobre",IF(MONTH(P7)=11,"Novembre","Décembre")))))))))))) -> Octobre | L7: =IF(P7="","",DAY(P7)) -> 24 | M7: =IF(P7="","",YEAR(P7)) -> 1967 | N7: R | P7: 24769
A8: 171 | B8: Besson | C8: Marie-France | D8: 171 | E8: 28, Rue des Cyclamens | F8: 21110 | G8: Aiserey | H8: 380297245 | J8: t20@orange.fr | K8: =IF((P8)="","",IF(MONTH(P8)=1,"Janvier",IF(MONTH(P8)=2,"Février",IF(MONTH(P8)=3,"Mars",IF(MONTH(P8)=4,"Avril",IF(MONTH(P8)=5,"Mai",IF(MONTH(P8)=6,"Juin",IF(MONTH(P8)=7,"Juillet",IF(MONTH(P8)=8,"Août",IF(MONTH(P8)=9,"Septembre",IF(MONTH(P8)=10,"Octobre",IF(MONTH(P8)=11,"Novembre","Décembre")))))))))))) -> Novembre | L8: =IF(P8="","",DAY(P8)) -> 11 | M8: =IF(P8="","",YEAR(P8)) -> 1956 | N8: A | O8: P | P8: 20770
A9: 135 | B9: Beudet | C9: Jean | D9: 135 | E9: 12, Clos de Bellevue | F9: 21250 | G9: Pouilly sur Saone | H9: 380204308 | J9: jean.regina.cb@orange.fr | K9: =IF((P9)="","",IF(MONTH(P9)=1,"Janvier",IF(MONTH(P9)=2,"Février",IF(MONTH(P9)=3,"Mars",IF(MONTH(P9)=4,"Avril",IF(MONTH(P9)=5,"Mai",IF(MONTH(P9)=6,"Juin",IF(MONTH(P9)=7,"Juillet",IF(MONTH(P9)=8,"Août",IF(MONTH(P9)=9,"Septembre",IF(MONTH(P9)=10,"Octobre",IF(MONTH(P9)=11,"Novembre","Décembre")))))))))))) -> Janvier | L9: =IF(P9="","",DAY(P9)) -> 6 | M9: =IF(P9="","",YEAR(P9)) -> 1938 | N9: R | O9: P | P9: 13886
A10: 172 | B10: Bourgeon | C10: Isabelle | D10: 172 | E10: 6 Bis, Route de St Usage | F10: 21170 | G10: Echenon | H10: 380392085 | J10: eric.bourgeon@orange.fr | K10: =IF((P10)="","",IF(MONTH(P10)=1,"Janvier",IF(MONTH(P10)=2,"Février",IF(MONTH(P10)=3,"Mars",IF(MONTH(P10)=4,"Avril",IF(MONTH(P10)=5,"Mai",IF(MONTH(P10)=6,"Juin",IF(MONTH(P10)=7,"Juillet",IF(MONTH(P10)=8,"Août",IF(MONTH(P10)=9,"Septembre",IF(MONTH(P10)=10,"Octobre",IF(MONTH(P10)=11,"Novembre","Décembre")))))))))))) -> Mai | L10: =IF(P10="","",DAY(P10)) -> 30 | M10: =IF(P10="","",YEAR(P10)) -> 1964 | N10: A | O10: P | P10: 23527
A11: 175 | B11: Brubach | C11: Daniel | D11: 175 | E11: 4, Rue du commun au loups | F11: 21110 | G11: Bessey les Citeaux | H11: 380566435 | I11: 613871455 | J11: danetcath@orange.fr | K11: =IF((P11)="","",IF(MONTH(P11)=1,"Janvier",IF(MONTH(P11)=2,"Février",IF(MONTH(P11)=3,"Mars",IF(MONTH(P11)=4,"Avril",IF(MONTH(P11)=5,"Mai",IF(MONTH(P11)=6,"Juin",IF(MONTH(P11)=7,"Juillet",IF(MONTH(P11)=8,"Août",IF(MONTH(P11)=9,"Septembre",IF(MONTH(P11)=10,"Octobre",IF(MONTH(P11)=11,"Novembre","Décembre")))))))))))) -> Mars | L11: =IF(P11="","",DAY(P11)) -> 8 | M11: =IF(P11="","",YEAR(P11)) -> 1943 | N11: A | O11: P | P11: 15773
A12: 154 | B12: Brun | C12: Ghislaine | D12: 154 | E12: 6, Rue Mathiron | F12: 21130 | G12: Champdotre | H12: 964204008 | I12: 650516215 | J12: ghislainebrun@wanadoo.fr | K12: =IF((P12)="","",IF(MONTH(P12)=1,"Janvier",IF(MONTH(P12)=2,"Février",IF(MONTH(P12)=3,"Mars",IF(MONTH(P12)=4,"Avril",IF(MONTH(P12)=5,"Mai",IF(MONTH(P12)=6,"Juin",IF(MONTH(P12)=7,"Juillet",IF(MONTH(P12)=8,"Août",IF(MONTH(P12)=9,"Septembre",IF(MONTH(P12)=10,"Octobre",IF(MONTH(P12)=11,"Novembre","Décembre")))))))))))) -> Janvier | L12: =IF(P12="","",DAY(P12)) -> 14 | M12: =IF(P12="","",YEAR(P12)) -> 1955 | N12: R | O12: P | P12: 20103
A13: 82 | B13: Carrez | C13: Alain | D13: 82 | E13: 15, Rue de la mare | F13: 21170 | G13: Montot | H13: 380329317 | I13: 678333988 | J13: a.carrez21@wanadoo.fr | K13: =IF((P13)="","",IF(MONTH(P13)=1,"Janvier",IF(MONTH(P13)=2,"Février",IF(MONTH(P13)=3,"Mars",IF(MONTH(P13)=4,"Avril",IF(MONTH(P13)=5,"Mai",IF(MONTH(P13)=6,"Juin",IF(MONTH(P13)=7,"Juillet",IF(MONTH(P13)=8,"Août",IF(MONTH(P13)=9,"Septembre",IF(MONTH(P13)=10,"Octobre",IF(MONTH(P13)=11,"Novembre","Décembre")))))))))))) -> Juillet | L13: =IF(P13="","",DAY(P13)) -> 23 | M13: =IF(P13="","",YEAR(P13)) -> 1947 | N13: R | P13: 17371
A14: 188 | B14: Charmont | C14: Nelly | D14: 188 | E14: 1, Ruelle Notre Dame | F14: 21700 | G14: Villebichot | H14: 380610928 | I14: 632224200 | J14: nellycharmont@numeo.fr | K14: =IF((P14)="","",IF(MONTH(P14)=1,"Janvier",IF(MONTH(P14)=2,"Février",IF(MONTH(P14)=3,"Mars",IF(MONTH(P14)=4,"Avril",IF(MONTH(P14)=5,"Mai",IF(MONTH(P14)=6,"Juin",IF(MONTH(P14)=7,"Juillet",IF(MONTH(P14)=8,"Août",IF(MONTH(P14)=9,"Septembre",IF(MONTH(P14)=10,"Octobre",IF(MONTH(P14)=11,"Novembre","Décembre")))))))))))) -> Novembre | L14: =IF(P14="","",DAY(P14)) -> 5 | M14: =IF(P14="","",YEAR(P14)) -> 1940 | N14: A | O14: P | P14: 14920
A15: 185 | B15: Chaventon | C15: Maurice | D15: 185 | E15: 3, Le Meix au Car | F15: 21470 | G15: Brazey en plaine | H15: 380299613 | K15: =IF((P15)="","",IF(MONTH(P15)=1,"Janvier",IF(MONTH(P15)=2,"Février",IF(MONTH(P15)=3,"Mars",IF(MONTH(P15)=4,"Avril",IF(MONTH(P15)=5,"Mai",IF(MONTH(P15)=6,"Juin",IF(MONTH(P15)=7,"Juillet",IF(MONTH(P15)=8,"Août",IF(MONTH(P15)=9,"Septembre",IF(MONTH(P15)=10,"Octobre",IF(MONTH(P15)=11,"Novembre","Décembre")))))))))))) -> Mai | L15: =IF(P15="","",DAY(P15)) -> 15 | M15: =IF(P15="","",YEAR(P15)) -> 1941 | N15: A | O15: P | P15: 15111
A16: 186 | B16: Chaventon | C16: Yvonne | D16: 186 | E16: 3, Le Meix au Car | F16: 21470 | G16: Brazey en plaine | H16: 380299613 | K16: =IF((P16)="","",IF(MONTH(P16)=1,"Janvier",IF(MONTH(P16)=2,"Février",IF(MONTH(P16)=3,"Mars",IF(MONTH(P16)=4,"Avril",IF(MONTH(P16)=5,"Mai",IF(MONTH(P16)=6,"Juin",IF(MONTH(P16)=7,"Juillet",IF(MONTH(P16)=8,"Août",IF(MONTH(P16)=9,"Septembre",IF(MONTH(P16)=10,"Octobre",IF(MONTH(P16)=11,"Novembre","Décembre")))))))))))) -> Avril | L16: =IF(P16="","",DAY(P16)) -> 29 | M16: =IF(P16="","",YEAR(P16)) -> 1946 | N16: A | O16: P | P16: 16921
A17: 127 | B17: Chenevoy | C17: Paulette | D17: 127 | E17: 1, Rue du Ponteux | F17: 21170 | G17: Losne | H17: 380290468 | I17: 632368023 | J17: paulette.chenevoy@orange.fr | K17: =IF((P17)="","",IF(MONTH(P17)=1,"Janvier",IF(MONTH(P17)=2,"Février",IF(MONTH(P17)=3,"Mars",IF(MONTH(P17)=4,"Avril",IF(MONTH(P17)=5,"Mai",IF(MONTH(P17)=6,"Juin",IF(MONTH(P17)=7,"Juillet",IF(MONTH(P17)=8,"Août",IF(MONTH(P17)=9,"Septembre",IF(MONTH(P17)=10,"Octobre",IF(MONTH(P17)=11,"Novembre","Décembre")))))))))))) -> Mars | L17: =IF(P17="","",DAY(P17)) -> 30 | M17: =IF(P17="","",YEAR(P17)) -> 1935 | N17: R | O17: P | P17: 12873
A18: 136 | B18: Clemence | C18: René | D18: 136 | E18: 9, Rue d'Auxonne | F18: 21470 | G18: Brazey en plaine | H18: 380298449 | K18: =IF((P18)="","",IF(MONTH(P18)=1,"Janvier",IF(MONTH(P18)=2,"Février",IF(MONTH(P18)=3,"Mars",IF(MONTH(P18)=4,"Avril",IF(MONTH(P18)=5,"Mai",IF(MONTH(P18)=6,"Juin",IF(MONTH(P18)=7,"Juillet",IF(MONTH(P18)=8,"Août",IF(MONTH(P18)=9,"Septembre",IF(MONTH(P18)=10,"Octobre",IF(MONTH(P18)=11,"Novembre","Décembre")))))))))))) -> Février | L18: =IF(P18="","",DAY(P18)) -> 28 | M18: =IF(P18="","",YEAR(P18)) -> 1943 | N18: R | O18: P | P18: 15765
A19: 21 | B19: Cornuel | C19: Michel | D19: 21 | E19: 14, Rue St Jacques | F19: 21170 | G19: St Usage | H19: 380291162 | I19: 667261131 | J19: cornuel.michel@wanadoo.fr | K19: =IF((P19)="","",IF(MONTH(P19)=1,"Janvier",IF(MONTH(P19)=2,"Février",IF(MONTH(P19)=3,"Mars",IF(MONTH(P19)=4,"Avril",IF(MONTH(P19)=5,"Mai",IF(MONTH(P19)=6,"Juin",IF(MONTH(P19)=7,"Juillet",IF(MONTH(P19)=8,"Août",IF(MONTH(P19)=9,"Septembre",IF(MONTH(P19)=10,"Octobre",IF(MONTH(P19)=11,"Novembre","Décembre")))))))))))) -> Septembre | L19: =IF(P19="","",DAY(P19)) -> 5 | M19: =IF(P19="","",YEAR(P19)) -> 1943 | N19: R | O19: P | P19: 15954
A20: 170 | B20: Dehorter | C20: Anne-Marie | D20: 170 | E20: 10, Rue du 19 mars 1962 | F20: 21170 | G20: St Usage | H20: 380291282 | J20: andre.dehoter@wanadoo.fr | K20: =IF((P20)="","",IF(MONTH(P20)=1,"Janvier",IF(MONTH(P20)=2,"Février",IF(MONTH(P20)=3,"Mars",IF(MONTH(P20)=4,"Avril",IF(MONTH(P20)=5,"Mai",IF(MONTH(P20)=6,"Juin",IF(MONTH(P20)=7,"Juillet",IF(MONTH(P20)=8,"Août",IF(MONTH(P20)=9,"Septembre",IF(MONTH(P20)=10,"Octobre",IF(MONTH(P20)=11,"Novembre","Décembre")))))))))))) -> Mars | L20: =IF(P20="","",DAY(P20)) -> 23 | M20: =IF(P20="","",YEAR(P20)) -> 1946 | N20: A | O20: P | P20: 16884
A21: 177 | B21: Demongeot | C21: Isabelle | D21: 177 | E21: 8, Rue Tarnier | F21: 21110 | G21: Aiserey | H21: 380297750 | I21: 662083409 | K21: =IF((P21)="","",IF(MONTH(P21)=1,"Janvier",IF(MONTH(P21)=2,"Février",IF(MONTH(P21)=3,"Mars",IF(MONTH(P21)=4,"Avril",IF(MONTH(P21)=5,"Mai",IF(MONTH(P21)=6,"Juin",IF(MONTH(P21)=7,"Juillet",IF(MONTH(P21)=8,"Août",IF(MONTH(P21)=9,"Septembre",IF(MONTH(P21)=10,"Octobre",IF(MONTH(P21)=11,"Novembre","Décembre")))))))))))) -> Avril | L21: =IF(P21="","",DAY(P21)) -> 19 | M21: =IF(P21="","",YEAR(P21)) -> 1974 | N21: A | O21: P | P21: 27138
A22: 131 | B22: Dessint | C22: Michel | D22: 131 | E22: 4, Place des Ecoles | F22: 21170 | G22: St Usage | H22: 963291006 | I22: 632500486 | J22: michel.dessaint0443@orange.fr | K22: =IF((P22)="","",IF(MONTH(P22)=1,"Janvier",IF(MONTH(P22)=2,"Février",IF(MONTH(P22)=3,"Mars",IF(MONTH(P22)=4,"Avril",IF(MONTH(P22)=5,"Mai",IF(MONTH(P22)=6,"Juin",IF(MONTH(P22)=7,"Juillet",IF(MONTH(P22)=8,"Août",IF(MONTH(P22)=9,"Septembre",IF(MONTH(P22)=10,"Octobre",IF(MONTH(P22)=11,"Novembre","Décembre")))))))))))) -> Août | L22: =IF(P22="","",DAY(P22)) -> 3 | M22: =IF(P22="","",YEAR(P22)) -> 1934 | N22: R | O22: P | P22: 12634
A23: 132 | B23: Dupart | C23: Béatrice | D23: 157 | E23: 23, Route de Montot | F23: 21170 | G23: St Usage | I23: 672774655 | J23: michel.dupart21@gmail.com | K23: =IF((P23)="","",IF(MONTH(P23)=1,"Janvier",IF(MONTH(P23)=2,"Février",IF(MONTH(P23)=3,"Mars",IF(MONTH(P23)=4,"Avril",IF(MONTH(P23)=5,"Mai",IF(MONTH(P23)=6,"Juin",IF(MONTH(P23)=7,"Juillet",IF(MONTH(P23)=8,"Août",IF(MONTH(P23)=9,"Septembre",IF(MONTH(P23)=10,"Octobre",IF(MONTH(P23)=11,"Novembre","Décembre")))))))))))) -> Novembre | L23: =IF(P23="","",DAY(P23)) -> 29 | M23: =IF(P23="","",YEAR(P23)) -> 1966 | N23: R | O23: P | P23: 24440
A24: 157 | B24: Dupart | C24: Michel | D24: 132 | E24: 23, Route de Montot | F24: 21170 | G24: St Usage | H24: 380290484 | I24: 672774659 | J24: beadupart@neuf.fr | K24: =IF((P24)="","",IF(MONTH(P24)=1,"Janvier",IF(MONTH(P24)=2,"Février",IF(MONTH(P24)=3,"Mars",IF(MONTH(P24)=4,"Avril",IF(MONTH(P24)=5,"Mai",IF(MONTH(P24)=6,"Juin",IF(MONTH(P24)=7,"Juillet",IF(MONTH(P24)=8,"Août",IF(MONTH(P24)=9,"Septembre",IF(MONTH(P24)=10,"Octobre",IF(MONTH(P24)=11,"Novembre","Décembre")))))))))))) -> Mars | L24: =IF(P24="","",DAY(P24)) -> 13 | M24: =IF(P24="","",YEAR(P24)) -> 1965 | N24: R | O24: P | P24: 23814
A25: 143 | B25: Fevre | C25: Virginie | D25: 143 | E25: 15, Rue du Tabourot | F25: 21470 | G25: Brazey en plaine | H25: 380298213 | I25: 607483265 | J25: vffevre@wanadoo.fr | K25: =IF((P25)="","",IF(MONTH(P25)=1,"Janvier",IF(MONTH(P25)=2,"Février",IF(MONTH(P25)=3,"Mars",IF(MONTH(P25)=4,"Avril",IF(MONTH(P25)=5,"Mai",IF(MONTH(P25)=6,"Juin",IF(MONTH(P25)=7,"Juillet",IF(MONTH(P25)=8,"Août",IF(MONTH(P25)=9,"Septembre",IF(MONTH(P25)=10,"Octobre",IF(MONTH(P25)=11,"Novembre","Décembre")))))))))))) -> Août | L25: =IF(P25="","",DAY(P25)) -> 3 | M25: =IF(P25="","",YEAR(P25)) -> 1964 | N25: R | O25: p | P25: 23592
A26: 173 | B26: Gadriot | C26: Daniel | D26: 173 | E26: 17, Rue de Lée | F26: 21110 | G26: Bessey les Citeaux | H26: 380297290 | J26: danielgadriot@sfr.fr | K26: =IF((P26)="","",IF(MONTH(P26)=1,"Janvier",IF(MONTH(P26)=2,"Février",IF(MONTH(P26)=3,"Mars",IF(MONTH(P26)=4,"Avril",IF(MONTH(P26)=5,"Mai",IF(MONTH(P26)=6,"Juin",IF(MONTH(P26)=7,"Juillet",IF(MONTH(P26)=8,"Août",IF(MONTH(P26)=9,"Septembre",IF(MONTH(P26)=10,"Octobre",IF(MONTH(P26)=11,"Novembre","Décembre")))))))))))) -> Juillet | L26: =IF(P26="","",DAY(P26)) -> 1 | M26: =IF(P26="","",YEAR(P26)) -> 1950 | N26: A | O26: G | P26: 18445
A27: 139 | B27: Garaudet | C27: Martine | D27: 139 | E27: Place de Verdun | F27: 21170 | G27: St Jean de Losne | H27: 380392514 | I27: 632630894 | J27: martine.garaudet@orange.fr | K27: =IF((P27)="","",IF(MONTH(P27)=1,"Janvier",IF(MONTH(P27)=2,"Février",IF(MONTH(P27)=3,"Mars",IF(MONTH(P27)=4,"Avril",IF(MONTH(P27)=5,"Mai",IF(MONTH(P27)=6,"Juin",IF(MONTH(P27)=7,"Juillet",IF(MONTH(P27)=8,"Août",IF(MONTH(P27)=9,"Septembre",IF(MONTH(P27)=10,"Octobre",IF(MONTH(P27)=11,"Novembre","Décembre")))))))))))) -> Août | L27: =IF(P27="","",DAY(P27)) -> 19 | M27: =IF(P27="","",YEAR(P27)) -> 1943 | N27: R | O27: P | P27: 15937
A28: 141 | B28: Gaussens | C28: Didier | D28: 141 | E28: N° 2, Lotissement "Entre les moulins" | F28: 21170 | G28: Trouhans | H28: 380392676 | I28: 684783912 | J28: didier.gaussens@neuf.fr | K28: =IF((P28)="","",IF(MONTH(P28)=1,"Janvier",IF(MONTH(P28)=2,"Février",IF(MONTH(P28)=3,"Mars",IF(MONTH(P28)=4,"Avril",IF(MONTH(P28)=5,"Mai",IF(MONTH(P28)=6,"Juin",IF(MONTH(P28)=7,"Juillet",IF(MONTH(P28)=8,"Août",IF(MONTH(P28)=9,"Septembre",IF(MONTH(P28)=10,"Octobre",IF(MONTH(P28)=11,"Novembre","Décembre")))))))))))) -> Mars | L28: =IF(P28="","",DAY(P28)) -> 7 | M28: =IF(P28="","",YEAR(P28)) -> 1952 | N28: R | O28: P | P28: 19060
A29: 34 | B29: Gautheron | C29: Claude | D29: 34 | E29: 2, Rue des lilas | F29: 21170 | G29: Losne | H29: 380291147 | I29: 616900396 | J29: gautheroncl@wanadoo.fr | K29: =IF((P29)="","",IF(MONTH(P29)=1,"Janvier",IF(MONTH(P29)=2,"Février",IF(MONTH(P29)=3,"Mars",IF(MONTH(P29)=4,"Avril",IF(MONTH(P29)=5,"Mai",IF(MONTH(P29)=6,"Juin",IF(MONTH(P29)=7,"Juillet",IF(MONTH(P29)=8,"Août",IF(MONTH(P29)=9,"Septembre",IF(MONTH(P29)=10,"Octobre",IF(MONTH(P29)=11,"Novembre","Décembre")))))))))))) -> Février | L29: =IF(P29="","",DAY(P29)) -> 16 | M29: =IF(P29="","",YEAR(P29)) -> 1937 | N29: R | O29: P | P29: 13562
A30: 184 | B30: Gautheron | C30: Valérie | D30: 184 | E30: 130, Route de Dijon | F30: 21470 | G30: Brazey en plaine | H30: 380298464 | J30: gautheronpvayc@aol.com | K30: =IF((P30)="","",IF(MONTH(P30)=1,"Janvier",IF(MONTH(P30)=2,"Février",IF(MONTH(P30)=3,"Mars",IF(MONTH(P30)=4,"Avril",IF(MONTH(P30)=5,"Mai",IF(MONTH(P30)=6,"Juin",IF(MONTH(P30)=7,"Juillet",IF(MONTH(P30)=8,"Août",IF(MONTH(P30)=9,"Septembre",IF(MONTH(P30)=10,"Octobre",IF(MONTH(P30)=11,"Novembre","Décembre")))))))))))) -> Septembre | L30: =IF(P30="","",DAY(P30)) -> 9 | M30: =IF(P30="","",YEAR(P30)) -> 1965 | N30: A | O30: P | P30: 23994
A31: 122 | B31: Hory | C31: Patricia | D31: 122 | E31: 8, Place de l'Hotel de ville | F31: 21470 | G31: Brazey en plaine | H31: 380298050 | I31: 607060118 | K31: =IF((P31)="","",IF(MONTH(P31)=1,"Janvier",IF(MONTH(P31)=2,"Février",IF(MONTH(P31)=3,"Mars",IF(MONTH(P31)=4,"Avril",IF(MONTH(P31)=5,"Mai",IF(MONTH(P31)=6,"Juin",IF(MONTH(P31)=7,"Juillet",IF(MONTH(P31)=8,"Août",IF(MONTH(P31)=9,"Septembre",IF(MONTH(P31)=10,"Octobre",IF(MONTH(P31)=11,"Novembre","Décembre")))))))))))) -> Mars | L31: =IF(P31="","",DAY(P31)) -> 19 | M31: =IF(P31="","",YEAR(P31)) -> 1965 | N31: R | O31: P | P31: 23820
A32: 130 | B32: Jacotot | C32: Louis-Nicolas | D32: 130 | E32: 3, Grande rue | F32: 21250 | G32: Bonnencontre | H32: 380363174 | J32: louisnicolas21250@gmail.com | K32: =IF((P32)="","",IF(MONTH(P32)=1,"Janvier",IF(MONTH(P32)=2,"Février",IF(MONTH(P32)=3,"Mars",IF(MONTH(P32)=4,"Avril",IF(MONTH(P32)=5,"Mai",IF(MONTH(P32)=6,"Juin",IF(MONTH(P32)=7,"Juillet",IF(MONTH(P32)=8,"Août",IF(MONTH(P32)=9,"Septembre",IF(MONTH(P32)=10,"Octobre",IF(MONTH(P32)=11,"Novembre","Décembre")))))))))))) -> Avril | L32: =IF(P32="","",DAY(P32)) -> 22 | M32: =IF(P32="","",YEAR(P32)) -> 1998 | N32: R | O32: P | P32: 35907
A33: 120 | B33: Jacoutot | C33: Jean | D33: 120 | E33: 19, Rue des gardes | F33: 39410 | G33: St Aubin (39) | H33: 384700232 | I33: 699625739 | J33: jean.jacoutot@free.fr | K33: =IF((P33)="","",IF(MONTH(P33)=1,"Janvier",IF(MONTH(P33)=2,"Février",IF(MONTH(P33)=3,"Mars",IF(MONTH(P33)=4,"Avril",IF(MONTH(P33)=5,"Mai",IF(MONTH(P33)=6,"Juin",IF(MONTH(P33)=7,"Juillet",IF(MONTH(P33)=8,"Août",IF(MONTH(P33)=9,"Septembre",IF(MONTH(P33)=10,"Octobre",IF(MONTH(P33)=11,"Novembre","Décembre")))))))))))) -> Novembre | L33: =IF(P33="","",DAY(P33)) -> 22 | M33: =IF(P33="","",YEAR(P33)) -> 1951 | N33: R | O33: P | P33: 18954
A34: 36 | B34: Jan | C34: Louis | D34: 36 | E34: 5, Route de Trouhans | F34: 21170 | G34: St Usage | H34: 380392269 | J34: jan.louis2@orange.fr | K34: =IF((P34)="","",IF(MONTH(P34)=1,"Janvier",IF(MONTH(P34)=2,"Février",IF(MONTH(P34)=3,"Mars",IF(MONTH(P34)=4,"Avril",IF(MONTH(P34)=5,"Mai",IF(MONTH(P34)=6,"Juin",IF(MONTH(P34)=7,"Juillet",IF(MONTH(P34)=8,"Août",IF(MONTH(P34)=9,"Septembre",IF(MONTH(P34)=10,"Octobre",IF(MONTH(P34)=11,"Novembre","Décembre")))))))))))) -> Février | L34: =IF(P34="","",DAY(P34)) -> 11 | M34: =IF(P34="","",YEAR(P34)) -> 1923 | N34: R | O34: P | P34: 8443
A35: 37 | B35: Lacreuse | C35: Gérard | D35: 37 | E35: 1, Rue Sainte Barbe | F35: 21250 | G35: Seurre | H35: 380211007 | J35: anglacreuse@orange.fr | K35: =IF((P35)="","",IF(MONTH(P35)=1,"Janvier",IF(MONTH(P35)=2,"Février",IF(MONTH(P35)=3,"Mars",IF(MONTH(P35)=4,"Avril",IF(MONTH(P35)=5,"Mai",IF(MONTH(P35)=6,"Juin",IF(MONTH(P35)=7,"Juillet",IF(MONTH(P35)=8,"Août",IF(MONTH(P35)=9,"Septembre",IF(MONTH(P35)=10,"Octobre",IF(MONTH(P35)=11,"Novembre","Décembre")))))))))))) -> Octobre | L35: =IF(P35="","",DAY(P35)) -> 14 | M35: =IF(P35="","",YEAR(P35)) -> 1947 | N35: R | P35: 17454
A36: 145 | B36: Lapostolle | C36: François | D36: 145 | E36: 6, Rue Degrange | F36: 21170 | G36: Trouhans | H36: 380291311 | I36: 673717837 | K36: =IF((P36)="","",IF(MONTH(P36)=1,"Janvier",IF(MONTH(P36)=2,"Février",IF(MONTH(P36)=3,"Mars",IF(MONTH(P36)=4,"Avril",IF(MONTH(P36)=5,"Mai",IF(MONTH(P36)=6,"Juin",IF(MONTH(P36)=7,"Juillet",IF(MONTH(P36)=8,"Août",IF(MONTH(P36)=9,"Septembre",IF(MONTH(P36)=10,"Octobre",IF(MONTH(P36)=11,"Novembre","Décembre")))))))))))) -> Décembre | L36: =IF(P36="","",DAY(P36)) -> 4 | M36: =IF(P36="","",YEAR(P36)) -> 1937 | N36: R | O36: P | P36: 13853
A37: 40 | B37: Legros | C37: Lucien | D37: 40 | E37: 66, Grande rue | F37: 21250 | G37: Pagny la Ville | H37: 380363191 | J37: legros.lucien@wanadoo.fr | K37: =IF((P37)="","",IF(MONTH(P37)=1,"Janvier",IF(MONTH(P37)=2,"Février",IF(MONTH(P37)=3,"Mars",IF(MONTH(P37)=4,"Avril",IF(MONTH(P37)=5,"Mai",IF(MONTH(P37)=6,"Juin",IF(MONTH(P37)=7,"Juillet",IF(MONTH(P37)=8,"Août",IF(MONTH(P37)=9,"Septembre",IF(MONTH(P37)=10,"Octobre",IF(MONTH(P37)=11,"Novembre","Décembre")))))))))))) -> Février | L37: =IF(P37="","",DAY(P37)) -> 16 | M37: =IF(P37="","",YEAR(P37)) -> 1933 | N37: R | O37: P | P37: 12101
A38: 161 | B38: Lerondeau | C38: Michele | D38: 161 | E38: 3, Rue due Beauraing | F38: 21250 | G38: Seurre | H38: 380211650 | J38: lerondeau_metm@yahoo.fr | K38: =IF((P38)="","",IF(MONTH(P38)=1,"Janvier",IF(MONTH(P38)=2,"Février",IF(MONTH(P38)=3,"Mars",IF(MONTH(P38)=4,"Avril",IF(MONTH(P38)=5,"Mai",IF(MONTH(P38)=6,"Juin",IF(MONTH(P38)=7,"Juillet",IF(MONTH(P38)=8,"Août",IF(MONTH(P38)=9,"Septembre",IF(MONTH(P38)=10,"Octobre",IF(MONTH(P38)=11,"Novembre","Décembre")))))))))))) -> Juin | L38: =IF(P38="","",DAY(P38)) -> 25 | M38: =IF(P38="","",YEAR(P38)) -> 1950 | N38: R | O38: P | P38: 18439
A39: 95 | B39: Leroux | C39: Patrick | D39: 95 | E39: 8, Place de l'Hotel de ville | F39: 21470 | G39: Brazey en plaine | H39: 380298050 | I39: 646270075 | J39: patrick.leroux21470@gmail.com | K39: =IF((P39)="","",IF(MONTH(P39)=1,"Janvier",IF(MONTH(P39)=2,"Février",IF(MONTH(P39)=3,"Mars",IF(MONTH(P39)=4,"Avril",IF(MONTH(P39)=5,"Mai",IF(MONTH(P39)=6,"Juin",IF(MONTH(P39)=7,"Juillet",IF(MONTH(P39)=8,"Août",IF(MONTH(P39)=9,"Septembre",IF(MONTH(P39)=10,"Octobre",IF(MONTH(P39)=11,"Novembre","Décembre")))))))))))) -> Janvier | L39: =IF(P39="","",DAY(P39)) -> 12 | M39: =IF(P39="","",YEAR(P39)) -> 1954 | N39: R | O39: P | P39: 19736
A40: 158 | B40: Lhuillier | C40: Paul | D40: 158 | E40: 6, Rue des Séves | F40: 21170 | G40: Echenon | H40: 380291890 | J40: paul.elisabeth0822@orange.fr | K40: =IF((P40)="","",IF(MONTH(P40)=1,"Janvier",IF(MONTH(P40)=2,"Février",IF(MONTH(P40)=3,"Mars",IF(MONTH(P40)=4,"Avril",IF(MONTH(P40)=5,"Mai",IF(MONTH(P40)=6,"Juin",IF(MONTH(P40)=7,"Juillet",IF(MONTH(P40)=8,"Août",IF(MONTH(P40)=9,"Septembre",IF(MONTH(P40)=10,"Octobre",IF(MONTH(P40)=11,"Novembre","Décembre")))))))))))) -> Septembre | L40: =IF(P40="","",DAY(P40)) -> 23 | M40: =IF(P40="","",YEAR(P40)) -> 1951 | N40: R | O40: P | P40: 18894
A41: 176 | B41: Marin | C41: Paul | D41: 176 | E41: 67, Grande rue | F41: 21130 | G41: Champdotre | H41: 380394089 | K41: =IF((P41)="","",IF(MONTH(P41)=1,"Janvier",IF(MONTH(P41)=2,"Février",IF(MONTH(P41)=3,"Mars",IF(MONTH(P41)=4,"Avril",IF(MONTH(P41)=5,"Mai",IF(MONTH(P41)=6,"Juin",IF(MONTH(P41)=7,"Juillet",IF(MONTH(P41)=8,"Août",IF(MONTH(P41)=9,"Septembre",IF(MONTH(P41)=10,"Octobre",IF(MONTH(P41)=11,"Novembre","Décembre")))))))))))) -> Décembre | L41: =IF(P41="","",DAY(P41)) -> 1 | M41: =IF(P41="","",YEAR(P41)) -> 1938 | N41: A | O41: P | P41: 14215
A42: 125 | B42: Martiny | C42: Jean-Pierre | D42: 125 | E42: 43, Rue de Seurre | F42: 21170 | G42: Losne | H42: 380390805 | J42: jean-pierre.martiny21@orange.fr | K42: =IF((P42)="","",IF(MONTH(P42)=1,"Janvier",IF(MONTH(P42)=2,"Février",IF(MONTH(P42)=3,"Mars",IF(MONTH(P42)=4,"Avril",IF(MONTH(P42)=5,"Mai",IF(MONTH(P42)=6,"Juin",IF(MONTH(P42)=7,"Juillet",IF(MONTH(P42)=8,"Août",IF(MONTH(P42)=9,"Septembre",IF(MONTH(P42)=10,"Octobre",IF(MONTH(P42)=11,"Novembre","Décembre")))))))))))) -> Septembre | L42: =IF(P42="","",DAY(P42)) -> 23 | M42: =IF(P42="","",YEAR(P42)) -> 1942 | N42: R | O42: P | P42: 15607
A43: 169 | B43: Michaudet | C43: Denise | D43: 169 | E43: 1Bis, Rue du pasquier | F43: 39410 | G43: St Aubin (39) | H43: 384700310 | J43: denise.michaudet@laposte.net | K43: =IF((P43)="","",IF(MONTH(P43)=1,"Janvier",IF(MONTH(P43)=2,"Février",IF(MONTH(P43)=3,"Mars",IF(MONTH(P43)=4,"Avril",IF(MONTH(P43)=5,"Mai",IF(MONTH(P43)=6,"Juin",IF(MONTH(P43)=7,"Juillet",IF(MONTH(P43)=8,"Août",IF(MONTH(P43)=9,"Septembre",IF(MONTH(P43)=10,"Octobre",IF(MONTH(P43)=11,"Novembre","Décembre")))))))))))) -> Avril | L43: =IF(P43="","",DAY(P43)) -> 23 | M43: =IF(P43="","",YEAR(P43)) -> 1950 | N43: A | O43: P | P43: 18376
A44: 174 | B44: Midol-Monnet | C44: Thérèse | D44: 174 | E44: 2, Rue du champ de Pain | F44: 21250 | G44: Jallanges | H44: 380904152 | J44: henri.midol-monnet@orange.fr | K44: =IF((P44)="","",IF(MONTH(P44)=1,"Janvier",IF(MONTH(P44)=2,"Février",IF(MONTH(P44)=3,"Mars",IF(MONTH(P44)=4,"Avril",IF(MONTH(P44)=5,"Mai",IF(MONTH(P44)=6,"Juin",IF(MONTH(P44)=7,"Juillet",IF(MONTH(P44)=8,"Août",IF(MONTH(P44)=9,"Septembre",IF(MONTH(P44)=10,"Octobre",IF(MONTH(P44)=11,"Novembre","Décembre")))))))))))) -> Juillet | L44: =IF(P44="","",DAY(P44)) -> 26 | M44: =IF(P44="","",YEAR(P44)) -> 1942 | N44: A | O44: P | P44: 15548
A45: 187 | B45: Mielniczuk | C45: Jeannine | D45: 187 | E45: 2, Route de Beaune | F45: 21170 | G45: St Usage | H45: 380291583 | J45: gerard.mielniczuk@dbmail.com | K45: =IF((P45)="","",IF(MONTH(P45)=1,"Janvier",IF(MONTH(P45)=2,"Février",IF(MONTH(P45)=3,"Mars",IF(MONTH(P45)=4,"Avril",IF(MONTH(P45)=5,"Mai",IF(MONTH(P45)=6,"Juin",IF(MONTH(P45)=7,"Juillet",IF(MONTH(P45)=8,"Août",IF(MONTH(P45)=9,"Septembre",IF(MONTH(P45)=10,"Octobre",IF(MONTH(P45)=11,"Novembre","Décembre")))))))))))) -> Décembre | L45: =IF(P45="","",DAY(P45)) -> 26 | M45: =IF(P45="","",YEAR(P45)) -> 1946 | N45: A | O45: P | P45: 17162
A46: 182 | B46: Moissenet | C46: Michel | D46: 182 | E46: 10, Rue des Roses | F46: 21110 | G46: Aiserey | H46: 380297830 | K46: =IF((P46)="","",IF(MONTH(P46)=1,"Janvier",IF(MONTH(P46)=2,"Février",IF(MONTH(P46)=3,"Mars",IF(MONTH(P46)=4,"Avril",IF(MONTH(P46)=5,"Mai",IF(MONTH(P46)=6,"Juin",IF(MONTH(P46)=7,"Juillet",IF(MONTH(P46)=8,"Août",IF(MONTH(P46)=9,"Septembre",IF(MONTH(P46)=10,"Octobre",IF(MONTH(P46)=11,"Novembre","Décembre")))))))))))) -> Novembre | L46: =IF(P46="","",DAY(P46)) -> 28 | M46: =IF(P46="","",YEAR(P46)) -> 1949 | N46: A | O46: P | P46: 18230
A47: 121 | B47: Monot | C47: Sylvie | D47: 121 | E47: Rue du Tissage | F47: 21470 | G47: Brazey en plaine | H47: 380298859 | I47: 677027216 | J47: lepetitgalopin21@free.fr | K47: =IF((P47)="","",IF(MONTH(P47)=1,"Janvier",IF(MONTH(P47)=2,"Février",IF(MONTH(P47)=3,"Mars",IF(MONTH(P47)=4,"Avril",IF(MONTH(P47)=5,"Mai",IF(MONTH(P47)=6,"Juin",IF(MONTH(P47)=7,"Juillet",IF(MONTH(P47)=8,"Août",IF(MONTH(P47)=9,"Septembre",IF(MONTH(P47)=10,"Octobre",IF(MONTH(P47)=11,"Novembre","Décembre")))))))))))) -> Octobre | L47: =IF(P47="","",DAY(P47)) -> 28 | M47: =IF(P47="","",YEAR(P47)) -> 1956 | N47: R | O47: P | P47: 20756
A48: 44 | B48: Moreux | C48: Richard | D48: 44 | E48: 4, Rue du château | F48: 21110 | G48: Bessey les Citeaux | H48: 380297726 | I48: 662937092 | J48: richardmoreux@aol.com | K48: =IF((P48)="","",IF(MONTH(P48)=1,"Janvier",IF(MONTH(P48)=2,"Février",IF(MONTH(P48)=3,"Mars",IF(MONTH(P48)=4,"Avril",IF(MONTH(P48)=5,"Mai",IF(MONTH(P48)=6,"Juin",IF(MONTH(P48)=7,"Juillet",IF(MONTH(P48)=8,"Août",IF(MONTH(P48)=9,"Septembre",IF(MONTH(P48)=10,"Octobre",IF(MONTH(P48)=11,"Novembre","Décembre")))))))))))) -> Août | L48: =IF(P48="","",DAY(P48)) -> 21 | M48: =IF(P48="","",YEAR(P48)) -> 1949 | N48: R | P48: 18131
A49: 142 | B49: Nicolas | C49: Monique | D49: 142 | E49: 125, Route de St Jean de Losne | F49: 21470 | G49: Brazey en plaine | H49: 380299421 | K49: =IF((P49)="","",IF(MONTH(P49)=1,"Janvier",IF(MONTH(P49)=2,"Février",IF(MONTH(P49)=3,"Mars",IF(MONTH(P49)=4,"Avril",IF(MONTH(P49)=5,"Mai",IF(MONTH(P49)=6,"Juin",IF(MONTH(P49)=7,"Juillet",IF(MONTH(P49)=8,"Août",IF(MONTH(P49)=9,"Septembre",IF(MONTH(P49)=10,"Octobre",IF(MONTH(P49)=11,"Novembre","Décembre")))))))))))) -> Mars | L49: =IF(P49="","",DAY(P49)) -> 12 | M49: =IF(P49="","",YEAR(P49)) -> 1948 | N49: R | O49: P | P49: 17604
A50: 168 | B50: Once Duthoit | C50: Marie-France | D50: 168 | E50: 3, Chemin des Calotier | F50: 21170 | G50: St Jean de Losne | I50: 660021584 | K50: =IF((P50)="","",IF(MONTH(P50)=1,"Janvier",IF(MONTH(P50)=2,"Février",IF(MONTH(P50)=3,"Mars",IF(MONTH(P50)=4,"Avril",IF(MONTH(P50)=5,"Mai",IF(MONTH(P50)=6,"Juin",IF(MONTH(P50)=7,"Juillet",IF(MONTH(P50)=8,"Août",IF(MONTH(P50)=9,"Septembre",IF(MONTH(P50)=10,"Octobre",IF(MONTH(P50)=11,"Novembre","Décembre")))))))))))) -> Juillet | L50: =IF(P50="","",DAY(P50)) -> 5 | M50: =IF(P50="","",YEAR(P50)) -> 1947 | N50: A | O50: P | P50: 17353
A51: 107 | B51: Pamart | C51: Alain | D51: 107 | E51: 9, Rue champ Baudot | F51: 21170 | G51: Echenon | H51: 380343871 | J51: pamartalain@neuf.fr | K51: =IF((P51)="","",IF(MONTH(P51)=1,"Janvier",IF(MONTH(P51)=2,"Février",IF(MONTH(P51)=3,"Mars",IF(MONTH(P51)=4,"Avril",IF(MONTH(P51)=5,"Mai",IF(MONTH(P51)=6,"Juin",IF(MONTH(P51)=7,"Juillet",IF(MONTH(P51)=8,"Août",IF(MONTH(P51)=9,"Septembre",IF(MONTH(P51)=10,"Octobre",IF(MONTH(P51)=11,"Novembre","Décembre")))))))))))) -> Mai | L51: =IF(P51="","",DAY(P51)) -> 6 | M51: =IF(P51="","",YEAR(P51)) -> 1944 | N51: R | O51: P | P51: 16198
A52: 181 | B52: Pascanet | C52: Odile | D52: 181 | E52: 3, Rue dues Meix | F52: 21150 | G52: Chamblanc | I52: 672388947 | K52: =IF((P52)="","",IF(MONTH(P52)=1,"Janvier",IF(MONTH(P52)=2,"Février",IF(MONTH(P52)=3,"Mars",IF(MONTH(P52)=4,"Avril",IF(MONTH(P52)=5,"Mai",IF(MONTH(P52)=6,"Juin",IF(MONTH(P52)=7,"Juillet",IF(MONTH(P52)=8,"Août",IF(MONTH(P52)=9,"Septembre",IF(MONTH(P52)=10,"Octobre",IF(MONTH(P52)=11,"Novembre","Décembre")))))))))))) -> Septembre | L52: =IF(P52="","",DAY(P52)) -> 25 | M52: =IF(P52="","",YEAR(P52)) -> 1960 | N52: A | O52: P | P52: 22184
A53: 167 | B53: Peillon | C53: Frédérique | D53: 167 | E53: 4, Rue Croix Bressand | F53: 21170 | G53: St Usage | H53: 380392243 | K53: =IF((P53)="","",IF(MONTH(P53)=1,"Janvier",IF(MONTH(P53)=2,"Février",IF(MONTH(P53)=3,"Mars",IF(MONTH(P53)=4,"Avril",IF(MONTH(P53)=5,"Mai",IF(MONTH(P53)=6,"Juin",IF(MONTH(P53)=7,"Juillet",IF(MONTH(P53)=8,"Août",IF(MONTH(P53)=9,"Septembre",IF(MONTH(P53)=10,"Octobre",IF(MONTH(P53)=11,"Novembre","Décembre")))))))))))) | L53: =IF(P53="","",DAY(P53)) | M53: =IF(P53="","",YEAR(P53)) | N53: A | O53: P
A54: 149 | B54: Pouthier | C54: Chantal | D54: 149 | E54: 12, Route de Dijon | F54: 39410 | G54: St Aubin (39) | H54: 384701643 | I54: 668826908 | J54: c.pouthier@club-Internet.fr | K54: =IF((P54)="","",IF(MONTH(P54)=1,"Janvier",IF(MONTH(P54)=2,"Février",IF(MONTH(P54)=3,"Mars",IF(MONTH(P54)=4,"Avril",IF(MONTH(P54)=5,"Mai",IF(MONTH(P54)=6,"Juin",IF(MONTH(P54)=7,"Juillet",IF(MONTH(P54)=8,"Août",IF(MONTH(P54)=9,"Septembre",IF(MONTH(P54)=10,"Octobre",IF(MONTH(P54)=11,"Novembre","Décembre")))))))))))) -> Août | L54: =IF(P54="","",DAY(P54)) -> 17 | M54: =IF(P54="","",YEAR(P54)) -> 1948 | N54: R | O54: P | P54: 17762
A55: 113 | B55: Renard | C55: Georges | D55: 113 | E55: 7, Rue du champ Baudot | F55: 21170 | G55: Echenon | H55: 380779267 | J55: gren2@neuf.fr | K55: =IF((P55)="","",IF(MONTH(P55)=1,"Janvier",IF(MONTH(P55)=2,"Février",IF(MONTH(P55)=3,"Mars",IF(MONTH(P55)=4,"Avril",IF(MONTH(P55)=5,"Mai",IF(MONTH(P55)=6,"Juin",IF(MONTH(P55)=7,"Juillet",IF(MONTH(P55)=8,"Août",IF(MONTH(P55)=9,"Septembre",IF(MONTH(P55)=10,"Octobre",IF(MONTH(P55)=11,"Novembre","Décembre")))))))))))) -> Novembre | L55: =IF(P55="","",DAY(P55)) -> 23 | M55: =IF(P55="","",YEAR(P55)) -> 1936 | N55: R | P55: 13477
A56: 166 | B56: Riffet | C56: Nicole | D56: 166 | E56: 65, Rue de la saône | F56: 21170 | G56: Losne | H56: 380291345 | J56: nicole.riffet@wanadoo.fr | K56: =IF((P56)="","",IF(MONTH(P56)=1,"Janvier",IF(MONTH(P56)=2,"Février",IF(MONTH(P56)=3,"Mars",IF(MONTH(P56)=4,"Avril",IF(MONTH(P56)=5,"Mai",IF(MONTH(P56)=6,"Juin",IF(MONTH(P56)=7,"Juillet",IF(MONTH(P56)=8,"Août",IF(MONTH(P56)=9,"Septembre",IF(MONTH(P56)=10,"Octobre",IF(MONTH(P56)=11,"Novembre","Décembre")))))))))))) -> Décembre | L56: =IF(P56="","",DAY(P56)) -> 7 | M56: =IF(P56="","",YEAR(P56)) -> 1953 | N56: A | O56: P | P56: 19700
A57: 165 | B57: Schoutith | C57: Michelle | D57: 165 | E57: 33, Rue de l'oucherotte | F57: 21110 | G57: Aiserey | H57: 380297135 | I57: 621455848 | K57: =IF((P57)="","",IF(MONTH(P57)=1,"Janvier",IF(MONTH(P57)=2,"Février",IF(MONTH(P57)=3,"Mars",IF(MONTH(P57)=4,"Avril",IF(MONTH(P57)=5,"Mai",IF(MONTH(P57)=6,"Juin",IF(MONTH(P57)=7,"Juillet",IF(MONTH(P57)=8,"Août",IF(MONTH(P57)=9,"Septembre",IF(MONTH(P57)=10,"Octobre",IF(MONTH(P57)=11,"Novembre","Décembre")))))))))))) -> Décembre | L57: =IF(P57="","",DAY(P57)) -> 1 | M57: =IF(P57="","",YEAR(P57)) -> 1945 | N57: A | O57: P | P57: 16772
A58: 61 | B58: Thiebeaux | C58: Chantal | D58: 61 | E58: 20, Route de Dijon | F58: 21470 | G58: Brazey en plaine | H58: 380299528 | J58: mamiebrazey@aliceadsl.fr | K58: =IF((P58)="","",IF(MONTH(P58)=1,"Janvier",IF(MONTH(P58)=2,"Février",IF(MONTH(P58)=3,"Mars",IF(MONTH(P58)=4,"Avril",IF(MONTH(P58)=5,"Mai",IF(MONTH(P58)=6,"Juin",IF(MONTH(P58)=7,"Juillet",IF(MONTH(P58)=8,"Août",IF(MONTH(P58)=9,"Septembre",IF(MONTH(P58)=10,"Octobre",IF(MONTH(P58)=11,"Novembre","Décembre")))))))))))) -> Mai | L58: =IF(P58="","",DAY(P58)) -> 26 | M58: =IF(P58="","",YEAR(P58)) -> 1939 | N58: R | P58: 14391
A59: 148 | B59: Vauchet | C59: Georgette | D59: 148 | E59: 3 Bis, Rue des Bois | F59: 39410 | G59: St Aubin (39) | H59: 384700758 | I59: 684100856 | K59: =IF((P59)="","",IF(MONTH(P59)=1,"Janvier",IF(MONTH(P59)=2,"Février",IF(MONTH(P59)=3,"Mars",IF(MONTH(P59)=4,"Avril",IF(MONTH(P59)=5,"Mai",IF(MONTH(P59)=6,"Juin",IF(MONTH(P59)=7,"Juillet",IF(MONTH(P59)=8,"Août",IF(MONTH(P59)=9,"Septembre",IF(MONTH(P59)=10,"Octobre",IF(MONTH(P59)=11,"Novembre","Décembre")))))))))))) -> Novembre | L59: =IF(P59="","",DAY(P59)) -> 21 | M59: =IF(P59="","",YEAR(P59)) -> 1948 | N59: R | O59: P | P59: 17858
A60: 138 | B60: Villemin | C60: Janine | D60: 138 | E60: 10, Rue du port | F60: 21470 | G60: Brazey en plaine | H60: 380298487 | I60: 622881874 | J60: janine.villemin@gmail.fr | K60: =IF((P60)="","",IF(MONTH(P60)=1,"Janvier",IF(MONTH(P60)=2,"Février",IF(MONTH(P60)=3,"Mars",IF(MONTH(P60)=4,"Avril",IF(MONTH(P60)=5,"Mai",IF(MONTH(P60)=6,"Juin",IF(MONTH(P60)=7,"Juillet",IF(MONTH(P60)=8,"Août",IF(MONTH(P60)=9,"Septembre",IF(MONTH(P60)=10,"Octobre",IF(MONTH(P60)=11,"Novembre","Décembre")))))))))))) -> Juin | L60: =IF(P60="","",DAY(P60)) -> 5 | M60: =IF(P60="","",YEAR(P60)) -> 1937 | N60: R | O60: P | P60: 13671
A61: 180 | B61: Vuillemin | C61: Lilyane | D61: 180 | E61: 2, Route de Citeaux | F61: 21170 | G61: Aubigny en Plaine | H61: 380298028 | J61: lilyane21170@live.fr | K61: =IF((P61)="","",IF(MONTH(P61)=1,"Janvier",IF(MONTH(P61)=2,"Février",IF(MONTH(P61)=3,"Mars",IF(MONTH(P61)=4,"Avril",IF(MONTH(P61)=5,"Mai",IF(MONTH(P61)=6,"Juin",IF(MONTH(P61)=7,"Juillet",IF(MONTH(P61)=8,"Août",IF(MONTH(P61)=9,"Septembre",IF(MONTH(P61)=10,"Octobre",IF(MONTH(P61)=11,"Novembre","Décembre")))))))))))) -> Mai | L61: =IF(P61="","",DAY(P61)) -> 28 | M61: =IF(P61="","",YEAR(P61)) -> 1961 | N61: A | O61: P | P61: 22429
A62: 117 | B62: Winter | C62: Michel | D62: 117 | E62: 22, Rue du Brevail | F62: 21470 | G62: Brazey en plaine | H62: 380299416 | J62: michel.winter123@orange.fr | K62: =IF((P62)="","",IF(MONTH(P62)=1,"Janvier",IF(MONTH(P62)=2,"Février",IF(MONTH(P62)=3,"Mars",IF(MONTH(P62)=4,"Avril",IF(MONTH(P62)=5,"Mai",IF(MONTH(P62)=6,"Juin",IF(MONTH(P62)=7,"Juillet",IF(MONTH(P62)=8,"Août",IF(MONTH(P62)=9,"Septembre",IF(MONTH(P62)=10,"Octobre",IF(MONTH(P62)=11,"Novembre","Décembre")))))))))))) -> Septembre | L62: =IF(P62="","",DAY(P62)) -> 15 | M62: =IF(P62="","",YEAR(P62)) -> 1934 | N62: R | O62: P | P62: 12677
B65: Total = | C65: 59 | D65: Adhérents
B66: Dont : | C66: 24 | D66: Nouveaux
A69: En Gras : Les membres du bureau | D69: En Gras : Les membres du bureau | F69: En Bleu Gras : Les Animateurs

Sheet 2010-2011
B2: Nom | C2: Prénom | D2: N° Carte | E2: Adresse | F2: CP | G2: Ville | H2: Téléphone | I2: Portable | J2: Email | K2: Date Naiss | N2: A ou R | P2: Date
K3: Mois | L3: Jour | M3: Année
A4: 192 | B4: Agostini | C4: Christiane | D4: 192 | K4: =IF((P4)="","",IF(MONTH(P4)=1,"Janvier",IF(MONTH(P4)=2,"Février",IF(MONTH(P4)=3,"Mars",IF(MONTH(P4)=4,"Avril",IF(MONTH(P4)=5,"Mai",IF(MONTH(P4)=6,"Juin",IF(MONTH(P4)=7,"Juillet",IF(MONTH(P4)=8,"Août",IF(MONTH(P4)=9,"Septembre",IF(MONTH(P4)=10,"Octobre",IF(MONTH(P4)=11,"Novembre","Décembre")))))))))))) -> Septembre | L4: =IF(P4="","",DAY(P4)) -> 17 | M4: =IF(P4="","",YEAR(P4)) -> 1952 | N4: A | O4: P | P4: 19254
A5: 210 | B5: Agostini | C5: Séverine | D5: 210 | K5: =IF((P5)="","",IF(MONTH(P5)=1,"Janvier",IF(MONTH(P5)=2,"Février",IF(MONTH(P5)=3,"Mars",IF(MONTH(P5)=4,"Avril",IF(MONTH(P5)=5,"Mai",IF(MONTH(P5)=6,"Juin",IF(MONTH(P5)=7,"Juillet",IF(MONTH(P5)=8,"Août",IF(MONTH(P5)=9,"Septembre",IF(MONTH(P5)=10,"Octobre",IF(MONTH(P5)=11,"Novembre","Décembre")))))))))))) -> Janvier | L5: =IF(P5="","",DAY(P5)) -> 2 | M5: =IF(P5="","",YEAR(P5)) -> 1975 | N5: A | O5: P | P5: 27396
A6: 4 | B6: Beherec | C6: Franck | D6: 4 | K6: =IF((P6)="","",IF(MONTH(P6)=1,"Janvier",IF(MONTH(P6)=2,"Février",IF(MONTH(P6)=3,"Mars",IF(MONTH(P6)=4,"Avril",IF(MONTH(P6)=5,"Mai",IF(MONTH(P6)=6,"Juin",IF(MONTH(P6)=7,"Juillet",IF(MONTH(P6)=8,"Août",IF(MONTH(P6)=9,"Septembre",IF(MONTH(P6)=10,"Octobre",IF(MONTH(P6)=11,"Novembre","Décembre")))))))))))) -> Octobre | L6: =IF(P6="","",DAY(P6)) -> 24 | M6: =IF(P6="","",YEAR(P6)) -> 1967 | N6: R | O6: Ani | P6: 24769
A7: 207 | B7: Boisseaux | C7: Jocelyne | D7: 207 | K7: =IF((P7)="","",IF(MONTH(P7)=1,"Janvier",IF(MONTH(P7)=2,"Février",IF(MONTH(P7)=3,"Mars",IF(MONTH(P7)=4,"Avril",IF(MONTH(P7)=5,"Mai",IF(MONTH(P7)=6,"Juin",IF(MONTH(P7)=7,"Juillet",IF(MONTH(P7)=8,"Août",IF(MONTH(P7)=9,"Septembre",IF(MONTH(P7)=10,"Octobre",IF(MONTH(P7)=11,"Novembre","Décembre")))))))))))) -> Février | L7: =IF(P7="","",DAY(P7)) -> 25 | M7: =IF(P7="","",YEAR(P7)) -> 1958 | N7: A | O7: P | P7: 21241
A8: 193 | B8: Bougaud | C8: Chantal | D8: 193 | K8: =IF((P8)="","",IF(MONTH(P8)=1,"Janvier",IF(MONTH(P8)=2,"Février",IF(MONTH(P8)=3,"Mars",IF(MONTH(P8)=4,"Avril",IF(MONTH(P8)=5,"Mai",IF(MONTH(P8)=6,"Juin",IF(MONTH(P8)=7,"Juillet",IF(MONTH(P8)=8,"Août",IF(MONTH(P8)=9,"Septembre",IF(MONTH(P8)=10,"Octobre",IF(MONTH(P8)=11,"Novembre","Décembre")))))))))))) -> Décembre | L8: =IF(P8="","",DAY(P8)) -> 28 | M8: =IF(P8="","",YEAR(P8)) -> 1951 | N8: A | O8: P | P8: 18990
A9: 219 | B9: Briselance | C9: Denise | D9: 219 | K9: =IF((P9)="","",IF(MONTH(P9)=1,"Janvier",IF(MONTH(P9)=2,"Février",IF(MONTH(P9)=3,"Mars",IF(MONTH(P9)=4,"Avril",IF(MONTH(P9)=5,"Mai",IF(MONTH(P9)=6,"Juin",IF(MONTH(P9)=7,"Juillet",IF(MONTH(P9)=8,"Août",IF(MONTH(P9)=9,"Septembre",IF(MONTH(P9)=10,"Octobre",IF(MONTH(P9)=11,"Novembre","Décembre")))))))))))) -> Avril | L9: =IF(P9="","",DAY(P9)) -> 4 | M9: =IF(P9="","",YEAR(P9)) -> 1951 | N9: A | O9: P | P9: 18722
A10: 82 | B10: Carrez | C10: Alain | D10: 82 | K10: =IF((P10)="","",IF(MONTH(P10)=1,"Janvier",IF(MONTH(P10)=2,"Février",IF(MONTH(P10)=3,"Mars",IF(MONTH(P10)=4,"Avril",IF(MONTH(P10)=5,"Mai",IF(MONTH(P10)=6,"Juin",IF(MONTH(P10)=7,"Juillet",IF(MONTH(P10)=8,"Août",IF(MONTH(P10)=9,"Septembre",IF(MONTH(P10)=10,"Octobre",IF(MONTH(P10)=11,"Novembre","Décembre")))))))))))) -> Juillet | L10: =IF(P10="","",DAY(P10)) -> 23 | M10: =IF(P10="","",YEAR(P10)) -> 1947 | N10: R | O10: Ani | P10: 17371
A11: 196 | B11: Cattaneo | C11: Nathalie | D11: 196 | K11: =IF((P11)="","",IF(MONTH(P11)=1,"Janvier",IF(MONTH(P11)=2,"Février",IF(MONTH(P11)=3,"Mars",IF(MONTH(P11)=4,"Avril",IF(MONTH(P11)=5,"Mai",IF(MONTH(P11)=6,"Juin",IF(MONTH(P11)=7,"Juillet",IF(MONTH(P11)=8,"Août",IF(MONTH(P11)=9,"Septembre",IF(MONTH(P11)=10,"Octobre",IF(MONTH(P11)=11,"Novembre","Décembre")))))))))))) -> Août | L11: =IF(P11="","",DAY(P11)) -> 14 | M11: =IF(P11="","",YEAR(P11)) -> 1967 | N11: A | O11: P | P11: 24698
A12: 195 | B12: Chaillon | C12: Marie-Christine | D12: 195 | K12: =IF((P12)="","",IF(MONTH(P12)=1,"Janvier",IF(MONTH(P12)=2,"Février",IF(MONTH(P12)=3,"Mars",IF(MONTH(P12)=4,"Avril",IF(MONTH(P12)=5,"Mai",IF(MONTH(P12)=6,"Juin",IF(MONTH(P12)=7,"Juillet",IF(MONTH(P12)=8,"Août",IF(MONTH(P12)=9,"Septembre",IF(MONTH(P12)=10,"Octobre",IF(MONTH(P12)=11,"Novembre","Décembre")))))))))))) -> Octobre | L12: =IF(P12="","",DAY(P12)) -> 5 | M12: =IF(P12="","",YEAR(P12)) -> 1956 | N12: A | O12: P | P12: 20733
A13: 186 | B13: Chaventon | C13: Yvonne | D13: 186 | K13: =IF((P13)="","",IF(MONTH(P13)=1,"Janvier",IF(MONTH(P13)=2,"Février",IF(MONTH(P13)=3,"Mars",IF(MONTH(P13)=4,"Avril",IF(MONTH(P13)=5,"Mai",IF(MONTH(P13)=6,"Juin",IF(MONTH(P13)=7,"Juillet",IF(MONTH(P13)=8,"Août",IF(MONTH(P13)=9,"Septembre",IF(MONTH(P13)=10,"Octobre",IF(MONTH(P13)=11,"Novembre","Décembre")))))))))))) -> Avril | L13: =IF(P13="","",DAY(P13)) -> 29 | M13: =IF(P13="","",YEAR(P13)) -> 1946 | N13: R | O13: P | P13: 16921
A14: 127 | B14: Chenevoy | C14: Paulette | D14: 127 | K14: =IF((P14)="","",IF(MONTH(P14)=1,"Janvier",IF(MONTH(P14)=2,"Février",IF(MONTH(P14)=3,"Mars",IF(MONTH(P14)=4,"Avril",IF(MONTH(P14)=5,"Mai",IF(MONTH(P14)=6,"Juin",IF(MONTH(P14)=7,"Juillet",IF(MONTH(P14)=8,"Août",IF(MONTH(P14)=9,"Septembre",IF(MONTH(P14)=10,"Octobre",IF(MONTH(P14)=11,"Novembre","Décembre")))))))))))) -> Mars | L14: =IF(P14="","",DAY(P14)) -> 30 | M14: =IF(P14="","",YEAR(P14)) -> 1935 | N14: R | O14: P | P14: 12873
A15: 136 | B15: Clemence | C15: René | D15: 136 | K15: =IF((P15)="","",IF(MONTH(P15)=1,"Janvier",IF(MONTH(P15)=2,"Février",IF(MONTH(P15)=3,"Mars",IF(MONTH(P15)=4,"Avril",IF(MONTH(P15)=5,"Mai",IF(MONTH(P15)=6,"Juin",IF(MONTH(P15)=7,"Juillet",IF(MONTH(P15)=8,"Août",IF(MONTH(P15)=9,"Septembre",IF(MONTH(P15)=10,"Octobre",IF(MONTH(P15)=11,"Novembre","Décembre")))))))))))) -> Février | L15: =IF(P15="","",DAY(P15)) -> 28 | M15: =IF(P15="","",YEAR(P15)) -> 1943 | N15: R | O15: P | P15: 15765
... A18: 129 | B18: Delgobe | C18: Annie | D18: 129 | K18: =IF((P18)="","",IF(MONTH(P18)=1,"Janvier",IF(MONTH(P18)=2,"Février",IF(MONTH(P18)=3,"Mars",IF(MONTH(P18)=4,"Avril",IF(MONTH(P18)=5,"Mai",IF(MONTH(P18)=6,"Juin",IF(MONTH(P18)=7,"Juillet",IF(MONTH(P18)=8,"Août",IF(MONTH(P18)=9,"Septembre",IF(MONTH(P18)=10,"Octobre",IF(MONTH(P18)=11,"Novembre","Décembre")))))))))))) -> Octobre | L18: =IF(P18="","",DAY(P18)) -> 28 | M18: =IF(P18="","",YEAR(P18)) -> 1947 | N18: A | O18: P | P18: 17468
A19: 131 | B19: Dessaint | C19: Michel | D19: 131 | K19: =IF((P19)="","",IF(MONTH(P19)=1,"Janvier",IF(MONTH(P19)=2,"Février",IF(MONTH(P19)=3,"Mars",IF(MONTH(P19)=4,"Avril",IF(MONTH(P19)=5,"Mai",IF(MONTH(P19)=6,"Juin",IF(MONTH(P19)=7,"Juillet",IF(MONTH(P19)=8,"Août",IF(MONTH(P19)=9,"Septembre",IF(MONTH(P19)=10,"Octobre",IF(MONTH(P19)=11,"Novembre","Décembre")))))))))))) -> Août | L19: =IF(P19="","",DAY(P19)) -> 3 | M19: =IF(P19="","",YEAR(P19)) -> 1934 | N19: R | P19: 12634
A20: 157 | B20: Dupart | C20: Béatrice | D20: 157 | K20: =IF((P20)="","",IF(MONTH(P20)=1,"Janvier",IF(MONTH(P20)=2,"Février",IF(MONTH(P20)=3,"Mars",IF(MONTH(P20)=4,"Avril",IF(MONTH(P20)=5,"Mai",IF(MONTH(P20)=6,"Juin",IF(MONTH(P20)=7,"Juillet",IF(MONTH(P20)=8,"Août",IF(MONTH(P20)=9,"Septembre",IF(MONTH(P20)=10,"Octobre",IF(MONTH(P20)=11,"Novembre","Décembre")))))))))))) -> Novembre | L20: =IF(P20="","",DAY(P20)) -> 29 | M20: =IF(P20="","",YEAR(P20)) -> 1966 | N20: R | O20: P | P20: 24440
A21: 143 | B21: Fevre | C21: Virginie | D21: 143 | K21: =IF((P21)="","",IF(MONTH(P21)=1,"Janvier",IF(MONTH(P21)=2,"Février",IF(MONTH(P21)=3,"Mars",IF(MONTH(P21)=4,"Avril",IF(MONTH(P21)=5,"Mai",IF(MONTH(P21)=6,"Juin",IF(MONTH(P21)=7,"Juillet",IF(MONTH(P21)=8,"Août",IF(MONTH(P21)=9,"Septembre",IF(MONTH(P21)=10,"Octobre",IF(MONTH(P21)=11,"Novembre","Décembre")))))))))))) -> Août | L21: =IF(P21="","",DAY(P21)) -> 3 | M21: =IF(P21="","",YEAR(P21)) -> 1964 | N21: R | O21: P | P21: 23592
A22: 197 | B22: Fleury | C22: Françoise | D22: 197 | K22: =IF((P22)="","",IF(MONTH(P22)=1,"Janvier",IF(MONTH(P22)=2,"Février",IF(MONTH(P22)=3,"Mars",IF(MONTH(P22)=4,"Avril",IF(MONTH(P22)=5,"Mai",IF(MONTH(P22)=6,"Juin",IF(MONTH(P22)=7,"Juillet",IF(MONTH(P22)=8,"Août",IF(MONTH(P22)=9,"Septembre",IF(MONTH(P22)=10,"Octobre",IF(MONTH(P22)=11,"Novembre","Décembre")))))))))))) -> Septembre | L22: =IF(P22="","",DAY(P22)) -> 29 | M22: =IF(P22="","",YEAR(P22)) -> 1961 | N22: A | O22: MB | P22: 22553
A23: 173 | B23: Gadriot | C23: Daniel | D23: 173 | K23: =IF((P23)="","",IF(MONTH(P23)=1,"Janvier",IF(MONTH(P23)=2,"Février",IF(MONTH(P23)=3,"Mars",IF(MONTH(P23)=4,"Avril",IF(MONTH(P23)=5,"Mai",IF(MONTH(P23)=6,"Juin",IF(MONTH(P23)=7,"Juillet",IF(MONTH(P23)=8,"Août",IF(MONTH(P23)=9,"Septembre",IF(MONTH(P23)=10,"Octobre",IF(MONTH(P23)=11,"Novembre","Décembre")))))))))))) -> Juillet | L23: =IF(P23="","",DAY(P23)) -> 1 | M23: =IF(P23="","",YEAR(P23)) -> 1950 | N23: R | O23: P | P23: 18445
A24: 214 | B24: Ganée | C24: Véronique | D24: 214 | K24: =IF((P24)="","",IF(MONTH(P24)=1,"Janvier",IF(MONTH(P24)=2,"Février",IF(MONTH(P24)=3,"Mars",IF(MONTH(P24)=4,"Avril",IF(MONTH(P24)=5,"Mai",IF(MONTH(P24)=6,"Juin",IF(MONTH(P24)=7,"Juillet",IF(MONTH(P24)=8,"Août",IF(MONTH(P24)=9,"Septembre",IF(MONTH(P24)=10,"Octobre",IF(MONTH(P24)=11,"Novembre","Décembre")))))))))))) -> Mai | L24: =IF(P24="","",DAY(P24)) -> 10 | M24: =IF(P24="","",YEAR(P24)) -> 1958 | N24: A | O24: P | P24: 21315
A25: 198 | B25: Garnier | C25: Andrée | D25: 198 | K25: =IF((P25)="","",IF(MONTH(P25)=1,"Janvier",IF(MONTH(P25)=2,"Février",IF(MONTH(P25)=3,"Mars",IF(MONTH(P25)=4,"Avril",IF(MONTH(P25)=5,"Mai",IF(MONTH(P25)=6,"Juin",IF(MONTH(P25)=7,"Juillet",IF(MONTH(P25)=8,"Août",IF(MONTH(P25)=9,"Septembre",IF(MONTH(P25)=10,"Octobre",IF(MONTH(P25)=11,"Novembre","Décembre")))))))))))) -> Novembre | L25: =IF(P25="","",DAY(P25)) -> 14 | M25: =IF(P25="","",YEAR(P25)) -> 1935 | N25: A | O25: P | P25: 13102
A26: 141 | B26: Gaussens | C26: Didier | D26: 141 | K26: =IF((P26)="","",IF(MONTH(P26)=1,"Janvier",IF(MONTH(P26)=2,"Février",IF(MONTH(P26)=3,"Mars",IF(MONTH(P26)=4,"Avril",IF(MONTH(P26)=5,"Mai",IF(MONTH(P26)=6,"Juin",IF(MONTH(P26)=7,"Juillet",IF(MONTH(P26)=8,"Août",IF(MONTH(P26)=9,"Septembre",IF(MONTH(P26)=10,"Octobre",IF(MONTH(P26)=11,"Novembre","Décembre")))))))))))) -> Mars | L26: =IF(P26="","",DAY(P26)) -> 7 | M26: =IF(P26="","",YEAR(P26)) -> 1952 | N26: R | O26: P | P26: 19060
A27: 34 | B27: Gautheron | C27: Claude | D27: 34 | K27: =IF((P27)="","",IF(MONTH(P27)=1,"Janvier",IF(MONTH(P27)=2,"Février",IF(MONTH(P27)=3,"Mars",IF(MONTH(P27)=4,"Avril",IF(MONTH(P27)=5,"Mai",IF(MONTH(P27)=6,"Juin",IF(MONTH(P27)=7,"Juillet",IF(MONTH(P27)=8,"Août",IF(MONTH(P27)=9,"Septembre",IF(MONTH(P27)=10,"Octobre",IF(MONTH(P27)=11,"Novembre","Décembre")))))))))))) -> Février | L27: =IF(P27="","",DAY(P27)) -> 16 | M27: =IF(P27="","",YEAR(P27)) -> 1937 | N27: R | O27: Ani | P27: 13562
A28: 184 | B28: Gautheron | C28: Valérie | D28: 184 | K28: =IF((P28)="","",IF(MONTH(P28)=1,"Janvier",IF(MONTH(P28)=2,"Février",IF(MONTH(P28)=3,"Mars",IF(MONTH(P28)=4,"Avril",IF(MONTH(P28)=5,"Mai",IF(MONTH(P28)=6,"Juin",IF(MONTH(P28)=7,"Juillet",IF(MONTH(P28)=8,"Août",IF(MONTH(P28)=9,"Septembre",IF(MONTH(P28)=10,"Octobre",IF(MONTH(P28)=11,"Novembre","Décembre")))))))))))) -> Septembre | L28: =IF(P28="","",DAY(P28)) -> 9 | M28: =IF(P28="","",YEAR(P28)) -> 1965 | N28: R | O28: P | P28: 23994
A29: 199 | B29: Grivelet | C29: Alain | D29: 199 | K29: =IF((P29)="","",IF(MONTH(P29)=1,"Janvier",IF(MONTH(P29)=2,"Février",IF(MONTH(P29)=3,"Mars",IF(MONTH(P29)=4,"Avril",IF(MONTH(P29)=5,"Mai",IF(MONTH(P29)=6,"Juin",IF(MONTH(P29)=7,"Juillet",IF(MONTH(P29)=8,"Août",IF(MONTH(P29)=9,"Septembre",IF(MONTH(P29)=10,"Octobre",IF(MONTH(P29)=11,"Novembre","Décembre")))))))))))) -> Octobre | L29: =IF(P29="","",DAY(P29)) -> 21 | M29: =IF(P29="","",YEAR(P29)) -> 1948 | N29: A | O29: P | P29: 17827
A30: 200 | B30: Guichard | C30: Yvette | D30: 200 | K30: =IF((P30)="","",IF(MONTH(P30)=1,"Janvier",IF(MONTH(P30)=2,"Février",IF(MONTH(P30)=3,"Mars",IF(MONTH(P30)=4,"Avril",IF(MONTH(P30)=5,"Mai",IF(MONTH(P30)=6,"Juin",IF(MONTH(P30)=7,"Juillet",IF(MONTH(P30)=8,"Août",IF(MONTH(P30)=9,"Septembre",IF(MONTH(P30)=10,"Octobre",IF(MONTH(P30)=11,"Novembre","Décembre")))))))))))) -> Mars | L30: =IF(P30="","",DAY(P30)) -> 29 | M30: =IF(P30="","",YEAR(P30)) -> 1943 | N30: A | O30: P | P30: 15794
A31: 213 | B31: Heliot | C31: Marie-Odile | D31: 213 | K31: =IF((P31)="","",IF(MONTH(P31)=1,"Janvier",IF(MONTH(P31)=2,"Février",IF(MONTH(P31)=3,"Mars",IF(MONTH(P31)=4,"Avril",IF(MONTH(P31)=5,"Mai",IF(MONTH(P31)=6,"Juin",IF(MONTH(P31)=7,"Juillet",IF(MONTH(P31)=8,"Août",IF(MONTH(P31)=9,"Septembre",IF(MONTH(P31)=10,"Octobre",IF(MONTH(P31)=11,"Novembre","Décembre")))))))))))) -> Mai | L31: =IF(P31="","",DAY(P31)) -> 21 | M31: =IF(P31="","",YEAR(P31)) -> 1950 | N31: A | O31: P | P31: 18404
... A39: 191 | B39: Lauer | C39: Nathalie | D39: 191 | K39: =IF((P39)="","",IF(MONTH(P39)=1,"Janvier",IF(MONTH(P39)=2,"Février",IF(MONTH(P39)=3,"Mars",IF(MONTH(P39)=4,"Avril",IF(MONTH(P39)=5,"Mai",IF(MONTH(P39)=6,"Juin",IF(MONTH(P39)=7,"Juillet",IF(MONTH(P39)=8,"Août",IF(MONTH(P39)=9,"Septembre",IF(MONTH(P39)=10,"Octobre",IF(MONTH(P39)=11,"Novembre","Décembre")))))))))))) -> Juin | L39: =IF(P39="","",DAY(P39)) -> 25 | M39: =IF(P39="","",YEAR(P39)) -> 1965 | N39: A | O39: P | P39: 23918
B40: Lhermitte | C40: Claudia | D40: 203
A41: 158 | B41: Lhuillier | C41: Paul | D41: 158 | K41: =IF((P41)="","",IF(MONTH(P41)=1,"Janvier",IF(MONTH(P41)=2,"Février",IF(MONTH(P41)=3,"Mars",IF(MONTH(P41)=4,"Avril",IF(MONTH(P41)=5,"Mai",IF(MONTH(P41)=6,"Juin",IF(MONTH(P41)=7,"Juillet",IF(MONTH(P41)=8,"Août",IF(MONTH(P41)=9,"Septembre",IF(MONTH(P41)=10,"Octobre",IF(MONTH(P41)=11,"Novembre","Décembre")))))))))))) -> Septembre | L41: =IF(P41="","",DAY(P41)) -> 23 | M41: =IF(P41="","",YEAR(P41)) -> 1951 | N41: R | O41: P | P41: 18894
A42: 204 | B42: Marseille | C42: Huguette | D42: 204 | K42: =IF((P42)="","",IF(MONTH(P42)=1,"Janvier",IF(MONTH(P42)=2,"Février",IF(MONTH(P42)=3,"Mars",IF(MONTH(P42)=4,"Avril",IF(MONTH(P42)=5,"Mai",IF(MONTH(P42)=6,"Juin",IF(MONTH(P42)=7,"Juillet",IF(MONTH(P42)=8,"Août",IF(MONTH(P42)=9,"Septembre",IF(MONTH(P42)=10,"Octobre",IF(MONTH(P42)=11,"Novembre","Décembre")))))))))))) -> Août | L42: =IF(P42="","",DAY(P42)) -> 10 | M42: =IF(P42="","",YEAR(P42)) -> 1944 | N42: A | O42: P | P42: 16294
A43: 125 | B43: Martiny | C43: Jean-Pierre | D43: 125 | K43: =IF((P43)="","",IF(MONTH(P43)=1,"Janvier",IF(MONTH(P43)=2,"Février",IF(MONTH(P43)=3,"Mars",IF(MONTH(P43)=4,"Avril",IF(MONTH(P43)=5,"Mai",IF(MONTH(P43)=6,"Juin",IF(MONTH(P43)=7,"Juillet",IF(MONTH(P43)=8,"Août",IF(MONTH(P43)=9,"Septembre",IF(MONTH(P43)=10,"Octobre",IF(MONTH(P43)=11,"Novembre","Décembre")))))))))))) -> Septembre | L43: =IF(P43="","",DAY(P43)) -> 23 | M43: =IF(P43="","",YEAR(P43)) -> 1942 | N43: R | O43: P | P43: 15607
A44: 205 | B44: Masi | C44: Marie-Thérèse | D44: 205 | K44: =IF((P44)="","",IF(MONTH(P44)=1,"Janvier",IF(MONTH(P44)=2,"Février",IF(MONTH(P44)=3,"Mars",IF(MONTH(P44)=4,"Avril",IF(MONTH(P44)=5,"Mai",IF(MONTH(P44)=6,"Juin",IF(MONTH(P44)=7,"Juillet",IF(MONTH(P44)=8,"Août",IF(MONTH(P44)=9,"Septembre",IF(MONTH(P44)=10,"Octobre",IF(MONTH(P44)=11,"Novembre","Décembre")))))))))))) -> Août | L44: =IF(P44="","",DAY(P44)) -> 17 | M44: =IF(P44="","",YEAR(P44)) -> 1942 | N44: A | O44: P | P44: 15570
A45: 169 | B45: Michaudet | C45: Denise | D45: 169 | K45: =IF((P45)="","",IF(MONTH(P45)=1,"Janvier",IF(MONTH(P45)=2,"Février",IF(MONTH(P45)=3,"Mars",IF(MONTH(P45)=4,"Avril",IF(MONTH(P45)=5,"Mai",IF(MONTH(P45)=6,"Juin",IF(MONTH(P45)=7,"Juillet",IF(MONTH(P45)=8,"Août",IF(MONTH(P45)=9,"Septembre",IF(MONTH(P45)=10,"Octobre",IF(MONTH(P45)=11,"Novembre","Décembre")))))))))))) -> Avril | L45: =IF(P45="","",DAY(P45)) -> 23 | M45: =IF(P45="","",YEAR(P45)) -> 1950 | N45: R | O45: P | P45: 18376
A46: 187 | B46: Mielniczuk | C46: Jeannine | D46: 187 | K46: =IF((P46)="","",IF(MONTH(P46)=1,"Janvier",IF(MONTH(P46)=2,"Février",IF(MONTH(P46)=3,"Mars",IF(MONTH(P46)=4,"Avril",IF(MONTH(P46)=5,"Mai",IF(MONTH(P46)=6,"Juin",IF(MONTH(P46)=7,"Juillet",IF(MONTH(P46)=8,"Août",IF(MONTH(P46)=9,"Septembre",IF(MONTH(P46)=10,"Octobre",IF(MONTH(P46)=11,"Novembre","Décembre")))))))))))) -> Décembre | L46: =IF(P46="","",DAY(P46)) -> 26 | M46: =IF(P46="","",YEAR(P46)) -> 1946 | N46: R | O46: P | P46: 17162
A47: 209 | B47: Mielniczuk | C47: Gérard | D47: 209 | K47: =IF((P47)="","",IF(MONTH(P47)=1,"Janvier",IF(MONTH(P47)=2,"Février",IF(MONTH(P47)=3,"Mars",IF(MONTH(P47)=4,"Avril",IF(MONTH(P47)=5,"Mai",IF(MONTH(P47)=6,"Juin",IF(MONTH(P47)=7,"Juillet",IF(MONTH(P47)=8,"Août",IF(MONTH(P47)=9,"Septembre",IF(MONTH(P47)=10,"Octobre",IF(MONTH(P47)=11,"Novembre","Décembre")))))))))))) -> Janvier | L47: =IF(P47="","",DAY(P47)) -> 1 | M47: =IF(P47="","",YEAR(P47)) -> 1951 | N47: A | O47: P | P47: 18629
A48: 212 | B48: Milliere | C48: Christine | D48: 212 | K48: =IF((P48)="","",IF(MONTH(P48)=1,"Janvier",IF(MONTH(P48)=2,"Février",IF(MONTH(P48)=3,"Mars",IF(MONTH(P48)=4,"Avril",IF(MONTH(P48)=5,"Mai",IF(MONTH(P48)=6,"Juin",IF(MONTH(P48)=7,"Juillet",IF(MONTH(P48)=8,"Août",IF(MONTH(P48)=9,"Septembre",IF(MONTH(P48)=10,"Octobre",IF(MONTH(P48)=11,"Novembre","Décembre")))))))))))) -> Août | L48: =IF(P48="","",DAY(P48)) -> 26 | M48: =IF(P48="","",YEAR(P48)) -> 1955 | N48: A | O48: P | P48: 20327
A49: 121 | B49: Monot | C49: Sylvie | D49: 121 | K49: =IF((P49)="","",IF(MONTH(P49)=1,"Janvier",IF(MONTH(P49)=2,"Février",IF(MONTH(P49)=3,"Mars",IF(MONTH(P49)=4,"Avril",IF(MONTH(P49)=5,"Mai",IF(MONTH(P49)=6,"Juin",IF(MONTH(P49)=7,"Juillet",IF(MONTH(P49)=8,"Août",IF(MONTH(P49)=9,"Septembre",IF(MONTH(P49)=10,"Octobre",IF(MONTH(P49)=11,"Novembre","Décembre")))))))))))) -> Octobre | L49: =IF(P49="","",DAY(P49)) -> 28 | M49: =IF(P49="","",YEAR(P49)) -> 1956 | N49: R | O49: P | P49: 20756
A50: 44 | B50: Moreux | C50: Richard | D50: 44 | K50: =IF((P50)="","",IF(MONTH(P50)=1,"Janvier",IF(MONTH(P50)=2,"Février",IF(MONTH(P50)=3,"Mars",IF(MONTH(P50)=4,"Avril",IF(MONTH(P50)=5,"Mai",IF(MONTH(P50)=6,"Juin",IF(MONTH(P50)=7,"Juillet",IF(MONTH(P50)=8,"Août",IF(MONTH(P50)=9,"Septembre",IF(MONTH(P50)=10,"Octobre",IF(MONTH(P50)=11,"Novembre","Décembre")))))))))))) -> Août | L50: =IF(P50="","",DAY(P50)) -> 21 | M50: =IF(P50="","",YEAR(P50)) -> 1949 | N50: R | O50: Ani | P50: 18131
A51: 218 | B51: Mutin | C51: Odile | D51: 218 | K51: =IF((P51)="","",IF(MONTH(P51)=1,"Janvier",IF(MONTH(P51)=2,"Février",IF(MONTH(P51)=3,"Mars",IF(MONTH(P51)=4,"Avril",IF(MONTH(P51)=5,"Mai",IF(MONTH(P51)=6,"Juin",IF(MONTH(P51)=7,"Juillet",IF(MONTH(P51)=8,"Août",IF(MONTH(P51)=9,"Septembre",IF(MONTH(P51)=10,"Octobre",IF(MONTH(P51)=11,"Novembre","Décembre")))))))))))) -> Avril | L51: =IF(P51="","",DAY(P51)) -> 4 | M51: =IF(P51="","",YEAR(P51)) -> 1953 | N51: A | O51: P | P51: 19453
A52: 211 | B52: Muzeau | C52: Huguette | D52: 211 | K52: =IF((P52)="","",IF(MONTH(P52)=1,"Janvier",IF(MONTH(P52)=2,"Février",IF(MONTH(P52)=3,"Mars",IF(MONTH(P52)=4,"Avril",IF(MONTH(P52)=5,"Mai",IF(MONTH(P52)=6,"Juin",IF(MONTH(P52)=7,"Juillet",IF(MONTH(P52)=8,"Août",IF(MONTH(P52)=9,"Septembre",IF(MONTH(P52)=10,"Octobre",IF(MONTH(P52)=11,"Novembre","Décembre")))))))))))) -> Janvier | L52: =IF(P52="","",DAY(P52)) -> 13 | M52: =IF(P52="","",YEAR(P52)) -> 1947 | N52: A | O52: P | P52: 17180
... A66: 117 | B66: Winter | C66: Michel | D66: 117 | K66: =IF((P66)="","",IF(MONTH(P66)=1,"Janvier",IF(MONTH(P66)=2,"Février",IF(MONTH(P66)=3,"Mars",IF(MONTH(P66)=4,"Avril",IF(MONTH(P66)=5,"Mai",IF(MONTH(P66)=6,"Juin",IF(MONTH(P66)=7,"Juillet",IF(MONTH(P66)=8,"Août",IF(MONTH(P66)=9,"Septembre",IF(MONTH(P66)=10,"Octobre",IF(MONTH(P66)=11,"Novembre","Décembre")))))))))))) -> Septembre | L66: =IF(P66="","",DAY(P66)) -> 15 | M66: =IF(P66="","",YEAR(P66)) -> 1934 | N66: R | O66: P | P66: 12677
A69: Adhérents | B69: Total = | C69: 63 | D69: Adhérents
A70: Nouveaux | B70: Dont : | C70: 31 | D70: Nouveaux
A73: En Gras : Les membres du bureau | D73: En Gras : Les membres du bureau | F73: En Bleu Gras : Les Animateurs

Sheet 2011-2012
B2: Nom | C2: Prénom | D2: N° Carte | E2: Adresse | F2: CP | G2: Ville | H2: Téléphone | I2: Portable | J2: Email | K2: Date Naiss | N2: N ou R | P2: Date | R2: Age
K3: Mois | L3: Jour | M3: Année
A4: 192 | B4: Agostini | C4: Christiane | D4: 192 | K4: =IF((P4)="","",IF(MONTH(P4)=1,"Janvier",IF(MONTH(P4)=2,"Février",IF(MONTH(P4)=3,"Mars",IF(MONTH(P4)=4,"Avril",IF(MONTH(P4)=5,"Mai",IF(MONTH(P4)=6,"Juin",IF(MONTH(P4)=7,"Juillet",IF(MONTH(P4)=8,"Août",IF(MONTH(P4)=9,"Septembre",IF(MONTH(P4)=10,"Octobre",IF(MONTH(P4)=11,"Novembre","Décembre")))))))))))) -> Septembre | L4: =IF(P4="","",DAY(P4)) -> 17 | M4: =IF(P4="","",YEAR(P4)) -> 1952 | N4: R | O4: AO | P4: 19254 | R4: =IF(P4="","",DATEDIF(P4,TODAY(),"y")) -> 61
A5: 4 | B5: Beherec | C5: Franck | D5: 4 | K5: =IF((P5)="","",IF(MONTH(P5)=1,"Janvier",IF(MONTH(P5)=2,"Février",IF(MONTH(P5)=3,"Mars",IF(MONTH(P5)=4,"Avril",IF(MONTH(P5)=5,"Mai",IF(MONTH(P5)=6,"Juin",IF(MONTH(P5)=7,"Juillet",IF(MONTH(P5)=8,"Août",IF(MONTH(P5)=9,"Septembre",IF(MONTH(P5)=10,"Octobre",IF(MONTH(P5)=11,"Novembre","Décembre")))))))))))) -> Octobre | L5: =IF(P5="","",DAY(P5)) -> 24 | M5: =IF(P5="","",YEAR(P5)) -> 1967 | N5: R | O5: Ani | P5: 24769 | R5: =IF(P5="","",DATEDIF(P5,TODAY(),"y")) -> 46
A6: 228 | B6: Blondot | C6: Marie-Thèrese | D6: 228 | K6: =IF((P6)="","",IF(MONTH(P6)=1,"Janvier",IF(MONTH(P6)=2,"Février",IF(MONTH(P6)=3,"Mars",IF(MONTH(P6)=4,"Avril",IF(MONTH(P6)=5,"Mai",IF(MONTH(P6)=6,"Juin",IF(MONTH(P6)=7,"Juillet",IF(MONTH(P6)=8,"Août",IF(MONTH(P6)=9,"Septembre",IF(MONTH(P6)=10,"Octobre",IF(MONTH(P6)=11,"Novembre","Décembre")))))))))))) -> Mai | L6: =IF(P6="","",DAY(P6)) -> 4 | M6: =IF(P6="","",YEAR(P6)) -> 1949 | N6: N | O6: P | P6: 18022 | R6: =IF(P6="","",DATEDIF(P6,TODAY(),"y")) -> 65
A7: 207 | B7: Boisseaux | C7: Jocelyne | D7: 207 | K7: =IF((P7)="","",IF(MONTH(P7)=1,"Janvier",IF(MONTH(P7)=2,"Février",IF(MONTH(P7)=3,"Mars",IF(MONTH(P7)=4,"Avril",IF(MONTH(P7)=5,"Mai",IF(MONTH(P7)=6,"Juin",IF(MONTH(P7)=7,"Juillet",IF(MONTH(P7)=8,"Août",IF(MONTH(P7)=9,"Septembre",IF(MONTH(P7)=10,"Octobre",IF(MONTH(P7)=11,"Novembre","Décembre")))))))))))) -> Février | L7: =IF(P7="","",DAY(P7)) -> 25 | M7: =IF(P7="","",YEAR(P7)) -> 1958 | N7: R | O7: P | P7: 21241 | R7: =IF(P7="","",DATEDIF(P7,TODAY(),"y")) -> 56
A8: 193 | B8: Bougaud | C8: Chantal | D8: 193 | K8: =IF((P8)="","",IF(MONTH(P8)=1,"Janvier",IF(MONTH(P8)=2,"Février",IF(MONTH(P8)=3,"Mars",IF(MONTH(P8)=4,"Avril",IF(MONTH(P8)=5,"Mai",IF(MONTH(P8)=6,"Juin",IF(MONTH(P8)=7,"Juillet",IF(MONTH(P8)=8,"Août",IF(MONTH(P8)=9,"Septembre",IF(MONTH(P8)=10,"Octobre",IF(MONTH(P8)=11,"Novembre","Décembre")))))))))))) -> Décembre | L8: =IF(P8="","",DAY(P8)) -> 28 | M8: =IF(P8="","",YEAR(P8)) -> 1951 | N8: R | O8: P | P8: 18990 | R8: =IF(P8="","",DATEDIF(P8,TODAY(),"y")) -> 62
A9: 219 | B9: Bougaud | C9: Denise | D9: 219 | K9: =IF((P9)="","",IF(MONTH(P9)=1,"Janvier",IF(MONTH(P9)=2,"Février",IF(MONTH(P9)=3,"Mars",IF(MONTH(P9)=4,"Avril",IF(MONTH(P9)=5,"Mai",IF(MONTH(P9)=6,"Juin",IF(MONTH(P9)=7,"Juillet",IF(MONTH(P9)=8,"Août",IF(MONTH(P9)=9,"Septembre",IF(MONTH(P9)=10,"Octobre",IF(MONTH(P9)=11,"Novembre","Décembre")))))))))))) -> Avril | L9: =IF(P9="","",DAY(P9)) -> 4 | M9: =IF(P9="","",YEAR(P9)) -> 1951 | N9: R | O9: P | P9: 18722 | R9: =IF(P9="","",DATEDIF(P9,TODAY(),"y")) -> 63
A10: 221 | B10: Bougaud | C10: Martine | D10: 221 | K10: =IF((P10)="","",IF(MONTH(P10)=1,"Janvier",IF(MONTH(P10)=2,"Février",IF(MONTH(P10)=3,"Mars",IF(MONTH(P10)=4,"Avril",IF(MONTH(P10)=5,"Mai",IF(MONTH(P10)=6,"Juin",IF(MONTH(P10)=7,"Juillet",IF(MONTH(P10)=8,"Août",IF(MONTH(P10)=9,"Septembre",IF(MONTH(P10)=10,"Octobre",IF(MONTH(P10)=11,"Novembre","Décembre")))))))))))) -> Juillet | L10: =IF(P10="","",DAY(P10)) -> 2 | M10: =IF(P10="","",YEAR(P10)) -> 1953 | N10: N | O10: P | P10: 19542 | R10: =IF(P10="","",DATEDIF(P10,TODAY(),"y")) -> 60
A11: 82 | B11: Carrez | C11: Alain | D11: 82 | K11: =IF((P11)="","",IF(MONTH(P11)=1,"Janvier",IF(MONTH(P11)=2,"Février",IF(MONTH(P11)=3,"Mars",IF(MONTH(P11)=4,"Avril",IF(MONTH(P11)=5,"Mai",IF(MONTH(P11)=6,"Juin",IF(MONTH(P11)=7,"Juillet",IF(MONTH(P11)=8,"Août",IF(MONTH(P11)=9,"Septembre",IF(MONTH(P11)=10,"Octobre",IF(MONTH(P11)=11,"Novembre","Décembre")))))))))))) -> Juillet | L11: =IF(P11="","",DAY(P11)) -> 23 | M11: =IF(P11="","",YEAR(P11)) -> 1947 | N11: R | O11: P | P11: 17371 | R11: =IF(P11="","",DATEDIF(P11,TODAY(),"y")) -> 66
A12: 196 | B12: Cattaneo | C12: Nathalie | D12: 196 | K12: =IF((P12)="","",IF(MONTH(P12)=1,"Janvier",IF(MONTH(P12)=2,"Février",IF(MONTH(P12)=3,"Mars",IF(MONTH(P12)=4,"Avril",IF(MONTH(P12)=5,"Mai",IF(MONTH(P12)=6,"Juin",IF(MONTH(P12)=7,"Juillet",IF(MONTH(P12)=8,"Août",IF(MONTH(P12)=9,"Septembre",IF(MONTH(P12)=10,"Octobre",IF(MONTH(P12)=11,"Novembre","Décembre")))))))))))) -> Août | L12: =IF(P12="","",DAY(P12)) -> 14 | M12: =IF(P12="","",YEAR(P12)) -> 1967 | N12: R | O12: P | P12: 24698 | R12: =IF(P12="","",DATEDIF(P12,TODAY(),"y")) -> 46
A13: 249 | B13: Chapelotte | C13: Nicole | D13: 249 | K13: =IF((P13)="","",IF(MONTH(P13)=1,"Janvier",IF(MONTH(P13)=2,"Février",IF(MONTH(P13)=3,"Mars",IF(MONTH(P13)=4,"Avril",IF(MONTH(P13)=5,"Mai",IF(MONTH(P13)=6,"Juin",IF(MONTH(P13)=7,"Juillet",IF(MONTH(P13)=8,"Août",IF(MONTH(P13)=9,"Septembre",IF(MONTH(P13)=10,"Octobre",IF(MONTH(P13)=11,"Novembre","Décembre")))))))))))) -> Mai | L13: =IF(P13="","",DAY(P13)) -> 30 | M13: =IF(P13="","",YEAR(P13)) -> 1944 | N13: N | O13: P | P13: 16222 | R13: =IF(P13="","",DATEDIF(P13,TODAY(),"y")) -> 70
A14: 186 | B14: Chaventon | C14: Maurice | D14: 185 | K14: =IF((P14)="","",IF(MONTH(P14)=1,"Janvier",IF(MONTH(P14)=2,"Février",IF(MONTH(P14)=3,"Mars",IF(MONTH(P14)=4,"Avril",IF(MONTH(P14)=5,"Mai",IF(MONTH(P14)=6,"Juin",IF(MONTH(P14)=7,"Juillet",IF(MONTH(P14)=8,"Août",IF(MONTH(P14)=9,"Septembre",IF(MONTH(P14)=10,"Octobre",IF(MONTH(P14)=11,"Novembre","Décembre")))))))))))) -> Avril | L14: =IF(P14="","",DAY(P14)) -> 29 | M14: =IF(P14="","",YEAR(P14)) -> 1946 | N14: R | O14: P | P14: 16921 | R14: =IF(P14="","",DATEDIF(P14,TODAY(),"y")) -> 68
A15: 185 | B15: Chaventon | C15: Yvonne | D15: 186 | K15: =IF((P15)="","",IF(MONTH(P15)=1,"Janvier",IF(MONTH(P15)=2,"Février",IF(MONTH(P15)=3,"Mars",IF(MONTH(P15)=4,"Avril",IF(MONTH(P15)=5,"Mai",IF(MONTH(P15)=6,"Juin",IF(MONTH(P15)=7,"Juillet",IF(MONTH(P15)=8,"Août",IF(MONTH(P15)=9,"Septembre",IF(MONTH(P15)=10,"Octobre",IF(MONTH(P15)=11,"Novembre","Décembre")))))))))))) -> Mai | L15: =IF(P15="","",DAY(P15)) -> 15 | M15: =IF(P15="","",YEAR(P15)) -> 1941 | N15: R | O15: P | P15: 15111 | R15: =IF(P15="","",DATEDIF(P15,TODAY(),"y")) -> 73
... A79: 117 | B79: Winter | C79: Michel | D79: 117 | K79: =IF((P79)="","",IF(MONTH(P79)=1,"Janvier",IF(MONTH(P79)=2,"Février",IF(MONTH(P79)=3,"Mars",IF(MONTH(P79)=4,"Avril",IF(MONTH(P79)=5,"Mai",IF(MONTH(P79)=6,"Juin",IF(MONTH(P79)=7,"Juillet",IF(MONTH(P79)=8,"Août",IF(MONTH(P79)=9,"Septembre",IF(MONTH(P79)=10,"Octobre",IF(MONTH(P79)=11,"Novembre","Décembre")))))))))))) -> Septembre | L79: =IF(P79="","",DAY(P79)) -> 15 | M79: =IF(P79="","",YEAR(P79)) -> 1934 | N79: R | O79: P | P79: 12677 | R79: =IF(P79="","",DATEDIF(P79,TODAY(),"y")) -> 79
A82: Adhérents | B82: Total = | C82: 76 | D82: Adhérents
A83: Nouveaux | B83: Dont : | C83: 29 | D83: Nouveaux
A86: En Gras : Les membres du bureau | D86: En Gras : Les membres du bureau | F86: En Bleu Gras : Les Animateurs

Sheet 2012-2013
B2: Nom | C2: Prénom | D2: N° Carte | E2: Adresse | F2: CP | G2: Ville | H2: Téléphone | I2: Portable | J2: Email | K2: Date Naiss | N2: N ou R | P2: Date | R2: Age
K3: Mois | L3: Jour | M3: Année
A4: 192 | B4: Agostini | C4: Christiane | D4: 192 | K4: =IF((P4)="","",IF(MONTH(P4)=1,"Janvier",IF(MONTH(P4)=2,"Février",IF(MONTH(P4)=3,"Mars",IF(MONTH(P4)=4,"Avril",IF(MONTH(P4)=5,"Mai",IF(MONTH(P4)=6,"Juin",IF(MONTH(P4)=7,"Juillet",IF(MONTH(P4)=8,"Août",IF(MONTH(P4)=9,"Septembre",IF(MONTH(P4)=10,"Octobre",IF(MONTH(P4)=11,"Novembre","Décembre")))))))))))) -> Septembre | L4: 9 | M4: =IF(P4="","",YEAR(P4)) -> 1952 | N4: R | O4: P | P4: 19254 | R4: =IF(P4="","",DATEDIF(P4,TODAY(),"y")) -> 61
A5: 4 | B5: Beherec | C5: Franck | D5: 4 | K5: =IF((P5)="","",IF(MONTH(P5)=1,"Janvier",IF(MONTH(P5)=2,"Février",IF(MONTH(P5)=3,"Mars",IF(MONTH(P5)=4,"Avril",IF(MONTH(P5)=5,"Mai",IF(MONTH(P5)=6,"Juin",IF(MONTH(P5)=7,"Juillet",IF(MONTH(P5)=8,"Août",IF(MONTH(P5)=9,"Septembre",IF(MONTH(P5)=10,"Octobre",IF(MONTH(P5)=11,"Novembre","Décembre")))))))))))) -> Octobre | L5: =IF(P5="","",DAY(P5)) -> 24 | M5: =IF(P5="","",YEAR(P5)) -> 1967 | N5: R | O5: Ani | P5: 24769 | R5: =IF(P5="","",DATEDIF(P5,TODAY(),"y")) -> 46
A6: 254 | B6: Belot | C6: Anne-Lise | D6: 254 | K6: =IF((P6)="","",IF(MONTH(P6)=1,"Janvier",IF(MONTH(P6)=2,"Février",IF(MONTH(P6)=3,"Mars",IF(MONTH(P6)=4,"Avril",IF(MONTH(P6)=5,"Mai",IF(MONTH(P6)=6,"Juin",IF(MONTH(P6)=7,"Juillet",IF(MONTH(P6)=8,"Août",IF(MONTH(P6)=9,"Septembre",IF(MONTH(P6)=10,"Octobre",IF(MONTH(P6)=11,"Novembre","Décembre")))))))))))) -> Août | L6: =IF(P6="","",DAY(P6)) -> 19 | M6: =IF(P6="","",YEAR(P6)) -> 1982 | N6: N | O6: P | P6: 30182 | R6: =IF(P6="","",DATEDIF(P6,TODAY(),"y")) -> 31
A7: 256 | B7: Bernier | C7: Martine | D7: 256 | K7: =IF((P7)="","",IF(MONTH(P7)=1,"Janvier",IF(MONTH(P7)=2,"Février",IF(MONTH(P7)=3,"Mars",IF(MONTH(P7)=4,"Avril",IF(MONTH(P7)=5,"Mai",IF(MONTH(P7)=6,"Juin",IF(MONTH(P7)=7,"Juillet",IF(MONTH(P7)=8,"Août",IF(MONTH(P7)=9,"Septembre",IF(MONTH(P7)=10,"Octobre",IF(MONTH(P7)=11,"Novembre","Décembre")))))))))))) -> Janvier | L7: =IF(P7="","",DAY(P7)) -> 1 | M7: =IF(P7="","",YEAR(P7)) -> 1951 | N7: N | O7: P | P7: 18629 | R7: =IF(P7="","",DATEDIF(P7,TODAY(),"y")) -> 63
A8: 228 | B8: Blondot | C8: Marie-Thèrese | D8: 228 | K8: =IF((P8)="","",IF(MONTH(P8)=1,"Janvier",IF(MONTH(P8)=2,"Février",IF(MONTH(P8)=3,"Mars",IF(MONTH(P8)=4,"Avril",IF(MONTH(P8)=5,"Mai",IF(MONTH(P8)=6,"Juin",IF(MONTH(P8)=7,"Juillet",IF(MONTH(P8)=8,"Août",IF(MONTH(P8)=9,"Septembre",IF(MONTH(P8)=10,"Octobre",IF(MONTH(P8)=11,"Novembre","Décembre")))))))))))) -> Mai | L8: =IF(P8="","",DAY(P8)) -> 5 | M8: =IF(P8="","",YEAR(P8)) -> 1949 | N8: R | O8: P | P8: 18023 | R8: =IF(P8="","",DATEDIF(P8,TODAY(),"y")) -> 65
A9: 207 | B9: Boisseaux | C9: Jocelyne | D9: 207 | K9: =IF((P9)="","",IF(MONTH(P9)=1,"Janvier",IF(MONTH(P9)=2,"Février",IF(MONTH(P9)=3,"Mars",IF(MONTH(P9)=4,"Avril",IF(MONTH(P9)=5,"Mai",IF(MONTH(P9)=6,"Juin",IF(MONTH(P9)=7,"Juillet",IF(MONTH(P9)=8,"Août",IF(MONTH(P9)=9,"Septembre",IF(MONTH(P9)=10,"Octobre",IF(MONTH(P9)=11,"Novembre","Décembre")))))))))))) -> Février | L9: =IF(P9="","",DAY(P9)) -> 25 | M9: =IF(P9="","",YEAR(P9)) -> 1958 | N9: R | O9: P | P9: 21241 | R9: =IF(P9="","",DATEDIF(P9,TODAY(),"y")) -> 56
A10: 262 | B10: Cabus | C10: Bernadette | D10: 262 | K10: =IF((P10)="","",IF(MONTH(P10)=1,"Janvier",IF(MONTH(P10)=2,"Février",IF(MONTH(P10)=3,"Mars",IF(MONTH(P10)=4,"Avril",IF(MONTH(P10)=5,"Mai",IF(MONTH(P10)=6,"Juin",IF(MONTH(P10)=7,"Juillet",IF(MONTH(P10)=8,"Août",IF(MONTH(P10)=9,"Septembre",IF(MONTH(P10)=10,"Octobre",IF(MONTH(P10)=11,"Novembre","Décembre")))))))))))) -> Septembre | L10: =IF(P10="","",DAY(P10)) -> 11 | M10: =IF(P10="","",YEAR(P10)) -> 1950 | N10: N | O10: P | P10: 18517 | R10: =IF(P10="","",DATEDIF(P10,TODAY(),"y")) -> 63
A11: 82 | B11: Carrez | C11: Alain | D11: 82 | K11: =IF((P11)="","",IF(MONTH(P11)=1,"Janvier",IF(MONTH(P11)=2,"Février",IF(MONTH(P11)=3,"Mars",IF(MONTH(P11)=4,"Avril",IF(MONTH(P11)=5,"Mai",IF(MONTH(P11)=6,"Juin",IF(MONTH(P11)=7,"Juillet",IF(MONTH(P11)=8,"Août",IF(MONTH(P11)=9,"Septembre",IF(MONTH(P11)=10,"Octobre",IF(MONTH(P11)=11,"Novembre","Décembre")))))))))))) -> Juillet | L11: =IF(P11="","",DAY(P11)) -> 23 | M11: =IF(P11="","",YEAR(P11)) -> 1947 | N11: R | O11: P | P11: 17371 | R11: =IF(P11="","",DATEDIF(P11,TODAY(),"y")) -> 66
A12: 196 | B12: Cattaneo | C12: Nathalie | D12: 196 | K12: =IF((P12)="","",IF(MONTH(P12)=1,"Janvier",IF(MONTH(P12)=2,"Février",IF(MONTH(P12)=3,"Mars",IF(MONTH(P12)=4,"Avril",IF(MONTH(P12)=5,"Mai",IF(MONTH(P12)=6,"Juin",IF(MONTH(P12)=7,"Juillet",IF(MONTH(P12)=8,"Août",IF(MONTH(P12)=9,"Septembre",IF(MONTH(P12)=10,"Octobre",IF(MONTH(P12)=11,"Novembre","Décembre")))))))))))) -> Août | L12: =IF(P12="","",DAY(P12)) -> 14 | M12: =IF(P12="","",YEAR(P12)) -> 1967 | N12: R | O12: P | P12: 24698 | R12: =IF(P12="","",DATEDIF(P12,TODAY(),"y")) -> 46
A13: 186 | B13: Chaventon | C13: Yvonne | D13: 186 | K13: =IF((P13)="","",IF(MONTH(P13)=1,"Janvier",IF(MONTH(P13)=2,"Février",IF(MONTH(P13)=3,"Mars",IF(MONTH(P13)=4,"Avril",IF(MONTH(P13)=5,"Mai",IF(MONTH(P13)=6,"Juin",IF(MONTH(P13)=7,"Juillet",IF(MONTH(P13)=8,"Août",IF(MONTH(P13)=9,"Septembre",IF(MONTH(P13)=10,"Octobre",IF(MONTH(P13)=11,"Novembre","Décembre")))))))))))) -> Avril | L13: =IF(P13="","",DAY(P13)) -> 29 | M13: =IF(P13="","",YEAR(P13)) -> 1946 | N13: R | O13: P | P13: 16921 | R13: =IF(P13="","",DATEDIF(P13,TODAY(),"y")) -> 68
A14: 127 | B14: Chenevoy | C14: Paulette | D14: 127 | K14: =IF((P14)="","",IF(MONTH(P14)=1,"Janvier",IF(MONTH(P14)=2,"Février",IF(MONTH(P14)=3,"Mars",IF(MONTH(P14)=4,"Avril",IF(MONTH(P14)=5,"Mai",IF(MONTH(P14)=6,"Juin",IF(MONTH(P14)=7,"Juillet",IF(MONTH(P14)=8,"Août",IF(MONTH(P14)=9,"Septembre",IF(MONTH(P14)=10,"Octobre",IF(MONTH(P14)=11,"Novembre","Décembre")))))))))))) -> Mars | L14: =IF(P14="","",DAY(P14)) -> 30 | M14: =IF(P14="","",YEAR(P14)) -> 1935 | N14: R | O14: P | P14: 12873 | R14: =IF(P14="","",DATEDIF(P14,TODAY(),"y")) -> 79
A15: 136 | B15: Clemence | C15: René | D15: 136 | K15: =IF((P15)="","",IF(MONTH(P15)=1,"Janvier",IF(MONTH(P15)=2,"Février",IF(MONTH(P15)=3,"Mars",IF(MONTH(P15)=4,"Avril",IF(MONTH(P15)=5,"Mai",IF(MONTH(P15)=6,"Juin",IF(MONTH(P15)=7,"Juillet",IF(MONTH(P15)=8,"Août",IF(MONTH(P15)=9,"Septembre",IF(MONTH(P15)=10,"Octobre",IF(MONTH(P15)=11,"Novembre","Décembre")))))))))))) -> Février | L15: =IF(P15="","",DAY(P15)) -> 28 | M15: =IF(P15="","",YEAR(P15)) -> 1943 | N15: R | O15: P | P15: 15765 | R15: =IF(P15="","",DATEDIF(P15,TODAY(),"y")) -> 71
A16: 259 | B16: Colas | C16: Henri | D16: 259 | K16: =IF((P16)="","",IF(MONTH(P16)=1,"Janvier",IF(MONTH(P16)=2,"Février",IF(MONTH(P16)=3,"Mars",IF(MONTH(P16)=4,"Avril",IF(MONTH(P16)=5,"Mai",IF(MONTH(P16)=6,"Juin",IF(MONTH(P16)=7,"Juillet",IF(MONTH(P16)=8,"Août",IF(MONTH(P16)=9,"Septembre",IF(MONTH(P16)=10,"Octobre",IF(MONTH(P16)=11,"Novembre","Décembre")))))))))))) -> Janvier | L16: =IF(P16="","",DAY(P16)) -> 16 | M16: =IF(P16="","",YEAR(P16)) -> 1936 | N16: N | O16: P | P16: 13165 | R16: =IF(P16="","",DATEDIF(P16,TODAY(),"y")) -> 78
... A23: 173 | B23: Gadriot | C23: Daniel | D23: 173 | K23: =IF((P23)="","",IF(MONTH(P23)=1,"Janvier",IF(MONTH(P23)=2,"Février",IF(MONTH(P23)=3,"Mars",IF(MONTH(P23)=4,"Avril",IF(MONTH(P23)=5,"Mai",IF(MONTH(P23)=6,"Juin",IF(MONTH(P23)=7,"Juillet",IF(MONTH(P23)=8,"Août",IF(MONTH(P23)=9,"Septembre",IF(MONTH(P23)=10,"Octobre",IF(MONTH(P23)=11,"Novembre","Décembre")))))))))))) -> Juillet | L23: =IF(P23="","",DAY(P23)) -> 1 | M23: =IF(P23="","",YEAR(P23)) -> 1950 | N23: R | O23: P | P23: 18445 | R23: =IF(P23="","",DATEDIF(P23,TODAY(),"y")) -> 63
A24: 141 | B24: Gaussens | C24: Didier | D24: 141 | K24: =IF((P24)="","",IF(MONTH(P24)=1,"Janvier",IF(MONTH(P24)=2,"Février",IF(MONTH(P24)=3,"Mars",IF(MONTH(P24)=4,"Avril",IF(MONTH(P24)=5,"Mai",IF(MONTH(P24)=6,"Juin",IF(MONTH(P24)=7,"Juillet",IF(MONTH(P24)=8,"Août",IF(MONTH(P24)=9,"Septembre",IF(MONTH(P24)=10,"Octobre",IF(MONTH(P24)=11,"Novembre","Décembre")))))))))))) -> Mars | L24: =IF(P24="","",DAY(P24)) -> 7 | M24: =IF(P24="","",YEAR(P24)) -> 1952 | N24: R | P24: 19060 | R24: =IF(P24="","",DATEDIF(P24,TODAY(),"y")) -> 62
A25: 34 | B25: Gautheron | C25: Claude | D25: 34 | K25: =IF((P25)="","",IF(MONTH(P25)=1,"Janvier",IF(MONTH(P25)=2,"Février",IF(MONTH(P25)=3,"Mars",IF(MONTH(P25)=4,"Avril",IF(MONTH(P25)=5,"Mai",IF(MONTH(P25)=6,"Juin",IF(MONTH(P25)=7,"Juillet",IF(MONTH(P25)=8,"Août",IF(MONTH(P25)=9,"Septembre",IF(MONTH(P25)=10,"Octobre",IF(MONTH(P25)=11,"Novembre","Décembre")))))))))))) -> Février | L25: =IF(P25="","",DAY(P25)) -> 16 | M25: =IF(P25="","",YEAR(P25)) -> 1937 | N25: R | O25: P | P25: 13562 | R25: =IF(P25="","",DATEDIF(P25,TODAY(),"y")) -> 77
A26: 237 | B26: Gay | C26: Fabienne | D26: 237 | K26: =IF((P26)="","",IF(MONTH(P26)=1,"Janvier",IF(MONTH(P26)=2,"Février",IF(MONTH(P26)=3,"Mars",IF(MONTH(P26)=4,"Avril",IF(MONTH(P26)=5,"Mai",IF(MONTH(P26)=6,"Juin",IF(MONTH(P26)=7,"Juillet",IF(MONTH(P26)=8,"Août",IF(MONTH(P26)=9,"Septembre",IF(MONTH(P26)=10,"Octobre",IF(MONTH(P26)=11,"Novembre","Décembre")))))))))))) -> Janvier | L26: =IF(P26="","",DAY(P26)) -> 25 | M26: =IF(P26="","",YEAR(P26)) -> 1958 | N26: R | O26: P | P26: 21210 | R26: =IF(P26="","",DATEDIF(P26,TODAY(),"y")) -> 56
A27: 255 | B27: Herbert | C27: Daniele | D27: 255 | K27: =IF((P27)="","",IF(MONTH(P27)=1,"Janvier",IF(MONTH(P27)=2,"Février",IF(MONTH(P27)=3,"Mars",IF(MONTH(P27)=4,"Avril",IF(MONTH(P27)=5,"Mai",IF(MONTH(P27)=6,"Juin",IF(MONTH(P27)=7,"Juillet",IF(MONTH(P27)=8,"Août",IF(MONTH(P27)=9,"Septembre",IF(MONTH(P27)=10,"Octobre",IF(MONTH(P27)=11,"Novembre","Décembre")))))))))))) | L27: =IF(P27="","",DAY(P27)) | M27: =IF(P27="","",YEAR(P27)) | N27: N | O27: P | R27: =IF(P27="","",DATEDIF(P27,TODAY(),"y"))
A28: 120 | B28: Jacoutot | C28: Jean | D28: 120 | K28: =IF((P28)="","",IF(MONTH(P28)=1,"Janvier",IF(MONTH(P28)=2,"Février",IF(MONTH(P28)=3,"Mars",IF(MONTH(P28)=4,"Avril",IF(MONTH(P28)=5,"Mai",IF(MONTH(P28)=6,"Juin",IF(MONTH(P28)=7,"Juillet",IF(MONTH(P28)=8,"Août",IF(MONTH(P28)=9,"Septembre",IF(MONTH(P28)=10,"Octobre",IF(MONTH(P28)=11,"Novembre","Décembre")))))))))))) -> Novembre | L28: =IF(P28="","",DAY(P28)) -> 22 | M28: =IF(P28="","",YEAR(P28)) -> 1951 | N28: R | O28: P | P28: 18954 | R28: =IF(P28="","",DATEDIF(P28,TODAY(),"y")) -> 62
A29: 36 | B29: Jan | C29: Louis | D29: 36 | K29: =IF((P29)="","",IF(MONTH(P29)=1,"Janvier",IF(MONTH(P29)=2,"Février",IF(MONTH(P29)=3,"Mars",IF(MONTH(P29)=4,"Avril",IF(MONTH(P29)=5,"Mai",IF(MONTH(P29)=6,"Juin",IF(MONTH(P29)=7,"Juillet",IF(MONTH(P29)=8,"Août",IF(MONTH(P29)=9,"Septembre",IF(MONTH(P29)=10,"Octobre",IF(MONTH(P29)=11,"Novembre","Décembre")))))))))))) -> Février | L29: =IF(P29="","",DAY(P29)) -> 11 | M29: =IF(P29="","",YEAR(P29)) -> 1923 | N29: MH | O29: MH | P29: 8443 | R29: =IF(P29="","",DATEDIF(P29,TODAY(),"y")) -> 91
A30: 253 | B30: Jardon | C30: Geneviève | D30: 253 | K30: =IF((P30)="","",IF(MONTH(P30)=1,"Janvier",IF(MONTH(P30)=2,"Février",IF(MONTH(P30)=3,"Mars",IF(MONTH(P30)=4,"Avril",IF(MONTH(P30)=5,"Mai",IF(MONTH(P30)=6,"Juin",IF(MONTH(P30)=7,"Juillet",IF(MONTH(P30)=8,"Août",IF(MONTH(P30)=9,"Septembre",IF(MONTH(P30)=10,"Octobre",IF(MONTH(P30)=11,"Novembre","Décembre")))))))))))) -> Février | L30: =IF(P30="","",DAY(P30)) -> 21 | M30: =IF(P30="","",YEAR(P30)) -> 1950 | N30: R | O30: P | P30: 18315 | R30: =IF(P30="","",DATEDIF(P30,TODAY(),"y")) -> 64
A31: 37 | B31: Lacreuse | C31: Gérard | D31: 37 | K31: =IF((P31)="","",IF(MONTH(P31)=1,"Janvier",IF(MONTH(P31)=2,"Février",IF(MONTH(P31)=3,"Mars",IF(MONTH(P31)=4,"Avril",IF(MONTH(P31)=5,"Mai",IF(MONTH(P31)=6,"Juin",IF(MONTH(P31)=7,"Juillet",IF(MONTH(P31)=8,"Août",IF(MONTH(P31)=9,"Septembre",IF(MONTH(P31)=10,"Octobre",IF(MONTH(P31)=11,"Novembre","Décembre")))))))))))) -> Octobre | L31: =IF(P31="","",DAY(P31)) -> 14 | M31: =IF(P31="","",YEAR(P31)) -> 1947 | N31: R | O31: Ani | P31: 17454 | R31: =IF(P31="","",DATEDIF(P31,TODAY(),"y")) -> 66
A32: 191 | B32: Lauer | C32: Nathalie | D32: 191 | K32: =IF((P32)="","",IF(MONTH(P32)=1,"Janvier",IF(MONTH(P32)=2,"Février",IF(MONTH(P32)=3,"Mars",IF(MONTH(P32)=4,"Avril",IF(MONTH(P32)=5,"Mai",IF(MONTH(P32)=6,"Juin",IF(MONTH(P32)=7,"Juillet",IF(MONTH(P32)=8,"Août",IF(MONTH(P32)=9,"Septembre",IF(MONTH(P32)=10,"Octobre",IF(MONTH(P32)=11,"Novembre","Décembre")))))))))))) -> Juin | L32: =IF(P32="","",DAY(P32)) -> 25 | M32: =IF(P32="","",YEAR(P32)) -> 1965 | N32: R | O32: P | P32: 23918 | R32: =IF(P32="","",DATEDIF(P32,TODAY(),"y")) -> 48
A33: 161 | B33: Lerondeau | C33: Michele | D33: 161 | K33: =IF((P33)="","",IF(MONTH(P33)=1,"Janvier",IF(MONTH(P33)=2,"Février",IF(MONTH(P33)=3,"Mars",IF(MONTH(P33)=4,"Avril",IF(MONTH(P33)=5,"Mai",IF(MONTH(P33)=6,"Juin",IF(MONTH(P33)=7,"Juillet",IF(MONTH(P33)=8,"Août",IF(MONTH(P33)=9,"Septembre",IF(MONTH(P33)=10,"Octobre",IF(MONTH(P33)=11,"Novembre","Décembre")))))))))))) -> Juin | L33: =IF(P33="","",DAY(P33)) -> 25 | M33: =IF(P33="","",YEAR(P33)) -> 1950 | N33: R | O33: P | P33: 18439 | R33: =IF(P33="","",DATEDIF(P33,TODAY(),"y")) -> 63
A34: 158 | B34: Lhuillier | C34: Paul | D34: 158 | K34: =IF((P34)="","",IF(MONTH(P34)=1,"Janvier",IF(MONTH(P34)=2,"Février",IF(MONTH(P34)=3,"Mars",IF(MONTH(P34)=4,"Avril",IF(MONTH(P34)=5,"Mai",IF(MONTH(P34)=6,"Juin",IF(MONTH(P34)=7,"Juillet",IF(MONTH(P34)=8,"Août",IF(MONTH(P34)=9,"Septembre",IF(MONTH(P34)=10,"Octobre",IF(MONTH(P34)=11,"Novembre","Décembre")))))))))))) -> Septembre | L34: =IF(P34="","",DAY(P34)) -> 23 | M34: =IF(P34="","",YEAR(P34)) -> 1951 | N34: R | O34: P | P34: 18894 | R34: =IF(P34="","",DATEDIF(P34,TODAY(),"y")) -> 62
A35: 204 | B35: Marseille | C35: Huguette | D35: 204 | K35: =IF((P35)="","",IF(MONTH(P35)=1,"Janvier",IF(MONTH(P35)=2,"Février",IF(MONTH(P35)=3,"Mars",IF(MONTH(P35)=4,"Avril",IF(MONTH(P35)=5,"Mai",IF(MONTH(P35)=6,"Juin",IF(MONTH(P35)=7,"Juillet",IF(MONTH(P35)=8,"Août",IF(MONTH(P35)=9,"Septembre",IF(MONTH(P35)=10,"Octobre",IF(MONTH(P35)=11,"Novembre","Décembre")))))))))))) -> Août | L35: =IF(P35="","",DAY(P35)) -> 10 | M35: =IF(P35="","",YEAR(P35)) -> 1944 | N35: R | O35: P | P35: 16294 | R35: =IF(P35="","",DATEDIF(P35,TODAY(),"y")) -> 69
A36: 125 | B36: Martiny | C36: Jean-Pierre | D36: 125 | K36: =IF((P36)="","",IF(MONTH(P36)=1,"Janvier",IF(MONTH(P36)=2,"Février",IF(MONTH(P36)=3,"Mars",IF(MONTH(P36)=4,"Avril",IF(MONTH(P36)=5,"Mai",IF(MONTH(P36)=6,"Juin",IF(MONTH(P36)=7,"Juillet",IF(MONTH(P36)=8,"Août",IF(MONTH(P36)=9,"Septembre",IF(MONTH(P36)=10,"Octobre",IF(MONTH(P36)=11,"Novembre","Décembre")))))))))))) -> Septembre | L36: =IF(P36="","",DAY(P36)) -> 23 | M36: =IF(P36="","",YEAR(P36)) -> 1942 | N36: R | O36: P | P36: 15607 | R36: =IF(P36="","",DATEDIF(P36,TODAY(),"y")) -> 71
A37: 205 | B37: Masi | C37: Marie-Thérèse | D37: 205 | K37: =IF((P37)="","",IF(MONTH(P37)=1,"Janvier",IF(MONTH(P37)=2,"Février",IF(MONTH(P37)=3,"Mars",IF(MONTH(P37)=4,"Avril",IF(MONTH(P37)=5,"Mai",IF(MONTH(P37)=6,"Juin",IF(MONTH(P37)=7,"Juillet",IF(MONTH(P37)=8,"Août",IF(MONTH(P37)=9,"Septembre",IF(MONTH(P37)=10,"Octobre",IF(MONTH(P37)=11,"Novembre","Décembre")))))))))))) -> Août | L37: =IF(P37="","",DAY(P37)) -> 17 | M37: =IF(P37="","",YEAR(P37)) -> 1942 | N37: R | O37: P | P37: 15570 | R37: =IF(P37="","",DATEDIF(P37,TODAY(),"y")) -> 71
A38: 260 | B38: Merle | C38: Sylvie | D38: 260 | K38: =IF((P38)="","",IF(MONTH(P38)=1,"Janvier",IF(MONTH(P38)=2,"Février",IF(MONTH(P38)=3,"Mars",IF(MONTH(P38)=4,"Avril",IF(MONTH(P38)=5,"Mai",IF(MONTH(P38)=6,"Juin",IF(MONTH(P38)=7,"Juillet",IF(MONTH(P38)=8,"Août",IF(MONTH(P38)=9,"Septembre",IF(MONTH(P38)=10,"Octobre",IF(MONTH(P38)=11,"Novembre","Décembre")))))))))))) -> Février | L38: =IF(P38="","",DAY(P38)) -> 22 | M38: =IF(P38="","",YEAR(P38)) -> 1965 | N38: N | O38: P | P38: 23795 | R38: =IF(P38="","",DATEDIF(P38,TODAY(),"y")) -> 49
A39: 261 | B39: Merle | C39: Véronique | D39: 261 | K39: =IF((P39)="","",IF(MONTH(P39)=1,"Janvier",IF(MONTH(P39)=2,"Février",IF(MONTH(P39)=3,"Mars",IF(MONTH(P39)=4,"Avril",IF(MONTH(P39)=5,"Mai",IF(MONTH(P39)=6,"Juin",IF(MONTH(P39)=7,"Juillet",IF(MONTH(P39)=8,"Août",IF(MONTH(P39)=9,"Septembre",IF(MONTH(P39)=10,"Octobre",IF(MONTH(P39)=11,"Novembre","Décembre")))))))))))) -> Septembre | L39: =IF(P39="","",DAY(P39)) -> 17 | M39: =IF(P39="","",YEAR(P39)) -> 1963 | N39: N | O39: P | P39: 23271 | R39: =IF(P39="","",DATEDIF(P39,TODAY(),"y")) -> 50
... A44: 218 | B44: Mutin | C44: Odile | D44: 218 | K44: =IF((P44)="","",IF(MONTH(P44)=1,"Janvier",IF(MONTH(P44)=2,"Février",IF(MONTH(P44)=3,"Mars",IF(MONTH(P44)=4,"Avril",IF(MONTH(P44)=5,"Mai",IF(MONTH(P44)=6,"Juin",IF(MONTH(P44)=7,"Juillet",IF(MONTH(P44)=8,"Août",IF(MONTH(P44)=9,"Septembre",IF(MONTH(P44)=10,"Octobre",IF(MONTH(P44)=11,"Novembre","Décembre")))))))))))) -> Avril | L44: =IF(P44="","",DAY(P44)) -> 4 | M44: =IF(P44="","",YEAR(P44)) -> 1953 | N44: R | O44: P | P44: 19453 | R44: =IF(P44="","",DATEDIF(P44,TODAY(),"y")) -> 61
A45: 107 | B45: Pamart | C45: Alain | D45: 107 | K45: =IF((P45)="","",IF(MONTH(P45)=1,"Janvier",IF(MONTH(P45)=2,"Février",IF(MONTH(P45)=3,"Mars",IF(MONTH(P45)=4,"Avril",IF(MONTH(P45)=5,"Mai",IF(MONTH(P45)=6,"Juin",IF(MONTH(P45)=7,"Juillet",IF(MONTH(P45)=8,"Août",IF(MONTH(P45)=9,"Septembre",IF(MONTH(P45)=10,"Octobre",IF(MONTH(P45)=11,"Novembre","Décembre")))))))))))) -> Mai | L45: =IF(P45="","",DAY(P45)) -> 6 | M45: =YEAR(P45) -> 1944 | N45: R | O45: P | P45: 16198 | R45: =IF(P45="","",DATEDIF(P45,TODAY(),"y")) -> 70
