Workbook
Name SUBSTFRM: INDEX(Sheet2!$E$2:$E$32,MAX(INDEX((Sheet2!$A$2:$A$32=Sheet1!XFC1)*(Sheet2!$D$2:$D$32=Sheet1!XFD1)*ROW(Sheet2!$D$2:$D$32)-ROW(Sheet2!$D$1),)))

Sheet Sheet1
A1: Proyect | B1: identifier | C1: Text Operation | D1: Type
A2: 4500 | B2: 122 | C2: Destierre 1 | D2: 2345 | E2: =INDEX(Sheet2!$E$2:$E$32,MAX(INDEX((Sheet2!$A$2:$A$32=C2)*(Sheet2!$D$2:$D$32=D2)*ROW(Sheet2!$D$2:$D$32)-ROW(Sheet2!$D$1),))) -> Escavadora1200
A3: 4501 | B3: 102 | C3: Destierre 3 | D3: 2345 | E3: =INDEX(Sheet2!$E$2:$E$32,MAX(INDEX((Sheet2!$A$2:$A$32=C3)*(Sheet2!$D$2:$D$32=D3)*ROW(Sheet2!$D$2:$D$32)-ROW(Sheet2!$D$1),))) -> Escavadora1200
A4: 4501 | B4: 102 | C4: Destierre 4 | D4: 2346 | E4: =INDEX(Sheet2!$E$2:$E$32,MAX(INDEX((Sheet2!$A$2:$A$32=C4)*(Sheet2!$D$2:$D$32=D4)*ROW(Sheet2!$D$2:$D$32)-ROW(Sheet2!$D$1),))) -> Escavadora1201
A5: 4501 | B5: 102 | C5: Destierre 5 | D5: 2346 | E5: =INDEX(Sheet2!$E$2:$E$32,MAX(INDEX((Sheet2!$A$2:$A$32=C5)*(Sheet2!$D$2:$D$32=D5)*ROW(Sheet2!$D$2:$D$32)-ROW(Sheet2!$D$1),))) -> Escavadora1201
A6: 4501 | B6: 102 | C6: Excavación 6 | D6: 2347 | E6: =INDEX(Sheet2!$E$2:$E$32,MAX(INDEX((Sheet2!$A$2:$A$32=C6)*(Sheet2!$D$2:$D$32=D6)*ROW(Sheet2!$D$2:$D$32)-ROW(Sheet2!$D$1),))) -> Escavadora1202
A7: … | B7: … | C7: … | D7: … | E7: =INDEX(Sheet2!$E$2:$E$32,MAX(INDEX((Sheet2!$A$2:$A$32=C7)*(Sheet2!$D$2:$D$32=D7)*ROW(Sheet2!$D$2:$D$32)-ROW(Sheet2!$D$1),))) -> …
A8: … | B8: … | C8: … | D8: … | E8: =INDEX(Sheet2!$E$2:$E$32,MAX(INDEX((Sheet2!$A$2:$A$32=C8)*(Sheet2!$D$2:$D$32=D8)*ROW(Sheet2!$D$2:$D$32)-ROW(Sheet2!$D$1),))) -> …
A9: … | B9: … | C9: … | D9: … | E9: =INDEX(Sheet2!$E$2:$E$32,MAX(INDEX((Sheet2!$A$2:$A$32=C9)*(Sheet2!$D$2:$D$32=D9)*ROW(Sheet2!$D$2:$D$32)-ROW(Sheet2!$D$1),))) -> …
A10: … | B10: … | C10: … | D10: … | E10: =INDEX(Sheet2!$E$2:$E$32,MAX(INDEX((Sheet2!$A$2:$A$32=C10)*(Sheet2!$D$2:$D$32=D10)*ROW(Sheet2!$D$2:$D$32)-ROW(Sheet2!$D$1),))) -> …
A11: … | B11: … | C11: … | D11: … | E11: =INDEX(Sheet2!$E$2:$E$32,MAX(INDEX((Sheet2!$A$2:$A$32=C11)*(Sheet2!$D$2:$D$32=D11)*ROW(Sheet2!$D$2:$D$32)-ROW(Sheet2!$D$1),))) -> …
A12: 3000 | B12: 106 | C12: Destierre 10 | D12: 2351 | E12: =INDEX(Sheet2!$E$2:$E$32,MAX(INDEX((Sheet2!$A$2:$A$32=C12)*(Sheet2!$D$2:$D$32=D12)*ROW(Sheet2!$D$2:$D$32)-ROW(Sheet2!$D$1),))) -> Escavadora1206
A13: … | B13: … | C13: … | D13: … | E13: =INDEX(Sheet2!$E$2:$E$32,MAX(INDEX((Sheet2!$A$2:$A$32=C13)*(Sheet2!$D$2:$D$32=D13)*ROW(Sheet2!$D$2:$D$32)-ROW(Sheet2!$D$1),))) -> …
A14: … | B14: … | C14: … | D14: … | E14: =INDEX(Sheet2!$E$2:$E$32,MAX(INDEX((Sheet2!$A$2:$A$32=C14)*(Sheet2!$D$2:$D$32=D14)*ROW(Sheet2!$D$2:$D$32)-ROW(Sheet2!$D$1),))) -> …
A15: … | B15: … | C15: … | D15: … | E15: =INDEX(Sheet2!$E$2:$E$32,MAX(INDEX((Sheet2!$A$2:$A$32=C15)*(Sheet2!$D$2:$D$32=D15)*ROW(Sheet2!$D$2:$D$32)-ROW(Sheet2!$D$1),))) -> …
A16: … | B16: … | C16: … | D16: … | E16: =INDEX(Sheet2!$E$2:$E$32,MAX(INDEX((Sheet2!$A$2:$A$32=C16)*(Sheet2!$D$2:$D$32=D16)*ROW(Sheet2!$D$2:$D$32)-ROW(Sheet2!$D$1),))) -> …
A17: … | B17: … | C17: … | D17: … | E17: =INDEX(Sheet2!$E$2:$E$32,MAX(INDEX((Sheet2!$A$2:$A$32=C17)*(Sheet2!$D$2:$D$32=D17)*ROW(Sheet2!$D$2:$D$32)-ROW(Sheet2!$D$1),))) -> …
A18: … | B18: … | C18: … | D18: … | E18: =INDEX(Sheet2!$E$2:$E$32,MAX(INDEX((Sheet2!$A$2:$A$32=C18)*(Sheet2!$D$2:$D$32=D18)*ROW(Sheet2!$D$2:$D$32)-ROW(Sheet2!$D$1),))) -> …
A19: … | B19: … | C19: … | D19: … | E19: =INDEX(Sheet2!$E$2:$E$32,MAX(INDEX((Sheet2!$A$2:$A$32=C19)*(Sheet2!$D$2:$D$32=D19)*ROW(Sheet2!$D$2:$D$32)-ROW(Sheet2!$D$1),))) -> …
A20: 1601 | B20: 110 | C20: Excavación 21 | D20: 4233 | E20: =INDEX(Sheet2!$E$2:$E$32,MAX(INDEX((Sheet2!$A$2:$A$32=C20)*(Sheet2!$D$2:$D$32=D20)*ROW(Sheet2!$D$2:$D$32)-ROW(Sheet2!$D$1),))) -> Buldozer 3001
A21: 1601 | B21: 110 | C21: Excavación 21 | D21: 4233 | E21: =INDEX(Sheet2!$E$2:$E$32,MAX(INDEX((Sheet2!$A$2:$A$32=C21)*(Sheet2!$D$2:$D$32=D21)*ROW(Sheet2!$D$2:$D$32)-ROW(Sheet2!$D$1),))) -> Buldozer 3001
A22: 1601 | B22: 110 | C22: Excavación 21 | D22: 4233 | E22: =INDEX(Sheet2!$E$2:$E$32,MAX(INDEX((Sheet2!$A$2:$A$32=C22)*(Sheet2!$D$2:$D$32=D22)*ROW(Sheet2!$D$2:$D$32)-ROW(Sheet2!$D$1),))) -> Buldozer 3001
A23: 1601 | B23: 110 | C23: Excavación 21 | D23: 4233 | E23: =INDEX(Sheet2!$E$2:$E$32,MAX(INDEX((Sheet2!$A$2:$A$32=C23)*(Sheet2!$D$2:$D$32=D23)*ROW(Sheet2!$D$2:$D$32)-ROW(Sheet2!$D$1),))) -> Buldozer 3001
A24: 1601 | B24: 110 | C24: Excavación 21 | D24: 4233 | E24: =INDEX(Sheet2!$E$2:$E$32,MAX(INDEX((Sheet2!$A$2:$A$32=C24)*(Sheet2!$D$2:$D$32=D24)*ROW(Sheet2!$D$2:$D$32)-ROW(Sheet2!$D$1),))) -> Buldozer 3001
A25: 1601 | B25: 110 | C25: Excavación 21 | D25: 4233 | E25: =INDEX(Sheet2!$E$2:$E$32,MAX(INDEX((Sheet2!$A$2:$A$32=C25)*(Sheet2!$D$2:$D$32=D25)*ROW(Sheet2!$D$2:$D$32)-ROW(Sheet2!$D$1),))) -> Buldozer 3001
A26: 1601 | B26: 110 | C26: Excavación 21 | D26: 4233 | E26: =INDEX(Sheet2!$E$2:$E$32,MAX(INDEX((Sheet2!$A$2:$A$32=C26)*(Sheet2!$D$2:$D$32=D26)*ROW(Sheet2!$D$2:$D$32)-ROW(Sheet2!$D$1),))) -> Buldozer 3001
A27: 1601 | B27: 110 | C27: Excavación 21 | D27: 4233 | E27: =INDEX(Sheet2!$E$2:$E$32,MAX(INDEX((Sheet2!$A$2:$A$32=C27)*(Sheet2!$D$2:$D$32=D27)*ROW(Sheet2!$D$2:$D$32)-ROW(Sheet2!$D$1),))) -> Buldozer 3001
A28: 1601 | B28: 110 | C28: Excavación 21 | D28: 4233 | E28: =INDEX(Sheet2!$E$2:$E$32,MAX(INDEX((Sheet2!$A$2:$A$32=C28)*(Sheet2!$D$2:$D$32=D28)*ROW(Sheet2!$D$2:$D$32)-ROW(Sheet2!$D$1),))) -> Buldozer 3001
A29: 1601 | B29: 110 | C29: Excavación 21 | D29: 4233 | E29: =INDEX(Sheet2!$E$2:$E$32,MAX(INDEX((Sheet2!$A$2:$A$32=C29)*(Sheet2!$D$2:$D$32=D29)*ROW(Sheet2!$D$2:$D$32)-ROW(Sheet2!$D$1),))) -> Buldozer 3001
A30: 1601 | B30: 110 | C30: Excavación 21 | D30: 4233 | E30: =INDEX(Sheet2!$E$2:$E$32,MAX(INDEX((Sheet2!$A$2:$A$32=C30)*(Sheet2!$D$2:$D$32=D30)*ROW(Sheet2!$D$2:$D$32)-ROW(Sheet2!$D$1),))) -> Buldozer 3001
A31: 1601 | B31: 110 | C31: Excavación 21 | D31: 4233 | E31: =INDEX(Sheet2!$E$2:$E$32,MAX(INDEX((Sheet2!$A$2:$A$32=C31)*(Sheet2!$D$2:$D$32=D31)*ROW(Sheet2!$D$2:$D$32)-ROW(Sheet2!$D$1),))) -> Buldozer 3001
... A753: 1601 | B753: 110 | C753: Excavación 754 | D753: 4966 | E753: =INDEX(Sheet2!$E$2:$E$32,MAX(INDEX((Sheet2!$A$2:$A$32=C753)*(Sheet2!$D$2:$D$32=D753)*ROW(Sheet2!$D$2:$D$32)-ROW(Sheet2!$D$1),))) -> #VALUE!

Sheet Sheet2
A1: Text operation | B1: Start execution | C1: End execution | D1: Type | E1: Machine
A2: Destierre 1 | B2: 43193 | C2: 43193 | D2: 2345 | E2: Escavadora1200
A3: Destierre 2 | B3: 43193 | C3: 43193 | D3: 2345 | E3: Escavadora1200
A4: Destierre 3 | B4: 43193 | C4: 43193 | D4: 2345 | E4: Escavadora1200
A5: Excavación 1 | B5: 43193 | C5: 43193 | D5: 2345 | E5: Buldozer3000
A6: Excavación 2 | B6: 43193 | C6: 43193 | D6: 2345 | E6: Buldozer3000
A7: Destierre 4 | B7: 43193 | C7: 43193 | D7: 2346 | E7: Escavadora1201
A8: Destierre 5 | B8: 43193 | C8: 43193 | D8: 2346 | E8: Escavadora1201
A9: Excavación 6 | B9: 43193 | C9: 43193 | D9: 2347 | E9: Escavadora1202
A10: Destierre 7 | B10: 43193 | C10: 43193 | D10: 2348 | E10: Escavadora1203
A11: Destierre 8 | B11: 43193 | C11: 43193 | D11: 2349 | E11: Escavadora1204
A12: Destierre 9 | B12: 43193 | C12: 43193 | D12: 2350 | E12: Escavadora1205
A13: Destierre 10 | B13: 43193 | C13: 43193 | D13: 2351 | E13: Escavadora1206
A14: … | B14: … | C14: … | D14: … | E14: …
A15: … | B15: … | C15: … | D15: … | E15: …
A16: … | B16: … | C16: … | D16: … | E16: …
A17: … | B17: … | C17: … | D17: … | E17: …
A18: … | B18: … | C18: … | D18: … | E18: …
A19: … | B19: … | C19: … | D19: … | E19: …
A20: … | B20: … | C20: … | D20: … | E20: …
A21: … | B21: … | C21: … | D21: … | E21: …
A22: … | B22: … | C22: … | D22: … | E22: …
A23: … | B23: … | C23: … | D23: … | E23: …
A24: … | B24: … | C24: … | D24: … | E24: …
A25: … | B25: … | C25: … | D25: … | E25: …
A26: Excavación 21 | B26: 43200 | C26: 43202 | D26: 4233 | E26: Buldozer 3001
A27: … | B27: … | C27: … | D27: … | E27: …
A28: … | B28: … | C28: … | D28: … | E28: …
A29: … | B29: … | C29: … | D29: … | E29: …
A30: … | B30: … | C30: … | D30: … | E30: …
A31: … | B31: … | C31: … | D31: … | E31: …
A32: … | B32: … | C32: … | D32: … | E32: …

Sheet Hoja3
