Workbook

Sheet Base des données
A1: Date | B1: Prenom/Nom | C1: Nature | D1: Type | E1: =A1&B1&LEFT(C1,1)&LEFT(D1,1) -> DatePrenom/NomNT
A2: 42795 | B2: MALKI AHMED | C2: Contrat | D2: Sortie autorisée | E2: =A2&B2&LEFT(C2,1)&LEFT(D2,1) -> 42795MALKI AHMEDCS
A3: 42795 | B3: CHAIB ISMAIL | C3: Contrat | D3: Sortie autorisée | E3: =A3&B3&LEFT(C3,1)&LEFT(D3,1) -> 42795CHAIB ISMAILCS
A4: 42795 | B4: BOUJAA MOHAMED AMINE | C4: Contrat | D4: Sortie autorisée | E4: =A4&B4&LEFT(C4,1)&LEFT(D4,1) -> 42795BOUJAA MOHAMED AMINECS
A5: 42795 | B5: MALKI ELMAHI | C5: Contrat | D5: Sortie autorisée | E5: =A5&B5&LEFT(C5,1)&LEFT(D5,1) -> 42795MALKI ELMAHICS
A6: 42795 | B6: Benamara Houari | C6: Contrat | D6: Sortie autorisée | E6: =A6&B6&LEFT(C6,1)&LEFT(D6,1) -> 42795Benamara HouariCS
A7: 42795 | B7: TOUAHRI LAZREG | C7: Contrat | D7: Sortie autorisée | E7: =A7&B7&LEFT(C7,1)&LEFT(D7,1) -> 42795TOUAHRI LAZREGCS
A8: 42795 | B8: Naoui Alicherif | C8: Contrat | D8: Sortie autorisée | E8: =A8&B8&LEFT(C8,1)&LEFT(D8,1) -> 42795Naoui AlicherifCS
A9: 42795 | B9: Meddah Aboubakeur | C9: Contrat | D9: Sortie autorisée | E9: =A9&B9&LEFT(C9,1)&LEFT(D9,1) -> 42795Meddah AboubakeurCS
A10: 42795 | B10: HAMA HAMZA | C10: Contrat | D10: Sortie autorisée | E10: =A10&B10&LEFT(C10,1)&LEFT(D10,1) -> 42795HAMA HAMZACS
A11: 42795 | B11: Yahia Abdelkader | C11: Contrat | D11: Sortie autorisée | E11: =A11&B11&LEFT(C11,1)&LEFT(D11,1) -> 42795Yahia AbdelkaderCS
A12: 42795 | B12: Benoussad Mansour | C12: Contrat | D12: Sortie autorisée | E12: =A12&B12&LEFT(C12,1)&LEFT(D12,1) -> 42795Benoussad MansourCS
A13: 42795 | B13: Djaidi Ilyes | C13: Contrat | D13: Sortie autorisée | E13: =A13&B13&LEFT(C13,1)&LEFT(D13,1) -> 42795Djaidi IlyesCS
... A5042: 42799 | B5042: SAADI ABDELAZIZ | C5042: Visite | D5042: Sortie autorisée | E5042: =A5042&B5042&LEFT(C5042,1)&LEFT(D5042,1) -> 42799SAADI ABDELAZIZVS

Sheet Traitement des données
A1: Nombre de personne autorisée Entrée et Sortie
A2: Date | B2: Entrée autorisée | E2: Sortie autorisée
B3: Contrat | C3: Employé | D3: Visite | E3: Contrat | F3: Employé | G3: Visite
A4: 42795 | B4: =COUNTIFS('Base des données'!$A:$A,"="&$A4,'Base des données'!$C:$C,"="&$B$3,'Base des données'!$D:$D,"="&'Traitement des données'!$B$2) -> 368 | C4: =COUNTIFS('Base des données'!$A:$A,"="&$A4,'Base des données'!$C:$C,"="&$C$3,'Base des données'!$D:$D,"="&'Traitement des données'!$B$2) -> 255 | D4: =COUNTIFS('Base des données'!$A:$A,"="&$A4,'Base des données'!$C:$C,"="&$D$3,'Base des données'!$D:$D,"="&'Traitement des données'!$B$2) -> 15 | E4: =COUNTIFS('Base des données'!$A:$A,"="&$A4,'Base des données'!$C:$C,"="&$E$3,'Base des données'!$D:$D,"="&'Traitement des données'!$E$2) -> 365 | F4: =COUNTIFS('Base des données'!$A:$A,"="&$A4,'Base des données'!$C:$C,"="&$F$3,'Base des données'!$D:$D,"="&'Traitement des données'!$E$2) -> 255 | G4: =COUNTIFS('Base des données'!$A:$A,"="&$A4,'Base des données'!$C:$C,"="&$G$3,'Base des données'!$D:$D,"="&'Traitement des données'!$E$2) -> 16
A5: 42796 | B5: =COUNTIFS('Base des données'!$A:$A,"="&$A5,'Base des données'!$C:$C,"="&$B$3,'Base des données'!$D:$D,"="&'Traitement des données'!$B$2) -> 359 | C5: =COUNTIFS('Base des données'!$A:$A,"="&$A5,'Base des données'!$C:$C,"="&$C$3,'Base des données'!$D:$D,"="&'Traitement des données'!$B$2) -> 255 | D5: =COUNTIFS('Base des données'!$A:$A,"="&$A5,'Base des données'!$C:$C,"="&$D$3,'Base des données'!$D:$D,"="&'Traitement des données'!$B$2) -> 14 | E5: =COUNTIFS('Base des données'!$A:$A,"="&$A5,'Base des données'!$C:$C,"="&$E$3,'Base des données'!$D:$D,"="&'Traitement des données'!$E$2) -> 360 | F5: =COUNTIFS('Base des données'!$A:$A,"="&$A5,'Base des données'!$C:$C,"="&$F$3,'Base des données'!$D:$D,"="&'Traitement des données'!$E$2) -> 258 | G5: =COUNTIFS('Base des données'!$A:$A,"="&$A5,'Base des données'!$C:$C,"="&$G$3,'Base des données'!$D:$D,"="&'Traitement des données'!$E$2) -> 14
A6: 42797 | B6: =COUNTIFS('Base des données'!$A:$A,"="&$A6,'Base des données'!$C:$C,"="&$B$3,'Base des données'!$D:$D,"="&'Traitement des données'!$B$2) -> 187 | C6: =COUNTIFS('Base des données'!$A:$A,"="&$A6,'Base des données'!$C:$C,"="&$C$3,'Base des données'!$D:$D,"="&'Traitement des données'!$B$2) -> 143 | D6: =COUNTIFS('Base des données'!$A:$A,"="&$A6,'Base des données'!$C:$C,"="&$D$3,'Base des données'!$D:$D,"="&'Traitement des données'!$B$2) -> 4 | E6: =COUNTIFS('Base des données'!$A:$A,"="&$A6,'Base des données'!$C:$C,"="&$E$3,'Base des données'!$D:$D,"="&'Traitement des données'!$E$2) -> 178 | F6: =COUNTIFS('Base des données'!$A:$A,"="&$A6,'Base des données'!$C:$C,"="&$F$3,'Base des données'!$D:$D,"="&'Traitement des données'!$E$2) -> 137 | G6: =COUNTIFS('Base des données'!$A:$A,"="&$A6,'Base des données'!$C:$C,"="&$G$3,'Base des données'!$D:$D,"="&'Traitement des données'!$E$2) -> 4
A7: 42798 | B7: =COUNTIFS('Base des données'!$A:$A,"="&$A7,'Base des données'!$C:$C,"="&$B$3,'Base des données'!$D:$D,"="&'Traitement des données'!$B$2) -> 135 | C7: =COUNTIFS('Base des données'!$A:$A,"="&$A7,'Base des données'!$C:$C,"="&$C$3,'Base des données'!$D:$D,"="&'Traitement des données'!$B$2) -> 125 | D7: =COUNTIFS('Base des données'!$A:$A,"="&$A7,'Base des données'!$C:$C,"="&$D$3,'Base des données'!$D:$D,"="&'Traitement des données'!$B$2) -> 4 | E7: =COUNTIFS('Base des données'!$A:$A,"="&$A7,'Base des données'!$C:$C,"="&$E$3,'Base des données'!$D:$D,"="&'Traitement des données'!$E$2) -> 152 | F7: =COUNTIFS('Base des données'!$A:$A,"="&$A7,'Base des données'!$C:$C,"="&$F$3,'Base des données'!$D:$D,"="&'Traitement des données'!$E$2) -> 126 | G7: =COUNTIFS('Base des données'!$A:$A,"="&$A7,'Base des données'!$C:$C,"="&$G$3,'Base des données'!$D:$D,"="&'Traitement des données'!$E$2) -> 3
A8: 42799 | B8: =COUNTIFS('Base des données'!$A:$A,"="&$A8,'Base des données'!$C:$C,"="&$B$3,'Base des données'!$D:$D,"="&'Traitement des données'!$B$2) -> 367 | C8: =COUNTIFS('Base des données'!$A:$A,"="&$A8,'Base des données'!$C:$C,"="&$C$3,'Base des données'!$D:$D,"="&'Traitement des données'!$B$2) -> 266 | D8: =COUNTIFS('Base des données'!$A:$A,"="&$A8,'Base des données'!$C:$C,"="&$D$3,'Base des données'!$D:$D,"="&'Traitement des données'!$B$2) -> 19 | E8: =COUNTIFS('Base des données'!$A:$A,"="&$A8,'Base des données'!$C:$C,"="&$E$3,'Base des données'!$D:$D,"="&'Traitement des données'!$E$2) -> 367 | F8: =COUNTIFS('Base des données'!$A:$A,"="&$A8,'Base des données'!$C:$C,"="&$F$3,'Base des données'!$D:$D,"="&'Traitement des données'!$E$2) -> 271 | G8: =COUNTIFS('Base des données'!$A:$A,"="&$A8,'Base des données'!$C:$C,"="&$G$3,'Base des données'!$D:$D,"="&'Traitement des données'!$E$2) -> 19
