Workbook
Name BD: OFFSET(Feuil1!$A$1,,,COUNTA(Feuil1!$A:$A),3)

Sheet Feuil2
A1: BM | B1: ED/EP | C1: DATE ARRIVEE | D1: DATE ARRIVEE | G1: STX | H1: RPT | I1: JSB | J1: AIR | K1: FBT | M1: =DATE(N1,1,1)-1 -> 42369 | N1: =Feuil1!O2 -> 2016 | O1: =DATE(N1,12,31)+1 -> 42736
A2: =$G$1 -> STX | B2: =$F$2 -> ED | C2: =">" & $M$1 -> >42369 | D2: ="<" & $O$1 -> <42736 | F2: ED | G2: =DCOUNT([0]!BD,C1,A1:D2) -> 0 | H2: =DCOUNT([0]!BD,C3,A3:D4) -> 0 | I2: =DCOUNT([0]!BD,C5,A5:D6) -> 0 | J2: =DCOUNT([0]!BD,C7,A7:D8) -> 0 | K2: =DCOUNT([0]!BD,C9,A9:D10) -> 0
A3: BM | B3: ED/EP | C3: DATE ARRIVEE | D3: DATE ARRIVEE | F3: EP | G3: =DCOUNT([0]!BD,C11,A11:D12) -> 0 | H3: =DCOUNT([0]!BD,C13,A13:D14) -> 0 | I3: =DCOUNT([0]!BD,C15,A15:D16) -> 0 | J3: =DCOUNT([0]!BD,C17,A17:D18) -> 0 | K3: =DCOUNT([0]!BD,C19,A19:D20) -> 0
A4: =$H$1 -> RPT | B4: =$F$2 -> ED | C4: =">" & $M$1 -> >42369 | D4: ="<" & $O$1 -> <42736
A5: BM | B5: ED/EP | C5: DATE ARRIVEE | D5: DATE ARRIVEE
A6: =$I$1 -> JSB | B6: =$F$2 -> ED | C6: =">" & $M$1 -> >42369 | D6: ="<" & $O$1 -> <42736
A7: BM | B7: ED/EP | C7: DATE ARRIVEE | D7: DATE ARRIVEE
A8: =$J$1 -> AIR | B8: =$F$2 -> ED | C8: =">" & $M$1 -> >42369 | D8: ="<" & $O$1 -> <42736
A9: BM | B9: ED/EP | C9: DATE ARRIVEE | D9: DATE ARRIVEE
A10: =$K$1 -> FBT | B10: =$F$2 -> ED | C10: =">" & $M$1 -> >42369 | D10: ="<" & $O$1 -> <42736
A11: BM | B11: ED/EP | C11: DATE ARRIVEE | D11: DATE ARRIVEE
A12: =$G$1 -> STX | B12: =$F$3 -> EP | C12: =">" & $M$1 -> >42369 | D12: ="<" & $O$1 -> <42736
A13: BM | B13: ED/EP | C13: DATE ARRIVEE | D13: DATE ARRIVEE
A14: =$H$1 -> RPT | B14: =$F$3 -> EP | C14: =">" & $M$1 -> >42369 | D14: ="<" & $O$1 -> <42736
A15: BM | B15: ED/EP | C15: DATE ARRIVEE | D15: DATE ARRIVEE
A16: =$I$1 -> JSB | B16: =$F$3 -> EP | C16: =">" & $M$1 -> >42369 | D16: ="<" & $O$1 -> <42736
A17: BM | B17: ED/EP | C17: DATE ARRIVEE | D17: DATE ARRIVEE
A18: =$J$1 -> AIR | B18: =$F$3 -> EP | C18: =">" & $M$1 -> >42369 | D18: ="<" & $O$1 -> <42736
A19: BM | B19: ED/EP | C19: DATE ARRIVEE | D19: DATE ARRIVEE
A20: =$K$1 -> FBT | B20: =$F$3 -> EP | C20: =">" & $M$1 -> >42369 | D20: ="<" & $O$1 -> <42736

Sheet Feuil1
A1: BM | B1: ED/EP | C1: DATE ARRIVEE | H1: STX | I1: RPT | J1: JSB | K1: AIR | L1: FBT
A2: STX | B2: ED | C2: 43132 | G2: ED | H2: =Feuil2!G2 -> 0 | I2: =Feuil2!H2 -> 0 | J2: =Feuil2!I2 -> 0 | K2: =Feuil2!J2 -> 0 | L2: =Feuil2!K2 -> 0 | O2: 2016
A3: STX | B3: EP | C3: 43221 | G3: EP | H3: =Feuil2!G3 -> 0 | I3: =Feuil2!H3 -> 0 | J3: =Feuil2!I3 -> 0 | K3: =Feuil2!J3 -> 0 | L3: =Feuil2!K3 -> 0
A4: RPT | B4: EP | C4: 42979
A5: JSB | B5: EP | C5: 43739
A6: RPT | B6: ED | C6: 43221
A7: JSB | B7: ED | C7: 43221
A8: JSB | B8: ED | C8: 43221
A9: AIR | B9: ED | C9: 43221
A10: FBT | B10: EP | C10: 43221
A11: STX | B11: ED | C11: 43191
A12: STX | B12: ED | C12: 42826
A13: RPT | B13: ED | C13: 43586
