Workbook
Name Plan_comptable: 'DATA GL'!$A$3:$J$213

Sheet __XLGL_4_TEMPLATES__

Sheet __XLGL_4_

Sheet DATA GL
A1: GL | B1: Nom du client | F1: 1er déboursé | G1: therme | I1: Septembre 2015 | J1: Octobre 2015 | K1: Novembre 2015 | L1: Décembre 2015 | M1: Janvier 2016 | N1: Février 2016 | O1: Mars 2016 | P1: Avril 2016 | Q1: Mai 2016 | R1: Juin 2016 | S1: Juillet 2016 | T1: Août 2016 | U1: Septembre 2016
I2: 42248 | J2: 42278 | K2: 42309 | L2: 42339 | M2: 42370 | N2: 42401 | O2: 42430 | P2: 42461 | Q2: 42491 | R2: 42522 | S2: 42552 | T2: 42583 | U2: 42614
I3: 42277 | J3: 42308 | K3: 42338 | L3: 42369 | M3: 42400 | N3: 42428 | O3: 42460 | P3: 42490 | Q3: 42521 | R3: 42551 | S3: 42582 | T3: 42613 | U3: 42643
A4: 128050 | B4: Client 1 | F4: 42364 | G4: 6 | I4: 0 | J4: 0 | K4: 0 | L4: 2907.1789 | M4: 2907.1789 | N4: 2907.1789 | O4: 2907.1789 | P4: 2907.1789 | Q4: 2907.1789 | R4: 2507.4189 | S4: 2187.6589 | T4: 2187.6589 | U4: 2187.6589
A5: =A4+1 -> 128051 | B5: Client 2 | F5: 42364 | G5: 6 | I5: 0 | J5: 0 | K5: 0 | L5: 2907.1789 | M5: 2907.1789 | N5: 2907.1789 | O5: 2907.1789 | P5: 2907.1789 | Q5: 2907.1789 | R5: 2507.4189 | S5: 0 | T5: 0 | U5: 0
A6: =A5+1 -> 128052 | B6: Client 3 | F6: 42292 | G6: 18 | I6: 0 | J6: 91.95554 | K6: 91.95554 | L6: 2907.1789 | M6: 2907.1789 | N6: 2907.1789 | O6: 2907.1789 | P6: 2907.1789 | Q6: 2907.1789 | R6: 2507.4189 | S6: 2187.6589 | T6: 2187.6589 | U6: 2187.6589
A7: =A6+1 -> 128053 | B7: Client 4 | F7: 42364 | G7: 6 | I7: 0 | J7: 0 | K7: 0 | L7: 2907.1789 | M7: 2907.1789 | N7: 2907.1789 | O7: 2907.1789 | P7: 2907.1789 | Q7: 2907.1789 | R7: 2507.4189 | S7: 2187.6589 | T7: 2187.6589 | U7: 2187.6589
A8: =A7+1 -> 128054 | B8: Client 5 | F8: 42364 | G8: 6 | I8: 0 | J8: 0 | K8: 0 | L8: 2907.1789 | M8: 2907.1789 | N8: 2907.1789 | O8: 2907.1789 | P8: 2907.1789 | Q8: 2907.1789 | R8: 2507.4189 | S8: 2187.6589 | T8: 2187.6589 | U8: 2187.6589
A9: =A8+1 -> 128055 | B9: Client 6 | F9: 42292 | G9: 18 | I9: 0 | J9: 91.95554 | K9: 91.95554 | L9: 2907.1789 | M9: 2907.1789 | N9: 2907.1789 | O9: 2907.1789 | P9: 2907.1789 | Q9: 2907.1789 | R9: 2507.4189 | S9: 2187.6589 | T9: 2187.6589 | U9: 0
A10: =A9+1 -> 128056 | B10: Client 7 | F10: 42500 | G10: 12 | I10: 0 | J10: 0 | K10: 0 | L10: 0 | M10: 0 | N10: 0 | O10: 0 | P10: 0 | Q10: 2907.1789 | R10: 2507.4189 | S10: 2187.6589 | T10: 2187.6589 | U10: 2187.6589
A11: =A10+1 -> 128057 | B11: Client 8 | F11: 42364 | G11: 6 | I11: 0 | J11: 0 | K11: 0 | L11: 2907.1789 | M11: 2907.1789 | N11: 2907.1789 | O11: 2907.1789 | P11: 2907.1789 | Q11: 2907.1789 | R11: 2507.4189 | S11: 2187.6589 | T11: 2187.6589 | U11: 0
A12: =A11+1 -> 128058 | B12: Client 9 | F12: 42364 | G12: 6 | I12: 0 | J12: 0 | K12: 0 | L12: 2907.1789 | M12: 2907.1789 | N12: 2907.1789 | O12: 2907.1789 | P12: 2907.1789 | Q12: 2907.1789 | R12: 2507.4189 | S12: 2187.6589 | T12: 2187.6589 | U12: 2187.6589
A13: =A12+1 -> 128059 | B13: Client 10 | F13: 42292 | G13: 18 | I13: 0 | J13: 91.95554 | K13: 91.95554 | L13: 2907.1789 | M13: 2907.1789 | N13: 2907.1789 | O13: 2907.1789 | P13: 2907.1789 | Q13: 0 | R13: 0 | S13: 0 | T13: 0 | U13: 0
A14: =A13+1 -> 128060 | B14: Client 11 | F14: 42364 | G14: 6 | I14: 0 | J14: 0 | K14: 0 | L14: 2907.1789 | M14: 2907.1789 | N14: 2907.1789 | O14: 2907.1789 | P14: 2907.1789 | Q14: 2907.1789 | R14: 2507.4189 | S14: 2187.6589 | T14: 0 | U14: 0
A15: =A14+1 -> 128061 | B15: Client 12 | F15: 42364 | G15: 6 | I15: 0 | J15: 0 | K15: 0 | L15: 2907.1789 | M15: 2907.1789 | N15: 2907.1789 | O15: 2907.1789 | P15: 2907.1789 | Q15: 2907.1789 | R15: 2507.4189 | S15: 2187.6589 | T15: 2187.6589 | U15: 2187.6589
A16: =A15+1 -> 128062 | B16: Client 13 | F16: 42364 | G16: 6 | I16: 0 | J16: 0 | K16: 0 | L16: 2907.1789 | M16: 2907.1789 | N16: 2907.1789 | O16: 2907.1789 | P16: 2907.1789 | Q16: 2907.1789 | R16: 2507.4189 | S16: 2187.6589 | T16: 2187.6589 | U16: 2187.6589
... A33: =A32+1 -> 128079 | B33: Client 30 | F33: 42292 | G33: 18 | I33: 0 | J33: 91.95554 | K33: 91.95554 | L33: 2907.1789 | M33: 2907.1789 | N33: 2907.1789 | O33: 2907.1789 | P33: 2907.1789 | Q33: 2907.1789 | R33: 2507.4189 | S33: 2187.6589 | T33: 0 | U33: 0

Sheet Variation
H1: 10 | I1: 11 | J1: 12 | K1: 13 | L1: 14 | M1: =L1+1 -> 15 | N1: =M1+1 -> 16 | O1: =N1+1 -> 17 | P1: =O1+1 -> 18 | Q1: =P1+1 -> 19 | R1: =Q1+1 -> 20 | S1: =R1+1 -> 21
A2: Prêt | B2: GL | C2: Type de prêt | D2: Honoraires | E2: Durée du prêt | F2: Terme selon GL | G2: Date réel début de prêt | H2: 42308 | I2: 42338 | J2: 42369 | K2: 42400 | L2: 42429 | M2: 42460 | N2: 42490 | O2: 42521 | P2: 42551 | Q2: 42582 | R2: 42613 | S2: 42643 | T2: =DATE(2016,10,31) -> 42674 | U2: =DATE(2016,11,30) -> 42704 | V2: =DATE(2016,12,31) -> 42735 | W2: =DATE(2017,1,31) -> 42766
A3: Octobre 2015 (Prêts) | H3: =VLOOKUP($B4,'DATA GL'!$A:$U,H$1,FALSE) -> 91.95554 | I3: =VLOOKUP($B4,'DATA GL'!$A:$U,I$1,FALSE) -> 91.95554 | J3: =VLOOKUP($B4,'DATA GL'!$A:$U,J$1,FALSE) -> 2907.1789 | K3: =VLOOKUP($B4,'DATA GL'!$A:$U,K$1,FALSE) -> 2907.1789 | L3: =VLOOKUP($B4,'DATA GL'!$A:$U,L$1,FALSE) -> 2907.1789 | M3: =VLOOKUP($B4,'DATA GL'!$A:$U,M$1,FALSE) -> 2907.1789 | N3: =VLOOKUP($B4,'DATA GL'!$A:$U,N$1,FALSE) -> 2907.1789 | O3: =VLOOKUP($B4,'DATA GL'!$A:$U,O$1,FALSE) -> 2907.1789 | ... R3: =VLOOKUP($B4,'DATA GL'!$A:$U,R$1,FALSE) -> 2187.6589
A4: Client 6 | B4: 128055 | C4: 3e déboursé | D4: 2395 | E4: 3 | F4: =VLOOKUP(B4,'DATA GL'!A:G,7,FALSE) -> 18 | G4: =VLOOKUP(B4,'DATA GL'!A:G,6,FALSE) -> 42292 | H4: =IF(VLOOKUP($B4,'DATA GL'!$A:$U,H$1,FALSE)>0,$D4/(EDATE($G4,$F4)-$G4)*(EDATE($G4,$F4)-$G4-(DATEDIF($G$4,H$2,"d"))),0) -> 2325.073 | I4: =GALOPIN -> 2193.9599 | J4: =GALOPIN -> 2058.4763 | K4: =GALOPIN -> 1922.9927 | L4: =GALOPIN -> 1796.25 | M4: =GALOPIN -> 1660.7664 | N4: =GALOPIN -> 1529.6533 | O4: =GALOPIN -> 1394.1697 | P4: =GALOPIN -> 1263.0566 | ... S4: =GALOPIN -> 0
A5: Client 7 | B5: 128056 | C5: Renouvellement | D5: 9015 | E5: 12 | F5: =VLOOKUP(B5,'DATA GL'!A:G,7,FALSE) -> 12 | G5: =VLOOKUP(B5,'DATA GL'!A:G,6,FALSE) -> 42500 | H5: =GALOPIN -> 0 | I5: =GALOPIN -> 0 | J5: =GALOPIN -> 0 | K5: =GALOPIN -> 0 | L5: =GALOPIN -> 0 | M5: =GALOPIN -> 0 | N5: =GALOPIN -> 0 | O5: =GALOPIN -> 3359.0137 | ... S5: =GALOPIN -> 345.78082
A6: Novembre 2015 (Prêts)
A7: Client 21 | B7: 128070 | C7: 3e déboursé | D7: 5805 | E7: 8 | F7: =VLOOKUP(B7,'DATA GL'!A:G,7,FALSE) -> 6 | G7: =VLOOKUP(B7,'DATA GL'!A:G,6,FALSE) -> 42364 | H7: =GALOPIN -> 0 | I7: =GALOPIN -> 0 | J7: =GALOPIN -> 3362.459 | K7: =GALOPIN -> 2379.0984 | L7: =GALOPIN -> 1459.1803 | M7: =GALOPIN -> 475.81967 | N7: =GALOPIN -> -475.81967 | O7: =GALOPIN -> -1459.1803 | ... S7: =GALOPIN -> -5329.1803
A8: Client 22 | B8: 128071 | C8: 3e déboursé | D8: 2965 | E8: 9 | F8: =VLOOKUP(B8,'DATA GL'!A:G,7,FALSE) -> 6 | G8: =VLOOKUP(B8,'DATA GL'!A:G,6,FALSE) -> 42364 | H8: =GALOPIN -> 0 | I8: =GALOPIN -> 0 | J8: =GALOPIN -> 1717.4317 | K8: =GALOPIN -> 1215.1639 | L8: =GALOPIN -> 745.30055 | M8: =GALOPIN -> 243.03279 | N8: =GALOPIN -> -243.03279 | O8: =GALOPIN -> -745.30055 | ... S8: =GALOPIN -> 0
A9: Décembre 2015 (Prêts)
A10: Client 1 | B10: 128050 | C10: 1er déboursé | D10: 18444 | E10: 12 | F10: =VLOOKUP(B10,'DATA GL'!A:G,7,FALSE) -> 6 | G10: =VLOOKUP(B10,'DATA GL'!A:G,6,FALSE) -> 42364 | H10: =GALOPIN -> 0 | I10: =GALOPIN -> 0 | J10: =GALOPIN -> 10683.41 | K10: =GALOPIN -> 7559.0164 | L10: =GALOPIN -> 4636.1967 | M10: =GALOPIN -> 1511.8033 | N10: =GALOPIN -> -1511.8033 | O10: =GALOPIN -> -4636.1967 | ... S10: =GALOPIN -> -16932.197
A11: Client 2 | B11: =B10+1 -> 128051 | C11: 2e déboursé | D11: 3210 | E11: 12 | F11: =VLOOKUP(B11,'DATA GL'!A:G,7,FALSE) -> 6 | G11: =VLOOKUP(B11,'DATA GL'!A:G,6,FALSE) -> 42364 | H11: =GALOPIN -> 0 | I11: =GALOPIN -> 0 | J11: =GALOPIN -> 1859.3443 | K11: =GALOPIN -> 1315.5738 | L11: =GALOPIN -> 806.88525 | M11: =GALOPIN -> 263.11475 | N11: =GALOPIN -> -263.11475 | O11: =GALOPIN -> -806.88525 | ... S11: =GALOPIN -> 0
A12: Janvier (Prêts)
A13: Client 26 | B13: 128075 | C13: 1er déboursé | D13: 10932 | E13: 0 | F13: =VLOOKUP(B13,'DATA GL'!A:G,7,FALSE) -> 6 | G13: =VLOOKUP(B13,'DATA GL'!A:G,6,FALSE) -> 42364 | H13: =GALOPIN -> 0 | I13: =GALOPIN -> 0 | J13: =GALOPIN -> 6332.1967 | K13: =GALOPIN -> 4480.3279 | L13: =GALOPIN -> 2747.9344 | M13: =GALOPIN -> 896.06557 | N13: =GALOPIN -> -896.06557 | O13: =GALOPIN -> -2747.9344 | ... S13: =GALOPIN -> -10035.934
A14: Client 27 | B14: 128076 | C14: 3e déboursé | D14: 1925 | E14: 3 | F14: =VLOOKUP(B14,'DATA GL'!A:G,7,FALSE) -> 18 | G14: =VLOOKUP(B14,'DATA GL'!A:G,6,FALSE) -> 42292 | H14: =GALOPIN -> 1868.7956 | I14: =GALOPIN -> 1763.4124 | J14: =GALOPIN -> 1654.5164 | K14: =GALOPIN -> 1545.6204 | L14: =GALOPIN -> 1443.75 | M14: =GALOPIN -> 1334.854 | N14: =GALOPIN -> 1229.4708 | O14: =GALOPIN -> 1120.5748 | ... S14: =GALOPIN -> 692.01642
A15: Février (Prêts)
A16: Client 29 | B16: 128078 | C16: 3e déboursé | D16: 1316 | E16: 7 | F16: =VLOOKUP(B16,'DATA GL'!A:G,7,FALSE) -> 12 | G16: =VLOOKUP(B16,'DATA GL'!A:G,6,FALSE) -> 42500 | H16: =GALOPIN -> 0 | I16: =GALOPIN -> 0 | J16: =GALOPIN -> 0 | K16: =GALOPIN -> 0 | L16: =GALOPIN -> 0 | M16: =GALOPIN -> 0 | N16: =GALOPIN -> 0 | O16: =GALOPIN -> 490.34521 | ... S16: =GALOPIN -> 50.476712
A17: Client 30 | B17: 128079 | C17: Renouvellement | D17: 2237.44 | E17: 12 | F17: =VLOOKUP(B17,'DATA GL'!A:G,7,FALSE) -> 18 | G17: =VLOOKUP(B17,'DATA GL'!A:G,6,FALSE) -> 42292 | H17: =GALOPIN -> 2172.1133 | I17: =GALOPIN -> 2049.6257 | J17: =GALOPIN -> 1923.0552 | K17: =GALOPIN -> 1796.4847 | L17: =GALOPIN -> 1678.08 | M17: =GALOPIN -> 1551.5095 | N17: =GALOPIN -> 1429.0219 | O17: =GALOPIN -> 1302.4514 | ... S17: =GALOPIN -> 0
A18: Mars (Prêts)
A19: Client 19 | B19: 128068 | C19: 3e déboursé | D19: 3332 | E19: 9 | F19: =VLOOKUP(B19,'DATA GL'!A:G,7,FALSE) -> 12 | G19: =VLOOKUP(B19,'DATA GL'!A:G,6,FALSE) -> 42500 | H19: =GALOPIN -> 0 | I19: =GALOPIN -> 0 | J19: =GALOPIN -> 0 | K19: =GALOPIN -> 0 | L19: =GALOPIN -> 0 | M19: =GALOPIN -> 0 | N19: =GALOPIN -> 0 | O19: =GALOPIN -> 1241.5123 | ... S19: =GALOPIN -> 127.80274
A20: Client 20 | B20: 128069 | D20: 5555 | E20: 12 | F20: 6 | G20: =VLOOKUP(B20,'DATA GL'!A:G,6,FALSE) -> 42364 | H20: =GALOPIN -> 0 | I20: =GALOPIN -> 0 | J20: =GALOPIN -> 3217.6503 | K20: =GALOPIN -> 2276.6393 | L20: =GALOPIN -> 1396.3388 | M20: =GALOPIN -> 455.32787 | N20: =GALOPIN -> -455.32787 | O20: =GALOPIN -> -1396.3388 | ... S20: =GALOPIN -> -5099.6721
A21: Avril (Prêts)
A22: Client 3 | B22: 128052 | C22: 1er déboursé | D22: 5736 | E22: 12 | F22: =VLOOKUP(B22,'DATA GL'!A:G,7,FALSE) -> 18 | G22: =VLOOKUP(B22,'DATA GL'!A:G,6,FALSE) -> 42292 | H22: =GALOPIN -> 5568.5255 | I22: =GALOPIN -> 5254.5109 | J22: =GALOPIN -> 4930.0292 | K22: =GALOPIN -> 4605.5474 | L22: =GALOPIN -> 4302 | M22: =GALOPIN -> 3977.5182 | N22: =GALOPIN -> 3663.5036 | O22: =GALOPIN -> 3339.0219 | ... S22: =GALOPIN -> 2062.0292
A23: Client 4 | B23: 128053 | C23: 1er déboursé | D23: 3205 | E23: 3 | F23: =VLOOKUP(B23,'DATA GL'!A:G,7,FALSE) -> 6 | G23: =VLOOKUP(B23,'DATA GL'!A:G,6,FALSE) -> 42364 | H23: =GALOPIN -> 0 | I23: =GALOPIN -> 0 | J23: =GALOPIN -> 1856.4481 | K23: =GALOPIN -> 1313.5246 | L23: =GALOPIN -> 805.62842 | M23: =GALOPIN -> 262.70492 | N23: =GALOPIN -> -262.70492 | O23: =GALOPIN -> -805.62842 | ... S23: =GALOPIN -> -2942.2951
A24: Mai 2015 (Prêts)
A25: Client 25 | B25: 128074 | C25: 2e déboursé | D25: 1800 | E25: 9 | F25: =VLOOKUP(B25,'DATA GL'!A:G,7,FALSE) -> 6 | G25: =VLOOKUP(B25,'DATA GL'!A:G,6,FALSE) -> 42364 | H25: =GALOPIN -> 0 | I25: =GALOPIN -> 0 | J25: =GALOPIN -> 1042.623 | K25: =GALOPIN -> 737.70492 | L25: =GALOPIN -> 452.45902 | M25: =GALOPIN -> 147.54098 | N25: =GALOPIN -> -147.54098 | O25: =GALOPIN -> -452.45902 | ... S25: =GALOPIN -> -1652.459
A26: Client 26 | B26: 128075 | C26: 1er déboursé | D26: 1568 | E26: 12 | F26: =VLOOKUP(B26,'DATA GL'!A:G,7,FALSE) -> 6 | G26: =VLOOKUP(B26,'DATA GL'!A:G,6,FALSE) -> 42364 | H26: =GALOPIN -> 0 | I26: =GALOPIN -> 0 | J26: =GALOPIN -> 908.24044 | K26: =GALOPIN -> 642.62295 | L26: =GALOPIN -> 394.14208 | M26: =GALOPIN -> 128.52459 | N26: =GALOPIN -> -128.52459 | O26: =GALOPIN -> -394.14208 | ... S26: =GALOPIN -> -1439.4754
A27: Juin (Prêts)
A28: Client 21 | B28: 128070 | C28: 1er déboursé | D28: 8759 | E28: 12 | F28: =VLOOKUP(B28,'DATA GL'!A:G,7,FALSE) -> 6 | G28: =VLOOKUP(B28,'DATA GL'!A:G,6,FALSE) -> 42364 | H28: =GALOPIN -> 0 | I28: =GALOPIN -> 0 | J28: =GALOPIN -> 5073.5191 | K28: =GALOPIN -> 3589.7541 | L28: =GALOPIN -> 2201.7158 | M28: =GALOPIN -> 717.95082 | N28: =GALOPIN -> -717.95082 | O28: =GALOPIN -> -2201.7158 | ... S28: =GALOPIN -> -8041.0492
A29: Client 22 | B29: 128071 | C29: 1er déboursé | D29: 5770 | E29: 12 | F29: =VLOOKUP(B29,'DATA GL'!A:G,7,FALSE) -> 6 | G29: =VLOOKUP(B29,'DATA GL'!A:G,6,FALSE) -> 42364 | H29: =GALOPIN -> 0 | I29: =GALOPIN -> 0 | J29: =GALOPIN -> 3342.1858 | K29: =GALOPIN -> 2364.7541 | L29: =GALOPIN -> 1450.3825 | M29: =GALOPIN -> 472.95082 | N29: =GALOPIN -> -472.95082 | O29: =GALOPIN -> -1450.3825 | ... S29: =GALOPIN -> 0
A30: Juillet (Prêts)
A31: Client 27 | B31: 128076 | C31: 2e déboursé | D31: 8460 | E31: 4 | F31: 6 | G31: =VLOOKUP(B31,'DATA GL'!A:G,6,FALSE) -> 42292 | H31: =GALOPIN -> 7720.3279 | I31: =GALOPIN -> 6333.4426 | J31: =GALOPIN -> 4900.3279 | K31: =GALOPIN -> 3467.2131 | L31: =GALOPIN -> 2126.5574 | M31: =GALOPIN -> 693.44262 | N31: =GALOPIN -> -693.44262 | O31: =GALOPIN -> -2126.5574 | ... S31: =GALOPIN -> -7766.5574
A32: Client 28 | B32: 128077 | C32: 2e déboursé | D32: 5195 | E32: 10 | F32: =VLOOKUP(B32,'DATA GL'!A:G,7,FALSE) -> 18 | G32: =VLOOKUP(B32,'DATA GL'!A:G,6,FALSE) -> 42292 | H32: =GALOPIN -> 5043.3212 | I32: =GALOPIN -> 4758.9234 | J32: =GALOPIN -> 4465.0456 | K32: =GALOPIN -> 4171.1679 | L32: =GALOPIN -> 3896.25 | M32: =GALOPIN -> 3602.3723 | N32: =GALOPIN -> 3317.9745 | O32: =GALOPIN -> 3024.0967 | ... S32: =GALOPIN -> 1867.5456
A33: Aout(Prêts)
A34: Client 1 | B34: 128050 | C34: 1er déboursé | D34: 7165 | E34: 12 | F34: =VLOOKUP(B34,'DATA GL'!A:G,7,FALSE) -> 6 | G34: =VLOOKUP(B34,'DATA GL'!A:G,6,FALSE) -> 42364 | H34: =GALOPIN -> 0 | I34: =GALOPIN -> 0 | J34: =GALOPIN -> 4150.2186 | K34: =GALOPIN -> 2936.4754 | L34: =GALOPIN -> 1801.0383 | M34: =GALOPIN -> 587.29508 | N34: =GALOPIN -> -587.29508 | O34: =GALOPIN -> -1801.0383 | ... S34: =GALOPIN -> -6577.7049
A35: Client 2 | B35: 128051 | C35: 1er déboursé | D35: 12500 | E35: 6 | F35: =VLOOKUP(B35,'DATA GL'!A:G,7,FALSE) -> 6 | G35: =VLOOKUP(B35,'DATA GL'!A:G,6,FALSE) -> 42364 | H35: =GALOPIN -> 0 | I35: =GALOPIN -> 0 | J35: =GALOPIN -> 7240.4372 | K35: =GALOPIN -> 5122.9508 | L35: =GALOPIN -> 3142.0765 | M35: =GALOPIN -> 1024.5902 | N35: =GALOPIN -> -1024.5902 | O35: =GALOPIN -> -3142.0765 | ... S35: =GALOPIN -> 0
G38: *La fonction JOURS() ne fonctionne pas avec Excel 2010! Quel serait la formule idéale pour arriver au même résultat dans Excel 2010?
