Workbook

Sheet Horaires
B1: H1début | C1: H1fin | D1: H2début | E1: H2fin | F1: P1début | G1: P1fin | H1: P2début | I1: P2fin | J1: NbH
A2: CJ1 | B2: 0.375 | C2: 0.60416667 | D2: 0.75 | E2: 0.9375 | F2: 0.45833333 | G2: 0.47916667 | J2: =(C2-B2)-(G2-F2)+(E2-D2)-(I2-H2) -> 0.39583333
A3: CJ2 | B3: 0.4375 | C3: 0.60416667 | D3: 0.75 | E3: 0.9375 | F3: 0.47916667 | G3: 0.48958333 | H3: 0.90625 | I3: 0.91666667 | J3: =(C3-B3)-(G3-F3)+(E3-D3)-(I3-H3) -> 0.33333333
A4: CM2 | B4: 0.4375 | C4: 0.60416667 | J4: =(C4-B4)-(G4-F4)+(E4-D4)-(I4-H4) -> 0.16666667
A5: CM1 | B5: 0.375 | C5: 0.60416667 | F5: 0.45833333 | G5: 0.46875 | J5: =(C5-B5)-(G5-F5)+(E5-D5)-(I5-H5) -> 0.21875
A6: CM3 | B6: 0.375 | C6: 0.66666667 | J6: =(C6-B6)-(G6-F6)+(E6-D6)-(I6-H6) -> 0.29166667
A7: CS1 | B7: 0.75 | C7: 0.9375 | F7: 0.90625 | G7: 0.91666667 | J7: =(C7-B7)-(G7-F7)+(E7-D7)-(I7-H7) -> 0.17708333
A8: SJ1 | B8: 0.375 | C8: 0.60416667 | D8: 0.75 | E8: 0.9375 | F8: 0.45833333 | G8: 0.47916667 | J8: =(C8-B8)-(G8-F8)+(E8-D8)-(I8-H8) -> 0.39583333
A9: SJ2 | B9: 0.45833333 | C9: 0.60416667 | D9: 0.75 | E9: 0.9375 | F9: 0.45833333 | G9: 0.46875 | J9: =(C9-B9)-(G9-F9)+(E9-D9)-(I9-H9) -> 0.32291667
A10: SM1 | B10: 0.375 | C10: 0.60416667 | F10: 0.45833333 | G10: 0.46875 | J10: =(C10-B10)-(G10-F10)+(E10-D10)-(I10-H10) -> 0.21875
A11: SM2 | B11: 0.4375 | C11: 0.60416667 | F11: 0.46875 | G11: 0.47916667 | J11: =(C11-B11)-(G11-F11)+(E11-D11)-(I11-H11) -> 0.15625
A12: SS1 | B12: 0.75 | C12: 0.9375 | F12: 0.90625 | G12: 0.91666667 | J12: =(C12-B12)-(G12-F12)+(E12-D12)-(I12-H12) -> 0.17708333
A13: SMCS | B13: 0.375 | C13: 0.60416667 | D13: 0.75 | E13: 0.9375 | F13: 0.47916667 | G13: 0.5 | J13: =(C13-B13)-(G13-F13)+(E13-D13)-(I13-H13) -> 0.39583333
A14: CMSS | B14: 0.375 | C14: 0.60416667 | D14: 0.75 | E14: 0.9375 | F14: 0.45833333 | G14: 0.47916667 | J14: =(C14-B14)-(G14-F14)+(E14-D14)-(I14-H14) -> 0.39583333
A15: B | B15: 0.45833333 | C15: 0.66666667 | J15: =(C15-B15)-(G15-F15)+(E15-D15)-(I15-H15) -> 0.20833333
A16: AA | B16: Arrêt accident | J16: 0.375
A17: AM | B17: Arrêt maladie | J17: 0.375
A18: V | B18: Vacances | J18: 0.375
A19: Secteur Cuisine
A20: Secteur Salle
A21: Secteur Administratif
A22: Secteur Tacos

Sheet Planning Juillet 24
A1: PLANNING JUILLET 2024 – RESTAURANT ET TACOS
B2: =B3 -> 45474 | C2: =C3 -> 45475 | D2: =D3 -> 45476 | E2: =E3 -> 45477 | F2: =F3 -> 45478 | G2: =G3 -> 45479 | H2: =H3 -> 45480 | I2: =I3 -> 45481 | ... AF2: =AF3 -> 45504 | AG2: S1 | AH2: S2 | AI2: S3 | AJ2: S4 | AK2: S5 | AL2: Total Mois
B3: 45474 | C3: 45475 | D3: 45476 | E3: 45477 | F3: 45478 | G3: 45479 | H3: 45480 | I3: 45481 | J3: 45482 | K3: 45483 | L3: 45484 | M3: 45485 | N3: 45486 | O3: 45487 | P3: 45488 | Q3: 45489 | R3: 45490 | S3: 45491 | T3: 45492 | U3: 45493 | V3: 45494 | W3: 45495 | X3: 45496 | Y3: 45497 | Z3: 45498 | AA3: 45499 | AB3: 45500 | AC3: 45501 | AD3: 45502 | AE3: 45503 | AF3: 45504
A4: Kévin | D4: SJ1 | E4: SS1 | F4: SS1 | G4: SJ2 | H4: SM2 | J4: SS1 | K4: SJ2 | L4: SJ2 | M4: SJ2 | N4: SJ2 | O4: SM2 | Q4: B | R4: B | S4: SJ1 | T4: V | W4: V | X4: V | Y4: V | Z4: V | AA4: V | AE4: B | AG4: =SUMPRODUCT((Horaires!$A$2:$A$18=B4:H4)*(Horaires!$J$2:$J$18)) -> 1.2291667 | AH4: =SUMPRODUCT((Horaires!$A$2:$A$18=I4:O4)*(Horaires!$J$2:$J$18)) -> 1.625 | AI4: =SUMPRODUCT((Horaires!$A$2:$A$18=P4:V4)*(Horaires!$J$2:$J$18)) -> 1.1875 | AJ4: =SUMPRODUCT((Horaires!$A$2:$A$18=W4:AC4)*(Horaires!$J$2:$J$18)) -> 1.875 | AK4: =SUMPRODUCT((Horaires!$A$2:$A$18=AD4:AF4)*(Horaires!$J$2:$J$18)) -> 0.20833333 | AL4: =SUMPRODUCT((Horaires!$A$2:$A$18=B4:AE4)*(Horaires!$J$2:$J$18)) -> 6.125
A5: Loïc | C5: CJ1 | D5: CM1 | E5: CM2 | F5: CJ2 | G5: CJ2 | H5: CJ2 | J5: CM3 | K5: CJ1 | L5: CM1 | M5: CJ2 | N5: CJ2 | O5: CJ2 | Q5: B | R5: B | T5: CJ1 | U5: CJ2 | V5: CJ2 | Z5: CJ1 | AA5: CJ2 | AB5: CS1 | AC5: CM2 | AE5: B | AG5: =SUMPRODUCT((Horaires!$A$2:$A$18=B5:H5)*(Horaires!$J$2:$J$18)) -> 1.78125 | AH5: =SUMPRODUCT((Horaires!$A$2:$A$18=I5:O5)*(Horaires!$J$2:$J$18)) -> 1.90625 | AI5: =SUMPRODUCT((Horaires!$A$2:$A$18=P5:V5)*(Horaires!$J$2:$J$18)) -> 1.4791667 | AJ5: =SUMPRODUCT((Horaires!$A$2:$A$18=W5:AC5)*(Horaires!$J$2:$J$18)) -> 1.0729167 | AK5: =SUMPRODUCT((Horaires!$A$2:$A$18=AD5:AF5)*(Horaires!$J$2:$J$18)) -> 0.20833333 | AL5: =SUMPRODUCT((Horaires!$A$2:$A$18=B5:AE5)*(Horaires!$J$2:$J$18)) -> 6.4479167
A6: Nohan | E6: CJ2 | F6: CJ2 | G6: CJ2 | H6: CJ2 | J6: CS1 | K6: CJ2 | L6: CS1 | M6: CS1 | N6: CJ2 | O6: CS1 | P6: V | Q6: V | R6: V | S6: V | T6: V | Z6: CJ1 | AA6: CJ2 | AB6: CJ2 | AC6: CJ2 | AG6: =SUMPRODUCT((Horaires!$A$2:$A$18=B6:H6)*(Horaires!$J$2:$J$18)) -> 1.3333333 | AH6: =SUMPRODUCT((Horaires!$A$2:$A$18=I6:O6)*(Horaires!$J$2:$J$18)) -> 1.375 | AI6: =SUMPRODUCT((Horaires!$A$2:$A$18=P6:V6)*(Horaires!$J$2:$J$18)) -> 1.875 | AJ6: =SUMPRODUCT((Horaires!$A$2:$A$18=W6:AC6)*(Horaires!$J$2:$J$18)) -> 1.3958333 | AK6: =SUMPRODUCT((Horaires!$A$2:$A$18=AD6:AF6)*(Horaires!$J$2:$J$18)) -> 0 | AL6: =SUMPRODUCT((Horaires!$A$2:$A$18=B6:AE6)*(Horaires!$J$2:$J$18)) -> 5.9791667
A7: Maxime | B7: AA | C7: AA | D7: AA | E7: AA | F7: AA | J7: AA | K7: AA | L7: AA | M7: AA | Q7: B | R7: B | S7: CJ1 | T7: CS1 | U7: CJ1 | V7: CJ2 | Z7: CJ1 | AA7: CS1 | AB7: CM2 | AD7: V | AE7: V | AF7: V | AG7: =SUMPRODUCT((Horaires!$A$2:$A$18=B7:H7)*(Horaires!$J$2:$J$18)) -> 1.875 | AH7: =SUMPRODUCT((Horaires!$A$2:$A$18=I7:O7)*(Horaires!$J$2:$J$18)) -> 1.5 | AI7: =SUMPRODUCT((Horaires!$A$2:$A$18=P7:V7)*(Horaires!$J$2:$J$18)) -> 1.71875 | AJ7: =SUMPRODUCT((Horaires!$A$2:$A$18=W7:AC7)*(Horaires!$J$2:$J$18)) -> 0.73958333 | AK7: =SUMPRODUCT((Horaires!$A$2:$A$18=AD7:AF7)*(Horaires!$J$2:$J$18)) -> 1.125 | AL7: =SUMPRODUCT((Horaires!$A$2:$A$18=B7:AE7)*(Horaires!$J$2:$J$18)) -> 6.5833333
A8: Sophie | G8: SS1 | H8: SM2 | O8: SM2 | T8: SS1 | U8: SS1 | V8: SM2 | AA8: SS1 | AB8: SS1 | AG8: =SUMPRODUCT((Horaires!$A$2:$A$18=B8:H8)*(Horaires!$J$2:$J$18)) -> 0.33333333 | AH8: =SUMPRODUCT((Horaires!$A$2:$A$18=I8:O8)*(Horaires!$J$2:$J$18)) -> 0.15625 | AI8: =SUMPRODUCT((Horaires!$A$2:$A$18=P8:V8)*(Horaires!$J$2:$J$18)) -> 0.51041667 | AJ8: =SUMPRODUCT((Horaires!$A$2:$A$18=W8:AC8)*(Horaires!$J$2:$J$18)) -> 0.35416667 | AK8: =SUMPRODUCT((Horaires!$A$2:$A$18=AD8:AF8)*(Horaires!$J$2:$J$18)) -> 0 | AL8: =SUMPRODUCT((Horaires!$A$2:$A$18=B8:AE8)*(Horaires!$J$2:$J$18)) -> 1.3541667
A9: Vanessa | C9: SJ1 | E9: SJ1 | F9: SJ1 | J9: SM1 | L9: SS1 | M9: SJ1 | N9: SS1 | O9: SM1 | Q9: B | S9: SS1 | T9: SJ1 | U9: SS1 | V9: SM2 | AA9: SJ1 | AB9: SJ1 | AC9: SM1 | AE9: B | AG9: =SUMPRODUCT((Horaires!$A$2:$A$18=B9:H9)*(Horaires!$J$2:$J$18)) -> 1.1875 | AH9: =SUMPRODUCT((Horaires!$A$2:$A$18=I9:O9)*(Horaires!$J$2:$J$18)) -> 1.1875 | AI9: =SUMPRODUCT((Horaires!$A$2:$A$18=P9:V9)*(Horaires!$J$2:$J$18)) -> 1.1145833 | AJ9: =SUMPRODUCT((Horaires!$A$2:$A$18=W9:AC9)*(Horaires!$J$2:$J$18)) -> 1.0104167 | AK9: =SUMPRODUCT((Horaires!$A$2:$A$18=AD9:AF9)*(Horaires!$J$2:$J$18)) -> 0.20833333 | AL9: =SUMPRODUCT((Horaires!$A$2:$A$18=B9:AE9)*(Horaires!$J$2:$J$18)) -> 4.7083333
A10: Vadim | C10: CM1 | D10: CS1 | E10: CS1 | F10: CJ1 | G10: SS1 | H10: SM2 | J10: CJ1 | L10: CJ2 | M10: CMSS | N10: SS1 | O10: CM1 | Q10: B | S10: CJ1 | T10: CMSS | U10: SS1 | V10: SM2 | Z10: SS1 | AA10: CMSS | AB10: SJ2 | AC10: SMCS | AE10: B | AG10: =SUMPRODUCT((Horaires!$A$2:$A$18=B10:H10)*(Horaires!$J$2:$J$18)) -> 1.3020833 | AH10: =SUMPRODUCT((Horaires!$A$2:$A$18=I10:O10)*(Horaires!$J$2:$J$18)) -> 1.5208333 | AI10: =SUMPRODUCT((Horaires!$A$2:$A$18=P10:V10)*(Horaires!$J$2:$J$18)) -> 1.3333333 | AJ10: =SUMPRODUCT((Horaires!$A$2:$A$18=W10:AC10)*(Horaires!$J$2:$J$18)) -> 1.2916667 | AK10: =SUMPRODUCT((Horaires!$A$2:$A$18=AD10:AF10)*(Horaires!$J$2:$J$18)) -> 0.20833333 | AL10: =SUMPRODUCT((Horaires!$A$2:$A$18=B10:AE10)*(Horaires!$J$2:$J$18)) -> 5.65625
A11: Alya | F11: CS1 | G11: CS1 | H11: CM2 | M11: CS1 | N11: SS1 | O11: CM2 | Q11: B | T11: CS1 | U11: CS1 | AB11: SS1 | AC11: CM2 | AG11: =SUMPRODUCT((Horaires!$A$2:$A$18=B11:H11)*(Horaires!$J$2:$J$18)) -> 0.52083333 | AH11: =SUMPRODUCT((Horaires!$A$2:$A$18=I11:O11)*(Horaires!$J$2:$J$18)) -> 0.52083333 | AI11: =SUMPRODUCT((Horaires!$A$2:$A$18=P11:V11)*(Horaires!$J$2:$J$18)) -> 0.5625 | AJ11: =SUMPRODUCT((Horaires!$A$2:$A$18=W11:AC11)*(Horaires!$J$2:$J$18)) -> 0.34375 | AK11: =SUMPRODUCT((Horaires!$A$2:$A$18=AD11:AF11)*(Horaires!$J$2:$J$18)) -> 0 | AL11: =SUMPRODUCT((Horaires!$A$2:$A$18=B11:AE11)*(Horaires!$J$2:$J$18)) -> 1.9479167
