Workbook
Name BDF: OFFSET(Feuil1!$A$1,,,COUNTA(Feuil1!$A:$A),5)

Sheet Feuil1
A1: firms | B1: year | C1: assets | D1: market value | E1: roa | H1: sans doublons | I1: firms | J1: ABACUS PROPERTY GRP | K1: ACCENT GROUP LTD | L1: ADBRI | M1: ALS LTD | N1: ALTIUM LTD | O1: ALUMINA LTD | P1: AMP LIMITED | Q1: AMPOL | R1: ANSELL LTD | S1: APA GROUP | T1: ARB CORPORATION LTD | U1: ARISTOCRAT LEISURE | V1: ATS AUTOMATION | W1: DENISON MINES CORP | X1: AGNICO EAGLE MINES | Y1: BARRICK GOLD CORP | Z1: ATCO LTD. | AA1: BALLARD POWER | AB1: BANK OF MONTREAL | AC1: BANK OF NOVA SCOTIA | AD1: LAURENTIAN BANK | AE1: BROOKFIELD ASSET | AF1: BORALEX INC | AG1: MARTINREA INT'L | AH1: BOMBARDIER INC. | AI1: SAPUTO INC | AJ1: CAN APT PROP REAL ES | AK1: NOVAGOLD RESOU | AL1: DESCARTES SYSTEMS GR | AM1: CCL INDUSTRIES | AN1: CAE INC. | AO1: CAMECO CO | AP1: ROGERS COMMUNICATION | AQ1: CANADIAN IMPERIAL | AR1: CANADIAN NATURAL | AS1: CANADIAN TIRE CORP | AT1: CANADIAN UTILITIES | AU1: CASCADES INC | AV1: CANADIAN NATIONAL | AW1: CANADIAN WESTERN | AX1: YAMANA GOLD INC | AY1: RIOCAN REIT | AZ1: SEABRIDGE GOLD INC. | BA1: RUSSEL METALS INC | BB1: GILDAN ACTIVEWEAR | BC1: OPEN TEXT CORP | BD1: CELESTICA INC. | BE1: ENGHOUSE SYSTEMS LIM | BF1: EMPIRE COMPANY LTD | BG1: FINNING INT'L INC | BH1: RITCHIE BROS
A2: ABACUS PROPERTY GRP | B2: 2005 | C2: 592906 | D2: 555.08 | E2: 9.57 | H2: firms | I2: Moyenne | J2: 1321.7519 | K2: 369.83437 | L2: 2230.9438 | M2: 2641.3163 | N2: 1024.2125 | O2: 5167.3219 | P2: 13038.621 | Q2: 6080.9087 | R2: 2622.3481 | S2: 5975.8469 | T2: 895.63313 | U2: 7582.4662 | V2: 1036.8794 | W2: 663.13375 | X2: 9932.2169 | Y2: 31385.531 | Z2: 3557.0331 | AA2: 1007.4519 | AB2: 44298.859 | AC2: 68030.733 | AD2: 1315.0056 | AE2: 34294.149 | AF2: 1002.4006 | AG2: 797.22688 | AH2: 5169.4206 | AI2: 10518.302 | AJ2: 3298.04 | AK2: 1774.6919 | AL2: 1607.2863 | AM2: 4211.0737 | AN2: 4322.1062 | AO2: 9057.7919 | AP2: 19902.902 | AQ2: 35777.01 | AR2: 39221.755 | AS2: 6951.6963 | AT2: 5574.7181 | AU2: 861.81312 | AV2: 50601.108 | AW2: 2135.7044 | AX2: 6130.9338 | AY2: 6511.2156 | AZ2: 826.40688 | BA2: 1419.9025 | BB2: 5740.3137 | BC2: 6539.4631 | BD2: 1657.2831 | BE2: 1041.065 | BF2: 3108.6488 | BG2: 4048.5725 | BH2: 3641.3025
A3: ABACUS PROPERTY GRP | B3: 2006 | C3: 1162153 | D3: 963.56 | E3: 13.23 | H3: ABACUS PROPERTY GRP | I3: =Calc!J1 -> 1321.7519 | J3: =J$2-$I3 -> 0 | K3: =K$2-$I3 -> -951.9175 | L3: =L$2-$I3 -> 909.19188 | M3: =M$2-$I3 -> 1319.5644 | N3: =N$2-$I3 -> -297.53938 | O3: =O$2-$I3 -> 3845.57 | P3: =P$2-$I3 -> 11716.869 | Q3: =Q$2-$I3 -> 4759.1569 | ... BH3: =BH$2-$I3 -> 2319.5506
A4: ABACUS PROPERTY GRP | B4: 2007 | C4: 1265685 | D4: 1071.97 | E4: 12.1 | H4: ACCENT GROUP LTD | I4: =Calc!J2 -> 369.83437 | J4: =J$2-$I4 -> 951.9175 | K4: =K$2-$I4 -> 0 | L4: =L$2-$I4 -> 1861.1094 | M4: =M$2-$I4 -> 2271.4819 | N4: =N$2-$I4 -> 654.37812 | O4: =O$2-$I4 -> 4797.4875 | P4: =P$2-$I4 -> 12668.786 | Q4: =Q$2-$I4 -> 5711.0744 | ... BH4: =BH$2-$I4 -> 3271.4681
A5: ABACUS PROPERTY GRP | B5: 2008 | C5: 1646016 | D5: 117.12 | E5: 7.76 | H5: ADBRI | I5: =Calc!J3 -> 2230.9438 | J5: =J$2-$I5 -> -909.19188 | K5: =K$2-$I5 -> -1861.1094 | L5: =L$2-$I5 -> 0 | M5: =M$2-$I5 -> 410.3725 | N5: =N$2-$I5 -> -1206.7313 | O5: =O$2-$I5 -> 2936.3781 | P5: =P$2-$I5 -> 10807.677 | Q5: =Q$2-$I5 -> 3849.965 | ... BH5: =BH$2-$I5 -> 1410.3587
A6: ABACUS PROPERTY GRP | B6: 2009 | C6: 1434464 | D6: 677.68 | E6: -3.74 | H6: ALS LTD | I6: =Calc!J4 -> 2641.3163 | J6: =J$2-$I6 -> -1319.5644 | K6: =K$2-$I6 -> -2271.4819 | L6: =L$2-$I6 -> -410.3725 | M6: =M$2-$I6 -> 0 | N6: =N$2-$I6 -> -1617.1038 | O6: =O$2-$I6 -> 2526.0056 | P6: =P$2-$I6 -> 10397.304 | Q6: =Q$2-$I6 -> 3439.5925 | ... BH6: =BH$2-$I6 -> 999.98625
A7: ABACUS PROPERTY GRP | B7: 2010 | C7: 1492115 | D7: 866.74 | E7: 3.7 | H7: ALTIUM LTD | I7: =Calc!J5 -> 1024.2125 | J7: =J$2-$I7 -> 297.53938 | K7: =K$2-$I7 -> -654.37812 | L7: =L$2-$I7 -> 1206.7313 | M7: =M$2-$I7 -> 1617.1038 | N7: =N$2-$I7 -> 0 | O7: =O$2-$I7 -> 4143.1094 | P7: =P$2-$I7 -> 12014.408 | Q7: =Q$2-$I7 -> 5056.6962 | ... BH7: =BH$2-$I7 -> 2617.09
A8: ABACUS PROPERTY GRP | B8: 2011 | C8: 1589141 | D8: 758.03 | E8: 3.27 | H8: ALUMINA LTD | I8: =Calc!J6 -> 5167.3219 | J8: =J$2-$I8 -> -3845.57 | K8: =K$2-$I8 -> -4797.4875 | L8: =L$2-$I8 -> -2936.3781 | M8: =M$2-$I8 -> -2526.0056 | N8: =N$2-$I8 -> -4143.1094 | O8: =O$2-$I8 -> 0 | P8: =P$2-$I8 -> 7871.2988 | Q8: =Q$2-$I8 -> 913.58687 | ... BH8: =BH$2-$I8 -> -1526.0194
A9: ABACUS PROPERTY GRP | B9: 2012 | C9: 2090497 | D9: 960.92 | E9: 1.13 | H9: AMP LIMITED | I9: =Calc!J7 -> 13038.621 | J9: =J$2-$I9 -> -11716.869 | K9: =K$2-$I9 -> -12668.786 | L9: =L$2-$I9 -> -10807.677 | M9: =M$2-$I9 -> -10397.304 | N9: =N$2-$I9 -> -12014.408 | O9: =O$2-$I9 -> -7871.2988 | P9: =P$2-$I9 -> 0 | Q9: =Q$2-$I9 -> -6957.7119 | ... BH9: =BH$2-$I9 -> -9397.3181
A10: ABACUS PROPERTY GRP | B10: 2013 | C10: 2115877 | D10: 1163.2 | E10: 5.29 | H10: AMPOL | I10: =Calc!J8 -> 6080.9087 | J10: =J$2-$I10 -> -4759.1569 | K10: =K$2-$I10 -> -5711.0744 | L10: =L$2-$I10 -> -3849.965 | M10: =M$2-$I10 -> -3439.5925 | N10: =N$2-$I10 -> -5056.6962 | O10: =O$2-$I10 -> -913.58687 | P10: =P$2-$I10 -> 6957.7119 | Q10: =Q$2-$I10 -> 0 | ... BH10: =BH$2-$I10 -> -2439.6062
A11: ABACUS PROPERTY GRP | B11: 2014 | C11: 2073856 | D11: 1543.34 | E11: 7.31 | H11: ANSELL LTD | I11: =Calc!J9 -> 2622.3481 | J11: =J$2-$I11 -> -1300.5963 | K11: =K$2-$I11 -> -2252.5138 | L11: =L$2-$I11 -> -391.40437 | M11: =M$2-$I11 -> 18.968125 | N11: =N$2-$I11 -> -1598.1356 | O11: =O$2-$I11 -> 2544.9737 | P11: =P$2-$I11 -> 10416.273 | Q11: =Q$2-$I11 -> 3458.5606 | ... BH11: =BH$2-$I11 -> 1018.9544
A12: ABACUS PROPERTY GRP | B12: 2015 | C12: 2130589 | D12: 1744.6 | E12: 8.24 | H12: APA GROUP | I12: =Calc!J10 -> 5975.8469 | J12: =J$2-$I12 -> -4654.095 | K12: =K$2-$I12 -> -5606.0125 | L12: =L$2-$I12 -> -3744.9031 | M12: =M$2-$I12 -> -3334.5306 | N12: =N$2-$I12 -> -4951.6344 | O12: =O$2-$I12 -> -808.525 | P12: =P$2-$I12 -> 7062.7738 | Q12: =Q$2-$I12 -> 105.06187 | ... BH12: =BH$2-$I12 -> -2334.5444
A13: ABACUS PROPERTY GRP | B13: 2016 | C13: 2439481 | D13: 1705.53 | E13: 9.89 | H13: ARB CORPORATION LTD | I13: =Calc!J11 -> 895.63313 | J13: =J$2-$I13 -> 426.11875 | K13: =K$2-$I13 -> -525.79875 | L13: =L$2-$I13 -> 1335.3106 | M13: =M$2-$I13 -> 1745.6831 | N13: =N$2-$I13 -> 128.57937 | O13: =O$2-$I13 -> 4271.6887 | P13: =P$2-$I13 -> 12142.988 | Q13: =Q$2-$I13 -> 5185.2756 | ... BH13: =BH$2-$I13 -> 2745.6694
A14: ABACUS PROPERTY GRP | B14: 2017 | C14: 2429716 | D14: 2367.76 | E14: 13.13 | H14: ARISTOCRAT LEISURE | I14: =Calc!J12 -> 7582.4662 | J14: =J$2-$I14 -> -6260.7144 | K14: =K$2-$I14 -> -7212.6319 | L14: =L$2-$I14 -> -5351.5225 | M14: =M$2-$I14 -> -4941.15 | N14: =N$2-$I14 -> -6558.2537 | O14: =O$2-$I14 -> -2415.1444 | P14: =P$2-$I14 -> 5456.1544 | Q14: =Q$2-$I14 -> -1501.5575 | ... BH14: =BH$2-$I14 -> -3941.1637
... A53: ALS LTD | B53: 2008 | C53: 670795 | D53: 872.4 | E53: 14.25 | H53: RITCHIE BROS | I53: =Calc!J51 -> 3641.3025 | J53: =J$2-$I53 -> -2319.5506 | K53: =K$2-$I53 -> -3271.4681 | L53: =L$2-$I53 -> -1410.3587 | M53: =M$2-$I53 -> -999.98625 | N53: =N$2-$I53 -> -2617.09 | O53: =O$2-$I53 -> 1526.0194 | P53: =P$2-$I53 -> 9397.3181 | Q53: =Q$2-$I53 -> 2439.6062 | ... BH53: =BH$2-$I53 -> 0
A54: ALS LTD | B54: 2009 | C54: 793942 | D54: 1856.06 | E54: 15.96
A55: ALS LTD | B55: 2010 | C55: 940160 | D55: 2619.13 | E55: 9.65
A56: ALS LTD | B56: 2011 | C56: 1158552 | D56: 3354.24 | E56: 13.38
A57: ALS LTD | B57: 2012 | C57: 1622558 | D57: 3775.69 | E57: 16.89
A58: ALS LTD | B58: 2013 | C58: 1718400 | D58: 3489.13 | E58: 14.52
A59: ALS LTD | B59: 2014 | C59: 2510500 | D59: 2190.98 | E59: 8.3
A60: ALS LTD | B60: 2015 | C60: 2384800 | D60: 1845.43 | E60: -5.67
A61: ALS LTD | B61: 2016 | C61: 2121100 | D61: 2899.27 | E61: -8.99
A62: ALS LTD | B62: 2017 | C62: 2129100 | D62: 3510.82 | E62: 4.86
A63: ALS LTD | B63: 2018 | C63: 2036300 | D63: 3319.73 | E63: 3.31
A64: ALS LTD | B64: 2019 | C64: 2157000 | D64: 4520.32 | E64: 8.51
A65: ALS LTD | B65: 2020 | C65: 2898200 | D65: 4650.58 | E65: 5.93
... A817: RITCHIE BROS | B817: 2020 | C817: 2976341 | D817: 9969.64 | E817: 9.01

Sheet Calc
A1: firms | B1: market value | H1: ABACUS PROPERTY GRP | J1: =INDIRECT("C" & ROW()*2) -> 1321.7519
A2: =INDIRECT("H" & ROW()/2) -> ABACUS PROPERTY GRP | C2: =DAVERAGE([0]!BDF,B1,A1:B2) -> 1321.7519 | H2: ACCENT GROUP LTD | J2: =INDIRECT("C" & ROW()*2) -> 369.83437
A3: firms | B3: market value | H3: ADBRI | J3: =INDIRECT("C" & ROW()*2) -> 2230.9438
A4: =INDIRECT("H" & ROW()/2) -> ACCENT GROUP LTD | C4: =DAVERAGE([0]!BDF,B3,A3:B4) -> 369.83437 | H4: ALS LTD | J4: =INDIRECT("C" & ROW()*2) -> 2641.3163
A5: firms | B5: market value | H5: ALTIUM LTD | J5: =INDIRECT("C" & ROW()*2) -> 1024.2125
A6: =INDIRECT("H" & ROW()/2) -> ADBRI | C6: =DAVERAGE([0]!BDF,B5,A5:B6) -> 2230.9438 | H6: ALUMINA LTD | J6: =INDIRECT("C" & ROW()*2) -> 5167.3219
A7: firms | B7: market value | H7: AMP LIMITED | J7: =INDIRECT("C" & ROW()*2) -> 13038.621
A8: =INDIRECT("H" & ROW()/2) -> ALS LTD | C8: =DAVERAGE([0]!BDF,B7,A7:B8) -> 2641.3163 | H8: AMPOL | J8: =INDIRECT("C" & ROW()*2) -> 6080.9087
A9: firms | B9: market value | H9: ANSELL LTD | J9: =INDIRECT("C" & ROW()*2) -> 2622.3481
A10: =INDIRECT("H" & ROW()/2) -> ALTIUM LTD | C10: =DAVERAGE([0]!BDF,B9,A9:B10) -> 1024.2125 | H10: APA GROUP | J10: =INDIRECT("C" & ROW()*2) -> 5975.8469
A11: firms | B11: market value | H11: ARB CORPORATION LTD | J11: =INDIRECT("C" & ROW()*2) -> 895.63313
A12: =INDIRECT("H" & ROW()/2) -> ALUMINA LTD | C12: =DAVERAGE([0]!BDF,B11,A11:B12) -> 5167.3219 | H12: ARISTOCRAT LEISURE | J12: =INDIRECT("C" & ROW()*2) -> 7582.4662
A13: firms | B13: market value | H13: ATS AUTOMATION | J13: =INDIRECT("C" & ROW()*2) -> 1036.8794
A14: =INDIRECT("H" & ROW()/2) -> AMP LIMITED | C14: =DAVERAGE([0]!BDF,B13,A13:B14) -> 13038.621 | H14: DENISON MINES CORP | J14: =INDIRECT("C" & ROW()*2) -> 663.13375
A15: firms | B15: market value | H15: AGNICO EAGLE MINES | J15: =INDIRECT("C" & ROW()*2) -> 9932.2169
A16: =INDIRECT("H" & ROW()/2) -> AMPOL | C16: =DAVERAGE([0]!BDF,B15,A15:B16) -> 6080.9087 | H16: BARRICK GOLD CORP | J16: =INDIRECT("C" & ROW()*2) -> 31385.531
A17: firms | B17: market value | H17: ATCO LTD. | J17: =INDIRECT("C" & ROW()*2) -> 3557.0331
A18: =INDIRECT("H" & ROW()/2) -> ANSELL LTD | C18: =DAVERAGE([0]!BDF,B17,A17:B18) -> 2622.3481 | H18: BALLARD POWER | J18: =INDIRECT("C" & ROW()*2) -> 1007.4519
A19: firms | B19: market value | H19: BANK OF MONTREAL | J19: =INDIRECT("C" & ROW()*2) -> 44298.859
A20: =INDIRECT("H" & ROW()/2) -> APA GROUP | C20: =DAVERAGE([0]!BDF,B19,A19:B20) -> 5975.8469 | H20: BANK OF NOVA SCOTIA | J20: =INDIRECT("C" & ROW()*2) -> 68030.733
A21: firms | B21: market value | H21: LAURENTIAN BANK | J21: =INDIRECT("C" & ROW()*2) -> 1315.0056
A22: =INDIRECT("H" & ROW()/2) -> ARB CORPORATION LTD | C22: =DAVERAGE([0]!BDF,B21,A21:B22) -> 895.63313 | H22: BROOKFIELD ASSET | J22: =INDIRECT("C" & ROW()*2) -> 34294.149
A23: firms | B23: market value | H23: BORALEX INC | J23: =INDIRECT("C" & ROW()*2) -> 1002.4006
A24: =INDIRECT("H" & ROW()/2) -> ARISTOCRAT LEISURE | C24: =DAVERAGE([0]!BDF,B23,A23:B24) -> 7582.4662 | H24: MARTINREA INT'L | J24: =INDIRECT("C" & ROW()*2) -> 797.22688
A25: firms | B25: market value | H25: BOMBARDIER INC. | J25: =INDIRECT("C" & ROW()*2) -> 5169.4206
A26: =INDIRECT("H" & ROW()/2) -> ATS AUTOMATION | C26: =DAVERAGE([0]!BDF,B25,A25:B26) -> 1036.8794 | H26: SAPUTO INC | J26: =INDIRECT("C" & ROW()*2) -> 10518.302
A27: firms | B27: market value | H27: CAN APT PROP REAL ES | J27: =INDIRECT("C" & ROW()*2) -> 3298.04
A28: =INDIRECT("H" & ROW()/2) -> DENISON MINES CORP | C28: =DAVERAGE([0]!BDF,B27,A27:B28) -> 663.13375 | H28: NOVAGOLD RESOU | J28: =INDIRECT("C" & ROW()*2) -> 1774.6919
A29: firms | B29: market value | H29: DESCARTES SYSTEMS GR | J29: =INDIRECT("C" & ROW()*2) -> 1607.2863
A30: =INDIRECT("H" & ROW()/2) -> AGNICO EAGLE MINES | C30: =DAVERAGE([0]!BDF,B29,A29:B30) -> 9932.2169 | H30: CCL INDUSTRIES | J30: =INDIRECT("C" & ROW()*2) -> 4211.0737
A31: firms | B31: market value | H31: CAE INC. | J31: =INDIRECT("C" & ROW()*2) -> 4322.1062
A32: =INDIRECT("H" & ROW()/2) -> BARRICK GOLD CORP | C32: =DAVERAGE([0]!BDF,B31,A31:B32) -> 31385.531 | H32: CAMECO CO | J32: =INDIRECT("C" & ROW()*2) -> 9057.7919
A33: firms | B33: market value | H33: ROGERS COMMUNICATION | J33: =INDIRECT("C" & ROW()*2) -> 19902.902
A34: =INDIRECT("H" & ROW()/2) -> ATCO LTD. | C34: =DAVERAGE([0]!BDF,B33,A33:B34) -> 3557.0331 | H34: CANADIAN IMPERIAL | J34: =INDIRECT("C" & ROW()*2) -> 35777.01
A35: firms | B35: market value | H35: CANADIAN NATURAL | J35: =INDIRECT("C" & ROW()*2) -> 39221.755
A36: =INDIRECT("H" & ROW()/2) -> BALLARD POWER | C36: =DAVERAGE([0]!BDF,B35,A35:B36) -> 1007.4519 | H36: CANADIAN TIRE CORP | J36: =INDIRECT("C" & ROW()*2) -> 6951.6963
A37: firms | B37: market value | H37: CANADIAN UTILITIES | J37: =INDIRECT("C" & ROW()*2) -> 5574.7181
A38: =INDIRECT("H" & ROW()/2) -> BANK OF MONTREAL | C38: =DAVERAGE([0]!BDF,B37,A37:B38) -> 44298.859 | H38: CASCADES INC | J38: =INDIRECT("C" & ROW()*2) -> 861.81312
A39: firms | B39: market value | H39: CANADIAN NATIONAL | J39: =INDIRECT("C" & ROW()*2) -> 50601.108
A40: =INDIRECT("H" & ROW()/2) -> BANK OF NOVA SCOTIA | C40: =DAVERAGE([0]!BDF,B39,A39:B40) -> 68030.733 | H40: CANADIAN WESTERN | J40: =INDIRECT("C" & ROW()*2) -> 2135.7044
A41: firms | B41: market value | H41: YAMANA GOLD INC | J41: =INDIRECT("C" & ROW()*2) -> 6130.9338
A42: =INDIRECT("H" & ROW()/2) -> LAURENTIAN BANK | C42: =DAVERAGE([0]!BDF,B41,A41:B42) -> 1315.0056 | H42: RIOCAN REIT | J42: =INDIRECT("C" & ROW()*2) -> 6511.2156
A43: firms | B43: market value | H43: SEABRIDGE GOLD INC. | J43: =INDIRECT("C" & ROW()*2) -> 826.40688
A44: =INDIRECT("H" & ROW()/2) -> BROOKFIELD ASSET | C44: =DAVERAGE([0]!BDF,B43,A43:B44) -> 34294.149 | H44: RUSSEL METALS INC | J44: =INDIRECT("C" & ROW()*2) -> 1419.9025
A45: firms | B45: market value | H45: GILDAN ACTIVEWEAR | J45: =INDIRECT("C" & ROW()*2) -> 5740.3137
A46: =INDIRECT("H" & ROW()/2) -> BORALEX INC | C46: =DAVERAGE([0]!BDF,B45,A45:B46) -> 1002.4006 | H46: OPEN TEXT CORP | J46: =INDIRECT("C" & ROW()*2) -> 6539.4631
A47: firms | B47: market value | H47: CELESTICA INC. | J47: =INDIRECT("C" & ROW()*2) -> 1657.2831
A48: =INDIRECT("H" & ROW()/2) -> MARTINREA INT'L | C48: =DAVERAGE([0]!BDF,B47,A47:B48) -> 797.22688 | H48: ENGHOUSE SYSTEMS LIM | J48: =INDIRECT("C" & ROW()*2) -> 1041.065
A49: firms | B49: market value | H49: EMPIRE COMPANY LTD | J49: =INDIRECT("C" & ROW()*2) -> 3108.6488
A50: =INDIRECT("H" & ROW()/2) -> BOMBARDIER INC. | C50: =DAVERAGE([0]!BDF,B49,A49:B50) -> 5169.4206 | H50: FINNING INT'L INC | J50: =INDIRECT("C" & ROW()*2) -> 4048.5725
A51: firms | B51: market value | H51: RITCHIE BROS | J51: =INDIRECT("C" & ROW()*2) -> 3641.3025
A52: =INDIRECT("H" & ROW()/2) -> SAPUTO INC | C52: =DAVERAGE([0]!BDF,B51,A51:B52) -> 10518.302
A53: firms | B53: market value
A54: =INDIRECT("H" & ROW()/2) -> CAN APT PROP REAL ES | C54: =DAVERAGE([0]!BDF,B53,A53:B54) -> 3298.04
A55: firms | B55: market value
A56: =INDIRECT("H" & ROW()/2) -> NOVAGOLD RESOU | C56: =DAVERAGE([0]!BDF,B55,A55:B56) -> 1774.6919
A57: firms | B57: market value
A58: =INDIRECT("H" & ROW()/2) -> DESCARTES SYSTEMS GR | C58: =DAVERAGE([0]!BDF,B57,A57:B58) -> 1607.2863
A59: firms | B59: market value
A60: =INDIRECT("H" & ROW()/2) -> CCL INDUSTRIES | C60: =DAVERAGE([0]!BDF,B59,A59:B60) -> 4211.0737
A61: firms | B61: market value
A62: =INDIRECT("H" & ROW()/2) -> CAE INC. | C62: =DAVERAGE([0]!BDF,B61,A61:B62) -> 4322.1062
A63: firms | B63: market value
A64: =INDIRECT("H" & ROW()/2) -> CAMECO CO | C64: =DAVERAGE([0]!BDF,B63,A63:B64) -> 9057.7919
A65: firms | B65: market value
A66: =INDIRECT("H" & ROW()/2) -> ROGERS COMMUNICATION | C66: =DAVERAGE([0]!BDF,B65,A65:B66) -> 19902.902
A67: firms | B67: market value
A68: =INDIRECT("H" & ROW()/2) -> CANADIAN IMPERIAL | C68: =DAVERAGE([0]!BDF,B67,A67:B68) -> 35777.01
A69: firms | B69: market value
A70: =INDIRECT("H" & ROW()/2) -> CANADIAN NATURAL | C70: =DAVERAGE([0]!BDF,B69,A69:B70) -> 39221.755
A71: firms | B71: market value
A72: =INDIRECT("H" & ROW()/2) -> CANADIAN TIRE CORP | C72: =DAVERAGE([0]!BDF,B71,A71:B72) -> 6951.6963
A73: firms | B73: market value
A74: =INDIRECT("H" & ROW()/2) -> CANADIAN UTILITIES | C74: =DAVERAGE([0]!BDF,B73,A73:B74) -> 5574.7181
A75: firms | B75: market value
A76: =INDIRECT("H" & ROW()/2) -> CASCADES INC | C76: =DAVERAGE([0]!BDF,B75,A75:B76) -> 861.81312
A77: firms | B77: market value
A78: =INDIRECT("H" & ROW()/2) -> CANADIAN NATIONAL | C78: =DAVERAGE([0]!BDF,B77,A77:B78) -> 50601.108
A79: firms | B79: market value
A80: =INDIRECT("H" & ROW()/2) -> CANADIAN WESTERN | C80: =DAVERAGE([0]!BDF,B79,A79:B80) -> 2135.7044
A81: firms | B81: market value
A82: =INDIRECT("H" & ROW()/2) -> YAMANA GOLD INC | C82: =DAVERAGE([0]!BDF,B81,A81:B82) -> 6130.9338
A83: firms | B83: market value
A84: =INDIRECT("H" & ROW()/2) -> RIOCAN REIT | C84: =DAVERAGE([0]!BDF,B83,A83:B84) -> 6511.2156
A85: firms | B85: market value
A86: =INDIRECT("H" & ROW()/2) -> SEABRIDGE GOLD INC. | C86: =DAVERAGE([0]!BDF,B85,A85:B86) -> 826.40688
A87: firms | B87: market value
A88: =INDIRECT("H" & ROW()/2) -> RUSSEL METALS INC | C88: =DAVERAGE([0]!BDF,B87,A87:B88) -> 1419.9025
A89: firms | B89: market value
A90: =INDIRECT("H" & ROW()/2) -> GILDAN ACTIVEWEAR | C90: =DAVERAGE([0]!BDF,B89,A89:B90) -> 5740.3137
A91: firms | B91: market value
A92: =INDIRECT("H" & ROW()/2) -> OPEN TEXT CORP | C92: =DAVERAGE([0]!BDF,B91,A91:B92) -> 6539.4631
A93: firms | B93: market value
A94: =INDIRECT("H" & ROW()/2) -> CELESTICA INC. | C94: =DAVERAGE([0]!BDF,B93,A93:B94) -> 1657.2831
A95: firms | B95: market value
A96: =INDIRECT("H" & ROW()/2) -> ENGHOUSE SYSTEMS LIM | C96: =DAVERAGE([0]!BDF,B95,A95:B96) -> 1041.065
A97: firms | B97: market value
A98: =INDIRECT("H" & ROW()/2) -> EMPIRE COMPANY LTD | C98: =DAVERAGE([0]!BDF,B97,A97:B98) -> 3108.6488
A99: firms | B99: market value
A100: =INDIRECT("H" & ROW()/2) -> FINNING INT'L INC | C100: =DAVERAGE([0]!BDF,B99,A99:B100) -> 4048.5725
...
