Workbook

Sheet A

Sheet Paul
A1: PAUL
B2: A | C2: B | D2: C | E2: D
A3: P1 | B3: 1 | C3: 6 | D3: 0 | E3: 2
A4: P2 | B4: 2 | C4: 4 | D4: 5 | E4: 1
A5: P3 | B5: 3 | C5: 2 | D5: 0 | E5: 7
A6: P4 | B6: 4 | C6: 1 | D6: 1 | E6: 2
A7: P5 | B7: 5 | C7: 2 | D7: 0 | E7: 0
A8: P6 | B8: 6 | C8: 3 | D8: 5 | E8: 3
A10: Total | B10: =SUM(B3:B9) -> 21 | C10: =SUM(C3:C9) -> 18 | D10: =SUM(D3:D9) -> 11 | E10: =SUM(E3:E9) -> 15

Sheet René
A1: RENÉ
B2: A | C2: B | D2: C | E2: D
A3: P1 | B3: 6 | C3: 5 | D3: 0 | E3: 2
A4: P2 | B4: 5 | C4: 3 | D4: 1 | E4: 2
A5: P3 | B5: 4 | C5: 1 | D5: 0 | E5: 1
A6: P4 | B6: 3 | C6: 2 | D6: 1 | E6: 1
A7: P5 | B7: 2 | C7: 4 | D7: 0 | E7: 5
A8: P6 | B8: 1 | C8: 6 | D8: 1 | E8: 2
A10: Total | B10: =SUM(B3:B9) -> 21 | C10: =SUM(C3:C9) -> 21 | D10: =SUM(D3:D9) -> 3 | E10: =SUM(E3:E9) -> 13

Sheet Pierre
A1: PIERRE
B2: A | C2: B | D2: C | E2: D
A3: P1 | B3: 1 | C3: 1 | D3: 0 | E3: 2
A4: P2 | B4: 2 | C4: 2 | D4: 1 | E4: 3
A5: P3 | B5: 3 | C5: 3 | D5: 0 | E5: 4
A6: P4 | B6: 5 | C6: 4 | D6: 1 | E6: 2
A7: P5 | B7: 7 | C7: 5 | D7: 0 | E7: 0
A8: P6 | B8: 2 | C8: 6 | D8: 5 | E8: 2
A10: Total | B10: =SUM(B3:B9) -> 20 | C10: =SUM(C3:C9) -> 21 | D10: =SUM(D3:D9) -> 7 | E10: =SUM(E3:E9) -> 13

Sheet Jacques
A1: JACQUES
B2: A | C2: B | D2: C | E2: D
A3: P1 | B3: 5 | C3: 2 | D3: 0 | E3: 4
A4: P2 | B4: 4 | C4: 4 | D4: 2 | E4: 5
A5: P3 | B5: 3 | C5: 6 | D5: 0 | E5: 4
A6: P4 | B6: 2 | C6: 1 | D6: 5 | E6: 4
A7: P5 | B7: 1 | C7: 3 | D7: 0 | E7: 5
A8: P6 | B8: 0 | C8: 0 | D8: 1 | E8: 2
A10: Total | B10: =SUM(B3:B9) -> 15 | C10: =SUM(C3:C9) -> 16 | D10: =SUM(D3:D9) -> 8 | E10: =SUM(E3:E9) -> 24

Sheet Zz

Sheet Global
A1: GLOBAL DE TOUS LES ONGLETS
B2: A | C2: B | D2: C | E2: D
A3: P1 | B3: =SUM(A:Zz!B3) -> 13 | C3: =SUM(A:Zz!C3) -> 14 | D3: =SUM(A:Zz!D3) -> 0 | E3: =SUM(A:Zz!E3) -> 10
A4: P2 | B4: =SUM(A:Zz!B4) -> 13 | C4: =SUM(A:Zz!C4) -> 13 | D4: =SUM(A:Zz!D4) -> 9 | E4: =SUM(A:Zz!E4) -> 11
A5: P3 | B5: =SUM(A:Zz!B5) -> 13 | C5: =SUM(A:Zz!C5) -> 12 | D5: =SUM(A:Zz!D5) -> 0 | E5: =SUM(A:Zz!E5) -> 16
A6: P4 | B6: =SUM(A:Zz!B6) -> 14 | C6: =SUM(A:Zz!C6) -> 8 | D6: =SUM(A:Zz!D6) -> 8 | E6: =SUM(A:Zz!E6) -> 9
A7: P5 | B7: =SUM(A:Zz!B7) -> 15 | C7: =SUM(A:Zz!C7) -> 14 | D7: =SUM(A:Zz!D7) -> 0 | E7: =SUM(A:Zz!E7) -> 10
A8: P6 | B8: =SUM(A:Zz!B8) -> 9 | C8: =SUM(A:Zz!C8) -> 15 | D8: =SUM(A:Zz!D8) -> 12 | E8: =SUM(A:Zz!E8) -> 9
A10: Total | B10: =SUM(B3:B9) -> 77 | C10: =SUM(C3:C9) -> 76 | D10: =SUM(D3:D9) -> 29 | E10: =SUM(E3:E9) -> 65
C13: Dans ce classeur il a été créé 2 feuilles "A" et "Zz" masquées :
C14: Ces feuilles seront respectivement les premières et dernières entre lesquels viendront s'insérer toutes vos futures feuilles à consolider.
D15: Cette astuce vous permettra de trier vos feuilles pour vous y retrouver plus facilement.
