Workbook

Sheet Erreur
A1: Nom | B1: Activité | D1: Departement A | E1: Departement B
A2: Lussier Alain | B2: Large Verification | C2: LussierAlainLargeVerification | D2: 2
A3: Lussier Alain | B3: Large Pick | C3: LussierAlainLargePick | E3: 4
A4: Lussier Alain | B4: Large Shelving | C4: LussierAlainLargeShelving
A5: Lussier Alain | B5: Small Shelving | C5: LussierAlainSmallShelving
A6: Lussier Alain | B6: Small Verification | C6: LussierAlainSmallVerification
A7: Lussier Alain | B7: Large Check/Pack | C7: LussierAlainLargeCheck/Pack
A8: Lussier Alain | B8: Small Pick/Pack | C8: LussierAlainSmallPick/Pack | E8: 3
A9: Lussier Alain | B9: Large Shrink Wrap | C9: LussierAlainLargeShrinkWrap
A10: Coté Jonathan | B10: Large Verification | C10: CotéJonathanLargeVerification
A11: Coté Jonathan | B11: Large Pick | C11: CotéJonathanLargePick
A12: Coté Jonathan | B12: Large Shelving | C12: CotéJonathanLargeShelving
A13: Coté Jonathan | B13: Small Shelving | C13: CotéJonathanSmallShelving | D13: 1
A14: Coté Jonathan | B14: Small Verification | C14: CotéJonathanSmallVerification | D14: 1
A15: Coté Jonathan | B15: Large Check/Pack | C15: CotéJonathanLargeCheck/Pack
A16: Coté Jonathan | B16: Small Pick/Pack | C16: CotéJonathanSmallPick/Pack | E16: 3
A17: Coté Jonathan | B17: Large Shrink Wrap | C17: CotéJonathanLargeShrinkWrap
A18: Tremblay Karl | B18: Large Verification | C18: TremblayKarlLargeVerification
A19: Tremblay Karl | B19: Large Pick | C19: TremblayKarlLargePick | E19: 4
A20: Tremblay Karl | B20: Large Shelving | C20: TremblayKarlLargeShelving
A21: Tremblay Karl | B21: Small Shelving | C21: TremblayKarlSmallShelving
A22: Tremblay Karl | B22: Small Verification | C22: TremblayKarlSmallVerification
A23: Tremblay Karl | B23: Large Check/Pack | C23: TremblayKarlLargeCheck/Pack
A24: Tremblay Karl | B24: Small Pick/Pack | C24: TremblayKarlSmallPick/Pack | E24: 2
A25: Tremblay Karl | B25: Large Shrink Wrap | C25: TremblayKarlLargeShrinkWrap | E25: 2
A26: Gemme Mélanie | B26: Large Verification | C26: GemmeMélanieLargeVerification | D26: 6
A27: Gemme Mélanie | B27: Large Pick | C27: GemmeMélanieLargePick
A28: Gemme Mélanie | B28: Large Shelving | C28: GemmeMélanieLargeShelving
A29: Gemme Mélanie | B29: Small Shelving | C29: GemmeMélanieSmallShelving
A30: Gemme Mélanie | B30: Small Verification | C30: GemmeMélanieSmallVerification
A31: Gemme Mélanie | B31: Large Check/Pack | C31: GemmeMélanieLargeCheck/Pack
A32: Gemme Mélanie | B32: Small Pick/Pack | C32: GemmeMélanieSmallPick/Pack
A33: Gemme Mélanie | B33: Large Shrink Wrap | C33: GemmeMélanieLargeShrinkWrap | E33: 3

Sheet Rapport
A1: Nom | B1: Activités | C1: Lignes | D1: DepartementA | E1: DepartementB
A2: LussierAlain | B2: LargeShelving | C2: 2558 | D2: =IF(VLOOKUP(G2,Erreur!C$2:E$33,2,0)>0,VLOOKUP(G2,Erreur!C$2:E$33,2,0),"") | E2: =IF(VLOOKUP(G2,Erreur!C$2:E$33,3,0)>0,VLOOKUP(G2,Erreur!C$2:E$33,3,0),"") | G2: LussierAlainLargeShelving
A3: LussierAlain | B3: LargeVerification | C3: 108 | D3: =IF(VLOOKUP(G3,Erreur!C$2:E$33,2,0)>0,VLOOKUP(G3,Erreur!C$2:E$33,2,0),"") -> 2 | E3: =IF(VLOOKUP(G3,Erreur!C$2:E$33,3,0)>0,VLOOKUP(G3,Erreur!C$2:E$33,3,0),"") | G3: LussierAlainLargeVerification
A4: LussierAlain | B4: SmallVerification | C4: 12 | D4: =IF(VLOOKUP(G4,Erreur!C$2:E$33,2,0)>0,VLOOKUP(G4,Erreur!C$2:E$33,2,0),"") | E4: =IF(VLOOKUP(G4,Erreur!C$2:E$33,3,0)>0,VLOOKUP(G4,Erreur!C$2:E$33,3,0),"") | G4: LussierAlainSmallVerification
A5: LussierAlain | B5: LargePick | C5: 675 | D5: =IF(VLOOKUP(G5,Erreur!C$2:E$33,2,0)>0,VLOOKUP(G5,Erreur!C$2:E$33,2,0),"") | E5: =IF(VLOOKUP(G5,Erreur!C$2:E$33,3,0)>0,VLOOKUP(G5,Erreur!C$2:E$33,3,0),"") -> 4 | G5: LussierAlainLargePick
A6: CotéJonathan | B6: LargeShelving | C6: 63 | D6: =IF(VLOOKUP(G6,Erreur!C$2:E$33,2,0)>0,VLOOKUP(G6,Erreur!C$2:E$33,2,0),"") | E6: =IF(VLOOKUP(G6,Erreur!C$2:E$33,3,0)>0,VLOOKUP(G6,Erreur!C$2:E$33,3,0),"") | G6: CotéJonathanLargeShelving
A7: CotéJonathan | B7: LargeVerification | C7: 184 | D7: =IF(VLOOKUP(G7,Erreur!C$2:E$33,2,0)>0,VLOOKUP(G7,Erreur!C$2:E$33,2,0),"") | E7: =IF(VLOOKUP(G7,Erreur!C$2:E$33,3,0)>0,VLOOKUP(G7,Erreur!C$2:E$33,3,0),"") | G7: CotéJonathanLargeVerification
A8: CotéJonathan | B8: SmallShelving | C8: 261 | D8: =IF(VLOOKUP(G8,Erreur!C$2:E$33,2,0)>0,VLOOKUP(G8,Erreur!C$2:E$33,2,0),"") -> 1 | E8: =IF(VLOOKUP(G8,Erreur!C$2:E$33,3,0)>0,VLOOKUP(G8,Erreur!C$2:E$33,3,0),"") | G8: CotéJonathanSmallShelving
A9: CotéJonathan | B9: SmallVerification | C9: 32 | D9: =IF(VLOOKUP(G9,Erreur!C$2:E$33,2,0)>0,VLOOKUP(G9,Erreur!C$2:E$33,2,0),"") -> 1 | E9: =IF(VLOOKUP(G9,Erreur!C$2:E$33,3,0)>0,VLOOKUP(G9,Erreur!C$2:E$33,3,0),"") | G9: CotéJonathanSmallVerification
A10: CotéJonathan | B10: LargeCheck/Pack | C10: 1298 | D10: =IF(VLOOKUP(G10,Erreur!C$2:E$33,2,0)>0,VLOOKUP(G10,Erreur!C$2:E$33,2,0),"") | E10: =IF(VLOOKUP(G10,Erreur!C$2:E$33,3,0)>0,VLOOKUP(G10,Erreur!C$2:E$33,3,0),"") | G10: CotéJonathanLargeCheck/Pack
A11: CotéJonathan | B11: LargePick | C11: 72 | D11: =IF(VLOOKUP(G11,Erreur!C$2:E$33,2,0)>0,VLOOKUP(G11,Erreur!C$2:E$33,2,0),"") | E11: =IF(VLOOKUP(G11,Erreur!C$2:E$33,3,0)>0,VLOOKUP(G11,Erreur!C$2:E$33,3,0),"") | G11: CotéJonathanLargePick
A12: CotéJonathan | B12: LargeShrinkWrap | C12: 1159 | D12: =IF(VLOOKUP(G12,Erreur!C$2:E$33,2,0)>0,VLOOKUP(G12,Erreur!C$2:E$33,2,0),"") | E12: =IF(VLOOKUP(G12,Erreur!C$2:E$33,3,0)>0,VLOOKUP(G12,Erreur!C$2:E$33,3,0),"") | G12: CotéJonathanLargeShrinkWrap
A13: CotéJonathan | B13: SmallPick/Pack | C13: 1636 | D13: =IF(VLOOKUP(G13,Erreur!C$2:E$33,2,0)>0,VLOOKUP(G13,Erreur!C$2:E$33,2,0),"") | E13: =IF(VLOOKUP(G13,Erreur!C$2:E$33,3,0)>0,VLOOKUP(G13,Erreur!C$2:E$33,3,0),"") -> 3 | G13: CotéJonathanSmallPick/Pack
... A27: GemmeMélanie | B27: LargeCheck/Pack | C27: 354 | D27: =IF(VLOOKUP(G27,Erreur!C$2:E$33,2,0)>0,VLOOKUP(G27,Erreur!C$2:E$33,2,0),"") | E27: =IF(VLOOKUP(G27,Erreur!C$2:E$33,3,0)>0,VLOOKUP(G27,Erreur!C$2:E$33,3,0),"") | G27: GemmeMélanieLargeCheck/Pack
