Workbook
Name CODECHAUFFEUR: [1]Paramètres!$C$87:$C$129
Name CODEDOUBLAGE: [1]Paramètres!$I$87:$I$129
Name CODEPRESTATION: [1]Paramètres!$B$87:$B$129
Name CODETOURNEE: [1]Paramètres!$D$87:$D$129
Name COMMUNE: '[1]Grille tarifiare'!$U$69:$U$490
Name CONDITIONS: [1]Paramètres!$B$166:$B$168
Name CONDUCTEUR: [1]Paramètres!$H$87:$H$129
Name DESTINATAIRE: [1]Paramètres!$C$13:$C$37
Name FERIE2018: [1]Calendrier!$D$7:$G$54
Name FERIE2019: [1]Calendrier!$V$7:$Y$54
Name MATRICEADRESSEPOSTALE: [1]Paramètres!$E$13:$F$37
Name MATRICECODECLIENT: [1]Paramètres!$C$13:$D$37:'[1]Paramètres'!$D$37
Name MATRICESIREN: [1]Paramètres!$G$13:$H$37
Name MATRICESIRET: [1]Paramètres!$I$13:$J$37
Name MATRICETVA: [1]Paramètres!$K$13:$L$37
Name PLAGECOURSESCAMIONNAGE: [1]Paramètres!$B$139:$B$141
Name PLAGEDOUBLAGECAMIONNAGE: [1]Paramètres!$B$144:$B$146
Name PLAGEPRESTATIONS: [1]Paramètres!$B$132:$B$136
Name POINTDETRANSPORT: [1]Paramètres!$B$204:$B$659
Name REPONSE: [1]Paramètres!$B$161:$B$163
Name SIMULATION: [1]Paramètres!$B$161:$B$163
Name TOURNEEAPRESMIDI: [1]Paramètres!$F$87:$F$129
Name TOURNEEMATIN: [1]Paramètres!$E$87:$E$129
Name TVA: [1]Paramètres!$C$60:$F$60
Name VEHICULE: [1]Paramètres!$B$184:$B$189
Name ZONE: [1]Paramètres!$B$175:$B$181

Sheet Données mensuelles
C5: 43374 | F5: PRESTATIONS
N7: Type PDP | O7: L | P7: E | Q7: M | R7: TOTAL | S7: Prix unitaire | T7: Total ( III )
N9: M | O9: 2 | P9: 4 | Q9: 6 | R9: =SUM(O9:Q9) -> 12 | S9: =S13 -> 1 | T9: =R9*S9 -> 12
N10: HM | O10: 0 | P10: 8 | Q10: 7 | R10: =SUM(O10:Q10) -> 15 | S10: =S13 -> 1 | T10: =R10*S10 -> 15
N11: M | O11: 6 | P11: 6 | Q11: 0 | R11: =SUM(O11:Q11) -> 12 | S11: =S13 -> 1 | T11: =R11*S11 -> 12
N12: HM | O12: 4 | P12: 8 | Q12: 6 | R12: =SUM(O12:Q12) -> 18 | S12: =S13 -> 1 | T12: =R12*S12 -> 18
N13: Par défaut | S13: 1 | T13: =R13*S13 -> 0
O16: 10 | P16: 3 | Q16: 9 | R16: =SUM(O16:Q16) -> 22 | S16: =S20 -> 1 | T16: =R16*S16 -> 22 | Y16: SVP ne pas supprimer ni lignes, ni colonnes
O17: 9 | P17: 8 | Q17: 7 | R17: =SUM(O17:Q17) -> 24 | S17: =S20 -> 1 | T17: =R17*S17 -> 24
O18: 4 | P18: 6 | Q18: 8 | R18: =SUM(O18:Q18) -> 18 | S18: =S20 -> 1 | T18: =R18*S18 -> 18
O19: 4 | P19: 8 | Q19: 6 | R19: =SUM(O19:Q19) -> 18 | S19: =S20 -> 1 | T19: =R19*S19 -> 18
S20: 1 | T20: =R20*S20 -> 0
O23: 2 | P23: 4 | Q23: 6 | R23: =SUM(O23:Q23) -> 12 | S23: =S27 -> 1 | T23: =R23*S23 -> 12
O24: 0 | P24: 0 | Q24: 7 | R24: =SUM(O24:Q24) -> 7 | S24: =S27 -> 1 | T24: =R24*S24 -> 7
O25: 6 | P25: 6 | Q25: 8 | R25: =SUM(O25:Q25) -> 20 | S25: =S27 -> 1 | T25: =R25*S25 -> 20
O26: 4 | P26: 0 | Q26: 6 | R26: =SUM(O26:Q26) -> 10 | S26: =S27 -> 1 | T26: =R26*S26 -> 10
S27: 1 | T27: =R27*S27 -> 0
O30: 2 | P30: 4 | Q30: 0 | R30: =SUM(O30:Q30) -> 6 | S30: =S34 -> 1 | T30: =R30*S30 -> 6
O31: 0 | P31: 8 | Q31: 7 | R31: =SUM(O31:Q31) -> 15 | S31: =S34 -> 1 | T31: =R31*S31 -> 15
O32: 6 | P32: 6 | Q32: 0 | R32: =SUM(O32:Q32) -> 12 | S32: =S34 -> 1 | T32: =R32*S32 -> 12
O33: 4 | P33: 8 | Q33: 6 | R33: =SUM(O33:Q33) -> 18 | S33: =S34 -> 1 | T33: =R33*S33 -> 18
S34: 1 | T34: =R34*S34 -> 0
O37: 1 | P37: 4 | Q37: 6 | R37: =SUM(O37:Q37) -> 11 | S37: =S41 -> 1 | T37: =R37*S37 -> 11
O38: 0 | P38: 8 | Q38: 7 | R38: =SUM(O38:Q38) -> 15 | S38: =S41 -> 1 | T38: =R38*S38 -> 15
O39: 6 | P39: 6 | Q39: 1 | R39: =SUM(O39:Q39) -> 13 | S39: =S41 -> 1 | T39: =R39*S39 -> 13
O40: 4 | P40: 5 | Q40: 6 | R40: =SUM(O40:Q40) -> 15 | S40: =S41 -> 1 | T40: =R40*S40 -> 15
S41: 1 | T41: =R41*S41 -> 0
O44: 2 | P44: 4 | Q44: 1 | R44: =SUM(O44:Q44) -> 7 | S44: =S48 -> 1 | T44: =R44*S44 -> 7
O45: 1 | P45: 8 | Q45: 7 | R45: =SUM(O45:Q45) -> 16 | S45: =S48 -> 1 | T45: =R45*S45 -> 16
O46: 6 | P46: 6 | Q46: 0 | R46: =SUM(O46:Q46) -> 12 | S46: =S48 -> 1 | T46: =R46*S46 -> 12
O47: 4 | P47: 3 | Q47: 6 | R47: =SUM(O47:Q47) -> 13 | S47: =S48 -> 1 | T47: =R47*S47 -> 13
S48: 1 | T48: =R48*S48 -> 0
O51: 0 | P51: 4 | Q51: 0 | R51: =SUM(O51:Q51) -> 4 | S51: =S55 -> 1 | T51: =R51*S51 -> 4
O52: 9 | P52: 0 | Q52: 7 | R52: =SUM(O52:Q52) -> 16 | S52: =S55 -> 1 | T52: =R52*S52 -> 16
O53: 0 | P53: 0 | Q53: 8 | R53: =SUM(O53:Q53) -> 8 | S53: =S55 -> 1 | T53: =R53*S53 -> 8
O54: 4 | P54: 8 | Q54: 0 | R54: =SUM(O54:Q54) -> 12 | S54: =S55 -> 1 | T54: =R54*S54 -> 12
S55: 1 | T55: =R55*S55 -> 0
R68: PDP
R69: =SUM(R13,R20,R27,R34,R41,R48,R55) -> 0
S73: =S75 -> 5.7 | T73: =R73*S73 -> 0
S74: =S75 -> 5.7 | T74: =R74*S74 -> 0
S75: 5.7 | T75: =R75*S75 -> 0
R79: PDP
R80: =SUM(R69,R75) -> 0
C84: =+EDATE(C5,1) -> 43405 | F84: PRESTATIONS
N86: Type PDP | O86: L | P86: E | Q86: M | R86: TOTAL | S86: Prix unitaire | T86: Total ( III )
N88: M | O88: 2 | P88: 4 | Q88: 6 | S88: =S92 -> 3 | T88: =R88*S88 -> 0
N89: HM | O89: 0 | P89: 8 | Q89: 7 | S89: =S92 -> 3 | T89: =R89*S89 -> 0
N90: M | O90: 0 | P90: 6 | Q90: 0 | S90: =S92 -> 3 | T90: =R90*S90 -> 0
N91: HM | O91: 0 | P91: 8 | Q91: 6 | S91: =S92 -> 3 | T91: =R91*S91 -> 0
N92: Par défaut | S92: 3 | T92: =R92*S92 -> 0
O95: 10 | P95: 1 | Q95: 9 | S95: =S99 -> 3.8 | T95: =R95*S95 -> 0
O96: 1 | P96: 8 | Q96: 7 | S96: =S99 -> 3.8 | T96: =R96*S96 -> 0
O97: 4 | P97: 6 | Q97: 8 | S97: =S99 -> 3.8 | T97: =R97*S97 -> 0
O98: 4 | P98: 8 | Q98: 6 | S98: =S99 -> 3.8 | T98: =R98*S98 -> 0
S99: 3.8 | T99: =R99*S99 -> 0
O102: 2 | P102: 4 | Q102: 6 | S102: =S106 -> 3.5 | T102: =R102*S102 -> 0
O103: 0 | P103: 0 | Q103: 7 | S103: =S106 -> 3.5 | T103: =R103*S103 -> 0
O104: 6 | P104: 1 | Q104: 8 | S104: =S106 -> 3.5 | T104: =R104*S104 -> 0
O105: 4 | P105: 0 | Q105: 6 | S105: =S106 -> 3.5 | T105: =R105*S105 -> 0
S106: 3.5 | T106: =R106*S106 -> 0
O109: 2 | P109: 4 | Q109: 0 | S109: =S113 -> 3.6 | T109: =R109*S109 -> 0
O110: 1 | P110: 8 | Q110: 7 | S110: =S113 -> 3.6 | T110: =R110*S110 -> 0
O111: 6 | P111: 2 | Q111: 5 | S111: =S113 -> 3.6 | T111: =R111*S111 -> 0
O112: 4 | P112: 8 | Q112: 6 | S112: =S113 -> 3.6 | T112: =R112*S112 -> 0
S113: 3.6 | T113: =R113*S113 -> 0
O116: 1 | P116: 0 | Q116: 6 | S116: =S120 -> 3.7 | T116: =R116*S116 -> 0
O117: 0 | P117: 8 | Q117: 7 | S117: =S120 -> 3.7 | T117: =R117*S117 -> 0
O118: 1 | P118: 6 | Q118: 0 | S118: =S120 -> 3.7 | T118: =R118*S118 -> 0
O119: 4 | P119: 5 | Q119: 6 | S119: =S120 -> 3.7 | T119: =R119*S119 -> 0
S120: 3.7 | T120: =R120*S120 -> 0
O123: 2 | P123: 4 | Q123: 1 | S123: =S127 -> 4.2 | T123: =R123*S123 -> 0
O124: 9 | P124: 0 | Q124: 7 | S124: =S127 -> 4.2 | T124: =R124*S124 -> 0
O125: 6 | P125: 6 | Q125: 5 | S125: =S127 -> 4.2 | T125: =R125*S125 -> 0
O126: 4 | P126: 3 | Q126: 6 | S126: =S127 -> 4.2 | T126: =R126*S126 -> 0
S127: 4.2 | T127: =R127*S127 -> 0
O130: 0 | P130: 4 | Q130: 0 | S130: =S134 -> 4.2 | T130: =R130*S130 -> 0
O131: 9 | P131: 5 | Q131: 7 | S131: =S134 -> 4.2 | T131: =R131*S131 -> 0
O132: 1 | P132: 0 | Q132: 7 | S132: =S134 -> 4.2 | T132: =R132*S132 -> 0
O133: 4 | P133: 8 | Q133: 0 | S133: =S134 -> 4.2 | T133: =R133*S133 -> 0
S134: 4.2 | T134: =R134*S134 -> 0
R147: PDP
R148: =SUM(R92,R99,R106,R113,R120,R127,R134) -> 0
S152: =S154 -> 5.7 | T152: =R152*S152 -> 0
S153: =S154 -> 5.7 | T153: =R153*S153 -> 0
S154: 5.7 | T154: =R154*S154 -> 0
R158: PDP
R159: =SUM(R148,R154) -> 0
C163: =+EDATE(C84,1) -> 43435 | F163: PRESTATIONS
N165: Type PDP | O165: L | P165: E | Q165: M | R165: TOTAL | S165: Prix unitaire | T165: Total ( III )
N167: M | S167: =S171 -> 3 | T167: =R167*S167 -> 0
N168: HM | S168: =S171 -> 3 | T168: =R168*S168 -> 0
N169: M | S169: =S171 -> 3 | T169: =R169*S169 -> 0
N170: HM | S170: =S171 -> 3 | T170: =R170*S170 -> 0
N171: Par défaut | S171: 3 | T171: =R171*S171 -> 0
S174: =S178 -> 3.8 | T174: =R174*S174 -> 0
S175: =S178 -> 3.8 | T175: =R175*S175 -> 0
S176: =S178 -> 3.8 | T176: =R176*S176 -> 0
S177: =S178 -> 3.8 | T177: =R177*S177 -> 0
S178: 3.8 | T178: =R178*S178 -> 0
...

Sheet FACTURE
F5: Reporter les données des lignes de la Feuille Données mensuelles | AH5: Reporter les données des lignes de la Feuille Données mensuelles
M6: L | N6: E | O6: M | V6: L | W6: E | X6: M
B7: exemple : reporter O9 de la feuille Données mensuelles en M7 | G7: Feuille Données mensuelles | I7: Ligne 9 -> | M7: Quelle formule | N7: ='Données mensuelles'!P9 -> 4 | O7: ='Données mensuelles'!Q9 -> 6 | AC7: <- Ligne 37 | AD7: Feuille Données mensuelles
B8: Et ainsi de suite, selon les couleurs des tableaux | G8: Feuille Données mensuelles | I8: Ligne 10 -> | M8: ='Données mensuelles'!O10 -> 0 | N8: ='Données mensuelles'!P10 -> 8 | O8: ='Données mensuelles'!Q10 -> 7 | AC8: <- Ligne 38 | AD8: Feuille Données mensuelles
M13: L | N13: E | O13: M | V13: L | W13: E | X13: M
G14: Feuille Données mensuelles | I14: Ligne 11 -> | M14: ='Données mensuelles'!O11 -> 6 | N14: ='Données mensuelles'!P11 -> 6 | O14: ='Données mensuelles'!Q11 -> 0 | AC14: <- Ligne 39 | AD14: Feuille Données mensuelles
G15: Feuille Données mensuelles | I15: Ligne 12 -> | M15: ='Données mensuelles'!O12 -> 4 | N15: ='Données mensuelles'!P12 -> 8 | O15: ='Données mensuelles'!Q12 -> 6 | AC15: <- Ligne 40 | AD15: Feuille Données mensuelles
C16: SVP ne pas supprimer ni lignes, ni colonnes
M20: L | N20: E | O20: M | V20: L | W20: E | X20: M
G21: Feuille Données mensuelles | I21: Ligne 16 -> | AC21: <- Ligne 44 | AD21: Feuille Données mensuelles
B22: Quelle formule en M7 à copier coler sur les autres cellules | G22: Feuille Données mensuelles | I22: Ligne 17 -> | AC22: <- Ligne 45 | AD22: Feuille Données mensuelles
M27: L | N27: E | O27: M | V27: L | W27: E | X27: M
G28: Feuille Données mensuelles | I28: Ligne 18 -> | AC28: <- Ligne 46 | AD28: Feuille Données mensuelles
G29: Feuille Données mensuelles | I29: Ligne 19 -> | AC29: <- Ligne 47 | AD29: Feuille Données mensuelles
M34: L | N34: E | O34: M | V34: L | W34: E | X34: M | AD34: Etc
G35: Feuille Données mensuelles | I35: Ligne 23 ->
G36: Feuille Données mensuelles | I36: Ligne 26->
M41: L | N41: E | O41: M | V41: L | W41: E | X41: M
G42: Feuille Données mensuelles | I42: Ligne 27 ->
G43: Feuille Données mensuelles | I43: Ligne 28 ->
M48: L | N48: E | O48: M
G49: Feuille Données mensuelles | I49: Ligne 30 ->
G50: Feuille Données mensuelles | I50: Ligne 31->
M55: L | N55: E | O55: M
G56: Feuille Données mensuelles | I56: Ligne 32 ->
G57: Feuille Données mensuelles | I57: Ligne 23 ->
