Workbook
Name impression: 'Données techniques'!$A$2:$A$8

Sheet Feuil1
A2: Client | B2: ELBA | C2: Commercial | D2: =VLOOKUP(B2,Client!A3:F5,3,FALSE) -> 14370 Moult | E2: Assistante commerciale | F2: =VLOOKUP(B2,Client!A3:F5,4,FALSE) -> France | G2: Adresse | H2: =VLOOKUP(B2,Client!A3:F5,2,FALSE) -> Zoning Industriel
A5: Ligne | B5: Désignation | C5: Devis | D5: Dimensions | E5: Qualité | F5: Composition | G5: Type d'impression | H5: NB Couleur | I5: Palette | J5: Qt par palette | K5: Hauteur Palette | L5: Quantité de commande | M5: Prix unitaire | N5: Montant total
A6: 1 | B6: Box | C6: 19800 | D6: 600x400x1200 | E6: BEKMT53C | F6: =VLOOKUP(Feuil1!$E6,'Compositions cartons'!$A$1:$M$61,3,FALSE) -> EB30 K135 C075 C075 C090 C100 | G6: Numérique + Vernis sérigrahie | H6: 1 | I6: 800x1200 | J6: 200 | K6: 1200 | L6: 1000 | M6: 2.58 | N6: =SUM(M6*L6) -> 2580
A7: 2 | B7: Si donnée ?
A19: Total | L19: 1000 | M19: =SUM(N19/L19) -> 2.58 | N19: =SUM(N6) -> 2580

Sheet Offre de prix
B6: DS Smith Packaging Normandie Ondulé
B7: ZAC Cabourg Village
B8: 14390 CABOURG
B9: 02.31.28.18.80 | F9: =Feuil1!B2 -> ELBA
F10: =Feuil1!H2 -> Zoning Industriel
B12: Commercial : | C12: =Feuil1!D2 -> 14370 Moult
B13: Assistante : | C13: =Feuil1!F2 -> France
E15: Cabourg, le | F15: =DATE(2018,1,16) -> 43116
B18: Suite à votre demande, nous avons le plaisir de vous communiquer ci-dessous notre proposition commerciale, établie selon les caractéristiques suivantes :
B20: Référence projet :
A22: 1 | B22: Désignation : | C22: =Feuil1!B6 -> Box
B23: Dimensions : | C23: =Feuil1!D6 -> 600x400x1200
B24: Qualité Matière : | C24: =Feuil1!E6 -> BEKMT53C | D24: =Feuil1!F6 -> EB30 K135 C075 C075 C090 C100
B25: Type d'impression : | C25: =Feuil1!G6 -> Numérique + Vernis sérigrahie | E25: Nombre de couleur(s) : | F25: =Feuil1!H6 -> 1
B26: Condition de livraison :
B27: Quantité/palette : | C27: =Feuil1!J6 -> 200 | D27: Format palette : | E27: =Feuil1!I6 -> 800x1200 | F27: hauteur palette : | G27: =Feuil1!K6 -> 1200
A29: =Feuil1!A7 -> 2
D33: Quantité : | E33: Prix :
D34: =Feuil1!L19 -> 1000 | E34: =Feuil1!M19 -> 2.58 | F34: HT / unitaire

Sheet Données techniques
A1: Données d'impressions | B1: NB de couleur | C1: Format palette
A2: Flexo | B2: 1 | C2: 800x1200
A3: Sérigraphie | B3: 2 | C3: 800x2400
A4: Sérigraphie + vernis | B4: 3 | C4: 1000x1200
A5: Numérique vernis UV | B5: 4 | C5: 1000x2000
A6: Numérique Gloss UV | C6: 1200x1600
A7: Numérique + Vernis sérigrahie | C7: 1200x2000
A8: Contre-collage offset

Sheet Compositions cartons
A1: Smurfit Kappa SCAO | H1: PROWELL GmbH
A2: Qualité | C2: Compositon (ext>int) | D2: Réf Fourn | E2: Poids (g/m²) | F2: Epaisseur (mm) | G2: ECT (kN/m) | H2: Qualité | I2: Compositon (ext>int) | J2: Réf Fourn | K2: Poids (g/m²) | L2: Epaisseur (mm) | M2: ECT (kN/m)
A3: - | C3: -
A4: BCWTK132 | C4: BC50 WT135 C100 TL120 HP125 K135 | D4: BCWK92A | E4: 730 | F4: 6.53 | G4: 9.18
A5: BEK2R51C | B5: M | C5: EB40 K135 C075 C075 C090 K185 | D5: EBKK73A | E5: 633 | F5: 4.13 | G5: 7.26
A6: BEKCT129 | C6: EB30 K135 C090 C090 C090 C100 | D6: EBKT60A | E6: 567 | F6: 4.03 | G6: 6.08
A7: BEKMT53C | C7: EB30 K135 C075 C075 C090 C100 | D7: EBKT60A | E7: 567 | F7: 4.03 | G7: 6.08
A8: BETRT55C | B8: M | C8: EB20 TL120 C090 C090 C090 C100 | D8: EBTT56A | E8: 552 | F8: 4.04 | G8: 5.58 | H8: BETRT55C | I8: TL115 WS80 WS90 WS80 TL90 | J8: 2.03BE | K8: 515 | L8: 3.5 | M8: 6
A9: BEWCW102 | C9: EB40 WT135 C100 C100 C100 WT135 | D9: EBWW83A | E9: 649 | F9: 4.07 | G9: 8.31
A10: BEWTK132 | C10: EB50 WT135 C090 TL120 HP125 K185 | D10: EBWK95A | E10: 745 | F10: 4.25 | G10: 9.46
A11: BEY2T85C | B11: M | C11: EB40 WT135 C090 C090 C100 R125 | D11: EBWT69C | E11: 617 | F11: 4.1 | G11: 6.86
A12: BEYRT50C | C12: EB20 TB120 C090 C090 C090 C100 | D12: EBVT56A | E12: 552 | F12: 4.05 | G12: 5.58 | H12: BEYRT50C | I12: KLW135 WS80 WS90 WS80 TL90 | J12: 2.35BE | K12: 535 | L12: 3.5 | M12: 6.7
A13: CB30DD | B13: M | C13: BC15 K115 C090 C090 C100 R100 | D13: BCKR67A | E13: 594 | F13: 6.39 | G13: 6.81 | H13: CB30DD | I13: PLK120 WS80 WS90 WS90 TL115 | J13: 2.31BC N2 | K13: 570 | L13: 5.6 | M13: 6.8
A14: CB40DD | C14: BC40 K135 C090 C090 C100 K115 | D14: BCKK76A | E14: 629 | F14: 6.42 | G14: 7.48 | H14: CB40DD | I14: PLK140 WS80 WS90 WS115 TL135 | J14: 2.40BC N2 | K14: 645 | L14: 5.6 | M14: 8
A15: CB50DD | B15: M | C15: BC40 K135 C090 C090 C100 TL170 | D15: BCKT79B | E15: 684 | F15: 6.53 | G15: 7.86 | H15: CB50DD | I15: KL175 WS80 WS90 WS135 PLK140 | J15: 2.51BC N1 | K15: 710 | L15: 5.7 | M15: 9.1
A16: CB60DD | C16: BC50 K185 C090 C090 C100 K185 | D16: BCKK92A | E16: 751 | F16: 6.64 | G16: 9.17 | H16: CB60DD | I16: KL175 WS80 WS90 WS135 KL175 | J16: 2.61BCN1 | K16: 745 | L16: 5.8 | M16: 9.3
A17: CB75DD | B17: M | C17: BC50 K135 C100 C090 HP125 TL220 | D17: BCKT96A | E17: 785 | F17: 6.65 | G17: 9.5 | H17: CB75DD | I17: K175 WS135 WS115 PMS140 K175 | J17: 2.71BC N1 | K17: 850 | L17: 5.9 | M17: 10.9
A18: CB90DD | C18: BC90 K275 HP125 K185 HP125 K275 | D18: BCKK15C | E18: 1109 | F18: 7.19 | G18: 14.5 | H18: CB90DD | I18: K280 PMS140 PLK140 PMS140 K280 | J18: 2.90BC | K18: 1090 | L18: 6.7 | M18: 15
H19: CBKRK76C | I19: K175 WS135 WS115 PMS140 K175 | J19: 2.71BC N1 | K19: 850 | L19: 5.9 | M19: 10.9
A20: CBTRT55C | B20: M | C20: BC15 TL120 C090 C090 C090 R100 | D20: BCTR65A | E20: 584 | F20: 6.41 | G20: 6.46 | H20: CBTRT55C | I20: TL115 WS80 WS90 WS90 TL90 | J20: 2.03BC N2 | K20: 540 | L20: 5.6 | M20: 6
A21: CBTRT58F | C21: BC30 TL170 C090 C090 C100 TL120 | D21: BCTT74A | E21: 669 | F21: 6.54 | G21: 7.36 | H21: CBTRT58F | I21: TL135 WS80 WS90 WS90 TL115 | J21: 2.30BC N2 | K21: 585 | L21: 5.6 | M21: 6.6
A22: CBTRT74C | C22: BC15 K115 C090 C090 C100 R100 | D22: BCKR67A | E22: 594 | F22: 6.39 | G22: 6.81 | H22: CBTRT74C | I22: KL135 WS80 WS90 WS90 TL115 | J22: 2.31BC Q3 | K22: 585 | L22: 5.6 | M22: 6.8
A23: CBYRT57F | B23: M | C23: BC40 WT135 C090 TL120 C100 TL120 | D23: BCWT78A | E23: 664 | F23: 6.49 | G23: 7.79 | H23: CBYRT57F | I23: KLW135 WS80 WS90 WS90 TL90 | J23: 2.35BC N2 | K23: 560 | L23: 5.6 | M23: 6.5
A24: EBK2T145 | C24: EB30 BC185 D090 D090 D090 TB120 | D24: EBLV80L | E24: 652 | F24: 4.09 | G24: 7.1
A25: EBKCK126 | C25: EB40 K135 HP125 C090 HP125 K186 | D25: EBKK98A | E25: 761 | F25: 4.26 | G25: 9.77
A26: EBKCT129 | C26: EB20 K115 C090 C090 C100 HP125 | D26: EBKT67B | E26: 612 | F26: 4.11 | G26: 6.73
A27: EEBCT116 | B27: M | C27: BC185 D090 D090 D090 TB120 | D27: EELV81L | E27: 649 | F27: 3.07 | G27: 6.5
A28: EEKCK129 | C28: EE40 K115 C090 C090 C090 K115 | D28: EEKK61A | E28: 559 | F28: 2.98 | G28: 6.12
A29: EEW2C100 | C29: EE30 WT135 C075 C075 C075 C090 | D29: EEWR55A | E29: 514 | F29: 2.93 | G29: 5.55
A30: EEWCW93C | C30: EE40 WT135 C075 C075 C075 WT135 | D30: EEWW65A | E30: 559 | F30: 2.96 | G30: 6.55
A31: MC2T30C | C31: C10 TL120 C100 R100 | D31: C5TR43A | E31: 379 | F31: 3.99 | G31: 4.2 | H31: MC2T30C | I31: TL135 WS90 TL115 | J31: 1.03C | K31: 385 | L31: 3.6 | M31: 4
A32: MC2T40C | B32: M | C32: C20 K115 HP125 TL120 | D32: C5KT54A | E32: 431 | F32: 4.04 | G32: 5.33 | H32: MC2T40C | I32: PLK140 WS115 TL135 | J32: 1.30C W7 | K32: 440 | L32: 3.7 | M32: 5
A33: MC2T62C | C33: C30 K135 HP125 TL170 | D33: C5KT62C | E33: 501 | F33: 4.14 | G33: 6.2 | H33: MC2T62C | I33: PLK175 WS115 TL135 | J33: 1.40C | K33: 475 | L33: 3.7 | M33: 5.7
A34: MC40 | C34: C20 K135 C100 K135 | D34: C5KK54A | E34: 429 | F34: 4.01 | G34: 5.37 | H34: MC40 | I34: PLK175 WS115 TL135 | J34: 1.40C | K34: 475 | L34: 3.7 | M34: 5.7
H35: MCKP82W | I35: KL175 WS135 PLK140 | J35: 1.41C | K35: 510 | L35: 3.7 | M35: 6.2
A36: MCTL52C | C36: C40 TL170 HP125 TL220 | D36: C5TT71A | E36: 586 | F36: 4.3 | G36: 7.02
A37: MCWYT80C | C37: C20 WT135 HP125 TB120 | D37: C5WV60A | E37: 451 | F37: 4.06 | G37: 5.85
A38: MCYT18C | B38: M | C38: C10 TB120 HP125 TL120 | D38: C5VT53A | E38: 436.5 | F38: 4.08 | G38: 5.14
A39: MCYT45C | C39: C20 WT135 HP125 TL170 | D39: C5WT65A | E39: 501 | F39: 4.13 | G39: 6.42
A40: MI2K97C | B40: M | C40: E20 K135 C090 K135 | D40: E2KK50A | E40: 396 | F40: 1.63 | G40: 5.04
...

Sheet Client
A3: Client | B3: Adresse | E3: Commercial | F3: Assistante commerciale
A4: PATRELLE | B4: Chemin de Trousseauville | C4: 14510 Houlgate | D4: France | E4: Alain Carretero | F4: Aurélie Desloges
A5: ELBA | B5: Zoning Industriel | C5: 14370 Moult | D5: France | E5: Jean-Luc Guet | F5: Virginie Dragin
