Workbook
Name Catégories1: '[1]Catégories '!$A$1:$A$3
Name Catégories2: '[1]Catégories '!$C$1:$C$9
Name recherche1: #REF!

Sheet Recette
B1: Nom Recette | C1: Code Recette | D1: ingrédients utilisés pour 1 kg
B2: Saisie manuelle | C2: Incrémenté automatiquement | D2: Farine | E2: Sucre | F2: Eau
B3: Cookie | C3: CodeCookie | D3: 500 | E3: 200 | F3: 150
H7: Resultat | J7: Ligne | K7: colonne
H8: =INDEX(B:F,3,K8) -> 200 | J8: =MATCH("Cookie",B:B,0) -> 3 | K8: =MATCH("Sucre",D2:F2,0)+2 -> 4
H11: croisement
H12: =INDEX(B:F,MATCH("Cookie",B:B,0),MATCH("Sucre",D2:F2,0)+2) -> 200

Sheet Matiere Premiere
B1: Type d'ingrédients | C1: Date réception | D1: Fournisseur | E1: Conformité | F1: Numéro de lot | G1: DDM | H1: Poids | I1: Facture
B2: Farine | C2: 30613 | F2: =IF(ISBLANK(B2),"","lot"&ROW(F2)) -> lot2 | H2: 50
B3: Sucre | F3: =IF(ISBLANK(B3),"","lot"&ROW(F3)) -> lot3 | H3: 20
B4: Eau | F4: =IF(ISBLANK(B4),"","lot"&ROW(F4)) -> lot4 | H4: 100
B5: Amidon | F5: =IF(ISBLANK(B5),"","lot"&ROW(F5)) -> lot5 | H5: 30
F6: =IF(ISBLANK(B6),"","lot"&ROW(F6))
F7: =IF(ISBLANK(B7),"","lot"&ROW(F7))
F8: =IF(ISBLANK(B8),"","lot"&ROW(F8))
F9: =IF(ISBLANK(B9),"","lot"&ROW(F9))
F10: =IF(ISBLANK(B10),"","lot"&ROW(F10))
F11: =IF(ISBLANK(B11),"","lot"&ROW(F11))
F12: =IF(ISBLANK(B12),"","lot"&ROW(F12))
F13: =IF(ISBLANK(B13),"","lot"&ROW(F13))
F14: =IF(ISBLANK(B14),"","lot"&ROW(F14))
F15: =IF(ISBLANK(B15),"","lot"&ROW(F15))
F16: =IF(ISBLANK(B16),"","lot"&ROW(F16))
F17: =IF(ISBLANK(B17),"","lot"&ROW(F17))
... F40: =IF(ISBLANK(B40),"","lot"&ROW(F40))

Sheet Production
B1: Nom Recette | C1: Code recette | D1: Date production | E1: Quantité produite en kg | F1: Numéro de lot | G1: DDM
B2: Cookie | C2: =IF(ISBLANK(B2),"",VLOOKUP(B2,Recette!B:C,2,FALSE)) -> CodeCookie | D2: 43111 | E2: 2 | F2: =IF(OR(ISBLANK(C2),ISBLANK(D2)),"",(C2&TEXT(D2,"jjmmaaaa"))) -> CodeCookie11012018 | G2: =IF(ISBLANK(D2),"",EDATE(D2,2)) -> 43170
B3: Cookie | C3: =IF(ISBLANK(B3),"",VLOOKUP(B3,Recette!B:C,2,FALSE)) -> CodeCookie | D3: 43383 | F3: =IF(OR(ISBLANK(C3),ISBLANK(D3)),"",(C3&TEXT(D3,"jjmmaaaa"))) -> CodeCookie10102018 | G3: =IF(ISBLANK(D3),"",EDATE(D3,2)) -> 43444
B4: Cookie | C4: =IF(ISBLANK(B4),"",VLOOKUP(B4,Recette!B:C,2,FALSE)) -> CodeCookie | D4: 43396 | F4: =IF(OR(ISBLANK(C4),ISBLANK(D4)),"",(C4&TEXT(D4,"jjmmaaaa"))) -> CodeCookie23102018 | G4: =IF(ISBLANK(D4),"",EDATE(D4,2)) -> 43457
C5: =IF(ISBLANK(B5),"",VLOOKUP(B5,Recette!B:C,2,FALSE)) | F5: =IF(OR(ISBLANK(C5),ISBLANK(D5)),"",(C5&TEXT(D5,"jjmmaaaa"))) | G5: =IF(ISBLANK(D5),"",EDATE(D5,2))
C6: =IF(ISBLANK(B6),"",VLOOKUP(B6,Recette!B:C,2,FALSE)) | F6: =IF(OR(ISBLANK(C6),ISBLANK(D6)),"",(C6&TEXT(D6,"jjmmaaaa"))) | G6: =IF(ISBLANK(D6),"",EDATE(D6,2))
C7: =IF(ISBLANK(B7),"",VLOOKUP(B7,Recette!B:C,2,FALSE)) | F7: =IF(OR(ISBLANK(C7),ISBLANK(D7)),"",(C7&TEXT(D7,"jjmmaaaa"))) | G7: =IF(ISBLANK(D7),"",EDATE(D7,2))
C8: =IF(ISBLANK(B8),"",VLOOKUP(B8,Recette!B:C,2,FALSE)) | F8: =IF(OR(ISBLANK(C8),ISBLANK(D8)),"",(C8&TEXT(D8,"jjmmaaaa"))) | G8: =IF(ISBLANK(D8),"",EDATE(D8,2))
C9: =IF(ISBLANK(B9),"",VLOOKUP(B9,Recette!B:C,2,FALSE)) | F9: =IF(OR(ISBLANK(C9),ISBLANK(D9)),"",(C9&TEXT(D9,"jjmmaaaa"))) | G9: =IF(ISBLANK(D9),"",EDATE(D9,2))
C10: =IF(ISBLANK(B10),"",VLOOKUP(B10,Recette!B:C,2,FALSE)) | F10: =IF(OR(ISBLANK(C10),ISBLANK(D10)),"",(C10&TEXT(D10,"jjmmaaaa"))) | G10: =IF(ISBLANK(D10),"",EDATE(D10,2))
C11: =IF(ISBLANK(B11),"",VLOOKUP(B11,Recette!B:C,2,FALSE)) | F11: =IF(OR(ISBLANK(C11),ISBLANK(D11)),"",(C11&TEXT(D11,"jjmmaaaa"))) | G11: =IF(ISBLANK(D11),"",EDATE(D11,2))
C12: =IF(ISBLANK(B12),"",VLOOKUP(B12,Recette!B:C,2,FALSE)) | F12: =IF(OR(ISBLANK(C12),ISBLANK(D12)),"",(C12&TEXT(D12,"jjmmaaaa"))) | G12: =IF(ISBLANK(D12),"",EDATE(D12,2))
C13: =IF(ISBLANK(B13),"",VLOOKUP(B13,Recette!B:C,2,FALSE)) | F13: =IF(OR(ISBLANK(C13),ISBLANK(D13)),"",(C13&TEXT(D13,"jjmmaaaa"))) | G13: =IF(ISBLANK(D13),"",EDATE(D13,2))
C14: =IF(ISBLANK(B14),"",VLOOKUP(B14,Recette!B:C,2,FALSE)) | F14: =IF(OR(ISBLANK(C14),ISBLANK(D14)),"",(C14&TEXT(D14,"jjmmaaaa"))) | G14: =IF(ISBLANK(D14),"",EDATE(D14,2))
C15: =IF(ISBLANK(B15),"",VLOOKUP(B15,Recette!B:C,2,FALSE)) | F15: =IF(OR(ISBLANK(C15),ISBLANK(D15)),"",(C15&TEXT(D15,"jjmmaaaa"))) | G15: =IF(ISBLANK(D15),"",EDATE(D15,2))
C16: =IF(ISBLANK(B16),"",VLOOKUP(B16,Recette!B:C,2,FALSE)) | F16: =IF(OR(ISBLANK(C16),ISBLANK(D16)),"",(C16&TEXT(D16,"jjmmaaaa"))) | G16: =IF(ISBLANK(D16),"",EDATE(D16,2))
... C44: =IF(ISBLANK(B44),"",VLOOKUP(B44,Recette!B:C,2,FALSE)) | F44: =IF(OR(ISBLANK(C44),ISBLANK(D44)),"",(C44&TEXT(D44,"jjmmaaaa"))) | G44: =IF(ISBLANK(D44),"",EDATE(D44,2))
F45: =IF(OR(ISBLANK(C45),ISBLANK(D45)),"",(C45&TEXT(D45,"jjmmaaaa"))) | G45: =IF(ISBLANK(D45),"",EDATE(D45,2))
F46: =IF(OR(ISBLANK(C46),ISBLANK(D46)),"",(C46&TEXT(D46,"jjmmaaaa")))
F47: =IF(OR(ISBLANK(C47),ISBLANK(D47)),"",(C47&TEXT(D47,"jjmmaaaa")))
F48: =IF(OR(ISBLANK(C48),ISBLANK(D48)),"",(C48&TEXT(D48,"jjmmaaaa")))
F49: =IF(OR(ISBLANK(C49),ISBLANK(D49)),"",(C49&TEXT(D49,"jjmmaaaa")))
F50: =IF(OR(ISBLANK(C50),ISBLANK(D50)),"",(C50&TEXT(D50,"jjmmaaaa")))

Sheet Gestion Stock
B1: N° de lot ingrédient | C1: Quantité utilisée ingrédient | D1: Stock restant | E1: Alerte réappro
B2: Saisie automatique incrémenté lors de la saisie des réceptions | C2: Calcul automatique par rapport à la quantité produite, en fonction du fichier recette | D2: Calcul automatique | E2: 1 kg
B3: =IF(ISBLANK('Matiere Premiere'!B2),"","lot"&ROW('Matiere Premiere'!F2)) -> lot2 | C3: =SUMIF(Production!E:E,"lot2",Production!E:E) -> 0 | D3: =IF(ISBLANK(VLOOKUP(B3,'Matiere Premiere'!F:H,3,FALSE)),"",VLOOKUP(B3,'Matiere Premiere'!F:H,3,FALSE)) -> 50
B4: =IF(ISBLANK('Matiere Premiere'!B3),"","lot"&ROW('Matiere Premiere'!F3)) -> lot3 | D4: =IF(ISBLANK(VLOOKUP(B4,'Matiere Premiere'!F:H,3,FALSE)),"",VLOOKUP(B4,'Matiere Premiere'!F:H,3,FALSE)) -> 20
B5: =IF(ISBLANK('Matiere Premiere'!B4),"","lot"&ROW('Matiere Premiere'!F4)) -> lot4 | D5: =IF(ISBLANK(VLOOKUP(B5,'Matiere Premiere'!F:H,3,FALSE)),"",VLOOKUP(B5,'Matiere Premiere'!F:H,3,FALSE)) -> 100
B6: =IF(ISBLANK('Matiere Premiere'!B5),"","lot"&ROW('Matiere Premiere'!F5)) -> lot5 | D6: =IF(ISBLANK(VLOOKUP(B6,'Matiere Premiere'!F:H,3,FALSE)),"",VLOOKUP(B6,'Matiere Premiere'!F:H,3,FALSE)) -> 30
B7: =IF(ISBLANK('Matiere Premiere'!B6),"","lot"&ROW('Matiere Premiere'!F6)) | D7: =IF(ISBLANK(VLOOKUP(B7,'Matiere Premiere'!F:H,3,FALSE)),"",VLOOKUP(B7,'Matiere Premiere'!F:H,3,FALSE))
B8: =IF(ISBLANK('Matiere Premiere'!B7),"","lot"&ROW('Matiere Premiere'!F7)) | D8: =IF(ISBLANK(VLOOKUP(B8,'Matiere Premiere'!F:H,3,FALSE)),"",VLOOKUP(B8,'Matiere Premiere'!F:H,3,FALSE))
B9: =IF(ISBLANK('Matiere Premiere'!B8),"","lot"&ROW('Matiere Premiere'!F8)) | D9: =IF(ISBLANK(VLOOKUP(B9,'Matiere Premiere'!F:H,3,FALSE)),"",VLOOKUP(B9,'Matiere Premiere'!F:H,3,FALSE))
B10: =IF(ISBLANK('Matiere Premiere'!B9),"","lot"&ROW('Matiere Premiere'!F9)) | D10: =IF(ISBLANK(VLOOKUP(B10,'Matiere Premiere'!F:H,3,FALSE)),"",VLOOKUP(B10,'Matiere Premiere'!F:H,3,FALSE))
B11: =IF(ISBLANK('Matiere Premiere'!B10),"","lot"&ROW('Matiere Premiere'!F10)) | D11: =IF(ISBLANK(VLOOKUP(B11,'Matiere Premiere'!F:H,3,FALSE)),"",VLOOKUP(B11,'Matiere Premiere'!F:H,3,FALSE))
B12: =IF(ISBLANK('Matiere Premiere'!B11),"","lot"&ROW('Matiere Premiere'!F11)) | D12: =IF(ISBLANK(VLOOKUP(B12,'Matiere Premiere'!F:H,3,FALSE)),"",VLOOKUP(B12,'Matiere Premiere'!F:H,3,FALSE))
B13: =IF(ISBLANK('Matiere Premiere'!B12),"","lot"&ROW('Matiere Premiere'!F12)) | D13: =IF(ISBLANK(VLOOKUP(B13,'Matiere Premiere'!F:H,3,FALSE)),"",VLOOKUP(B13,'Matiere Premiere'!F:H,3,FALSE))
B14: =IF(ISBLANK('Matiere Premiere'!B13),"","lot"&ROW('Matiere Premiere'!F13)) | D14: =IF(ISBLANK(VLOOKUP(B14,'Matiere Premiere'!F:H,3,FALSE)),"",VLOOKUP(B14,'Matiere Premiere'!F:H,3,FALSE))
B15: =IF(ISBLANK('Matiere Premiere'!B14),"","lot"&ROW('Matiere Premiere'!F14)) | D15: =IF(ISBLANK(VLOOKUP(B15,'Matiere Premiere'!F:H,3,FALSE)),"",VLOOKUP(B15,'Matiere Premiere'!F:H,3,FALSE))
... B34: =IF(ISBLANK('Matiere Premiere'!B33),"","lot"&ROW('Matiere Premiere'!F33)) | D34: =IF(ISBLANK(VLOOKUP(B34,'Matiere Premiere'!F:H,3,FALSE)),"",VLOOKUP(B34,'Matiere Premiere'!F:H,3,FALSE))
