Workbook
Name AprSun1: DATE(CalendarYear,4,1)-WEEKDAY(DATE(CalendarYear,4,1))+1
Name AugSun1: DATE(CalendarYear,8,1)-WEEKDAY(DATE(CalendarYear,8,1))+1
Name CalendarYear: January!$W$1
Name DecSun1: DATE(CalendarYear,12,1)-WEEKDAY(DATE(CalendarYear,12,1))+1
Name FebSun1: DATE(CalendarYear,2,1)-WEEKDAY(DATE(CalendarYear,2,1))+1
Name JanSun1: DATE([0]!CalendarYear,1,1)-WEEKDAY(DATE([0]!CalendarYear,1,1))+1
Name JanSun1: DATE(CalendarYear,1,1)-WEEKDAY(DATE(CalendarYear,1,1))+1
Name JulSun1: DATE(CalendarYear,7,1)-WEEKDAY(DATE(CalendarYear,7,1))+1
Name JunSun1: DATE(CalendarYear,6,1)-WEEKDAY(DATE(CalendarYear,6,1))+1
Name Mar_Dim1: DATE(Année_Calendaire,3,1)-WEEKDAY(DATE(Année_Calendaire,3,1))+1
Name MarSun1: DATE(CalendarYear,3,1)-WEEKDAY(DATE(CalendarYear,3,1))+1
Name MaySun1: DATE(CalendarYear,5,1)-WEEKDAY(DATE(CalendarYear,5,1))+1
Name NovSun1: DATE(CalendarYear,11,1)-WEEKDAY(DATE(CalendarYear,11,1))+1
Name OctSun1: DATE(CalendarYear,10,1)-WEEKDAY(DATE(CalendarYear,10,1))+1
Name SepSun1: DATE(CalendarYear,9,1)-WEEKDAY(DATE(CalendarYear,9,1))+1

Sheet Parameters
M1: N° month | N1: Month | O1: 1st day | P1: Last day
M2: 1 | N2: January | O2: =DATE($B$14,M2,1) -> 43466 | P2: =EOMONTH(O2,0) -> 43496
M3: 2 | N3: February | O3: =DATE($B$14,M3,1) -> 43497 | P3: =EOMONTH(O3,0) -> 43524
M4: 3 | N4: March | O4: =DATE($B$14,M4,1) -> 43525 | P4: =EOMONTH(O4,0) -> 43555
M5: 4 | N5: April | O5: =DATE($B$14,M5,1) -> 43556 | P5: =EOMONTH(O5,0) -> 43585
M6: 5 | N6: May | O6: =DATE($B$14,M6,1) -> 43586 | P6: =EOMONTH(O6,0) -> 43616
M7: 6 | N7: June | O7: =DATE($B$14,M7,1) -> 43617 | P7: =EOMONTH(O7,0) -> 43646
M8: 7 | N8: July | O8: =DATE($B$14,M8,1) -> 43647 | P8: =EOMONTH(O8,0) -> 43677
M9: 8 | N9: August | O9: =DATE($B$14,M9,1) -> 43678 | P9: =EOMONTH(O9,0) -> 43708
M10: 9 | N10: September | O10: =DATE($B$14,M10,1) -> 43709 | P10: =EOMONTH(O10,0) -> 43738
M11: 10 | N11: October | O11: =DATE($B$14,M11,1) -> 43739 | P11: =EOMONTH(O11,0) -> 43769
M12: 11 | N12: November | O12: =DATE($B$14,M12,1) -> 43770 | P12: =EOMONTH(O12,0) -> 43799
M13: 12 | N13: December | O13: =DATE($B$14,M13,1) -> 43800 | P13: =EOMONTH(O13,0) -> 43830
A14: Year | B14: 2019
B16: Days Off
B18: =DATE(B14,M2,1) -> 43466 | D18: =DATE(B14,M3,1) -> 43497 | F18: =DATE($B$14,$M4,1) -> 43525 | H18: =DATE($B$14,$M5,1) -> 43556 | J18: =DATE($B$14,$M6,1) -> 43586 | L18: =DATE($B$14,$M7,1) -> 43617
B19: =B18 -> 43466 | C19: =IFERROR(IF(B19="","",IF(VLOOKUP(B19,'Days off'!$B$2:$B$19,1,FALSE)=B19,"DayOff","WD")),"WD") -> DayOff | D19: =D18 -> 43497 | E19: =IFERROR(IF(D19="","",IF(VLOOKUP(D19,'Days off'!$B$2:$B$19,1,FALSE)=D19,"DayOff","WD")),"WD") -> WD | F19: =F18 -> 43525 | G19: =IFERROR(IF(F19="","",IF(VLOOKUP(F19,'Days off'!$B$2:$B$19,1,FALSE)=F19,"DayOff","WD")),"WD") -> WD | H19: =H18 -> 43556 | I19: =IFERROR(IF(H19="","",IF(VLOOKUP(H19,'Days off'!$B$2:$B$19,1,FALSE)=H19,"DayOff","WD")),"WD") -> WD | J19: =J18 -> 43586 | K19: =IFERROR(IF(J19="","",IF(VLOOKUP(J19,'Days off'!$B$2:$B$19,1,FALSE)=J19,"DayOff","WD")),"WD") -> DayOff | L19: =L18 -> 43617 | M19: =IFERROR(IF(L19="","",IF(VLOOKUP(L19,'Days off'!$B$2:$B$19,1,FALSE)=L19,"DayOff","WD")),"WD") -> WD
B20: =IFERROR(IF(B19+1>$P$2,"",B19+1),"") -> 43467 | C20: =IFERROR(IF(B20="","",IF(VLOOKUP(B20,'Days off'!$B$2:$B$19,1,FALSE)=B20,"DayOff","WD")),"WD") -> WD | D20: =IFERROR(IF(D19+1>$P$3,"",D19+1),"") -> 43498 | E20: =IFERROR(IF(D20="","",IF(VLOOKUP(D20,'Days off'!$B$2:$B$19,1,FALSE)=D20,"DayOff","WD")),"WD") -> WD | F20: =IFERROR(IF(F19+1>$P$4,"",F19+1),"") -> 43526 | G20: =IFERROR(IF(F20="","",IF(VLOOKUP(F20,'Days off'!$B$2:$B$19,1,FALSE)=F20,"DayOff","WD")),"WD") -> WD | H20: =IFERROR(IF(H19+1>$P$5,"",H19+1),"") -> 43557 | I20: =IFERROR(IF(H20="","",IF(VLOOKUP(H20,'Days off'!$B$2:$B$19,1,FALSE)=H20,"DayOff","WD")),"WD") -> DayOff | J20: =IFERROR(IF(J19+1>$P$6,"",J19+1),"") -> 43587 | K20: =IFERROR(IF(J20="","",IF(VLOOKUP(J20,'Days off'!$B$2:$B$19,1,FALSE)=J20,"DayOff","WD")),"WD") -> WD | L20: =IFERROR(IF(L19+1>$P$7,"",L19+1),"") -> 43618 | M20: =IFERROR(IF(L20="","",IF(VLOOKUP(L20,'Days off'!$B$2:$B$19,1,FALSE)=L20,"DayOff","WD")),"WD") -> WD
B21: =IFERROR(IF(B20+1>$P$2,"",B20+1),"") -> 43468 | C21: =IFERROR(IF(B21="","",IF(VLOOKUP(B21,'Days off'!$B$2:$B$19,1,FALSE)=B21,"DayOff","WD")),"WD") -> WD | D21: =IFERROR(IF(D20+1>$P$3,"",D20+1),"") -> 43499 | E21: =IFERROR(IF(D21="","",IF(VLOOKUP(D21,'Days off'!$B$2:$B$19,1,FALSE)=D21,"DayOff","WD")),"WD") -> WD | F21: =IFERROR(IF(F20+1>$P$4,"",F20+1),"") -> 43527 | G21: =IFERROR(IF(F21="","",IF(VLOOKUP(F21,'Days off'!$B$2:$B$19,1,FALSE)=F21,"DayOff","WD")),"WD") -> WD | H21: =IFERROR(IF(H20+1>$P$5,"",H20+1),"") -> 43558 | I21: =IFERROR(IF(H21="","",IF(VLOOKUP(H21,'Days off'!$B$2:$B$19,1,FALSE)=H21,"DayOff","WD")),"WD") -> WD | J21: =IFERROR(IF(J20+1>$P$6,"",J20+1),"") -> 43588 | K21: =IFERROR(IF(J21="","",IF(VLOOKUP(J21,'Days off'!$B$2:$B$19,1,FALSE)=J21,"DayOff","WD")),"WD") -> WD | L21: =IFERROR(IF(L20+1>$P$7,"",L20+1),"") -> 43619 | M21: =IFERROR(IF(L21="","",IF(VLOOKUP(L21,'Days off'!$B$2:$B$19,1,FALSE)=L21,"DayOff","WD")),"WD") -> WD
B22: =IFERROR(IF(B21+1>$P$2,"",B21+1),"") -> 43469 | C22: =IFERROR(IF(B22="","",IF(VLOOKUP(B22,'Days off'!$B$2:$B$19,1,FALSE)=B22,"DayOff","WD")),"WD") -> WD | D22: =IFERROR(IF(D21+1>$P$3,"",D21+1),"") -> 43500 | E22: =IFERROR(IF(D22="","",IF(VLOOKUP(D22,'Days off'!$B$2:$B$19,1,FALSE)=D22,"DayOff","WD")),"WD") -> WD | F22: =IFERROR(IF(F21+1>$P$4,"",F21+1),"") -> 43528 | G22: =IFERROR(IF(F22="","",IF(VLOOKUP(F22,'Days off'!$B$2:$B$19,1,FALSE)=F22,"DayOff","WD")),"WD") -> WD | H22: =IFERROR(IF(H21+1>$P$5,"",H21+1),"") -> 43559 | I22: =IFERROR(IF(H22="","",IF(VLOOKUP(H22,'Days off'!$B$2:$B$19,1,FALSE)=H22,"DayOff","WD")),"WD") -> WD | J22: =IFERROR(IF(J21+1>$P$6,"",J21+1),"") -> 43589 | K22: =IFERROR(IF(J22="","",IF(VLOOKUP(J22,'Days off'!$B$2:$B$19,1,FALSE)=J22,"DayOff","WD")),"WD") -> WD | L22: =IFERROR(IF(L21+1>$P$7,"",L21+1),"") -> 43620 | M22: =IFERROR(IF(L22="","",IF(VLOOKUP(L22,'Days off'!$B$2:$B$19,1,FALSE)=L22,"DayOff","WD")),"WD") -> WD
B23: =IFERROR(IF(B22+1>$P$2,"",B22+1),"") -> 43470 | C23: =IFERROR(IF(B23="","",IF(VLOOKUP(B23,'Days off'!$B$2:$B$19,1,FALSE)=B23,"DayOff","WD")),"WD") -> WD | D23: =IFERROR(IF(D22+1>$P$3,"",D22+1),"") -> 43501 | E23: =IFERROR(IF(D23="","",IF(VLOOKUP(D23,'Days off'!$B$2:$B$19,1,FALSE)=D23,"DayOff","WD")),"WD") -> WD | F23: =IFERROR(IF(F22+1>$P$4,"",F22+1),"") -> 43529 | G23: =IFERROR(IF(F23="","",IF(VLOOKUP(F23,'Days off'!$B$2:$B$19,1,FALSE)=F23,"DayOff","WD")),"WD") -> WD | H23: =IFERROR(IF(H22+1>$P$5,"",H22+1),"") -> 43560 | I23: =IFERROR(IF(H23="","",IF(VLOOKUP(H23,'Days off'!$B$2:$B$19,1,FALSE)=H23,"DayOff","WD")),"WD") -> WD | J23: =IFERROR(IF(J22+1>$P$6,"",J22+1),"") -> 43590 | K23: =IFERROR(IF(J23="","",IF(VLOOKUP(J23,'Days off'!$B$2:$B$19,1,FALSE)=J23,"DayOff","WD")),"WD") -> WD | L23: =IFERROR(IF(L22+1>$P$7,"",L22+1),"") -> 43621 | M23: =IFERROR(IF(L23="","",IF(VLOOKUP(L23,'Days off'!$B$2:$B$19,1,FALSE)=L23,"DayOff","WD")),"WD") -> WD
B24: =IFERROR(IF(B23+1>$P$2,"",B23+1),"") -> 43471 | C24: =IFERROR(IF(B24="","",IF(VLOOKUP(B24,'Days off'!$B$2:$B$19,1,FALSE)=B24,"DayOff","WD")),"WD") -> WD | D24: =IFERROR(IF(D23+1>$P$3,"",D23+1),"") -> 43502 | E24: =IFERROR(IF(D24="","",IF(VLOOKUP(D24,'Days off'!$B$2:$B$19,1,FALSE)=D24,"DayOff","WD")),"WD") -> WD | F24: =IFERROR(IF(F23+1>$P$4,"",F23+1),"") -> 43530 | G24: =IFERROR(IF(F24="","",IF(VLOOKUP(F24,'Days off'!$B$2:$B$19,1,FALSE)=F24,"DayOff","WD")),"WD") -> WD | H24: =IFERROR(IF(H23+1>$P$5,"",H23+1),"") -> 43561 | I24: =IFERROR(IF(H24="","",IF(VLOOKUP(H24,'Days off'!$B$2:$B$19,1,FALSE)=H24,"DayOff","WD")),"WD") -> WD | J24: =IFERROR(IF(J23+1>$P$6,"",J23+1),"") -> 43591 | K24: =IFERROR(IF(J24="","",IF(VLOOKUP(J24,'Days off'!$B$2:$B$19,1,FALSE)=J24,"DayOff","WD")),"WD") -> WD | L24: =IFERROR(IF(L23+1>$P$7,"",L23+1),"") -> 43622 | M24: =IFERROR(IF(L24="","",IF(VLOOKUP(L24,'Days off'!$B$2:$B$19,1,FALSE)=L24,"DayOff","WD")),"WD") -> WD
B25: =IFERROR(IF(B24+1>$P$2,"",B24+1),"") -> 43472 | C25: =IFERROR(IF(B25="","",IF(VLOOKUP(B25,'Days off'!$B$2:$B$19,1,FALSE)=B25,"DayOff","WD")),"WD") -> WD | D25: =IFERROR(IF(D24+1>$P$3,"",D24+1),"") -> 43503 | E25: =IFERROR(IF(D25="","",IF(VLOOKUP(D25,'Days off'!$B$2:$B$19,1,FALSE)=D25,"DayOff","WD")),"WD") -> WD | F25: =IFERROR(IF(F24+1>$P$4,"",F24+1),"") -> 43531 | G25: =IFERROR(IF(F25="","",IF(VLOOKUP(F25,'Days off'!$B$2:$B$19,1,FALSE)=F25,"DayOff","WD")),"WD") -> WD | H25: =IFERROR(IF(H24+1>$P$5,"",H24+1),"") -> 43562 | I25: =IFERROR(IF(H25="","",IF(VLOOKUP(H25,'Days off'!$B$2:$B$19,1,FALSE)=H25,"DayOff","WD")),"WD") -> WD | J25: =IFERROR(IF(J24+1>$P$6,"",J24+1),"") -> 43592 | K25: =IFERROR(IF(J25="","",IF(VLOOKUP(J25,'Days off'!$B$2:$B$19,1,FALSE)=J25,"DayOff","WD")),"WD") -> WD | L25: =IFERROR(IF(L24+1>$P$7,"",L24+1),"") -> 43623 | M25: =IFERROR(IF(L25="","",IF(VLOOKUP(L25,'Days off'!$B$2:$B$19,1,FALSE)=L25,"DayOff","WD")),"WD") -> WD
B26: =IFERROR(IF(B25+1>$P$2,"",B25+1),"") -> 43473 | C26: =IFERROR(IF(B26="","",IF(VLOOKUP(B26,'Days off'!$B$2:$B$19,1,FALSE)=B26,"DayOff","WD")),"WD") -> WD | D26: =IFERROR(IF(D25+1>$P$3,"",D25+1),"") -> 43504 | E26: =IFERROR(IF(D26="","",IF(VLOOKUP(D26,'Days off'!$B$2:$B$19,1,FALSE)=D26,"DayOff","WD")),"WD") -> WD | F26: =IFERROR(IF(F25+1>$P$4,"",F25+1),"") -> 43532 | G26: =IFERROR(IF(F26="","",IF(VLOOKUP(F26,'Days off'!$B$2:$B$19,1,FALSE)=F26,"DayOff","WD")),"WD") -> WD | H26: =IFERROR(IF(H25+1>$P$5,"",H25+1),"") -> 43563 | I26: =IFERROR(IF(H26="","",IF(VLOOKUP(H26,'Days off'!$B$2:$B$19,1,FALSE)=H26,"DayOff","WD")),"WD") -> WD | J26: =IFERROR(IF(J25+1>$P$6,"",J25+1),"") -> 43593 | K26: =IFERROR(IF(J26="","",IF(VLOOKUP(J26,'Days off'!$B$2:$B$19,1,FALSE)=J26,"DayOff","WD")),"WD") -> DayOff | L26: =IFERROR(IF(L25+1>$P$7,"",L25+1),"") -> 43624 | M26: =IFERROR(IF(L26="","",IF(VLOOKUP(L26,'Days off'!$B$2:$B$19,1,FALSE)=L26,"DayOff","WD")),"WD") -> WD
B27: =IFERROR(IF(B26+1>$P$2,"",B26+1),"") -> 43474 | C27: =IFERROR(IF(B27="","",IF(VLOOKUP(B27,'Days off'!$B$2:$B$19,1,FALSE)=B27,"DayOff","WD")),"WD") -> WD | D27: =IFERROR(IF(D26+1>$P$3,"",D26+1),"") -> 43505 | E27: =IFERROR(IF(D27="","",IF(VLOOKUP(D27,'Days off'!$B$2:$B$19,1,FALSE)=D27,"DayOff","WD")),"WD") -> WD | F27: =IFERROR(IF(F26+1>$P$4,"",F26+1),"") -> 43533 | G27: =IFERROR(IF(F27="","",IF(VLOOKUP(F27,'Days off'!$B$2:$B$19,1,FALSE)=F27,"DayOff","WD")),"WD") -> WD | H27: =IFERROR(IF(H26+1>$P$5,"",H26+1),"") -> 43564 | I27: =IFERROR(IF(H27="","",IF(VLOOKUP(H27,'Days off'!$B$2:$B$19,1,FALSE)=H27,"DayOff","WD")),"WD") -> WD | J27: =IFERROR(IF(J26+1>$P$6,"",J26+1),"") -> 43594 | K27: =IFERROR(IF(J27="","",IF(VLOOKUP(J27,'Days off'!$B$2:$B$19,1,FALSE)=J27,"DayOff","WD")),"WD") -> WD | L27: =IFERROR(IF(L26+1>$P$7,"",L26+1),"") -> 43625 | M27: =IFERROR(IF(L27="","",IF(VLOOKUP(L27,'Days off'!$B$2:$B$19,1,FALSE)=L27,"DayOff","WD")),"WD") -> WD
B28: =IFERROR(IF(B27+1>$P$2,"",B27+1),"") -> 43475 | C28: =IFERROR(IF(B28="","",IF(VLOOKUP(B28,'Days off'!$B$2:$B$19,1,FALSE)=B28,"DayOff","WD")),"WD") -> WD | D28: =IFERROR(IF(D27+1>$P$3,"",D27+1),"") -> 43506 | E28: =IFERROR(IF(D28="","",IF(VLOOKUP(D28,'Days off'!$B$2:$B$19,1,FALSE)=D28,"DayOff","WD")),"WD") -> WD | F28: =IFERROR(IF(F27+1>$P$4,"",F27+1),"") -> 43534 | G28: =IFERROR(IF(F28="","",IF(VLOOKUP(F28,'Days off'!$B$2:$B$19,1,FALSE)=F28,"DayOff","WD")),"WD") -> WD | H28: =IFERROR(IF(H27+1>$P$5,"",H27+1),"") -> 43565 | I28: =IFERROR(IF(H28="","",IF(VLOOKUP(H28,'Days off'!$B$2:$B$19,1,FALSE)=H28,"DayOff","WD")),"WD") -> WD | J28: =IFERROR(IF(J27+1>$P$6,"",J27+1),"") -> 43595 | K28: =IFERROR(IF(J28="","",IF(VLOOKUP(J28,'Days off'!$B$2:$B$19,1,FALSE)=J28,"DayOff","WD")),"WD") -> DayOff | L28: =IFERROR(IF(L27+1>$P$7,"",L27+1),"") -> 43626 | M28: =IFERROR(IF(L28="","",IF(VLOOKUP(L28,'Days off'!$B$2:$B$19,1,FALSE)=L28,"DayOff","WD")),"WD") -> WD
B29: =IFERROR(IF(B28+1>$P$2,"",B28+1),"") -> 43476 | C29: =IFERROR(IF(B29="","",IF(VLOOKUP(B29,'Days off'!$B$2:$B$19,1,FALSE)=B29,"DayOff","WD")),"WD") -> WD | D29: =IFERROR(IF(D28+1>$P$3,"",D28+1),"") -> 43507 | E29: =IFERROR(IF(D29="","",IF(VLOOKUP(D29,'Days off'!$B$2:$B$19,1,FALSE)=D29,"DayOff","WD")),"WD") -> WD | F29: =IFERROR(IF(F28+1>$P$4,"",F28+1),"") -> 43535 | G29: =IFERROR(IF(F29="","",IF(VLOOKUP(F29,'Days off'!$B$2:$B$19,1,FALSE)=F29,"DayOff","WD")),"WD") -> WD | H29: =IFERROR(IF(H28+1>$P$5,"",H28+1),"") -> 43566 | I29: =IFERROR(IF(H29="","",IF(VLOOKUP(H29,'Days off'!$B$2:$B$19,1,FALSE)=H29,"DayOff","WD")),"WD") -> WD | J29: =IFERROR(IF(J28+1>$P$6,"",J28+1),"") -> 43596 | K29: =IFERROR(IF(J29="","",IF(VLOOKUP(J29,'Days off'!$B$2:$B$19,1,FALSE)=J29,"DayOff","WD")),"WD") -> WD | L29: =IFERROR(IF(L28+1>$P$7,"",L28+1),"") -> 43627 | M29: =IFERROR(IF(L29="","",IF(VLOOKUP(L29,'Days off'!$B$2:$B$19,1,FALSE)=L29,"DayOff","WD")),"WD") -> WD
B30: =IFERROR(IF(B29+1>$P$2,"",B29+1),"") -> 43477 | C30: =IFERROR(IF(B30="","",IF(VLOOKUP(B30,'Days off'!$B$2:$B$19,1,FALSE)=B30,"DayOff","WD")),"WD") -> WD | D30: =IFERROR(IF(D29+1>$P$3,"",D29+1),"") -> 43508 | E30: =IFERROR(IF(D30="","",IF(VLOOKUP(D30,'Days off'!$B$2:$B$19,1,FALSE)=D30,"DayOff","WD")),"WD") -> WD | F30: =IFERROR(IF(F29+1>$P$4,"",F29+1),"") -> 43536 | G30: =IFERROR(IF(F30="","",IF(VLOOKUP(F30,'Days off'!$B$2:$B$19,1,FALSE)=F30,"DayOff","WD")),"WD") -> WD | H30: =IFERROR(IF(H29+1>$P$5,"",H29+1),"") -> 43567 | I30: =IFERROR(IF(H30="","",IF(VLOOKUP(H30,'Days off'!$B$2:$B$19,1,FALSE)=H30,"DayOff","WD")),"WD") -> WD | J30: =IFERROR(IF(J29+1>$P$6,"",J29+1),"") -> 43597 | K30: =IFERROR(IF(J30="","",IF(VLOOKUP(J30,'Days off'!$B$2:$B$19,1,FALSE)=J30,"DayOff","WD")),"WD") -> WD | L30: =IFERROR(IF(L29+1>$P$7,"",L29+1),"") -> 43628 | M30: =IFERROR(IF(L30="","",IF(VLOOKUP(L30,'Days off'!$B$2:$B$19,1,FALSE)=L30,"DayOff","WD")),"WD") -> WD
B31: =IFERROR(IF(B30+1>$P$2,"",B30+1),"") -> 43478 | C31: =IFERROR(IF(B31="","",IF(VLOOKUP(B31,'Days off'!$B$2:$B$19,1,FALSE)=B31,"DayOff","WD")),"WD") -> WD | D31: =IFERROR(IF(D30+1>$P$3,"",D30+1),"") -> 43509 | E31: =IFERROR(IF(D31="","",IF(VLOOKUP(D31,'Days off'!$B$2:$B$19,1,FALSE)=D31,"DayOff","WD")),"WD") -> WD | F31: =IFERROR(IF(F30+1>$P$4,"",F30+1),"") -> 43537 | G31: =IFERROR(IF(F31="","",IF(VLOOKUP(F31,'Days off'!$B$2:$B$19,1,FALSE)=F31,"DayOff","WD")),"WD") -> WD | H31: =IFERROR(IF(H30+1>$P$5,"",H30+1),"") -> 43568 | I31: =IFERROR(IF(H31="","",IF(VLOOKUP(H31,'Days off'!$B$2:$B$19,1,FALSE)=H31,"DayOff","WD")),"WD") -> WD | J31: =IFERROR(IF(J30+1>$P$6,"",J30+1),"") -> 43598 | K31: =IFERROR(IF(J31="","",IF(VLOOKUP(J31,'Days off'!$B$2:$B$19,1,FALSE)=J31,"DayOff","WD")),"WD") -> WD | L31: =IFERROR(IF(L30+1>$P$7,"",L30+1),"") -> 43629 | M31: =IFERROR(IF(L31="","",IF(VLOOKUP(L31,'Days off'!$B$2:$B$19,1,FALSE)=L31,"DayOff","WD")),"WD") -> WD
... B49: =IFERROR(IF(B48+1>$P$2,"",B48+1),"") -> 43496 | C49: =IFERROR(IF(B49="","",IF(VLOOKUP(B49,'Days off'!$B$2:$B$19,1,FALSE)=B49,"DayOff","WD")),"WD") -> WD | D49: =IFERROR(IF(D48+1>$P$3,"",D48+1),"") | E49: =IFERROR(IF(D49="","",IF(VLOOKUP(D49,'Days off'!$B$2:$B$19,1,FALSE)=D49,"DayOff","WD")),"WD") | F49: =IFERROR(IF(F48+1>$P$4,"",F48+1),"") -> 43555 | G49: =IFERROR(IF(F49="","",IF(VLOOKUP(F49,'Days off'!$B$2:$B$19,1,FALSE)=F49,"DayOff","WD")),"WD") -> WD | H49: =IFERROR(IF(H48+1>$P$5,"",H48+1),"") | I49: =IFERROR(IF(H49="","",IF(VLOOKUP(H49,'Days off'!$B$2:$B$19,1,FALSE)=H49,"DayOff","WD")),"WD") | J49: =IFERROR(IF(J48+1>$P$6,"",J48+1),"") -> 43616 | K49: =IFERROR(IF(J49="","",IF(VLOOKUP(J49,'Days off'!$B$2:$B$19,1,FALSE)=J49,"DayOff","WD")),"WD") -> WD | L49: =IFERROR(IF(L48+1>$P$7,"",L48+1),"") | M49: =IFERROR(IF(L49="","",IF(VLOOKUP(L49,'Days off'!$B$2:$B$19,1,FALSE)=L49,"DayOff","WD")),"WD")
B53: =DATE($B$14,$M8,1) -> 43647 | D53: =DATE($B$14,$M9,1) -> 43678 | F53: =DATE($B$14,$M10,1) -> 43709 | H53: =DATE($B$14,$M11,1) -> 43739 | J53: =DATE($B$14,$M12,1) -> 43770 | L53: =DATE($B$14,$M13,1) -> 43800
B54: =B53 -> 43647 | C54: =IFERROR(IF(B54="","",IF(VLOOKUP(B54,'Days off'!$B$2:$B$19,1,FALSE)=B54,"DayOff","WD")),"WD") -> WD | D54: =D53 -> 43678 | E54: =IFERROR(IF(D54="","",IF(VLOOKUP(D54,'Days off'!$B$2:$B$19,1,FALSE)=D54,"DayOff","WD")),"WD") -> WD | F54: =F53 -> 43709 | G54: =IFERROR(IF(F54="","",IF(VLOOKUP(F54,'Days off'!$B$2:$B$19,1,FALSE)=F54,"DayOff","WD")),"WD") -> WD | H54: =H53 -> 43739 | I54: =IFERROR(IF(H54="","",IF(VLOOKUP(H54,'Days off'!$B$2:$B$19,1,FALSE)=H54,"DayOff","WD")),"WD") -> WD | J54: =J53 -> 43770 | K54: =IFERROR(IF(J54="","",IF(VLOOKUP(J54,'Days off'!$B$2:$B$19,1,FALSE)=J54,"DayOff","WD")),"WD") -> DayOff | L54: =L53 -> 43800 | M54: =IFERROR(IF(L54="","",IF(VLOOKUP(L54,'Days off'!$B$2:$B$19,1,FALSE)=L54,"DayOff","WD")),"WD") -> WD
B55: =IF(B54+1>$P$8,"",B54+1) -> 43648 | C55: =IFERROR(IF(B55="","",IF(VLOOKUP(B55,'Days off'!$B$2:$B$19,1,FALSE)=B55,"DayOff","WD")),"WD") -> WD | D55: =IF(D54+1>$P$9,"",D54+1) -> 43679 | E55: =IFERROR(IF(D55="","",IF(VLOOKUP(D55,'Days off'!$B$2:$B$19,1,FALSE)=D55,"DayOff","WD")),"WD") -> WD | F55: =IF(F54+1>$P$10,"",F54+1) -> 43710 | G55: =IFERROR(IF(F55="","",IF(VLOOKUP(F55,'Days off'!$B$2:$B$19,1,FALSE)=F55,"DayOff","WD")),"WD") -> WD | H55: =IF(H54+1>$P$11,"",H54+1) -> 43740 | I55: =IFERROR(IF(H55="","",IF(VLOOKUP(H55,'Days off'!$B$2:$B$19,1,FALSE)=H55,"DayOff","WD")),"WD") -> WD | J55: =IF(J54+1>$P$12,"",J54+1) -> 43771 | K55: =IFERROR(IF(J55="","",IF(VLOOKUP(J55,'Days off'!$B$2:$B$19,1,FALSE)=J55,"DayOff","WD")),"WD") -> WD | L55: =IF(L54+1>$P$13,"",L54+1) -> 43801 | M55: =IFERROR(IF(L55="","",IF(VLOOKUP(L55,'Days off'!$B$2:$B$19,1,FALSE)=L55,"DayOff","WD")),"WD") -> WD
B56: =IF(B55+1>$P$8,"",B55+1) -> 43649 | C56: =IFERROR(IF(B56="","",IF(VLOOKUP(B56,'Days off'!$B$2:$B$19,1,FALSE)=B56,"DayOff","WD")),"WD") -> WD | D56: =IF(D55+1>$P$9,"",D55+1) -> 43680 | E56: =IFERROR(IF(D56="","",IF(VLOOKUP(D56,'Days off'!$B$2:$B$19,1,FALSE)=D56,"DayOff","WD")),"WD") -> WD | F56: =IF(F55+1>$P$10,"",F55+1) -> 43711 | G56: =IFERROR(IF(F56="","",IF(VLOOKUP(F56,'Days off'!$B$2:$B$19,1,FALSE)=F56,"DayOff","WD")),"WD") -> WD | H56: =IF(H55+1>$P$11,"",H55+1) -> 43741 | I56: =IFERROR(IF(H56="","",IF(VLOOKUP(H56,'Days off'!$B$2:$B$19,1,FALSE)=H56,"DayOff","WD")),"WD") -> WD | J56: =IF(J55+1>$P$12,"",J55+1) -> 43772 | K56: =IFERROR(IF(J56="","",IF(VLOOKUP(J56,'Days off'!$B$2:$B$19,1,FALSE)=J56,"DayOff","WD")),"WD") -> WD | L56: =IF(L55+1>$P$13,"",L55+1) -> 43802 | M56: =IFERROR(IF(L56="","",IF(VLOOKUP(L56,'Days off'!$B$2:$B$19,1,FALSE)=L56,"DayOff","WD")),"WD") -> WD
B57: =IF(B56+1>$P$8,"",B56+1) -> 43650 | C57: =IFERROR(IF(B57="","",IF(VLOOKUP(B57,'Days off'!$B$2:$B$19,1,FALSE)=B57,"DayOff","WD")),"WD") -> WD | D57: =IF(D56+1>$P$9,"",D56+1) -> 43681 | E57: =IFERROR(IF(D57="","",IF(VLOOKUP(D57,'Days off'!$B$2:$B$19,1,FALSE)=D57,"DayOff","WD")),"WD") -> WD | F57: =IF(F56+1>$P$10,"",F56+1) -> 43712 | G57: =IFERROR(IF(F57="","",IF(VLOOKUP(F57,'Days off'!$B$2:$B$19,1,FALSE)=F57,"DayOff","WD")),"WD") -> WD | H57: =IF(H56+1>$P$11,"",H56+1) -> 43742 | I57: =IFERROR(IF(H57="","",IF(VLOOKUP(H57,'Days off'!$B$2:$B$19,1,FALSE)=H57,"DayOff","WD")),"WD") -> WD | J57: =IF(J56+1>$P$12,"",J56+1) -> 43773 | K57: =IFERROR(IF(J57="","",IF(VLOOKUP(J57,'Days off'!$B$2:$B$19,1,FALSE)=J57,"DayOff","WD")),"WD") -> WD | L57: =IF(L56+1>$P$13,"",L56+1) -> 43803 | M57: =IFERROR(IF(L57="","",IF(VLOOKUP(L57,'Days off'!$B$2:$B$19,1,FALSE)=L57,"DayOff","WD")),"WD") -> WD
B58: =IF(B57+1>$P$8,"",B57+1) -> 43651 | C58: =IFERROR(IF(B58="","",IF(VLOOKUP(B58,'Days off'!$B$2:$B$19,1,FALSE)=B58,"DayOff","WD")),"WD") -> WD | D58: =IF(D57+1>$P$9,"",D57+1) -> 43682 | E58: =IFERROR(IF(D58="","",IF(VLOOKUP(D58,'Days off'!$B$2:$B$19,1,FALSE)=D58,"DayOff","WD")),"WD") -> WD | F58: =IF(F57+1>$P$10,"",F57+1) -> 43713 | G58: =IFERROR(IF(F58="","",IF(VLOOKUP(F58,'Days off'!$B$2:$B$19,1,FALSE)=F58,"DayOff","WD")),"WD") -> WD | H58: =IF(H57+1>$P$11,"",H57+1) -> 43743 | I58: =IFERROR(IF(H58="","",IF(VLOOKUP(H58,'Days off'!$B$2:$B$19,1,FALSE)=H58,"DayOff","WD")),"WD") -> WD | J58: =IF(J57+1>$P$12,"",J57+1) -> 43774 | K58: =IFERROR(IF(J58="","",IF(VLOOKUP(J58,'Days off'!$B$2:$B$19,1,FALSE)=J58,"DayOff","WD")),"WD") -> WD | L58: =IF(L57+1>$P$13,"",L57+1) -> 43804 | M58: =IFERROR(IF(L58="","",IF(VLOOKUP(L58,'Days off'!$B$2:$B$19,1,FALSE)=L58,"DayOff","WD")),"WD") -> WD
B59: =IF(B58+1>$P$8,"",B58+1) -> 43652 | C59: =IFERROR(IF(B59="","",IF(VLOOKUP(B59,'Days off'!$B$2:$B$19,1,FALSE)=B59,"DayOff","WD")),"WD") -> WD | D59: =IF(D58+1>$P$9,"",D58+1) -> 43683 | E59: =IFERROR(IF(D59="","",IF(VLOOKUP(D59,'Days off'!$B$2:$B$19,1,FALSE)=D59,"DayOff","WD")),"WD") -> WD | F59: =IF(F58+1>$P$10,"",F58+1) -> 43714 | G59: =IFERROR(IF(F59="","",IF(VLOOKUP(F59,'Days off'!$B$2:$B$19,1,FALSE)=F59,"DayOff","WD")),"WD") -> WD | H59: =IF(H58+1>$P$11,"",H58+1) -> 43744 | I59: =IFERROR(IF(H59="","",IF(VLOOKUP(H59,'Days off'!$B$2:$B$19,1,FALSE)=H59,"DayOff","WD")),"WD") -> WD | J59: =IF(J58+1>$P$12,"",J58+1) -> 43775 | K59: =IFERROR(IF(J59="","",IF(VLOOKUP(J59,'Days off'!$B$2:$B$19,1,FALSE)=J59,"DayOff","WD")),"WD") -> WD | L59: =IF(L58+1>$P$13,"",L58+1) -> 43805 | M59: =IFERROR(IF(L59="","",IF(VLOOKUP(L59,'Days off'!$B$2:$B$19,1,FALSE)=L59,"DayOff","WD")),"WD") -> WD
B60: =IF(B59+1>$P$8,"",B59+1) -> 43653 | C60: =IFERROR(IF(B60="","",IF(VLOOKUP(B60,'Days off'!$B$2:$B$19,1,FALSE)=B60,"DayOff","WD")),"WD") -> WD | D60: =IF(D59+1>$P$9,"",D59+1) -> 43684 | E60: =IFERROR(IF(D60="","",IF(VLOOKUP(D60,'Days off'!$B$2:$B$19,1,FALSE)=D60,"DayOff","WD")),"WD") -> WD | F60: =IF(F59+1>$P$10,"",F59+1) -> 43715 | G60: =IFERROR(IF(F60="","",IF(VLOOKUP(F60,'Days off'!$B$2:$B$19,1,FALSE)=F60,"DayOff","WD")),"WD") -> WD | H60: =IF(H59+1>$P$11,"",H59+1) -> 43745 | I60: =IFERROR(IF(H60="","",IF(VLOOKUP(H60,'Days off'!$B$2:$B$19,1,FALSE)=H60,"DayOff","WD")),"WD") -> WD | J60: =IF(J59+1>$P$12,"",J59+1) -> 43776 | K60: =IFERROR(IF(J60="","",IF(VLOOKUP(J60,'Days off'!$B$2:$B$19,1,FALSE)=J60,"DayOff","WD")),"WD") -> WD | L60: =IF(L59+1>$P$13,"",L59+1) -> 43806 | M60: =IFERROR(IF(L60="","",IF(VLOOKUP(L60,'Days off'!$B$2:$B$19,1,FALSE)=L60,"DayOff","WD")),"WD") -> WD
B61: =IF(B60+1>$P$8,"",B60+1) -> 43654 | C61: =IFERROR(IF(B61="","",IF(VLOOKUP(B61,'Days off'!$B$2:$B$19,1,FALSE)=B61,"DayOff","WD")),"WD") -> WD | D61: =IF(D60+1>$P$9,"",D60+1) -> 43685 | E61: =IFERROR(IF(D61="","",IF(VLOOKUP(D61,'Days off'!$B$2:$B$19,1,FALSE)=D61,"DayOff","WD")),"WD") -> WD | F61: =IF(F60+1>$P$10,"",F60+1) -> 43716 | G61: =IFERROR(IF(F61="","",IF(VLOOKUP(F61,'Days off'!$B$2:$B$19,1,FALSE)=F61,"DayOff","WD")),"WD") -> WD | H61: =IF(H60+1>$P$11,"",H60+1) -> 43746 | I61: =IFERROR(IF(H61="","",IF(VLOOKUP(H61,'Days off'!$B$2:$B$19,1,FALSE)=H61,"DayOff","WD")),"WD") -> WD | J61: =IF(J60+1>$P$12,"",J60+1) -> 43777 | K61: =IFERROR(IF(J61="","",IF(VLOOKUP(J61,'Days off'!$B$2:$B$19,1,FALSE)=J61,"DayOff","WD")),"WD") -> WD | L61: =IF(L60+1>$P$13,"",L60+1) -> 43807 | M61: =IFERROR(IF(L61="","",IF(VLOOKUP(L61,'Days off'!$B$2:$B$19,1,FALSE)=L61,"DayOff","WD")),"WD") -> WD
B62: =IF(B61+1>$P$8,"",B61+1) -> 43655 | C62: =IFERROR(IF(B62="","",IF(VLOOKUP(B62,'Days off'!$B$2:$B$19,1,FALSE)=B62,"DayOff","WD")),"WD") -> WD | D62: =IF(D61+1>$P$9,"",D61+1) -> 43686 | E62: =IFERROR(IF(D62="","",IF(VLOOKUP(D62,'Days off'!$B$2:$B$19,1,FALSE)=D62,"DayOff","WD")),"WD") -> WD | F62: =IF(F61+1>$P$10,"",F61+1) -> 43717 | G62: =IFERROR(IF(F62="","",IF(VLOOKUP(F62,'Days off'!$B$2:$B$19,1,FALSE)=F62,"DayOff","WD")),"WD") -> WD | H62: =IF(H61+1>$P$11,"",H61+1) -> 43747 | I62: =IFERROR(IF(H62="","",IF(VLOOKUP(H62,'Days off'!$B$2:$B$19,1,FALSE)=H62,"DayOff","WD")),"WD") -> WD | J62: =IF(J61+1>$P$12,"",J61+1) -> 43778 | K62: =IFERROR(IF(J62="","",IF(VLOOKUP(J62,'Days off'!$B$2:$B$19,1,FALSE)=J62,"DayOff","WD")),"WD") -> WD | L62: =IF(L61+1>$P$13,"",L61+1) -> 43808 | M62: =IFERROR(IF(L62="","",IF(VLOOKUP(L62,'Days off'!$B$2:$B$19,1,FALSE)=L62,"DayOff","WD")),"WD") -> WD
B63: =IF(B62+1>$P$8,"",B62+1) -> 43656 | C63: =IFERROR(IF(B63="","",IF(VLOOKUP(B63,'Days off'!$B$2:$B$19,1,FALSE)=B63,"DayOff","WD")),"WD") -> WD | D63: =IF(D62+1>$P$9,"",D62+1) -> 43687 | E63: =IFERROR(IF(D63="","",IF(VLOOKUP(D63,'Days off'!$B$2:$B$19,1,FALSE)=D63,"DayOff","WD")),"WD") -> WD | F63: =IF(F62+1>$P$10,"",F62+1) -> 43718 | G63: =IFERROR(IF(F63="","",IF(VLOOKUP(F63,'Days off'!$B$2:$B$19,1,FALSE)=F63,"DayOff","WD")),"WD") -> WD | H63: =IF(H62+1>$P$11,"",H62+1) -> 43748 | I63: =IFERROR(IF(H63="","",IF(VLOOKUP(H63,'Days off'!$B$2:$B$19,1,FALSE)=H63,"DayOff","WD")),"WD") -> WD | J63: =IF(J62+1>$P$12,"",J62+1) -> 43779 | K63: =IFERROR(IF(J63="","",IF(VLOOKUP(J63,'Days off'!$B$2:$B$19,1,FALSE)=J63,"DayOff","WD")),"WD") -> WD | L63: =IF(L62+1>$P$13,"",L62+1) -> 43809 | M63: =IFERROR(IF(L63="","",IF(VLOOKUP(L63,'Days off'!$B$2:$B$19,1,FALSE)=L63,"DayOff","WD")),"WD") -> WD
B64: =IF(B63+1>$P$8,"",B63+1) -> 43657 | C64: =IFERROR(IF(B64="","",IF(VLOOKUP(B64,'Days off'!$B$2:$B$19,1,FALSE)=B64,"DayOff","WD")),"WD") -> WD | D64: =IF(D63+1>$P$9,"",D63+1) -> 43688 | E64: =IFERROR(IF(D64="","",IF(VLOOKUP(D64,'Days off'!$B$2:$B$19,1,FALSE)=D64,"DayOff","WD")),"WD") -> WD | F64: =IF(F63+1>$P$10,"",F63+1) -> 43719 | G64: =IFERROR(IF(F64="","",IF(VLOOKUP(F64,'Days off'!$B$2:$B$19,1,FALSE)=F64,"DayOff","WD")),"WD") -> WD | H64: =IF(H63+1>$P$11,"",H63+1) -> 43749 | I64: =IFERROR(IF(H64="","",IF(VLOOKUP(H64,'Days off'!$B$2:$B$19,1,FALSE)=H64,"DayOff","WD")),"WD") -> WD | J64: =IF(J63+1>$P$12,"",J63+1) -> 43780 | K64: =IFERROR(IF(J64="","",IF(VLOOKUP(J64,'Days off'!$B$2:$B$19,1,FALSE)=J64,"DayOff","WD")),"WD") -> DayOff | L64: =IF(L63+1>$P$13,"",L63+1) -> 43810 | M64: =IFERROR(IF(L64="","",IF(VLOOKUP(L64,'Days off'!$B$2:$B$19,1,FALSE)=L64,"DayOff","WD")),"WD") -> WD
B65: =IF(B64+1>$P$8,"",B64+1) -> 43658 | C65: =IFERROR(IF(B65="","",IF(VLOOKUP(B65,'Days off'!$B$2:$B$19,1,FALSE)=B65,"DayOff","WD")),"WD") -> WD | D65: =IF(D64+1>$P$9,"",D64+1) -> 43689 | E65: =IFERROR(IF(D65="","",IF(VLOOKUP(D65,'Days off'!$B$2:$B$19,1,FALSE)=D65,"DayOff","WD")),"WD") -> WD | F65: =IF(F64+1>$P$10,"",F64+1) -> 43720 | G65: =IFERROR(IF(F65="","",IF(VLOOKUP(F65,'Days off'!$B$2:$B$19,1,FALSE)=F65,"DayOff","WD")),"WD") -> WD | H65: =IF(H64+1>$P$11,"",H64+1) -> 43750 | I65: =IFERROR(IF(H65="","",IF(VLOOKUP(H65,'Days off'!$B$2:$B$19,1,FALSE)=H65,"DayOff","WD")),"WD") -> WD | J65: =IF(J64+1>$P$12,"",J64+1) -> 43781 | K65: =IFERROR(IF(J65="","",IF(VLOOKUP(J65,'Days off'!$B$2:$B$19,1,FALSE)=J65,"DayOff","WD")),"WD") -> WD | L65: =IF(L64+1>$P$13,"",L64+1) -> 43811 | M65: =IFERROR(IF(L65="","",IF(VLOOKUP(L65,'Days off'!$B$2:$B$19,1,FALSE)=L65,"DayOff","WD")),"WD") -> WD
B66: =IF(B65+1>$P$8,"",B65+1) -> 43659 | C66: =IFERROR(IF(B66="","",IF(VLOOKUP(B66,'Days off'!$B$2:$B$19,1,FALSE)=B66,"DayOff","WD")),"WD") -> WD | D66: =IF(D65+1>$P$9,"",D65+1) -> 43690 | E66: =IFERROR(IF(D66="","",IF(VLOOKUP(D66,'Days off'!$B$2:$B$19,1,FALSE)=D66,"DayOff","WD")),"WD") -> WD | F66: =IF(F65+1>$P$10,"",F65+1) -> 43721 | G66: =IFERROR(IF(F66="","",IF(VLOOKUP(F66,'Days off'!$B$2:$B$19,1,FALSE)=F66,"DayOff","WD")),"WD") -> WD | H66: =IF(H65+1>$P$11,"",H65+1) -> 43751 | I66: =IFERROR(IF(H66="","",IF(VLOOKUP(H66,'Days off'!$B$2:$B$19,1,FALSE)=H66,"DayOff","WD")),"WD") -> WD | J66: =IF(J65+1>$P$12,"",J65+1) -> 43782 | K66: =IFERROR(IF(J66="","",IF(VLOOKUP(J66,'Days off'!$B$2:$B$19,1,FALSE)=J66,"DayOff","WD")),"WD") -> WD | L66: =IF(L65+1>$P$13,"",L65+1) -> 43812 | M66: =IFERROR(IF(L66="","",IF(VLOOKUP(L66,'Days off'!$B$2:$B$19,1,FALSE)=L66,"DayOff","WD")),"WD") -> WD
... B84: =IF(B83+1>$P$8,"",B83+1) -> 43677 | C84: =IFERROR(IF(B84="","",IF(VLOOKUP(B84,'Days off'!$B$2:$B$19,1,FALSE)=B84,"DayOff","WD")),"WD") -> WD | D84: =IF(D83+1>$P$9,"",D83+1) -> 43708 | E84: =IFERROR(IF(D84="","",IF(VLOOKUP(D84,'Days off'!$B$2:$B$19,1,FALSE)=D84,"DayOff","WD")),"WD") -> WD | F84: =IF(F83+1>$P$10,"",F83+1) | G84: =IFERROR(IF(F84="","",IF(VLOOKUP(F84,'Days off'!$B$2:$B$19,1,FALSE)=F84,"DayOff","WD")),"WD") | H84: =IF(H83+1>$P$11,"",H83+1) -> 43769 | I84: =IFERROR(IF(H84="","",IF(VLOOKUP(H84,'Days off'!$B$2:$B$19,1,FALSE)=H84,"DayOff","WD")),"WD") -> WD | J84: =IF(J83+1>$P$12,"",J83+1) | K84: =IFERROR(IF(J84="","",IF(VLOOKUP(J84,'Days off'!$B$2:$B$19,1,FALSE)=J84,"DayOff","WD")),"WD") | L84: =IF(L83+1>$P$13,"",L83+1) -> 43830 | M84: =IFERROR(IF(L84="","",IF(VLOOKUP(L84,'Days off'!$B$2:$B$19,1,FALSE)=L84,"DayOff","WD")),"WD") -> WD

Sheet Days off
B1: Bank Holiday
B2: 43466
B3: 43557
B4: 43586
B5: 43593
B6: 43595
B7: 43606
B8: 43660
B9: 43692
B10: 43770
B11: 43780
B12: 43824

Sheet January
W1: =Parameters!B14 -> 2019
B2: =" JANUARY "&Parameters!B14 -> JANUARY 2019
C4: Mon | E4: Tue | G4: Wed | I4: Thu | K4: Fri | M4: Sat | O4: Sun
C5: =IF(DAY(JanSun1)=1,JanSun1-6,JanSun1+1) -> 43465 | D5: =IFERROR(IF(VLOOKUP(C5,Parameters!$B$19:$C$49,2,FALSE)="DayOff","",IF(C5<Parameters!$O$2,"",1)),"") | E5: =IF(DAY(JanSun1)=1,JanSun1-5,JanSun1+2) -> 43466 | F5: =IFERROR(IF(VLOOKUP(E5,Parameters!$B$19:$C$49,2,FALSE)="DayOff","",IF(D5=" "," ",IF(D5=12," ",IF(D5<>"",D5+1,IF(E5<Parameters!$O$2,"",1))))),"") | G5: =IF(DAY(JanSun1)=1,JanSun1-4,JanSun1+3) -> 43467 | H5: =IFERROR(IF(VLOOKUP(G5,Parameters!$B$19:$C$49,2,FALSE)="DayOff","",IF(F5=" "," ",IF(F5=12," ",IF(F5<>"",F5+1,IF(G5<Parameters!$O$2,"",1))))),"") -> 1 | I5: =IF(DAY(JanSun1)=1,JanSun1-3,JanSun1+4) -> 43468 | J5: =IFERROR(IF(VLOOKUP(I5,Parameters!$B$19:$C$49,2,FALSE)="DayOff","",IF(H5=" "," ",IF(H5=12," ",IF(H5<>"",H5+1,IF(I5<Parameters!$O$2,"",1))))),"") -> 2 | K5: =IF(DAY(JanSun1)=1,JanSun1-2,JanSun1+5) -> 43469 | L5: =IFERROR(IF(VLOOKUP(K5,Parameters!$B$19:$C$49,2,FALSE)="DayOff","",IF(J5=" "," ",IF(J5=12," ",IF(J5<>"",J5+1,IF(K5<Parameters!$O$2,"",1))))),"") -> 3 | M5: =IF(DAY(JanSun1)=1,JanSun1-1,JanSun1+6) -> 43470 | O5: =IF(DAY(JanSun1)=1,JanSun1,JanSun1+7) -> 43471
E6: Flash 12pm
C7: =IF(DAY(JanSun1)=1,JanSun1+1,JanSun1+8) -> 43472 | D7: =IFERROR(IF(VLOOKUP(C7,Parameters!$B$19:$C$49,2,FALSE)="DayOff","",IF(L5=" "," ",IF(L5=12," ",IF(L5<>"",L5+1,IF(C7<Parameters!$O$2,"",1))))),"") -> 4 | E7: =IF(DAY(JanSun1)=1,JanSun1+2,JanSun1+9) -> 43473 | F7: =IFERROR(IF(VLOOKUP(E7,Parameters!$B$19:$C$49,2,FALSE)="DayOff","",IF(D7=" "," ",IF(D7=12," ",IF(D7<>"",D7+1,IF(E7<Parameters!$O$2,"",1))))),"") -> 5 | G7: =IF(DAY(JanSun1)=1,JanSun1+3,JanSun1+10) -> 43474 | H7: =IFERROR(IF(VLOOKUP(G7,Parameters!$B$19:$C$49,2,FALSE)="DayOff","",IF(F7=" "," ",IF(F7=12," ",IF(F7<>"",F7+1,IF(G7<Parameters!$O$2,"",1))))),"") -> 6 | I7: =IF(DAY(JanSun1)=1,JanSun1+4,JanSun1+11) -> 43475 | J7: =IFERROR(IF(VLOOKUP(I7,Parameters!$B$19:$C$49,2,FALSE)="DayOff","",IF(H7=" "," ",IF(H7=12," ",IF(H7<>"",H7+1,IF(I7<Parameters!$O$2,"",1))))),"") -> 7 | K7: =IF(DAY(JanSun1)=1,JanSun1+5,JanSun1+12) -> 43476 | L7: =IFERROR(IF(VLOOKUP(K7,Parameters!$B$19:$C$49,2,FALSE)="DayOff","",IF(J7=" "," ",IF(J7=12," ",IF(J7<>"",J7+1,IF(K7<Parameters!$O$2,"",1))))),"") -> 8 | M7: =IF(DAY(JanSun1)=1,JanSun1+6,JanSun1+13) -> 43477 | O7: =IF(DAY(JanSun1)=1,JanSun1+7,JanSun1+14) -> 43478
C9: =IF(DAY(JanSun1)=1,JanSun1+8,JanSun1+15) -> 43479 | D9: =IFERROR(IF(VLOOKUP(C9,Parameters!$B$19:$C$49,2,FALSE)="DayOff","",IF(L7=" "," ",IF(L7=12," ",IF(L7<>"",L7+1,IF(C9<Parameters!$O$2,"",1))))),"") -> 9 | E9: =IF(DAY(JanSun1)=1,JanSun1+9,JanSun1+16) -> 43480 | F9: =IFERROR(IF(VLOOKUP(E9,Parameters!$B$19:$C$49,2,FALSE)="DayOff","",IF(D9=" "," ",IF(D9=12," ",IF(D9<>"",D9+1,IF(E9<Parameters!$O$2,"",1))))),"") -> 10 | G9: =IF(DAY(JanSun1)=1,JanSun1+10,JanSun1+17) -> 43481 | H9: =IFERROR(IF(VLOOKUP(G9,Parameters!$B$19:$C$49,2,FALSE)="DayOff","",IF(F9=" "," ",IF(F9=12," ",IF(F9<>"",F9+1,IF(G9<Parameters!$O$2,"",1))))),"") -> 11 | I9: =IF(DAY(JanSun1)=1,JanSun1+11,JanSun1+18) -> 43482 | J9: =IFERROR(IF(VLOOKUP(I9,Parameters!$B$19:$C$49,2,FALSE)="DayOff","",IF(H9=" "," ",IF(H9=12," ",IF(H9<>"",H9+1,IF(I9<Parameters!$O$2,"",1))))),"") -> 12 | K9: =IF(DAY(JanSun1)=1,JanSun1+12,JanSun1+19) -> 43483 | L9: =IFERROR(IF(VLOOKUP(K9,Parameters!$B$19:$C$49,2,FALSE)="DayOff","",IF(J9=" "," ",IF(J9=12," ",IF(J9<>"",J9+1,IF(K9<Parameters!$O$2,"",1))))),"") | M9: =IF(DAY(JanSun1)=1,JanSun1+13,JanSun1+20) -> 43484 | O9: =IF(DAY(JanSun1)=1,JanSun1+14,JanSun1+21) -> 43485
C11: =IF(DAY(JanSun1)=1,JanSun1+15,JanSun1+22) -> 43486 | D11: =IFERROR(IF(VLOOKUP(C11,Parameters!$B$19:$C$49,2,FALSE)="DayOff","",IF(L9=" "," ",IF(L9=12," ",IF(L9<>"",L9+1,IF(C11<Parameters!$O$2,"",1))))),"") | E11: =IF(DAY(JanSun1)=1,JanSun1+16,JanSun1+23) -> 43487 | F11: =IFERROR(IF(VLOOKUP(E11,Parameters!$B$19:$C$49,2,FALSE)="DayOff","",IF(D11=" "," ",IF(D11=12," ",IF(D11<>"",D11+1,IF(E11<Parameters!$O$2,"",1))))),"") | G11: =IF(DAY(JanSun1)=1,JanSun1+17,JanSun1+24) -> 43488 | H11: =IFERROR(IF(VLOOKUP(G11,Parameters!$B$19:$C$49,2,FALSE)="DayOff","",IF(F11=" "," ",IF(F11=12," ",IF(F11<>"",F11+1,IF(G11<Parameters!$O$2,"",1))))),"") | I11: =IF(DAY(JanSun1)=1,JanSun1+18,JanSun1+25) -> 43489 | J11: =IFERROR(IF(VLOOKUP(I11,Parameters!$B$19:$C$49,2,FALSE)="DayOff","",IF(H11=" "," ",IF(H11=12," ",IF(H11<>"",H11+1,IF(I11<Parameters!$O$2,"",1))))),"") | K11: =IF(DAY(JanSun1)=1,JanSun1+19,JanSun1+26) -> 43490 | L11: =IFERROR(IF(VLOOKUP(K11,Parameters!$B$19:$C$49,2,FALSE)="DayOff","",IF(J11=" "," ",IF(J11=12," ",IF(J11<>"",J11+1,IF(K11<Parameters!$O$2,"",1))))),"") | M11: =IF(DAY(JanSun1)=1,JanSun1+20,JanSun1+27) -> 43491 | O11: =IF(DAY(JanSun1)=1,JanSun1+21,JanSun1+28) -> 43492
E12: Maintenance
C13: =IF(DAY(JanSun1)=1,JanSun1+22,JanSun1+29) -> 43493 | D13: =IFERROR(IF(VLOOKUP(C13,Parameters!$B$19:$C$49,2,FALSE)="DayOff","",IF(L11=" "," ",IF(L11=12," ",IF(L11<>"",L11+1,IF(C13<Parameters!$O$2,"",1))))),"") | E13: =IF(DAY(JanSun1)=1,JanSun1+23,JanSun1+30) -> 43494 | F13: =IFERROR(IF(VLOOKUP(E13,Parameters!$B$19:$C$49,2,FALSE)="DayOff","",IF(D13=" "," ",IF(D13=12," ",IF(D13<>"",D13+1,IF(E13<Parameters!$O$2,"",1))))),"") | G13: =IF(DAY(JanSun1)=1,JanSun1+24,JanSun1+31) -> 43495 | H13: =IFERROR(IF(VLOOKUP(G13,Parameters!$B$19:$C$49,2,FALSE)="DayOff","",IF(F13=" "," ",IF(F13=12," ",IF(F13<>"",F13+1,IF(G13<Parameters!$O$2,"",1))))),"") | I13: =IF(DAY(JanSun1)=1,JanSun1+25,JanSun1+32) -> 43496 | J13: =IFERROR(IF(VLOOKUP(I13,Parameters!$B$19:$C$49,2,FALSE)="DayOff","",IF(H13=" "," ",IF(H13=12," ",IF(H13<>"",H13+1,IF(I13<Parameters!$O$2,"",1))))),"") | K13: =IF(DAY(JanSun1)=1,JanSun1+26,JanSun1+33) -> 43497 | L13: =IFERROR(IF(VLOOKUP(K13,Parameters!$B$19:$C$49,2,FALSE)="DayOff","",IF(J13=" "," ",IF(J13=12," ",IF(J13<>"",J13+1,IF(K13<Parameters!$O$2,"",1))))),"") | M13: =IF(DAY(JanSun1)=1,JanSun1+27,JanSun1+34) -> 43498 | O13: =IF(DAY(JanSun1)=1,JanSun1+28,JanSun1+35) -> 43499
C15: =IF(DAY(JanSun1)=1,JanSun1+29,JanSun1+36) -> 43500 | D15: =IFERROR(IF(VLOOKUP(C15,Parameters!$B$19:$C$49,2,FALSE)="DayOff","",IF(L13=" "," ",IF(L13=12," ",IF(L13<>"",L13+1,IF(C15<Parameters!$O$2,"",1))))),"") | E15: =IF(DAY(JanSun1)=1,JanSun1+30,JanSun1+37) -> 43501 | F15: =IFERROR(IF(VLOOKUP(E15,Parameters!$B$19:$C$49,2,FALSE)="DayOff","",IF(D15=" "," ",IF(D15=12," ",IF(D15<>"",D15+1,IF(E15<Parameters!$O$2,"",1))))),"") | G15: =IF(DAY(JanSun1)=1,JanSun1+31,JanSun1+38) -> 43502 | H15: =IFERROR(IF(VLOOKUP(G15,Parameters!$B$19:$C$49,2,FALSE)="DayOff","",IF(F15=" "," ",IF(F15=12," ",IF(F15<>"",F15+1,IF(G15<Parameters!$O$2,"",1))))),"") | I15: =IF(DAY(JanSun1)=1,JanSun1+32,JanSun1+39) -> 43503 | J15: =IFERROR(IF(VLOOKUP(I15,Parameters!$B$19:$C$49,2,FALSE)="DayOff","",IF(H15=" "," ",IF(H15=12," ",IF(H15<>"",H15+1,IF(I15<Parameters!$O$2,"",1))))),"") | K15: =IF(DAY(JanSun1)=1,JanSun1+33,JanSun1+40) -> 43504 | L15: =IFERROR(IF(VLOOKUP(K15,Parameters!$B$19:$C$49,2,FALSE)="DayOff","",IF(J15=" "," ",IF(J15=12," ",IF(J15<>"",J15+1,IF(K15<Parameters!$O$2,"",1))))),"") | M15: =IF(DAY(JanSun1)=1,JanSun1+34,JanSun1+41) -> 43505 | O15: =IF(DAY(JanSun1)=1,JanSun1+35,JanSun1+42) -> 43506

Sheet February
B2: =" FEBRUARY "&Parameters!B14 -> FEBRUARY 2019
C3: Mon | E3: Tue | G3: Wed | I3: Thu | K3: Fri | M3: Sat | O3: Sun
C4: =IF(DAY(FebSun1)=1,FebSun1-6,FebSun1+1) -> 43493 | D4: =IFERROR(IF(VLOOKUP(C4,Parameters!$D$19:$E$49,2,FALSE)="DayOff","",IF(C4<Parameters!$O$3,"",1)),"") | E4: =IF(DAY(FebSun1)=1,FebSun1-5,FebSun1+2) -> 43494 | F4: =IFERROR(IF(VLOOKUP(E4,Parameters!$D$19:$E$49,2,FALSE)="DayOff","",IF(D4=" "," ",IF(D4=12," ",IF(D4<>"",D4+1,IF(E4<Parameters!$O$3,"",1))))),"") | G4: =IF(DAY(FebSun1)=1,FebSun1-4,FebSun1+3) -> 43495 | H4: =IFERROR(IF(VLOOKUP(G4,Parameters!$D$19:$E$49,2,FALSE)="DayOff","",IF(F4=" "," ",IF(F4=12," ",IF(F4<>"",F4+1,IF(G4<Parameters!$O$3,"",1))))),"") | I4: =IF(DAY(FebSun1)=1,FebSun1-3,FebSun1+4) -> 43496 | J4: =IFERROR(IF(VLOOKUP(I4,Parameters!$D$19:$E$49,2,FALSE)="DayOff","",IF(H4=" "," ",IF(H4=12," ",IF(H4<>"",H4+1,IF(I4<Parameters!$O$3,"",1))))),"") | K4: =IF(DAY(FebSun1)=1,FebSun1-2,FebSun1+5) -> 43497 | L4: =IFERROR(IF(VLOOKUP(K4,Parameters!$D$19:$E$49,2,FALSE)="DayOff","",IF(J4=" "," ",IF(J4=12," ",IF(J4<>"",J4+1,IF(K4<Parameters!$O$3,"",1))))),"") -> 1 | M4: =IF(DAY(FebSun1)=1,FebSun1-1,FebSun1+6) -> 43498 | O4: =IF(DAY(FebSun1)=1,FebSun1,FebSun1+7) -> 43499
C6: =IF(DAY(FebSun1)=1,FebSun1+1,FebSun1+8) -> 43500 | D6: =IFERROR(IF(VLOOKUP(C6,Parameters!$D$19:$E$49,2,FALSE)="DayOff","",IF(L4=" "," ",IF(L4=12," ",IF(L4<>"",L4+1,IF(C6<Parameters!$O$3,"",1))))),"") -> 2 | E6: =IF(DAY(FebSun1)=1,FebSun1+2,FebSun1+9) -> 43501 | F6: =IFERROR(IF(VLOOKUP(E6,Parameters!$D$19:$E$49,2,FALSE)="DayOff","",IF(D6=" "," ",IF(D6=12," ",IF(D6<>"",D6+1,IF(E6<Parameters!$O$3,"",1))))),"") -> 3 | G6: =IF(DAY(FebSun1)=1,FebSun1+3,FebSun1+10) -> 43502 | H6: =IFERROR(IF(VLOOKUP(G6,Parameters!$D$19:$E$49,2,FALSE)="DayOff","",IF(F6=" "," ",IF(F6=12," ",IF(F6<>"",F6+1,IF(G6<Parameters!$O$3,"",1))))),"") -> 4 | I6: =IF(DAY(FebSun1)=1,FebSun1+4,FebSun1+11) -> 43503 | J6: =IFERROR(IF(VLOOKUP(I6,Parameters!$D$19:$E$49,2,FALSE)="DayOff","",IF(H6=" "," ",IF(H6=12," ",IF(H6<>"",H6+1,IF(I6<Parameters!$O$3,"",1))))),"") -> 5 | K6: =IF(DAY(FebSun1)=1,FebSun1+5,FebSun1+12) -> 43504 | L6: =IFERROR(IF(VLOOKUP(K6,Parameters!$D$19:$E$49,2,FALSE)="DayOff","",IF(J6=" "," ",IF(J6=12," ",IF(J6<>"",J6+1,IF(K6<Parameters!$O$3,"",1))))),"") -> 6 | M6: =IF(DAY(FebSun1)=1,FebSun1+6,FebSun1+13) -> 43505 | O6: =IF(DAY(FebSun1)=1,FebSun1+7,FebSun1+14) -> 43506
C8: =IF(DAY(FebSun1)=1,FebSun1+8,FebSun1+15) -> 43507 | D8: =IFERROR(IF(VLOOKUP(C8,Parameters!$D$19:$E$49,2,FALSE)="DayOff","",IF(L6=" "," ",IF(L6=12," ",IF(L6<>"",L6+1,IF(C8<Parameters!$O$3,"",1))))),"") -> 7 | E8: =IF(DAY(FebSun1)=1,FebSun1+9,FebSun1+16) -> 43508 | F8: =IFERROR(IF(VLOOKUP(E8,Parameters!$D$19:$E$49,2,FALSE)="DayOff","",IF(D8=" "," ",IF(D8=12," ",IF(D8<>"",D8+1,IF(E8<Parameters!$O$3,"",1))))),"") -> 8 | G8: =IF(DAY(FebSun1)=1,FebSun1+10,FebSun1+17) -> 43509 | H8: =IFERROR(IF(VLOOKUP(G8,Parameters!$D$19:$E$49,2,FALSE)="DayOff","",IF(F8=" "," ",IF(F8=12," ",IF(F8<>"",F8+1,IF(G8<Parameters!$O$3,"",1))))),"") -> 9 | I8: =IF(DAY(FebSun1)=1,FebSun1+11,FebSun1+18) -> 43510 | J8: =IFERROR(IF(VLOOKUP(I8,Parameters!$D$19:$E$49,2,FALSE)="DayOff","",IF(H8=" "," ",IF(H8=12," ",IF(H8<>"",H8+1,IF(I8<Parameters!$O$3,"",1))))),"") -> 10 | K8: =IF(DAY(FebSun1)=1,FebSun1+12,FebSun1+19) -> 43511 | L8: =IFERROR(IF(VLOOKUP(K8,Parameters!$D$19:$E$49,2,FALSE)="DayOff","",IF(J8=" "," ",IF(J8=12," ",IF(J8<>"",J8+1,IF(K8<Parameters!$O$3,"",1))))),"") -> 11 | M8: =IF(DAY(FebSun1)=1,FebSun1+13,FebSun1+20) -> 43512 | O8: =IF(DAY(FebSun1)=1,FebSun1+14,FebSun1+21) -> 43513
C10: =IF(DAY(FebSun1)=1,FebSun1+15,FebSun1+22) -> 43514 | D10: =IFERROR(IF(VLOOKUP(C10,Parameters!$D$19:$E$49,2,FALSE)="DayOff","",IF(L8=" "," ",IF(L8=12," ",IF(L8<>"",L8+1,IF(C10<Parameters!$O$3,"",1))))),"") -> 12 | E10: =IF(DAY(FebSun1)=1,FebSun1+16,FebSun1+23) -> 43515 | F10: =IFERROR(IF(VLOOKUP(E10,Parameters!$D$19:$E$49,2,FALSE)="DayOff","",IF(D10=" "," ",IF(D10=12," ",IF(D10<>"",D10+1,IF(E10<Parameters!$O$3,"",1))))),"") | G10: =IF(DAY(FebSun1)=1,FebSun1+17,FebSun1+24) -> 43516 | H10: =IFERROR(IF(VLOOKUP(G10,Parameters!$D$19:$E$49,2,FALSE)="DayOff","",IF(F10=" "," ",IF(F10=12," ",IF(F10<>"",F10+1,IF(G10<Parameters!$O$3,"",1))))),"") | I10: =IF(DAY(FebSun1)=1,FebSun1+18,FebSun1+25) -> 43517 | J10: =IFERROR(IF(VLOOKUP(I10,Parameters!$D$19:$E$49,2,FALSE)="DayOff","",IF(H10=" "," ",IF(H10=12," ",IF(H10<>"",H10+1,IF(I10<Parameters!$O$3,"",1))))),"") | K10: =IF(DAY(FebSun1)=1,FebSun1+19,FebSun1+26) -> 43518 | L10: =IFERROR(IF(VLOOKUP(K10,Parameters!$D$19:$E$49,2,FALSE)="DayOff","",IF(J10=" "," ",IF(J10=12," ",IF(J10<>"",J10+1,IF(K10<Parameters!$O$3,"",1))))),"") | M10: =IF(DAY(FebSun1)=1,FebSun1+20,FebSun1+27) -> 43519 | O10: =IF(DAY(FebSun1)=1,FebSun1+21,FebSun1+28) -> 43520
E11: Maintenance
C12: =IF(DAY(FebSun1)=1,FebSun1+22,FebSun1+29) -> 43521 | D12: =IFERROR(IF(VLOOKUP(C12,Parameters!$D$19:$E$49,2,FALSE)="DayOff","",IF(L10=" "," ",IF(L10=12," ",IF(L10<>"",L10+1,IF(C12<Parameters!$O$3,"",1))))),"") | E12: =IF(DAY(FebSun1)=1,FebSun1+23,FebSun1+30) -> 43522 | F12: =IFERROR(IF(VLOOKUP(E12,Parameters!$D$19:$E$49,2,FALSE)="DayOff","",IF(D12=" "," ",IF(D12=12," ",IF(D12<>"",D12+1,IF(E12<Parameters!$O$3,"",1))))),"") | G12: =IF(DAY(FebSun1)=1,FebSun1+24,FebSun1+31) -> 43523 | H12: =IFERROR(IF(VLOOKUP(G12,Parameters!$D$19:$E$49,2,FALSE)="DayOff","",IF(F12=" "," ",IF(F12=12," ",IF(F12<>"",F12+1,IF(G12<Parameters!$O$3,"",1))))),"") | I12: =IF(DAY(FebSun1)=1,FebSun1+25,FebSun1+32) -> 43524 | J12: =IFERROR(IF(VLOOKUP(I12,Parameters!$D$19:$E$49,2,FALSE)="DayOff","",IF(H12=" "," ",IF(H12=12," ",IF(H12<>"",H12+1,IF(I12<Parameters!$O$3,"",1))))),"") | K12: =IF(DAY(FebSun1)=1,FebSun1+26,FebSun1+33) -> 43525 | L12: =IFERROR(IF(VLOOKUP(K12,Parameters!$D$19:$E$49,2,FALSE)="DayOff","",IF(J12=" "," ",IF(J12=12," ",IF(J12<>"",J12+1,IF(K12<Parameters!$O$3,"",1))))),"") | M12: =IF(DAY(FebSun1)=1,FebSun1+27,FebSun1+34) -> 43526 | O12: =IF(DAY(FebSun1)=1,FebSun1+28,FebSun1+35) -> 43527
C14: =IF(DAY(FebSun1)=1,FebSun1+29,FebSun1+36) -> 43528 | D14: =IFERROR(IF(VLOOKUP(C14,Parameters!$D$19:$E$49,2,FALSE)="DayOff","",IF(L12=" "," ",IF(L12=12," ",IF(L12<>"",L12+1,IF(C14<Parameters!$O$3,"",1))))),"") | E14: =IF(DAY(FebSun1)=1,FebSun1+30,FebSun1+37) -> 43529 | F14: =IFERROR(IF(VLOOKUP(E14,Parameters!$D$19:$E$49,2,FALSE)="DayOff","",IF(D14=" "," ",IF(D14=12," ",IF(D14<>"",D14+1,IF(E14<Parameters!$O$3,"",1))))),"") | G14: =IF(DAY(FebSun1)=1,FebSun1+31,FebSun1+38) -> 43530 | H14: =IFERROR(IF(VLOOKUP(G14,Parameters!$D$19:$E$49,2,FALSE)="DayOff","",IF(F14=" "," ",IF(F14=12," ",IF(F14<>"",F14+1,IF(G14<Parameters!$O$3,"",1))))),"") | I14: =IF(DAY(FebSun1)=1,FebSun1+32,FebSun1+39) -> 43531 | J14: =IFERROR(IF(VLOOKUP(I14,Parameters!$D$19:$E$49,2,FALSE)="DayOff","",IF(H14=" "," ",IF(H14=12," ",IF(H14<>"",H14+1,IF(I14<Parameters!$O$3,"",1))))),"") | K14: =IF(DAY(FebSun1)=1,FebSun1+33,FebSun1+40) -> 43532 | L14: =IFERROR(IF(VLOOKUP(K14,Parameters!$D$19:$E$49,2,FALSE)="DayOff","",IF(J14=" "," ",IF(J14=12," ",IF(J14<>"",J14+1,IF(K14<Parameters!$O$3,"",1))))),"") | M14: =IF(DAY(FebSun1)=1,FebSun1+34,FebSun1+41) -> 43533 | O14: =IF(DAY(FebSun1)=1,FebSun1+35,FebSun1+42) -> 43534

Sheet March
B2: =" MARCH "&Parameters!B14 -> MARCH 2019
C3: Mon | E3: Tue | G3: Wed | I3: Thu | K3: Fri | M3: Sat | O3: Sun
C4: =IF(DAY(MarSun1)=1,MarSun1-6,MarSun1+1) -> 43521 | D4: =IFERROR(IF(VLOOKUP(C4,Parameters!$F$19:$G$49,2,FALSE)="DayOff","",IF(C4<Parameters!$O$4,"",1)),"") | E4: =IF(DAY(MarSun1)=1,MarSun1-5,MarSun1+2) -> 43522 | F4: =IFERROR(IF(VLOOKUP(E4,Parameters!$F$19:$G$49,2,FALSE)="DayOff","",IF(D4=" "," ",IF(D4=12," ",IF(D4<>"",D4+1,IF(E4<Parameters!$O$4,"",1))))),"") | G4: =IF(DAY(MarSun1)=1,MarSun1-4,MarSun1+3) -> 43523 | H4: =IFERROR(IF(VLOOKUP(G4,Parameters!$F$19:$G$49,2,FALSE)="DayOff","",IF(F4=" "," ",IF(F4=12," ",IF(F4<>"",F4+1,IF(G4<Parameters!$O$4,"",1))))),"") | I4: =IF(DAY(MarSun1)=1,MarSun1-3,MarSun1+4) -> 43524 | J4: =IFERROR(IF(VLOOKUP(I4,Parameters!$F$19:$G$49,2,FALSE)="DayOff","",IF(H4=" "," ",IF(H4=12," ",IF(H4<>"",H4+1,IF(I4<Parameters!$O$4,"",1))))),"") | K4: =IF(DAY(MarSun1)=1,MarSun1-2,MarSun1+5) -> 43525 | L4: =IFERROR(IF(VLOOKUP(K4,Parameters!$F$19:$G$49,2,FALSE)="DayOff","",IF(J4=" "," ",IF(J4=12," ",IF(J4<>"",J4+1,IF(K4<Parameters!$O$4,"",1))))),"") -> 1 | M4: =IF(DAY(MarSun1)=1,MarSun1-1,MarSun1+6) -> 43526 | O4: =IF(DAY(MarSun1)=1,MarSun1,MarSun1+7) -> 43527
C6: =IF(DAY(MarSun1)=1,MarSun1+1,MarSun1+8) -> 43528 | D6: =IFERROR(IF(VLOOKUP(C6,Parameters!$F$19:$G$49,2,FALSE)="DayOff","",IF(L4=" "," ",IF(L4=12," ",IF(L4<>"",L4+1,IF(C6<Parameters!$O$4,"",1))))),"") -> 2 | E6: =IF(DAY(MarSun1)=1,MarSun1+2,MarSun1+9) -> 43529 | F6: =IFERROR(IF(VLOOKUP(E6,Parameters!$F$19:$G$49,2,FALSE)="DayOff","",IF(D6=" "," ",IF(D6=12," ",IF(D6<>"",D6+1,IF(E6<Parameters!$O$4,"",1))))),"") -> 3 | G6: =IF(DAY(MarSun1)=1,MarSun1+3,MarSun1+10) -> 43530 | H6: =IFERROR(IF(VLOOKUP(G6,Parameters!$F$19:$G$49,2,FALSE)="DayOff","",IF(F6=" "," ",IF(F6=12," ",IF(F6<>"",F6+1,IF(G6<Parameters!$O$4,"",1))))),"") -> 4 | I6: =IF(DAY(MarSun1)=1,MarSun1+4,MarSun1+11) -> 43531 | J6: =IFERROR(IF(VLOOKUP(I6,Parameters!$F$19:$G$49,2,FALSE)="DayOff","",IF(H6=" "," ",IF(H6=12," ",IF(H6<>"",H6+1,IF(I6<Parameters!$O$4,"",1))))),"") -> 5 | K6: =IF(DAY(MarSun1)=1,MarSun1+5,MarSun1+12) -> 43532 | L6: =IFERROR(IF(VLOOKUP(K6,Parameters!$F$19:$G$49,2,FALSE)="DayOff","",IF(J6=" "," ",IF(J6=12," ",IF(J6<>"",J6+1,IF(K6<Parameters!$O$4,"",1))))),"") -> 6 | M6: =IF(DAY(MarSun1)=1,MarSun1+6,MarSun1+13) -> 43533 | O6: =IF(DAY(MarSun1)=1,MarSun1+7,MarSun1+14) -> 43534
C8: =IF(DAY(MarSun1)=1,MarSun1+8,MarSun1+15) -> 43535 | D8: =IFERROR(IF(VLOOKUP(C8,Parameters!$F$19:$G$49,2,FALSE)="DayOff","",IF(L6=" "," ",IF(L6=12," ",IF(L6<>"",L6+1,IF(C8<Parameters!$O$4,"",1))))),"") -> 7 | E8: =IF(DAY(MarSun1)=1,MarSun1+9,MarSun1+16) -> 43536 | F8: =IFERROR(IF(VLOOKUP(E8,Parameters!$F$19:$G$49,2,FALSE)="DayOff","",IF(D8=" "," ",IF(D8=12," ",IF(D8<>"",D8+1,IF(E8<Parameters!$O$4,"",1))))),"") -> 8 | G8: =IF(DAY(MarSun1)=1,MarSun1+10,MarSun1+17) -> 43537 | H8: =IFERROR(IF(VLOOKUP(G8,Parameters!$F$19:$G$49,2,FALSE)="DayOff","",IF(F8=" "," ",IF(F8=12," ",IF(F8<>"",F8+1,IF(G8<Parameters!$O$4,"",1))))),"") -> 9 | I8: =IF(DAY(MarSun1)=1,MarSun1+11,MarSun1+18) -> 43538 | J8: =IFERROR(IF(VLOOKUP(I8,Parameters!$F$19:$G$49,2,FALSE)="DayOff","",IF(H8=" "," ",IF(H8=12," ",IF(H8<>"",H8+1,IF(I8<Parameters!$O$4,"",1))))),"") -> 10 | K8: =IF(DAY(MarSun1)=1,MarSun1+12,MarSun1+19) -> 43539 | L8: =IFERROR(IF(VLOOKUP(K8,Parameters!$F$19:$G$49,2,FALSE)="DayOff","",IF(J8=" "," ",IF(J8=12," ",IF(J8<>"",J8+1,IF(K8<Parameters!$O$4,"",1))))),"") -> 11 | M8: =IF(DAY(MarSun1)=1,MarSun1+13,MarSun1+20) -> 43540 | O8: =IF(DAY(MarSun1)=1,MarSun1+14,MarSun1+21) -> 43541
C10: =IF(DAY(MarSun1)=1,MarSun1+15,MarSun1+22) -> 43542 | D10: =IFERROR(IF(VLOOKUP(C10,Parameters!$F$19:$G$49,2,FALSE)="DayOff","",IF(L8=" "," ",IF(L8=12," ",IF(L8<>"",L8+1,IF(C10<Parameters!$O$4,"",1))))),"") -> 12 | E10: =IF(DAY(MarSun1)=1,MarSun1+16,MarSun1+23) -> 43543 | F10: =IFERROR(IF(VLOOKUP(E10,Parameters!$F$19:$G$49,2,FALSE)="DayOff","",IF(D10=" "," ",IF(D10=12," ",IF(D10<>"",D10+1,IF(E10<Parameters!$O$4,"",1))))),"") | G10: =IF(DAY(MarSun1)=1,MarSun1+17,MarSun1+24) -> 43544 | H10: =IFERROR(IF(VLOOKUP(G10,Parameters!$F$19:$G$49,2,FALSE)="DayOff","",IF(F10=" "," ",IF(F10=12," ",IF(F10<>"",F10+1,IF(G10<Parameters!$O$4,"",1))))),"") | I10: =IF(DAY(MarSun1)=1,MarSun1+18,MarSun1+25) -> 43545 | J10: =IFERROR(IF(VLOOKUP(I10,Parameters!$F$19:$G$49,2,FALSE)="DayOff","",IF(H10=" "," ",IF(H10=12," ",IF(H10<>"",H10+1,IF(I10<Parameters!$O$4,"",1))))),"") | K10: =IF(DAY(MarSun1)=1,MarSun1+19,MarSun1+26) -> 43546 | L10: =IFERROR(IF(VLOOKUP(K10,Parameters!$F$19:$G$49,2,FALSE)="DayOff","",IF(J10=" "," ",IF(J10=12," ",IF(J10<>"",J10+1,IF(K10<Parameters!$O$4,"",1))))),"") | M10: =IF(DAY(MarSun1)=1,MarSun1+20,MarSun1+27) -> 43547 | O10: =IF(DAY(MarSun1)=1,MarSun1+21,MarSun1+28) -> 43548
I11: Maintenance
C12: =IF(DAY(MarSun1)=1,MarSun1+22,MarSun1+29) -> 43549 | D12: =IFERROR(IF(VLOOKUP(C12,Parameters!$F$19:$G$49,2,FALSE)="DayOff","",IF(L10=" "," ",IF(L10=12," ",IF(L10<>"",L10+1,IF(C12<Parameters!$O$4,"",1))))),"") | E12: =IF(DAY(MarSun1)=1,MarSun1+23,MarSun1+30) -> 43550 | F12: =IFERROR(IF(VLOOKUP(E12,Parameters!$F$19:$G$49,2,FALSE)="DayOff","",IF(D12=" "," ",IF(D12=12," ",IF(D12<>"",D12+1,IF(E12<Parameters!$O$4,"",1))))),"") | G12: =IF(DAY(MarSun1)=1,MarSun1+24,MarSun1+31) -> 43551 | H12: =IFERROR(IF(VLOOKUP(G12,Parameters!$F$19:$G$49,2,FALSE)="DayOff","",IF(F12=" "," ",IF(F12=12," ",IF(F12<>"",F12+1,IF(G12<Parameters!$O$4,"",1))))),"") | I12: =IF(DAY(MarSun1)=1,MarSun1+25,MarSun1+32) -> 43552 | J12: =IFERROR(IF(VLOOKUP(I12,Parameters!$F$19:$G$49,2,FALSE)="DayOff","",IF(H12=" "," ",IF(H12=12," ",IF(H12<>"",H12+1,IF(I12<Parameters!$O$4,"",1))))),"") | K12: =IF(DAY(MarSun1)=1,MarSun1+26,MarSun1+33) -> 43553 | L12: =IFERROR(IF(VLOOKUP(K12,Parameters!$F$19:$G$49,2,FALSE)="DayOff","",IF(J12=" "," ",IF(J12=12," ",IF(J12<>"",J12+1,IF(K12<Parameters!$O$4,"",1))))),"") | M12: =IF(DAY(MarSun1)=1,MarSun1+27,MarSun1+34) -> 43554 | O12: =IF(DAY(MarSun1)=1,MarSun1+28,MarSun1+35) -> 43555
C14: =IF(DAY(MarSun1)=1,MarSun1+29,MarSun1+36) -> 43556 | D14: =IFERROR(IF(VLOOKUP(C14,Parameters!$F$19:$G$49,2,FALSE)="DayOff","",IF(L12=" "," ",IF(L12=12," ",IF(L12<>"",L12+1,IF(C14<Parameters!$O$4,"",1))))),"") | E14: =IF(DAY(MarSun1)=1,MarSun1+30,MarSun1+37) -> 43557 | F14: =IFERROR(IF(VLOOKUP(E14,Parameters!$F$19:$G$49,2,FALSE)="DayOff","",IF(D14=" "," ",IF(D14=12," ",IF(D14<>"",D14+1,IF(E14<Parameters!$O$4,"",1))))),"") | G14: =IF(DAY(MarSun1)=1,MarSun1+31,MarSun1+38) -> 43558 | H14: =IFERROR(IF(VLOOKUP(G14,Parameters!$F$19:$G$49,2,FALSE)="DayOff","",IF(F14=" "," ",IF(F14=12," ",IF(F14<>"",F14+1,IF(G14<Parameters!$O$4,"",1))))),"") | I14: =IF(DAY(MarSun1)=1,MarSun1+32,MarSun1+39) -> 43559 | J14: =IFERROR(IF(VLOOKUP(I14,Parameters!$F$19:$G$49,2,FALSE)="DayOff","",IF(H14=" "," ",IF(H14=12," ",IF(H14<>"",H14+1,IF(I14<Parameters!$O$4,"",1))))),"") | K14: =IF(DAY(MarSun1)=1,MarSun1+33,MarSun1+40) -> 43560 | L14: =IFERROR(IF(VLOOKUP(K14,Parameters!$F$19:$G$49,2,FALSE)="DayOff","",IF(J14=" "," ",IF(J14=12," ",IF(J14<>"",J14+1,IF(K14<Parameters!$O$4,"",1))))),"") | M14: =IF(DAY(MarSun1)=1,MarSun1+34,MarSun1+41) -> 43561 | O14: =IF(DAY(MarSun1)=1,MarSun1+35,MarSun1+42) -> 43562

Sheet April
B2: =" APRIL "&Parameters!B14 -> APRIL 2019
C3: Mon | E3: Tue | G3: Wed | I3: Thu | K3: Fri | M3: Sat | O3: Sun
C4: =IF(DAY(AprSun1)=1,AprSun1-6,AprSun1+1) -> 43556 | D4: =IFERROR(IF(VLOOKUP(C4,Parameters!$H$19:$I$49,2,FALSE)="DayOff","",IF(C4<Parameters!$O$5,"",1)),"") -> 1 | E4: =IF(DAY(AprSun1)=1,AprSun1-5,AprSun1+2) -> 43557 | F4: =IFERROR(IF(VLOOKUP(E4,Parameters!$H$19:$I$49,2,FALSE)="DayOff","",IF(D4=" "," ",IF(D4=12," ",IF(D4<>"",D4+1,IF(E4<Parameters!$O$5,"",1))))),"") | G4: =IF(DAY(AprSun1)=1,AprSun1-4,AprSun1+3) -> 43558 | H4: =IFERROR(IF(G4=Parameters!H21,April!D4+1,IF(VLOOKUP(G4,Parameters!$H$19:$I$49,2,FALSE)="DayOff","",IF(F4=" "," ",IF(F4=12," ",IF(F4<>"",F4+1,IF(G4<Parameters!$O$5,"",1)))))),"") -> 2 | I4: =IF(DAY(AprSun1)=1,AprSun1-3,AprSun1+4) -> 43559 | J4: =IFERROR(IF(I4=Parameters!J21,April!F4+1,IF(VLOOKUP(I4,Parameters!$H$19:$I$49,2,FALSE)="DayOff","",IF(H4=" "," ",IF(H4=12," ",IF(H4<>"",H4+1,IF(I4<Parameters!$O$5,"",1)))))),"") -> 3 | K4: =IF(DAY(AprSun1)=1,AprSun1-2,AprSun1+5) -> 43560 | L4: =IFERROR(IF(K4=Parameters!L21,April!H4+1,IF(VLOOKUP(K4,Parameters!$H$19:$I$49,2,FALSE)="DayOff","",IF(J4=" "," ",IF(J4=12," ",IF(J4<>"",J4+1,IF(K4<Parameters!$O$5,"",1)))))),"") -> 4 | M4: =IF(DAY(AprSun1)=1,AprSun1-1,AprSun1+6) -> 43561 | O4: =IF(DAY(AprSun1)=1,AprSun1,AprSun1+7) -> 43562
C6: =IF(DAY(AprSun1)=1,AprSun1+1,AprSun1+8) -> 43563 | D6: =IFERROR(IF(C6=Parameters!H21,April!J4,IF(VLOOKUP(C6,Parameters!$H$19:$I$49,2,FALSE)="DayOff","",IF(L4=" "," ",IF(L4=12," ",IF(L4<>"",L4+1,IF(C6<Parameters!$O$5,"",1)))))),"") -> 5 | E6: =IF(DAY(AprSun1)=1,AprSun1+2,AprSun1+9) -> 43564 | F6: =IFERROR(IF(E6=Parameters!F23,April!L4+1,IF(VLOOKUP(E6,Parameters!$H$19:$I$49,2,FALSE)="DayOff","",IF(D6=" "," ",IF(D6=12," ",IF(D6<>"",D6+1,IF(E6<Parameters!$O$5,"",1)))))),"") -> 6 | G6: =IF(DAY(AprSun1)=1,AprSun1+3,AprSun1+10) -> 43565 | H6: =IFERROR(IF(G6=Parameters!H23,April!D6+1,IF(VLOOKUP(G6,Parameters!$H$19:$I$49,2,FALSE)="DayOff","",IF(F6=" "," ",IF(F6=12," ",IF(F6<>"",F6+1,IF(G6<Parameters!$O$5,"",1)))))),"") -> 7 | I6: =IF(DAY(AprSun1)=1,AprSun1+4,AprSun1+11) -> 43566 | J6: =IFERROR(IF(I6=Parameters!J23,April!F6+1,IF(VLOOKUP(I6,Parameters!$H$19:$I$49,2,FALSE)="DayOff","",IF(H6=" "," ",IF(H6=12," ",IF(H6<>"",H6+1,IF(I6<Parameters!$O$5,"",1)))))),"") -> 8 | K6: =IF(DAY(AprSun1)=1,AprSun1+5,AprSun1+12) -> 43567 | L6: =IFERROR(IF(K6=Parameters!L23,April!H6+1,IF(VLOOKUP(K6,Parameters!$H$19:$I$49,2,FALSE)="DayOff","",IF(J6=" "," ",IF(J6=12," ",IF(J6<>"",J6+1,IF(K6<Parameters!$O$5,"",1)))))),"") -> 9 | M6: =IF(DAY(AprSun1)=1,AprSun1+6,AprSun1+13) -> 43568 | O6: =IF(DAY(AprSun1)=1,AprSun1+7,AprSun1+14) -> 43569
C8: =IF(DAY(AprSun1)=1,AprSun1+8,AprSun1+15) -> 43570 | D8: =IFERROR(IF(C8=Parameters!H23,April!J6,IF(VLOOKUP(C8,Parameters!$H$19:$I$49,2,FALSE)="DayOff","",IF(L6=" "," ",IF(L6=12," ",IF(L6<>"",L6+1,IF(C8<Parameters!$O$5,"",1)))))),"") -> 10 | E8: =IF(DAY(AprSun1)=1,AprSun1+9,AprSun1+16) -> 43571 | F8: =IFERROR(IF(E8=Parameters!F25,April!L6+1,IF(VLOOKUP(E8,Parameters!$H$19:$I$49,2,FALSE)="DayOff","",IF(D8=" "," ",IF(D8=12," ",IF(D8<>"",D8+1,IF(E8<Parameters!$O$5,"",1)))))),"") -> 11 | G8: =IF(DAY(AprSun1)=1,AprSun1+10,AprSun1+17) -> 43572 | H8: =IFERROR(IF(G8=Parameters!H25,April!D8+1,IF(VLOOKUP(G8,Parameters!$H$19:$I$49,2,FALSE)="DayOff","",IF(F8=" "," ",IF(F8=12," ",IF(F8<>"",F8+1,IF(G8<Parameters!$O$5,"",1)))))),"") -> 12 | I8: =IF(DAY(AprSun1)=1,AprSun1+11,AprSun1+18) -> 43573 | J8: =IFERROR(IF(I8=Parameters!J25,April!F8+1,IF(VLOOKUP(I8,Parameters!$H$19:$I$49,2,FALSE)="DayOff","",IF(H8=" "," ",IF(H8=12," ",IF(H8<>"",H8+1,IF(I8<Parameters!$O$5,"",1)))))),"") | K8: =IF(DAY(AprSun1)=1,AprSun1+12,AprSun1+19) -> 43574 | L8: =IFERROR(IF(K8=Parameters!L25,April!H8+1,IF(VLOOKUP(K8,Parameters!$H$19:$I$49,2,FALSE)="DayOff","",IF(J8=" "," ",IF(J8=12," ",IF(J8<>"",J8+1,IF(K8<Parameters!$O$5,"",1)))))),"") | M8: =IF(DAY(AprSun1)=1,AprSun1+13,AprSun1+20) -> 43575 | O8: =IF(DAY(AprSun1)=1,AprSun1+14,AprSun1+21) -> 43576
C10: =IF(DAY(AprSun1)=1,AprSun1+15,AprSun1+22) -> 43577 | D10: =IFERROR(IF(C10=Parameters!H25,April!J8,IF(VLOOKUP(C10,Parameters!$H$19:$I$49,2,FALSE)="DayOff","",IF(L8=" "," ",IF(L8=12," ",IF(L8<>"",L8+1,IF(C10<Parameters!$O$5,"",1)))))),"") | E10: =IF(DAY(AprSun1)=1,AprSun1+16,AprSun1+23) -> 43578 | F10: =IFERROR(IF(E10=Parameters!F27,April!L8+1,IF(VLOOKUP(E10,Parameters!$H$19:$I$49,2,FALSE)="DayOff","",IF(D10=" "," ",IF(D10=12," ",IF(D10<>"",D10+1,IF(E10<Parameters!$O$5,"",1)))))),"") | G10: =IF(DAY(AprSun1)=1,AprSun1+17,AprSun1+24) -> 43579 | H10: =IFERROR(IF(G10=Parameters!H27,April!D10+1,IF(VLOOKUP(G10,Parameters!$H$19:$I$49,2,FALSE)="DayOff","",IF(F10=" "," ",IF(F10=12," ",IF(F10<>"",F10+1,IF(G10<Parameters!$O$5,"",1)))))),"") | I10: =IF(DAY(AprSun1)=1,AprSun1+18,AprSun1+25) -> 43580 | J10: =IFERROR(IF(I10=Parameters!J27,April!F10+1,IF(VLOOKUP(I10,Parameters!$H$19:$I$49,2,FALSE)="DayOff","",IF(H10=" "," ",IF(H10=12," ",IF(H10<>"",H10+1,IF(I10<Parameters!$O$5,"",1)))))),"") | K10: =IF(DAY(AprSun1)=1,AprSun1+19,AprSun1+26) -> 43581 | L10: =IFERROR(IF(K10=Parameters!L27,April!H10+1,IF(VLOOKUP(K10,Parameters!$H$19:$I$49,2,FALSE)="DayOff","",IF(J10=" "," ",IF(J10=12," ",IF(J10<>"",J10+1,IF(K10<Parameters!$O$5,"",1)))))),"") | M10: =IF(DAY(AprSun1)=1,AprSun1+20,AprSun1+27) -> 43582 | O10: =IF(DAY(AprSun1)=1,AprSun1+21,AprSun1+28) -> 43583
I11: Maintenance
C12: =IF(DAY(AprSun1)=1,AprSun1+22,AprSun1+29) -> 43584 | D12: =IFERROR(IF(C12=Parameters!H27,April!J10,IF(VLOOKUP(C12,Parameters!$H$19:$I$49,2,FALSE)="DayOff","",IF(L10=" "," ",IF(L10=12," ",IF(L10<>"",L10+1,IF(C12<Parameters!$O$5,"",1)))))),"") | E12: =IF(DAY(AprSun1)=1,AprSun1+23,AprSun1+30) -> 43585 | F12: =IFERROR(IF(E12=Parameters!F29,April!L10+1,IF(VLOOKUP(E12,Parameters!$H$19:$I$49,2,FALSE)="DayOff","",IF(D12=" "," ",IF(D12=12," ",IF(D12<>"",D12+1,IF(E12<Parameters!$O$5,"",1)))))),"") | G12: =IF(DAY(AprSun1)=1,AprSun1+24,AprSun1+31) -> 43586 | H12: =IFERROR(IF(G12=Parameters!H29,April!D12+1,IF(VLOOKUP(G12,Parameters!$H$19:$I$49,2,FALSE)="DayOff","",IF(F12=" "," ",IF(F12=12," ",IF(F12<>"",F12+1,IF(G12<Parameters!$O$5,"",1)))))),"") | I12: =IF(DAY(AprSun1)=1,AprSun1+25,AprSun1+32) -> 43587 | J12: =IFERROR(IF(I12=Parameters!J29,April!F12+1,IF(VLOOKUP(I12,Parameters!$H$19:$I$49,2,FALSE)="DayOff","",IF(H12=" "," ",IF(H12=12," ",IF(H12<>"",H12+1,IF(I12<Parameters!$O$5,"",1)))))),"") | K12: =IF(DAY(AprSun1)=1,AprSun1+26,AprSun1+33) -> 43588 | L12: =IFERROR(IF(K12=Parameters!L29,April!H12+1,IF(VLOOKUP(K12,Parameters!$H$19:$I$49,2,FALSE)="DayOff","",IF(J12=" "," ",IF(J12=12," ",IF(J12<>"",J12+1,IF(K12<Parameters!$O$5,"",1)))))),"") | M12: =IF(DAY(AprSun1)=1,AprSun1+27,AprSun1+34) -> 43589 | O12: =IF(DAY(AprSun1)=1,AprSun1+28,AprSun1+35) -> 43590
C14: =IF(DAY(AprSun1)=1,AprSun1+29,AprSun1+36) -> 43591 | D14: =IFERROR(IF(C14=Parameters!H29,April!J12,IF(VLOOKUP(C14,Parameters!$H$19:$I$49,2,FALSE)="DayOff","",IF(L12=" "," ",IF(L12=12," ",IF(L12<>"",L12+1,IF(C14<Parameters!$O$5,"",1)))))),"") | E14: =IF(DAY(AprSun1)=1,AprSun1+30,AprSun1+37) -> 43592 | F14: =IFERROR(IF(E14=Parameters!F31,April!L12+1,IF(VLOOKUP(E14,Parameters!$H$19:$I$49,2,FALSE)="DayOff","",IF(D14=" "," ",IF(D14=12," ",IF(D14<>"",D14+1,IF(E14<Parameters!$O$5,"",1)))))),"") | G14: =IF(DAY(AprSun1)=1,AprSun1+31,AprSun1+38) -> 43593 | H14: =IFERROR(IF(G14=Parameters!H31,April!D14+1,IF(VLOOKUP(G14,Parameters!$H$19:$I$49,2,FALSE)="DayOff","",IF(F14=" "," ",IF(F14=12," ",IF(F14<>"",F14+1,IF(G14<Parameters!$O$5,"",1)))))),"") | I14: =IF(DAY(AprSun1)=1,AprSun1+32,AprSun1+39) -> 43594 | J14: =IFERROR(IF(I14=Parameters!J31,April!F14+1,IF(VLOOKUP(I14,Parameters!$H$19:$I$49,2,FALSE)="DayOff","",IF(H14=" "," ",IF(H14=12," ",IF(H14<>"",H14+1,IF(I14<Parameters!$O$5,"",1)))))),"") | K14: =IF(DAY(AprSun1)=1,AprSun1+33,AprSun1+40) -> 43595 | L14: =IFERROR(IF(K14=Parameters!L31,April!H14+1,IF(VLOOKUP(K14,Parameters!$H$19:$I$49,2,FALSE)="DayOff","",IF(J14=" "," ",IF(J14=12," ",IF(J14<>"",J14+1,IF(K14<Parameters!$O$5,"",1)))))),"") | M14: =IF(DAY(AprSun1)=1,AprSun1+34,AprSun1+41) -> 43596 | O14: =IF(DAY(AprSun1)=1,AprSun1+35,AprSun1+42) -> 43597

Sheet May
B2: =" MAY "&Parameters!B14 -> MAY 2019
C3: Mon | E3: Tue | G3: Wed | I3: Thu | K3: Fri | M3: Sat | O3: Sun
C4: =IF(DAY(MaySun1)=1,MaySun1-6,MaySun1+1) -> 43584 | D4: =IFERROR(IF(VLOOKUP(C4,Parameters!$J$19:$K$49,2,FALSE)="DayOff","",IF(C4<Parameters!$O$6,"",1)),"") | E4: =IF(DAY(MaySun1)=1,MaySun1-5,MaySun1+2) -> 43585 | F4: =IFERROR(IF(OR(E4=Parameters!$J$27,E4=Parameters!$J$29,E4=Parameters!$J$40),L2+1,IF(VLOOKUP(E4,Parameters!$J$19:$K$49,2,FALSE)="DayOff","",IF(D4=" "," ",IF(D4=12," ",IF(D4<>"",D4+1,IF(E4<Parameters!$O$6,"",1)))))),"") | G4: =IF(DAY(MaySun1)=1,MaySun1-4,MaySun1+3) -> 43586 | H4: =IFERROR(IF(OR(G4=Parameters!$J$27,G4=Parameters!$J$29,G4=Parameters!$J$40),D4+1,IF(VLOOKUP(G4,Parameters!$J$19:$K$49,2,FALSE)="DayOff","",IF(F4=" "," ",IF(F4=12," ",IF(F4<>"",F4+1,IF(G4<Parameters!$O$6,"",1)))))),"") | I4: =IF(DAY(MaySun1)=1,MaySun1-3,MaySun1+4) -> 43587 | J4: =IFERROR(IF(OR(I4=Parameters!$J$27,I4=Parameters!$J$29,I4=Parameters!$J$40),F4+1,IF(VLOOKUP(I4,Parameters!$J$19:$K$49,2,FALSE)="DayOff","",IF(H4=" "," ",IF(H4=12," ",IF(H4<>"",H4+1,IF(I4<Parameters!$O$6,"",1)))))),"") -> 1 | K4: =IF(DAY(MaySun1)=1,MaySun1-2,MaySun1+5) -> 43588 | L4: =IFERROR(IF(OR(K4=Parameters!$J$27,K4=Parameters!$J$29,K4=Parameters!$J$40),H4+1,IF(VLOOKUP(K4,Parameters!$J$19:$K$49,2,FALSE)="DayOff","",IF(J4=" "," ",IF(J4=12," ",IF(J4<>"",J4+1,IF(K4<Parameters!$O$6,"",1)))))),"") -> 2 | M4: =IF(DAY(MaySun1)=1,MaySun1-1,MaySun1+6) -> 43589 | O4: =IF(DAY(MaySun1)=1,MaySun1,MaySun1+7) -> 43590
C6: =IF(DAY(MaySun1)=1,MaySun1+1,MaySun1+8) -> 43591 | D6: =IFERROR(IF(OR(C6=Parameters!$J$27,C6=Parameters!$J$29,C6=Parameters!$J$40)=May!C6,May!L4+1,IF(VLOOKUP(C6,Parameters!$J$19:$K$49,2,FALSE)="DayOff","",IF(L4=" "," ",IF(L4=12," ",IF(L4<>"",L4+1,IF(C6<Parameters!$O$6,"",1)))))),"") -> 3 | E6: =IF(DAY(MaySun1)=1,MaySun1+2,MaySun1+9) -> 43592 | F6: =IFERROR(IF(OR(E6=Parameters!$J$27,E6=Parameters!$J$29,E6=Parameters!$J$40),L4+1,IF(VLOOKUP(E6,Parameters!$J$19:$K$49,2,FALSE)="DayOff","",IF(D6=" "," ",IF(D6=12," ",IF(D6<>"",D6+1,IF(E6<Parameters!$O$6,"",1)))))),"") -> 4 | G6: =IF(DAY(MaySun1)=1,MaySun1+3,MaySun1+10) -> 43593 | H6: =IFERROR(IF(OR(G6=Parameters!$J$27,G6=Parameters!$J$29,G6=Parameters!$J$40),D6+1,IF(VLOOKUP(G6,Parameters!$J$19:$K$49,2,FALSE)="DayOff","",IF(F6=" "," ",IF(F6=12," ",IF(F6<>"",F6+1,IF(G6<Parameters!$O$6,"",1)))))),"") | I6: =IF(DAY(MaySun1)=1,MaySun1+4,MaySun1+11) -> 43594 | J6: =IFERROR(IF(OR(I6=Parameters!$J$27,I6=Parameters!$J$29,I6=Parameters!$J$40),F6+1,IF(VLOOKUP(I6,Parameters!$J$19:$K$49,2,FALSE)="DayOff","",IF(H6=" "," ",IF(H6=12," ",IF(H6<>"",H6+1,IF(I6<Parameters!$O$6,"",1)))))),"") -> 5 | K6: =IF(DAY(MaySun1)=1,MaySun1+5,MaySun1+12) -> 43595 | L6: =IFERROR(IF(OR(K6=Parameters!$J$27,K6=Parameters!$J$29,K6=Parameters!$J$40),H6+1,IF(VLOOKUP(K6,Parameters!$J$19:$K$49,2,FALSE)="DayOff","",IF(J6=" "," ",IF(J6=12," ",IF(J6<>"",J6+1,IF(K6<Parameters!$O$6,"",1)))))),"") | M6: =IF(DAY(MaySun1)=1,MaySun1+6,MaySun1+13) -> 43596 | O6: =IF(DAY(MaySun1)=1,MaySun1+7,MaySun1+14) -> 43597
C8: =IF(DAY(MaySun1)=1,MaySun1+8,MaySun1+15) -> 43598 | D8: =IFERROR(IF(OR(C8=Parameters!$J$27,C8=Parameters!$J$29,C8=Parameters!$J$40)=May!C8,May!L6+1,IF(VLOOKUP(C8,Parameters!$J$19:$K$49,2,FALSE)="DayOff","",IF(L6=" "," ",IF(L6=12," ",IF(L6<>"",L6+1,IF(C8<Parameters!$O$6,"",1)))))),"") -> 1 | E8: =IF(DAY(MaySun1)=1,MaySun1+9,MaySun1+16) -> 43599 | F8: =IFERROR(IF(OR(E8=Parameters!$J$27,E8=Parameters!$J$29,E8=Parameters!$J$40),L6+1,IF(VLOOKUP(E8,Parameters!$J$19:$K$49,2,FALSE)="DayOff","",IF(D8=" "," ",IF(D8=12," ",IF(D8<>"",D8+1,IF(E8<Parameters!$O$6,"",1)))))),"") -> 2 | G8: =IF(DAY(MaySun1)=1,MaySun1+10,MaySun1+17) -> 43600 | H8: =IFERROR(IF(OR(G8=Parameters!$J$27,G8=Parameters!$J$29,G8=Parameters!$J$40),D8+1,IF(VLOOKUP(G8,Parameters!$J$19:$K$49,2,FALSE)="DayOff","",IF(F8=" "," ",IF(F8=12," ",IF(F8<>"",F8+1,IF(G8<Parameters!$O$6,"",1)))))),"") -> 3 | I8: =IF(DAY(MaySun1)=1,MaySun1+11,MaySun1+18) -> 43601 | J8: =IFERROR(IF(OR(I8=Parameters!$J$27,I8=Parameters!$J$29,I8=Parameters!$J$40),F8+1,IF(VLOOKUP(I8,Parameters!$J$19:$K$49,2,FALSE)="DayOff","",IF(H8=" "," ",IF(H8=12," ",IF(H8<>"",H8+1,IF(I8<Parameters!$O$6,"",1)))))),"") -> 4 | K8: =IF(DAY(MaySun1)=1,MaySun1+12,MaySun1+19) -> 43602 | L8: =IFERROR(IF(OR(K8=Parameters!$J$27,K8=Parameters!$J$29,K8=Parameters!$J$40),H8+1,IF(VLOOKUP(K8,Parameters!$J$19:$K$49,2,FALSE)="DayOff","",IF(J8=" "," ",IF(J8=12," ",IF(J8<>"",J8+1,IF(K8<Parameters!$O$6,"",1)))))),"") -> 5 | M8: =IF(DAY(MaySun1)=1,MaySun1+13,MaySun1+20) -> 43603 | O8: =IF(DAY(MaySun1)=1,MaySun1+14,MaySun1+21) -> 43604
C10: =IF(DAY(MaySun1)=1,MaySun1+15,MaySun1+22) -> 43605 | D10: =IFERROR(IF(OR(C10=Parameters!$J$27,C10=Parameters!$J$29,C10=Parameters!$J$40)=May!C10,May!L8+1,IF(VLOOKUP(C10,Parameters!$J$19:$K$49,2,FALSE)="DayOff","",IF(L8=" "," ",IF(L8=12," ",IF(L8<>"",L8+1,IF(C10<Parameters!$O$6,"",1)))))),"") -> 6 | E10: =IF(DAY(MaySun1)=1,MaySun1+16,MaySun1+23) -> 43606 | F10: =IFERROR(IF(OR(E10=Parameters!$J$27,E10=Parameters!$J$29,E10=Parameters!$J$40),L8+1,IF(VLOOKUP(E10,Parameters!$J$19:$K$49,2,FALSE)="DayOff","",IF(D10=" "," ",IF(D10=12," ",IF(D10<>"",D10+1,IF(E10<Parameters!$O$6,"",1)))))),"") | G10: =IF(DAY(MaySun1)=1,MaySun1+17,MaySun1+24) -> 43607 | H10: =IFERROR(IF(OR(G10=Parameters!$J$27,G10=Parameters!$J$29,G10=Parameters!$J$40),D10+1,IF(VLOOKUP(G10,Parameters!$J$19:$K$49,2,FALSE)="DayOff","",IF(F10=" "," ",IF(F10=12," ",IF(F10<>"",F10+1,IF(G10<Parameters!$O$6,"",1)))))),"") -> 7 | I10: =IF(DAY(MaySun1)=1,MaySun1+18,MaySun1+25) -> 43608 | J10: =IFERROR(IF(OR(I10=Parameters!$J$27,I10=Parameters!$J$29,I10=Parameters!$J$40),F10+1,IF(VLOOKUP(I10,Parameters!$J$19:$K$49,2,FALSE)="DayOff","",IF(H10=" "," ",IF(H10=12," ",IF(H10<>"",H10+1,IF(I10<Parameters!$O$6,"",1)))))),"") -> 8 | K10: =IF(DAY(MaySun1)=1,MaySun1+19,MaySun1+26) -> 43609 | L10: =IFERROR(IF(OR(K10=Parameters!$J$27,K10=Parameters!$J$29,K10=Parameters!$J$40),H10+1,IF(VLOOKUP(K10,Parameters!$J$19:$K$49,2,FALSE)="DayOff","",IF(J10=" "," ",IF(J10=12," ",IF(J10<>"",J10+1,IF(K10<Parameters!$O$6,"",1)))))),"") -> 9 | M10: =IF(DAY(MaySun1)=1,MaySun1+20,MaySun1+27) -> 43610 | O10: =IF(DAY(MaySun1)=1,MaySun1+21,MaySun1+28) -> 43611
G11: Maintenance
C12: =IF(DAY(MaySun1)=1,MaySun1+22,MaySun1+29) -> 43612 | D12: =IFERROR(IF(OR(C12=Parameters!$J$27,C12=Parameters!$J$29,C12=Parameters!$J$40)=May!C12,May!L10+1,IF(VLOOKUP(C12,Parameters!$J$19:$K$49,2,FALSE)="DayOff","",IF(L10=" "," ",IF(L10=12," ",IF(L10<>"",L10+1,IF(C12<Parameters!$O$6,"",1)))))),"") -> 10 | E12: =IF(DAY(MaySun1)=1,MaySun1+23,MaySun1+30) -> 43613 | F12: =IFERROR(IF(OR(E12=Parameters!$J$27,E12=Parameters!$J$29,E12=Parameters!$J$40),L10+1,IF(VLOOKUP(E12,Parameters!$J$19:$K$49,2,FALSE)="DayOff","",IF(D12=" "," ",IF(D12=12," ",IF(D12<>"",D12+1,IF(E12<Parameters!$O$6,"",1)))))),"") -> 11 | G12: =IF(DAY(MaySun1)=1,MaySun1+24,MaySun1+31) -> 43614 | H12: =IFERROR(IF(OR(G12=Parameters!$J$27,G12=Parameters!$J$29,G12=Parameters!$J$40),D12+1,IF(VLOOKUP(G12,Parameters!$J$19:$K$49,2,FALSE)="DayOff","",IF(F12=" "," ",IF(F12=12," ",IF(F12<>"",F12+1,IF(G12<Parameters!$O$6,"",1)))))),"") -> 12 | I12: =IF(DAY(MaySun1)=1,MaySun1+25,MaySun1+32) -> 43615 | J12: =IFERROR(IF(OR(I12=Parameters!$J$27,I12=Parameters!$J$29,I12=Parameters!$J$40),F12+1,IF(VLOOKUP(I12,Parameters!$J$19:$K$49,2,FALSE)="DayOff","",IF(H12=" "," ",IF(H12=12," ",IF(H12<>"",H12+1,IF(I12<Parameters!$O$6,"",1)))))),"") | K12: =IF(DAY(MaySun1)=1,MaySun1+26,MaySun1+33) -> 43616 | L12: =IFERROR(IF(OR(K12=Parameters!$J$27,K12=Parameters!$J$29,K12=Parameters!$J$40),H12+1,IF(VLOOKUP(K12,Parameters!$J$19:$K$49,2,FALSE)="DayOff","",IF(J12=" "," ",IF(J12=12," ",IF(J12<>"",J12+1,IF(K12<Parameters!$O$6,"",1)))))),"") | M12: =IF(DAY(MaySun1)=1,MaySun1+27,MaySun1+34) -> 43617 | O12: =IF(DAY(MaySun1)=1,MaySun1+28,MaySun1+35) -> 43618
C14: =IF(DAY(MaySun1)=1,MaySun1+29,MaySun1+36) -> 43619 | D14: =IFERROR(IF(OR(C14=Parameters!$J$27,C14=Parameters!$J$29,C14=Parameters!$J$40)=May!C14,May!L12+1,IF(VLOOKUP(C14,Parameters!$J$19:$K$49,2,FALSE)="DayOff","",IF(L12=" "," ",IF(L12=12," ",IF(L12<>"",L12+1,IF(C14<Parameters!$O$6,"",1)))))),"") | E14: =IF(DAY(MaySun1)=1,MaySun1+30,MaySun1+37) -> 43620 | F14: =IFERROR(IF(OR(E14=Parameters!$J$27,E14=Parameters!$J$29,E14=Parameters!$J$39),B14+1,IF(VLOOKUP(E14,Parameters!$J$19:$K$49,2,FALSE)="DayOff","",IF(D14=" "," ",IF(D14=12," ",IF(D14<>"",D14+1,IF(E14<Parameters!$O$6,"",1)))))),"") | G14: =IF(DAY(MaySun1)=1,MaySun1+31,MaySun1+38) -> 43621 | H14: =IFERROR(IF(OR(G14=Parameters!$J$27,G14=Parameters!$J$29,G14=Parameters!$J$40),D14+1,IF(VLOOKUP(G14,Parameters!$J$19:$K$49,2,FALSE)="DayOff","",IF(F14=" "," ",IF(F14=12," ",IF(F14<>"",F14+1,IF(G14<Parameters!$O$6,"",1)))))),"") | I14: =IF(DAY(MaySun1)=1,MaySun1+32,MaySun1+39) -> 43622 | J14: =IFERROR(IF(OR(I14=Parameters!$J$27,I14=Parameters!$J$29,I14=Parameters!$J$40),F14+1,IF(VLOOKUP(I14,Parameters!$J$19:$K$49,2,FALSE)="DayOff","",IF(H14=" "," ",IF(H14=12," ",IF(H14<>"",H14+1,IF(I14<Parameters!$O$6,"",1)))))),"") | K14: =IF(DAY(MaySun1)=1,MaySun1+33,MaySun1+40) -> 43623 | L14: =IFERROR(IF(OR(K14=Parameters!$J$27,K14=Parameters!$J$29,K14=Parameters!$J$40),H14+1,IF(VLOOKUP(K14,Parameters!$J$19:$K$49,2,FALSE)="DayOff","",IF(J14=" "," ",IF(J14=12," ",IF(J14<>"",J14+1,IF(K14<Parameters!$O$6,"",1)))))),"") | M14: =IF(DAY(MaySun1)=1,MaySun1+34,MaySun1+41) -> 43624 | O14: =IF(DAY(MaySun1)=1,MaySun1+35,MaySun1+42) -> 43625

Sheet June
B2: =" JUNE "&Parameters!B14 -> JUNE 2019
C3: Mon | E3: Tue | G3: Wed | I3: Thu | K3: Fri | M3: Sat | O3: Sun
C4: =IF(DAY(JunSun1)=1,JunSun1-6,JunSun1+1) -> 43612 | D4: =IFERROR(IF(VLOOKUP(C4,Parameters!L19:M49,2,FALSE)="DayOff","",IF(C4<Parameters!$O$7,"",1)),"") | E4: =IF(DAY(JunSun1)=1,JunSun1-5,JunSun1+2) -> 43613 | F4: =IFERROR(IF(VLOOKUP(E4,Parameters!$L$19:$M$49,2,FALSE)="DayOff","",IF(D4=" "," ",IF(D4=12," ",IF(D4<>"",D4+1,IF(E4<Parameters!$O$7,"",1))))),"") | G4: =IF(DAY(JunSun1)=1,JunSun1-4,JunSun1+3) -> 43614 | H4: =IFERROR(IF(VLOOKUP(G4,Parameters!$L$19:$M$49,2,FALSE)="DayOff","",IF(F4=" "," ",IF(F4=12," ",IF(F4<>"",F4+1,IF(G4<Parameters!$O$7,"",1))))),"") | I4: =IF(DAY(JunSun1)=1,JunSun1-3,JunSun1+4) -> 43615 | J4: =IFERROR(IF(VLOOKUP(I4,Parameters!$L$19:$M$49,2,FALSE)="DayOff","",IF(H4=" "," ",IF(H4=12," ",IF(H4<>"",H4+1,IF(I4<Parameters!$O$7,"",1))))),"") | K4: =IF(DAY(JunSun1)=1,JunSun1-2,JunSun1+5) -> 43616 | L4: =IFERROR(IF(VLOOKUP(K4,Parameters!$L$19:$M$49,2,FALSE)="DayOff","",IF(J4=" "," ",IF(J4=12," ",IF(J4<>"",J4+1,IF(K4<Parameters!$O$7,"",1))))),"") | M4: =IF(DAY(JunSun1)=1,JunSun1-1,JunSun1+6) -> 43617 | O4: =IF(DAY(JunSun1)=1,JunSun1,JunSun1+7) -> 43618
C6: =IF(DAY(JunSun1)=1,JunSun1+1,JunSun1+8) -> 43619 | D6: =IFERROR(IF(VLOOKUP(C6,Parameters!$L$19:$M$49,2,FALSE)="DayOff","",IF(L4=" "," ",IF(L4=12," ",IF(L4<>"",L4+1,IF(C6<Parameters!$O$7,"",1))))),"") -> 1 | E6: =IF(DAY(JunSun1)=1,JunSun1+2,JunSun1+9) -> 43620 | F6: =IFERROR(IF(VLOOKUP(E6,Parameters!$L$19:$M$49,2,FALSE)="DayOff","",IF(D6=" "," ",IF(D6=12," ",IF(D6<>"",D6+1,IF(E6<Parameters!$O$7,"",1))))),"") -> 2 | G6: =IF(DAY(JunSun1)=1,JunSun1+3,JunSun1+10) -> 43621 | H6: =IFERROR(IF(VLOOKUP(G6,Parameters!$L$19:$M$49,2,FALSE)="DayOff","",IF(F6=" "," ",IF(F6=12," ",IF(F6<>"",F6+1,IF(G6<Parameters!$O$7,"",1))))),"") -> 3 | I6: =IF(DAY(JunSun1)=1,JunSun1+4,JunSun1+11) -> 43622 | J6: =IFERROR(IF(VLOOKUP(I6,Parameters!$L$19:$M$49,2,FALSE)="DayOff","",IF(H6=" "," ",IF(H6=12," ",IF(H6<>"",H6+1,IF(I6<Parameters!$O$7,"",1))))),"") -> 4 | K6: =IF(DAY(JunSun1)=1,JunSun1+5,JunSun1+12) -> 43623 | L6: =IFERROR(IF(VLOOKUP(K6,Parameters!$L$19:$M$49,2,FALSE)="DayOff","",IF(J6=" "," ",IF(J6=12," ",IF(J6<>"",J6+1,IF(K6<Parameters!$O$7,"",1))))),"") -> 5 | M6: =IF(DAY(JunSun1)=1,JunSun1+6,JunSun1+13) -> 43624 | O6: =IF(DAY(JunSun1)=1,JunSun1+7,JunSun1+14) -> 43625
C8: =IF(DAY(JunSun1)=1,JunSun1+8,JunSun1+15) -> 43626 | D8: =IFERROR(IF(VLOOKUP(C8,Parameters!$L$19:$M$49,2,FALSE)="DayOff","",IF(L6=" "," ",IF(L6=12," ",IF(L6<>"",L6+1,IF(C8<Parameters!$O$7,"",1))))),"") -> 6 | E8: =IF(DAY(JunSun1)=1,JunSun1+9,JunSun1+16) -> 43627 | F8: =IFERROR(IF(VLOOKUP(E8,Parameters!$L$19:$M$49,2,FALSE)="DayOff","",IF(D8=" "," ",IF(D8=12," ",IF(D8<>"",D8+1,IF(E8<Parameters!$O$7,"",1))))),"") -> 7 | G8: =IF(DAY(JunSun1)=1,JunSun1+10,JunSun1+17) -> 43628 | H8: =IFERROR(IF(VLOOKUP(G8,Parameters!$L$19:$M$49,2,FALSE)="DayOff","",IF(F8=" "," ",IF(F8=12," ",IF(F8<>"",F8+1,IF(G8<Parameters!$O$7,"",1))))),"") -> 8 | I8: =IF(DAY(JunSun1)=1,JunSun1+11,JunSun1+18) -> 43629 | J8: =IFERROR(IF(VLOOKUP(I8,Parameters!$L$19:$M$49,2,FALSE)="DayOff","",IF(H8=" "," ",IF(H8=12," ",IF(H8<>"",H8+1,IF(I8<Parameters!$O$7,"",1))))),"") -> 9 | K8: =IF(DAY(JunSun1)=1,JunSun1+12,JunSun1+19) -> 43630 | L8: =IFERROR(IF(VLOOKUP(K8,Parameters!$L$19:$M$49,2,FALSE)="DayOff","",IF(J8=" "," ",IF(J8=12," ",IF(J8<>"",J8+1,IF(K8<Parameters!$O$7,"",1))))),"") -> 10 | M8: =IF(DAY(JunSun1)=1,JunSun1+13,JunSun1+20) -> 43631 | O8: =IF(DAY(JunSun1)=1,JunSun1+14,JunSun1+21) -> 43632
C10: =IF(DAY(JunSun1)=1,JunSun1+15,JunSun1+22) -> 43633 | D10: =IFERROR(IF(VLOOKUP(C10,Parameters!$L$19:$M$49,2,FALSE)="DayOff","",IF(L8=" "," ",IF(L8=12," ",IF(L8<>"",L8+1,IF(C10<Parameters!$O$7,"",1))))),"") -> 11 | E10: =IF(DAY(JunSun1)=1,JunSun1+16,JunSun1+23) -> 43634 | F10: =IFERROR(IF(VLOOKUP(E10,Parameters!$L$19:$M$49,2,FALSE)="DayOff","",IF(D10=" "," ",IF(D10=12," ",IF(D10<>"",D10+1,IF(E10<Parameters!$O$7,"",1))))),"") -> 12 | G10: =IF(DAY(JunSun1)=1,JunSun1+17,JunSun1+24) -> 43635 | H10: =IFERROR(IF(VLOOKUP(G10,Parameters!$L$19:$M$49,2,FALSE)="DayOff","",IF(F10=" "," ",IF(F10=12," ",IF(F10<>"",F10+1,IF(G10<Parameters!$O$7,"",1))))),"") | I10: =IF(DAY(JunSun1)=1,JunSun1+18,JunSun1+25) -> 43636 | J10: =IFERROR(IF(VLOOKUP(I10,Parameters!$L$19:$M$49,2,FALSE)="DayOff","",IF(H10=" "," ",IF(H10=12," ",IF(H10<>"",H10+1,IF(I10<Parameters!$O$7,"",1))))),"") | K10: =IF(DAY(JunSun1)=1,JunSun1+19,JunSun1+26) -> 43637 | L10: =IFERROR(IF(VLOOKUP(K10,Parameters!$L$19:$M$49,2,FALSE)="DayOff","",IF(J10=" "," ",IF(J10=12," ",IF(J10<>"",J10+1,IF(K10<Parameters!$O$7,"",1))))),"") | M10: =IF(DAY(JunSun1)=1,JunSun1+20,JunSun1+27) -> 43638 | O10: =IF(DAY(JunSun1)=1,JunSun1+21,JunSun1+28) -> 43639
I11: Maintenance
C12: =IF(DAY(JunSun1)=1,JunSun1+22,JunSun1+29) -> 43640 | D12: =IFERROR(IF(VLOOKUP(C12,Parameters!$L$19:$M$49,2,FALSE)="DayOff","",IF(L10=" "," ",IF(L10=12," ",IF(L10<>"",L10+1,IF(C12<Parameters!$O$7,"",1))))),"") | E12: =IF(DAY(JunSun1)=1,JunSun1+23,JunSun1+30) -> 43641 | F12: =IFERROR(IF(VLOOKUP(E12,Parameters!$L$19:$M$49,2,FALSE)="DayOff","",IF(D12=" "," ",IF(D12=12," ",IF(D12<>"",D12+1,IF(E12<Parameters!$O$7,"",1))))),"") | G12: =IF(DAY(JunSun1)=1,JunSun1+24,JunSun1+31) -> 43642 | H12: =IFERROR(IF(VLOOKUP(G12,Parameters!$L$19:$M$49,2,FALSE)="DayOff","",IF(F12=" "," ",IF(F12=12," ",IF(F12<>"",F12+1,IF(G12<Parameters!$O$7,"",1))))),"") | I12: =IF(DAY(JunSun1)=1,JunSun1+25,JunSun1+32) -> 43643 | J12: =IFERROR(IF(VLOOKUP(I12,Parameters!$L$19:$M$49,2,FALSE)="DayOff","",IF(H12=" "," ",IF(H12=12," ",IF(H12<>"",H12+1,IF(I12<Parameters!$O$7,"",1))))),"") | K12: =IF(DAY(JunSun1)=1,JunSun1+26,JunSun1+33) -> 43644 | L12: =IFERROR(IF(VLOOKUP(K12,Parameters!$L$19:$M$49,2,FALSE)="DayOff","",IF(J12=" "," ",IF(J12=12," ",IF(J12<>"",J12+1,IF(K12<Parameters!$O$7,"",1))))),"") | M12: =IF(DAY(JunSun1)=1,JunSun1+27,JunSun1+34) -> 43645 | O12: =IF(DAY(JunSun1)=1,JunSun1+28,JunSun1+35) -> 43646
C14: =IF(DAY(JunSun1)=1,JunSun1+29,JunSun1+36) -> 43647 | D14: =IFERROR(IF(VLOOKUP(C14,Parameters!$L$19:$M$49,2,FALSE)="DayOff","",IF(L12=" "," ",IF(L12=12," ",IF(L12<>"",L12+1,IF(C14<Parameters!$O$7,"",1))))),"") | E14: =IF(DAY(JunSun1)=1,JunSun1+30,JunSun1+37) -> 43648 | F14: =IFERROR(IF(VLOOKUP(E14,Parameters!$L$19:$M$49,2,FALSE)="DayOff","",IF(D14=" "," ",IF(D14=12," ",IF(D14<>"",D14+1,IF(E14<Parameters!$O$7,"",1))))),"") | G14: =IF(DAY(JunSun1)=1,JunSun1+31,JunSun1+38) -> 43649 | H14: =IFERROR(IF(VLOOKUP(G14,Parameters!$L$19:$M$49,2,FALSE)="DayOff","",IF(F14=" "," ",IF(F14=12," ",IF(F14<>"",F14+1,IF(G14<Parameters!$O$7,"",1))))),"") | I14: =IF(DAY(JunSun1)=1,JunSun1+32,JunSun1+39) -> 43650 | J14: =IFERROR(IF(VLOOKUP(I14,Parameters!$L$19:$M$49,2,FALSE)="DayOff","",IF(H14=" "," ",IF(H14=12," ",IF(H14<>"",H14+1,IF(I14<Parameters!$O$7,"",1))))),"") | K14: =IF(DAY(JunSun1)=1,JunSun1+33,JunSun1+40) -> 43651 | L14: =IFERROR(IF(VLOOKUP(K14,Parameters!$L$19:$M$49,2,FALSE)="DayOff","",IF(J14=" "," ",IF(J14=12," ",IF(J14<>"",J14+1,IF(K14<Parameters!$O$7,"",1))))),"") | M14: =IF(DAY(JunSun1)=1,JunSun1+34,JunSun1+41) -> 43652 | O14: =IF(DAY(JunSun1)=1,JunSun1+35,JunSun1+42) -> 43653

Sheet July
B2: =" JULY "&Parameters!B14 -> JULY 2019
C3: Mon | E3: Tue | G3: Wed | I3: Thu | K3: Fri | M3: Sat | O3: Sun
C4: =IF(DAY(JulSun1)=1,JulSun1-6,JulSun1+1) -> 43647 | D4: =IFERROR(IF(VLOOKUP(C4,Parameters!$B$54:$C$84,2,FALSE)="DayOff","",IF(C4<Parameters!$O$8,"",1)),"") -> 1 | E4: =IF(DAY(JulSun1)=1,JulSun1-5,JulSun1+2) -> 43648 | F4: =IFERROR(IF(E4=Parameters!$B$68,July!B4+1,IF(VLOOKUP(E4,Parameters!$B$54:$C$84,2,FALSE)="DayOff","",IF(D4=" "," ",IF(D4=12," ",IF(D4<>"",D4+1,IF(E4<Parameters!$O$8,"",1)))))),"") -> 2 | G4: =IF(DAY(JulSun1)=1,JulSun1-4,JulSun1+3) -> 43649 | H4: =IFERROR(IF(G4=Parameters!$B$68,July!D4+1,IF(VLOOKUP(G4,Parameters!$B$54:$C$84,2,FALSE)="DayOff","",IF(F4=" "," ",IF(F4=12," ",IF(F4<>"",F4+1,IF(G4<Parameters!$O$8,"",1)))))),"") -> 3 | I4: =IF(DAY(JulSun1)=1,JulSun1-3,JulSun1+4) -> 43650 | J4: =IFERROR(IF(I4=Parameters!$B$68,July!F4+1,IF(VLOOKUP(I4,Parameters!$B$54:$C$84,2,FALSE)="DayOff","",IF(H4=" "," ",IF(H4=12," ",IF(H4<>"",H4+1,IF(I4<Parameters!$O$8,"",1)))))),"") -> 4 | K4: =IF(DAY(JulSun1)=1,JulSun1-2,JulSun1+5) -> 43651 | L4: =IFERROR(IF(K4=Parameters!$B$68,July!H4+1,IF(VLOOKUP(K4,Parameters!$B$54:$C$84,2,FALSE)="DayOff","",IF(J4=" "," ",IF(J4=12," ",IF(J4<>"",J4+1,IF(K4<Parameters!$O$8,"",1)))))),"") -> 5 | M4: =IF(DAY(JulSun1)=1,JulSun1-1,JulSun1+6) -> 43652 | N4: =IFERROR(IF(M4=Parameters!$B$68,July!J4+1,IF(VLOOKUP(M4,Parameters!$B$54:$C$84,2,FALSE)="DayOff","",IF(L4=" "," ",IF(L4=12," ",IF(L4<>"",L4+1,IF(M4<Parameters!$O$8,"",1)))))),"") -> 6 | O4: =IF(DAY(JulSun1)=1,JulSun1,JulSun1+7) -> 43653
C6: =IF(DAY(JulSun1)=1,JulSun1+1,JulSun1+8) -> 43654 | D6: =IFERROR(IF(C6=Parameters!$B$68,July!L4+1,IF(VLOOKUP(July!C6,Parameters!$B$54:$C$84,2,FALSE)="DayOff","",IF(L4=" "," ",IF(L4=12," ",IF(L4<>"",L4+1,IF(C6<Parameters!$O$8,"",1)))))),"") -> 6 | E6: =IF(DAY(JulSun1)=1,JulSun1+2,JulSun1+9) -> 43655 | F6: =IFERROR(IF(E6=Parameters!$B$68,July!N4+1,IF(VLOOKUP(E6,Parameters!$B$54:$C$84,2,FALSE)="DayOff","",IF(D6=" "," ",IF(D6=12," ",IF(D6<>"",D6+1,IF(E6<Parameters!$O$8,"",1)))))),"") -> 7 | G6: =IF(DAY(JulSun1)=1,JulSun1+3,JulSun1+10) -> 43656 | H6: =IFERROR(IF(G6=Parameters!$B$68,July!D6+1,IF(VLOOKUP(G6,Parameters!$B$54:$C$84,2,FALSE)="DayOff","",IF(F6=" "," ",IF(F6=12," ",IF(F6<>"",F6+1,IF(G6<Parameters!$O$8,"",1)))))),"") -> 8 | I6: =IF(DAY(JulSun1)=1,JulSun1+4,JulSun1+11) -> 43657 | J6: =IFERROR(IF(I6=Parameters!$B$68,July!F6+1,IF(VLOOKUP(I6,Parameters!$B$54:$C$84,2,FALSE)="DayOff","",IF(H6=" "," ",IF(H6=12," ",IF(H6<>"",H6+1,IF(I6<Parameters!$O$8,"",1)))))),"") -> 9 | K6: =IF(DAY(JulSun1)=1,JulSun1+5,JulSun1+12) -> 43658 | L6: =IFERROR(IF(K6=Parameters!$B$68,July!H6+1,IF(VLOOKUP(K6,Parameters!$B$54:$C$84,2,FALSE)="DayOff","",IF(J6=" "," ",IF(J6=12," ",IF(J6<>"",J6+1,IF(K6<Parameters!$O$8,"",1)))))),"") -> 10 | M6: =IF(DAY(JulSun1)=1,JulSun1+6,JulSun1+13) -> 43659 | O6: =IF(DAY(JulSun1)=1,JulSun1+7,JulSun1+14) -> 43660
C8: =IF(DAY(JulSun1)=1,JulSun1+8,JulSun1+15) -> 43661 | D8: =IFERROR(IF(C8=Parameters!$B$68,July!L6+1,IF(VLOOKUP(July!C8,Parameters!$B$54:$C$84,2,FALSE)="DayOff","",IF(L6=" "," ",IF(L6=12," ",IF(L6<>"",L6+1,IF(C8<Parameters!$O$8,"",1)))))),"") -> 11 | E8: =IF(DAY(JulSun1)=1,JulSun1+9,JulSun1+16) -> 43662 | F8: =IFERROR(IF(E8=Parameters!$B$68,July!N6+1,IF(VLOOKUP(E8,Parameters!$B$54:$C$84,2,FALSE)="DayOff","",IF(D8=" "," ",IF(D8=12," ",IF(D8<>"",D8+1,IF(E8<Parameters!$O$8,"",1)))))),"") -> 12 | G8: =IF(DAY(JulSun1)=1,JulSun1+10,JulSun1+17) -> 43663 | H8: =IFERROR(IF(G8=Parameters!$B$68,July!D8+1,IF(VLOOKUP(G8,Parameters!$B$54:$C$84,2,FALSE)="DayOff","",IF(F8=" "," ",IF(F8=12," ",IF(F8<>"",F8+1,IF(G8<Parameters!$O$8,"",1)))))),"") | I8: =IF(DAY(JulSun1)=1,JulSun1+11,JulSun1+18) -> 43664 | J8: =IFERROR(IF(I8=Parameters!$B$68,July!F8+1,IF(VLOOKUP(I8,Parameters!$B$54:$C$84,2,FALSE)="DayOff","",IF(H8=" "," ",IF(H8=12," ",IF(H8<>"",H8+1,IF(I8<Parameters!$O$8,"",1)))))),"") | K8: =IF(DAY(JulSun1)=1,JulSun1+12,JulSun1+19) -> 43665 | L8: =IFERROR(IF(K8=Parameters!$B$68,July!H8+1,IF(VLOOKUP(K8,Parameters!$B$54:$C$84,2,FALSE)="DayOff","",IF(J8=" "," ",IF(J8=12," ",IF(J8<>"",J8+1,IF(K8<Parameters!$O$8,"",1)))))),"") | M8: =IF(DAY(JulSun1)=1,JulSun1+13,JulSun1+20) -> 43666 | O8: =IF(DAY(JulSun1)=1,JulSun1+14,JulSun1+21) -> 43667
C10: =IF(DAY(JulSun1)=1,JulSun1+15,JulSun1+22) -> 43668 | D10: =IFERROR(IF(C10=Parameters!$B$68,July!L8+1,IF(VLOOKUP(July!C10,Parameters!$B$54:$C$84,2,FALSE)="DayOff","",IF(L8=" "," ",IF(L8=12," ",IF(L8<>"",L8+1,IF(C10<Parameters!$O$8,"",1)))))),"") | E10: =IF(DAY(JulSun1)=1,JulSun1+16,JulSun1+23) -> 43669 | F10: =IFERROR(IF(E10=Parameters!$B$68,July!N8+1,IF(VLOOKUP(E10,Parameters!$B$54:$C$84,2,FALSE)="DayOff","",IF(D10=" "," ",IF(D10=12," ",IF(D10<>"",D10+1,IF(E10<Parameters!$O$8,"",1)))))),"") | G10: =IF(DAY(JulSun1)=1,JulSun1+17,JulSun1+24) -> 43670 | H10: =IFERROR(IF(G10=Parameters!$B$68,July!D10+1,IF(VLOOKUP(G10,Parameters!$B$54:$C$84,2,FALSE)="DayOff","",IF(F10=" "," ",IF(F10=12," ",IF(F10<>"",F10+1,IF(G10<Parameters!$O$8,"",1)))))),"") | I10: =IF(DAY(JulSun1)=1,JulSun1+18,JulSun1+25) -> 43671 | J10: =IFERROR(IF(I10=Parameters!$B$68,July!F10+1,IF(VLOOKUP(I10,Parameters!$B$54:$C$84,2,FALSE)="DayOff","",IF(H10=" "," ",IF(H10=12," ",IF(H10<>"",H10+1,IF(I10<Parameters!$O$8,"",1)))))),"") | K10: =IF(DAY(JulSun1)=1,JulSun1+19,JulSun1+26) -> 43672 | L10: =IFERROR(IF(K10=Parameters!$B$68,July!H10+1,IF(VLOOKUP(K10,Parameters!$B$54:$C$84,2,FALSE)="DayOff","",IF(J10=" "," ",IF(J10=12," ",IF(J10<>"",J10+1,IF(K10<Parameters!$O$8,"",1)))))),"") | M10: =IF(DAY(JulSun1)=1,JulSun1+20,JulSun1+27) -> 43673 | O10: =IF(DAY(JulSun1)=1,JulSun1+21,JulSun1+28) -> 43674
C12: =IF(DAY(JulSun1)=1,JulSun1+22,JulSun1+29) -> 43675 | D12: =IFERROR(IF(C12=Parameters!$B$68,July!L10+1,IF(VLOOKUP(July!C12,Parameters!$B$54:$C$84,2,FALSE)="DayOff","",IF(L10=" "," ",IF(L10=12," ",IF(L10<>"",L10+1,IF(C12<Parameters!$O$8,"",1)))))),"") | E12: =IF(DAY(JulSun1)=1,JulSun1+23,JulSun1+30) -> 43676 | F12: =IFERROR(IF(E12=Parameters!$B$68,July!N10+1,IF(VLOOKUP(E12,Parameters!$B$54:$C$84,2,FALSE)="DayOff","",IF(D12=" "," ",IF(D12=12," ",IF(D12<>"",D12+1,IF(E12<Parameters!$O$8,"",1)))))),"") | G12: =IF(DAY(JulSun1)=1,JulSun1+24,JulSun1+31) -> 43677 | H12: =IFERROR(IF(G12=Parameters!$B$68,July!D12+1,IF(VLOOKUP(G12,Parameters!$B$54:$C$84,2,FALSE)="DayOff","",IF(F12=" "," ",IF(F12=12," ",IF(F12<>"",F12+1,IF(G12<Parameters!$O$8,"",1)))))),"") | I12: =IF(DAY(JulSun1)=1,JulSun1+25,JulSun1+32) -> 43678 | J12: =IFERROR(IF(I12=Parameters!$B$68,July!F12+1,IF(VLOOKUP(I12,Parameters!$B$54:$C$84,2,FALSE)="DayOff","",IF(H12=" "," ",IF(H12=12," ",IF(H12<>"",H12+1,IF(I12<Parameters!$O$8,"",1)))))),"") | K12: =IF(DAY(JulSun1)=1,JulSun1+26,JulSun1+33) -> 43679 | L12: =IFERROR(IF(K12=Parameters!$B$68,July!H12+1,IF(VLOOKUP(K12,Parameters!$B$54:$C$84,2,FALSE)="DayOff","",IF(J12=" "," ",IF(J12=12," ",IF(J12<>"",J12+1,IF(K12<Parameters!$O$8,"",1)))))),"") | M12: =IF(DAY(JulSun1)=1,JulSun1+27,JulSun1+34) -> 43680 | O12: =IF(DAY(JulSun1)=1,JulSun1+28,JulSun1+35) -> 43681
C13: Maintenance
C14: =IF(DAY(JulSun1)=1,JulSun1+29,JulSun1+36) -> 43682 | D14: =IFERROR(IF(C14=Parameters!$B$68,July!L12+1,IF(VLOOKUP(July!C14,Parameters!$B$54:$C$84,2,FALSE)="DayOff","",IF(L12=" "," ",IF(L12=12," ",IF(L12<>"",L12+1,IF(C14<Parameters!$O$8,"",1)))))),"") | E14: =IF(DAY(JulSun1)=1,JulSun1+30,JulSun1+37) -> 43683 | F14: =IFERROR(IF(E14=Parameters!$B$68,July!N12+1,IF(VLOOKUP(E14,Parameters!$B$54:$C$84,2,FALSE)="DayOff","",IF(D14=" "," ",IF(D14=12," ",IF(D14<>"",D14+1,IF(E14<Parameters!$O$8,"",1)))))),"") | G14: =IF(DAY(JulSun1)=1,JulSun1+31,JulSun1+38) -> 43684 | H14: =IFERROR(IF(G14=Parameters!$B$68,July!D14+1,IF(VLOOKUP(G14,Parameters!$B$54:$C$84,2,FALSE)="DayOff","",IF(F14=" "," ",IF(F14=12," ",IF(F14<>"",F14+1,IF(G14<Parameters!$O$8,"",1)))))),"") | I14: =IF(DAY(JulSun1)=1,JulSun1+32,JulSun1+39) -> 43685 | J14: =IFERROR(IF(I14=Parameters!$B$68,July!F14+1,IF(VLOOKUP(I14,Parameters!$B$54:$C$84,2,FALSE)="DayOff","",IF(H14=" "," ",IF(H14=12," ",IF(H14<>"",H14+1,IF(I14<Parameters!$O$8,"",1)))))),"") | K14: =IF(DAY(JulSun1)=1,JulSun1+33,JulSun1+40) -> 43686 | L14: =IFERROR(IF(K14=Parameters!$B$68,July!H14+1,IF(VLOOKUP(K14,Parameters!$B$54:$C$84,2,FALSE)="DayOff","",IF(J14=" "," ",IF(J14=12," ",IF(J14<>"",J14+1,IF(K14<Parameters!$O$8,"",1)))))),"") | M14: =IF(DAY(JulSun1)=1,JulSun1+34,JulSun1+41) -> 43687 | O14: =IF(DAY(JulSun1)=1,JulSun1+35,JulSun1+42) -> 43688

Sheet August
B2: =" AUGUST "&Parameters!B14 -> AUGUST 2019
C3: Mon | E3: Tue | G3: Wed | I3: Thu | K3: Fri | M3: Sat | O3: Sun
C4: =IF(DAY(AugSun1)=1,AugSun1-6,AugSun1+1) -> 43675 | D4: =IFERROR(IF(VLOOKUP(C4,Parameters!$D$54:$E$84,2,FALSE)="DayOff","",IF(C4<Parameters!$O$9,"",1)),"") | E4: =IF(DAY(AugSun1)=1,AugSun1-5,AugSun1+2) -> 43676 | F4: =IFERROR(IF(VLOOKUP(August!E4,Parameters!$D$54:$E$84,2,FALSE)="DayOff","",IF(D4=" "," ",IF(D4=12," ",IF(D4<>"",D4+1,IF(E4<Parameters!$O$9,"",1))))),"") | G4: =IF(DAY(AugSun1)=1,AugSun1-4,AugSun1+3) -> 43677 | H4: =IFERROR(IF(G4=Parameters!$D$69,August!D4+1,IF(VLOOKUP(August!G4,Parameters!$D$54:$E$84,2,FALSE)="DayOff","",IF(F4=" "," ",IF(F4=12," ",IF(F4<>"",F4+1,IF(G4<Parameters!$O$9,"",1)))))),"") | I4: =IF(DAY(AugSun1)=1,AugSun1-3,AugSun1+4) -> 43678 | J4: =IFERROR(IF(I4=Parameters!$D$69,August!F4+1,IF(VLOOKUP(August!I4,Parameters!$D$54:$E$84,2,FALSE)="DayOff","",IF(H4=" "," ",IF(H4=12," ",IF(H4<>"",H4+1,IF(I4<Parameters!$O$9,"",1)))))),"") -> 1 | K4: =IF(DAY(AugSun1)=1,AugSun1-2,AugSun1+5) -> 43679 | L4: =IFERROR(IF(K4=Parameters!$D$69,August!H4+1,IF(VLOOKUP(August!K4,Parameters!$D$54:$E$84,2,FALSE)="DayOff","",IF(J4=" "," ",IF(J4=12," ",IF(J4<>"",J4+1,IF(K4<Parameters!$O$9,"",1)))))),"") -> 2 | M4: =IF(DAY(AugSun1)=1,AugSun1-1,AugSun1+6) -> 43680 | O4: =IF(DAY(AugSun1)=1,AugSun1,AugSun1+7) -> 43681
C6: =IF(DAY(AugSun1)=1,AugSun1+1,AugSun1+8) -> 43682 | D6: =IFERROR(IF(C6=Parameters!$D$69,August!J4+1,IF(VLOOKUP(August!C6,Parameters!$D$54:$E$84,2,FALSE)="DayOff","",IF(L4=" "," ",IF(L4=12," ",IF(L4<>"",L4+1,IF(C6<Parameters!$O$9,"",1)))))),"") -> 3 | E6: =IF(DAY(AugSun1)=1,AugSun1+2,AugSun1+9) -> 43683 | F6: =IFERROR(IF(E6=Parameters!$D$69,August!L4+1,IF(VLOOKUP(August!E6,Parameters!$D$54:$E$84,2,FALSE)="DayOff","",IF(D6=" "," ",IF(D6=12," ",IF(D6<>"",D6+1,IF(E6<Parameters!$O$9,"",1)))))),"") -> 4 | G6: =IF(DAY(AugSun1)=1,AugSun1+3,AugSun1+10) -> 43684 | H6: =IFERROR(IF(G6=Parameters!$D$69,August!D6+1,IF(VLOOKUP(August!G6,Parameters!$D$54:$E$84,2,FALSE)="DayOff","",IF(F6=" "," ",IF(F6=12," ",IF(F6<>"",F6+1,IF(G6<Parameters!$O$9,"",1)))))),"") -> 5 | I6: =IF(DAY(AugSun1)=1,AugSun1+4,AugSun1+11) -> 43685 | J6: =IFERROR(IF(I6=Parameters!$D$69,August!F6+1,IF(VLOOKUP(August!I6,Parameters!$D$54:$E$84,2,FALSE)="DayOff","",IF(H6=" "," ",IF(H6=12," ",IF(H6<>"",H6+1,IF(I6<Parameters!$O$9,"",1)))))),"") -> 6 | K6: =IF(DAY(AugSun1)=1,AugSun1+5,AugSun1+12) -> 43686 | L6: =IFERROR(IF(K6=Parameters!$D$69,August!H6+1,IF(VLOOKUP(August!K6,Parameters!$D$54:$E$84,2,FALSE)="DayOff","",IF(J6=" "," ",IF(J6=12," ",IF(J6<>"",J6+1,IF(K6<Parameters!$O$9,"",1)))))),"") -> 7 | M6: =IF(DAY(AugSun1)=1,AugSun1+6,AugSun1+13) -> 43687 | O6: =IF(DAY(AugSun1)=1,AugSun1+7,AugSun1+14) -> 43688
C8: =IF(DAY(AugSun1)=1,AugSun1+8,AugSun1+15) -> 43689 | D8: =IFERROR(IF(C8=Parameters!$D$69,August!J6+1,IF(VLOOKUP(August!C8,Parameters!$D$54:$E$84,2,FALSE)="DayOff","",IF(L6=" "," ",IF(L6=12," ",IF(L6<>"",L6+1,IF(C8<Parameters!$O$9,"",1)))))),"") -> 8 | E8: =IF(DAY(AugSun1)=1,AugSun1+9,AugSun1+16) -> 43690 | F8: =IFERROR(IF(E8=Parameters!$D$69,August!L6+1,IF(VLOOKUP(August!E8,Parameters!$D$54:$E$84,2,FALSE)="DayOff","",IF(D8=" "," ",IF(D8=12," ",IF(D8<>"",D8+1,IF(E8<Parameters!$O$9,"",1)))))),"") -> 9 | G8: =IF(DAY(AugSun1)=1,AugSun1+10,AugSun1+17) -> 43691 | H8: =IFERROR(IF(G8=Parameters!$D$69,August!D8+1,IF(VLOOKUP(August!G8,Parameters!$D$54:$E$84,2,FALSE)="DayOff","",IF(F8=" "," ",IF(F8=12," ",IF(F8<>"",F8+1,IF(G8<Parameters!$O$9,"",1)))))),"") -> 10 | I8: =IF(DAY(AugSun1)=1,AugSun1+11,AugSun1+18) -> 43692 | J8: =IFERROR(IF(I8=Parameters!$D$69,August!F8+1,IF(VLOOKUP(August!I8,Parameters!$D$54:$E$84,2,FALSE)="DayOff","",IF(H8=" "," ",IF(H8=12," ",IF(H8<>"",H8+1,IF(I8<Parameters!$O$9,"",1)))))),"") | K8: =IF(DAY(AugSun1)=1,AugSun1+12,AugSun1+19) -> 43693 | L8: =IFERROR(IF(K8=Parameters!$D$69,August!H8+1,IF(VLOOKUP(August!K8,Parameters!$D$54:$E$84,2,FALSE)="DayOff","",IF(J8=" "," ",IF(J8=12," ",IF(J8<>"",J8+1,IF(K8<Parameters!$O$9,"",1)))))),"") -> 11 | M8: =IF(DAY(AugSun1)=1,AugSun1+13,AugSun1+20) -> 43694 | O8: =IF(DAY(AugSun1)=1,AugSun1+14,AugSun1+21) -> 43695
C10: =IF(DAY(AugSun1)=1,AugSun1+15,AugSun1+22) -> 43696 | D10: =IFERROR(IF(C10=Parameters!$D$69,August!J8+1,IF(VLOOKUP(August!C10,Parameters!$D$54:$E$84,2,FALSE)="DayOff","",IF(L8=" "," ",IF(L8=12," ",IF(L8<>"",L8+1,IF(C10<Parameters!$O$9,"",1)))))),"") -> 12 | E10: =IF(DAY(AugSun1)=1,AugSun1+16,AugSun1+23) -> 43697 | F10: =IFERROR(IF(E10=Parameters!$D$69,August!L8+1,IF(VLOOKUP(August!E10,Parameters!$D$54:$E$84,2,FALSE)="DayOff","",IF(D10=" "," ",IF(D10=12," ",IF(D10<>"",D10+1,IF(E10<Parameters!$O$9,"",1)))))),"") | G10: =IF(DAY(AugSun1)=1,AugSun1+17,AugSun1+24) -> 43698 | H10: =IFERROR(IF(G10=Parameters!$D$69,August!D10+1,IF(VLOOKUP(August!G10,Parameters!$D$54:$E$84,2,FALSE)="DayOff","",IF(F10=" "," ",IF(F10=12," ",IF(F10<>"",F10+1,IF(G10<Parameters!$O$9,"",1)))))),"") | I10: =IF(DAY(AugSun1)=1,AugSun1+18,AugSun1+25) -> 43699 | J10: =IFERROR(IF(I10=Parameters!$D$69,August!F10+1,IF(VLOOKUP(August!I10,Parameters!$D$54:$E$84,2,FALSE)="DayOff","",IF(H10=" "," ",IF(H10=12," ",IF(H10<>"",H10+1,IF(I10<Parameters!$O$9,"",1)))))),"") | K10: =IF(DAY(AugSun1)=1,AugSun1+19,AugSun1+26) -> 43700 | L10: =IFERROR(IF(K10=Parameters!$D$69,August!H10+1,IF(VLOOKUP(August!K10,Parameters!$D$54:$E$84,2,FALSE)="DayOff","",IF(J10=" "," ",IF(J10=12," ",IF(J10<>"",J10+1,IF(K10<Parameters!$O$9,"",1)))))),"") | M10: =IF(DAY(AugSun1)=1,AugSun1+20,AugSun1+27) -> 43701 | O10: =IF(DAY(AugSun1)=1,AugSun1+21,AugSun1+28) -> 43702
I11: Maintenance
C12: =IF(DAY(AugSun1)=1,AugSun1+22,AugSun1+29) -> 43703 | D12: =IFERROR(IF(C12=Parameters!$D$69,August!J10+1,IF(VLOOKUP(August!C12,Parameters!$D$54:$E$84,2,FALSE)="DayOff","",IF(L10=" "," ",IF(L10=12," ",IF(L10<>"",L10+1,IF(C12<Parameters!$O$9,"",1)))))),"") | E12: =IF(DAY(AugSun1)=1,AugSun1+23,AugSun1+30) -> 43704 | F12: =IFERROR(IF(E12=Parameters!$D$69,August!L10+1,IF(VLOOKUP(August!E12,Parameters!$D$54:$E$84,2,FALSE)="DayOff","",IF(D12=" "," ",IF(D12=12," ",IF(D12<>"",D12+1,IF(E12<Parameters!$O$9,"",1)))))),"") | G12: =IF(DAY(AugSun1)=1,AugSun1+24,AugSun1+31) -> 43705 | H12: =IFERROR(IF(G12=Parameters!$D$69,August!D12+1,IF(VLOOKUP(August!G12,Parameters!$D$54:$E$84,2,FALSE)="DayOff","",IF(F12=" "," ",IF(F12=12," ",IF(F12<>"",F12+1,IF(G12<Parameters!$O$9,"",1)))))),"") | I12: =IF(DAY(AugSun1)=1,AugSun1+25,AugSun1+32) -> 43706 | J12: =IFERROR(IF(I12=Parameters!$D$69,August!F12+1,IF(VLOOKUP(August!I12,Parameters!$D$54:$E$84,2,FALSE)="DayOff","",IF(H12=" "," ",IF(H12=12," ",IF(H12<>"",H12+1,IF(I12<Parameters!$O$9,"",1)))))),"") | K12: =IF(DAY(AugSun1)=1,AugSun1+26,AugSun1+33) -> 43707 | L12: =IFERROR(IF(K12=Parameters!$D$69,August!H12+1,IF(VLOOKUP(August!K12,Parameters!$D$54:$E$84,2,FALSE)="DayOff","",IF(J12=" "," ",IF(J12=12," ",IF(J12<>"",J12+1,IF(K12<Parameters!$O$9,"",1)))))),"") | M12: =IF(DAY(AugSun1)=1,AugSun1+27,AugSun1+34) -> 43708 | O12: =IF(DAY(AugSun1)=1,AugSun1+28,AugSun1+35) -> 43709
C14: =IF(DAY(AugSun1)=1,AugSun1+29,AugSun1+36) -> 43710 | D14: =IFERROR(IF(C14=Parameters!$D$69,August!J12+1,IF(VLOOKUP(August!C14,Parameters!$D$54:$E$84,2,FALSE)="DayOff","",IF(L12=" "," ",IF(L12=12," ",IF(L12<>"",L12+1,IF(C14<Parameters!$O$9,"",1)))))),"") | E14: =IF(DAY(AugSun1)=1,AugSun1+30,AugSun1+37) -> 43711 | F14: =IFERROR(IF(E14=Parameters!$D$69,August!L12+1,IF(VLOOKUP(August!E14,Parameters!$D$54:$E$84,2,FALSE)="DayOff","",IF(D14=" "," ",IF(D14=12," ",IF(D14<>"",D14+1,IF(E14<Parameters!$O$9,"",1)))))),"") | G14: =IF(DAY(AugSun1)=1,AugSun1+31,AugSun1+38) -> 43712 | H14: =IFERROR(IF(G14=Parameters!$D$69,August!D14+1,IF(VLOOKUP(August!G14,Parameters!$D$54:$E$84,2,FALSE)="DayOff","",IF(F14=" "," ",IF(F14=12," ",IF(F14<>"",F14+1,IF(G14<Parameters!$O$9,"",1)))))),"") | I14: =IF(DAY(AugSun1)=1,AugSun1+32,AugSun1+39) -> 43713 | J14: =IFERROR(IF(I14=Parameters!$D$69,August!F14+1,IF(VLOOKUP(August!I14,Parameters!$D$54:$E$84,2,FALSE)="DayOff","",IF(H14=" "," ",IF(H14=12," ",IF(H14<>"",H14+1,IF(I14<Parameters!$O$9,"",1)))))),"") | K14: =IF(DAY(AugSun1)=1,AugSun1+33,AugSun1+40) -> 43714 | L14: =IFERROR(IF(K14=Parameters!$D$69,August!H14+1,IF(VLOOKUP(August!K14,Parameters!$D$54:$E$84,2,FALSE)="DayOff","",IF(J14=" "," ",IF(J14=12," ",IF(J14<>"",J14+1,IF(K14<Parameters!$O$9,"",1)))))),"") | M14: =IF(DAY(AugSun1)=1,AugSun1+34,AugSun1+41) -> 43715 | O14: =IF(DAY(AugSun1)=1,AugSun1+35,AugSun1+42) -> 43716

Sheet September
B2: =" SEPTEMBER "&Parameters!B14 -> SEPTEMBER 2019
C3: Mon | E3: Tue | G3: Wed | I3: Thu | K3: Fri | M3: Sat | O3: Sun
C4: =IF(DAY(SepSun1)=1,SepSun1-6,SepSun1+1) -> 43703 | D4: =IFERROR(IF(VLOOKUP(C4,Parameters!$F$54:$G$84,2,FALSE)="DayOff","",IF(C4<Parameters!$O$10,"",1)),"") | E4: =IF(DAY(SepSun1)=1,SepSun1-5,SepSun1+2) -> 43704 | F4: =IFERROR(IF(VLOOKUP(E4,Parameters!$F$54:$G$84,2,FALSE)="DayOff","",IF(D4=" "," ",IF(D4=12," ",IF(D4<>"",D4+1,IF(E4<Parameters!$O$10,"",1))))),"") | G4: =IF(DAY(SepSun1)=1,SepSun1-4,SepSun1+3) -> 43705 | H4: =IFERROR(IF(VLOOKUP(G4,Parameters!$F$54:$G$84,2,FALSE)="DayOff","",IF(F4=" "," ",IF(F4=12," ",IF(F4<>"",F4+1,IF(G4<Parameters!$O$10,"",1))))),"") | I4: =IF(DAY(SepSun1)=1,SepSun1-3,SepSun1+4) -> 43706 | J4: =IFERROR(IF(VLOOKUP(I4,Parameters!$F$54:$G$84,2,FALSE)="DayOff","",IF(H4=" "," ",IF(H4=12," ",IF(H4<>"",H4+1,IF(I4<Parameters!$O$10,"",1))))),"") | K4: =IF(DAY(SepSun1)=1,SepSun1-2,SepSun1+5) -> 43707 | L4: =IFERROR(IF(VLOOKUP(K4,Parameters!$F$54:$G$84,2,FALSE)="DayOff","",IF(J4=" "," ",IF(J4=12," ",IF(J4<>"",J4+1,IF(K4<Parameters!$O$10,"",1))))),"") | M4: =IF(DAY(SepSun1)=1,SepSun1-1,SepSun1+6) -> 43708 | O4: =IF(DAY(SepSun1)=1,SepSun1,SepSun1+7) -> 43709
C6: =IF(DAY(SepSun1)=1,SepSun1+1,SepSun1+8) -> 43710 | D6: =IFERROR(IF(VLOOKUP(C6,Parameters!$F$54:$G$84,2,FALSE)="DayOff","",IF(L4=" "," ",IF(L4=12," ",IF(L4<>"",L4+1,IF(C6<Parameters!$O$10,"",1))))),"") -> 1 | E6: =IF(DAY(SepSun1)=1,SepSun1+2,SepSun1+9) -> 43711 | F6: =IFERROR(IF(VLOOKUP(E6,Parameters!$F$54:$G$84,2,FALSE)="DayOff","",IF(D6=" "," ",IF(D6=12," ",IF(D6<>"",D6+1,IF(E6<Parameters!$O$10,"",1))))),"") -> 2 | G6: =IF(DAY(SepSun1)=1,SepSun1+3,SepSun1+10) -> 43712 | H6: =IFERROR(IF(VLOOKUP(G6,Parameters!$F$54:$G$84,2,FALSE)="DayOff","",IF(F6=" "," ",IF(F6=12," ",IF(F6<>"",F6+1,IF(G6<Parameters!$O$10,"",1))))),"") -> 3 | I6: =IF(DAY(SepSun1)=1,SepSun1+4,SepSun1+11) -> 43713 | J6: =IFERROR(IF(VLOOKUP(I6,Parameters!$F$54:$G$84,2,FALSE)="DayOff","",IF(H6=" "," ",IF(H6=12," ",IF(H6<>"",H6+1,IF(I6<Parameters!$O$10,"",1))))),"") -> 4 | K6: =IF(DAY(SepSun1)=1,SepSun1+5,SepSun1+12) -> 43714 | L6: =IFERROR(IF(VLOOKUP(K6,Parameters!$F$54:$G$84,2,FALSE)="DayOff","",IF(J6=" "," ",IF(J6=12," ",IF(J6<>"",J6+1,IF(K6<Parameters!$O$10,"",1))))),"") -> 5 | M6: =IF(DAY(SepSun1)=1,SepSun1+6,SepSun1+13) -> 43715 | O6: =IF(DAY(SepSun1)=1,SepSun1+7,SepSun1+14) -> 43716
C8: =IF(DAY(SepSun1)=1,SepSun1+8,SepSun1+15) -> 43717 | D8: =IFERROR(IF(VLOOKUP(C8,Parameters!$F$54:$G$84,2,FALSE)="DayOff","",IF(L6=" "," ",IF(L6=12," ",IF(L6<>"",L6+1,IF(C8<Parameters!$O$10,"",1))))),"") -> 6 | E8: =IF(DAY(SepSun1)=1,SepSun1+9,SepSun1+16) -> 43718 | F8: =IFERROR(IF(VLOOKUP(E8,Parameters!$F$54:$G$84,2,FALSE)="DayOff","",IF(D8=" "," ",IF(D8=12," ",IF(D8<>"",D8+1,IF(E8<Parameters!$O$10,"",1))))),"") -> 7 | G8: =IF(DAY(SepSun1)=1,SepSun1+10,SepSun1+17) -> 43719 | H8: =IFERROR(IF(VLOOKUP(G8,Parameters!$F$54:$G$84,2,FALSE)="DayOff","",IF(F8=" "," ",IF(F8=12," ",IF(F8<>"",F8+1,IF(G8<Parameters!$O$10,"",1))))),"") -> 8 | I8: =IF(DAY(SepSun1)=1,SepSun1+11,SepSun1+18) -> 43720 | J8: =IFERROR(IF(VLOOKUP(I8,Parameters!$F$54:$G$84,2,FALSE)="DayOff","",IF(H8=" "," ",IF(H8=12," ",IF(H8<>"",H8+1,IF(I8<Parameters!$O$10,"",1))))),"") -> 9 | K8: =IF(DAY(SepSun1)=1,SepSun1+12,SepSun1+19) -> 43721 | L8: =IFERROR(IF(VLOOKUP(K8,Parameters!$F$54:$G$84,2,FALSE)="DayOff","",IF(J8=" "," ",IF(J8=12," ",IF(J8<>"",J8+1,IF(K8<Parameters!$O$10,"",1))))),"") -> 10 | M8: =IF(DAY(SepSun1)=1,SepSun1+13,SepSun1+20) -> 43722 | O8: =IF(DAY(SepSun1)=1,SepSun1+14,SepSun1+21) -> 43723
C10: =IF(DAY(SepSun1)=1,SepSun1+15,SepSun1+22) -> 43724 | D10: =IFERROR(IF(VLOOKUP(C10,Parameters!$F$54:$G$84,2,FALSE)="DayOff","",IF(L8=" "," ",IF(L8=12," ",IF(L8<>"",L8+1,IF(C10<Parameters!$O$10,"",1))))),"") -> 11 | E10: =IF(DAY(SepSun1)=1,SepSun1+16,SepSun1+23) -> 43725 | F10: =IFERROR(IF(VLOOKUP(E10,Parameters!$F$54:$G$84,2,FALSE)="DayOff","",IF(D10=" "," ",IF(D10=12," ",IF(D10<>"",D10+1,IF(E10<Parameters!$O$10,"",1))))),"") -> 12 | G10: =IF(DAY(SepSun1)=1,SepSun1+17,SepSun1+24) -> 43726 | H10: =IFERROR(IF(VLOOKUP(G10,Parameters!$F$54:$G$84,2,FALSE)="DayOff","",IF(F10=" "," ",IF(F10=12," ",IF(F10<>"",F10+1,IF(G10<Parameters!$O$10,"",1))))),"") | I10: =IF(DAY(SepSun1)=1,SepSun1+18,SepSun1+25) -> 43727 | J10: =IFERROR(IF(VLOOKUP(I10,Parameters!$F$54:$G$84,2,FALSE)="DayOff","",IF(H10=" "," ",IF(H10=12," ",IF(H10<>"",H10+1,IF(I10<Parameters!$O$10,"",1))))),"") | K10: =IF(DAY(SepSun1)=1,SepSun1+19,SepSun1+26) -> 43728 | L10: =IFERROR(IF(VLOOKUP(K10,Parameters!$F$54:$G$84,2,FALSE)="DayOff","",IF(J10=" "," ",IF(J10=12," ",IF(J10<>"",J10+1,IF(K10<Parameters!$O$10,"",1))))),"") | M10: =IF(DAY(SepSun1)=1,SepSun1+20,SepSun1+27) -> 43729 | O10: =IF(DAY(SepSun1)=1,SepSun1+21,SepSun1+28) -> 43730
I11: Maintenance
C12: =IF(DAY(SepSun1)=1,SepSun1+22,SepSun1+29) -> 43731 | D12: =IFERROR(IF(VLOOKUP(C12,Parameters!$F$54:$G$84,2,FALSE)="DayOff","",IF(L10=" "," ",IF(L10=12," ",IF(L10<>"",L10+1,IF(C12<Parameters!$O$10,"",1))))),"") | E12: =IF(DAY(SepSun1)=1,SepSun1+23,SepSun1+30) -> 43732 | F12: =IFERROR(IF(VLOOKUP(E12,Parameters!$F$54:$G$84,2,FALSE)="DayOff","",IF(D12=" "," ",IF(D12=12," ",IF(D12<>"",D12+1,IF(E12<Parameters!$O$10,"",1))))),"") | G12: =IF(DAY(SepSun1)=1,SepSun1+24,SepSun1+31) -> 43733 | H12: =IFERROR(IF(VLOOKUP(G12,Parameters!$F$54:$G$84,2,FALSE)="DayOff","",IF(F12=" "," ",IF(F12=12," ",IF(F12<>"",F12+1,IF(G12<Parameters!$O$10,"",1))))),"") | I12: =IF(DAY(SepSun1)=1,SepSun1+25,SepSun1+32) -> 43734 | J12: =IFERROR(IF(VLOOKUP(I12,Parameters!$F$54:$G$84,2,FALSE)="DayOff","",IF(H12=" "," ",IF(H12=12," ",IF(H12<>"",H12+1,IF(I12<Parameters!$O$10,"",1))))),"") | K12: =IF(DAY(SepSun1)=1,SepSun1+26,SepSun1+33) -> 43735 | L12: =IFERROR(IF(VLOOKUP(K12,Parameters!$F$54:$G$84,2,FALSE)="DayOff","",IF(J12=" "," ",IF(J12=12," ",IF(J12<>"",J12+1,IF(K12<Parameters!$O$10,"",1))))),"") | M12: =IF(DAY(SepSun1)=1,SepSun1+27,SepSun1+34) -> 43736 | O12: =IF(DAY(SepSun1)=1,SepSun1+28,SepSun1+35) -> 43737
C14: =IF(DAY(SepSun1)=1,SepSun1+29,SepSun1+36) -> 43738 | D14: =IFERROR(IF(VLOOKUP(C14,Parameters!$F$54:$G$84,2,FALSE)="DayOff","",IF(L12=" "," ",IF(L12=12," ",IF(L12<>"",L12+1,IF(C14<Parameters!$O$10,"",1))))),"") | E14: =IF(DAY(SepSun1)=1,SepSun1+30,SepSun1+37) -> 43739 | F14: =IFERROR(IF(VLOOKUP(E14,Parameters!$F$54:$G$84,2,FALSE)="DayOff","",IF(D14=" "," ",IF(D14=12," ",IF(D14<>"",D14+1,IF(E14<Parameters!$O$10,"",1))))),"") | G14: =IF(DAY(SepSun1)=1,SepSun1+31,SepSun1+38) -> 43740 | H14: =IFERROR(IF(VLOOKUP(G14,Parameters!$F$54:$G$84,2,FALSE)="DayOff","",IF(F14=" "," ",IF(F14=12," ",IF(F14<>"",F14+1,IF(G14<Parameters!$O$10,"",1))))),"") | I14: =IF(DAY(SepSun1)=1,SepSun1+32,SepSun1+39) -> 43741 | J14: =IFERROR(IF(VLOOKUP(I14,Parameters!$F$54:$G$84,2,FALSE)="DayOff","",IF(H14=" "," ",IF(H14=12," ",IF(H14<>"",H14+1,IF(I14<Parameters!$O$10,"",1))))),"") | K14: =IF(DAY(SepSun1)=1,SepSun1+33,SepSun1+40) -> 43742 | L14: =IFERROR(IF(VLOOKUP(K14,Parameters!$F$54:$G$84,2,FALSE)="DayOff","",IF(J14=" "," ",IF(J14=12," ",IF(J14<>"",J14+1,IF(K14<Parameters!$O$10,"",1))))),"") | M14: =IF(DAY(SepSun1)=1,SepSun1+34,SepSun1+41) -> 43743 | O14: =IF(DAY(SepSun1)=1,SepSun1+35,SepSun1+42) -> 43744

Sheet October
B2: =" OCTOBER "&Parameters!B14 -> OCTOBER 2019
C3: Mon | E3: Tue | G3: Wed | I3: Thu | K3: Fri | M3: Sat | O3: Sun
C4: =IF(DAY(OctSun1)=1,OctSun1-6,OctSun1+1) -> 43738 | D4: =IFERROR(IF(VLOOKUP(C4,Parameters!$H$54:$I$84,2,FALSE)="DayOff","",IF(C4<Parameters!$O$11,"",1)),"") | E4: =IF(DAY(OctSun1)=1,OctSun1-5,OctSun1+2) -> 43739 | F4: =IFERROR(IF(VLOOKUP(E4,Parameters!$H$54:$I$84,2,FALSE)="DayOff","",IF(D4=" "," ",IF(D4=12," ",IF(D4<>"",D4+1,IF(E4<Parameters!$O$11,"",1))))),"") -> 1 | G4: =IF(DAY(OctSun1)=1,OctSun1-4,OctSun1+3) -> 43740 | H4: =IFERROR(IF(VLOOKUP(G4,Parameters!$H$54:$I$84,2,FALSE)="DayOff","",IF(F4=" "," ",IF(F4=12," ",IF(F4<>"",F4+1,IF(G4<Parameters!$O$11,"",1))))),"") -> 2 | I4: =IF(DAY(OctSun1)=1,OctSun1-3,OctSun1+4) -> 43741 | J4: =IFERROR(IF(VLOOKUP(I4,Parameters!$H$54:$I$84,2,FALSE)="DayOff","",IF(H4=" "," ",IF(H4=12," ",IF(H4<>"",H4+1,IF(I4<Parameters!$O$11,"",1))))),"") -> 3 | K4: =IF(DAY(OctSun1)=1,OctSun1-2,OctSun1+5) -> 43742 | L4: =IFERROR(IF(VLOOKUP(K4,Parameters!$H$54:$I$84,2,FALSE)="DayOff","",IF(J4=" "," ",IF(J4=12," ",IF(J4<>"",J4+1,IF(K4<Parameters!$O$11,"",1))))),"") -> 4 | M4: =IF(DAY(OctSun1)=1,OctSun1-1,OctSun1+6) -> 43743 | O4: =IF(DAY(OctSun1)=1,OctSun1,OctSun1+7) -> 43744
C6: =IF(DAY(OctSun1)=1,OctSun1+1,OctSun1+8) -> 43745 | D6: =IFERROR(IF(VLOOKUP(C6,Parameters!$H$54:$I$84,2,FALSE)="DayOff","",IF(L4=" "," ",IF(L4=12," ",IF(L4<>"",L4+1,IF(C6<Parameters!$O$11,"",1))))),"") -> 5 | E6: =IF(DAY(OctSun1)=1,OctSun1+2,OctSun1+9) -> 43746 | F6: =IFERROR(IF(VLOOKUP(E6,Parameters!$H$54:$I$84,2,FALSE)="DayOff","",IF(D6=" "," ",IF(D6=12," ",IF(D6<>"",D6+1,IF(E6<Parameters!$O$11,"",1))))),"") -> 6 | G6: =IF(DAY(OctSun1)=1,OctSun1+3,OctSun1+10) -> 43747 | H6: =IFERROR(IF(VLOOKUP(G6,Parameters!$H$54:$I$84,2,FALSE)="DayOff","",IF(F6=" "," ",IF(F6=12," ",IF(F6<>"",F6+1,IF(G6<Parameters!$O$11,"",1))))),"") -> 7 | I6: =IF(DAY(OctSun1)=1,OctSun1+4,OctSun1+11) -> 43748 | J6: =IFERROR(IF(VLOOKUP(I6,Parameters!$H$54:$I$84,2,FALSE)="DayOff","",IF(H6=" "," ",IF(H6=12," ",IF(H6<>"",H6+1,IF(I6<Parameters!$O$11,"",1))))),"") -> 8 | K6: =IF(DAY(OctSun1)=1,OctSun1+5,OctSun1+12) -> 43749 | L6: =IFERROR(IF(VLOOKUP(K6,Parameters!$H$54:$I$84,2,FALSE)="DayOff","",IF(J6=" "," ",IF(J6=12," ",IF(J6<>"",J6+1,IF(K6<Parameters!$O$11,"",1))))),"") -> 9 | M6: =IF(DAY(OctSun1)=1,OctSun1+6,OctSun1+13) -> 43750 | O6: =IF(DAY(OctSun1)=1,OctSun1+7,OctSun1+14) -> 43751
C8: =IF(DAY(OctSun1)=1,OctSun1+8,OctSun1+15) -> 43752 | D8: =IFERROR(IF(VLOOKUP(C8,Parameters!$H$54:$I$84,2,FALSE)="DayOff","",IF(L6=" "," ",IF(L6=12," ",IF(L6<>"",L6+1,IF(C8<Parameters!$O$11,"",1))))),"") -> 10 | E8: =IF(DAY(OctSun1)=1,OctSun1+9,OctSun1+16) -> 43753 | F8: =IFERROR(IF(VLOOKUP(E8,Parameters!$H$54:$I$84,2,FALSE)="DayOff","",IF(D8=" "," ",IF(D8=12," ",IF(D8<>"",D8+1,IF(E8<Parameters!$O$11,"",1))))),"") -> 11 | G8: =IF(DAY(OctSun1)=1,OctSun1+10,OctSun1+17) -> 43754 | H8: =IFERROR(IF(VLOOKUP(G8,Parameters!$H$54:$I$84,2,FALSE)="DayOff","",IF(F8=" "," ",IF(F8=12," ",IF(F8<>"",F8+1,IF(G8<Parameters!$O$11,"",1))))),"") -> 12 | I8: =IF(DAY(OctSun1)=1,OctSun1+11,OctSun1+18) -> 43755 | J8: =IFERROR(IF(VLOOKUP(I8,Parameters!$H$54:$I$84,2,FALSE)="DayOff","",IF(H8=" "," ",IF(H8=12," ",IF(H8<>"",H8+1,IF(I8<Parameters!$O$11,"",1))))),"") | K8: =IF(DAY(OctSun1)=1,OctSun1+12,OctSun1+19) -> 43756 | L8: =IFERROR(IF(VLOOKUP(K8,Parameters!$H$54:$I$84,2,FALSE)="DayOff","",IF(J8=" "," ",IF(J8=12," ",IF(J8<>"",J8+1,IF(K8<Parameters!$O$11,"",1))))),"") | M8: =IF(DAY(OctSun1)=1,OctSun1+13,OctSun1+20) -> 43757 | N8: =IFERROR(IF(VLOOKUP(M8,Parameters!$H$54:$I$84,2,FALSE)="DayOff","",IF(L8=" "," ",IF(L8=12," ",IF(L8<>"",L8+1,IF(M8<Parameters!$O$11,"",1))))),"") | O8: =IF(DAY(OctSun1)=1,OctSun1+14,OctSun1+21) -> 43758
C10: =IF(DAY(OctSun1)=1,OctSun1+15,OctSun1+22) -> 43759 | D10: =IFERROR(IF(VLOOKUP(C10,Parameters!$H$54:$I$84,2,FALSE)="DayOff","",IF(L8=" "," ",IF(L8=12," ",IF(L8<>"",L8+1,IF(C10<Parameters!$O$11,"",1))))),"") | E10: =IF(DAY(OctSun1)=1,OctSun1+16,OctSun1+23) -> 43760 | F10: =IFERROR(IF(VLOOKUP(E10,Parameters!$H$54:$I$84,2,FALSE)="DayOff","",IF(D10=" "," ",IF(D10=12," ",IF(D10<>"",D10+1,IF(E10<Parameters!$O$11,"",1))))),"") | G10: =IF(DAY(OctSun1)=1,OctSun1+17,OctSun1+24) -> 43761 | H10: =IFERROR(IF(VLOOKUP(G10,Parameters!$H$54:$I$84,2,FALSE)="DayOff","",IF(F10=" "," ",IF(F10=12," ",IF(F10<>"",F10+1,IF(G10<Parameters!$O$11,"",1))))),"") | I10: =IF(DAY(OctSun1)=1,OctSun1+18,OctSun1+25) -> 43762 | J10: =IFERROR(IF(VLOOKUP(I10,Parameters!$H$54:$I$84,2,FALSE)="DayOff","",IF(H10=" "," ",IF(H10=12," ",IF(H10<>"",H10+1,IF(I10<Parameters!$O$11,"",1))))),"") | K10: =IF(DAY(OctSun1)=1,OctSun1+19,OctSun1+26) -> 43763 | L10: =IFERROR(IF(VLOOKUP(K10,Parameters!$H$54:$I$84,2,FALSE)="DayOff","",IF(J10=" "," ",IF(J10=12," ",IF(J10<>"",J10+1,IF(K10<Parameters!$O$11,"",1))))),"") | M10: =IF(DAY(OctSun1)=1,OctSun1+20,OctSun1+27) -> 43764 | O10: =IF(DAY(OctSun1)=1,OctSun1+21,OctSun1+28) -> 43765
E11: Maintenance
C12: =IF(DAY(OctSun1)=1,OctSun1+22,OctSun1+29) -> 43766 | D12: =IFERROR(IF(VLOOKUP(C12,Parameters!$H$54:$I$84,2,FALSE)="DayOff","",IF(L10=" "," ",IF(L10=12," ",IF(L10<>"",L10+1,IF(C12<Parameters!$O$11,"",1))))),"") | E12: =IF(DAY(OctSun1)=1,OctSun1+23,OctSun1+30) -> 43767 | F12: =IFERROR(IF(VLOOKUP(E12,Parameters!$H$54:$I$84,2,FALSE)="DayOff","",IF(D12=" "," ",IF(D12=12," ",IF(D12<>"",D12+1,IF(E12<Parameters!$O$11,"",1))))),"") | G12: =IF(DAY(OctSun1)=1,OctSun1+24,OctSun1+31) -> 43768 | H12: =IFERROR(IF(VLOOKUP(G12,Parameters!$H$54:$I$84,2,FALSE)="DayOff","",IF(F12=" "," ",IF(F12=12," ",IF(F12<>"",F12+1,IF(G12<Parameters!$O$11,"",1))))),"") | I12: =IF(DAY(OctSun1)=1,OctSun1+25,OctSun1+32) -> 43769 | J12: =IFERROR(IF(VLOOKUP(I12,Parameters!$H$54:$I$84,2,FALSE)="DayOff","",IF(H12=" "," ",IF(H12=12," ",IF(H12<>"",H12+1,IF(I12<Parameters!$O$11,"",1))))),"") | K12: =IF(DAY(OctSun1)=1,OctSun1+26,OctSun1+33) -> 43770 | L12: =IFERROR(IF(VLOOKUP(K12,Parameters!$H$54:$I$84,2,FALSE)="DayOff","",IF(J12=" "," ",IF(J12=12," ",IF(J12<>"",J12+1,IF(K12<Parameters!$O$11,"",1))))),"") | M12: =IF(DAY(OctSun1)=1,OctSun1+27,OctSun1+34) -> 43771 | O12: =IF(DAY(OctSun1)=1,OctSun1+28,OctSun1+35) -> 43772
C14: =IF(DAY(OctSun1)=1,OctSun1+29,OctSun1+36) -> 43773 | D14: =IFERROR(IF(VLOOKUP(C14,Parameters!$H$54:$I$84,2,FALSE)="DayOff","",IF(L12=" "," ",IF(L12=12," ",IF(L12<>"",L12+1,IF(C14<Parameters!$O$11,"",1))))),"") | E14: =IF(DAY(OctSun1)=1,OctSun1+30,OctSun1+37) -> 43774 | F14: =IFERROR(IF(VLOOKUP(E14,Parameters!$H$54:$I$84,2,FALSE)="DayOff","",IF(D14=" "," ",IF(D14=12," ",IF(D14<>"",D14+1,IF(E14<Parameters!$O$11,"",1))))),"") | G14: =IF(DAY(OctSun1)=1,OctSun1+31,OctSun1+38) -> 43775 | H14: =IFERROR(IF(VLOOKUP(G14,Parameters!$H$54:$I$84,2,FALSE)="DayOff","",IF(F14=" "," ",IF(F14=12," ",IF(F14<>"",F14+1,IF(G14<Parameters!$O$11,"",1))))),"") | I14: =IF(DAY(OctSun1)=1,OctSun1+32,OctSun1+39) -> 43776 | J14: =IFERROR(IF(VLOOKUP(I14,Parameters!$H$54:$I$84,2,FALSE)="DayOff","",IF(H14=" "," ",IF(H14=12," ",IF(H14<>"",H14+1,IF(I14<Parameters!$O$11,"",1))))),"") | K14: =IF(DAY(OctSun1)=1,OctSun1+33,OctSun1+40) -> 43777 | L14: =IFERROR(IF(VLOOKUP(K14,Parameters!$H$54:$I$84,2,FALSE)="DayOff","",IF(J14=" "," ",IF(J14=12," ",IF(J14<>"",J14+1,IF(K14<Parameters!$O$11,"",1))))),"") | M14: =IF(DAY(OctSun1)=1,OctSun1+34,OctSun1+41) -> 43778 | O14: =IF(DAY(OctSun1)=1,OctSun1+35,OctSun1+42) -> 43779

Sheet November
B2: =" NOVEMBER "&Parameters!B14 -> NOVEMBER 2019
C3: Mon | E3: Tue | G3: Wed | I3: Thu | K3: Fri | M3: Sat | O3: Sun
C4: =IF(DAY(NovSun1)=1,NovSun1-6,NovSun1+1) -> 43766 | D4: =IFERROR(IF(VLOOKUP(November!C4,Parameters!J54:K84,2,FALSE)="DayOff","",IF(C4<Parameters!$O$12,"",1)),"") | E4: =IF(DAY(NovSun1)=1,NovSun1-5,NovSun1+2) -> 43767 | F4: =IFERROR(IF(VLOOKUP(E4,Parameters!$J$54:$K$84,2,FALSE)="DayOff","",IF(D4=" "," ",IF(D4=12," ",IF(D4<>"",D4+1,IF(E4<Parameters!$O$12,"",1))))),"") | G4: =IF(DAY(NovSun1)=1,NovSun1-4,NovSun1+3) -> 43768 | H4: =IFERROR(IF(G4=Parameters!$J$65,November!D4+1,IF(VLOOKUP(November!G4,Parameters!$J$54:$K$84,2,FALSE)="DayOff","",IF(F4=" "," ",IF(F4=12," ",IF(F4<>"",F4+1,IF(G4<Parameters!$O$12,"",1)))))),"") | I4: =IF(DAY(NovSun1)=1,NovSun1-3,NovSun1+4) -> 43769 | J4: =IFERROR(IF(I4=Parameters!$J$65,November!F4+1,IF(VLOOKUP(November!I4,Parameters!$J$54:$K$84,2,FALSE)="DayOff","",IF(H4=" "," ",IF(H4=12," ",IF(H4<>"",H4+1,IF(I4<Parameters!$O$12,"",1)))))),"") | K4: =IF(DAY(NovSun1)=1,NovSun1-2,NovSun1+5) -> 43770 | L4: =IFERROR(IF(K4=Parameters!$J$65,November!H4+1,IF(VLOOKUP(November!K4,Parameters!$J$54:$K$84,2,FALSE)="DayOff","",IF(J4=" "," ",IF(J4=12," ",IF(J4<>"",J4+1,IF(K4<Parameters!$O$12,"",1)))))),"") | M4: =IF(DAY(NovSun1)=1,NovSun1-1,NovSun1+6) -> 43771 | O4: =IF(DAY(NovSun1)=1,NovSun1,NovSun1+7) -> 43772
C6: =IF(DAY(NovSun1)=1,NovSun1+1,NovSun1+8) -> 43773 | D6: =IFERROR(IF(C6=Parameters!$J$65,November!J4+1,IF(VLOOKUP(November!C6,Parameters!$J$54:$K$84,2,FALSE)="DayOff","",IF(L4=" "," ",IF(L4=12," ",IF(L4<>"",L4+1,IF(C6<Parameters!$O$12,"",1)))))),"") -> 1 | E6: =IF(DAY(NovSun1)=1,NovSun1+2,NovSun1+9) -> 43774 | F6: =IFERROR(IF(E6=Parameters!$J$65,November!L4+1,IF(VLOOKUP(November!E6,Parameters!$J$54:$K$84,2,FALSE)="DayOff","",IF(D6=" "," ",IF(D6=12," ",IF(D6<>"",D6+1,IF(E6<Parameters!$O$12,"",1)))))),"") -> 2 | G6: =IF(DAY(NovSun1)=1,NovSun1+3,NovSun1+10) -> 43775 | H6: =IFERROR(IF(G6=Parameters!$J$65,November!D6+1,IF(VLOOKUP(November!G6,Parameters!$J$54:$K$84,2,FALSE)="DayOff","",IF(F6=" "," ",IF(F6=12," ",IF(F6<>"",F6+1,IF(G6<Parameters!$O$12,"",1)))))),"") -> 3 | I6: =IF(DAY(NovSun1)=1,NovSun1+4,NovSun1+11) -> 43776 | J6: =IFERROR(IF(I6=Parameters!$J$65,November!F6+1,IF(VLOOKUP(November!I6,Parameters!$J$54:$K$84,2,FALSE)="DayOff","",IF(H6=" "," ",IF(H6=12," ",IF(H6<>"",H6+1,IF(I6<Parameters!$O$12,"",1)))))),"") -> 4 | K6: =IF(DAY(NovSun1)=1,NovSun1+5,NovSun1+12) -> 43777 | L6: =IFERROR(IF(K6=Parameters!$J$65,November!H6+1,IF(VLOOKUP(November!K6,Parameters!$J$54:$K$84,2,FALSE)="DayOff","",IF(J6=" "," ",IF(J6=12," ",IF(J6<>"",J6+1,IF(K6<Parameters!$O$12,"",1)))))),"") -> 5 | M6: =IF(DAY(NovSun1)=1,NovSun1+6,NovSun1+13) -> 43778 | O6: =IF(DAY(NovSun1)=1,NovSun1+7,NovSun1+14) -> 43779
C8: =IF(DAY(NovSun1)=1,NovSun1+8,NovSun1+15) -> 43780 | D8: =IFERROR(IF(C8=Parameters!$J$65,November!J6+1,IF(VLOOKUP(November!C8,Parameters!$J$54:$K$84,2,FALSE)="DayOff","",IF(L6=" "," ",IF(L6=12," ",IF(L6<>"",L6+1,IF(C8<Parameters!$O$12,"",1)))))),"") | E8: =IF(DAY(NovSun1)=1,NovSun1+9,NovSun1+16) -> 43781 | F8: =IFERROR(IF(E8=Parameters!$J$65,November!L6+1,IF(VLOOKUP(November!E8,Parameters!$J$54:$K$84,2,FALSE)="DayOff","",IF(D8=" "," ",IF(D8=12," ",IF(D8<>"",D8+1,IF(E8<Parameters!$O$12,"",1)))))),"") -> 6 | G8: =IF(DAY(NovSun1)=1,NovSun1+10,NovSun1+17) -> 43782 | H8: =IFERROR(IF(G8=Parameters!$J$65,November!D8+1,IF(VLOOKUP(November!G8,Parameters!$J$54:$K$84,2,FALSE)="DayOff","",IF(F8=" "," ",IF(F8=12," ",IF(F8<>"",F8+1,IF(G8<Parameters!$O$12,"",1)))))),"") -> 7 | I8: =IF(DAY(NovSun1)=1,NovSun1+11,NovSun1+18) -> 43783 | J8: =IFERROR(IF(I8=Parameters!$J$65,November!F8+1,IF(VLOOKUP(November!I8,Parameters!$J$54:$K$84,2,FALSE)="DayOff","",IF(H8=" "," ",IF(H8=12," ",IF(H8<>"",H8+1,IF(I8<Parameters!$O$12,"",1)))))),"") -> 8 | K8: =IF(DAY(NovSun1)=1,NovSun1+12,NovSun1+19) -> 43784 | L8: =IFERROR(IF(K8=Parameters!$J$65,November!H8+1,IF(VLOOKUP(November!K8,Parameters!$J$54:$K$84,2,FALSE)="DayOff","",IF(J8=" "," ",IF(J8=12," ",IF(J8<>"",J8+1,IF(K8<Parameters!$O$12,"",1)))))),"") -> 9 | M8: =IF(DAY(NovSun1)=1,NovSun1+13,NovSun1+20) -> 43785 | O8: =IF(DAY(NovSun1)=1,NovSun1+14,NovSun1+21) -> 43786
C10: =IF(DAY(NovSun1)=1,NovSun1+15,NovSun1+22) -> 43787 | D10: =IFERROR(IF(C10=Parameters!$J$65,November!J8+1,IF(VLOOKUP(November!C10,Parameters!$J$54:$K$84,2,FALSE)="DayOff","",IF(L8=" "," ",IF(L8=12," ",IF(L8<>"",L8+1,IF(C10<Parameters!$O$12,"",1)))))),"") -> 10 | E10: =IF(DAY(NovSun1)=1,NovSun1+16,NovSun1+23) -> 43788 | F10: =IFERROR(IF(E10=Parameters!$J$65,November!L8+1,IF(VLOOKUP(November!E10,Parameters!$J$54:$K$84,2,FALSE)="DayOff","",IF(D10=" "," ",IF(D10=12," ",IF(D10<>"",D10+1,IF(E10<Parameters!$O$12,"",1)))))),"") -> 11 | G10: =IF(DAY(NovSun1)=1,NovSun1+17,NovSun1+24) -> 43789 | H10: =IFERROR(IF(G10=Parameters!$J$65,November!D10+1,IF(VLOOKUP(November!G10,Parameters!$J$54:$K$84,2,FALSE)="DayOff","",IF(F10=" "," ",IF(F10=12," ",IF(F10<>"",F10+1,IF(G10<Parameters!$O$12,"",1)))))),"") -> 12 | I10: =IF(DAY(NovSun1)=1,NovSun1+18,NovSun1+25) -> 43790 | J10: =IFERROR(IF(I10=Parameters!$J$65,November!F10+1,IF(VLOOKUP(November!I10,Parameters!$J$54:$K$84,2,FALSE)="DayOff","",IF(H10=" "," ",IF(H10=12," ",IF(H10<>"",H10+1,IF(I10<Parameters!$O$12,"",1)))))),"") | K10: =IF(DAY(NovSun1)=1,NovSun1+19,NovSun1+26) -> 43791 | L10: =IFERROR(IF(K10=Parameters!$J$65,November!H10+1,IF(VLOOKUP(November!K10,Parameters!$J$54:$K$84,2,FALSE)="DayOff","",IF(J10=" "," ",IF(J10=12," ",IF(J10<>"",J10+1,IF(K10<Parameters!$O$12,"",1)))))),"") | M10: =IF(DAY(NovSun1)=1,NovSun1+20,NovSun1+27) -> 43792 | O10: =IF(DAY(NovSun1)=1,NovSun1+21,NovSun1+28) -> 43793
I11: Maintenance
C12: =IF(DAY(NovSun1)=1,NovSun1+22,NovSun1+29) -> 43794 | D12: =IFERROR(IF(C12=Parameters!$J$65,November!J10+1,IF(VLOOKUP(November!C12,Parameters!$J$54:$K$84,2,FALSE)="DayOff","",IF(L10=" "," ",IF(L10=12," ",IF(L10<>"",L10+1,IF(C12<Parameters!$O$12,"",1)))))),"") | E12: =IF(DAY(NovSun1)=1,NovSun1+23,NovSun1+30) -> 43795 | F12: =IFERROR(IF(E12=Parameters!$J$65,November!L10+1,IF(VLOOKUP(November!E12,Parameters!$J$54:$K$84,2,FALSE)="DayOff","",IF(D12=" "," ",IF(D12=12," ",IF(D12<>"",D12+1,IF(E12<Parameters!$O$12,"",1)))))),"") | G12: =IF(DAY(NovSun1)=1,NovSun1+24,NovSun1+31) -> 43796 | H12: =IFERROR(IF(G12=Parameters!$J$65,November!D12+1,IF(VLOOKUP(November!G12,Parameters!$J$54:$K$84,2,FALSE)="DayOff","",IF(F12=" "," ",IF(F12=12," ",IF(F12<>"",F12+1,IF(G12<Parameters!$O$12,"",1)))))),"") | I12: =IF(DAY(NovSun1)=1,NovSun1+25,NovSun1+32) -> 43797 | J12: =IFERROR(IF(I12=Parameters!$J$65,November!F12+1,IF(VLOOKUP(November!I12,Parameters!$J$54:$K$84,2,FALSE)="DayOff","",IF(H12=" "," ",IF(H12=12," ",IF(H12<>"",H12+1,IF(I12<Parameters!$O$12,"",1)))))),"") | K12: =IF(DAY(NovSun1)=1,NovSun1+26,NovSun1+33) -> 43798 | L12: =IFERROR(IF(K12=Parameters!$J$65,November!H12+1,IF(VLOOKUP(November!K12,Parameters!$J$54:$K$84,2,FALSE)="DayOff","",IF(J12=" "," ",IF(J12=12," ",IF(J12<>"",J12+1,IF(K12<Parameters!$O$12,"",1)))))),"") | M12: =IF(DAY(NovSun1)=1,NovSun1+27,NovSun1+34) -> 43799 | O12: =IF(DAY(NovSun1)=1,NovSun1+28,NovSun1+35) -> 43800
C14: =IF(DAY(NovSun1)=1,NovSun1+29,NovSun1+36) -> 43801 | D14: =IFERROR(IF(C14=Parameters!$J$65,November!J12+1,IF(VLOOKUP(November!C14,Parameters!$J$54:$K$84,2,FALSE)="DayOff","",IF(L12=" "," ",IF(L12=12," ",IF(L12<>"",L12+1,IF(C14<Parameters!$O$12,"",1)))))),"") | E14: =IF(DAY(NovSun1)=1,NovSun1+30,NovSun1+37) -> 43802 | F14: =IFERROR(IF(E14=Parameters!$J$65,November!L12+1,IF(VLOOKUP(November!E14,Parameters!$J$54:$K$84,2,FALSE)="DayOff","",IF(D14=" "," ",IF(D14=12," ",IF(D14<>"",D14+1,IF(E14<Parameters!$O$12,"",1)))))),"") | G14: =IF(DAY(NovSun1)=1,NovSun1+31,NovSun1+38) -> 43803 | H14: =IFERROR(IF(G14=Parameters!$J$65,November!D14+1,IF(VLOOKUP(November!G14,Parameters!$J$54:$K$84,2,FALSE)="DayOff","",IF(F14=" "," ",IF(F14=12," ",IF(F14<>"",F14+1,IF(G14<Parameters!$O$12,"",1)))))),"") | I14: =IF(DAY(NovSun1)=1,NovSun1+32,NovSun1+39) -> 43804 | J14: =IFERROR(IF(I14=Parameters!$J$65,November!F14+1,IF(VLOOKUP(November!I14,Parameters!$J$54:$K$84,2,FALSE)="DayOff","",IF(H14=" "," ",IF(H14=12," ",IF(H14<>"",H14+1,IF(I14<Parameters!$O$12,"",1)))))),"") | K14: =IF(DAY(NovSun1)=1,NovSun1+33,NovSun1+40) -> 43805 | L14: =IFERROR(IF(K14=Parameters!$J$65,November!H14+1,IF(VLOOKUP(November!K14,Parameters!$J$54:$K$84,2,FALSE)="DayOff","",IF(J14=" "," ",IF(J14=12," ",IF(J14<>"",J14+1,IF(K14<Parameters!$O$12,"",1)))))),"") | M14: =IF(DAY(NovSun1)=1,NovSun1+34,NovSun1+41) -> 43806 | O14: =IF(DAY(NovSun1)=1,NovSun1+35,NovSun1+42) -> 43807

Sheet December
B2: =" DECEMBER "&Parameters!B14 -> DECEMBER 2019
C3: Mon | E3: Tues | G3: Wed | I3: Thu | K3: Fri | M3: Sat | O3: Sun
C4: =IF(DAY(DecSun1)=1,DecSun1-6,DecSun1+1) -> 43794 | D4: =IFERROR(IF(VLOOKUP(C4,Parameters!$L$54:$M$84,2,FALSE)="DayOff","",IF(C4<Parameters!$O$13,"",1)),"") | E4: =IF(DAY(DecSun1)=1,DecSun1-5,DecSun1+2) -> 43795 | F4: =IFERROR(IF(E4=Parameters!$L$79," ",IF(VLOOKUP(December!E4,Parameters!$L$54:$M$84,2,FALSE)="DayOff","",IF(D4=" "," ",IF(D4=12," ",IF(D4<>"",D4+1,IF(E4<Parameters!$O$13,"",1)))))),"") | G4: =IF(DAY(DecSun1)=1,DecSun1-4,DecSun1+3) -> 43796 | H4: =IFERROR(IF(G4=Parameters!$L$79," ",IF(VLOOKUP(December!G4,Parameters!$L$54:$M$84,2,FALSE)="DayOff","",IF(F4=" "," ",IF(F4=12," ",IF(F4<>"",F4+1,IF(G4<Parameters!$O$13,"",1)))))),"") | I4: =IF(DAY(DecSun1)=1,DecSun1-3,DecSun1+4) -> 43797 | J4: =IFERROR(IF(I4=Parameters!$L$79," ",IF(VLOOKUP(December!I4,Parameters!$L$54:$M$84,2,FALSE)="DayOff","",IF(H4=" "," ",IF(H4=12," ",IF(H4<>"",H4+1,IF(I4<Parameters!$O$13,"",1)))))),"") | K4: =IF(DAY(DecSun1)=1,DecSun1-2,DecSun1+5) -> 43798 | L4: =IFERROR(IF(K4=Parameters!$L$79," ",IF(VLOOKUP(December!K4,Parameters!$L$54:$M$84,2,FALSE)="DayOff","",IF(J4=" "," ",IF(J4=12," ",IF(J4<>"",J4+1,IF(K4<Parameters!$O$13,"",1)))))),"") | M4: =IF(DAY(DecSun1)=1,DecSun1-1,DecSun1+6) -> 43799 | O4: =IF(DAY(DecSun1)=1,DecSun1,DecSun1+7) -> 43800
C6: =IF(DAY(DecSun1)=1,DecSun1+1,DecSun1+8) -> 43801 | D6: =IFERROR(IF(C6=Parameters!$L$79,December!J4+1,IF(VLOOKUP(December!C6,Parameters!$L$54:$M$84,2,FALSE)="DayOff","",IF(L4=" "," ",IF(L4=12," ",IF(L4<>"",L4+1,IF(C6<Parameters!$O$13,"",1)))))),"") -> 1 | E6: =IF(DAY(DecSun1)=1,DecSun1+2,DecSun1+9) -> 43802 | F6: =IFERROR(IF(E6=Parameters!$L$79," ",IF(VLOOKUP(December!E6,Parameters!$L$54:$M$84,2,FALSE)="DayOff","",IF(D6=" "," ",IF(D6=12," ",IF(D6<>"",D6+1,IF(E6<Parameters!$O$13,"",1)))))),"") -> 2 | G6: =IF(DAY(DecSun1)=1,DecSun1+3,DecSun1+10) -> 43803 | H6: =IFERROR(IF(G6=Parameters!$L$79," ",IF(VLOOKUP(December!G6,Parameters!$L$54:$M$84,2,FALSE)="DayOff","",IF(F6=" "," ",IF(F6=12," ",IF(F6<>"",F6+1,IF(G6<Parameters!$O$13,"",1)))))),"") -> 3 | I6: =IF(DAY(DecSun1)=1,DecSun1+4,DecSun1+11) -> 43804 | J6: =IFERROR(IF(I6=Parameters!$L$79," ",IF(VLOOKUP(December!I6,Parameters!$L$54:$M$84,2,FALSE)="DayOff","",IF(H6=" "," ",IF(H6=12," ",IF(H6<>"",H6+1,IF(I6<Parameters!$O$13,"",1)))))),"") -> 4 | K6: =IF(DAY(DecSun1)=1,DecSun1+5,DecSun1+12) -> 43805 | L6: =IFERROR(IF(K6=Parameters!$L$79," ",IF(VLOOKUP(December!K6,Parameters!$L$54:$M$84,2,FALSE)="DayOff","",IF(J6=" "," ",IF(J6=12," ",IF(J6<>"",J6+1,IF(K6<Parameters!$O$13,"",1)))))),"") -> 5 | M6: =IF(DAY(DecSun1)=1,DecSun1+6,DecSun1+13) -> 43806 | O6: =IF(DAY(DecSun1)=1,DecSun1+7,DecSun1+14) -> 43807
C8: =IF(DAY(DecSun1)=1,DecSun1+8,DecSun1+15) -> 43808 | D8: =IFERROR(IF(C8=Parameters!$L$79,December!J6+1,IF(VLOOKUP(December!C8,Parameters!$L$54:$M$84,2,FALSE)="DayOff","",IF(L6=" "," ",IF(L6=12," ",IF(L6<>"",L6+1,IF(C8<Parameters!$O$13,"",1)))))),"") -> 6 | E8: =IF(DAY(DecSun1)=1,DecSun1+9,DecSun1+16) -> 43809 | F8: =IFERROR(IF(E8=Parameters!$L$79," ",IF(VLOOKUP(December!E8,Parameters!$L$54:$M$84,2,FALSE)="DayOff","",IF(D8=" "," ",IF(D8=12," ",IF(D8<>"",D8+1,IF(E8<Parameters!$O$13,"",1)))))),"") -> 7 | G8: =IF(DAY(DecSun1)=1,DecSun1+10,DecSun1+17) -> 43810 | H8: =IFERROR(IF(G8=Parameters!$L$79," ",IF(VLOOKUP(December!G8,Parameters!$L$54:$M$84,2,FALSE)="DayOff","",IF(F8=" "," ",IF(F8=12," ",IF(F8<>"",F8+1,IF(G8<Parameters!$O$13,"",1)))))),"") -> 8 | I8: =IF(DAY(DecSun1)=1,DecSun1+11,DecSun1+18) -> 43811 | J8: =IFERROR(IF(I8=Parameters!$L$79," ",IF(VLOOKUP(December!I8,Parameters!$L$54:$M$84,2,FALSE)="DayOff","",IF(H8=" "," ",IF(H8=12," ",IF(H8<>"",H8+1,IF(I8<Parameters!$O$13,"",1)))))),"") -> 9 | K8: =IF(DAY(DecSun1)=1,DecSun1+12,DecSun1+19) -> 43812 | L8: =IFERROR(IF(K8=Parameters!$L$79," ",IF(VLOOKUP(December!K8,Parameters!$L$54:$M$84,2,FALSE)="DayOff","",IF(J8=" "," ",IF(J8=12," ",IF(J8<>"",J8+1,IF(K8<Parameters!$O$13,"",1)))))),"") -> 10 | M8: =IF(DAY(DecSun1)=1,DecSun1+13,DecSun1+20) -> 43813 | O8: =IF(DAY(DecSun1)=1,DecSun1+14,DecSun1+21) -> 43814
C10: =IF(DAY(DecSun1)=1,DecSun1+15,DecSun1+22) -> 43815 | D10: =IFERROR(IF(C10=Parameters!$L$79,December!J8+1,IF(VLOOKUP(December!C10,Parameters!$L$54:$M$84,2,FALSE)="DayOff","",IF(L8=" "," ",IF(L8=12," ",IF(L8<>"",L8+1,IF(C10<Parameters!$O$13,"",1)))))),"") -> 11 | E10: =IF(DAY(DecSun1)=1,DecSun1+16,DecSun1+23) -> 43816 | F10: =IFERROR(IF(E10=Parameters!$L$79," ",IF(VLOOKUP(December!E10,Parameters!$L$54:$M$84,2,FALSE)="DayOff","",IF(D10=" "," ",IF(D10=12," ",IF(D10<>"",D10+1,IF(E10<Parameters!$O$13,"",1)))))),"") -> 12 | G10: =IF(DAY(DecSun1)=1,DecSun1+17,DecSun1+24) -> 43817 | H10: =IFERROR(IF(G10=Parameters!$L$79," ",IF(VLOOKUP(December!G10,Parameters!$L$54:$M$84,2,FALSE)="DayOff","",IF(F10=" "," ",IF(F10=12," ",IF(F10<>"",F10+1,IF(G10<Parameters!$O$13,"",1)))))),"") | I10: =IF(DAY(DecSun1)=1,DecSun1+18,DecSun1+25) -> 43818 | J10: =IFERROR(IF(I10=Parameters!$L$79," ",IF(VLOOKUP(December!I10,Parameters!$L$54:$M$84,2,FALSE)="DayOff","",IF(H10=" "," ",IF(H10=12," ",IF(H10<>"",H10+1,IF(I10<Parameters!$O$13,"",1)))))),"") | K10: =IF(DAY(DecSun1)=1,DecSun1+19,DecSun1+26) -> 43819 | L10: =IFERROR(IF(K10=Parameters!$L$79," ",IF(VLOOKUP(December!K10,Parameters!$L$54:$M$84,2,FALSE)="DayOff","",IF(J10=" "," ",IF(J10=12," ",IF(J10<>"",J10+1,IF(K10<Parameters!$O$13,"",1)))))),"") | M10: =IF(DAY(DecSun1)=1,DecSun1+20,DecSun1+27) -> 43820 | O10: =IF(DAY(DecSun1)=1,DecSun1+21,DecSun1+28) -> 43821
I11: Maintenance
C12: =IF(DAY(DecSun1)=1,DecSun1+22,DecSun1+29) -> 43822 | D12: =IFERROR(IF(C12=Parameters!$L$79,December!J10+1,IF(VLOOKUP(December!C12,Parameters!$L$54:$M$84,2,FALSE)="DayOff","",IF(L10=" "," ",IF(L10=12," ",IF(L10<>"",L10+1,IF(C12<Parameters!$O$13,"",1)))))),"") | E12: =IF(DAY(DecSun1)=1,DecSun1+23,DecSun1+30) -> 43823 | F12: =IFERROR(IF(E12=Parameters!$L$79," ",IF(VLOOKUP(December!E12,Parameters!$L$54:$M$84,2,FALSE)="DayOff","",IF(D12=" "," ",IF(D12=12," ",IF(D12<>"",D12+1,IF(E12<Parameters!$O$13,"",1)))))),"") | G12: =IF(DAY(DecSun1)=1,DecSun1+24,DecSun1+31) -> 43824 | H12: =IFERROR(IF(G12=Parameters!$L$79," ",IF(VLOOKUP(December!G12,Parameters!$L$54:$M$84,2,FALSE)="DayOff","",IF(F12=" "," ",IF(F12=12," ",IF(F12<>"",F12+1,IF(G12<Parameters!$O$13,"",1)))))),"") | I12: =IF(DAY(DecSun1)=1,DecSun1+25,DecSun1+32) -> 43825 | J12: =IFERROR(IF(I12=Parameters!$L$79,December!F12+1,IF(VLOOKUP(December!I12,Parameters!$L$54:$M$84,2,FALSE)="DayOff","",IF(H12=" "," ",IF(H12=12," ",IF(H12<>"",H12+1,IF(I12<Parameters!$O$13,"",1)))))),"") | K12: =IF(DAY(DecSun1)=1,DecSun1+26,DecSun1+33) -> 43826 | L12: =IFERROR(IF(K12=Parameters!$L$79," ",IF(VLOOKUP(December!K12,Parameters!$L$54:$M$84,2,FALSE)="DayOff","",IF(J12=" "," ",IF(J12=12," ",IF(J12<>"",J12+1,IF(K12<Parameters!$O$13,"",1)))))),"") -> 1 | M12: =IF(DAY(DecSun1)=1,DecSun1+27,DecSun1+34) -> 43827 | O12: =IF(DAY(DecSun1)=1,DecSun1+28,DecSun1+35) -> 43828
C14: =IF(DAY(DecSun1)=1,DecSun1+29,DecSun1+36) -> 43829 | D14: =IFERROR(IF(C14=Parameters!$L$79,December!J12+1,IF(VLOOKUP(December!C14,Parameters!$L$54:$M$84,2,FALSE)="DayOff","",IF(L12=" "," ",IF(L12=12," ",IF(L12<>"",L12+1,IF(C14<Parameters!$O$13,"",1)))))),"") -> 2 | E14: =IF(DAY(DecSun1)=1,DecSun1+30,DecSun1+37) -> 43830 | F14: =IFERROR(IF(E14=Parameters!$L$79," ",IF(VLOOKUP(December!E14,Parameters!$L$54:$M$84,2,FALSE)="DayOff","",IF(D14=" "," ",IF(D14=12," ",IF(D14<>"",D14+1,IF(E14<Parameters!$O$13,"",1)))))),"") -> 3 | G14: =IF(DAY(DecSun1)=1,DecSun1+31,DecSun1+38) -> 43831 | H14: =IFERROR(IF(G14=Parameters!$L$79," ",IF(VLOOKUP(December!G14,Parameters!$L$54:$M$84,2,FALSE)="DayOff","",IF(F14=" "," ",IF(F14=12," ",IF(F14<>"",F14+1,IF(G14<Parameters!$O$13,"",1)))))),"") | I14: =IF(DAY(DecSun1)=1,DecSun1+32,DecSun1+39) -> 43832 | J14: =IFERROR(IF(I14=Parameters!$L$79," ",IF(VLOOKUP(December!I14,Parameters!$L$54:$M$84,2,FALSE)="DayOff","",IF(H14=" "," ",IF(H14=12," ",IF(H14<>"",H14+1,IF(I14<Parameters!$O$13,"",1)))))),"") | K14: =IF(DAY(DecSun1)=1,DecSun1+33,DecSun1+40) -> 43833 | L14: =IFERROR(IF(K14=Parameters!$L$79," ",IF(VLOOKUP(December!K14,Parameters!$L$54:$M$84,2,FALSE)="DayOff","",IF(J14=" "," ",IF(J14=12," ",IF(J14<>"",J14+1,IF(K14<Parameters!$O$13,"",1)))))),"") | M14: =IF(DAY(DecSun1)=1,DecSun1+34,DecSun1+41) -> 43834 | O14: =IF(DAY(DecSun1)=1,DecSun1+35,DecSun1+42) -> 43835
