Workbook
Name AprSun1: DATE(CalendarYear,4,1)-WEEKDAY(DATE(CalendarYear,4,1))+1
Name AugSun1: DATE(CalendarYear,8,1)-WEEKDAY(DATE(CalendarYear,8,1))+1
Name CalendarYear: January!$W$1
Name DecSun1: DATE(CalendarYear,12,1)-WEEKDAY(DATE(CalendarYear,12,1))+1
Name FebSun1: DATE(CalendarYear,2,1)-WEEKDAY(DATE(CalendarYear,2,1))+1
Name JanSun1: DATE([0]!CalendarYear,1,1)-WEEKDAY(DATE([0]!CalendarYear,1,1))+1
Name JanSun1: DATE(CalendarYear,1,1)-WEEKDAY(DATE(CalendarYear,1,1))+1
Name JulSun1: DATE(CalendarYear,7,1)-WEEKDAY(DATE(CalendarYear,7,1))+1
Name JunSun1: DATE(CalendarYear,6,1)-WEEKDAY(DATE(CalendarYear,6,1))+1
Name Mar_Dim1: DATE(Année_Calendaire,3,1)-WEEKDAY(DATE(Année_Calendaire,3,1))+1
Name MarSun1: DATE(CalendarYear,3,1)-WEEKDAY(DATE(CalendarYear,3,1))+1
Name MaySun1: DATE(CalendarYear,5,1)-WEEKDAY(DATE(CalendarYear,5,1))+1
Name NovSun1: DATE(CalendarYear,11,1)-WEEKDAY(DATE(CalendarYear,11,1))+1
Name OctSun1: DATE(CalendarYear,10,1)-WEEKDAY(DATE(CalendarYear,10,1))+1
Name SepSun1: DATE(CalendarYear,9,1)-WEEKDAY(DATE(CalendarYear,9,1))+1

Sheet Parameters
M1: N° month | N1: Month | O1: 1st day | P1: Last day
M2: 1 | N2: January | O2: =DATE($B$14,M2,1) -> 43101 | P2: =EOMONTH(O2,0) -> 43131
M3: 2 | N3: February | O3: =DATE($B$14,M3,1) -> 43132 | P3: =EOMONTH(O3,0) -> 43159
M4: 3 | N4: March | O4: =DATE($B$14,M4,1) -> 43160 | P4: =EOMONTH(O4,0) -> 43190
M5: 4 | N5: April | O5: =DATE($B$14,M5,1) -> 43191 | P5: =EOMONTH(O5,0) -> 43220
M6: 5 | N6: May | O6: =DATE($B$14,M6,1) -> 43221 | P6: =EOMONTH(O6,0) -> 43251
M7: 6 | N7: June | O7: =DATE($B$14,M7,1) -> 43252 | P7: =EOMONTH(O7,0) -> 43281
M8: 7 | N8: July | O8: =DATE($B$14,M8,1) -> 43282 | P8: =EOMONTH(O8,0) -> 43312
M9: 8 | N9: August | O9: =DATE($B$14,M9,1) -> 43313 | P9: =EOMONTH(O9,0) -> 43343
M10: 9 | N10: September | O10: =DATE($B$14,M10,1) -> 43344 | P10: =EOMONTH(O10,0) -> 43373
M11: 10 | N11: October | O11: =DATE($B$14,M11,1) -> 43374 | P11: =EOMONTH(O11,0) -> 43404
M12: 11 | N12: November | O12: =DATE($B$14,M12,1) -> 43405 | P12: =EOMONTH(O12,0) -> 43434
M13: 12 | N13: December | O13: =DATE($B$14,M13,1) -> 43435 | P13: =EOMONTH(O13,0) -> 43465
A14: Year | B14: 2018
B16: Days Off
B18: =DATE(B14,M2,1) -> 43101 | D18: =DATE(B14,M3,1) -> 43132 | F18: =DATE($B$14,$M4,1) -> 43160 | H18: =DATE($B$14,$M5,1) -> 43191 | J18: =DATE($B$14,$M6,1) -> 43221 | L18: =DATE($B$14,$M7,1) -> 43252
B19: =WORKDAY.INTL(EOMONTH(B18-1,0),1,1,'Days off'!$B$2:$B$50) -> 43102 | C19: =IFERROR(IF(VLOOKUP(B19,'Days off'!$B$2:$B$50,1,FALSE)=Parameters!B19,"DayOff",""),Parameters!C18+1) -> 1 | D19: =WORKDAY.INTL(EOMONTH(B18,0),1,1,'Days off'!$B$2:$B$50) -> 43132 | E19: =IFERROR(IF(VLOOKUP(D19,'Days off'!$B$2:$B$50,1,FALSE)=Parameters!D19,"DayOff",""),Parameters!E18+1) -> 1 | F19: =WORKDAY.INTL(EOMONTH(D18,0),1,1,'Days off'!$B$2:$B$50) -> 43160 | G19: =IFERROR(IF(VLOOKUP(F19,'Days off'!$B$2:$B$50,1,FALSE)=Parameters!F19,"DayOff",""),Parameters!G18+1) -> 1 | H19: =WORKDAY.INTL(EOMONTH(F18,0),1,1,'Days off'!$B$2:$B$50) -> 43193 | I19: =IFERROR(IF(VLOOKUP(H19,'Days off'!$B$2:$B$50,1,FALSE)=Parameters!H19,"DayOff",""),Parameters!I18+1) -> 1 | J19: =WORKDAY.INTL(EOMONTH(H18,0),1,1,'Days off'!$B$2:$B$50) -> 43222 | K19: =IFERROR(IF(VLOOKUP(J19,'Days off'!$B$2:$B$50,1,FALSE)=Parameters!J19,"DayOff",""),Parameters!K18+1) -> 1 | L19: =WORKDAY.INTL(EOMONTH(J18,0),1,1,'Days off'!$B$2:$B$50) -> 43252 | M19: =IFERROR(IF(VLOOKUP(L19,'Days off'!$B$2:$B$50,1,FALSE)=Parameters!L19,"DayOff",""),Parameters!M18+1) -> 1
B20: =IFERROR(IF(WORKDAY.INTL(B19,1,1,'Days off'!$B$2:$B$50)<=$P$2,WORKDAY.INTL(B19,1,1,'Days off'!$B$2:$B$50),""),"") -> 43103 | C20: =IF(C19=12,"",IF(C19="","",IF(C19="DayOff",C18+1,IFERROR(IF(VLOOKUP(B20,'Days off'!$B$2:$B$50,1,FALSE)=Parameters!B20,"DayOff",""),Parameters!C19+1)))) -> 2 | D20: =IFERROR(IF(WORKDAY.INTL(D19,1,1,'Days off'!$B$2:$B$50)<=$P$3,WORKDAY.INTL(D19,1,1,'Days off'!$B$2:$B$50),""),"") -> 43133 | E20: =IF(E19=12,"",IF(E19="","",IF(E19="DayOff",E18+1,IFERROR(IF(VLOOKUP(D20,'Days off'!$B$2:$B$50,1,FALSE)=Parameters!D20,"DayOff",""),Parameters!E19+1)))) -> 2 | F20: =IFERROR(IF(WORKDAY.INTL(F19,1,1,'Days off'!$B$2:$B$50)<=$P$4,WORKDAY.INTL(F19,1,1,'Days off'!$B$2:$B$50),""),"") -> 43161 | G20: =IF(G19=12,"",IF(G19="","",IF(G19="DayOff",G18+1,IFERROR(IF(VLOOKUP(F20,'Days off'!$B$2:$B$50,1,FALSE)=Parameters!F20,"DayOff",""),Parameters!G19+1)))) -> 2 | H20: =IFERROR(IF(WORKDAY.INTL(H19,1,1,'Days off'!$B$2:$B$50)<=$P$5,WORKDAY.INTL(H19,1,1,'Days off'!$B$2:$B$50),""),"") -> 43194 | I20: =IF(I19=12,"",IF(I19="","",IF(I19="DayOff",I18+1,IFERROR(IF(VLOOKUP(H20,'Days off'!$B$2:$B$50,1,FALSE)=Parameters!H20,"DayOff",""),Parameters!I19+1)))) -> 2 | J20: =IFERROR(IF(WORKDAY.INTL(J19,1,1,'Days off'!$B$2:$B$50)<=$P$6,WORKDAY.INTL(J19,1,1,'Days off'!$B$2:$B$50),""),"") -> 43223 | K20: =IF(K19=12,"",IF(K19="","",IF(K19="DayOff",K18+1,IFERROR(IF(VLOOKUP(J20,'Days off'!$B$2:$B$50,1,FALSE)=Parameters!J20,"DayOff",""),Parameters!K19+1)))) -> 2 | L20: =IFERROR(IF(WORKDAY.INTL(L19,1,1,'Days off'!$B$2:$B$50)<=$P$7,WORKDAY.INTL(L19,1,1,'Days off'!$B$2:$B$50),""),"") -> 43255 | M20: =IF(M19=12,"",IF(M19="","",IF(M19="DayOff",M18+1,IFERROR(IF(VLOOKUP(L20,'Days off'!$B$2:$B$50,1,FALSE)=Parameters!L20,"DayOff",""),Parameters!M19+1)))) -> 2
B21: =IFERROR(IF(WORKDAY.INTL(B20,1,1,'Days off'!$B$2:$B$50)<=$P$2,WORKDAY.INTL(B20,1,1,'Days off'!$B$2:$B$50),""),"") -> 43104 | C21: =IF(C20=12,"",IF(C20="","",IF(C20="DayOff",C19+1,IFERROR(IF(VLOOKUP(B21,'Days off'!$B$2:$B$50,1,FALSE)=Parameters!B21,"DayOff",""),Parameters!C20+1)))) -> 3 | D21: =IFERROR(IF(WORKDAY.INTL(D20,1,1,'Days off'!$B$2:$B$50)<=$P$3,WORKDAY.INTL(D20,1,1,'Days off'!$B$2:$B$50),""),"") -> 43136 | E21: =IF(E20=12,"",IF(E20="","",IF(E20="DayOff",E19+1,IFERROR(IF(VLOOKUP(D21,'Days off'!$B$2:$B$50,1,FALSE)=Parameters!D21,"DayOff",""),Parameters!E20+1)))) -> 3 | F21: =IFERROR(IF(WORKDAY.INTL(F20,1,1,'Days off'!$B$2:$B$50)<=$P$4,WORKDAY.INTL(F20,1,1,'Days off'!$B$2:$B$50),""),"") -> 43164 | G21: =IF(G20=12,"",IF(G20="","",IF(G20="DayOff",G19+1,IFERROR(IF(VLOOKUP(F21,'Days off'!$B$2:$B$50,1,FALSE)=Parameters!F21,"DayOff",""),Parameters!G20+1)))) -> 3 | H21: =IFERROR(IF(WORKDAY.INTL(H20,1,1,'Days off'!$B$2:$B$50)<=$P$5,WORKDAY.INTL(H20,1,1,'Days off'!$B$2:$B$50),""),"") -> 43195 | I21: =IF(I20=12,"",IF(I20="","",IF(I20="DayOff",I19+1,IFERROR(IF(VLOOKUP(H21,'Days off'!$B$2:$B$50,1,FALSE)=Parameters!H21,"DayOff",""),Parameters!I20+1)))) -> 3 | J21: =IFERROR(IF(WORKDAY.INTL(J20,1,1,'Days off'!$B$2:$B$50)<=$P$6,WORKDAY.INTL(J20,1,1,'Days off'!$B$2:$B$50),""),"") -> 43224 | K21: =IF(K20=12,"",IF(K20="","",IF(K20="DayOff",K19+1,IFERROR(IF(VLOOKUP(J21,'Days off'!$B$2:$B$50,1,FALSE)=Parameters!J21,"DayOff",""),Parameters!K20+1)))) -> 3 | L21: =IFERROR(IF(WORKDAY.INTL(L20,1,1,'Days off'!$B$2:$B$50)<=$P$7,WORKDAY.INTL(L20,1,1,'Days off'!$B$2:$B$50),""),"") -> 43256 | M21: =IF(M20=12,"",IF(M20="","",IF(M20="DayOff",M19+1,IFERROR(IF(VLOOKUP(L21,'Days off'!$B$2:$B$50,1,FALSE)=Parameters!L21,"DayOff",""),Parameters!M20+1)))) -> 3
B22: =IFERROR(IF(WORKDAY.INTL(B21,1,1,'Days off'!$B$2:$B$50)<=$P$2,WORKDAY.INTL(B21,1,1,'Days off'!$B$2:$B$50),""),"") -> 43105 | C22: =IF(C21=12,"",IF(C21="","",IF(C21="DayOff",C20+1,IFERROR(IF(VLOOKUP(B22,'Days off'!$B$2:$B$50,1,FALSE)=Parameters!B22,"DayOff",""),Parameters!C21+1)))) -> 4 | D22: =IFERROR(IF(WORKDAY.INTL(D21,1,1,'Days off'!$B$2:$B$50)<=$P$3,WORKDAY.INTL(D21,1,1,'Days off'!$B$2:$B$50),""),"") -> 43137 | E22: =IF(E21=12,"",IF(E21="","",IF(E21="DayOff",E20+1,IFERROR(IF(VLOOKUP(D22,'Days off'!$B$2:$B$50,1,FALSE)=Parameters!D22,"DayOff",""),Parameters!E21+1)))) -> 4 | F22: =IFERROR(IF(WORKDAY.INTL(F21,1,1,'Days off'!$B$2:$B$50)<=$P$4,WORKDAY.INTL(F21,1,1,'Days off'!$B$2:$B$50),""),"") -> 43165 | G22: =IF(G21=12,"",IF(G21="","",IF(G21="DayOff",G20+1,IFERROR(IF(VLOOKUP(F22,'Days off'!$B$2:$B$50,1,FALSE)=Parameters!F22,"DayOff",""),Parameters!G21+1)))) -> 4 | H22: =IFERROR(IF(WORKDAY.INTL(H21,1,1,'Days off'!$B$2:$B$50)<=$P$5,WORKDAY.INTL(H21,1,1,'Days off'!$B$2:$B$50),""),"") -> 43196 | I22: =IF(I21=12,"",IF(I21="","",IF(I21="DayOff",I20+1,IFERROR(IF(VLOOKUP(H22,'Days off'!$B$2:$B$50,1,FALSE)=Parameters!H22,"DayOff",""),Parameters!I21+1)))) -> 4 | J22: =IFERROR(IF(WORKDAY.INTL(J21,1,1,'Days off'!$B$2:$B$50)<=$P$6,WORKDAY.INTL(J21,1,1,'Days off'!$B$2:$B$50),""),"") -> 43227 | K22: =IF(K21=12,"",IF(K21="","",IF(K21="DayOff",K20+1,IFERROR(IF(VLOOKUP(J22,'Days off'!$B$2:$B$50,1,FALSE)=Parameters!J22,"DayOff",""),Parameters!K21+1)))) -> 4 | L22: =IFERROR(IF(WORKDAY.INTL(L21,1,1,'Days off'!$B$2:$B$50)<=$P$7,WORKDAY.INTL(L21,1,1,'Days off'!$B$2:$B$50),""),"") -> 43257 | M22: =IF(M21=12,"",IF(M21="","",IF(M21="DayOff",M20+1,IFERROR(IF(VLOOKUP(L22,'Days off'!$B$2:$B$50,1,FALSE)=Parameters!L22,"DayOff",""),Parameters!M21+1)))) -> 4
B23: =IFERROR(IF(WORKDAY.INTL(B22,1,1,'Days off'!$B$2:$B$50)<=$P$2,WORKDAY.INTL(B22,1,1,'Days off'!$B$2:$B$50),""),"") -> 43108 | C23: =IF(C22=12,"",IF(C22="","",IF(C22="DayOff",C21+1,IFERROR(IF(VLOOKUP(B23,'Days off'!$B$2:$B$50,1,FALSE)=Parameters!B23,"DayOff",""),Parameters!C22+1)))) -> 5 | D23: =IFERROR(IF(WORKDAY.INTL(D22,1,1,'Days off'!$B$2:$B$50)<=$P$3,WORKDAY.INTL(D22,1,1,'Days off'!$B$2:$B$50),""),"") -> 43138 | E23: =IF(E22=12,"",IF(E22="","",IF(E22="DayOff",E21+1,IFERROR(IF(VLOOKUP(D23,'Days off'!$B$2:$B$50,1,FALSE)=Parameters!D23,"DayOff",""),Parameters!E22+1)))) -> 5 | F23: =IFERROR(IF(WORKDAY.INTL(F22,1,1,'Days off'!$B$2:$B$50)<=$P$4,WORKDAY.INTL(F22,1,1,'Days off'!$B$2:$B$50),""),"") -> 43166 | G23: =IF(G22=12,"",IF(G22="","",IF(G22="DayOff",G21+1,IFERROR(IF(VLOOKUP(F23,'Days off'!$B$2:$B$50,1,FALSE)=Parameters!F23,"DayOff",""),Parameters!G22+1)))) -> 5 | H23: =IFERROR(IF(WORKDAY.INTL(H22,1,1,'Days off'!$B$2:$B$50)<=$P$5,WORKDAY.INTL(H22,1,1,'Days off'!$B$2:$B$50),""),"") -> 43199 | I23: =IF(I22=12,"",IF(I22="","",IF(I22="DayOff",I21+1,IFERROR(IF(VLOOKUP(H23,'Days off'!$B$2:$B$50,1,FALSE)=Parameters!H23,"DayOff",""),Parameters!I22+1)))) -> 5 | J23: =IFERROR(IF(WORKDAY.INTL(J22,1,1,'Days off'!$B$2:$B$50)<=$P$6,WORKDAY.INTL(J22,1,1,'Days off'!$B$2:$B$50),""),"") -> 43229 | K23: =IF(K22=12,"",IF(K22="","",IF(K22="DayOff",K21+1,IFERROR(IF(VLOOKUP(J23,'Days off'!$B$2:$B$50,1,FALSE)=Parameters!J23,"DayOff",""),Parameters!K22+1)))) -> 5 | L23: =IFERROR(IF(WORKDAY.INTL(L22,1,1,'Days off'!$B$2:$B$50)<=$P$7,WORKDAY.INTL(L22,1,1,'Days off'!$B$2:$B$50),""),"") -> 43258 | M23: =IF(M22=12,"",IF(M22="","",IF(M22="DayOff",M21+1,IFERROR(IF(VLOOKUP(L23,'Days off'!$B$2:$B$50,1,FALSE)=Parameters!L23,"DayOff",""),Parameters!M22+1)))) -> 5
B24: =IFERROR(IF(WORKDAY.INTL(B23,1,1,'Days off'!$B$2:$B$50)<=$P$2,WORKDAY.INTL(B23,1,1,'Days off'!$B$2:$B$50),""),"") -> 43109 | C24: =IF(C23=12,"",IF(C23="","",IF(C23="DayOff",C22+1,IFERROR(IF(VLOOKUP(B24,'Days off'!$B$2:$B$50,1,FALSE)=Parameters!B24,"DayOff",""),Parameters!C23+1)))) -> 6 | D24: =IFERROR(IF(WORKDAY.INTL(D23,1,1,'Days off'!$B$2:$B$50)<=$P$3,WORKDAY.INTL(D23,1,1,'Days off'!$B$2:$B$50),""),"") -> 43139 | E24: =IF(E23=12,"",IF(E23="","",IF(E23="DayOff",E22+1,IFERROR(IF(VLOOKUP(D24,'Days off'!$B$2:$B$50,1,FALSE)=Parameters!D24,"DayOff",""),Parameters!E23+1)))) -> 6 | F24: =IFERROR(IF(WORKDAY.INTL(F23,1,1,'Days off'!$B$2:$B$50)<=$P$4,WORKDAY.INTL(F23,1,1,'Days off'!$B$2:$B$50),""),"") -> 43167 | G24: =IF(G23=12,"",IF(G23="","",IF(G23="DayOff",G22+1,IFERROR(IF(VLOOKUP(F24,'Days off'!$B$2:$B$50,1,FALSE)=Parameters!F24,"DayOff",""),Parameters!G23+1)))) -> 6 | H24: =IFERROR(IF(WORKDAY.INTL(H23,1,1,'Days off'!$B$2:$B$50)<=$P$5,WORKDAY.INTL(H23,1,1,'Days off'!$B$2:$B$50),""),"") -> 43200 | I24: =IF(I23=12,"",IF(I23="","",IF(I23="DayOff",I22+1,IFERROR(IF(VLOOKUP(H24,'Days off'!$B$2:$B$50,1,FALSE)=Parameters!H24,"DayOff",""),Parameters!I23+1)))) -> 6 | J24: =IFERROR(IF(WORKDAY.INTL(J23,1,1,'Days off'!$B$2:$B$50)<=$P$6,WORKDAY.INTL(J23,1,1,'Days off'!$B$2:$B$50),""),"") -> 43231 | K24: =IF(K23=12,"",IF(K23="","",IF(K23="DayOff",K22+1,IFERROR(IF(VLOOKUP(J24,'Days off'!$B$2:$B$50,1,FALSE)=Parameters!J24,"DayOff",""),Parameters!K23+1)))) -> 6 | L24: =IFERROR(IF(WORKDAY.INTL(L23,1,1,'Days off'!$B$2:$B$50)<=$P$7,WORKDAY.INTL(L23,1,1,'Days off'!$B$2:$B$50),""),"") -> 43259 | M24: =IF(M23=12,"",IF(M23="","",IF(M23="DayOff",M22+1,IFERROR(IF(VLOOKUP(L24,'Days off'!$B$2:$B$50,1,FALSE)=Parameters!L24,"DayOff",""),Parameters!M23+1)))) -> 6
B25: =IFERROR(IF(WORKDAY.INTL(B24,1,1,'Days off'!$B$2:$B$50)<=$P$2,WORKDAY.INTL(B24,1,1,'Days off'!$B$2:$B$50),""),"") -> 43110 | C25: =IF(C24=12,"",IF(C24="","",IF(C24="DayOff",C23+1,IFERROR(IF(VLOOKUP(B25,'Days off'!$B$2:$B$50,1,FALSE)=Parameters!B25,"DayOff",""),Parameters!C24+1)))) -> 7 | D25: =IFERROR(IF(WORKDAY.INTL(D24,1,1,'Days off'!$B$2:$B$50)<=$P$3,WORKDAY.INTL(D24,1,1,'Days off'!$B$2:$B$50),""),"") -> 43140 | E25: =IF(E24=12,"",IF(E24="","",IF(E24="DayOff",E23+1,IFERROR(IF(VLOOKUP(D25,'Days off'!$B$2:$B$50,1,FALSE)=Parameters!D25,"DayOff",""),Parameters!E24+1)))) -> 7 | F25: =IFERROR(IF(WORKDAY.INTL(F24,1,1,'Days off'!$B$2:$B$50)<=$P$4,WORKDAY.INTL(F24,1,1,'Days off'!$B$2:$B$50),""),"") -> 43168 | G25: =IF(G24=12,"",IF(G24="","",IF(G24="DayOff",G23+1,IFERROR(IF(VLOOKUP(F25,'Days off'!$B$2:$B$50,1,FALSE)=Parameters!F25,"DayOff",""),Parameters!G24+1)))) -> 7 | H25: =IFERROR(IF(WORKDAY.INTL(H24,1,1,'Days off'!$B$2:$B$50)<=$P$5,WORKDAY.INTL(H24,1,1,'Days off'!$B$2:$B$50),""),"") -> 43201 | I25: =IF(I24=12,"",IF(I24="","",IF(I24="DayOff",I23+1,IFERROR(IF(VLOOKUP(H25,'Days off'!$B$2:$B$50,1,FALSE)=Parameters!H25,"DayOff",""),Parameters!I24+1)))) -> 7 | J25: =IFERROR(IF(WORKDAY.INTL(J24,1,1,'Days off'!$B$2:$B$50)<=$P$6,WORKDAY.INTL(J24,1,1,'Days off'!$B$2:$B$50),""),"") -> 43234 | K25: =IF(K24=12,"",IF(K24="","",IF(K24="DayOff",K23+1,IFERROR(IF(VLOOKUP(J25,'Days off'!$B$2:$B$50,1,FALSE)=Parameters!J25,"DayOff",""),Parameters!K24+1)))) -> 7 | L25: =IFERROR(IF(WORKDAY.INTL(L24,1,1,'Days off'!$B$2:$B$50)<=$P$7,WORKDAY.INTL(L24,1,1,'Days off'!$B$2:$B$50),""),"") -> 43262 | M25: =IF(M24=12,"",IF(M24="","",IF(M24="DayOff",M23+1,IFERROR(IF(VLOOKUP(L25,'Days off'!$B$2:$B$50,1,FALSE)=Parameters!L25,"DayOff",""),Parameters!M24+1)))) -> 7
B26: =IFERROR(IF(WORKDAY.INTL(B25,1,1,'Days off'!$B$2:$B$50)<=$P$2,WORKDAY.INTL(B25,1,1,'Days off'!$B$2:$B$50),""),"") -> 43111 | C26: =IF(C25=12,"",IF(C25="","",IF(C25="DayOff",C24+1,IFERROR(IF(VLOOKUP(B26,'Days off'!$B$2:$B$50,1,FALSE)=Parameters!B26,"DayOff",""),Parameters!C25+1)))) -> 8 | D26: =IFERROR(IF(WORKDAY.INTL(D25,1,1,'Days off'!$B$2:$B$50)<=$P$3,WORKDAY.INTL(D25,1,1,'Days off'!$B$2:$B$50),""),"") -> 43143 | E26: =IF(E25=12,"",IF(E25="","",IF(E25="DayOff",E24+1,IFERROR(IF(VLOOKUP(D26,'Days off'!$B$2:$B$50,1,FALSE)=Parameters!D26,"DayOff",""),Parameters!E25+1)))) -> 8 | F26: =IFERROR(IF(WORKDAY.INTL(F25,1,1,'Days off'!$B$2:$B$50)<=$P$4,WORKDAY.INTL(F25,1,1,'Days off'!$B$2:$B$50),""),"") -> 43171 | G26: =IF(G25=12,"",IF(G25="","",IF(G25="DayOff",G24+1,IFERROR(IF(VLOOKUP(F26,'Days off'!$B$2:$B$50,1,FALSE)=Parameters!F26,"DayOff",""),Parameters!G25+1)))) -> 8 | H26: =IFERROR(IF(WORKDAY.INTL(H25,1,1,'Days off'!$B$2:$B$50)<=$P$5,WORKDAY.INTL(H25,1,1,'Days off'!$B$2:$B$50),""),"") -> 43202 | I26: =IF(I25=12,"",IF(I25="","",IF(I25="DayOff",I24+1,IFERROR(IF(VLOOKUP(H26,'Days off'!$B$2:$B$50,1,FALSE)=Parameters!H26,"DayOff",""),Parameters!I25+1)))) -> 8 | J26: =IFERROR(IF(WORKDAY.INTL(J25,1,1,'Days off'!$B$2:$B$50)<=$P$6,WORKDAY.INTL(J25,1,1,'Days off'!$B$2:$B$50),""),"") -> 43235 | K26: =IF(K25=12,"",IF(K25="","",IF(K25="DayOff",K24+1,IFERROR(IF(VLOOKUP(J26,'Days off'!$B$2:$B$50,1,FALSE)=Parameters!J26,"DayOff",""),Parameters!K25+1)))) -> 8 | L26: =IFERROR(IF(WORKDAY.INTL(L25,1,1,'Days off'!$B$2:$B$50)<=$P$7,WORKDAY.INTL(L25,1,1,'Days off'!$B$2:$B$50),""),"") -> 43263 | M26: =IF(M25=12,"",IF(M25="","",IF(M25="DayOff",M24+1,IFERROR(IF(VLOOKUP(L26,'Days off'!$B$2:$B$50,1,FALSE)=Parameters!L26,"DayOff",""),Parameters!M25+1)))) -> 8
B27: =IFERROR(IF(WORKDAY.INTL(B26,1,1,'Days off'!$B$2:$B$50)<=$P$2,WORKDAY.INTL(B26,1,1,'Days off'!$B$2:$B$50),""),"") -> 43112 | C27: =IF(C26=12,"",IF(C26="","",IF(C26="DayOff",C25+1,IFERROR(IF(VLOOKUP(B27,'Days off'!$B$2:$B$50,1,FALSE)=Parameters!B27,"DayOff",""),Parameters!C26+1)))) -> 9 | D27: =IFERROR(IF(WORKDAY.INTL(D26,1,1,'Days off'!$B$2:$B$50)<=$P$3,WORKDAY.INTL(D26,1,1,'Days off'!$B$2:$B$50),""),"") -> 43144 | E27: =IF(E26=12,"",IF(E26="","",IF(E26="DayOff",E25+1,IFERROR(IF(VLOOKUP(D27,'Days off'!$B$2:$B$50,1,FALSE)=Parameters!D27,"DayOff",""),Parameters!E26+1)))) -> 9 | F27: =IFERROR(IF(WORKDAY.INTL(F26,1,1,'Days off'!$B$2:$B$50)<=$P$4,WORKDAY.INTL(F26,1,1,'Days off'!$B$2:$B$50),""),"") -> 43172 | G27: =IF(G26=12,"",IF(G26="","",IF(G26="DayOff",G25+1,IFERROR(IF(VLOOKUP(F27,'Days off'!$B$2:$B$50,1,FALSE)=Parameters!F27,"DayOff",""),Parameters!G26+1)))) -> 9 | H27: =IFERROR(IF(WORKDAY.INTL(H26,1,1,'Days off'!$B$2:$B$50)<=$P$5,WORKDAY.INTL(H26,1,1,'Days off'!$B$2:$B$50),""),"") -> 43203 | I27: =IF(I26=12,"",IF(I26="","",IF(I26="DayOff",I25+1,IFERROR(IF(VLOOKUP(H27,'Days off'!$B$2:$B$50,1,FALSE)=Parameters!H27,"DayOff",""),Parameters!I26+1)))) -> 9 | J27: =IFERROR(IF(WORKDAY.INTL(J26,1,1,'Days off'!$B$2:$B$50)<=$P$6,WORKDAY.INTL(J26,1,1,'Days off'!$B$2:$B$50),""),"") -> 43236 | K27: =IF(K26=12,"",IF(K26="","",IF(K26="DayOff",K25+1,IFERROR(IF(VLOOKUP(J27,'Days off'!$B$2:$B$50,1,FALSE)=Parameters!J27,"DayOff",""),Parameters!K26+1)))) -> 9 | L27: =IFERROR(IF(WORKDAY.INTL(L26,1,1,'Days off'!$B$2:$B$50)<=$P$7,WORKDAY.INTL(L26,1,1,'Days off'!$B$2:$B$50),""),"") -> 43264 | M27: =IF(M26=12,"",IF(M26="","",IF(M26="DayOff",M25+1,IFERROR(IF(VLOOKUP(L27,'Days off'!$B$2:$B$50,1,FALSE)=Parameters!L27,"DayOff",""),Parameters!M26+1)))) -> 9
B28: =IFERROR(IF(WORKDAY.INTL(B27,1,1,'Days off'!$B$2:$B$50)<=$P$2,WORKDAY.INTL(B27,1,1,'Days off'!$B$2:$B$50),""),"") -> 43115 | C28: =IF(C27=12,"",IF(C27="","",IF(C27="DayOff",C26+1,IFERROR(IF(VLOOKUP(B28,'Days off'!$B$2:$B$50,1,FALSE)=Parameters!B28,"DayOff",""),Parameters!C27+1)))) -> 10 | D28: =IFERROR(IF(WORKDAY.INTL(D27,1,1,'Days off'!$B$2:$B$50)<=$P$3,WORKDAY.INTL(D27,1,1,'Days off'!$B$2:$B$50),""),"") -> 43145 | E28: =IF(E27=12,"",IF(E27="","",IF(E27="DayOff",E26+1,IFERROR(IF(VLOOKUP(D28,'Days off'!$B$2:$B$50,1,FALSE)=Parameters!D28,"DayOff",""),Parameters!E27+1)))) -> 10 | F28: =IFERROR(IF(WORKDAY.INTL(F27,1,1,'Days off'!$B$2:$B$50)<=$P$4,WORKDAY.INTL(F27,1,1,'Days off'!$B$2:$B$50),""),"") -> 43173 | G28: =IF(G27=12,"",IF(G27="","",IF(G27="DayOff",G26+1,IFERROR(IF(VLOOKUP(F28,'Days off'!$B$2:$B$50,1,FALSE)=Parameters!F28,"DayOff",""),Parameters!G27+1)))) -> 10 | H28: =IFERROR(IF(WORKDAY.INTL(H27,1,1,'Days off'!$B$2:$B$50)<=$P$5,WORKDAY.INTL(H27,1,1,'Days off'!$B$2:$B$50),""),"") -> 43206 | I28: =IF(I27=12,"",IF(I27="","",IF(I27="DayOff",I26+1,IFERROR(IF(VLOOKUP(H28,'Days off'!$B$2:$B$50,1,FALSE)=Parameters!H28,"DayOff",""),Parameters!I27+1)))) -> 10 | J28: =IFERROR(IF(WORKDAY.INTL(J27,1,1,'Days off'!$B$2:$B$50)<=$P$6,WORKDAY.INTL(J27,1,1,'Days off'!$B$2:$B$50),""),"") -> 43237 | K28: =IF(K27=12,"",IF(K27="","",IF(K27="DayOff",K26+1,IFERROR(IF(VLOOKUP(J28,'Days off'!$B$2:$B$50,1,FALSE)=Parameters!J28,"DayOff",""),Parameters!K27+1)))) -> 10 | L28: =IFERROR(IF(WORKDAY.INTL(L27,1,1,'Days off'!$B$2:$B$50)<=$P$7,WORKDAY.INTL(L27,1,1,'Days off'!$B$2:$B$50),""),"") -> 43265 | M28: =IF(M27=12,"",IF(M27="","",IF(M27="DayOff",M26+1,IFERROR(IF(VLOOKUP(L28,'Days off'!$B$2:$B$50,1,FALSE)=Parameters!L28,"DayOff",""),Parameters!M27+1)))) -> 10
B29: =IFERROR(IF(WORKDAY.INTL(B28,1,1,'Days off'!$B$2:$B$50)<=$P$2,WORKDAY.INTL(B28,1,1,'Days off'!$B$2:$B$50),""),"") -> 43116 | C29: =IF(C28=12,"",IF(C28="","",IF(C28="DayOff",C27+1,IFERROR(IF(VLOOKUP(B29,'Days off'!$B$2:$B$50,1,FALSE)=Parameters!B29,"DayOff",""),Parameters!C28+1)))) -> 11 | D29: =IFERROR(IF(WORKDAY.INTL(D28,1,1,'Days off'!$B$2:$B$50)<=$P$3,WORKDAY.INTL(D28,1,1,'Days off'!$B$2:$B$50),""),"") -> 43146 | E29: =IF(E28=12,"",IF(E28="","",IF(E28="DayOff",E27+1,IFERROR(IF(VLOOKUP(D29,'Days off'!$B$2:$B$50,1,FALSE)=Parameters!D29,"DayOff",""),Parameters!E28+1)))) -> 11 | F29: =IFERROR(IF(WORKDAY.INTL(F28,1,1,'Days off'!$B$2:$B$50)<=$P$4,WORKDAY.INTL(F28,1,1,'Days off'!$B$2:$B$50),""),"") -> 43174 | G29: =IF(G28=12,"",IF(G28="","",IF(G28="DayOff",G27+1,IFERROR(IF(VLOOKUP(F29,'Days off'!$B$2:$B$50,1,FALSE)=Parameters!F29,"DayOff",""),Parameters!G28+1)))) -> 11 | H29: =IFERROR(IF(WORKDAY.INTL(H28,1,1,'Days off'!$B$2:$B$50)<=$P$5,WORKDAY.INTL(H28,1,1,'Days off'!$B$2:$B$50),""),"") -> 43207 | I29: =IF(I28=12,"",IF(I28="","",IF(I28="DayOff",I27+1,IFERROR(IF(VLOOKUP(H29,'Days off'!$B$2:$B$50,1,FALSE)=Parameters!H29,"DayOff",""),Parameters!I28+1)))) -> 11 | J29: =IFERROR(IF(WORKDAY.INTL(J28,1,1,'Days off'!$B$2:$B$50)<=$P$6,WORKDAY.INTL(J28,1,1,'Days off'!$B$2:$B$50),""),"") -> 43238 | K29: =IF(K28=12,"",IF(K28="","",IF(K28="DayOff",K27+1,IFERROR(IF(VLOOKUP(J29,'Days off'!$B$2:$B$50,1,FALSE)=Parameters!J29,"DayOff",""),Parameters!K28+1)))) -> 11 | L29: =IFERROR(IF(WORKDAY.INTL(L28,1,1,'Days off'!$B$2:$B$50)<=$P$7,WORKDAY.INTL(L28,1,1,'Days off'!$B$2:$B$50),""),"") -> 43266 | M29: =IF(M28=12,"",IF(M28="","",IF(M28="DayOff",M27+1,IFERROR(IF(VLOOKUP(L29,'Days off'!$B$2:$B$50,1,FALSE)=Parameters!L29,"DayOff",""),Parameters!M28+1)))) -> 11
B30: =IFERROR(IF(WORKDAY.INTL(B29,1,1,'Days off'!$B$2:$B$50)<=$P$2,WORKDAY.INTL(B29,1,1,'Days off'!$B$2:$B$50),""),"") -> 43117 | C30: =IF(C29=12,"",IF(C29="","",IF(C29="DayOff",C28+1,IFERROR(IF(VLOOKUP(B30,'Days off'!$B$2:$B$50,1,FALSE)=Parameters!B30,"DayOff",""),Parameters!C29+1)))) -> 12 | D30: =IFERROR(IF(WORKDAY.INTL(D29,1,1,'Days off'!$B$2:$B$50)<=$P$3,WORKDAY.INTL(D29,1,1,'Days off'!$B$2:$B$50),""),"") -> 43147 | E30: =IF(E29=12,"",IF(E29="","",IF(E29="DayOff",E28+1,IFERROR(IF(VLOOKUP(D30,'Days off'!$B$2:$B$50,1,FALSE)=Parameters!D30,"DayOff",""),Parameters!E29+1)))) -> 12 | F30: =IFERROR(IF(WORKDAY.INTL(F29,1,1,'Days off'!$B$2:$B$50)<=$P$4,WORKDAY.INTL(F29,1,1,'Days off'!$B$2:$B$50),""),"") -> 43175 | G30: =IF(G29=12,"",IF(G29="","",IF(G29="DayOff",G28+1,IFERROR(IF(VLOOKUP(F30,'Days off'!$B$2:$B$50,1,FALSE)=Parameters!F30,"DayOff",""),Parameters!G29+1)))) -> 12 | H30: =IFERROR(IF(WORKDAY.INTL(H29,1,1,'Days off'!$B$2:$B$50)<=$P$5,WORKDAY.INTL(H29,1,1,'Days off'!$B$2:$B$50),""),"") -> 43208 | I30: =IF(I29=12,"",IF(I29="","",IF(I29="DayOff",I28+1,IFERROR(IF(VLOOKUP(H30,'Days off'!$B$2:$B$50,1,FALSE)=Parameters!H30,"DayOff",""),Parameters!I29+1)))) -> 12 | J30: =IFERROR(IF(WORKDAY.INTL(J29,1,1,'Days off'!$B$2:$B$50)<=$P$6,WORKDAY.INTL(J29,1,1,'Days off'!$B$2:$B$50),""),"") -> 43242 | K30: =IF(K29=12,"",IF(K29="","",IF(K29="DayOff",K28+1,IFERROR(IF(VLOOKUP(J30,'Days off'!$B$2:$B$50,1,FALSE)=Parameters!J30,"DayOff",""),Parameters!K29+1)))) -> 12 | L30: =IFERROR(IF(WORKDAY.INTL(L29,1,1,'Days off'!$B$2:$B$50)<=$P$7,WORKDAY.INTL(L29,1,1,'Days off'!$B$2:$B$50),""),"") -> 43269 | M30: =IF(M29=12,"",IF(M29="","",IF(M29="DayOff",M28+1,IFERROR(IF(VLOOKUP(L30,'Days off'!$B$2:$B$50,1,FALSE)=Parameters!L30,"DayOff",""),Parameters!M29+1)))) -> 12
B31: =IFERROR(IF(WORKDAY.INTL(B30,1,1,'Days off'!$B$2:$B$50)<=$P$2,WORKDAY.INTL(B30,1,1,'Days off'!$B$2:$B$50),""),"") -> 43118 | C31: =IF(C30=12,"",IF(C30="","",IF(C30="DayOff",C29+1,IFERROR(IF(VLOOKUP(B31,'Days off'!$B$2:$B$50,1,FALSE)=Parameters!B31,"DayOff",""),Parameters!C30+1)))) | D31: =IFERROR(IF(WORKDAY.INTL(D30,1,1,'Days off'!$B$2:$B$50)<=$P$3,WORKDAY.INTL(D30,1,1,'Days off'!$B$2:$B$50),""),"") -> 43150 | E31: =IF(E30=12,"",IF(E30="","",IF(E30="DayOff",E29+1,IFERROR(IF(VLOOKUP(D31,'Days off'!$B$2:$B$50,1,FALSE)=Parameters!D31,"DayOff",""),Parameters!E30+1)))) | F31: =IFERROR(IF(WORKDAY.INTL(F30,1,1,'Days off'!$B$2:$B$50)<=$P$4,WORKDAY.INTL(F30,1,1,'Days off'!$B$2:$B$50),""),"") -> 43178 | G31: =IF(G30=12,"",IF(G30="","",IF(G30="DayOff",G29+1,IFERROR(IF(VLOOKUP(F31,'Days off'!$B$2:$B$50,1,FALSE)=Parameters!F31,"DayOff",""),Parameters!G30+1)))) | H31: =IFERROR(IF(WORKDAY.INTL(H30,1,1,'Days off'!$B$2:$B$50)<=$P$5,WORKDAY.INTL(H30,1,1,'Days off'!$B$2:$B$50),""),"") -> 43209 | I31: =IF(I30=12,"",IF(I30="","",IF(I30="DayOff",I29+1,IFERROR(IF(VLOOKUP(H31,'Days off'!$B$2:$B$50,1,FALSE)=Parameters!H31,"DayOff",""),Parameters!I30+1)))) | J31: =IFERROR(IF(WORKDAY.INTL(J30,1,1,'Days off'!$B$2:$B$50)<=$P$6,WORKDAY.INTL(J30,1,1,'Days off'!$B$2:$B$50),""),"") -> 43243 | K31: =IF(K30=12,"",IF(K30="","",IF(K30="DayOff",K29+1,IFERROR(IF(VLOOKUP(J31,'Days off'!$B$2:$B$50,1,FALSE)=Parameters!J31,"DayOff",""),Parameters!K30+1)))) | L31: =IFERROR(IF(WORKDAY.INTL(L30,1,1,'Days off'!$B$2:$B$50)<=$P$7,WORKDAY.INTL(L30,1,1,'Days off'!$B$2:$B$50),""),"") -> 43270 | M31: =IF(M30=12,"",IF(M30="","",IF(M30="DayOff",M29+1,IFERROR(IF(VLOOKUP(L31,'Days off'!$B$2:$B$50,1,FALSE)=Parameters!L31,"DayOff",""),Parameters!M30+1))))
... B49: =IFERROR(IF(WORKDAY.INTL(B48,1,1,'Days off'!$B$2:$B$50)<=$P$2,WORKDAY.INTL(B48,1,1,'Days off'!$B$2:$B$50),""),"") | C49: =IF(C48=12,"",IF(C48="","",IF(C48="DayOff",C47+1,IFERROR(IF(VLOOKUP(B49,'Days off'!$B$2:$B$50,1,FALSE)=Parameters!B49,"DayOff",""),Parameters!C48+1)))) | D49: =IFERROR(IF(WORKDAY.INTL(D48,1,1,'Days off'!$B$2:$B$50)<=$P$3,WORKDAY.INTL(D48,1,1,'Days off'!$B$2:$B$50),""),"") | E49: =IF(E48=12,"",IF(E48="","",IF(E48="DayOff",E47+1,IFERROR(IF(VLOOKUP(D49,'Days off'!$B$2:$B$50,1,FALSE)=Parameters!D49,"DayOff",""),Parameters!E48+1)))) | F49: =IFERROR(IF(WORKDAY.INTL(F48,1,1,'Days off'!$B$2:$B$50)<=$P$4,WORKDAY.INTL(F48,1,1,'Days off'!$B$2:$B$50),""),"") | G49: =IF(G48=12,"",IF(G48="","",IF(G48="DayOff",G47+1,IFERROR(IF(VLOOKUP(F49,'Days off'!$B$2:$B$50,1,FALSE)=Parameters!F49,"DayOff",""),Parameters!G48+1)))) | H49: =IFERROR(IF(WORKDAY.INTL(H48,1,1,'Days off'!$B$2:$B$50)<=$P$5,WORKDAY.INTL(H48,1,1,'Days off'!$B$2:$B$50),""),"") | I49: =IF(I48=12,"",IF(I48="","",IF(I48="DayOff",I47+1,IFERROR(IF(VLOOKUP(H49,'Days off'!$B$2:$B$50,1,FALSE)=Parameters!H49,"DayOff",""),Parameters!I48+1)))) | J49: =IFERROR(IF(WORKDAY.INTL(J48,1,1,'Days off'!$B$2:$B$50)<=$P$6,WORKDAY.INTL(J48,1,1,'Days off'!$B$2:$B$50),""),"") | K49: =IF(K48=12,"",IF(K48="","",IF(K48="DayOff",K47+1,IFERROR(IF(VLOOKUP(J49,'Days off'!$B$2:$B$50,1,FALSE)=Parameters!J49,"DayOff",""),Parameters!K48+1)))) | L49: =IFERROR(IF(WORKDAY.INTL(L48,1,1,'Days off'!$B$2:$B$50)<=$P$7,WORKDAY.INTL(L48,1,1,'Days off'!$B$2:$B$50),""),"") | M49: =IF(M48=12,"",IF(M48="","",IF(M48="DayOff",M47+1,IFERROR(IF(VLOOKUP(L49,'Days off'!$B$2:$B$50,1,FALSE)=Parameters!L49,"DayOff",""),Parameters!M48+1))))
B53: =DATE($B$14,$M8,1) -> 43282 | D53: =DATE($B$14,$M9,1) -> 43313 | F53: =DATE($B$14,$M10,1) -> 43344 | H53: =DATE($B$14,$M11,1) -> 43374 | J53: =DATE($B$14,$M12,1) -> 43405 | L53: =DATE($B$14,$M13,1) -> 43435
B54: =WORKDAY.INTL(EOMONTH(L18,0),1,1,'Days off'!$B$2:$B$50) -> 43283 | C54: =IFERROR(IF(VLOOKUP(B54,'Days off'!$B$2:$B$50,1,FALSE)=Parameters!B54,"DayOff",""),Parameters!C53+1) -> 1 | D54: =WORKDAY.INTL(EOMONTH(B53,0),1,1,'Days off'!$B$2:$B$50) -> 43313 | E54: =IFERROR(IF(VLOOKUP(D54,'Days off'!$B$2:$B$50,1,FALSE)=Parameters!D54,"DayOff",""),Parameters!E53+1) -> 1 | F54: =WORKDAY.INTL(EOMONTH(D53,0),1,1,'Days off'!$B$2:$B$50) -> 43346 | G54: =IFERROR(IF(VLOOKUP(F54,'Days off'!$B$2:$B$50,1,FALSE)=Parameters!F54,"DayOff",""),Parameters!G53+1) -> 1 | H54: =WORKDAY.INTL(EOMONTH(F53,0),1,1,'Days off'!$B$2:$B$50) -> 43374 | I54: =IFERROR(IF(VLOOKUP(H54,'Days off'!$B$2:$B$50,1,FALSE)=Parameters!H54,"DayOff",""),Parameters!I53+1) -> 1 | J54: =WORKDAY.INTL(EOMONTH(H53,0),1,1,'Days off'!$B$2:$B$50) -> 43406 | K54: =IFERROR(IF(VLOOKUP(J54,'Days off'!$B$2:$B$50,1,FALSE)=Parameters!J54,"DayOff",""),Parameters!K53+1) -> 1 | L54: =WORKDAY.INTL(EOMONTH(J53,0),1,1,'Days off'!$B$2:$B$50) -> 43437 | M54: =IFERROR(IF(VLOOKUP(L54,'Days off'!$B$2:$B$50,1,FALSE)=Parameters!L54,"DayOff",""),Parameters!M53+1) -> 1
B55: =IFERROR(IF(WORKDAY.INTL(B54,1,1,'Days off'!$B$2:$B$50)<=$P$8,WORKDAY.INTL(B54,1,1,'Days off'!$B$2:$B$50),""),"") -> 43284 | C55: =IF(C54=12,"",IF(C54="","",IF(C54="DayOff",C53+1,IFERROR(IF(VLOOKUP(B55,'Days off'!$B$2:$B$50,1,FALSE)=Parameters!B55,"DayOff",""),Parameters!C54+1)))) -> 2 | D55: =IFERROR(IF(WORKDAY.INTL(D54,1,1,'Days off'!$B$2:$B$50)<=$P$9,WORKDAY.INTL(D54,1,1,'Days off'!$B$2:$B$50),""),"") -> 43314 | E55: =IF(E54=12,"",IF(E54="","",IF(E54="DayOff",E53+1,IFERROR(IF(VLOOKUP(D55,'Days off'!$B$2:$B$50,1,FALSE)=Parameters!D55,"DayOff",""),Parameters!E54+1)))) -> 2 | F55: =IFERROR(IF(WORKDAY.INTL(F54,1,1,'Days off'!$B$2:$B$50)<=$P$10,WORKDAY.INTL(F54,1,1,'Days off'!$B$2:$B$50),""),"") -> 43347 | G55: =IF(G54=12,"",IF(G54="","",IF(G54="DayOff",G53+1,IFERROR(IF(VLOOKUP(F55,'Days off'!$B$2:$B$50,1,FALSE)=Parameters!F55,"DayOff",""),Parameters!G54+1)))) -> 2 | H55: =IFERROR(IF(WORKDAY.INTL(H54,1,1,'Days off'!$B$2:$B$50)<=$P$11,WORKDAY.INTL(H54,1,1,'Days off'!$B$2:$B$50),""),"") -> 43375 | I55: =IF(I54=12,"",IF(I54="","",IF(I54="DayOff",I53+1,IFERROR(IF(VLOOKUP(H55,'Days off'!$B$2:$B$50,1,FALSE)=Parameters!H55,"DayOff",""),Parameters!I54+1)))) -> 2 | J55: =IFERROR(IF(WORKDAY.INTL(J54,1,1,'Days off'!$B$2:$B$50)<=$P$12,WORKDAY.INTL(J54,1,1,'Days off'!$B$2:$B$50),""),"") -> 43409 | K55: =IF(K54=12,"",IF(K54="","",IF(K54="DayOff",K53+1,IFERROR(IF(VLOOKUP(J55,'Days off'!$B$2:$B$50,1,FALSE)=Parameters!J55,"DayOff",""),Parameters!K54+1)))) -> 2 | L55: =IFERROR(IF(WORKDAY.INTL(L54,1,1,'Days off'!$B$2:$B$50)<=$P$13,WORKDAY.INTL(L54,1,1,'Days off'!$B$2:$B$50),""),"") -> 43438 | M55: =IF(M54=12,"",IF(M54="","",IF(M54="DayOff",M53+1,IFERROR(IF(VLOOKUP(L55,'Days off'!$B$2:$B$50,1,FALSE)=Parameters!L55,"DayOff",""),Parameters!M54+1)))) -> 2
B56: =IFERROR(IF(WORKDAY.INTL(B55,1,1,'Days off'!$B$2:$B$50)<=$P$8,WORKDAY.INTL(B55,1,1,'Days off'!$B$2:$B$50),""),"") -> 43285 | C56: =IF(C55=12,"",IF(C55="","",IF(C55="DayOff",C54+1,IFERROR(IF(VLOOKUP(B56,'Days off'!$B$2:$B$50,1,FALSE)=Parameters!B56,"DayOff",""),Parameters!C55+1)))) -> 3 | D56: =IFERROR(IF(WORKDAY.INTL(D55,1,1,'Days off'!$B$2:$B$50)<=$P$9,WORKDAY.INTL(D55,1,1,'Days off'!$B$2:$B$50),""),"") -> 43315 | E56: =IF(E55=12,"",IF(E55="","",IF(E55="DayOff",E54+1,IFERROR(IF(VLOOKUP(D56,'Days off'!$B$2:$B$50,1,FALSE)=Parameters!D56,"DayOff",""),Parameters!E55+1)))) -> 3 | F56: =IFERROR(IF(WORKDAY.INTL(F55,1,1,'Days off'!$B$2:$B$50)<=$P$10,WORKDAY.INTL(F55,1,1,'Days off'!$B$2:$B$50),""),"") -> 43348 | G56: =IF(G55=12,"",IF(G55="","",IF(G55="DayOff",G54+1,IFERROR(IF(VLOOKUP(F56,'Days off'!$B$2:$B$50,1,FALSE)=Parameters!F56,"DayOff",""),Parameters!G55+1)))) -> 3 | H56: =IFERROR(IF(WORKDAY.INTL(H55,1,1,'Days off'!$B$2:$B$50)<=$P$11,WORKDAY.INTL(H55,1,1,'Days off'!$B$2:$B$50),""),"") -> 43376 | I56: =IF(I55=12,"",IF(I55="","",IF(I55="DayOff",I54+1,IFERROR(IF(VLOOKUP(H56,'Days off'!$B$2:$B$50,1,FALSE)=Parameters!H56,"DayOff",""),Parameters!I55+1)))) -> 3 | J56: =IFERROR(IF(WORKDAY.INTL(J55,1,1,'Days off'!$B$2:$B$50)<=$P$12,WORKDAY.INTL(J55,1,1,'Days off'!$B$2:$B$50),""),"") -> 43410 | K56: =IF(K55=12,"",IF(K55="","",IF(K55="DayOff",K54+1,IFERROR(IF(VLOOKUP(J56,'Days off'!$B$2:$B$50,1,FALSE)=Parameters!J56,"DayOff",""),Parameters!K55+1)))) -> 3 | L56: =IFERROR(IF(WORKDAY.INTL(L55,1,1,'Days off'!$B$2:$B$50)<=$P$13,WORKDAY.INTL(L55,1,1,'Days off'!$B$2:$B$50),""),"") -> 43439 | M56: =IF(M55=12,"",IF(M55="","",IF(M55="DayOff",M54+1,IFERROR(IF(VLOOKUP(L56,'Days off'!$B$2:$B$50,1,FALSE)=Parameters!L56,"DayOff",""),Parameters!M55+1)))) -> 3
B57: =IFERROR(IF(WORKDAY.INTL(B56,1,1,'Days off'!$B$2:$B$50)<=$P$8,WORKDAY.INTL(B56,1,1,'Days off'!$B$2:$B$50),""),"") -> 43286 | C57: =IF(C56=12,"",IF(C56="","",IF(C56="DayOff",C55+1,IFERROR(IF(VLOOKUP(B57,'Days off'!$B$2:$B$50,1,FALSE)=Parameters!B57,"DayOff",""),Parameters!C56+1)))) -> 4 | D57: =IFERROR(IF(WORKDAY.INTL(D56,1,1,'Days off'!$B$2:$B$50)<=$P$9,WORKDAY.INTL(D56,1,1,'Days off'!$B$2:$B$50),""),"") -> 43318 | E57: =IF(E56=12,"",IF(E56="","",IF(E56="DayOff",E55+1,IFERROR(IF(VLOOKUP(D57,'Days off'!$B$2:$B$50,1,FALSE)=Parameters!D57,"DayOff",""),Parameters!E56+1)))) -> 4 | F57: =IFERROR(IF(WORKDAY.INTL(F56,1,1,'Days off'!$B$2:$B$50)<=$P$10,WORKDAY.INTL(F56,1,1,'Days off'!$B$2:$B$50),""),"") -> 43349 | G57: =IF(G56=12,"",IF(G56="","",IF(G56="DayOff",G55+1,IFERROR(IF(VLOOKUP(F57,'Days off'!$B$2:$B$50,1,FALSE)=Parameters!F57,"DayOff",""),Parameters!G56+1)))) -> 4 | H57: =IFERROR(IF(WORKDAY.INTL(H56,1,1,'Days off'!$B$2:$B$50)<=$P$11,WORKDAY.INTL(H56,1,1,'Days off'!$B$2:$B$50),""),"") -> 43377 | I57: =IF(I56=12,"",IF(I56="","",IF(I56="DayOff",I55+1,IFERROR(IF(VLOOKUP(H57,'Days off'!$B$2:$B$50,1,FALSE)=Parameters!H57,"DayOff",""),Parameters!I56+1)))) -> 4 | J57: =IFERROR(IF(WORKDAY.INTL(J56,1,1,'Days off'!$B$2:$B$50)<=$P$12,WORKDAY.INTL(J56,1,1,'Days off'!$B$2:$B$50),""),"") -> 43411 | K57: =IF(K56=12,"",IF(K56="","",IF(K56="DayOff",K55+1,IFERROR(IF(VLOOKUP(J57,'Days off'!$B$2:$B$50,1,FALSE)=Parameters!J57,"DayOff",""),Parameters!K56+1)))) -> 4 | L57: =IFERROR(IF(WORKDAY.INTL(L56,1,1,'Days off'!$B$2:$B$50)<=$P$13,WORKDAY.INTL(L56,1,1,'Days off'!$B$2:$B$50),""),"") -> 43440 | M57: =IF(M56=12,"",IF(M56="","",IF(M56="DayOff",M55+1,IFERROR(IF(VLOOKUP(L57,'Days off'!$B$2:$B$50,1,FALSE)=Parameters!L57,"DayOff",""),Parameters!M56+1)))) -> 4
B58: =IFERROR(IF(WORKDAY.INTL(B57,1,1,'Days off'!$B$2:$B$50)<=$P$8,WORKDAY.INTL(B57,1,1,'Days off'!$B$2:$B$50),""),"") -> 43287 | C58: =IF(C57=12,"",IF(C57="","",IF(C57="DayOff",C56+1,IFERROR(IF(VLOOKUP(B58,'Days off'!$B$2:$B$50,1,FALSE)=Parameters!B58,"DayOff",""),Parameters!C57+1)))) -> 5 | D58: =IFERROR(IF(WORKDAY.INTL(D57,1,1,'Days off'!$B$2:$B$50)<=$P$9,WORKDAY.INTL(D57,1,1,'Days off'!$B$2:$B$50),""),"") -> 43319 | E58: =IF(E57=12,"",IF(E57="","",IF(E57="DayOff",E56+1,IFERROR(IF(VLOOKUP(D58,'Days off'!$B$2:$B$50,1,FALSE)=Parameters!D58,"DayOff",""),Parameters!E57+1)))) -> 5 | F58: =IFERROR(IF(WORKDAY.INTL(F57,1,1,'Days off'!$B$2:$B$50)<=$P$10,WORKDAY.INTL(F57,1,1,'Days off'!$B$2:$B$50),""),"") -> 43350 | G58: =IF(G57=12,"",IF(G57="","",IF(G57="DayOff",G56+1,IFERROR(IF(VLOOKUP(F58,'Days off'!$B$2:$B$50,1,FALSE)=Parameters!F58,"DayOff",""),Parameters!G57+1)))) -> 5 | H58: =IFERROR(IF(WORKDAY.INTL(H57,1,1,'Days off'!$B$2:$B$50)<=$P$11,WORKDAY.INTL(H57,1,1,'Days off'!$B$2:$B$50),""),"") -> 43378 | I58: =IF(I57=12,"",IF(I57="","",IF(I57="DayOff",I56+1,IFERROR(IF(VLOOKUP(H58,'Days off'!$B$2:$B$50,1,FALSE)=Parameters!H58,"DayOff",""),Parameters!I57+1)))) -> 5 | J58: =IFERROR(IF(WORKDAY.INTL(J57,1,1,'Days off'!$B$2:$B$50)<=$P$12,WORKDAY.INTL(J57,1,1,'Days off'!$B$2:$B$50),""),"") -> 43412 | K58: =IF(K57=12,"",IF(K57="","",IF(K57="DayOff",K56+1,IFERROR(IF(VLOOKUP(J58,'Days off'!$B$2:$B$50,1,FALSE)=Parameters!J58,"DayOff",""),Parameters!K57+1)))) -> 5 | L58: =IFERROR(IF(WORKDAY.INTL(L57,1,1,'Days off'!$B$2:$B$50)<=$P$13,WORKDAY.INTL(L57,1,1,'Days off'!$B$2:$B$50),""),"") -> 43441 | M58: =IF(M57=12,"",IF(M57="","",IF(M57="DayOff",M56+1,IFERROR(IF(VLOOKUP(L58,'Days off'!$B$2:$B$50,1,FALSE)=Parameters!L58,"DayOff",""),Parameters!M57+1)))) -> 5
B59: =IFERROR(IF(WORKDAY.INTL(B58,1,1,'Days off'!$B$2:$B$50)<=$P$8,WORKDAY.INTL(B58,1,1,'Days off'!$B$2:$B$50),""),"") -> 43290 | C59: =IF(C58=12,"",IF(C58="","",IF(C58="DayOff",C57+1,IFERROR(IF(VLOOKUP(B59,'Days off'!$B$2:$B$50,1,FALSE)=Parameters!B59,"DayOff",""),Parameters!C58+1)))) -> 6 | D59: =IFERROR(IF(WORKDAY.INTL(D58,1,1,'Days off'!$B$2:$B$50)<=$P$9,WORKDAY.INTL(D58,1,1,'Days off'!$B$2:$B$50),""),"") -> 43320 | E59: =IF(E58=12,"",IF(E58="","",IF(E58="DayOff",E57+1,IFERROR(IF(VLOOKUP(D59,'Days off'!$B$2:$B$50,1,FALSE)=Parameters!D59,"DayOff",""),Parameters!E58+1)))) -> 6 | F59: =IFERROR(IF(WORKDAY.INTL(F58,1,1,'Days off'!$B$2:$B$50)<=$P$10,WORKDAY.INTL(F58,1,1,'Days off'!$B$2:$B$50),""),"") -> 43353 | G59: =IF(G58=12,"",IF(G58="","",IF(G58="DayOff",G57+1,IFERROR(IF(VLOOKUP(F59,'Days off'!$B$2:$B$50,1,FALSE)=Parameters!F59,"DayOff",""),Parameters!G58+1)))) -> 6 | H59: =IFERROR(IF(WORKDAY.INTL(H58,1,1,'Days off'!$B$2:$B$50)<=$P$11,WORKDAY.INTL(H58,1,1,'Days off'!$B$2:$B$50),""),"") -> 43381 | I59: =IF(I58=12,"",IF(I58="","",IF(I58="DayOff",I57+1,IFERROR(IF(VLOOKUP(H59,'Days off'!$B$2:$B$50,1,FALSE)=Parameters!H59,"DayOff",""),Parameters!I58+1)))) -> 6 | J59: =IFERROR(IF(WORKDAY.INTL(J58,1,1,'Days off'!$B$2:$B$50)<=$P$12,WORKDAY.INTL(J58,1,1,'Days off'!$B$2:$B$50),""),"") -> 43413 | K59: =IF(K58=12,"",IF(K58="","",IF(K58="DayOff",K57+1,IFERROR(IF(VLOOKUP(J59,'Days off'!$B$2:$B$50,1,FALSE)=Parameters!J59,"DayOff",""),Parameters!K58+1)))) -> 6 | L59: =IFERROR(IF(WORKDAY.INTL(L58,1,1,'Days off'!$B$2:$B$50)<=$P$13,WORKDAY.INTL(L58,1,1,'Days off'!$B$2:$B$50),""),"") -> 43444 | M59: =IF(M58=12,"",IF(M58="","",IF(M58="DayOff",M57+1,IFERROR(IF(VLOOKUP(L59,'Days off'!$B$2:$B$50,1,FALSE)=Parameters!L59,"DayOff",""),Parameters!M58+1)))) -> 6
B60: =IFERROR(IF(WORKDAY.INTL(B59,1,1,'Days off'!$B$2:$B$50)<=$P$8,WORKDAY.INTL(B59,1,1,'Days off'!$B$2:$B$50),""),"") -> 43291 | C60: =IF(C59=12,"",IF(C59="","",IF(C59="DayOff",C58+1,IFERROR(IF(VLOOKUP(B60,'Days off'!$B$2:$B$50,1,FALSE)=Parameters!B60,"DayOff",""),Parameters!C59+1)))) -> 7 | D60: =IFERROR(IF(WORKDAY.INTL(D59,1,1,'Days off'!$B$2:$B$50)<=$P$9,WORKDAY.INTL(D59,1,1,'Days off'!$B$2:$B$50),""),"") -> 43321 | E60: =IF(E59=12,"",IF(E59="","",IF(E59="DayOff",E58+1,IFERROR(IF(VLOOKUP(D60,'Days off'!$B$2:$B$50,1,FALSE)=Parameters!D60,"DayOff",""),Parameters!E59+1)))) -> 7 | F60: =IFERROR(IF(WORKDAY.INTL(F59,1,1,'Days off'!$B$2:$B$50)<=$P$10,WORKDAY.INTL(F59,1,1,'Days off'!$B$2:$B$50),""),"") -> 43354 | G60: =IF(G59=12,"",IF(G59="","",IF(G59="DayOff",G58+1,IFERROR(IF(VLOOKUP(F60,'Days off'!$B$2:$B$50,1,FALSE)=Parameters!F60,"DayOff",""),Parameters!G59+1)))) -> 7 | H60: =IFERROR(IF(WORKDAY.INTL(H59,1,1,'Days off'!$B$2:$B$50)<=$P$11,WORKDAY.INTL(H59,1,1,'Days off'!$B$2:$B$50),""),"") -> 43382 | I60: =IF(I59=12,"",IF(I59="","",IF(I59="DayOff",I58+1,IFERROR(IF(VLOOKUP(H60,'Days off'!$B$2:$B$50,1,FALSE)=Parameters!H60,"DayOff",""),Parameters!I59+1)))) -> 7 | J60: =IFERROR(IF(WORKDAY.INTL(J59,1,1,'Days off'!$B$2:$B$50)<=$P$12,WORKDAY.INTL(J59,1,1,'Days off'!$B$2:$B$50),""),"") -> 43416 | K60: =IF(K59=12,"",IF(K59="","",IF(K59="DayOff",K58+1,IFERROR(IF(VLOOKUP(J60,'Days off'!$B$2:$B$50,1,FALSE)=Parameters!J60,"DayOff",""),Parameters!K59+1)))) -> 7 | L60: =IFERROR(IF(WORKDAY.INTL(L59,1,1,'Days off'!$B$2:$B$50)<=$P$13,WORKDAY.INTL(L59,1,1,'Days off'!$B$2:$B$50),""),"") -> 43445 | M60: =IF(M59=12,"",IF(M59="","",IF(M59="DayOff",M58+1,IFERROR(IF(VLOOKUP(L60,'Days off'!$B$2:$B$50,1,FALSE)=Parameters!L60,"DayOff",""),Parameters!M59+1)))) -> 7
B61: =IFERROR(IF(WORKDAY.INTL(B60,1,1,'Days off'!$B$2:$B$50)<=$P$8,WORKDAY.INTL(B60,1,1,'Days off'!$B$2:$B$50),""),"") -> 43292 | C61: =IF(C60=12,"",IF(C60="","",IF(C60="DayOff",C59+1,IFERROR(IF(VLOOKUP(B61,'Days off'!$B$2:$B$50,1,FALSE)=Parameters!B61,"DayOff",""),Parameters!C60+1)))) -> 8 | D61: =IFERROR(IF(WORKDAY.INTL(D60,1,1,'Days off'!$B$2:$B$50)<=$P$9,WORKDAY.INTL(D60,1,1,'Days off'!$B$2:$B$50),""),"") -> 43322 | E61: =IF(E60=12,"",IF(E60="","",IF(E60="DayOff",E59+1,IFERROR(IF(VLOOKUP(D61,'Days off'!$B$2:$B$50,1,FALSE)=Parameters!D61,"DayOff",""),Parameters!E60+1)))) -> 8 | F61: =IFERROR(IF(WORKDAY.INTL(F60,1,1,'Days off'!$B$2:$B$50)<=$P$10,WORKDAY.INTL(F60,1,1,'Days off'!$B$2:$B$50),""),"") -> 43355 | G61: =IF(G60=12,"",IF(G60="","",IF(G60="DayOff",G59+1,IFERROR(IF(VLOOKUP(F61,'Days off'!$B$2:$B$50,1,FALSE)=Parameters!F61,"DayOff",""),Parameters!G60+1)))) -> 8 | H61: =IFERROR(IF(WORKDAY.INTL(H60,1,1,'Days off'!$B$2:$B$50)<=$P$11,WORKDAY.INTL(H60,1,1,'Days off'!$B$2:$B$50),""),"") -> 43383 | I61: =IF(I60=12,"",IF(I60="","",IF(I60="DayOff",I59+1,IFERROR(IF(VLOOKUP(H61,'Days off'!$B$2:$B$50,1,FALSE)=Parameters!H61,"DayOff",""),Parameters!I60+1)))) -> 8 | J61: =IFERROR(IF(WORKDAY.INTL(J60,1,1,'Days off'!$B$2:$B$50)<=$P$12,WORKDAY.INTL(J60,1,1,'Days off'!$B$2:$B$50),""),"") -> 43417 | K61: =IF(K60=12,"",IF(K60="","",IF(K60="DayOff",K59+1,IFERROR(IF(VLOOKUP(J61,'Days off'!$B$2:$B$50,1,FALSE)=Parameters!J61,"DayOff",""),Parameters!K60+1)))) -> 8 | L61: =IFERROR(IF(WORKDAY.INTL(L60,1,1,'Days off'!$B$2:$B$50)<=$P$13,WORKDAY.INTL(L60,1,1,'Days off'!$B$2:$B$50),""),"") -> 43446 | M61: =IF(M60=12,"",IF(M60="","",IF(M60="DayOff",M59+1,IFERROR(IF(VLOOKUP(L61,'Days off'!$B$2:$B$50,1,FALSE)=Parameters!L61,"DayOff",""),Parameters!M60+1)))) -> 8
B62: =IFERROR(IF(WORKDAY.INTL(B61,1,1,'Days off'!$B$2:$B$50)<=$P$8,WORKDAY.INTL(B61,1,1,'Days off'!$B$2:$B$50),""),"") -> 43293 | C62: =IF(C61=12,"",IF(C61="","",IF(C61="DayOff",C60+1,IFERROR(IF(VLOOKUP(B62,'Days off'!$B$2:$B$50,1,FALSE)=Parameters!B62,"DayOff",""),Parameters!C61+1)))) -> 9 | D62: =IFERROR(IF(WORKDAY.INTL(D61,1,1,'Days off'!$B$2:$B$50)<=$P$9,WORKDAY.INTL(D61,1,1,'Days off'!$B$2:$B$50),""),"") -> 43325 | E62: =IF(E61=12,"",IF(E61="","",IF(E61="DayOff",E60+1,IFERROR(IF(VLOOKUP(D62,'Days off'!$B$2:$B$50,1,FALSE)=Parameters!D62,"DayOff",""),Parameters!E61+1)))) -> 9 | F62: =IFERROR(IF(WORKDAY.INTL(F61,1,1,'Days off'!$B$2:$B$50)<=$P$10,WORKDAY.INTL(F61,1,1,'Days off'!$B$2:$B$50),""),"") -> 43356 | G62: =IF(G61=12,"",IF(G61="","",IF(G61="DayOff",G60+1,IFERROR(IF(VLOOKUP(F62,'Days off'!$B$2:$B$50,1,FALSE)=Parameters!F62,"DayOff",""),Parameters!G61+1)))) -> 9 | H62: =IFERROR(IF(WORKDAY.INTL(H61,1,1,'Days off'!$B$2:$B$50)<=$P$11,WORKDAY.INTL(H61,1,1,'Days off'!$B$2:$B$50),""),"") -> 43384 | I62: =IF(I61=12,"",IF(I61="","",IF(I61="DayOff",I60+1,IFERROR(IF(VLOOKUP(H62,'Days off'!$B$2:$B$50,1,FALSE)=Parameters!H62,"DayOff",""),Parameters!I61+1)))) -> 9 | J62: =IFERROR(IF(WORKDAY.INTL(J61,1,1,'Days off'!$B$2:$B$50)<=$P$12,WORKDAY.INTL(J61,1,1,'Days off'!$B$2:$B$50),""),"") -> 43418 | K62: =IF(K61=12,"",IF(K61="","",IF(K61="DayOff",K60+1,IFERROR(IF(VLOOKUP(J62,'Days off'!$B$2:$B$50,1,FALSE)=Parameters!J62,"DayOff",""),Parameters!K61+1)))) -> 9 | L62: =IFERROR(IF(WORKDAY.INTL(L61,1,1,'Days off'!$B$2:$B$50)<=$P$13,WORKDAY.INTL(L61,1,1,'Days off'!$B$2:$B$50),""),"") -> 43447 | M62: =IF(M61=12,"",IF(M61="","",IF(M61="DayOff",M60+1,IFERROR(IF(VLOOKUP(L62,'Days off'!$B$2:$B$50,1,FALSE)=Parameters!L62,"DayOff",""),Parameters!M61+1)))) -> 9
...

Sheet Days off
B1: Bank Holiday
B2: 43101
B3: 43192
B4: 43221
B5: 43228
B6: 43230
B7: 43241
B8: 43295
B9: 43327
B10: 43405
B11: 43415
B12: 43459

Sheet January
W1: =Parameters!B14 -> 2018
B2: =" JANUARY "&Parameters!B14 -> JANUARY 2018
C4: Mon | E4: Tue | G4: Wed | I4: Thu | K4: Fri | M4: Sat | O4: Sun
C5: =IF(DAY(JanSun1)=1,JanSun1-6,JanSun1+1) -> 43101 | D5: =IFERROR(IF(OR(VLOOKUP(C5,Parameters!$B$19:$C$49,2,FALSE)="",VLOOKUP(C5,Parameters!$B$19:$C$49,2,FALSE)="DayOff"),"",VLOOKUP(C5,Parameters!$B$19:$C$49,2,FALSE)),"") | E5: =IF(DAY(JanSun1)=1,JanSun1-5,JanSun1+2) -> 43102 | F5: =IFERROR(IF(OR(VLOOKUP(E5,Parameters!$B$19:$C$49,2,FALSE)="",VLOOKUP(E5,Parameters!$B$19:$C$49,2,FALSE)="DayOff"),"",VLOOKUP(E5,Parameters!$B$19:$C$49,2,FALSE)),"") -> 1 | G5: =IF(DAY(JanSun1)=1,JanSun1-4,JanSun1+3) -> 43103 | H5: =IFERROR(IF(OR(VLOOKUP(G5,Parameters!$B$19:$C$49,2,FALSE)="",VLOOKUP(G5,Parameters!$B$19:$C$49,2,FALSE)="DayOff"),"",VLOOKUP(G5,Parameters!$B$19:$C$49,2,FALSE)),"") -> 2 | I5: =IF(DAY(JanSun1)=1,JanSun1-3,JanSun1+4) -> 43104 | J5: =IFERROR(IF(OR(VLOOKUP(I5,Parameters!$B$19:$C$49,2,FALSE)="",VLOOKUP(I5,Parameters!$B$19:$C$49,2,FALSE)="DayOff"),"",VLOOKUP(I5,Parameters!$B$19:$C$49,2,FALSE)),"") -> 3 | K5: =IF(DAY(JanSun1)=1,JanSun1-2,JanSun1+5) -> 43105 | L5: =IFERROR(IF(OR(VLOOKUP(K5,Parameters!$B$19:$C$49,2,FALSE)="",VLOOKUP(K5,Parameters!$B$19:$C$49,2,FALSE)="DayOff"),"",VLOOKUP(K5,Parameters!$B$19:$C$49,2,FALSE)),"") -> 4 | M5: =IF(DAY(JanSun1)=1,JanSun1-1,JanSun1+6) -> 43106 | O5: =IF(DAY(JanSun1)=1,JanSun1,JanSun1+7) -> 43107
E6: Flash 12pm
C7: =IF(DAY(JanSun1)=1,JanSun1+1,JanSun1+8) -> 43108 | D7: =IFERROR(IF(OR(VLOOKUP(C7,Parameters!$B$19:$C$49,2,FALSE)="",VLOOKUP(C7,Parameters!$B$19:$C$49,2,FALSE)="DayOff"),"",VLOOKUP(C7,Parameters!$B$19:$C$49,2,FALSE)),"") -> 5 | E7: =IF(DAY(JanSun1)=1,JanSun1+2,JanSun1+9) -> 43109 | F7: =IFERROR(IF(OR(VLOOKUP(E7,Parameters!$B$19:$C$49,2,FALSE)="",VLOOKUP(E7,Parameters!$B$19:$C$49,2,FALSE)="DayOff"),"",VLOOKUP(E7,Parameters!$B$19:$C$49,2,FALSE)),"") -> 6 | G7: =IF(DAY(JanSun1)=1,JanSun1+3,JanSun1+10) -> 43110 | H7: =IFERROR(IF(OR(VLOOKUP(G7,Parameters!$B$19:$C$49,2,FALSE)="",VLOOKUP(G7,Parameters!$B$19:$C$49,2,FALSE)="DayOff"),"",VLOOKUP(G7,Parameters!$B$19:$C$49,2,FALSE)),"") -> 7 | I7: =IF(DAY(JanSun1)=1,JanSun1+4,JanSun1+11) -> 43111 | J7: =IFERROR(IF(OR(VLOOKUP(I7,Parameters!$B$19:$C$49,2,FALSE)="",VLOOKUP(I7,Parameters!$B$19:$C$49,2,FALSE)="DayOff"),"",VLOOKUP(I7,Parameters!$B$19:$C$49,2,FALSE)),"") -> 8 | K7: =IF(DAY(JanSun1)=1,JanSun1+5,JanSun1+12) -> 43112 | L7: =IFERROR(IF(OR(VLOOKUP(K7,Parameters!$B$19:$C$49,2,FALSE)="",VLOOKUP(K7,Parameters!$B$19:$C$49,2,FALSE)="DayOff"),"",VLOOKUP(K7,Parameters!$B$19:$C$49,2,FALSE)),"") -> 9 | M7: =IF(DAY(JanSun1)=1,JanSun1+6,JanSun1+13) -> 43113 | O7: =IF(DAY(JanSun1)=1,JanSun1+7,JanSun1+14) -> 43114
C9: =IF(DAY(JanSun1)=1,JanSun1+8,JanSun1+15) -> 43115 | D9: =IFERROR(IF(OR(VLOOKUP(C9,Parameters!$B$19:$C$49,2,FALSE)="",VLOOKUP(C9,Parameters!$B$19:$C$49,2,FALSE)="DayOff"),"",VLOOKUP(C9,Parameters!$B$19:$C$49,2,FALSE)),"") -> 10 | E9: =IF(DAY(JanSun1)=1,JanSun1+9,JanSun1+16) -> 43116 | F9: =IFERROR(IF(OR(VLOOKUP(E9,Parameters!$B$19:$C$49,2,FALSE)="",VLOOKUP(E9,Parameters!$B$19:$C$49,2,FALSE)="DayOff"),"",VLOOKUP(E9,Parameters!$B$19:$C$49,2,FALSE)),"") -> 11 | G9: =IF(DAY(JanSun1)=1,JanSun1+10,JanSun1+17) -> 43117 | H9: =IFERROR(IF(OR(VLOOKUP(G9,Parameters!$B$19:$C$49,2,FALSE)="",VLOOKUP(G9,Parameters!$B$19:$C$49,2,FALSE)="DayOff"),"",VLOOKUP(G9,Parameters!$B$19:$C$49,2,FALSE)),"") -> 12 | I9: =IF(DAY(JanSun1)=1,JanSun1+11,JanSun1+18) -> 43118 | J9: =IFERROR(IF(OR(VLOOKUP(I9,Parameters!$B$19:$C$49,2,FALSE)="",VLOOKUP(I9,Parameters!$B$19:$C$49,2,FALSE)="DayOff"),"",VLOOKUP(I9,Parameters!$B$19:$C$49,2,FALSE)),"") | K9: =IF(DAY(JanSun1)=1,JanSun1+12,JanSun1+19) -> 43119 | L9: =IFERROR(IF(OR(VLOOKUP(K9,Parameters!$B$19:$C$49,2,FALSE)="",VLOOKUP(K9,Parameters!$B$19:$C$49,2,FALSE)="DayOff"),"",VLOOKUP(K9,Parameters!$B$19:$C$49,2,FALSE)),"") | M9: =IF(DAY(JanSun1)=1,JanSun1+13,JanSun1+20) -> 43120 | O9: =IF(DAY(JanSun1)=1,JanSun1+14,JanSun1+21) -> 43121
C11: =IF(DAY(JanSun1)=1,JanSun1+15,JanSun1+22) -> 43122 | D11: =IFERROR(IF(OR(VLOOKUP(C11,Parameters!$B$19:$C$49,2,FALSE)="",VLOOKUP(C11,Parameters!$B$19:$C$49,2,FALSE)="DayOff"),"",VLOOKUP(C11,Parameters!$B$19:$C$49,2,FALSE)),"") | E11: =IF(DAY(JanSun1)=1,JanSun1+16,JanSun1+23) -> 43123 | F11: =IFERROR(IF(OR(VLOOKUP(E11,Parameters!$B$19:$C$49,2,FALSE)="",VLOOKUP(E11,Parameters!$B$19:$C$49,2,FALSE)="DayOff"),"",VLOOKUP(E11,Parameters!$B$19:$C$49,2,FALSE)),"") | G11: =IF(DAY(JanSun1)=1,JanSun1+17,JanSun1+24) -> 43124 | H11: =IFERROR(IF(OR(VLOOKUP(G11,Parameters!$B$19:$C$49,2,FALSE)="",VLOOKUP(G11,Parameters!$B$19:$C$49,2,FALSE)="DayOff"),"",VLOOKUP(G11,Parameters!$B$19:$C$49,2,FALSE)),"") | I11: =IF(DAY(JanSun1)=1,JanSun1+18,JanSun1+25) -> 43125 | J11: =IFERROR(IF(OR(VLOOKUP(I11,Parameters!$B$19:$C$49,2,FALSE)="",VLOOKUP(I11,Parameters!$B$19:$C$49,2,FALSE)="DayOff"),"",VLOOKUP(I11,Parameters!$B$19:$C$49,2,FALSE)),"") | K11: =IF(DAY(JanSun1)=1,JanSun1+19,JanSun1+26) -> 43126 | L11: =IFERROR(IF(OR(VLOOKUP(K11,Parameters!$B$19:$C$49,2,FALSE)="",VLOOKUP(K11,Parameters!$B$19:$C$49,2,FALSE)="DayOff"),"",VLOOKUP(K11,Parameters!$B$19:$C$49,2,FALSE)),"") | M11: =IF(DAY(JanSun1)=1,JanSun1+20,JanSun1+27) -> 43127 | O11: =IF(DAY(JanSun1)=1,JanSun1+21,JanSun1+28) -> 43128
E12: Maintenance
C13: =IF(DAY(JanSun1)=1,JanSun1+22,JanSun1+29) -> 43129 | D13: =IFERROR(IF(OR(VLOOKUP(C13,Parameters!$B$19:$C$49,2,FALSE)="",VLOOKUP(C13,Parameters!$B$19:$C$49,2,FALSE)="DayOff"),"",VLOOKUP(C13,Parameters!$B$19:$C$49,2,FALSE)),"") | E13: =IF(DAY(JanSun1)=1,JanSun1+23,JanSun1+30) -> 43130 | F13: =IFERROR(IF(OR(VLOOKUP(E13,Parameters!$B$19:$C$49,2,FALSE)="",VLOOKUP(E13,Parameters!$B$19:$C$49,2,FALSE)="DayOff"),"",VLOOKUP(E13,Parameters!$B$19:$C$49,2,FALSE)),"") | G13: =IF(DAY(JanSun1)=1,JanSun1+24,JanSun1+31) -> 43131 | H13: =IFERROR(IF(OR(VLOOKUP(G13,Parameters!$B$19:$C$49,2,FALSE)="",VLOOKUP(G13,Parameters!$B$19:$C$49,2,FALSE)="DayOff"),"",VLOOKUP(G13,Parameters!$B$19:$C$49,2,FALSE)),"") | I13: =IF(DAY(JanSun1)=1,JanSun1+25,JanSun1+32) -> 43132 | J13: =IFERROR(IF(OR(VLOOKUP(I13,Parameters!$B$19:$C$49,2,FALSE)="",VLOOKUP(I13,Parameters!$B$19:$C$49,2,FALSE)="DayOff"),"",VLOOKUP(I13,Parameters!$B$19:$C$49,2,FALSE)),"") | K13: =IF(DAY(JanSun1)=1,JanSun1+26,JanSun1+33) -> 43133 | L13: =IFERROR(IF(OR(VLOOKUP(K13,Parameters!$B$19:$C$49,2,FALSE)="",VLOOKUP(K13,Parameters!$B$19:$C$49,2,FALSE)="DayOff"),"",VLOOKUP(K13,Parameters!$B$19:$C$49,2,FALSE)),"") | M13: =IF(DAY(JanSun1)=1,JanSun1+27,JanSun1+34) -> 43134 | O13: =IF(DAY(JanSun1)=1,JanSun1+28,JanSun1+35) -> 43135
C15: =IF(DAY(JanSun1)=1,JanSun1+29,JanSun1+36) -> 43136 | D15: =IFERROR(IF(OR(VLOOKUP(C15,Parameters!$B$19:$C$49,2,FALSE)="",VLOOKUP(C15,Parameters!$B$19:$C$49,2,FALSE)="DayOff"),"",VLOOKUP(C15,Parameters!$B$19:$C$49,2,FALSE)),"") | E15: =IF(DAY(JanSun1)=1,JanSun1+30,JanSun1+37) -> 43137 | F15: =IFERROR(IF(OR(VLOOKUP(E15,Parameters!$B$19:$C$49,2,FALSE)="",VLOOKUP(E15,Parameters!$B$19:$C$49,2,FALSE)="DayOff"),"",VLOOKUP(E15,Parameters!$B$19:$C$49,2,FALSE)),"") | G15: =IF(DAY(JanSun1)=1,JanSun1+31,JanSun1+38) -> 43138 | H15: =IFERROR(IF(OR(VLOOKUP(G15,Parameters!$B$19:$C$49,2,FALSE)="",VLOOKUP(G15,Parameters!$B$19:$C$49,2,FALSE)="DayOff"),"",VLOOKUP(G15,Parameters!$B$19:$C$49,2,FALSE)),"") | I15: =IF(DAY(JanSun1)=1,JanSun1+32,JanSun1+39) -> 43139 | J15: =IFERROR(IF(OR(VLOOKUP(I15,Parameters!$B$19:$C$49,2,FALSE)="",VLOOKUP(I15,Parameters!$B$19:$C$49,2,FALSE)="DayOff"),"",VLOOKUP(I15,Parameters!$B$19:$C$49,2,FALSE)),"") | K15: =IF(DAY(JanSun1)=1,JanSun1+33,JanSun1+40) -> 43140 | L15: =IFERROR(IF(OR(VLOOKUP(K15,Parameters!$B$19:$C$49,2,FALSE)="",VLOOKUP(K15,Parameters!$B$19:$C$49,2,FALSE)="DayOff"),"",VLOOKUP(K15,Parameters!$B$19:$C$49,2,FALSE)),"") | M15: =IF(DAY(JanSun1)=1,JanSun1+34,JanSun1+41) -> 43141 | O15: =IF(DAY(JanSun1)=1,JanSun1+35,JanSun1+42) -> 43142

Sheet February
B2: =" FEBRUARY "&Parameters!B14 -> FEBRUARY 2018
C3: Mon | E3: Tue | G3: Wed | I3: Thu | K3: Fri | M3: Sat | O3: Sun
C4: =IF(DAY(FebSun1)=1,FebSun1-6,FebSun1+1) -> 43129 | D4: =IFERROR(IF(OR(VLOOKUP(C4,Parameters!$D$19:$E$49,2,FALSE)="",VLOOKUP(C4,Parameters!$D$19:$E$49,2,FALSE)="DayOff"),"",VLOOKUP(C4,Parameters!$D$19:$E$49,2,FALSE)),"") | E4: =IF(DAY(FebSun1)=1,FebSun1-5,FebSun1+2) -> 43130 | F4: =IFERROR(IF(OR(VLOOKUP(E4,Parameters!$D$19:$E$49,2,FALSE)="",VLOOKUP(E4,Parameters!$D$19:$E$49,2,FALSE)="DayOff"),"",VLOOKUP(E4,Parameters!$D$19:$E$49,2,FALSE)),"") | G4: =IF(DAY(FebSun1)=1,FebSun1-4,FebSun1+3) -> 43131 | H4: =IFERROR(IF(OR(VLOOKUP(G4,Parameters!$D$19:$E$49,2,FALSE)="",VLOOKUP(G4,Parameters!$D$19:$E$49,2,FALSE)="DayOff"),"",VLOOKUP(G4,Parameters!$D$19:$E$49,2,FALSE)),"") | I4: =IF(DAY(FebSun1)=1,FebSun1-3,FebSun1+4) -> 43132 | J4: =IFERROR(IF(OR(VLOOKUP(I4,Parameters!$D$19:$E$49,2,FALSE)="",VLOOKUP(I4,Parameters!$D$19:$E$49,2,FALSE)="DayOff"),"",VLOOKUP(I4,Parameters!$D$19:$E$49,2,FALSE)),"") -> 1 | K4: =IF(DAY(FebSun1)=1,FebSun1-2,FebSun1+5) -> 43133 | L4: =IFERROR(IF(OR(VLOOKUP(K4,Parameters!$D$19:$E$49,2,FALSE)="",VLOOKUP(K4,Parameters!$D$19:$E$49,2,FALSE)="DayOff"),"",VLOOKUP(K4,Parameters!$D$19:$E$49,2,FALSE)),"") -> 2 | M4: =IF(DAY(FebSun1)=1,FebSun1-1,FebSun1+6) -> 43134 | O4: =IF(DAY(FebSun1)=1,FebSun1,FebSun1+7) -> 43135
C6: =IF(DAY(FebSun1)=1,FebSun1+1,FebSun1+8) -> 43136 | D6: =IFERROR(IF(OR(VLOOKUP(C6,Parameters!$D$19:$E$49,2,FALSE)="",VLOOKUP(C6,Parameters!$D$19:$E$49,2,FALSE)="DayOff"),"",VLOOKUP(C6,Parameters!$D$19:$E$49,2,FALSE)),"") -> 3 | E6: =IF(DAY(FebSun1)=1,FebSun1+2,FebSun1+9) -> 43137 | F6: =IFERROR(IF(OR(VLOOKUP(E6,Parameters!$D$19:$E$49,2,FALSE)="",VLOOKUP(E6,Parameters!$D$19:$E$49,2,FALSE)="DayOff"),"",VLOOKUP(E6,Parameters!$D$19:$E$49,2,FALSE)),"") -> 4 | G6: =IF(DAY(FebSun1)=1,FebSun1+3,FebSun1+10) -> 43138 | H6: =IFERROR(IF(OR(VLOOKUP(G6,Parameters!$D$19:$E$49,2,FALSE)="",VLOOKUP(G6,Parameters!$D$19:$E$49,2,FALSE)="DayOff"),"",VLOOKUP(G6,Parameters!$D$19:$E$49,2,FALSE)),"") -> 5 | I6: =IF(DAY(FebSun1)=1,FebSun1+4,FebSun1+11) -> 43139 | J6: =IFERROR(IF(OR(VLOOKUP(I6,Parameters!$D$19:$E$49,2,FALSE)="",VLOOKUP(I6,Parameters!$D$19:$E$49,2,FALSE)="DayOff"),"",VLOOKUP(I6,Parameters!$D$19:$E$49,2,FALSE)),"") -> 6 | K6: =IF(DAY(FebSun1)=1,FebSun1+5,FebSun1+12) -> 43140 | L6: =IFERROR(IF(OR(VLOOKUP(K6,Parameters!$D$19:$E$49,2,FALSE)="",VLOOKUP(K6,Parameters!$D$19:$E$49,2,FALSE)="DayOff"),"",VLOOKUP(K6,Parameters!$D$19:$E$49,2,FALSE)),"") -> 7 | M6: =IF(DAY(FebSun1)=1,FebSun1+6,FebSun1+13) -> 43141 | O6: =IF(DAY(FebSun1)=1,FebSun1+7,FebSun1+14) -> 43142
C8: =IF(DAY(FebSun1)=1,FebSun1+8,FebSun1+15) -> 43143 | D8: =IFERROR(IF(OR(VLOOKUP(C8,Parameters!$D$19:$E$49,2,FALSE)="",VLOOKUP(C8,Parameters!$D$19:$E$49,2,FALSE)="DayOff"),"",VLOOKUP(C8,Parameters!$D$19:$E$49,2,FALSE)),"") -> 8 | E8: =IF(DAY(FebSun1)=1,FebSun1+9,FebSun1+16) -> 43144 | F8: =IFERROR(IF(OR(VLOOKUP(E8,Parameters!$D$19:$E$49,2,FALSE)="",VLOOKUP(E8,Parameters!$D$19:$E$49,2,FALSE)="DayOff"),"",VLOOKUP(E8,Parameters!$D$19:$E$49,2,FALSE)),"") -> 9 | G8: =IF(DAY(FebSun1)=1,FebSun1+10,FebSun1+17) -> 43145 | H8: =IFERROR(IF(OR(VLOOKUP(G8,Parameters!$D$19:$E$49,2,FALSE)="",VLOOKUP(G8,Parameters!$D$19:$E$49,2,FALSE)="DayOff"),"",VLOOKUP(G8,Parameters!$D$19:$E$49,2,FALSE)),"") -> 10 | I8: =IF(DAY(FebSun1)=1,FebSun1+11,FebSun1+18) -> 43146 | J8: =IFERROR(IF(OR(VLOOKUP(I8,Parameters!$D$19:$E$49,2,FALSE)="",VLOOKUP(I8,Parameters!$D$19:$E$49,2,FALSE)="DayOff"),"",VLOOKUP(I8,Parameters!$D$19:$E$49,2,FALSE)),"") -> 11 | K8: =IF(DAY(FebSun1)=1,FebSun1+12,FebSun1+19) -> 43147 | L8: =IFERROR(IF(OR(VLOOKUP(K8,Parameters!$D$19:$E$49,2,FALSE)="",VLOOKUP(K8,Parameters!$D$19:$E$49,2,FALSE)="DayOff"),"",VLOOKUP(K8,Parameters!$D$19:$E$49,2,FALSE)),"") -> 12 | M8: =IF(DAY(FebSun1)=1,FebSun1+13,FebSun1+20) -> 43148 | O8: =IF(DAY(FebSun1)=1,FebSun1+14,FebSun1+21) -> 43149
C10: =IF(DAY(FebSun1)=1,FebSun1+15,FebSun1+22) -> 43150 | D10: =IFERROR(IF(OR(VLOOKUP(C10,Parameters!$D$19:$E$49,2,FALSE)="",VLOOKUP(C10,Parameters!$D$19:$E$49,2,FALSE)="DayOff"),"",VLOOKUP(C10,Parameters!$D$19:$E$49,2,FALSE)),"") | E10: =IF(DAY(FebSun1)=1,FebSun1+16,FebSun1+23) -> 43151 | F10: =IFERROR(IF(OR(VLOOKUP(E10,Parameters!$D$19:$E$49,2,FALSE)="",VLOOKUP(E10,Parameters!$D$19:$E$49,2,FALSE)="DayOff"),"",VLOOKUP(E10,Parameters!$D$19:$E$49,2,FALSE)),"") | G10: =IF(DAY(FebSun1)=1,FebSun1+17,FebSun1+24) -> 43152 | H10: =IFERROR(IF(OR(VLOOKUP(G10,Parameters!$D$19:$E$49,2,FALSE)="",VLOOKUP(G10,Parameters!$D$19:$E$49,2,FALSE)="DayOff"),"",VLOOKUP(G10,Parameters!$D$19:$E$49,2,FALSE)),"") | I10: =IF(DAY(FebSun1)=1,FebSun1+18,FebSun1+25) -> 43153 | J10: =IFERROR(IF(OR(VLOOKUP(I10,Parameters!$D$19:$E$49,2,FALSE)="",VLOOKUP(I10,Parameters!$D$19:$E$49,2,FALSE)="DayOff"),"",VLOOKUP(I10,Parameters!$D$19:$E$49,2,FALSE)),"") | K10: =IF(DAY(FebSun1)=1,FebSun1+19,FebSun1+26) -> 43154 | L10: =IFERROR(IF(OR(VLOOKUP(K10,Parameters!$D$19:$E$49,2,FALSE)="",VLOOKUP(K10,Parameters!$D$19:$E$49,2,FALSE)="DayOff"),"",VLOOKUP(K10,Parameters!$D$19:$E$49,2,FALSE)),"") | M10: =IF(DAY(FebSun1)=1,FebSun1+20,FebSun1+27) -> 43155 | O10: =IF(DAY(FebSun1)=1,FebSun1+21,FebSun1+28) -> 43156
E11: Maintenance
C12: =IF(DAY(FebSun1)=1,FebSun1+22,FebSun1+29) -> 43157 | D12: =IFERROR(IF(OR(VLOOKUP(C12,Parameters!$D$19:$E$49,2,FALSE)="",VLOOKUP(C12,Parameters!$D$19:$E$49,2,FALSE)="DayOff"),"",VLOOKUP(C12,Parameters!$D$19:$E$49,2,FALSE)),"") | E12: =IF(DAY(FebSun1)=1,FebSun1+23,FebSun1+30) -> 43158 | F12: =IFERROR(IF(OR(VLOOKUP(E12,Parameters!$D$19:$E$49,2,FALSE)="",VLOOKUP(E12,Parameters!$D$19:$E$49,2,FALSE)="DayOff"),"",VLOOKUP(E12,Parameters!$D$19:$E$49,2,FALSE)),"") | G12: =IF(DAY(FebSun1)=1,FebSun1+24,FebSun1+31) -> 43159 | H12: =IFERROR(IF(OR(VLOOKUP(G12,Parameters!$D$19:$E$49,2,FALSE)="",VLOOKUP(G12,Parameters!$D$19:$E$49,2,FALSE)="DayOff"),"",VLOOKUP(G12,Parameters!$D$19:$E$49,2,FALSE)),"") | I12: =IF(DAY(FebSun1)=1,FebSun1+25,FebSun1+32) -> 43160 | J12: =IFERROR(IF(OR(VLOOKUP(I12,Parameters!$D$19:$E$49,2,FALSE)="",VLOOKUP(I12,Parameters!$D$19:$E$49,2,FALSE)="DayOff"),"",VLOOKUP(I12,Parameters!$D$19:$E$49,2,FALSE)),"") | K12: =IF(DAY(FebSun1)=1,FebSun1+26,FebSun1+33) -> 43161 | L12: =IFERROR(IF(OR(VLOOKUP(K12,Parameters!$D$19:$E$49,2,FALSE)="",VLOOKUP(K12,Parameters!$D$19:$E$49,2,FALSE)="DayOff"),"",VLOOKUP(K12,Parameters!$D$19:$E$49,2,FALSE)),"") | M12: =IF(DAY(FebSun1)=1,FebSun1+27,FebSun1+34) -> 43162 | O12: =IF(DAY(FebSun1)=1,FebSun1+28,FebSun1+35) -> 43163
C14: =IF(DAY(FebSun1)=1,FebSun1+29,FebSun1+36) -> 43164 | D14: =IFERROR(IF(OR(VLOOKUP(C14,Parameters!$D$19:$E$49,2,FALSE)="",VLOOKUP(C14,Parameters!$D$19:$E$49,2,FALSE)="DayOff"),"",VLOOKUP(C14,Parameters!$D$19:$E$49,2,FALSE)),"") | E14: =IF(DAY(FebSun1)=1,FebSun1+30,FebSun1+37) -> 43165 | F14: =IFERROR(IF(OR(VLOOKUP(E14,Parameters!$D$19:$E$49,2,FALSE)="",VLOOKUP(E14,Parameters!$D$19:$E$49,2,FALSE)="DayOff"),"",VLOOKUP(E14,Parameters!$D$19:$E$49,2,FALSE)),"") | G14: =IF(DAY(FebSun1)=1,FebSun1+31,FebSun1+38) -> 43166 | H14: =IFERROR(IF(OR(VLOOKUP(G14,Parameters!$D$19:$E$49,2,FALSE)="",VLOOKUP(G14,Parameters!$D$19:$E$49,2,FALSE)="DayOff"),"",VLOOKUP(G14,Parameters!$D$19:$E$49,2,FALSE)),"") | I14: =IF(DAY(FebSun1)=1,FebSun1+32,FebSun1+39) -> 43167 | J14: =IFERROR(IF(OR(VLOOKUP(I14,Parameters!$D$19:$E$49,2,FALSE)="",VLOOKUP(I14,Parameters!$D$19:$E$49,2,FALSE)="DayOff"),"",VLOOKUP(I14,Parameters!$D$19:$E$49,2,FALSE)),"") | K14: =IF(DAY(FebSun1)=1,FebSun1+33,FebSun1+40) -> 43168 | L14: =IFERROR(IF(OR(VLOOKUP(K14,Parameters!$D$19:$E$49,2,FALSE)="",VLOOKUP(K14,Parameters!$D$19:$E$49,2,FALSE)="DayOff"),"",VLOOKUP(K14,Parameters!$D$19:$E$49,2,FALSE)),"") | M14: =IF(DAY(FebSun1)=1,FebSun1+34,FebSun1+41) -> 43169 | O14: =IF(DAY(FebSun1)=1,FebSun1+35,FebSun1+42) -> 43170

Sheet March
B2: =" MARCH "&Parameters!B14 -> MARCH 2018
C3: Mon | E3: Tue | G3: Wed | I3: Thu | K3: Fri | M3: Sat | O3: Sun
C4: =IF(DAY(MarSun1)=1,MarSun1-6,MarSun1+1) -> 43157 | D4: =IFERROR(IF(OR(VLOOKUP(C4,Parameters!$F$19:$G$49,2,FALSE)="",VLOOKUP(C4,Parameters!$F$19:$G$49,2,FALSE)="DayOff"),"",VLOOKUP(C4,Parameters!$F$19:$G$49,2,FALSE)),"") | E4: =IF(DAY(MarSun1)=1,MarSun1-5,MarSun1+2) -> 43158 | F4: =IFERROR(IF(OR(VLOOKUP(E4,Parameters!$F$19:$G$49,2,FALSE)="",VLOOKUP(E4,Parameters!$F$19:$G$49,2,FALSE)="DayOff"),"",VLOOKUP(E4,Parameters!$F$19:$G$49,2,FALSE)),"") | G4: =IF(DAY(MarSun1)=1,MarSun1-4,MarSun1+3) -> 43159 | H4: =IFERROR(IF(OR(VLOOKUP(G4,Parameters!$F$19:$G$49,2,FALSE)="",VLOOKUP(G4,Parameters!$F$19:$G$49,2,FALSE)="DayOff"),"",VLOOKUP(G4,Parameters!$F$19:$G$49,2,FALSE)),"") | I4: =IF(DAY(MarSun1)=1,MarSun1-3,MarSun1+4) -> 43160 | J4: =IFERROR(IF(OR(VLOOKUP(I4,Parameters!$F$19:$G$49,2,FALSE)="",VLOOKUP(I4,Parameters!$F$19:$G$49,2,FALSE)="DayOff"),"",VLOOKUP(I4,Parameters!$F$19:$G$49,2,FALSE)),"") -> 1 | K4: =IF(DAY(MarSun1)=1,MarSun1-2,MarSun1+5) -> 43161 | L4: =IFERROR(IF(OR(VLOOKUP(K4,Parameters!$F$19:$G$49,2,FALSE)="",VLOOKUP(K4,Parameters!$F$19:$G$49,2,FALSE)="DayOff"),"",VLOOKUP(K4,Parameters!$F$19:$G$49,2,FALSE)),"") -> 2 | M4: =IF(DAY(MarSun1)=1,MarSun1-1,MarSun1+6) -> 43162 | O4: =IF(DAY(MarSun1)=1,MarSun1,MarSun1+7) -> 43163
