Workbook

Sheet STAT Semaine
C3: Le Report des noms qui m'intéresse doit se faire de Q7 à Q56, Mon classement préalable par Grande valeur en O7-O56, Et donc le report de la note finale en AA7-AA56, MERCI ;)
C4: Au total il y aura une répétition de tableau vers le bas (56 fois exactement), avec la même problèmatique,
B7: =M7 -> 11.228812 | C7: Martin | D7: =OFFSET([1]Coffre!E7,(ROW()-7)*1,0) -> 86 | E7: =OFFSET([1]Coffre!F7,(ROW()-7)*1,0) -> 1.72 | F7: =(OFFSET([1]Coffre!F66,(ROW()-7)*2,0))/5 -> 0.288 | G7: =OFFSET([1]Coffre!F67,(ROW()-7)*2,0) -> 20 | H7: =OFFSET([1]Dons!E7,(ROW()-7)*1,0) -> 131 | I7: =OFFSET([1]Dons!F7,(ROW()-7)*1,0) -> 60 | J7: =IF(H7+I7+L7=-1,"INACTIF",OFFSET([1]Dons!F123,(ROW()-7)*7,0)) -> STANDARD(+) | K7: =OFFSET([1]Dons!F124,(ROW()-7)*7,0) -> 0.071978022 | L7: =OFFSET([1]Dons!F127,(ROW()-7)*7,0) -> 2.1696232 | M7: =IF(SUM(F7+G7+L7)/2<=0,0,SUM(F7+G7+L7)/2) -> 11.228812 | O7: =LARGE(B7:B56,1) -> 11.228812 | P7: 1 | Q7: =IF(O7=0," ",VLOOKUP(O7,'STAT Semaine'!B7:C56,2,FALSE)) -> Martin | R7: =IF(O7=0," ",VLOOKUP(Q7,C7:N56,2,FALSE)) -> 86 | S7: =IF(O7=0," ",VLOOKUP(Q7,C7:N56,3,FALSE)) -> 1.72 | T7: =IF(O7=0," ",VLOOKUP(Q7,C7:N56,4,FALSE)) -> 0.288 | U7: =IF(O7=0," ",VLOOKUP(Q7,C7:N56,5,FALSE)) -> 20 | V7: =IF(O7=0," ",VLOOKUP(Q7,C7:N56,6,FALSE)) -> 131 | W7: =IF(O7=0," ",VLOOKUP(Q7,C7:N56,7,FALSE)) -> 60 | X7: =IF(O7=0,"",VLOOKUP(Q7,C7:N56,8,FALSE)) -> STANDARD(+) | Y7: =IF(O7=0," ",VLOOKUP(Q7,C7:N56,9,FALSE)) -> 0.071978022 | Z7: =IF(O7=0," ",VLOOKUP(Q7,C7:N56,10,FALSE)) -> 2.1696232 | AA7: =IF(O7=0," ",IF(O7<0,0,IF(O7>20,20,IF(O7>=0,O7)))) -> 11.228812 | AC7: =IF(O7=0," ",VLOOKUP(O7,'STAT Semaine'!B7:C56,2,FALSE)) -> Martin
B8: =M8 -> 5.3142857 | C8: Maelis | D8: =OFFSET([1]Coffre!E7,(ROW()-7)*1,0) -> 25 | E8: =OFFSET([1]Coffre!F7,(ROW()-7)*1,0) -> 0.5 | F8: =(OFFSET([1]Coffre!F66,(ROW()-7)*2,0))/5 -> 0 | G8: =OFFSET([1]Coffre!F67,(ROW()-7)*2,0) -> 10 | H8: =OFFSET([1]Dons!E7,(ROW()-7)*1,0) -> 48 | I8: =OFFSET([1]Dons!F7,(ROW()-7)*1,0) -> 48 | J8: =IF(H8+I8+L8=-1,"INACTIF",OFFSET([1]Dons!F123,(ROW()-7)*7,0)) -> EQUITABLE | K8: =OFFSET([1]Dons!F124,(ROW()-7)*7,0) -> 0.028571429 | L8: =OFFSET([1]Dons!F127,(ROW()-7)*7,0) -> 0.62857143 | M8: =IF(SUM(F8+G8+L8)/2<=0,0,SUM(F8+G8+L8)/2) -> 5.3142857 | O8: =LARGE(B7:B56,2) -> 11.147932 | P8: 2 | Q8: =IF(O8=0," ",VLOOKUP(O8,'STAT Semaine'!B7:C56,2,FALSE)) -> Paul | R8: =IF(O8=0," ",VLOOKUP(Q8,C7:N56,2,FALSE)) -> 92 | S8: =IF(O8=0," ",VLOOKUP(Q8,C7:N56,3,FALSE)) -> 1.84 | T8: =IF(O8=0," ",VLOOKUP(Q8,C7:N56,4,FALSE)) -> 0.336 | U8: =IF(O8=0," ",VLOOKUP(Q8,C7:N56,5,FALSE)) -> 20 | V8: =IF(O8=0," ",VLOOKUP(Q8,C7:N56,6,FALSE)) -> 134 | W8: =IF(O8=0," ",VLOOKUP(Q8,C7:N56,7,FALSE)) -> 102 | X8: =IF(O8=0,"",VLOOKUP(Q8,C7:N56,8,FALSE)) -> STANDARD(+) | Y8: =IF(O8=0," ",VLOOKUP(Q8,C7:N56,9,FALSE)) -> 0.079761905 | Z8: =IF(O8=0," ",VLOOKUP(Q8,C7:N56,10,FALSE)) -> 1.9598639 | AA8: =IF(O8=0," ",IF(O8<0,0,IF(O8>20,20,IF(O8>=0,O8)))) -> 11.147932 | AC8: =IF(O8=0," ",VLOOKUP(O8,'STAT Semaine'!B7:C56,2,FALSE)) -> Paul
B9: =M9 -> 10.177959 | C9: Jean | D9: =OFFSET([1]Coffre!E7,(ROW()-7)*1,0) -> 70 | E9: =OFFSET([1]Coffre!F7,(ROW()-7)*1,0) -> 1.4 | F9: =(OFFSET([1]Coffre!F66,(ROW()-7)*2,0))/5 -> 0.16 | G9: =OFFSET([1]Coffre!F67,(ROW()-7)*2,0) -> 20 | H9: =OFFSET([1]Dons!E7,(ROW()-7)*1,0) -> 24 | I9: =OFFSET([1]Dons!F7,(ROW()-7)*1,0) -> 68 | J9: =IF(H9+I9+L9=-1,"INACTIF",OFFSET([1]Dons!F123,(ROW()-7)*7,0)) -> STANDARD(-) | K9: =OFFSET([1]Dons!F124,(ROW()-7)*7,0) -> 0.014285714 | L9: =OFFSET([1]Dons!F127,(ROW()-7)*7,0) -> 0.19591837 | M9: =IF(SUM(F9+G9+L9)/2<=0,0,SUM(F9+G9+L9)/2) -> 10.177959 | O9: =LARGE(B7:B56,3) -> 10.527321 | P9: 3 | Q9: =IF(O9=0," ",VLOOKUP(O9,'STAT Semaine'!B7:C56,2,FALSE)) -> Clém | R9: =IF(O9=0," ",VLOOKUP(Q9,C7:N56,2,FALSE)) -> 70 | S9: =IF(O9=0," ",VLOOKUP(Q9,C7:N56,3,FALSE)) -> 1.4 | T9: =IF(O9=0," ",VLOOKUP(Q9,C7:N56,4,FALSE)) -> 0.16 | U9: =IF(O9=0," ",VLOOKUP(Q9,C7:N56,5,FALSE)) -> 20 | V9: =IF(O9=0," ",VLOOKUP(Q9,C7:N56,6,FALSE)) -> 63 | W9: =IF(O9=0," ",VLOOKUP(Q9,C7:N56,7,FALSE)) -> 90 | X9: =IF(O9=0,"",VLOOKUP(Q9,C7:N56,8,FALSE)) -> STANDARD(-) | Y9: =IF(O9=0," ",VLOOKUP(Q9,C7:N56,9,FALSE)) -> 0.0375 | Z9: =IF(O9=0," ",VLOOKUP(Q9,C7:N56,10,FALSE)) -> 0.89464286 | AA9: =IF(O9=0," ",IF(O9<0,0,IF(O9>20,20,IF(O9>=0,O9)))) -> 10.527321 | AC9: =IF(O9=0," ",VLOOKUP(O9,'STAT Semaine'!B7:C56,2,FALSE)) -> Clém
B10: =M10 -> 7.69375 | C10: Linna | D10: =OFFSET([1]Coffre!E7,(ROW()-7)*1,0) -> 37 | E10: =OFFSET([1]Coffre!F7,(ROW()-7)*1,0) -> 0.74 | F10: =(OFFSET([1]Coffre!F66,(ROW()-7)*2,0))/5 -> 0 | G10: =OFFSET([1]Coffre!F67,(ROW()-7)*2,0) -> 14.8 | H10: =OFFSET([1]Dons!E7,(ROW()-7)*1,0) -> 47 | I10: =OFFSET([1]Dons!F7,(ROW()-7)*1,0) -> 40 | J10: =IF(H10+I10+L10=-1,"INACTIF",OFFSET([1]Dons!F123,(ROW()-7)*7,0)) -> STANDARD(+) | K10: =OFFSET([1]Dons!F124,(ROW()-7)*7,0) -> 0.02797619 | L10: =OFFSET([1]Dons!F127,(ROW()-7)*7,0) -> 0.5875 | M10: =IF(SUM(F10+G10+L10)/2<=0,0,SUM(F10+G10+L10)/2) -> 7.69375 | O10: =LARGE(B7:B56,4) -> 10.35751 | P10: 4 | Q10: =IF(O10=0," ",VLOOKUP(O10,'STAT Semaine'!B7:C56,2,FALSE)) -> Simon | R10: =IF(O10=0," ",VLOOKUP(Q10,C7:N56,2,FALSE)) -> 58 | S10: =IF(O10=0," ",VLOOKUP(Q10,C7:N56,3,FALSE)) -> 1.16 | T10: =IF(O10=0," ",VLOOKUP(Q10,C7:N56,4,FALSE)) -> 0.064 | U10: =IF(O10=0," ",VLOOKUP(Q10,C7:N56,5,FALSE)) -> 20 | V10: =IF(O10=0," ",VLOOKUP(Q10,C7:N56,6,FALSE)) -> 66 | W10: =IF(O10=0," ",VLOOKUP(Q10,C7:N56,7,FALSE)) -> 90 | X10: =IF(O10=0,"",VLOOKUP(Q10,C7:N56,8,FALSE)) -> STANDARD(-) | Y10: =IF(O10=0," ",VLOOKUP(Q10,C7:N56,9,FALSE)) -> 0.039285714 | Z10: =IF(O10=0," ",VLOOKUP(Q10,C7:N56,10,FALSE)) -> 0.65102041 | AA10: =IF(O10=0," ",IF(O10<0,0,IF(O10>20,20,IF(O10>=0,O10)))) -> 10.35751 | AC10: =IF(O10=0," ",VLOOKUP(O10,'STAT Semaine'!B7:C56,2,FALSE)) -> Simon
B11: =M11 -> 10.527321 | C11: Clém | D11: =OFFSET([1]Coffre!E7,(ROW()-7)*1,0) -> 70 | E11: =OFFSET([1]Coffre!F7,(ROW()-7)*1,0) -> 1.4 | F11: =(OFFSET([1]Coffre!F66,(ROW()-7)*2,0))/5 -> 0.16 | G11: =OFFSET([1]Coffre!F67,(ROW()-7)*2,0) -> 20 | H11: =OFFSET([1]Dons!E7,(ROW()-7)*1,0) -> 63 | I11: =OFFSET([1]Dons!F7,(ROW()-7)*1,0) -> 90 | J11: =IF(H11+I11+L11=-1,"INACTIF",OFFSET([1]Dons!F123,(ROW()-7)*7,0)) -> STANDARD(-) | K11: =OFFSET([1]Dons!F124,(ROW()-7)*7,0) -> 0.0375 | L11: =OFFSET([1]Dons!F127,(ROW()-7)*7,0) -> 0.89464286 | M11: =IF(SUM(F11+G11+L11)/2<=0,0,SUM(F11+G11+L11)/2) -> 10.527321 | O11: =LARGE(B7:B56,5) -> 10.177959 | P11: 5 | Q11: =IF(O11=0," ",VLOOKUP(O11,'STAT Semaine'!B7:C56,2,FALSE)) -> Jean | R11: =IF(O11=0," ",VLOOKUP(Q11,C7:N56,2,FALSE)) -> 70 | S11: =IF(O11=0," ",VLOOKUP(Q11,C7:N56,3,FALSE)) -> 1.4 | T11: =IF(O11=0," ",VLOOKUP(Q11,C7:N56,4,FALSE)) -> 0.16 | U11: =IF(O11=0," ",VLOOKUP(Q11,C7:N56,5,FALSE)) -> 20 | V11: =IF(O11=0," ",VLOOKUP(Q11,C7:N56,6,FALSE)) -> 24 | W11: =IF(O11=0," ",VLOOKUP(Q11,C7:N56,7,FALSE)) -> 68 | X11: =IF(O11=0,"",VLOOKUP(Q11,C7:N56,8,FALSE)) -> STANDARD(-) | Y11: =IF(O11=0," ",VLOOKUP(Q11,C7:N56,9,FALSE)) -> 0.014285714 | Z11: =IF(O11=0," ",VLOOKUP(Q11,C7:N56,10,FALSE)) -> 0.19591837 | AA11: =IF(O11=0," ",IF(O11<0,0,IF(O11>20,20,IF(O11>=0,O11)))) -> 10.177959 | AC11: =IF(O11=0," ",VLOOKUP(O11,'STAT Semaine'!B7:C56,2,FALSE)) -> Jean
B12: =M12 -> 10.35751 | C12: Simon | D12: =OFFSET([1]Coffre!E7,(ROW()-7)*1,0) -> 58 | E12: =OFFSET([1]Coffre!F7,(ROW()-7)*1,0) -> 1.16 | F12: =(OFFSET([1]Coffre!F66,(ROW()-7)*2,0))/5 -> 0.064 | G12: =OFFSET([1]Coffre!F67,(ROW()-7)*2,0) -> 20 | H12: =OFFSET([1]Dons!E7,(ROW()-7)*1,0) -> 66 | I12: =OFFSET([1]Dons!F7,(ROW()-7)*1,0) -> 90 | J12: =IF(H12+I12+L12=-1,"INACTIF",OFFSET([1]Dons!F123,(ROW()-7)*7,0)) -> STANDARD(-) | K12: =OFFSET([1]Dons!F124,(ROW()-7)*7,0) -> 0.039285714 | L12: =OFFSET([1]Dons!F127,(ROW()-7)*7,0) -> 0.65102041 | M12: =IF(SUM(F12+G12+L12)/2<=0,0,SUM(F12+G12+L12)/2) -> 10.35751 | O12: =LARGE(B7:B56,6) -> 7.9 | P12: 6 | Q12: =IF(O12=0," ",VLOOKUP(O12,'STAT Semaine'!B7:C56,2,FALSE)) -> Laura | R12: =IF(O12=0," ",VLOOKUP(Q12,C7:N56,2,FALSE)) -> 42 | S12: =IF(O12=0," ",VLOOKUP(Q12,C7:N56,3,FALSE)) -> 0.84 | T12: =IF(O12=0," ",VLOOKUP(Q12,C7:N56,4,FALSE)) -> 0 | U12: =IF(O12=0," ",VLOOKUP(Q12,C7:N56,5,FALSE)) -> 16.8 | V12: =IF(O12=0," ",VLOOKUP(Q12,C7:N56,6,FALSE)) -> 0 | W12: =IF(O12=0," ",VLOOKUP(Q12,C7:N56,7,FALSE)) -> 0 | X12: =IF(O12=0,"",VLOOKUP(Q12,C7:N56,8,FALSE)) -> INACTIF | Y12: =IF(O12=0," ",VLOOKUP(Q12,C7:N56,9,FALSE)) -> 0 | Z12: =IF(O12=0," ",VLOOKUP(Q12,C7:N56,10,FALSE)) -> -1 | AA12: =IF(O12=0," ",IF(O12<0,0,IF(O12>20,20,IF(O12>=0,O12)))) -> 7.9 | AC12: =IF(O12=0," ",VLOOKUP(O12,'STAT Semaine'!B7:C56,2,FALSE)) -> Laura
B13: =M13 -> 11.147932 | C13: Paul | D13: =OFFSET([1]Coffre!E7,(ROW()-7)*1,0) -> 92 | E13: =OFFSET([1]Coffre!F7,(ROW()-7)*1,0) -> 1.84 | F13: =(OFFSET([1]Coffre!F66,(ROW()-7)*2,0))/5 -> 0.336 | G13: =OFFSET([1]Coffre!F67,(ROW()-7)*2,0) -> 20 | H13: =OFFSET([1]Dons!E7,(ROW()-7)*1,0) -> 134 | I13: =OFFSET([1]Dons!F7,(ROW()-7)*1,0) -> 102 | J13: =IF(H13+I13+L13=-1,"INACTIF",OFFSET([1]Dons!F123,(ROW()-7)*7,0)) -> STANDARD(+) | K13: =OFFSET([1]Dons!F124,(ROW()-7)*7,0) -> 0.079761905 | L13: =OFFSET([1]Dons!F127,(ROW()-7)*7,0) -> 1.9598639 | M13: =IF(SUM(F13+G13+L13)/2<=0,0,SUM(F13+G13+L13)/2) -> 11.147932 | O13: =LARGE(B7:B56,7) -> 7.69375 | P13: 7 | Q13: =IF(O13=0," ",VLOOKUP(O13,'STAT Semaine'!B7:C56,2,FALSE)) -> Linna | R13: =IF(O13=0," ",VLOOKUP(Q13,C7:N56,2,FALSE)) -> 37 | S13: =IF(O13=0," ",VLOOKUP(Q13,C7:N56,3,FALSE)) -> 0.74 | T13: =IF(O13=0," ",VLOOKUP(Q13,C7:N56,4,FALSE)) -> 0 | U13: =IF(O13=0," ",VLOOKUP(Q13,C7:N56,5,FALSE)) -> 14.8 | V13: =IF(O13=0," ",VLOOKUP(Q13,C7:N56,6,FALSE)) -> 47 | W13: =IF(O13=0," ",VLOOKUP(Q13,C7:N56,7,FALSE)) -> 40 | X13: =IF(O13=0,"",VLOOKUP(Q13,C7:N56,8,FALSE)) -> STANDARD(+) | Y13: =IF(O13=0," ",VLOOKUP(Q13,C7:N56,9,FALSE)) -> 0.02797619 | Z13: =IF(O13=0," ",VLOOKUP(Q13,C7:N56,10,FALSE)) -> 0.5875 | AA13: =IF(O13=0," ",IF(O13<0,0,IF(O13>20,20,IF(O13>=0,O13)))) -> 7.69375 | AC13: =IF(O13=0," ",VLOOKUP(O13,'STAT Semaine'!B7:C56,2,FALSE)) -> Linna
B14: =M14 -> 7.3972171 | C14: Antoine | D14: =OFFSET([1]Coffre!E7,(ROW()-7)*1,0) -> 34 | E14: =OFFSET([1]Coffre!F7,(ROW()-7)*1,0) -> 0.68 | F14: =(OFFSET([1]Coffre!F66,(ROW()-7)*2,0))/5 -> 0 | G14: =OFFSET([1]Coffre!F67,(ROW()-7)*2,0) -> 13.6 | H14: =OFFSET([1]Dons!E7,(ROW()-7)*1,0) -> 74 | I14: =OFFSET([1]Dons!F7,(ROW()-7)*1,0) -> 40 | J14: =IF(H14+I14+L14=-1,"INACTIF",OFFSET([1]Dons!F123,(ROW()-7)*7,0)) -> STANDARD(+) | K14: =OFFSET([1]Dons!F124,(ROW()-7)*7,0) -> 0.048051948 | L14: =OFFSET([1]Dons!F127,(ROW()-7)*7,0) -> 1.1944341 | M14: =IF(SUM(F14+G14+L14)/2<=0,0,SUM(F14+G14+L14)/2) -> 7.3972171 | O14: =LARGE(B7:B56,8) -> 7.3972171 | P14: 8 | Q14: =IF(O14=0," ",VLOOKUP(O14,'STAT Semaine'!B7:C56,2,FALSE)) -> Antoine | R14: =IF(O14=0," ",VLOOKUP(Q14,C7:N56,2,FALSE)) -> 34 | S14: =IF(O14=0," ",VLOOKUP(Q14,C7:N56,3,FALSE)) -> 0.68 | T14: =IF(O14=0," ",VLOOKUP(Q14,C7:N56,4,FALSE)) -> 0 | U14: =IF(O14=0," ",VLOOKUP(Q14,C7:N56,5,FALSE)) -> 13.6 | V14: =IF(O14=0," ",VLOOKUP(Q14,C7:N56,6,FALSE)) -> 74 | W14: =IF(O14=0," ",VLOOKUP(Q14,C7:N56,7,FALSE)) -> 40 | X14: =IF(O14=0,"",VLOOKUP(Q14,C7:N56,8,FALSE)) -> STANDARD(+) | Y14: =IF(O14=0," ",VLOOKUP(Q14,C7:N56,9,FALSE)) -> 0.048051948 | Z14: =IF(O14=0," ",VLOOKUP(Q14,C7:N56,10,FALSE)) -> 1.1944341 | AA14: =IF(O14=0," ",IF(O14<0,0,IF(O14>20,20,IF(O14>=0,O14)))) -> 7.3972171 | AC14: =IF(O14=0," ",VLOOKUP(O14,'STAT Semaine'!B7:C56,2,FALSE)) -> Antoine
B15: =M15 -> 0 | C15: Juliette | D15: =OFFSET([1]Coffre!E7,(ROW()-7)*1,0) -> 0 | E15: =OFFSET([1]Coffre!F7,(ROW()-7)*1,0) -> 0 | F15: =(OFFSET([1]Coffre!F66,(ROW()-7)*2,0))/5 -> 0 | G15: =OFFSET([1]Coffre!F67,(ROW()-7)*2,0) -> 0 | H15: =OFFSET([1]Dons!E7,(ROW()-7)*1,0) -> 0 | I15: =OFFSET([1]Dons!F7,(ROW()-7)*1,0) -> 0 | J15: =IF(H15+I15+L15=-1,"INACTIF",OFFSET([1]Dons!F123,(ROW()-7)*7,0)) -> INACTIF | K15: =OFFSET([1]Dons!F124,(ROW()-7)*7,0) -> 0 | L15: =OFFSET([1]Dons!F127,(ROW()-7)*7,0) -> -1 | M15: =IF(SUM(F15+G15+L15)/2<=0,0,SUM(F15+G15+L15)/2) -> 0 | O15: =LARGE(B7:B56,9) -> 5.3142857 | P15: 9 | Q15: =IF(O15=0," ",VLOOKUP(O15,'STAT Semaine'!B7:C56,2,FALSE)) -> Maelis | R15: =IF(O15=0," ",VLOOKUP(Q15,C7:N56,2,FALSE)) -> 25 | S15: =IF(O15=0," ",VLOOKUP(Q15,C7:N56,3,FALSE)) -> 0.5 | T15: =IF(O15=0," ",VLOOKUP(Q15,C7:N56,4,FALSE)) -> 0 | U15: =IF(O15=0," ",VLOOKUP(Q15,C7:N56,5,FALSE)) -> 10 | V15: =IF(O15=0," ",VLOOKUP(Q15,C7:N56,6,FALSE)) -> 48 | W15: =IF(O15=0," ",VLOOKUP(Q15,C7:N56,7,FALSE)) -> 48 | X15: =IF(O15=0,"",VLOOKUP(Q15,C7:N56,8,FALSE)) -> EQUITABLE | Y15: =IF(O15=0," ",VLOOKUP(Q15,C7:N56,9,FALSE)) -> 0.028571429 | Z15: =IF(O15=0," ",VLOOKUP(Q15,C7:N56,10,FALSE)) -> 0.62857143 | AA15: =IF(O15=0," ",IF(O15<0,0,IF(O15>20,20,IF(O15>=0,O15)))) -> 5.3142857 | AC15: =IF(O15=0," ",VLOOKUP(O15,'STAT Semaine'!B7:C56,2,FALSE)) -> Maelis
B16: =M16 -> 0 | C16: Elisa | D16: =OFFSET([1]Coffre!E7,(ROW()-7)*1,0) -> 0 | E16: =OFFSET([1]Coffre!F7,(ROW()-7)*1,0) -> 0 | F16: =(OFFSET([1]Coffre!F66,(ROW()-7)*2,0))/5 -> 0 | G16: =OFFSET([1]Coffre!F67,(ROW()-7)*2,0) -> 0 | H16: =OFFSET([1]Dons!E7,(ROW()-7)*1,0) -> 0 | I16: =OFFSET([1]Dons!F7,(ROW()-7)*1,0) -> 0 | J16: =IF(H16+I16+L16=-1,"INACTIF",OFFSET([1]Dons!F123,(ROW()-7)*7,0)) -> INACTIF | K16: =OFFSET([1]Dons!F124,(ROW()-7)*7,0) -> 0 | L16: =OFFSET([1]Dons!F127,(ROW()-7)*7,0) -> -1 | M16: =IF(SUM(F16+G16+L16)/2<=0,0,SUM(F16+G16+L16)/2) -> 0 | O16: =LARGE(B7:B56,10) -> 5.3 | P16: 10 | Q16: =IF(O16=0," ",VLOOKUP(O16,'STAT Semaine'!B7:C56,2,FALSE)) -> Camille | R16: =IF(O16=0," ",VLOOKUP(Q16,C7:N56,2,FALSE)) -> 29 | S16: =IF(O16=0," ",VLOOKUP(Q16,C7:N56,3,FALSE)) -> 0.58 | T16: =IF(O16=0," ",VLOOKUP(Q16,C7:N56,4,FALSE)) -> 0 | U16: =IF(O16=0," ",VLOOKUP(Q16,C7:N56,5,FALSE)) -> 11.6 | V16: =IF(O16=0," ",VLOOKUP(Q16,C7:N56,6,FALSE)) -> 0 | W16: =IF(O16=0," ",VLOOKUP(Q16,C7:N56,7,FALSE)) -> 0 | X16: =IF(O16=0,"",VLOOKUP(Q16,C7:N56,8,FALSE)) -> INACTIF | Y16: =IF(O16=0," ",VLOOKUP(Q16,C7:N56,9,FALSE)) -> 0 | Z16: =IF(O16=0," ",VLOOKUP(Q16,C7:N56,10,FALSE)) -> -1 | AA16: =IF(O16=0," ",IF(O16<0,0,IF(O16>20,20,IF(O16>=0,O16)))) -> 5.3 | AC16: =IF(O16=0," ",VLOOKUP(O16,'STAT Semaine'!B7:C56,2,FALSE)) -> Camille
B17: =M17 -> 3.0428571 | C17: Anaïs | D17: =OFFSET([1]Coffre!E7,(ROW()-7)*1,0) -> 32 | E17: =OFFSET([1]Coffre!F7,(ROW()-7)*1,0) -> 0.64 | F17: =(OFFSET([1]Coffre!F66,(ROW()-7)*2,0))/5 -> 0 | G17: =OFFSET([1]Coffre!F67,(ROW()-7)*2,0) -> 12.8 | H17: =OFFSET([1]Dons!E7,(ROW()-7)*1,0) -> 0 | I17: =OFFSET([1]Dons!F7,(ROW()-7)*1,0) -> 60 | J17: =IF(H17+I17+L17=-1,"INACTIF",OFFSET([1]Dons!F123,(ROW()-7)*7,0)) -> VAMPIRE | K17: =OFFSET([1]Dons!F124,(ROW()-7)*7,0) -> 0 | L17: =OFFSET([1]Dons!F127,(ROW()-7)*7,0) -> -6.7142857 | M17: =IF(SUM(F17+G17+L17)/2<=0,0,SUM(F17+G17+L17)/2) -> 3.0428571 | O17: =LARGE(B7:B56,11) -> 4.1 | P17: 11 | Q17: =IF(O17=0," ",VLOOKUP(O17,'STAT Semaine'!B7:C56,2,FALSE)) -> Mia | R17: =IF(O17=0," ",VLOOKUP(Q17,C7:N56,2,FALSE)) -> 23 | S17: =IF(O17=0," ",VLOOKUP(Q17,C7:N56,3,FALSE)) -> 0.46 | T17: =IF(O17=0," ",VLOOKUP(Q17,C7:N56,4,FALSE)) -> 0 | U17: =IF(O17=0," ",VLOOKUP(Q17,C7:N56,5,FALSE)) -> 9.2 | V17: =IF(O17=0," ",VLOOKUP(Q17,C7:N56,6,FALSE)) -> 0 | W17: =IF(O17=0," ",VLOOKUP(Q17,C7:N56,7,FALSE)) -> 0 | X17: =IF(O17=0,"",VLOOKUP(Q17,C7:N56,8,FALSE)) -> INACTIF | Y17: =IF(O17=0," ",VLOOKUP(Q17,C7:N56,9,FALSE)) -> 0 | Z17: =IF(O17=0," ",VLOOKUP(Q17,C7:N56,10,FALSE)) -> -1 | AA17: =IF(O17=0," ",IF(O17<0,0,IF(O17>20,20,IF(O17>=0,O17)))) -> 4.1 | AC17: =IF(O17=0," ",VLOOKUP(O17,'STAT Semaine'!B7:C56,2,FALSE)) -> Mia
B18: =M18 -> 0 | C18: Louise | D18: =OFFSET([1]Coffre!E7,(ROW()-7)*1,0) -> 0 | E18: =OFFSET([1]Coffre!F7,(ROW()-7)*1,0) -> 0 | F18: =(OFFSET([1]Coffre!F66,(ROW()-7)*2,0))/5 -> 0 | G18: =OFFSET([1]Coffre!F67,(ROW()-7)*2,0) -> 0 | H18: =OFFSET([1]Dons!E7,(ROW()-7)*1,0) -> 0 | I18: =OFFSET([1]Dons!F7,(ROW()-7)*1,0) -> 0 | J18: =IF(H18+I18+L18=-1,"INACTIF",OFFSET([1]Dons!F123,(ROW()-7)*7,0)) -> INACTIF | K18: =OFFSET([1]Dons!F124,(ROW()-7)*7,0) -> 0 | L18: =OFFSET([1]Dons!F127,(ROW()-7)*7,0) -> -1 | M18: =IF(SUM(F18+G18+L18)/2<=0,0,SUM(F18+G18+L18)/2) -> 0 | O18: =LARGE(B7:B56,12) -> 3.0428571 | P18: 12 | Q18: =IF(O18=0," ",VLOOKUP(O18,'STAT Semaine'!B7:C56,2,FALSE)) -> Anaïs | R18: =IF(O18=0," ",VLOOKUP(Q18,C7:N56,2,FALSE)) -> 32 | S18: =IF(O18=0," ",VLOOKUP(Q18,C7:N56,3,FALSE)) -> 0.64 | T18: =IF(O18=0," ",VLOOKUP(Q18,C7:N56,4,FALSE)) -> 0 | U18: =IF(O18=0," ",VLOOKUP(Q18,C7:N56,5,FALSE)) -> 12.8 | V18: =IF(O18=0," ",VLOOKUP(Q18,C7:N56,6,FALSE)) -> 0 | W18: =IF(O18=0," ",VLOOKUP(Q18,C7:N56,7,FALSE)) -> 60 | X18: =IF(O18=0,"",VLOOKUP(Q18,C7:N56,8,FALSE)) -> VAMPIRE | Y18: =IF(O18=0," ",VLOOKUP(Q18,C7:N56,9,FALSE)) -> 0 | Z18: =IF(O18=0," ",VLOOKUP(Q18,C7:N56,10,FALSE)) -> -6.7142857 | AA18: =IF(O18=0," ",IF(O18<0,0,IF(O18>20,20,IF(O18>=0,O18)))) -> 3.0428571 | AC18: =IF(O18=0," ",VLOOKUP(O18,'STAT Semaine'!B7:C56,2,FALSE)) -> Anaïs
B19: =M19 -> 0 | C19: Gabriel | D19: =OFFSET([1]Coffre!E7,(ROW()-7)*1,0) -> 0 | E19: =OFFSET([1]Coffre!F7,(ROW()-7)*1,0) -> 0 | F19: =(OFFSET([1]Coffre!F66,(ROW()-7)*2,0))/5 -> 0 | G19: =OFFSET([1]Coffre!F67,(ROW()-7)*2,0) -> 0 | H19: =OFFSET([1]Dons!E7,(ROW()-7)*1,0) -> 0 | I19: =OFFSET([1]Dons!F7,(ROW()-7)*1,0) -> 0 | J19: =IF(H19+I19+L19=-1,"INACTIF",OFFSET([1]Dons!F123,(ROW()-7)*7,0)) -> INACTIF | K19: =OFFSET([1]Dons!F124,(ROW()-7)*7,0) -> 0 | L19: =OFFSET([1]Dons!F127,(ROW()-7)*7,0) -> -1 | M19: =IF(SUM(F19+G19+L19)/2<=0,0,SUM(F19+G19+L19)/2) -> 0 | O19: =LARGE(B7:B56,13) -> 2.7312925 | P19: 13 | Q19: =IF(O19=0," ",VLOOKUP(O19,'STAT Semaine'!B7:C56,2,FALSE)) -> Nayla | R19: =IF(O19=0," ",VLOOKUP(Q19,C7:N56,2,FALSE)) -> 11 | S19: =IF(O19=0," ",VLOOKUP(Q19,C7:N56,3,FALSE)) -> 0.22 | T19: =IF(O19=0," ",VLOOKUP(Q19,C7:N56,4,FALSE)) -> 0 | U19: =IF(O19=0," ",VLOOKUP(Q19,C7:N56,5,FALSE)) -> 4.4 | V19: =IF(O19=0," ",VLOOKUP(Q19,C7:N56,6,FALSE)) -> 22 | W19: =IF(O19=0," ",VLOOKUP(Q19,C7:N56,7,FALSE)) -> 20 | X19: =IF(O19=0,"",VLOOKUP(Q19,C7:N56,8,FALSE)) -> STANDARD(+) | Y19: =IF(O19=0," ",VLOOKUP(Q19,C7:N56,9,FALSE)) -> 0.052380952 | Z19: =IF(O19=0," ",VLOOKUP(Q19,C7:N56,10,FALSE)) -> 1.062585 | AA19: =IF(O19=0," ",IF(O19<0,0,IF(O19>20,20,IF(O19>=0,O19)))) -> 2.7312925 | AC19: =IF(O19=0," ",VLOOKUP(O19,'STAT Semaine'!B7:C56,2,FALSE)) -> Nayla
B20: =M20 -> 4.1 | C20: Mia | D20: =OFFSET([1]Coffre!E7,(ROW()-7)*1,0) -> 23 | E20: =OFFSET([1]Coffre!F7,(ROW()-7)*1,0) -> 0.46 | F20: =(OFFSET([1]Coffre!F66,(ROW()-7)*2,0))/5 -> 0 | G20: =OFFSET([1]Coffre!F67,(ROW()-7)*2,0) -> 9.2 | H20: =OFFSET([1]Dons!E7,(ROW()-7)*1,0) -> 0 | I20: =OFFSET([1]Dons!F7,(ROW()-7)*1,0) -> 0 | J20: =IF(H20+I20+L20=-1,"INACTIF",OFFSET([1]Dons!F123,(ROW()-7)*7,0)) -> INACTIF | K20: =OFFSET([1]Dons!F124,(ROW()-7)*7,0) -> 0 | L20: =OFFSET([1]Dons!F127,(ROW()-7)*7,0) -> -1 | M20: =IF(SUM(F20+G20+L20)/2<=0,0,SUM(F20+G20+L20)/2) -> 4.1 | O20: =LARGE(B7:B56,14) -> 2.3473923 | P20: 14 | Q20: =IF(O20=0," ",VLOOKUP(O20,'STAT Semaine'!B7:C56,2,FALSE)) -> Marius | R20: =IF(O20=0," ",VLOOKUP(Q20,C7:N56,2,FALSE)) -> 11 | S20: =IF(O20=0," ",VLOOKUP(Q20,C7:N56,3,FALSE)) -> 0.22 | T20: =IF(O20=0," ",VLOOKUP(Q20,C7:N56,4,FALSE)) -> 0 | U20: =IF(O20=0," ",VLOOKUP(Q20,C7:N56,5,FALSE)) -> 4.4 | V20: =IF(O20=0," ",VLOOKUP(Q20,C7:N56,6,FALSE)) -> 20 | W20: =IF(O20=0," ",VLOOKUP(Q20,C7:N56,7,FALSE)) -> 30 | X20: =IF(O20=0,"",VLOOKUP(Q20,C7:N56,8,FALSE)) -> STANDARD(-) | Y20: =IF(O20=0," ",VLOOKUP(Q20,C7:N56,9,FALSE)) -> 0.015873016 | Z20: =IF(O20=0," ",VLOOKUP(Q20,C7:N56,10,FALSE)) -> 0.29478458 | AA20: =IF(O20=0," ",IF(O20<0,0,IF(O20>20,20,IF(O20>=0,O20)))) -> 2.3473923 | AC20: =IF(O20=0," ",VLOOKUP(O20,'STAT Semaine'!B7:C56,2,FALSE)) -> Marius
B21: =M21 -> 2.3473923 | C21: Marius | D21: =OFFSET([1]Coffre!E7,(ROW()-7)*1,0) -> 11 | E21: =OFFSET([1]Coffre!F7,(ROW()-7)*1,0) -> 0.22 | F21: =(OFFSET([1]Coffre!F66,(ROW()-7)*2,0))/5 -> 0 | G21: =OFFSET([1]Coffre!F67,(ROW()-7)*2,0) -> 4.4 | H21: =OFFSET([1]Dons!E7,(ROW()-7)*1,0) -> 20 | I21: =OFFSET([1]Dons!F7,(ROW()-7)*1,0) -> 30 | J21: =IF(H21+I21+L21=-1,"INACTIF",OFFSET([1]Dons!F123,(ROW()-7)*7,0)) -> STANDARD(-) | K21: =OFFSET([1]Dons!F124,(ROW()-7)*7,0) -> 0.015873016 | L21: =OFFSET([1]Dons!F127,(ROW()-7)*7,0) -> 0.29478458 | M21: =IF(SUM(F21+G21+L21)/2<=0,0,SUM(F21+G21+L21)/2) -> 2.3473923 | O21: =LARGE(B7:B56,15) -> 1.2938776 | P21: 15 | Q21: =IF(O21=0," ",VLOOKUP(O21,'STAT Semaine'!B7:C56,2,FALSE)) -> Mathilde | R21: =IF(O21=0," ",VLOOKUP(Q21,C7:N56,2,FALSE)) -> 5 | S21: =IF(O21=0," ",VLOOKUP(Q21,C7:N56,3,FALSE)) -> 0.1 | T21: =IF(O21=0," ",VLOOKUP(Q21,C7:N56,4,FALSE)) -> 0 | U21: =IF(O21=0," ",VLOOKUP(Q21,C7:N56,5,FALSE)) -> 2 | V21: =IF(O21=0," ",VLOOKUP(Q21,C7:N56,6,FALSE)) -> 24 | W21: =IF(O21=0," ",VLOOKUP(Q21,C7:N56,7,FALSE)) -> 20 | X21: =IF(O21=0,"",VLOOKUP(Q21,C7:N56,8,FALSE)) -> STANDARD(+) | Y21: =IF(O21=0," ",VLOOKUP(Q21,C7:N56,9,FALSE)) -> 0.028571429 | Z21: =IF(O21=0," ",VLOOKUP(Q21,C7:N56,10,FALSE)) -> 0.5877551 | AA21: =IF(O21=0," ",IF(O21<0,0,IF(O21>20,20,IF(O21>=0,O21)))) -> 1.2938776 | AC21: =IF(O21=0," ",VLOOKUP(O21,'STAT Semaine'!B7:C56,2,FALSE)) -> Mathilde
B22: =M22 -> 0 | C22: Iris | D22: =OFFSET([1]Coffre!E7,(ROW()-7)*1,0) -> 0 | E22: =OFFSET([1]Coffre!F7,(ROW()-7)*1,0) -> 0 | F22: =(OFFSET([1]Coffre!F66,(ROW()-7)*2,0))/5 -> 0 | G22: =OFFSET([1]Coffre!F67,(ROW()-7)*2,0) -> 0 | H22: =OFFSET([1]Dons!E7,(ROW()-7)*1,0) -> 0 | I22: =OFFSET([1]Dons!F7,(ROW()-7)*1,0) -> 0 | J22: =IF(H22+I22+L22=-1,"INACTIF",OFFSET([1]Dons!F123,(ROW()-7)*7,0)) -> INACTIF | K22: =OFFSET([1]Dons!F124,(ROW()-7)*7,0) -> 0 | L22: =OFFSET([1]Dons!F127,(ROW()-7)*7,0) -> -1 | M22: =IF(SUM(F22+G22+L22)/2<=0,0,SUM(F22+G22+L22)/2) -> 0 | O22: =LARGE(B7:B56,16) -> 1.1571429 | P22: 16 | Q22: =IF(O22=0," ",VLOOKUP(O22,'STAT Semaine'!B7:C56,2,FALSE)) -> Emmy | R22: =IF(O22=0," ",VLOOKUP(Q22,C7:N56,2,FALSE)) -> 19 | S22: =IF(O22=0," ",VLOOKUP(Q22,C7:N56,3,FALSE)) -> 0.38 | T22: =IF(O22=0," ",VLOOKUP(Q22,C7:N56,4,FALSE)) -> 0 | U22: =IF(O22=0," ",VLOOKUP(Q22,C7:N56,5,FALSE)) -> 7.6 | V22: =IF(O22=0," ",VLOOKUP(Q22,C7:N56,6,FALSE)) -> 0 | W22: =IF(O22=0," ",VLOOKUP(Q22,C7:N56,7,FALSE)) -> 10 | X22: =IF(O22=0,"",VLOOKUP(Q22,C7:N56,8,FALSE)) -> VAMPIRE | Y22: =IF(O22=0," ",VLOOKUP(Q22,C7:N56,9,FALSE)) -> 0 | Z22: =IF(O22=0," ",VLOOKUP(Q22,C7:N56,10,FALSE)) -> -5.2857143 | AA22: =IF(O22=0," ",IF(O22<0,0,IF(O22>20,20,IF(O22>=0,O22)))) -> 1.1571429 | AC22: =IF(O22=0," ",VLOOKUP(O22,'STAT Semaine'!B7:C56,2,FALSE)) -> Emmy
B23: =M23 -> 0 | C23: Sacha | D23: =OFFSET([1]Coffre!E7,(ROW()-7)*1,0) -> 0 | E23: =OFFSET([1]Coffre!F7,(ROW()-7)*1,0) -> 0 | F23: =(OFFSET([1]Coffre!F66,(ROW()-7)*2,0))/5 -> 0 | G23: =OFFSET([1]Coffre!F67,(ROW()-7)*2,0) -> 0 | H23: =OFFSET([1]Dons!E7,(ROW()-7)*1,0) -> 0 | I23: =OFFSET([1]Dons!F7,(ROW()-7)*1,0) -> 0 | J23: =IF(H23+I23+L23=-1,"INACTIF",OFFSET([1]Dons!F123,(ROW()-7)*7,0)) -> INACTIF | K23: =OFFSET([1]Dons!F124,(ROW()-7)*7,0) -> 0 | L23: =OFFSET([1]Dons!F127,(ROW()-7)*7,0) -> -1 | M23: =IF(SUM(F23+G23+L23)/2<=0,0,SUM(F23+G23+L23)/2) -> 0 | O23: =LARGE(B7:B56,17) -> 1.0183107 | P23: 17 | Q23: =IF(O23=0," ",VLOOKUP(O23,'STAT Semaine'!B7:C56,2,FALSE)) -> Jul | R23: =IF(O23=0," ",VLOOKUP(Q23,C7:N56,2,FALSE)) -> 3 | S23: =IF(O23=0," ",VLOOKUP(Q23,C7:N56,3,FALSE)) -> 0.06 | T23: =IF(O23=0," ",VLOOKUP(Q23,C7:N56,4,FALSE)) -> 0 | U23: =IF(O23=0," ",VLOOKUP(Q23,C7:N56,5,FALSE)) -> 1.2 | V23: =IF(O23=0," ",VLOOKUP(Q23,C7:N56,6,FALSE)) -> 47 | W23: =IF(O23=0," ",VLOOKUP(Q23,C7:N56,7,FALSE)) -> 30 | X23: =IF(O23=0,"",VLOOKUP(Q23,C7:N56,8,FALSE)) -> STANDARD(+) | Y23: =IF(O23=0," ",VLOOKUP(Q23,C7:N56,9,FALSE)) -> 0.037301587 | Z23: =IF(O23=0," ",VLOOKUP(Q23,C7:N56,10,FALSE)) -> 0.83662132 | AA23: =IF(O23=0," ",IF(O23<0,0,IF(O23>20,20,IF(O23>=0,O23)))) -> 1.0183107 | AC23: =IF(O23=0," ",VLOOKUP(O23,'STAT Semaine'!B7:C56,2,FALSE)) -> Jul
B24: =M24 -> 0 | C24: Etan | D24: =OFFSET([1]Coffre!E7,(ROW()-7)*1,0) -> 1 | E24: =OFFSET([1]Coffre!F7,(ROW()-7)*1,0) -> 0.02 | F24: =(OFFSET([1]Coffre!F66,(ROW()-7)*2,0))/5 -> 0 | G24: =OFFSET([1]Coffre!F67,(ROW()-7)*2,0) -> 0.4 | H24: =OFFSET([1]Dons!E7,(ROW()-7)*1,0) -> 0 | I24: =OFFSET([1]Dons!F7,(ROW()-7)*1,0) -> 0 | J24: =IF(H24+I24+L24=-1,"INACTIF",OFFSET([1]Dons!F123,(ROW()-7)*7,0)) -> INACTIF | K24: =OFFSET([1]Dons!F124,(ROW()-7)*7,0) -> 0 | L24: =OFFSET([1]Dons!F127,(ROW()-7)*7,0) -> -1 | M24: =IF(SUM(F24+G24+L24)/2<=0,0,SUM(F24+G24+L24)/2) -> 0 | O24: =LARGE(B7:B56,18) -> 0 | P24: 18 | Q24: =IF(O24=0," ",VLOOKUP(O24,'STAT Semaine'!B7:C56,2,FALSE)) | R24: =IF(O24=0," ",VLOOKUP(Q24,C7:N56,2,FALSE)) | S24: =IF(O24=0," ",VLOOKUP(Q24,C7:N56,3,FALSE)) | T24: =IF(O24=0," ",VLOOKUP(Q24,C7:N56,4,FALSE)) | U24: =IF(O24=0," ",VLOOKUP(Q24,C7:N56,5,FALSE)) | V24: =IF(O24=0," ",VLOOKUP(Q24,C7:N56,6,FALSE)) | W24: =IF(O24=0," ",VLOOKUP(Q24,C7:N56,7,FALSE)) | X24: =IF(O24=0,"",VLOOKUP(Q24,C7:N56,8,FALSE)) | Y24: =IF(O24=0," ",VLOOKUP(Q24,C7:N56,9,FALSE)) | Z24: =IF(O24=0," ",VLOOKUP(Q24,C7:N56,10,FALSE)) | AA24: =IF(O24=0," ",IF(O24<0,0,IF(O24>20,20,IF(O24>=0,O24)))) | AC24: =IF(O24=0," ",VLOOKUP(O24,'STAT Semaine'!B7:C56,2,FALSE))
B25: =M25 -> 1.0183107 | C25: Jul | D25: =OFFSET([1]Coffre!E7,(ROW()-7)*1,0) -> 3 | E25: =OFFSET([1]Coffre!F7,(ROW()-7)*1,0) -> 0.06 | F25: =(OFFSET([1]Coffre!F66,(ROW()-7)*2,0))/5 -> 0 | G25: =OFFSET([1]Coffre!F67,(ROW()-7)*2,0) -> 1.2 | H25: =OFFSET([1]Dons!E7,(ROW()-7)*1,0) -> 47 | I25: =OFFSET([1]Dons!F7,(ROW()-7)*1,0) -> 30 | J25: =IF(H25+I25+L25=-1,"INACTIF",OFFSET([1]Dons!F123,(ROW()-7)*7,0)) -> STANDARD(+) | K25: =OFFSET([1]Dons!F124,(ROW()-7)*7,0) -> 0.037301587 | L25: =OFFSET([1]Dons!F127,(ROW()-7)*7,0) -> 0.83662132 | M25: =IF(SUM(F25+G25+L25)/2<=0,0,SUM(F25+G25+L25)/2) -> 1.0183107 | O25: =LARGE(B7:B56,19) -> 0 | P25: 19 | Q25: =IF(O25=0," ",VLOOKUP(O25,'STAT Semaine'!B7:C56,2,FALSE)) | R25: =IF(O25=0," ",VLOOKUP(Q25,C7:N56,2,FALSE)) | S25: =IF(O25=0," ",VLOOKUP(Q25,C7:N56,3,FALSE)) | T25: =IF(O25=0," ",VLOOKUP(Q25,C7:N56,4,FALSE)) | U25: =IF(O25=0," ",VLOOKUP(Q25,C7:N56,5,FALSE)) | V25: =IF(O25=0," ",VLOOKUP(Q25,C7:N56,6,FALSE)) | W25: =IF(O25=0," ",VLOOKUP(Q25,C7:N56,7,FALSE)) | X25: =IF(O25=0,"",VLOOKUP(Q25,C7:N56,8,FALSE)) | Y25: =IF(O25=0," ",VLOOKUP(Q25,C7:N56,9,FALSE)) | Z25: =IF(O25=0," ",VLOOKUP(Q25,C7:N56,10,FALSE)) | AA25: =IF(O25=0," ",IF(O25<0,0,IF(O25>20,20,IF(O25>=0,O25)))) | AC25: =IF(O25=0," ",VLOOKUP(O25,'STAT Semaine'!B7:C56,2,FALSE))
B26: =M26 -> 0 | C26: Isaac | D26: =OFFSET([1]Coffre!E7,(ROW()-7)*1,0) -> 0 | E26: =OFFSET([1]Coffre!F7,(ROW()-7)*1,0) -> 0 | F26: =(OFFSET([1]Coffre!F66,(ROW()-7)*2,0))/5 -> 0 | G26: =OFFSET([1]Coffre!F67,(ROW()-7)*2,0) -> 0 | H26: =OFFSET([1]Dons!E7,(ROW()-7)*1,0) -> 0 | I26: =OFFSET([1]Dons!F7,(ROW()-7)*1,0) -> 0 | J26: =IF(H26+I26+L26=-1,"INACTIF",OFFSET([1]Dons!F123,(ROW()-7)*7,0)) -> INACTIF | K26: =OFFSET([1]Dons!F124,(ROW()-7)*7,0) -> 0 | L26: =OFFSET([1]Dons!F127,(ROW()-7)*7,0) -> -1 | M26: =IF(SUM(F26+G26+L26)/2<=0,0,SUM(F26+G26+L26)/2) -> 0 | O26: =LARGE(B7:B56,20) -> 0 | P26: 20 | Q26: =IF(O26=0," ",VLOOKUP(O26,'STAT Semaine'!B7:C56,2,FALSE)) | R26: =IF(O26=0," ",VLOOKUP(Q26,C7:N56,2,FALSE)) | S26: =IF(O26=0," ",VLOOKUP(Q26,C7:N56,3,FALSE)) | T26: =IF(O26=0," ",VLOOKUP(Q26,C7:N56,4,FALSE)) | U26: =IF(O26=0," ",VLOOKUP(Q26,C7:N56,5,FALSE)) | V26: =IF(O26=0," ",VLOOKUP(Q26,C7:N56,6,FALSE)) | W26: =IF(O26=0," ",VLOOKUP(Q26,C7:N56,7,FALSE)) | X26: =IF(O26=0,"",VLOOKUP(Q26,C7:N56,8,FALSE)) | Y26: =IF(O26=0," ",VLOOKUP(Q26,C7:N56,9,FALSE)) | Z26: =IF(O26=0," ",VLOOKUP(Q26,C7:N56,10,FALSE)) | AA26: =IF(O26=0," ",IF(O26<0,0,IF(O26>20,20,IF(O26>=0,O26)))) | AC26: =IF(O26=0," ",VLOOKUP(O26,'STAT Semaine'!B7:C56,2,FALSE))
B27: =M27 -> 7.9 | C27: Laura | D27: =OFFSET([1]Coffre!E7,(ROW()-7)*1,0) -> 42 | E27: =OFFSET([1]Coffre!F7,(ROW()-7)*1,0) -> 0.84 | F27: =(OFFSET([1]Coffre!F66,(ROW()-7)*2,0))/5 -> 0 | G27: =OFFSET([1]Coffre!F67,(ROW()-7)*2,0) -> 16.8 | H27: =OFFSET([1]Dons!E7,(ROW()-7)*1,0) -> 0 | I27: =OFFSET([1]Dons!F7,(ROW()-7)*1,0) -> 0 | J27: =IF(H27+I27+L27=-1,"INACTIF",OFFSET([1]Dons!F123,(ROW()-7)*7,0)) -> INACTIF | K27: =OFFSET([1]Dons!F124,(ROW()-7)*7,0) -> 0 | L27: =OFFSET([1]Dons!F127,(ROW()-7)*7,0) -> -1 | M27: =IF(SUM(F27+G27+L27)/2<=0,0,SUM(F27+G27+L27)/2) -> 7.9 | O27: =LARGE(B7:B56,21) -> 0 | P27: 21 | Q27: =IF(O27=0," ",VLOOKUP(O27,'STAT Semaine'!B7:C56,2,FALSE)) | R27: =IF(O27=0," ",VLOOKUP(Q27,C7:N56,2,FALSE)) | S27: =IF(O27=0," ",VLOOKUP(Q27,C7:N56,3,FALSE)) | T27: =IF(O27=0," ",VLOOKUP(Q27,C7:N56,4,FALSE)) | U27: =IF(O27=0," ",VLOOKUP(Q27,C7:N56,5,FALSE)) | V27: =IF(O27=0," ",VLOOKUP(Q27,C7:N56,6,FALSE)) | W27: =IF(O27=0," ",VLOOKUP(Q27,C7:N56,7,FALSE)) | X27: =IF(O27=0,"",VLOOKUP(Q27,C7:N56,8,FALSE)) | Y27: =IF(O27=0," ",VLOOKUP(Q27,C7:N56,9,FALSE)) | Z27: =IF(O27=0," ",VLOOKUP(Q27,C7:N56,10,FALSE)) | AA27: =IF(O27=0," ",IF(O27<0,0,IF(O27>20,20,IF(O27>=0,O27)))) | AC27: =IF(O27=0," ",VLOOKUP(O27,'STAT Semaine'!B7:C56,2,FALSE))
B28: =M28 -> 0 | C28: Léo | D28: =OFFSET([1]Coffre!E7,(ROW()-7)*1,0) -> 0 | E28: =OFFSET([1]Coffre!F7,(ROW()-7)*1,0) -> 0 | F28: =(OFFSET([1]Coffre!F66,(ROW()-7)*2,0))/5 -> 0 | G28: =OFFSET([1]Coffre!F67,(ROW()-7)*2,0) -> 0 | H28: =OFFSET([1]Dons!E7,(ROW()-7)*1,0) -> 0 | I28: =OFFSET([1]Dons!F7,(ROW()-7)*1,0) -> 0 | J28: =IF(H28+I28+L28=-1,"INACTIF",OFFSET([1]Dons!F123,(ROW()-7)*7,0)) -> INACTIF | K28: =OFFSET([1]Dons!F124,(ROW()-7)*7,0) -> 0 | L28: =OFFSET([1]Dons!F127,(ROW()-7)*7,0) -> -1 | M28: =IF(SUM(F28+G28+L28)/2<=0,0,SUM(F28+G28+L28)/2) -> 0 | O28: =LARGE(B7:B56,22) -> 0 | P28: 22 | Q28: =IF(O28=0," ",VLOOKUP(O28,'STAT Semaine'!B7:C56,2,FALSE)) | R28: =IF(O28=0," ",VLOOKUP(Q28,C7:N56,2,FALSE)) | S28: =IF(O28=0," ",VLOOKUP(Q28,C7:N56,3,FALSE)) | T28: =IF(O28=0," ",VLOOKUP(Q28,C7:N56,4,FALSE)) | U28: =IF(O28=0," ",VLOOKUP(Q28,C7:N56,5,FALSE)) | V28: =IF(O28=0," ",VLOOKUP(Q28,C7:N56,6,FALSE)) | W28: =IF(O28=0," ",VLOOKUP(Q28,C7:N56,7,FALSE)) | X28: =IF(O28=0,"",VLOOKUP(Q28,C7:N56,8,FALSE)) | Y28: =IF(O28=0," ",VLOOKUP(Q28,C7:N56,9,FALSE)) | Z28: =IF(O28=0," ",VLOOKUP(Q28,C7:N56,10,FALSE)) | AA28: =IF(O28=0," ",IF(O28<0,0,IF(O28>20,20,IF(O28>=0,O28)))) | AC28: =IF(O28=0," ",VLOOKUP(O28,'STAT Semaine'!B7:C56,2,FALSE))
B29: =M29 -> 1.2938776 | C29: Mathilde | D29: =OFFSET([1]Coffre!E7,(ROW()-7)*1,0) -> 5 | E29: =OFFSET([1]Coffre!F7,(ROW()-7)*1,0) -> 0.1 | F29: =(OFFSET([1]Coffre!F66,(ROW()-7)*2,0))/5 -> 0 | G29: =OFFSET([1]Coffre!F67,(ROW()-7)*2,0) -> 2 | H29: =OFFSET([1]Dons!E7,(ROW()-7)*1,0) -> 24 | I29: =OFFSET([1]Dons!F7,(ROW()-7)*1,0) -> 20 | J29: =IF(H29+I29+L29=-1,"INACTIF",OFFSET([1]Dons!F123,(ROW()-7)*7,0)) -> STANDARD(+) | K29: =OFFSET([1]Dons!F124,(ROW()-7)*7,0) -> 0.028571429 | L29: =OFFSET([1]Dons!F127,(ROW()-7)*7,0) -> 0.5877551 | M29: =IF(SUM(F29+G29+L29)/2<=0,0,SUM(F29+G29+L29)/2) -> 1.2938776 | O29: =LARGE(B7:B56,23) -> 0 | P29: 23 | Q29: =IF(O29=0," ",VLOOKUP(O29,'STAT Semaine'!B7:C56,2,FALSE)) | R29: =IF(O29=0," ",VLOOKUP(Q29,C7:N56,2,FALSE)) | S29: =IF(O29=0," ",VLOOKUP(Q29,C7:N56,3,FALSE)) | T29: =IF(O29=0," ",VLOOKUP(Q29,C7:N56,4,FALSE)) | U29: =IF(O29=0," ",VLOOKUP(Q29,C7:N56,5,FALSE)) | V29: =IF(O29=0," ",VLOOKUP(Q29,C7:N56,6,FALSE)) | W29: =IF(O29=0," ",VLOOKUP(Q29,C7:N56,7,FALSE)) | X29: =IF(O29=0,"",VLOOKUP(Q29,C7:N56,8,FALSE)) | Y29: =IF(O29=0," ",VLOOKUP(Q29,C7:N56,9,FALSE)) | Z29: =IF(O29=0," ",VLOOKUP(Q29,C7:N56,10,FALSE)) | AA29: =IF(O29=0," ",IF(O29<0,0,IF(O29>20,20,IF(O29>=0,O29)))) | AC29: =IF(O29=0," ",VLOOKUP(O29,'STAT Semaine'!B7:C56,2,FALSE))
B30: =M30 -> 0 | C30: Elie | D30: =OFFSET([1]Coffre!E7,(ROW()-7)*1,0) -> 0 | E30: =OFFSET([1]Coffre!F7,(ROW()-7)*1,0) -> 0 | F30: =(OFFSET([1]Coffre!F66,(ROW()-7)*2,0))/5 -> 0 | G30: =OFFSET([1]Coffre!F67,(ROW()-7)*2,0) -> 0 | H30: =OFFSET([1]Dons!E7,(ROW()-7)*1,0) -> 0 | I30: =OFFSET([1]Dons!F7,(ROW()-7)*1,0) -> 0 | J30: =IF(H30+I30+L30=-1,"INACTIF",OFFSET([1]Dons!F123,(ROW()-7)*7,0)) -> INACTIF | K30: =OFFSET([1]Dons!F124,(ROW()-7)*7,0) -> 0 | L30: =OFFSET([1]Dons!F127,(ROW()-7)*7,0) -> -1 | M30: =IF(SUM(F30+G30+L30)/2<=0,0,SUM(F30+G30+L30)/2) -> 0 | O30: =LARGE(B7:B56,24) -> 0 | P30: 24 | Q30: =IF(O30=0," ",VLOOKUP(O30,'STAT Semaine'!B7:C56,2,FALSE)) | R30: =IF(O30=0," ",VLOOKUP(Q30,C7:N56,2,FALSE)) | S30: =IF(O30=0," ",VLOOKUP(Q30,C7:N56,3,FALSE)) | T30: =IF(O30=0," ",VLOOKUP(Q30,C7:N56,4,FALSE)) | U30: =IF(O30=0," ",VLOOKUP(Q30,C7:N56,5,FALSE)) | V30: =IF(O30=0," ",VLOOKUP(Q30,C7:N56,6,FALSE)) | W30: =IF(O30=0," ",VLOOKUP(Q30,C7:N56,7,FALSE)) | X30: =IF(O30=0,"",VLOOKUP(Q30,C7:N56,8,FALSE)) | Y30: =IF(O30=0," ",VLOOKUP(Q30,C7:N56,9,FALSE)) | Z30: =IF(O30=0," ",VLOOKUP(Q30,C7:N56,10,FALSE)) | AA30: =IF(O30=0," ",IF(O30<0,0,IF(O30>20,20,IF(O30>=0,O30)))) | AC30: =IF(O30=0," ",VLOOKUP(O30,'STAT Semaine'!B7:C56,2,FALSE))
B31: =M31 -> 0 | C31: Lila | D31: =OFFSET([1]Coffre!E7,(ROW()-7)*1,0) -> 0 | E31: =OFFSET([1]Coffre!F7,(ROW()-7)*1,0) -> 0 | F31: =(OFFSET([1]Coffre!F66,(ROW()-7)*2,0))/5 -> 0 | G31: =OFFSET([1]Coffre!F67,(ROW()-7)*2,0) -> 0 | H31: =OFFSET([1]Dons!E7,(ROW()-7)*1,0) -> 0 | I31: =OFFSET([1]Dons!F7,(ROW()-7)*1,0) -> 0 | J31: =IF(H31+I31+L31=-1,"INACTIF",OFFSET([1]Dons!F123,(ROW()-7)*7,0)) -> INACTIF | K31: =OFFSET([1]Dons!F124,(ROW()-7)*7,0) -> 0 | L31: =OFFSET([1]Dons!F127,(ROW()-7)*7,0) -> -1 | M31: =IF(SUM(F31+G31+L31)/2<=0,0,SUM(F31+G31+L31)/2) -> 0 | O31: =LARGE(B7:B56,25) -> 0 | P31: 25 | Q31: =IF(O31=0," ",VLOOKUP(O31,'STAT Semaine'!B7:C56,2,FALSE)) | R31: =IF(O31=0," ",VLOOKUP(Q31,C7:N56,2,FALSE)) | S31: =IF(O31=0," ",VLOOKUP(Q31,C7:N56,3,FALSE)) | T31: =IF(O31=0," ",VLOOKUP(Q31,C7:N56,4,FALSE)) | U31: =IF(O31=0," ",VLOOKUP(Q31,C7:N56,5,FALSE)) | V31: =IF(O31=0," ",VLOOKUP(Q31,C7:N56,6,FALSE)) | W31: =IF(O31=0," ",VLOOKUP(Q31,C7:N56,7,FALSE)) | X31: =IF(O31=0,"",VLOOKUP(Q31,C7:N56,8,FALSE)) | Y31: =IF(O31=0," ",VLOOKUP(Q31,C7:N56,9,FALSE)) | Z31: =IF(O31=0," ",VLOOKUP(Q31,C7:N56,10,FALSE)) | AA31: =IF(O31=0," ",IF(O31<0,0,IF(O31>20,20,IF(O31>=0,O31)))) | AC31: =IF(O31=0," ",VLOOKUP(O31,'STAT Semaine'!B7:C56,2,FALSE))
B32: =M32 -> 0 | C32: Alexandre | D32: =OFFSET([1]Coffre!E7,(ROW()-7)*1,0) -> 0 | E32: =OFFSET([1]Coffre!F7,(ROW()-7)*1,0) -> 0 | F32: =(OFFSET([1]Coffre!F66,(ROW()-7)*2,0))/5 -> 0 | G32: =OFFSET([1]Coffre!F67,(ROW()-7)*2,0) -> 0 | H32: =OFFSET([1]Dons!E7,(ROW()-7)*1,0) -> 0 | I32: =OFFSET([1]Dons!F7,(ROW()-7)*1,0) -> 0 | J32: =IF(H32+I32+L32=-1,"INACTIF",OFFSET([1]Dons!F123,(ROW()-7)*7,0)) -> INACTIF | K32: =OFFSET([1]Dons!F124,(ROW()-7)*7,0) -> 0 | L32: =OFFSET([1]Dons!F127,(ROW()-7)*7,0) -> -1 | M32: =IF(SUM(F32+G32+L32)/2<=0,0,SUM(F32+G32+L32)/2) -> 0 | O32: =LARGE(B7:B56,26) -> 0 | P32: 26 | Q32: =IF(O32=0," ",VLOOKUP(O32,'STAT Semaine'!B7:C56,2,FALSE)) | R32: =IF(O32=0," ",VLOOKUP(Q32,C7:N56,2,FALSE)) | S32: =IF(O32=0," ",VLOOKUP(Q32,C7:N56,3,FALSE)) | T32: =IF(O32=0," ",VLOOKUP(Q32,C7:N56,4,FALSE)) | U32: =IF(O32=0," ",VLOOKUP(Q32,C7:N56,5,FALSE)) | V32: =IF(O32=0," ",VLOOKUP(Q32,C7:N56,6,FALSE)) | W32: =IF(O32=0," ",VLOOKUP(Q32,C7:N56,7,FALSE)) | X32: =IF(O32=0,"",VLOOKUP(Q32,C7:N56,8,FALSE)) | Y32: =IF(O32=0," ",VLOOKUP(Q32,C7:N56,9,FALSE)) | Z32: =IF(O32=0," ",VLOOKUP(Q32,C7:N56,10,FALSE)) | AA32: =IF(O32=0," ",IF(O32<0,0,IF(O32>20,20,IF(O32>=0,O32)))) | AC32: =IF(O32=0," ",VLOOKUP(O32,'STAT Semaine'!B7:C56,2,FALSE))
B33: =M33 -> 0 | C33: Rose | D33: =OFFSET([1]Coffre!E7,(ROW()-7)*1,0) -> 0 | E33: =OFFSET([1]Coffre!F7,(ROW()-7)*1,0) -> 0 | F33: =(OFFSET([1]Coffre!F66,(ROW()-7)*2,0))/5 -> 0 | G33: =OFFSET([1]Coffre!F67,(ROW()-7)*2,0) -> 0 | H33: =OFFSET([1]Dons!E7,(ROW()-7)*1,0) -> 0 | I33: =OFFSET([1]Dons!F7,(ROW()-7)*1,0) -> 0 | J33: =IF(H33+I33+L33=-1,"INACTIF",OFFSET([1]Dons!F123,(ROW()-7)*7,0)) -> INACTIF | K33: =OFFSET([1]Dons!F124,(ROW()-7)*7,0) -> 0 | L33: =OFFSET([1]Dons!F127,(ROW()-7)*7,0) -> -1 | M33: =IF(SUM(F33+G33+L33)/2<=0,0,SUM(F33+G33+L33)/2) -> 0 | O33: =LARGE(B7:B56,27) -> 0 | P33: 27 | Q33: =IF(O33=0," ",VLOOKUP(O33,'STAT Semaine'!B7:C56,2,FALSE)) | R33: =IF(O33=0," ",VLOOKUP(Q33,C7:N56,2,FALSE)) | S33: =IF(O33=0," ",VLOOKUP(Q33,C7:N56,3,FALSE)) | T33: =IF(O33=0," ",VLOOKUP(Q33,C7:N56,4,FALSE)) | U33: =IF(O33=0," ",VLOOKUP(Q33,C7:N56,5,FALSE)) | V33: =IF(O33=0," ",VLOOKUP(Q33,C7:N56,6,FALSE)) | W33: =IF(O33=0," ",VLOOKUP(Q33,C7:N56,7,FALSE)) | X33: =IF(O33=0,"",VLOOKUP(Q33,C7:N56,8,FALSE)) | Y33: =IF(O33=0," ",VLOOKUP(Q33,C7:N56,9,FALSE)) | Z33: =IF(O33=0," ",VLOOKUP(Q33,C7:N56,10,FALSE)) | AA33: =IF(O33=0," ",IF(O33<0,0,IF(O33>20,20,IF(O33>=0,O33)))) | AC33: =IF(O33=0," ",VLOOKUP(O33,'STAT Semaine'!B7:C56,2,FALSE))
B34: =M34 -> 0 | C34: Imran | D34: =OFFSET([1]Coffre!E7,(ROW()-7)*1,0) -> 0 | E34: =OFFSET([1]Coffre!F7,(ROW()-7)*1,0) -> 0 | F34: =(OFFSET([1]Coffre!F66,(ROW()-7)*2,0))/5 -> 0 | G34: =OFFSET([1]Coffre!F67,(ROW()-7)*2,0) -> 0 | H34: =OFFSET([1]Dons!E7,(ROW()-7)*1,0) -> 0 | I34: =OFFSET([1]Dons!F7,(ROW()-7)*1,0) -> 0 | J34: =IF(H34+I34+L34=-1,"INACTIF",OFFSET([1]Dons!F123,(ROW()-7)*7,0)) -> INACTIF | K34: =OFFSET([1]Dons!F124,(ROW()-7)*7,0) -> 0 | L34: =OFFSET([1]Dons!F127,(ROW()-7)*7,0) -> -1 | M34: =IF(SUM(F34+G34+L34)/2<=0,0,SUM(F34+G34+L34)/2) -> 0 | O34: =LARGE(B7:B56,28) -> 0 | P34: 28 | Q34: =IF(O34=0," ",VLOOKUP(O34,'STAT Semaine'!B7:C56,2,FALSE)) | R34: =IF(O34=0," ",VLOOKUP(Q34,C7:N56,2,FALSE)) | S34: =IF(O34=0," ",VLOOKUP(Q34,C7:N56,3,FALSE)) | T34: =IF(O34=0," ",VLOOKUP(Q34,C7:N56,4,FALSE)) | U34: =IF(O34=0," ",VLOOKUP(Q34,C7:N56,5,FALSE)) | V34: =IF(O34=0," ",VLOOKUP(Q34,C7:N56,6,FALSE)) | W34: =IF(O34=0," ",VLOOKUP(Q34,C7:N56,7,FALSE)) | X34: =IF(O34=0,"",VLOOKUP(Q34,C7:N56,8,FALSE)) | Y34: =IF(O34=0," ",VLOOKUP(Q34,C7:N56,9,FALSE)) | Z34: =IF(O34=0," ",VLOOKUP(Q34,C7:N56,10,FALSE)) | AA34: =IF(O34=0," ",IF(O34<0,0,IF(O34>20,20,IF(O34>=0,O34)))) | AC34: =IF(O34=0," ",VLOOKUP(O34,'STAT Semaine'!B7:C56,2,FALSE))
B35: =M35 -> 5.3 | C35: Camille | D35: =OFFSET([1]Coffre!E7,(ROW()-7)*1,0) -> 29 | E35: =OFFSET([1]Coffre!F7,(ROW()-7)*1,0) -> 0.58 | F35: =(OFFSET([1]Coffre!F66,(ROW()-7)*2,0))/5 -> 0 | G35: =OFFSET([1]Coffre!F67,(ROW()-7)*2,0) -> 11.6 | H35: =OFFSET([1]Dons!E7,(ROW()-7)*1,0) -> 0 | I35: =OFFSET([1]Dons!F7,(ROW()-7)*1,0) -> 0 | J35: =IF(H35+I35+L35=-1,"INACTIF",OFFSET([1]Dons!F123,(ROW()-7)*7,0)) -> INACTIF | K35: =OFFSET([1]Dons!F124,(ROW()-7)*7,0) -> 0 | L35: =OFFSET([1]Dons!F127,(ROW()-7)*7,0) -> -1 | M35: =IF(SUM(F35+G35+L35)/2<=0,0,SUM(F35+G35+L35)/2) -> 5.3 | O35: =LARGE(B7:B56,29) -> 0 | P35: 29 | Q35: =IF(O35=0," ",VLOOKUP(O35,'STAT Semaine'!B7:C56,2,FALSE)) | R35: =IF(O35=0," ",VLOOKUP(Q35,C7:N56,2,FALSE)) | S35: =IF(O35=0," ",VLOOKUP(Q35,C7:N56,3,FALSE)) | T35: =IF(O35=0," ",VLOOKUP(Q35,C7:N56,4,FALSE)) | U35: =IF(O35=0," ",VLOOKUP(Q35,C7:N56,5,FALSE)) | V35: =IF(O35=0," ",VLOOKUP(Q35,C7:N56,6,FALSE)) | W35: =IF(O35=0," ",VLOOKUP(Q35,C7:N56,7,FALSE)) | X35: =IF(O35=0,"",VLOOKUP(Q35,C7:N56,8,FALSE)) | Y35: =IF(O35=0," ",VLOOKUP(Q35,C7:N56,9,FALSE)) | Z35: =IF(O35=0," ",VLOOKUP(Q35,C7:N56,10,FALSE)) | AA35: =IF(O35=0," ",IF(O35<0,0,IF(O35>20,20,IF(O35>=0,O35)))) | AC35: =IF(O35=0," ",VLOOKUP(O35,'STAT Semaine'!B7:C56,2,FALSE))
B36: =M36 -> 0 | C36: Léon | D36: =OFFSET([1]Coffre!E7,(ROW()-7)*1,0) -> 0 | E36: =OFFSET([1]Coffre!F7,(ROW()-7)*1,0) -> 0 | F36: =(OFFSET([1]Coffre!F66,(ROW()-7)*2,0))/5 -> 0 | G36: =OFFSET([1]Coffre!F67,(ROW()-7)*2,0) -> 0 | H36: =OFFSET([1]Dons!E7,(ROW()-7)*1,0) -> 0 | I36: =OFFSET([1]Dons!F7,(ROW()-7)*1,0) -> 0 | J36: =IF(H36+I36+L36=-1,"INACTIF",OFFSET([1]Dons!F123,(ROW()-7)*7,0)) -> INACTIF | K36: =OFFSET([1]Dons!F124,(ROW()-7)*7,0) -> 0 | L36: =OFFSET([1]Dons!F127,(ROW()-7)*7,0) -> -1 | M36: =IF(SUM(F36+G36+L36)/2<=0,0,SUM(F36+G36+L36)/2) -> 0 | O36: =LARGE(B7:B56,30) -> 0 | P36: 30 | Q36: =IF(O36=0," ",VLOOKUP(O36,'STAT Semaine'!B7:C56,2,FALSE)) | R36: =IF(O36=0," ",VLOOKUP(Q36,C7:N56,2,FALSE)) | S36: =IF(O36=0," ",VLOOKUP(Q36,C7:N56,3,FALSE)) | T36: =IF(O36=0," ",VLOOKUP(Q36,C7:N56,4,FALSE)) | U36: =IF(O36=0," ",VLOOKUP(Q36,C7:N56,5,FALSE)) | V36: =IF(O36=0," ",VLOOKUP(Q36,C7:N56,6,FALSE)) | W36: =IF(O36=0," ",VLOOKUP(Q36,C7:N56,7,FALSE)) | X36: =IF(O36=0,"",VLOOKUP(Q36,C7:N56,8,FALSE)) | Y36: =IF(O36=0," ",VLOOKUP(Q36,C7:N56,9,FALSE)) | Z36: =IF(O36=0," ",VLOOKUP(Q36,C7:N56,10,FALSE)) | AA36: =IF(O36=0," ",IF(O36<0,0,IF(O36>20,20,IF(O36>=0,O36)))) | AC36: =IF(O36=0," ",VLOOKUP(O36,'STAT Semaine'!B7:C56,2,FALSE))
B37: =M37 -> 1.1571429 | C37: Emmy | D37: =OFFSET([1]Coffre!E7,(ROW()-7)*1,0) -> 19 | E37: =OFFSET([1]Coffre!F7,(ROW()-7)*1,0) -> 0.38 | F37: =(OFFSET([1]Coffre!F66,(ROW()-7)*2,0))/5 -> 0 | G37: =OFFSET([1]Coffre!F67,(ROW()-7)*2,0) -> 7.6 | H37: =OFFSET([1]Dons!E7,(ROW()-7)*1,0) -> 0 | I37: =OFFSET([1]Dons!F7,(ROW()-7)*1,0) -> 10 | J37: =IF(H37+I37+L37=-1,"INACTIF",OFFSET([1]Dons!F123,(ROW()-7)*7,0)) -> VAMPIRE | K37: =OFFSET([1]Dons!F124,(ROW()-7)*7,0) -> 0 | L37: =OFFSET([1]Dons!F127,(ROW()-7)*7,0) -> -5.2857143 | M37: =IF(SUM(F37+G37+L37)/2<=0,0,SUM(F37+G37+L37)/2) -> 1.1571429 | O37: =LARGE(B7:B56,31) -> 0 | P37: 31 | Q37: =IF(O37=0," ",VLOOKUP(O37,'STAT Semaine'!B7:C56,2,FALSE)) | R37: =IF(O37=0," ",VLOOKUP(Q37,C7:N56,2,FALSE)) | S37: =IF(O37=0," ",VLOOKUP(Q37,C7:N56,3,FALSE)) | T37: =IF(O37=0," ",VLOOKUP(Q37,C7:N56,4,FALSE)) | U37: =IF(O37=0," ",VLOOKUP(Q37,C7:N56,5,FALSE)) | V37: =IF(O37=0," ",VLOOKUP(Q37,C7:N56,6,FALSE)) | W37: =IF(O37=0," ",VLOOKUP(Q37,C7:N56,7,FALSE)) | X37: =IF(O37=0,"",VLOOKUP(Q37,C7:N56,8,FALSE)) | Y37: =IF(O37=0," ",VLOOKUP(Q37,C7:N56,9,FALSE)) | Z37: =IF(O37=0," ",VLOOKUP(Q37,C7:N56,10,FALSE)) | AA37: =IF(O37=0," ",IF(O37<0,0,IF(O37>20,20,IF(O37>=0,O37)))) | AC37: =IF(O37=0," ",VLOOKUP(O37,'STAT Semaine'!B7:C56,2,FALSE))
B38: =M38 -> 0 | C38: Louise | D38: =OFFSET([1]Coffre!E7,(ROW()-7)*1,0) -> 0 | E38: =OFFSET([1]Coffre!F7,(ROW()-7)*1,0) -> 0 | F38: =(OFFSET([1]Coffre!F66,(ROW()-7)*2,0))/5 -> 0 | G38: =OFFSET([1]Coffre!F67,(ROW()-7)*2,0) -> 0 | H38: =OFFSET([1]Dons!E7,(ROW()-7)*1,0) -> 0 | I38: =OFFSET([1]Dons!F7,(ROW()-7)*1,0) -> 0 | J38: =IF(H38+I38+L38=-1,"INACTIF",OFFSET([1]Dons!F123,(ROW()-7)*7,0)) -> INACTIF | K38: =OFFSET([1]Dons!F124,(ROW()-7)*7,0) -> 0 | L38: =OFFSET([1]Dons!F127,(ROW()-7)*7,0) -> -1 | M38: =IF(SUM(F38+G38+L38)/2<=0,0,SUM(F38+G38+L38)/2) -> 0 | O38: =LARGE(B7:B56,32) -> 0 | P38: 32 | Q38: =IF(O38=0," ",VLOOKUP(O38,'STAT Semaine'!B7:C56,2,FALSE)) | R38: =IF(O38=0," ",VLOOKUP(Q38,C7:N56,2,FALSE)) | S38: =IF(O38=0," ",VLOOKUP(Q38,C7:N56,3,FALSE)) | T38: =IF(O38=0," ",VLOOKUP(Q38,C7:N56,4,FALSE)) | U38: =IF(O38=0," ",VLOOKUP(Q38,C7:N56,5,FALSE)) | V38: =IF(O38=0," ",VLOOKUP(Q38,C7:N56,6,FALSE)) | W38: =IF(O38=0," ",VLOOKUP(Q38,C7:N56,7,FALSE)) | X38: =IF(O38=0,"",VLOOKUP(Q38,C7:N56,8,FALSE)) | Y38: =IF(O38=0," ",VLOOKUP(Q38,C7:N56,9,FALSE)) | Z38: =IF(O38=0," ",VLOOKUP(Q38,C7:N56,10,FALSE)) | AA38: =IF(O38=0," ",IF(O38<0,0,IF(O38>20,20,IF(O38>=0,O38)))) | AC38: =IF(O38=0," ",VLOOKUP(O38,'STAT Semaine'!B7:C56,2,FALSE))
B39: =M39 -> 0 | C39: Victoire | D39: =OFFSET([1]Coffre!E7,(ROW()-7)*1,0) -> 0 | E39: =OFFSET([1]Coffre!F7,(ROW()-7)*1,0) -> 0 | F39: =(OFFSET([1]Coffre!F66,(ROW()-7)*2,0))/5 -> 0 | G39: =OFFSET([1]Coffre!F67,(ROW()-7)*2,0) -> 0 | H39: =OFFSET([1]Dons!E7,(ROW()-7)*1,0) -> 0 | I39: =OFFSET([1]Dons!F7,(ROW()-7)*1,0) -> 0 | J39: =IF(H39+I39+L39=-1,"INACTIF",OFFSET([1]Dons!F123,(ROW()-7)*7,0)) -> INACTIF | K39: =OFFSET([1]Dons!F124,(ROW()-7)*7,0) -> 0 | L39: =OFFSET([1]Dons!F127,(ROW()-7)*7,0) -> -1 | M39: =IF(SUM(F39+G39+L39)/2<=0,0,SUM(F39+G39+L39)/2) -> 0 | O39: =LARGE(B7:B56,33) -> 0 | P39: 33 | Q39: =IF(O39=0," ",VLOOKUP(O39,'STAT Semaine'!B7:C56,2,FALSE)) | R39: =IF(O39=0," ",VLOOKUP(Q39,C7:N56,2,FALSE)) | S39: =IF(O39=0," ",VLOOKUP(Q39,C7:N56,3,FALSE)) | T39: =IF(O39=0," ",VLOOKUP(Q39,C7:N56,4,FALSE)) | U39: =IF(O39=0," ",VLOOKUP(Q39,C7:N56,5,FALSE)) | V39: =IF(O39=0," ",VLOOKUP(Q39,C7:N56,6,FALSE)) | W39: =IF(O39=0," ",VLOOKUP(Q39,C7:N56,7,FALSE)) | X39: =IF(O39=0,"",VLOOKUP(Q39,C7:N56,8,FALSE)) | Y39: =IF(O39=0," ",VLOOKUP(Q39,C7:N56,9,FALSE)) | Z39: =IF(O39=0," ",VLOOKUP(Q39,C7:N56,10,FALSE)) | AA39: =IF(O39=0," ",IF(O39<0,0,IF(O39>20,20,IF(O39>=0,O39)))) | AC39: =IF(O39=0," ",VLOOKUP(O39,'STAT Semaine'!B7:C56,2,FALSE))
B40: =M40 -> 0 | C40: Nolan | D40: =OFFSET([1]Coffre!E7,(ROW()-7)*1,0) -> 0 | E40: =OFFSET([1]Coffre!F7,(ROW()-7)*1,0) -> 0 | F40: =(OFFSET([1]Coffre!F66,(ROW()-7)*2,0))/5 -> 0 | G40: =OFFSET([1]Coffre!F67,(ROW()-7)*2,0) -> 0 | H40: =OFFSET([1]Dons!E7,(ROW()-7)*1,0) -> 0 | I40: =OFFSET([1]Dons!F7,(ROW()-7)*1,0) -> 0 | J40: =IF(H40+I40+L40=-1,"INACTIF",OFFSET([1]Dons!F123,(ROW()-7)*7,0)) -> INACTIF | K40: =OFFSET([1]Dons!F124,(ROW()-7)*7,0) -> 0 | L40: =OFFSET([1]Dons!F127,(ROW()-7)*7,0) -> -1 | M40: =IF(SUM(F40+G40+L40)/2<=0,0,SUM(F40+G40+L40)/2) -> 0 | O40: =LARGE(B7:B56,34) -> 0 | P40: 34 | Q40: =IF(O40=0," ",VLOOKUP(O40,'STAT Semaine'!B7:C56,2,FALSE)) | R40: =IF(O40=0," ",VLOOKUP(Q40,C7:N56,2,FALSE)) | S40: =IF(O40=0," ",VLOOKUP(Q40,C7:N56,3,FALSE)) | T40: =IF(O40=0," ",VLOOKUP(Q40,C7:N56,4,FALSE)) | U40: =IF(O40=0," ",VLOOKUP(Q40,C7:N56,5,FALSE)) | V40: =IF(O40=0," ",VLOOKUP(Q40,C7:N56,6,FALSE)) | W40: =IF(O40=0," ",VLOOKUP(Q40,C7:N56,7,FALSE)) | X40: =IF(O40=0,"",VLOOKUP(Q40,C7:N56,8,FALSE)) | Y40: =IF(O40=0," ",VLOOKUP(Q40,C7:N56,9,FALSE)) | Z40: =IF(O40=0," ",VLOOKUP(Q40,C7:N56,10,FALSE)) | AA40: =IF(O40=0," ",IF(O40<0,0,IF(O40>20,20,IF(O40>=0,O40)))) | AC40: =IF(O40=0," ",VLOOKUP(O40,'STAT Semaine'!B7:C56,2,FALSE))
B41: =M41 -> 0 | C41: Nathan | D41: =OFFSET([1]Coffre!E7,(ROW()-7)*1,0) -> 0 | E41: =OFFSET([1]Coffre!F7,(ROW()-7)*1,0) -> 0 | F41: =(OFFSET([1]Coffre!F66,(ROW()-7)*2,0))/5 -> 0 | G41: =OFFSET([1]Coffre!F67,(ROW()-7)*2,0) -> 0 | H41: =OFFSET([1]Dons!E7,(ROW()-7)*1,0) -> 0 | I41: =OFFSET([1]Dons!F7,(ROW()-7)*1,0) -> 0 | J41: =IF(H41+I41+L41=-1,"INACTIF",OFFSET([1]Dons!F123,(ROW()-7)*7,0)) -> INACTIF | K41: =OFFSET([1]Dons!F124,(ROW()-7)*7,0) -> 0 | L41: =OFFSET([1]Dons!F127,(ROW()-7)*7,0) -> -1 | M41: =IF(SUM(F41+G41+L41)/2<=0,0,SUM(F41+G41+L41)/2) -> 0 | O41: =LARGE(B7:B56,35) -> 0 | P41: 35 | Q41: =IF(O41=0," ",VLOOKUP(O41,'STAT Semaine'!B7:C56,2,FALSE)) | R41: =IF(O41=0," ",VLOOKUP(Q41,C7:N56,2,FALSE)) | S41: =IF(O41=0," ",VLOOKUP(Q41,C7:N56,3,FALSE)) | T41: =IF(O41=0," ",VLOOKUP(Q41,C7:N56,4,FALSE)) | U41: =IF(O41=0," ",VLOOKUP(Q41,C7:N56,5,FALSE)) | V41: =IF(O41=0," ",VLOOKUP(Q41,C7:N56,6,FALSE)) | W41: =IF(O41=0," ",VLOOKUP(Q41,C7:N56,7,FALSE)) | X41: =IF(O41=0,"",VLOOKUP(Q41,C7:N56,8,FALSE)) | Y41: =IF(O41=0," ",VLOOKUP(Q41,C7:N56,9,FALSE)) | Z41: =IF(O41=0," ",VLOOKUP(Q41,C7:N56,10,FALSE)) | AA41: =IF(O41=0," ",IF(O41<0,0,IF(O41>20,20,IF(O41>=0,O41)))) | AC41: =IF(O41=0," ",VLOOKUP(O41,'STAT Semaine'!B7:C56,2,FALSE))
B42: =M42 -> 0 | C42: Agathe | D42: =OFFSET([1]Coffre!E7,(ROW()-7)*1,0) -> 0 | E42: =OFFSET([1]Coffre!F7,(ROW()-7)*1,0) -> 0 | F42: =(OFFSET([1]Coffre!F66,(ROW()-7)*2,0))/5 -> 0 | G42: =OFFSET([1]Coffre!F67,(ROW()-7)*2,0) -> 0 | H42: =OFFSET([1]Dons!E7,(ROW()-7)*1,0) -> 0 | I42: =OFFSET([1]Dons!F7,(ROW()-7)*1,0) -> 0 | J42: =IF(H42+I42+L42=-1,"INACTIF",OFFSET([1]Dons!F123,(ROW()-7)*7,0)) -> INACTIF | K42: =OFFSET([1]Dons!F124,(ROW()-7)*7,0) -> 0 | L42: =OFFSET([1]Dons!F127,(ROW()-7)*7,0) -> -1 | M42: =IF(SUM(F42+G42+L42)/2<=0,0,SUM(F42+G42+L42)/2) -> 0 | O42: =LARGE(B7:B56,36) -> 0 | P42: 36 | Q42: =IF(O42=0," ",VLOOKUP(O42,'STAT Semaine'!B7:C56,2,FALSE)) | R42: =IF(O42=0," ",VLOOKUP(Q42,C7:N56,2,FALSE)) | S42: =IF(O42=0," ",VLOOKUP(Q42,C7:N56,3,FALSE)) | T42: =IF(O42=0," ",VLOOKUP(Q42,C7:N56,4,FALSE)) | U42: =IF(O42=0," ",VLOOKUP(Q42,C7:N56,5,FALSE)) | V42: =IF(O42=0," ",VLOOKUP(Q42,C7:N56,6,FALSE)) | W42: =IF(O42=0," ",VLOOKUP(Q42,C7:N56,7,FALSE)) | X42: =IF(O42=0,"",VLOOKUP(Q42,C7:N56,8,FALSE)) | Y42: =IF(O42=0," ",VLOOKUP(Q42,C7:N56,9,FALSE)) | Z42: =IF(O42=0," ",VLOOKUP(Q42,C7:N56,10,FALSE)) | AA42: =IF(O42=0," ",IF(O42<0,0,IF(O42>20,20,IF(O42>=0,O42)))) | AC42: =IF(O42=0," ",VLOOKUP(O42,'STAT Semaine'!B7:C56,2,FALSE))
B43: =M43 -> 0 | C43: Axel | D43: =OFFSET([1]Coffre!E7,(ROW()-7)*1,0) -> 0 | E43: =OFFSET([1]Coffre!F7,(ROW()-7)*1,0) -> 0 | F43: =(OFFSET([1]Coffre!F66,(ROW()-7)*2,0))/5 -> 0 | G43: =OFFSET([1]Coffre!F67,(ROW()-7)*2,0) -> 0 | H43: =OFFSET([1]Dons!E7,(ROW()-7)*1,0) -> 0 | I43: =OFFSET([1]Dons!F7,(ROW()-7)*1,0) -> 0 | J43: =IF(H43+I43+L43=-1,"INACTIF",OFFSET([1]Dons!F123,(ROW()-7)*7,0)) -> INACTIF | K43: =OFFSET([1]Dons!F124,(ROW()-7)*7,0) -> 0 | L43: =OFFSET([1]Dons!F127,(ROW()-7)*7,0) -> -1 | M43: =IF(SUM(F43+G43+L43)/2<=0,0,SUM(F43+G43+L43)/2) -> 0 | O43: =LARGE(B7:B56,37) -> 0 | P43: 37 | Q43: =IF(O43=0," ",VLOOKUP(O43,'STAT Semaine'!B7:C56,2,FALSE)) | R43: =IF(O43=0," ",VLOOKUP(Q43,C7:N56,2,FALSE)) | S43: =IF(O43=0," ",VLOOKUP(Q43,C7:N56,3,FALSE)) | T43: =IF(O43=0," ",VLOOKUP(Q43,C7:N56,4,FALSE)) | U43: =IF(O43=0," ",VLOOKUP(Q43,C7:N56,5,FALSE)) | V43: =IF(O43=0," ",VLOOKUP(Q43,C7:N56,6,FALSE)) | W43: =IF(O43=0," ",VLOOKUP(Q43,C7:N56,7,FALSE)) | X43: =IF(O43=0,"",VLOOKUP(Q43,C7:N56,8,FALSE)) | Y43: =IF(O43=0," ",VLOOKUP(Q43,C7:N56,9,FALSE)) | Z43: =IF(O43=0," ",VLOOKUP(Q43,C7:N56,10,FALSE)) | AA43: =IF(O43=0," ",IF(O43<0,0,IF(O43>20,20,IF(O43>=0,O43)))) | AC43: =IF(O43=0," ",VLOOKUP(O43,'STAT Semaine'!B7:C56,2,FALSE))
B44: =M44 -> 0 | C44: Noam | D44: =OFFSET([1]Coffre!E7,(ROW()-7)*1,0) -> 0 | E44: =OFFSET([1]Coffre!F7,(ROW()-7)*1,0) -> 0 | F44: =(OFFSET([1]Coffre!F66,(ROW()-7)*2,0))/5 -> 0 | G44: =OFFSET([1]Coffre!F67,(ROW()-7)*2,0) -> 0 | H44: =OFFSET([1]Dons!E7,(ROW()-7)*1,0) -> 0 | I44: =OFFSET([1]Dons!F7,(ROW()-7)*1,0) -> 0 | J44: =IF(H44+I44+L44=-1,"INACTIF",OFFSET([1]Dons!F123,(ROW()-7)*7,0)) -> INACTIF | K44: =OFFSET([1]Dons!F124,(ROW()-7)*7,0) -> 0 | L44: =OFFSET([1]Dons!F127,(ROW()-7)*7,0) -> -1 | M44: =IF(SUM(F44+G44+L44)/2<=0,0,SUM(F44+G44+L44)/2) -> 0 | O44: =LARGE(B7:B56,38) -> 0 | P44: 38 | Q44: =IF(O44=0," ",VLOOKUP(O44,'STAT Semaine'!B7:C56,2,FALSE)) | R44: =IF(O44=0," ",VLOOKUP(Q44,C7:N56,2,FALSE)) | S44: =IF(O44=0," ",VLOOKUP(Q44,C7:N56,3,FALSE)) | T44: =IF(O44=0," ",VLOOKUP(Q44,C7:N56,4,FALSE)) | U44: =IF(O44=0," ",VLOOKUP(Q44,C7:N56,5,FALSE)) | V44: =IF(O44=0," ",VLOOKUP(Q44,C7:N56,6,FALSE)) | W44: =IF(O44=0," ",VLOOKUP(Q44,C7:N56,7,FALSE)) | X44: =IF(O44=0,"",VLOOKUP(Q44,C7:N56,8,FALSE)) | Y44: =IF(O44=0," ",VLOOKUP(Q44,C7:N56,9,FALSE)) | Z44: =IF(O44=0," ",VLOOKUP(Q44,C7:N56,10,FALSE)) | AA44: =IF(O44=0," ",IF(O44<0,0,IF(O44>20,20,IF(O44>=0,O44)))) | AC44: =IF(O44=0," ",VLOOKUP(O44,'STAT Semaine'!B7:C56,2,FALSE))
...
