Workbook

Sheet Recap
C2: MATCHS | D2: PTS | E2: TR | F2: TT | G2: TR2 | H2: TT2 | I2: TR3 | J2: TT3 | K2: LFR | L2: LFT | M2: BP | N2: ORB | O2: DRB | P2: Pts | Q2: TT | R2: TR | S2: TR2 | T2: TT2 | U2: TR3 | V2: TT3 | W2: LFR | X2: LFT | Y2: BP | Z2: ORB | AA2: DRB
B3: ANGERS | D3: =SUM('J1:J26'!AD4) -> 84 | E3: =SUM('J1:J26'!AE4) -> 30 | F3: =SUM('J1:J26'!AF4) -> 68 | G3: =SUM('J1:J26'!AG4) -> 18 | H3: =SUM('J1:J26'!AH4) -> 40 | I3: =SUM('J1:J26'!AI4) -> 12 | J3: =SUM('J1:J26'!AJ4) -> 28 | K3: =SUM('J1:J26'!AK4) -> 12 | ... AA3: =SUM('J1:J26'!BA4) -> 30
B4: BORDEAUX | D4: =SUM('J1:J26'!AD5) -> 85 | E4: =SUM('J1:J26'!AE5) -> 32 | F4: =SUM('J1:J26'!AF5) -> 73 | G4: =SUM('J1:J26'!AG5) -> 24 | H4: =SUM('J1:J26'!AH5) -> 50 | I4: =SUM('J1:J26'!AI5) -> 8 | J4: =SUM('J1:J26'!AJ5) -> 23 | K4: =SUM('J1:J26'!AK5) -> 13 | ... AA4: =SUM('J1:J26'!BA5) -> 24
B5: BOULOGNE | D5: =SUM('J1:J26'!AD6) -> 96 | E5: =SUM('J1:J26'!AE6) -> 32 | F5: =SUM('J1:J26'!AF6) -> 55 | G5: =SUM('J1:J26'!AG6) -> 23 | H5: =SUM('J1:J26'!AH6) -> 36 | I5: =SUM('J1:J26'!AI6) -> 9 | J5: =SUM('J1:J26'!AJ6) -> 19 | K5: =SUM('J1:J26'!AK6) -> 23 | ... AA5: =SUM('J1:J26'!BA6) -> 17
B6: CAEN | D6: =SUM('J1:J26'!AD7) -> 72 | E6: =SUM('J1:J26'!AE7) -> 25 | F6: =SUM('J1:J26'!AF7) -> 54 | G6: =SUM('J1:J26'!AG7) -> 15 | H6: =SUM('J1:J26'!AH7) -> 29 | I6: =SUM('J1:J26'!AI7) -> 10 | J6: =SUM('J1:J26'!AJ7) -> 25 | K6: =SUM('J1:J26'!AK7) -> 12 | ... AA6: =SUM('J1:J26'!BA7) -> 23
B7: CHALLANS | D7: =SUM('J1:J26'!AD8) -> 60 | E7: =SUM('J1:J26'!AE8) -> 23 | F7: =SUM('J1:J26'!AF8) -> 69 | G7: =SUM('J1:J26'!AG8) -> 20 | H7: =SUM('J1:J26'!AH8) -> 51 | I7: =SUM('J1:J26'!AI8) -> 3 | J7: =SUM('J1:J26'!AJ8) -> 18 | K7: =SUM('J1:J26'!AK8) -> 11 | ... AA7: =SUM('J1:J26'!BA8) -> 31
B8: DAX | D8: =SUM('J1:J26'!AD9) -> 72 | E8: =SUM('J1:J26'!AE9) -> 25 | F8: =SUM('J1:J26'!AF9) -> 54 | G8: =SUM('J1:J26'!AG9) -> 15 | H8: =SUM('J1:J26'!AH9) -> 29 | I8: =SUM('J1:J26'!AI9) -> 10 | J8: =SUM('J1:J26'!AJ9) -> 25 | K8: =SUM('J1:J26'!AK9) -> 12 | ... AA8: =SUM('J1:J26'!BA9) -> 24
B9: LA ROCHELLE | D9: =SUM('J1:J26'!AD10) -> 63 | E9: =SUM('J1:J26'!AE10) -> 24 | F9: =SUM('J1:J26'!AF10) -> 61 | G9: =SUM('J1:J26'!AG10) -> 17 | H9: =SUM('J1:J26'!AH10) -> 34 | I9: =SUM('J1:J26'!AI10) -> 7 | J9: =SUM('J1:J26'!AJ10) -> 27 | K9: =SUM('J1:J26'!AK10) -> 8 | ... AA9: =SUM('J1:J26'!BA10) -> 32
B10: LE HAVRE | D10: =SUM('J1:J26'!AD11) -> 92 | E10: =SUM('J1:J26'!AE11) -> 32 | F10: =SUM('J1:J26'!AF11) -> 69 | G10: =SUM('J1:J26'!AG11) -> 21 | H10: =SUM('J1:J26'!AH11) -> 43 | I10: =SUM('J1:J26'!AI11) -> 11 | J10: =SUM('J1:J26'!AJ11) -> 26 | K10: =SUM('J1:J26'!AK11) -> 17 | ... AA10: =SUM('J1:J26'!BA11) -> 28
B11: LORIENT | D11: =SUM('J1:J26'!AD12) -> 81 | E11: =SUM('J1:J26'!AE12) -> 30 | F11: =SUM('J1:J26'!AF12) -> 65 | G11: =SUM('J1:J26'!AG12) -> 19 | H11: =SUM('J1:J26'!AH12) -> 32 | I11: =SUM('J1:J26'!AI12) -> 11 | J11: =SUM('J1:J26'!AJ12) -> 33 | K11: =SUM('J1:J26'!AK12) -> 10 | ... AA11: =SUM('J1:J26'!BA12) -> 28
B12: TARBES | D12: =SUM('J1:J26'!AD13) -> 75 | E12: =SUM('J1:J26'!AE13) -> 31 | F12: =SUM('J1:J26'!AF13) -> 72 | G12: =SUM('J1:J26'!AG13) -> 25 | H12: =SUM('J1:J26'!AH13) -> 45 | I12: =SUM('J1:J26'!AI13) -> 6 | J12: =SUM('J1:J26'!AJ13) -> 27 | K12: =SUM('J1:J26'!AK13) -> 7 | ... AA12: =SUM('J1:J26'!BA13) -> 24
B13: TOULOUSE | D13: =SUM('J1:J26'!AD14) -> 98 | E13: =SUM('J1:J26'!AE14) -> 32 | F13: =SUM('J1:J26'!AF14) -> 65 | G13: =SUM('J1:J26'!AG14) -> 20 | H13: =SUM('J1:J26'!AH14) -> 33 | I13: =SUM('J1:J26'!AI14) -> 12 | J13: =SUM('J1:J26'!AJ14) -> 32 | K13: =SUM('J1:J26'!AK14) -> 22 | ... AA13: =SUM('J1:J26'!BA14) -> 32
B14: TOURS | D14: =SUM('J1:J26'!AD15) -> 72 | E14: =SUM('J1:J26'!AE15) -> 26 | F14: =SUM('J1:J26'!AF15) -> 51 | G14: =SUM('J1:J26'!AG15) -> 19 | H14: =SUM('J1:J26'!AH15) -> 30 | I14: =SUM('J1:J26'!AI15) -> 7 | J14: =SUM('J1:J26'!AJ15) -> 21 | K14: =SUM('J1:J26'!AK15) -> 13 | ... AA14: =SUM('J1:J26'!BA15) -> 21
... B16: VITRE | D16: =SUM('J1:J26'!AD17) -> 86 | E16: =SUM('J1:J26'!AE17) -> 30 | F16: =SUM('J1:J26'!AF17) -> 58 | G16: =SUM('J1:J26'!AG17) -> 16 | H16: =SUM('J1:J26'!AH17) -> 31 | I16: =SUM('J1:J26'!AI17) -> 14 | J16: =SUM('J1:J26'!AJ17) -> 27 | K16: =SUM('J1:J26'!AK17) -> 12 | ... AA16: =SUM('J1:J26'!BA17) -> 22

Sheet J1
D2: SCORE | E2: TT | F2: TR | G2: TR2 | H2: TT2 | I2: TR3 | J2: TT3 | K2: LFR | L2: LFT | M2: BP | N2: ORB | O2: DRB | P2: Pts | Q2: TT | R2: TR | S2: TR2 | T2: TT2 | U2: TR3 | V2: TT3 | W2: LFR | X2: LFT | Y2: BP | Z2: ORB | AA2: DRB
B3: MATCH 1 | C3: LE HAVRE | D3: =G3*2+I3*3+K3*1 -> 92 | E3: 32 | F3: 69 | G3: =E3-I3 -> 21 | H3: =F3-J3 -> 43 | I3: 11 | J3: 26 | K3: 17 | L3: 23 | M3: 5 | N3: 12 | O3: 17 | P3: =D4 -> 96 | Q3: =E4 -> 32 | R3: =F4 -> 55 | S3: =G4 -> 23 | T3: =H4 -> 36 | U3: =I4 -> 9 | V3: =J4 -> 19 | W3: =K4 -> 23 | ... AA3: =O4 -> 28 | AD3: PTS | AE3: TR | AF3: TT | AG3: TR2 | AH3: TT2 | AI3: TR3 | AJ3: TT3 | AK3: LFR | AL3: LFT | AM3: BP | AN3: ORB | AO3: DRB | AP3: Pts | AQ3: TT | AR3: TR | AS3: TR2 | AT3: TT2 | AU3: TR3 | AV3: TT3 | AW3: LFR | AX3: LFT | AY3: BP | AZ3: ORB | BA3: DRB
C4: BOULOGNE | D4: =G4*2+I4*3+K4*1 -> 96 | E4: 32 | F4: 55 | G4: =E4-I4 -> 23 | H4: =F4-J4 -> 36 | I4: 9 | J4: 19 | K4: 23 | L4: 27 | M4: 13 | N4: 8 | O4: 28 | P4: =D3 -> 92 | Q4: =E3 -> 32 | R4: =F3 -> 69 | S4: =G3 -> 21 | T4: =H3 -> 43 | U4: =I3 -> 11 | V4: =J3 -> 26 | W4: =K3 -> 17 | ... AA4: =O3 -> 17 | AC4: ANGERS | AD4: =VLOOKUP($AC4, $C$2:$AA$28,2,FALSE) -> 84 | AE4: =VLOOKUP($AC4, $C$2:$AA$28,3,FALSE) -> 30 | AF4: =VLOOKUP($AC4, $C$2:$AA$28,4,FALSE) -> 68 | AG4: =VLOOKUP($AC4, $C$2:$AA$28,5,FALSE) -> 18 | AH4: =VLOOKUP($AC4, $C$2:$AA$28,6,FALSE) -> 40 | AI4: =VLOOKUP($AC4, $C$2:$AA$28,7,FALSE) -> 12 | AJ4: =VLOOKUP($AC4, $C$2:$AA$28,8,FALSE) -> 28 | AK4: =VLOOKUP($AC4, $C$2:$AA$28,9,FALSE) -> 12 | AL4: =VLOOKUP($AC4, $C$2:$AA$28,10,FALSE) -> 15 | AM4: =VLOOKUP($AC4, $C$2:$AA$28,11,FALSE) -> 14 | AN4: =VLOOKUP($AC4, $C$2:$AA$28,12,FALSE) -> 9 | AO4: =VLOOKUP($AC4, $C$2:$AA$28,13,FALSE) -> 21 | AP4: =VLOOKUP($AC4, $C$2:$AA$28,14,FALSE) -> 72 | AQ4: =VLOOKUP($AC4, $C$2:$AA$28,15,FALSE) -> 26 | AR4: =VLOOKUP($AC4, $C$2:$AA$28,16,FALSE) -> 51 | AS4: =VLOOKUP($AC4, $C$2:$AA$28,17,FALSE) -> 19 | AT4: =VLOOKUP($AC4, $C$2:$AA$28,18,FALSE) -> 30 | AU4: =VLOOKUP($AC4, $C$2:$AA$28,19,FALSE) -> 7 | AV4: =VLOOKUP($AC4, $C$2:$AA$28,20,FALSE) -> 21 | AW4: =VLOOKUP($AC4, $C$2:$AA$28,21,FALSE) -> 13 | AX4: =VLOOKUP($AC4, $C$2:$AA$28,22,FALSE) -> 19 | AY4: =VLOOKUP($AC4, $C$2:$AA$28,23,FALSE) -> 23 | AZ4: =VLOOKUP($AC4, $C$2:$AA$28,24,FALSE) -> 5 | BA4: =VLOOKUP($AC4, $C$2:$AA$28,25,FALSE) -> 30
AC5: BORDEAUX | AD5: =VLOOKUP($AC5, $C$2:$AA$28,2,FALSE) -> 85 | AE5: =VLOOKUP($AC5, $C$2:$AA$28,3,FALSE) -> 32 | AF5: =VLOOKUP($AC5, $C$2:$AA$28,4,FALSE) -> 73 | AG5: =VLOOKUP($AC5, $C$2:$AA$28,5,FALSE) -> 24 | AH5: =VLOOKUP($AC5, $C$2:$AA$28,6,FALSE) -> 50 | AI5: =VLOOKUP($AC5, $C$2:$AA$28,7,FALSE) -> 8 | AJ5: =VLOOKUP($AC5, $C$2:$AA$28,8,FALSE) -> 23 | AK5: =VLOOKUP($AC5, $C$2:$AA$28,9,FALSE) -> 13 | AL5: =VLOOKUP($AC5, $C$2:$AA$28,10,FALSE) -> 19 | AM5: =VLOOKUP($AC5, $C$2:$AA$28,11,FALSE) -> 13 | AN5: =VLOOKUP($AC5, $C$2:$AA$28,12,FALSE) -> 20 | AO5: =VLOOKUP($AC5, $C$2:$AA$28,13,FALSE) -> 31 | AP5: =VLOOKUP($AC5, $C$2:$AA$28,14,FALSE) -> 60 | AQ5: =VLOOKUP($AC5, $C$2:$AA$28,15,FALSE) -> 23 | AR5: =VLOOKUP($AC5, $C$2:$AA$28,16,FALSE) -> 69 | AS5: =VLOOKUP($AC5, $C$2:$AA$28,17,FALSE) -> 20 | AT5: =VLOOKUP($AC5, $C$2:$AA$28,18,FALSE) -> 51 | AU5: =VLOOKUP($AC5, $C$2:$AA$28,19,FALSE) -> 3 | AV5: =VLOOKUP($AC5, $C$2:$AA$28,20,FALSE) -> 18 | AW5: =VLOOKUP($AC5, $C$2:$AA$28,21,FALSE) -> 11 | AX5: =VLOOKUP($AC5, $C$2:$AA$28,22,FALSE) -> 15 | AY5: =VLOOKUP($AC5, $C$2:$AA$28,23,FALSE) -> 18 | AZ5: =VLOOKUP($AC5, $C$2:$AA$28,24,FALSE) -> 15 | BA5: =VLOOKUP($AC5, $C$2:$AA$28,25,FALSE) -> 24
D6: SCORE | E6: TT | F6: TR | G6: TR2 | H6: TT2 | I6: TR3 | J6: TT3 | K6: LFR | L6: LFT | M6: BP | N6: ORB | O6: DRB | P6: Pts | Q6: TT | R6: TR | S6: TR2 | T6: TT2 | U6: TR3 | V6: TT3 | W6: LFR | X6: LFT | Y6: BP | Z6: ORB | AA6: DRB | AC6: BOULOGNE | AD6: =VLOOKUP($AC6, $C$2:$AA$28,2,FALSE) -> 96 | AE6: =VLOOKUP($AC6, $C$2:$AA$28,3,FALSE) -> 32 | AF6: =VLOOKUP($AC6, $C$2:$AA$28,4,FALSE) -> 55 | AG6: =VLOOKUP($AC6, $C$2:$AA$28,5,FALSE) -> 23 | AH6: =VLOOKUP($AC6, $C$2:$AA$28,6,FALSE) -> 36 | AI6: =VLOOKUP($AC6, $C$2:$AA$28,7,FALSE) -> 9 | AJ6: =VLOOKUP($AC6, $C$2:$AA$28,8,FALSE) -> 19 | AK6: =VLOOKUP($AC6, $C$2:$AA$28,9,FALSE) -> 23 | AL6: =VLOOKUP($AC6, $C$2:$AA$28,10,FALSE) -> 27 | AM6: =VLOOKUP($AC6, $C$2:$AA$28,11,FALSE) -> 13 | AN6: =VLOOKUP($AC6, $C$2:$AA$28,12,FALSE) -> 8 | AO6: =VLOOKUP($AC6, $C$2:$AA$28,13,FALSE) -> 28 | AP6: =VLOOKUP($AC6, $C$2:$AA$28,14,FALSE) -> 92 | AQ6: =VLOOKUP($AC6, $C$2:$AA$28,15,FALSE) -> 32 | AR6: =VLOOKUP($AC6, $C$2:$AA$28,16,FALSE) -> 69 | AS6: =VLOOKUP($AC6, $C$2:$AA$28,17,FALSE) -> 21 | AT6: =VLOOKUP($AC6, $C$2:$AA$28,18,FALSE) -> 43 | AU6: =VLOOKUP($AC6, $C$2:$AA$28,19,FALSE) -> 11 | AV6: =VLOOKUP($AC6, $C$2:$AA$28,20,FALSE) -> 26 | AW6: =VLOOKUP($AC6, $C$2:$AA$28,21,FALSE) -> 17 | AX6: =VLOOKUP($AC6, $C$2:$AA$28,22,FALSE) -> 23 | AY6: =VLOOKUP($AC6, $C$2:$AA$28,23,FALSE) -> 5 | AZ6: =VLOOKUP($AC6, $C$2:$AA$28,24,FALSE) -> 12 | BA6: =VLOOKUP($AC6, $C$2:$AA$28,25,FALSE) -> 17
B7: MATCH 2 | C7: LA ROCHELLE | D7: =G7*2+I7*3+K7*1 -> 63 | E7: 24 | F7: 61 | G7: =E7-I7 -> 17 | H7: =F7-J7 -> 34 | I7: 7 | J7: 27 | K7: 8 | L7: 10 | M7: 14 | N7: 7 | O7: 23 | P7: =D8 -> 72 | Q7: =E8 -> 25 | R7: =F8 -> 54 | S7: =G8 -> 15 | T7: =H8 -> 29 | U7: =I8 -> 10 | V7: =J8 -> 25 | W7: =K8 -> 12 | ... AA7: =O8 -> 32 | AC7: CAEN | AD7: =VLOOKUP($AC7, $C$2:$AA$28,2,FALSE) -> 72 | AE7: =VLOOKUP($AC7, $C$2:$AA$28,3,FALSE) -> 25 | AF7: =VLOOKUP($AC7, $C$2:$AA$28,4,FALSE) -> 54 | AG7: =VLOOKUP($AC7, $C$2:$AA$28,5,FALSE) -> 15 | AH7: =VLOOKUP($AC7, $C$2:$AA$28,6,FALSE) -> 29 | AI7: =VLOOKUP($AC7, $C$2:$AA$28,7,FALSE) -> 10 | AJ7: =VLOOKUP($AC7, $C$2:$AA$28,8,FALSE) -> 25 | AK7: =VLOOKUP($AC7, $C$2:$AA$28,9,FALSE) -> 12 | AL7: =VLOOKUP($AC7, $C$2:$AA$28,10,FALSE) -> 19 | AM7: =VLOOKUP($AC7, $C$2:$AA$28,11,FALSE) -> 18 | AN7: =VLOOKUP($AC7, $C$2:$AA$28,12,FALSE) -> 10 | AO7: =VLOOKUP($AC7, $C$2:$AA$28,13,FALSE) -> 32 | AP7: =VLOOKUP($AC7, $C$2:$AA$28,14,FALSE) -> 63 | AQ7: =VLOOKUP($AC7, $C$2:$AA$28,15,FALSE) -> 24 | AR7: =VLOOKUP($AC7, $C$2:$AA$28,16,FALSE) -> 61 | AS7: =VLOOKUP($AC7, $C$2:$AA$28,17,FALSE) -> 17 | AT7: =VLOOKUP($AC7, $C$2:$AA$28,18,FALSE) -> 34 | AU7: =VLOOKUP($AC7, $C$2:$AA$28,19,FALSE) -> 7 | AV7: =VLOOKUP($AC7, $C$2:$AA$28,20,FALSE) -> 27 | AW7: =VLOOKUP($AC7, $C$2:$AA$28,21,FALSE) -> 8 | AX7: =VLOOKUP($AC7, $C$2:$AA$28,22,FALSE) -> 10 | AY7: =VLOOKUP($AC7, $C$2:$AA$28,23,FALSE) -> 14 | AZ7: =VLOOKUP($AC7, $C$2:$AA$28,24,FALSE) -> 7 | BA7: =VLOOKUP($AC7, $C$2:$AA$28,25,FALSE) -> 23
C8: CAEN | D8: =G8*2+I8*3+K8*1 -> 72 | E8: 25 | F8: 54 | G8: =E8-I8 -> 15 | H8: =F8-J8 -> 29 | I8: 10 | J8: 25 | K8: 12 | L8: 19 | M8: 18 | N8: 10 | O8: 32 | P8: =D7 -> 63 | Q8: =E7 -> 24 | R8: =F7 -> 61 | S8: =G7 -> 17 | T8: =H7 -> 34 | U8: =I7 -> 7 | V8: =J7 -> 27 | W8: =K7 -> 8 | ... AA8: =O7 -> 23 | AC8: CHALLANS | AD8: =VLOOKUP($AC8, $C$2:$AA$28,2,FALSE) -> 60 | AE8: =VLOOKUP($AC8, $C$2:$AA$28,3,FALSE) -> 23 | AF8: =VLOOKUP($AC8, $C$2:$AA$28,4,FALSE) -> 69 | AG8: =VLOOKUP($AC8, $C$2:$AA$28,5,FALSE) -> 20 | AH8: =VLOOKUP($AC8, $C$2:$AA$28,6,FALSE) -> 51 | AI8: =VLOOKUP($AC8, $C$2:$AA$28,7,FALSE) -> 3 | AJ8: =VLOOKUP($AC8, $C$2:$AA$28,8,FALSE) -> 18 | AK8: =VLOOKUP($AC8, $C$2:$AA$28,9,FALSE) -> 11 | AL8: =VLOOKUP($AC8, $C$2:$AA$28,10,FALSE) -> 15 | AM8: =VLOOKUP($AC8, $C$2:$AA$28,11,FALSE) -> 18 | AN8: =VLOOKUP($AC8, $C$2:$AA$28,12,FALSE) -> 15 | AO8: =VLOOKUP($AC8, $C$2:$AA$28,13,FALSE) -> 24 | AP8: =VLOOKUP($AC8, $C$2:$AA$28,14,FALSE) -> 85 | AQ8: =VLOOKUP($AC8, $C$2:$AA$28,15,FALSE) -> 32 | AR8: =VLOOKUP($AC8, $C$2:$AA$28,16,FALSE) -> 73 | AS8: =VLOOKUP($AC8, $C$2:$AA$28,17,FALSE) -> 24 | AT8: =VLOOKUP($AC8, $C$2:$AA$28,18,FALSE) -> 50 | AU8: =VLOOKUP($AC8, $C$2:$AA$28,19,FALSE) -> 8 | AV8: =VLOOKUP($AC8, $C$2:$AA$28,20,FALSE) -> 23 | AW8: =VLOOKUP($AC8, $C$2:$AA$28,21,FALSE) -> 13 | AX8: =VLOOKUP($AC8, $C$2:$AA$28,22,FALSE) -> 19 | AY8: =VLOOKUP($AC8, $C$2:$AA$28,23,FALSE) -> 13 | AZ8: =VLOOKUP($AC8, $C$2:$AA$28,24,FALSE) -> 20 | BA8: =VLOOKUP($AC8, $C$2:$AA$28,25,FALSE) -> 31
AC9: DAX | AD9: =VLOOKUP($AC9, $C$2:$AA$28,2,FALSE) -> 72 | AE9: =VLOOKUP($AC9, $C$2:$AA$28,3,FALSE) -> 25 | AF9: =VLOOKUP($AC9, $C$2:$AA$28,4,FALSE) -> 54 | AG9: =VLOOKUP($AC9, $C$2:$AA$28,5,FALSE) -> 15 | AH9: =VLOOKUP($AC9, $C$2:$AA$28,6,FALSE) -> 29 | AI9: =VLOOKUP($AC9, $C$2:$AA$28,7,FALSE) -> 10 | AJ9: =VLOOKUP($AC9, $C$2:$AA$28,8,FALSE) -> 25 | AK9: =VLOOKUP($AC9, $C$2:$AA$28,9,FALSE) -> 12 | AL9: =VLOOKUP($AC9, $C$2:$AA$28,10,FALSE) -> 19 | AM9: =VLOOKUP($AC9, $C$2:$AA$28,11,FALSE) -> 18 | AN9: =VLOOKUP($AC9, $C$2:$AA$28,12,FALSE) -> 10 | AO9: =VLOOKUP($AC9, $C$2:$AA$28,13,FALSE) -> 32 | AP9: =VLOOKUP($AC9, $C$2:$AA$28,14,FALSE) -> 98 | AQ9: =VLOOKUP($AC9, $C$2:$AA$28,15,FALSE) -> 32 | AR9: =VLOOKUP($AC9, $C$2:$AA$28,16,FALSE) -> 65 | AS9: =VLOOKUP($AC9, $C$2:$AA$28,17,FALSE) -> 20 | AT9: =VLOOKUP($AC9, $C$2:$AA$28,18,FALSE) -> 33 | AU9: =VLOOKUP($AC9, $C$2:$AA$28,19,FALSE) -> 12 | AV9: =VLOOKUP($AC9, $C$2:$AA$28,20,FALSE) -> 32 | AW9: =VLOOKUP($AC9, $C$2:$AA$28,21,FALSE) -> 22 | AX9: =VLOOKUP($AC9, $C$2:$AA$28,22,FALSE) -> 28 | AY9: =VLOOKUP($AC9, $C$2:$AA$28,23,FALSE) -> 13 | AZ9: =VLOOKUP($AC9, $C$2:$AA$28,24,FALSE) -> 11 | BA9: =VLOOKUP($AC9, $C$2:$AA$28,25,FALSE) -> 24
D10: SCORE | E10: TT | F10: TR | G10: TR2 | H10: TT2 | I10: TR3 | J10: TT3 | K10: LFR | L10: LFT | M10: BP | N10: ORB | O10: DRB | P10: Pts | Q10: TT | R10: TR | S10: TR2 | T10: TT2 | U10: TR3 | V10: TT3 | W10: LFR | X10: LFT | Y10: BP | Z10: ORB | AA10: DRB | AC10: LA ROCHELLE | AD10: =VLOOKUP($AC10, $C$2:$AA$28,2,FALSE) -> 63 | AE10: =VLOOKUP($AC10, $C$2:$AA$28,3,FALSE) -> 24 | AF10: =VLOOKUP($AC10, $C$2:$AA$28,4,FALSE) -> 61 | AG10: =VLOOKUP($AC10, $C$2:$AA$28,5,FALSE) -> 17 | AH10: =VLOOKUP($AC10, $C$2:$AA$28,6,FALSE) -> 34 | AI10: =VLOOKUP($AC10, $C$2:$AA$28,7,FALSE) -> 7 | AJ10: =VLOOKUP($AC10, $C$2:$AA$28,8,FALSE) -> 27 | AK10: =VLOOKUP($AC10, $C$2:$AA$28,9,FALSE) -> 8 | AL10: =VLOOKUP($AC10, $C$2:$AA$28,10,FALSE) -> 10 | AM10: =VLOOKUP($AC10, $C$2:$AA$28,11,FALSE) -> 14 | AN10: =VLOOKUP($AC10, $C$2:$AA$28,12,FALSE) -> 7 | AO10: =VLOOKUP($AC10, $C$2:$AA$28,13,FALSE) -> 23 | AP10: =VLOOKUP($AC10, $C$2:$AA$28,14,FALSE) -> 72 | AQ10: =VLOOKUP($AC10, $C$2:$AA$28,15,FALSE) -> 25 | AR10: =VLOOKUP($AC10, $C$2:$AA$28,16,FALSE) -> 54 | AS10: =VLOOKUP($AC10, $C$2:$AA$28,17,FALSE) -> 15 | AT10: =VLOOKUP($AC10, $C$2:$AA$28,18,FALSE) -> 29 | AU10: =VLOOKUP($AC10, $C$2:$AA$28,19,FALSE) -> 10 | AV10: =VLOOKUP($AC10, $C$2:$AA$28,20,FALSE) -> 25 | AW10: =VLOOKUP($AC10, $C$2:$AA$28,21,FALSE) -> 12 | AX10: =VLOOKUP($AC10, $C$2:$AA$28,22,FALSE) -> 19 | AY10: =VLOOKUP($AC10, $C$2:$AA$28,23,FALSE) -> 18 | AZ10: =VLOOKUP($AC10, $C$2:$AA$28,24,FALSE) -> 10 | BA10: =VLOOKUP($AC10, $C$2:$AA$28,25,FALSE) -> 32
B11: MATCH 3 | C11: ANGERS | D11: =G11*2+I11*3+K11*1 -> 84 | E11: 30 | F11: 68 | G11: =E11-I11 -> 18 | H11: =F11-J11 -> 40 | I11: 12 | J11: 28 | K11: 12 | L11: 15 | M11: 14 | N11: 9 | O11: 21 | P11: =D12 -> 72 | Q11: =E12 -> 26 | R11: =F12 -> 51 | S11: =G12 -> 19 | T11: =H12 -> 30 | U11: =I12 -> 7 | V11: =J12 -> 21 | W11: =K12 -> 13 | ... AA11: =O12 -> 30 | AC11: LE HAVRE | AD11: =VLOOKUP($AC11, $C$2:$AA$28,2,FALSE) -> 92 | AE11: =VLOOKUP($AC11, $C$2:$AA$28,3,FALSE) -> 32 | AF11: =VLOOKUP($AC11, $C$2:$AA$28,4,FALSE) -> 69 | AG11: =VLOOKUP($AC11, $C$2:$AA$28,5,FALSE) -> 21 | AH11: =VLOOKUP($AC11, $C$2:$AA$28,6,FALSE) -> 43 | AI11: =VLOOKUP($AC11, $C$2:$AA$28,7,FALSE) -> 11 | AJ11: =VLOOKUP($AC11, $C$2:$AA$28,8,FALSE) -> 26 | AK11: =VLOOKUP($AC11, $C$2:$AA$28,9,FALSE) -> 17 | AL11: =VLOOKUP($AC11, $C$2:$AA$28,10,FALSE) -> 23 | AM11: =VLOOKUP($AC11, $C$2:$AA$28,11,FALSE) -> 5 | AN11: =VLOOKUP($AC11, $C$2:$AA$28,12,FALSE) -> 12 | AO11: =VLOOKUP($AC11, $C$2:$AA$28,13,FALSE) -> 17 | AP11: =VLOOKUP($AC11, $C$2:$AA$28,14,FALSE) -> 96 | AQ11: =VLOOKUP($AC11, $C$2:$AA$28,15,FALSE) -> 32 | AR11: =VLOOKUP($AC11, $C$2:$AA$28,16,FALSE) -> 55 | AS11: =VLOOKUP($AC11, $C$2:$AA$28,17,FALSE) -> 23 | AT11: =VLOOKUP($AC11, $C$2:$AA$28,18,FALSE) -> 36 | AU11: =VLOOKUP($AC11, $C$2:$AA$28,19,FALSE) -> 9 | AV11: =VLOOKUP($AC11, $C$2:$AA$28,20,FALSE) -> 19 | AW11: =VLOOKUP($AC11, $C$2:$AA$28,21,FALSE) -> 23 | AX11: =VLOOKUP($AC11, $C$2:$AA$28,22,FALSE) -> 27 | AY11: =VLOOKUP($AC11, $C$2:$AA$28,23,FALSE) -> 13 | AZ11: =VLOOKUP($AC11, $C$2:$AA$28,24,FALSE) -> 8 | BA11: =VLOOKUP($AC11, $C$2:$AA$28,25,FALSE) -> 28
C12: TOURS | D12: =G12*2+I12*3+K12*1 -> 72 | E12: 26 | F12: 51 | G12: =E12-I12 -> 19 | H12: =F12-J12 -> 30 | I12: 7 | J12: 21 | K12: 13 | L12: 19 | M12: 23 | N12: 5 | O12: 30 | P12: =D11 -> 84 | Q12: =E11 -> 30 | R12: =F11 -> 68 | S12: =G11 -> 18 | T12: =H11 -> 40 | U12: =I11 -> 12 | V12: =J11 -> 28 | W12: =K11 -> 12 | ... AA12: =O11 -> 21 | AC12: LORIENT | AD12: =VLOOKUP($AC12, $C$2:$AA$28,2,FALSE) -> 81 | AE12: =VLOOKUP($AC12, $C$2:$AA$28,3,FALSE) -> 30 | AF12: =VLOOKUP($AC12, $C$2:$AA$28,4,FALSE) -> 65 | AG12: =VLOOKUP($AC12, $C$2:$AA$28,5,FALSE) -> 19 | AH12: =VLOOKUP($AC12, $C$2:$AA$28,6,FALSE) -> 32 | AI12: =VLOOKUP($AC12, $C$2:$AA$28,7,FALSE) -> 11 | AJ12: =VLOOKUP($AC12, $C$2:$AA$28,8,FALSE) -> 33 | AK12: =VLOOKUP($AC12, $C$2:$AA$28,9,FALSE) -> 10 | AL12: =VLOOKUP($AC12, $C$2:$AA$28,10,FALSE) -> 18 | AM12: =VLOOKUP($AC12, $C$2:$AA$28,11,FALSE) -> 20 | AN12: =VLOOKUP($AC12, $C$2:$AA$28,12,FALSE) -> 12 | AO12: =VLOOKUP($AC12, $C$2:$AA$28,13,FALSE) -> 24 | AP12: =VLOOKUP($AC12, $C$2:$AA$28,14,FALSE) -> 75 | AQ12: =VLOOKUP($AC12, $C$2:$AA$28,15,FALSE) -> 31 | AR12: =VLOOKUP($AC12, $C$2:$AA$28,16,FALSE) -> 72 | AS12: =VLOOKUP($AC12, $C$2:$AA$28,17,FALSE) -> 25 | AT12: =VLOOKUP($AC12, $C$2:$AA$28,18,FALSE) -> 45 | AU12: =VLOOKUP($AC12, $C$2:$AA$28,19,FALSE) -> 6 | AV12: =VLOOKUP($AC12, $C$2:$AA$28,20,FALSE) -> 27 | AW12: =VLOOKUP($AC12, $C$2:$AA$28,21,FALSE) -> 7 | AX12: =VLOOKUP($AC12, $C$2:$AA$28,22,FALSE) -> 15 | AY12: =VLOOKUP($AC12, $C$2:$AA$28,23,FALSE) -> 21 | AZ12: =VLOOKUP($AC12, $C$2:$AA$28,24,FALSE) -> 19 | BA12: =VLOOKUP($AC12, $C$2:$AA$28,25,FALSE) -> 28
AC13: TARBES | AD13: =VLOOKUP($AC13, $C$2:$AA$28,2,FALSE) -> 75 | AE13: =VLOOKUP($AC13, $C$2:$AA$28,3,FALSE) -> 31 | AF13: =VLOOKUP($AC13, $C$2:$AA$28,4,FALSE) -> 72 | AG13: =VLOOKUP($AC13, $C$2:$AA$28,5,FALSE) -> 25 | AH13: =VLOOKUP($AC13, $C$2:$AA$28,6,FALSE) -> 45 | AI13: =VLOOKUP($AC13, $C$2:$AA$28,7,FALSE) -> 6 | AJ13: =VLOOKUP($AC13, $C$2:$AA$28,8,FALSE) -> 27 | AK13: =VLOOKUP($AC13, $C$2:$AA$28,9,FALSE) -> 7 | AL13: =VLOOKUP($AC13, $C$2:$AA$28,10,FALSE) -> 15 | AM13: =VLOOKUP($AC13, $C$2:$AA$28,11,FALSE) -> 21 | AN13: =VLOOKUP($AC13, $C$2:$AA$28,12,FALSE) -> 19 | AO13: =VLOOKUP($AC13, $C$2:$AA$28,13,FALSE) -> 28 | AP13: =VLOOKUP($AC13, $C$2:$AA$28,14,FALSE) -> 81 | AQ13: =VLOOKUP($AC13, $C$2:$AA$28,15,FALSE) -> 30 | AR13: =VLOOKUP($AC13, $C$2:$AA$28,16,FALSE) -> 65 | AS13: =VLOOKUP($AC13, $C$2:$AA$28,17,FALSE) -> 19 | AT13: =VLOOKUP($AC13, $C$2:$AA$28,18,FALSE) -> 32 | AU13: =VLOOKUP($AC13, $C$2:$AA$28,19,FALSE) -> 11 | AV13: =VLOOKUP($AC13, $C$2:$AA$28,20,FALSE) -> 33 | AW13: =VLOOKUP($AC13, $C$2:$AA$28,21,FALSE) -> 10 | AX13: =VLOOKUP($AC13, $C$2:$AA$28,22,FALSE) -> 18 | AY13: =VLOOKUP($AC13, $C$2:$AA$28,23,FALSE) -> 20 | AZ13: =VLOOKUP($AC13, $C$2:$AA$28,24,FALSE) -> 12 | BA13: =VLOOKUP($AC13, $C$2:$AA$28,25,FALSE) -> 24
D14: SCORE | E14: TT | F14: TR | G14: TR2 | H14: TT2 | I14: TR3 | J14: TT3 | K14: LFR | L14: LFT | M14: BP | N14: ORB | O14: DRB | P14: Pts | Q14: TT | R14: TR | S14: TR2 | T14: TT2 | U14: TR3 | V14: TT3 | W14: LFR | X14: LFT | Y14: BP | Z14: ORB | AA14: DRB | AC14: TOULOUSE | AD14: =VLOOKUP($AC14, $C$2:$AA$28,2,FALSE) -> 98 | AE14: =VLOOKUP($AC14, $C$2:$AA$28,3,FALSE) -> 32 | AF14: =VLOOKUP($AC14, $C$2:$AA$28,4,FALSE) -> 65 | AG14: =VLOOKUP($AC14, $C$2:$AA$28,5,FALSE) -> 20 | AH14: =VLOOKUP($AC14, $C$2:$AA$28,6,FALSE) -> 33 | AI14: =VLOOKUP($AC14, $C$2:$AA$28,7,FALSE) -> 12 | AJ14: =VLOOKUP($AC14, $C$2:$AA$28,8,FALSE) -> 32 | AK14: =VLOOKUP($AC14, $C$2:$AA$28,9,FALSE) -> 22 | AL14: =VLOOKUP($AC14, $C$2:$AA$28,10,FALSE) -> 28 | AM14: =VLOOKUP($AC14, $C$2:$AA$28,11,FALSE) -> 13 | AN14: =VLOOKUP($AC14, $C$2:$AA$28,12,FALSE) -> 11 | AO14: =VLOOKUP($AC14, $C$2:$AA$28,13,FALSE) -> 24 | AP14: =VLOOKUP($AC14, $C$2:$AA$28,14,FALSE) -> 72 | AQ14: =VLOOKUP($AC14, $C$2:$AA$28,15,FALSE) -> 25 | AR14: =VLOOKUP($AC14, $C$2:$AA$28,16,FALSE) -> 54 | AS14: =VLOOKUP($AC14, $C$2:$AA$28,17,FALSE) -> 15 | AT14: =VLOOKUP($AC14, $C$2:$AA$28,18,FALSE) -> 29 | AU14: =VLOOKUP($AC14, $C$2:$AA$28,19,FALSE) -> 10 | AV14: =VLOOKUP($AC14, $C$2:$AA$28,20,FALSE) -> 25 | AW14: =VLOOKUP($AC14, $C$2:$AA$28,21,FALSE) -> 12 | AX14: =VLOOKUP($AC14, $C$2:$AA$28,22,FALSE) -> 19 | AY14: =VLOOKUP($AC14, $C$2:$AA$28,23,FALSE) -> 18 | AZ14: =VLOOKUP($AC14, $C$2:$AA$28,24,FALSE) -> 10 | BA14: =VLOOKUP($AC14, $C$2:$AA$28,25,FALSE) -> 32
B15: MATCH 4 | C15: TARBES | D15: =G15*2+I15*3+K15*1 -> 75 | E15: 31 | F15: 72 | G15: =E15-I15 -> 25 | H15: =F15-J15 -> 45 | I15: 6 | J15: 27 | K15: 7 | L15: 15 | M15: 21 | N15: 19 | O15: 28 | P15: =D16 -> 81 | Q15: =E16 -> 30 | R15: =F16 -> 65 | S15: =G16 -> 19 | T15: =H16 -> 32 | U15: =I16 -> 11 | V15: =J16 -> 33 | W15: =K16 -> 10 | ... AA15: =O16 -> 24 | AC15: TOURS | AD15: =VLOOKUP($AC15, $C$2:$AA$28,2,FALSE) -> 72 | AE15: =VLOOKUP($AC15, $C$2:$AA$28,3,FALSE) -> 26 | AF15: =VLOOKUP($AC15, $C$2:$AA$28,4,FALSE) -> 51 | AG15: =VLOOKUP($AC15, $C$2:$AA$28,5,FALSE) -> 19 | AH15: =VLOOKUP($AC15, $C$2:$AA$28,6,FALSE) -> 30 | AI15: =VLOOKUP($AC15, $C$2:$AA$28,7,FALSE) -> 7 | AJ15: =VLOOKUP($AC15, $C$2:$AA$28,8,FALSE) -> 21 | AK15: =VLOOKUP($AC15, $C$2:$AA$28,9,FALSE) -> 13 | AL15: =VLOOKUP($AC15, $C$2:$AA$28,10,FALSE) -> 19 | AM15: =VLOOKUP($AC15, $C$2:$AA$28,11,FALSE) -> 23 | AN15: =VLOOKUP($AC15, $C$2:$AA$28,12,FALSE) -> 5 | AO15: =VLOOKUP($AC15, $C$2:$AA$28,13,FALSE) -> 30 | AP15: =VLOOKUP($AC15, $C$2:$AA$28,14,FALSE) -> 84 | AQ15: =VLOOKUP($AC15, $C$2:$AA$28,15,FALSE) -> 30 | AR15: =VLOOKUP($AC15, $C$2:$AA$28,16,FALSE) -> 68 | AS15: =VLOOKUP($AC15, $C$2:$AA$28,17,FALSE) -> 18 | AT15: =VLOOKUP($AC15, $C$2:$AA$28,18,FALSE) -> 40 | AU15: =VLOOKUP($AC15, $C$2:$AA$28,19,FALSE) -> 12 | AV15: =VLOOKUP($AC15, $C$2:$AA$28,20,FALSE) -> 28 | AW15: =VLOOKUP($AC15, $C$2:$AA$28,21,FALSE) -> 12 | AX15: =VLOOKUP($AC15, $C$2:$AA$28,22,FALSE) -> 15 | AY15: =VLOOKUP($AC15, $C$2:$AA$28,23,FALSE) -> 14 | AZ15: =VLOOKUP($AC15, $C$2:$AA$28,24,FALSE) -> 9 | BA15: =VLOOKUP($AC15, $C$2:$AA$28,25,FALSE) -> 21
C16: LORIENT | D16: =G16*2+I16*3+K16*1 -> 81 | E16: 30 | F16: 65 | G16: =E16-I16 -> 19 | H16: =F16-J16 -> 32 | I16: 11 | J16: 33 | K16: 10 | L16: 18 | M16: 20 | N16: 12 | O16: 24 | P16: =D15 -> 75 | Q16: =E15 -> 31 | R16: =F15 -> 72 | S16: =G15 -> 25 | T16: =H15 -> 45 | U16: =I15 -> 6 | V16: =J15 -> 27 | W16: =K15 -> 7 | ... AA16: =O15 -> 28 | AC16: VANVES | AD16: =VLOOKUP($AC16, $C$2:$AA$28,2,FALSE) -> 58 | AE16: =VLOOKUP($AC16, $C$2:$AA$28,3,FALSE) -> 25 | AF16: =VLOOKUP($AC16, $C$2:$AA$28,4,FALSE) -> 74 | AG16: =VLOOKUP($AC16, $C$2:$AA$28,5,FALSE) -> 19 | AH16: =VLOOKUP($AC16, $C$2:$AA$28,6,FALSE) -> 45 | AI16: =VLOOKUP($AC16, $C$2:$AA$28,7,FALSE) -> 6 | AJ16: =VLOOKUP($AC16, $C$2:$AA$28,8,FALSE) -> 29 | AK16: =VLOOKUP($AC16, $C$2:$AA$28,9,FALSE) -> 2 | AL16: =VLOOKUP($AC16, $C$2:$AA$28,10,FALSE) -> 2 | AM16: =VLOOKUP($AC16, $C$2:$AA$28,11,FALSE) -> 17 | AN16: =VLOOKUP($AC16, $C$2:$AA$28,12,FALSE) -> 15 | AO16: =VLOOKUP($AC16, $C$2:$AA$28,13,FALSE) -> 22 | AP16: =VLOOKUP($AC16, $C$2:$AA$28,14,FALSE) -> 86 | AQ16: =VLOOKUP($AC16, $C$2:$AA$28,15,FALSE) -> 30 | AR16: =VLOOKUP($AC16, $C$2:$AA$28,16,FALSE) -> 58 | AS16: =VLOOKUP($AC16, $C$2:$AA$28,17,FALSE) -> 16 | AT16: =VLOOKUP($AC16, $C$2:$AA$28,18,FALSE) -> 31 | AU16: =VLOOKUP($AC16, $C$2:$AA$28,19,FALSE) -> 14 | AV16: =VLOOKUP($AC16, $C$2:$AA$28,20,FALSE) -> 27 | AW16: =VLOOKUP($AC16, $C$2:$AA$28,21,FALSE) -> 12 | AX16: =VLOOKUP($AC16, $C$2:$AA$28,22,FALSE) -> 15 | AY16: =VLOOKUP($AC16, $C$2:$AA$28,23,FALSE) -> 15 | AZ16: =VLOOKUP($AC16, $C$2:$AA$28,24,FALSE) -> 8 | BA16: =VLOOKUP($AC16, $C$2:$AA$28,25,FALSE) -> 33
AC17: VITRE | AD17: =VLOOKUP($AC17, $C$2:$AA$28,2,FALSE) -> 86 | AE17: =VLOOKUP($AC17, $C$2:$AA$28,3,FALSE) -> 30 | AF17: =VLOOKUP($AC17, $C$2:$AA$28,4,FALSE) -> 58 | AG17: =VLOOKUP($AC17, $C$2:$AA$28,5,FALSE) -> 16 | AH17: =VLOOKUP($AC17, $C$2:$AA$28,6,FALSE) -> 31 | AI17: =VLOOKUP($AC17, $C$2:$AA$28,7,FALSE) -> 14 | AJ17: =VLOOKUP($AC17, $C$2:$AA$28,8,FALSE) -> 27 | AK17: =VLOOKUP($AC17, $C$2:$AA$28,9,FALSE) -> 12 | AL17: =VLOOKUP($AC17, $C$2:$AA$28,10,FALSE) -> 15 | AM17: =VLOOKUP($AC17, $C$2:$AA$28,11,FALSE) -> 15 | AN17: =VLOOKUP($AC17, $C$2:$AA$28,12,FALSE) -> 8 | AO17: =VLOOKUP($AC17, $C$2:$AA$28,13,FALSE) -> 33 | AP17: =VLOOKUP($AC17, $C$2:$AA$28,14,FALSE) -> 58 | AQ17: =VLOOKUP($AC17, $C$2:$AA$28,15,FALSE) -> 25 | AR17: =VLOOKUP($AC17, $C$2:$AA$28,16,FALSE) -> 74 | AS17: =VLOOKUP($AC17, $C$2:$AA$28,17,FALSE) -> 19 | AT17: =VLOOKUP($AC17, $C$2:$AA$28,18,FALSE) -> 45 | AU17: =VLOOKUP($AC17, $C$2:$AA$28,19,FALSE) -> 6 | AV17: =VLOOKUP($AC17, $C$2:$AA$28,20,FALSE) -> 29 | AW17: =VLOOKUP($AC17, $C$2:$AA$28,21,FALSE) -> 2 | AX17: =VLOOKUP($AC17, $C$2:$AA$28,22,FALSE) -> 2 | AY17: =VLOOKUP($AC17, $C$2:$AA$28,23,FALSE) -> 17 | AZ17: =VLOOKUP($AC17, $C$2:$AA$28,24,FALSE) -> 15 | BA17: =VLOOKUP($AC17, $C$2:$AA$28,25,FALSE) -> 22
D18: SCORE | E18: TT | F18: TR | G18: TR2 | H18: TT2 | I18: TR3 | J18: TT3 | K18: LFR | L18: LFT | M18: BP | N18: ORB | O18: DRB | P18: Pts | Q18: TT | R18: TR | S18: TR2 | T18: TT2 | U18: TR3 | V18: TT3 | W18: LFR | X18: LFT | Y18: BP | Z18: ORB | AA18: DRB
B19: MATCH 5 | C19: TOULOUSE | D19: =G19*2+I19*3+K19*1 -> 98 | E19: 32 | F19: 65 | G19: =E19-I19 -> 20 | H19: =F19-J19 -> 33 | I19: 12 | J19: 32 | K19: 22 | L19: 28 | M19: 13 | N19: 11 | O19: 24 | P19: =D20 -> 72 | Q19: =E20 -> 25 | R19: =F20 -> 54 | S19: =G20 -> 15 | T19: =H20 -> 29 | U19: =I20 -> 10 | V19: =J20 -> 25 | W19: =K20 -> 12 | ... AA19: =O20 -> 32
C20: DAX | D20: =G20*2+I20*3+K20*1 -> 72 | E20: 25 | F20: 54 | G20: =E20-I20 -> 15 | H20: =F20-J20 -> 29 | I20: 10 | J20: 25 | K20: 12 | L20: 19 | M20: 18 | N20: 10 | O20: 32 | P20: =D19 -> 98 | Q20: =E19 -> 32 | R20: =F19 -> 65 | S20: =G19 -> 20 | T20: =H19 -> 33 | U20: =I19 -> 12 | V20: =J19 -> 32 | W20: =K19 -> 22 | ... AA20: =O19 -> 24
D22: SCORE | E22: TT | F22: TR | G22: TR2 | H22: TT2 | I22: TR3 | J22: TT3 | K22: LFR | L22: LFT | M22: BP | N22: ORB | O22: DRB | P22: Pts | Q22: TT | R22: TR | S22: TR2 | T22: TT2 | U22: TR3 | V22: TT3 | W22: LFR | X22: LFT | Y22: BP | Z22: ORB | AA22: DRB
B23: MATCH 6 | C23: BORDEAUX | D23: =G23*2+I23*3+K23*1 -> 85 | E23: 32 | F23: 73 | G23: =E23-I23 -> 24 | H23: =F23-J23 -> 50 | I23: 8 | J23: 23 | K23: 13 | L23: 19 | M23: 13 | N23: 20 | O23: 31 | P23: =D24 -> 60 | Q23: =E24 -> 23 | R23: =F24 -> 69 | S23: =G24 -> 20 | T23: =H24 -> 51 | U23: =I24 -> 3 | V23: =J24 -> 18 | W23: =K24 -> 11 | ... AA23: =O24 -> 24
C24: CHALLANS | D24: =G24*2+I24*3+K24*1 -> 60 | E24: 23 | F24: 69 | G24: =E24-I24 -> 20 | H24: =F24-J24 -> 51 | I24: 3 | J24: 18 | K24: 11 | L24: 15 | M24: 18 | N24: 15 | O24: 24 | P24: =D23 -> 85 | Q24: =E23 -> 32 | R24: =F23 -> 73 | S24: =G23 -> 24 | T24: =H23 -> 50 | U24: =I23 -> 8 | V24: =J23 -> 23 | W24: =K23 -> 13 | ... AA24: =O23 -> 31
D26: SCORE | E26: TT | F26: TR | G26: TR2 | H26: TT2 | I26: TR3 | J26: TT3 | K26: LFR | L26: LFT | M26: BP | N26: ORB | O26: DRB | P26: Pts | Q26: TT | R26: TR | S26: TR2 | T26: TT2 | U26: TR3 | V26: TT3 | W26: LFR | X26: LFT | Y26: BP | Z26: ORB | AA26: DRB
B27: MATCH 7 | C27: VANVES | D27: =G27*2+I27*3+K27*1 -> 58 | E27: 25 | F27: 74 | G27: =E27-I27 -> 19 | H27: =F27-J27 -> 45 | I27: 6 | J27: 29 | K27: 2 | L27: 2 | M27: 17 | N27: 15 | O27: 22 | P27: =D28 -> 86 | Q27: =E28 -> 30 | R27: =F28 -> 58 | S27: =G28 -> 16 | T27: =H28 -> 31 | U27: =I28 -> 14 | V27: =J28 -> 27 | W27: =K28 -> 12 | ... AA27: =O28 -> 33
C28: VITRE | D28: =G28*2+I28*3+K28*1 -> 86 | E28: 30 | F28: 58 | G28: =E28-I28 -> 16 | H28: =F28-J28 -> 31 | I28: 14 | J28: 27 | K28: 12 | L28: 15 | M28: 15 | N28: 8 | O28: 33 | P28: =D27 -> 58 | Q28: =E27 -> 25 | R28: =F27 -> 74 | S28: =G27 -> 19 | T28: =H27 -> 45 | U28: =I27 -> 6 | V28: =J27 -> 29 | W28: =K27 -> 2 | ... AA28: =O27 -> 22

Sheet J2
D2: SCORE | E2: TT | F2: TR | G2: TR2 | H2: TT2 | I2: TR3 | J2: TT3 | K2: LFR | L2: LFT | M2: BP | N2: ORB | O2: DRB | P2: Pts | Q2: TT | R2: TR | S2: TR2 | T2: TT2 | U2: TR3 | V2: TT3 | W2: LFR | X2: LFT | Y2: BP | Z2: ORB | AA2: DRB
B3: MATCH 1 | C3: LE HAVRE | D3: =G3*2+I3*3+K3*1 -> 0 | G3: =E3-I3 -> 0 | H3: =F3-J3 -> 0 | P3: =D4 -> 0 | Q3: =E4 -> 0 | R3: =F4 -> 0 | S3: =G4 -> 0 | T3: =H4 -> 0 | U3: =I4 -> 0 | V3: =J4 -> 0 | W3: =K4 -> 0 | ... AA3: =O4 -> 0 | AD3: PTS | AE3: TR | AF3: TT | AG3: TR2 | AH3: TT2 | AI3: TR3 | AJ3: TT3 | AK3: LFR | AL3: LFT | AM3: BP | AN3: ORB | AO3: DRB | AP3: Pts | AQ3: TT | AR3: TR | AS3: TR2 | AT3: TT2 | AU3: TR3 | AV3: TT3 | AW3: LFR | AX3: LFT | AY3: BP | AZ3: ORB | BA3: DRB
C4: BOULOGNE | D4: =G4*2+I4*3+K4*1 -> 0 | G4: =E4-I4 -> 0 | H4: =F4-J4 -> 0 | P4: =D3 -> 0 | Q4: =E3 -> 0 | R4: =F3 -> 0 | S4: =G3 -> 0 | T4: =H3 -> 0 | U4: =I3 -> 0 | V4: =J3 -> 0 | W4: =K3 -> 0 | ... AA4: =O3 -> 0 | AC4: ANGERS | AD4: =VLOOKUP($AC4, $C$2:$AA$28,2,FALSE) -> 0 | AE4: =VLOOKUP($AC4, $C$2:$AA$28,3,FALSE) -> 0 | AF4: =VLOOKUP($AC4, $C$2:$AA$28,4,FALSE) -> 0 | AG4: =VLOOKUP($AC4, $C$2:$AA$28,5,FALSE) -> 0 | AH4: =VLOOKUP($AC4, $C$2:$AA$28,6,FALSE) -> 0 | AI4: =VLOOKUP($AC4, $C$2:$AA$28,7,FALSE) -> 0 | AJ4: =VLOOKUP($AC4, $C$2:$AA$28,8,FALSE) -> 0 | AK4: =VLOOKUP($AC4, $C$2:$AA$28,9,FALSE) -> 0 | AL4: =VLOOKUP($AC4, $C$2:$AA$28,10,FALSE) -> 0 | AM4: =VLOOKUP($AC4, $C$2:$AA$28,11,FALSE) -> 0 | AN4: =VLOOKUP($AC4, $C$2:$AA$28,12,FALSE) -> 0 | AO4: =VLOOKUP($AC4, $C$2:$AA$28,13,FALSE) -> 0 | AP4: =VLOOKUP($AC4, $C$2:$AA$28,14,FALSE) -> 0 | AQ4: =VLOOKUP($AC4, $C$2:$AA$28,15,FALSE) -> 0 | AR4: =VLOOKUP($AC4, $C$2:$AA$28,16,FALSE) -> 0 | AS4: =VLOOKUP($AC4, $C$2:$AA$28,17,FALSE) -> 0 | AT4: =VLOOKUP($AC4, $C$2:$AA$28,18,FALSE) -> 0 | AU4: =VLOOKUP($AC4, $C$2:$AA$28,19,FALSE) -> 0 | AV4: =VLOOKUP($AC4, $C$2:$AA$28,20,FALSE) -> 0 | AW4: =VLOOKUP($AC4, $C$2:$AA$28,21,FALSE) -> 0 | AX4: =VLOOKUP($AC4, $C$2:$AA$28,22,FALSE) -> 0 | AY4: =VLOOKUP($AC4, $C$2:$AA$28,23,FALSE) -> 0 | AZ4: =VLOOKUP($AC4, $C$2:$AA$28,24,FALSE) -> 0 | BA4: =VLOOKUP($AC4, $C$2:$AA$28,25,FALSE) -> 0
AC5: BORDEAUX | AD5: =VLOOKUP($AC5, $C$2:$AA$28,2,FALSE) -> 0 | AE5: =VLOOKUP($AC5, $C$2:$AA$28,3,FALSE) -> 0 | AF5: =VLOOKUP($AC5, $C$2:$AA$28,4,FALSE) -> 0 | AG5: =VLOOKUP($AC5, $C$2:$AA$28,5,FALSE) -> 0 | AH5: =VLOOKUP($AC5, $C$2:$AA$28,6,FALSE) -> 0 | AI5: =VLOOKUP($AC5, $C$2:$AA$28,7,FALSE) -> 0 | AJ5: =VLOOKUP($AC5, $C$2:$AA$28,8,FALSE) -> 0 | AK5: =VLOOKUP($AC5, $C$2:$AA$28,9,FALSE) -> 0 | AL5: =VLOOKUP($AC5, $C$2:$AA$28,10,FALSE) -> 0 | AM5: =VLOOKUP($AC5, $C$2:$AA$28,11,FALSE) -> 0 | AN5: =VLOOKUP($AC5, $C$2:$AA$28,12,FALSE) -> 0 | AO5: =VLOOKUP($AC5, $C$2:$AA$28,13,FALSE) -> 0 | AP5: =VLOOKUP($AC5, $C$2:$AA$28,14,FALSE) -> 0 | AQ5: =VLOOKUP($AC5, $C$2:$AA$28,15,FALSE) -> 0 | AR5: =VLOOKUP($AC5, $C$2:$AA$28,16,FALSE) -> 0 | AS5: =VLOOKUP($AC5, $C$2:$AA$28,17,FALSE) -> 0 | AT5: =VLOOKUP($AC5, $C$2:$AA$28,18,FALSE) -> 0 | AU5: =VLOOKUP($AC5, $C$2:$AA$28,19,FALSE) -> 0 | AV5: =VLOOKUP($AC5, $C$2:$AA$28,20,FALSE) -> 0 | AW5: =VLOOKUP($AC5, $C$2:$AA$28,21,FALSE) -> 0 | AX5: =VLOOKUP($AC5, $C$2:$AA$28,22,FALSE) -> 0 | AY5: =VLOOKUP($AC5, $C$2:$AA$28,23,FALSE) -> 0 | AZ5: =VLOOKUP($AC5, $C$2:$AA$28,24,FALSE) -> 0 | BA5: =VLOOKUP($AC5, $C$2:$AA$28,25,FALSE) -> 0
D6: SCORE | E6: TT | F6: TR | G6: TR2 | H6: TT2 | I6: TR3 | J6: TT3 | K6: LFR | L6: LFT | M6: BP | N6: ORB | O6: DRB | P6: Pts | Q6: TT | R6: TR | S6: TR2 | T6: TT2 | U6: TR3 | V6: TT3 | W6: LFR | X6: LFT | Y6: BP | Z6: ORB | AA6: DRB | AC6: BOULOGNE | AD6: =VLOOKUP($AC6, $C$2:$AA$28,2,FALSE) -> 0 | AE6: =VLOOKUP($AC6, $C$2:$AA$28,3,FALSE) -> 0 | AF6: =VLOOKUP($AC6, $C$2:$AA$28,4,FALSE) -> 0 | AG6: =VLOOKUP($AC6, $C$2:$AA$28,5,FALSE) -> 0 | AH6: =VLOOKUP($AC6, $C$2:$AA$28,6,FALSE) -> 0 | AI6: =VLOOKUP($AC6, $C$2:$AA$28,7,FALSE) -> 0 | AJ6: =VLOOKUP($AC6, $C$2:$AA$28,8,FALSE) -> 0 | AK6: =VLOOKUP($AC6, $C$2:$AA$28,9,FALSE) -> 0 | AL6: =VLOOKUP($AC6, $C$2:$AA$28,10,FALSE) -> 0 | AM6: =VLOOKUP($AC6, $C$2:$AA$28,11,FALSE) -> 0 | AN6: =VLOOKUP($AC6, $C$2:$AA$28,12,FALSE) -> 0 | AO6: =VLOOKUP($AC6, $C$2:$AA$28,13,FALSE) -> 0 | AP6: =VLOOKUP($AC6, $C$2:$AA$28,14,FALSE) -> 0 | AQ6: =VLOOKUP($AC6, $C$2:$AA$28,15,FALSE) -> 0 | AR6: =VLOOKUP($AC6, $C$2:$AA$28,16,FALSE) -> 0 | AS6: =VLOOKUP($AC6, $C$2:$AA$28,17,FALSE) -> 0 | AT6: =VLOOKUP($AC6, $C$2:$AA$28,18,FALSE) -> 0 | AU6: =VLOOKUP($AC6, $C$2:$AA$28,19,FALSE) -> 0 | AV6: =VLOOKUP($AC6, $C$2:$AA$28,20,FALSE) -> 0 | AW6: =VLOOKUP($AC6, $C$2:$AA$28,21,FALSE) -> 0 | AX6: =VLOOKUP($AC6, $C$2:$AA$28,22,FALSE) -> 0 | AY6: =VLOOKUP($AC6, $C$2:$AA$28,23,FALSE) -> 0 | AZ6: =VLOOKUP($AC6, $C$2:$AA$28,24,FALSE) -> 0 | BA6: =VLOOKUP($AC6, $C$2:$AA$28,25,FALSE) -> 0
B7: MATCH 2 | C7: LA ROCHELLE | D7: =G7*2+I7*3+K7*1 -> 0 | G7: =E7-I7 -> 0 | H7: =F7-J7 -> 0 | P7: =D8 -> 0 | Q7: =E8 -> 0 | R7: =F8 -> 0 | S7: =G8 -> 0 | T7: =H8 -> 0 | U7: =I8 -> 0 | V7: =J8 -> 0 | W7: =K8 -> 0 | ... AA7: =O8 -> 0 | AC7: CAEN | AD7: =VLOOKUP($AC7, $C$2:$AA$28,2,FALSE) -> 0 | AE7: =VLOOKUP($AC7, $C$2:$AA$28,3,FALSE) -> 0 | AF7: =VLOOKUP($AC7, $C$2:$AA$28,4,FALSE) -> 0 | AG7: =VLOOKUP($AC7, $C$2:$AA$28,5,FALSE) -> 0 | AH7: =VLOOKUP($AC7, $C$2:$AA$28,6,FALSE) -> 0 | AI7: =VLOOKUP($AC7, $C$2:$AA$28,7,FALSE) -> 0 | AJ7: =VLOOKUP($AC7, $C$2:$AA$28,8,FALSE) -> 0 | AK7: =VLOOKUP($AC7, $C$2:$AA$28,9,FALSE) -> 0 | AL7: =VLOOKUP($AC7, $C$2:$AA$28,10,FALSE) -> 0 | AM7: =VLOOKUP($AC7, $C$2:$AA$28,11,FALSE) -> 0 | AN7: =VLOOKUP($AC7, $C$2:$AA$28,12,FALSE) -> 0 | AO7: =VLOOKUP($AC7, $C$2:$AA$28,13,FALSE) -> 0 | AP7: =VLOOKUP($AC7, $C$2:$AA$28,14,FALSE) -> 0 | AQ7: =VLOOKUP($AC7, $C$2:$AA$28,15,FALSE) -> 0 | AR7: =VLOOKUP($AC7, $C$2:$AA$28,16,FALSE) -> 0 | AS7: =VLOOKUP($AC7, $C$2:$AA$28,17,FALSE) -> 0 | AT7: =VLOOKUP($AC7, $C$2:$AA$28,18,FALSE) -> 0 | AU7: =VLOOKUP($AC7, $C$2:$AA$28,19,FALSE) -> 0 | AV7: =VLOOKUP($AC7, $C$2:$AA$28,20,FALSE) -> 0 | AW7: =VLOOKUP($AC7, $C$2:$AA$28,21,FALSE) -> 0 | AX7: =VLOOKUP($AC7, $C$2:$AA$28,22,FALSE) -> 0 | AY7: =VLOOKUP($AC7, $C$2:$AA$28,23,FALSE) -> 0 | AZ7: =VLOOKUP($AC7, $C$2:$AA$28,24,FALSE) -> 0 | BA7: =VLOOKUP($AC7, $C$2:$AA$28,25,FALSE) -> 0
C8: CAEN | D8: =G8*2+I8*3+K8*1 -> 0 | G8: =E8-I8 -> 0 | H8: =F8-J8 -> 0 | P8: =D7 -> 0 | Q8: =E7 -> 0 | R8: =F7 -> 0 | S8: =G7 -> 0 | T8: =H7 -> 0 | U8: =I7 -> 0 | V8: =J7 -> 0 | W8: =K7 -> 0 | ... AA8: =O7 -> 0 | AC8: CHALLANS | AD8: =VLOOKUP($AC8, $C$2:$AA$28,2,FALSE) -> 0 | AE8: =VLOOKUP($AC8, $C$2:$AA$28,3,FALSE) -> 0 | AF8: =VLOOKUP($AC8, $C$2:$AA$28,4,FALSE) -> 0 | AG8: =VLOOKUP($AC8, $C$2:$AA$28,5,FALSE) -> 0 | AH8: =VLOOKUP($AC8, $C$2:$AA$28,6,FALSE) -> 0 | AI8: =VLOOKUP($AC8, $C$2:$AA$28,7,FALSE) -> 0 | AJ8: =VLOOKUP($AC8, $C$2:$AA$28,8,FALSE) -> 0 | AK8: =VLOOKUP($AC8, $C$2:$AA$28,9,FALSE) -> 0 | AL8: =VLOOKUP($AC8, $C$2:$AA$28,10,FALSE) -> 0 | AM8: =VLOOKUP($AC8, $C$2:$AA$28,11,FALSE) -> 0 | AN8: =VLOOKUP($AC8, $C$2:$AA$28,12,FALSE) -> 0 | AO8: =VLOOKUP($AC8, $C$2:$AA$28,13,FALSE) -> 0 | AP8: =VLOOKUP($AC8, $C$2:$AA$28,14,FALSE) -> 0 | AQ8: =VLOOKUP($AC8, $C$2:$AA$28,15,FALSE) -> 0 | AR8: =VLOOKUP($AC8, $C$2:$AA$28,16,FALSE) -> 0 | AS8: =VLOOKUP($AC8, $C$2:$AA$28,17,FALSE) -> 0 | AT8: =VLOOKUP($AC8, $C$2:$AA$28,18,FALSE) -> 0 | AU8: =VLOOKUP($AC8, $C$2:$AA$28,19,FALSE) -> 0 | AV8: =VLOOKUP($AC8, $C$2:$AA$28,20,FALSE) -> 0 | AW8: =VLOOKUP($AC8, $C$2:$AA$28,21,FALSE) -> 0 | AX8: =VLOOKUP($AC8, $C$2:$AA$28,22,FALSE) -> 0 | AY8: =VLOOKUP($AC8, $C$2:$AA$28,23,FALSE) -> 0 | AZ8: =VLOOKUP($AC8, $C$2:$AA$28,24,FALSE) -> 0 | BA8: =VLOOKUP($AC8, $C$2:$AA$28,25,FALSE) -> 0
AC9: DAX | AD9: =VLOOKUP($AC9, $C$2:$AA$28,2,FALSE) -> 0 | AE9: =VLOOKUP($AC9, $C$2:$AA$28,3,FALSE) -> 0 | AF9: =VLOOKUP($AC9, $C$2:$AA$28,4,FALSE) -> 0 | AG9: =VLOOKUP($AC9, $C$2:$AA$28,5,FALSE) -> 0 | AH9: =VLOOKUP($AC9, $C$2:$AA$28,6,FALSE) -> 0 | AI9: =VLOOKUP($AC9, $C$2:$AA$28,7,FALSE) -> 0 | AJ9: =VLOOKUP($AC9, $C$2:$AA$28,8,FALSE) -> 0 | AK9: =VLOOKUP($AC9, $C$2:$AA$28,9,FALSE) -> 0 | AL9: =VLOOKUP($AC9, $C$2:$AA$28,10,FALSE) -> 0 | AM9: =VLOOKUP($AC9, $C$2:$AA$28,11,FALSE) -> 0 | AN9: =VLOOKUP($AC9, $C$2:$AA$28,12,FALSE) -> 0 | AO9: =VLOOKUP($AC9, $C$2:$AA$28,13,FALSE) -> 0 | AP9: =VLOOKUP($AC9, $C$2:$AA$28,14,FALSE) -> 0 | AQ9: =VLOOKUP($AC9, $C$2:$AA$28,15,FALSE) -> 0 | AR9: =VLOOKUP($AC9, $C$2:$AA$28,16,FALSE) -> 0 | AS9: =VLOOKUP($AC9, $C$2:$AA$28,17,FALSE) -> 0 | AT9: =VLOOKUP($AC9, $C$2:$AA$28,18,FALSE) -> 0 | AU9: =VLOOKUP($AC9, $C$2:$AA$28,19,FALSE) -> 0 | AV9: =VLOOKUP($AC9, $C$2:$AA$28,20,FALSE) -> 0 | AW9: =VLOOKUP($AC9, $C$2:$AA$28,21,FALSE) -> 0 | AX9: =VLOOKUP($AC9, $C$2:$AA$28,22,FALSE) -> 0 | AY9: =VLOOKUP($AC9, $C$2:$AA$28,23,FALSE) -> 0 | AZ9: =VLOOKUP($AC9, $C$2:$AA$28,24,FALSE) -> 0 | BA9: =VLOOKUP($AC9, $C$2:$AA$28,25,FALSE) -> 0
D10: SCORE | E10: TT | F10: TR | G10: TR2 | H10: TT2 | I10: TR3 | J10: TT3 | K10: LFR | L10: LFT | M10: BP | N10: ORB | O10: DRB | P10: Pts | Q10: TT | R10: TR | S10: TR2 | T10: TT2 | U10: TR3 | V10: TT3 | W10: LFR | X10: LFT | Y10: BP | Z10: ORB | AA10: DRB | AC10: LA ROCHELLE | AD10: =VLOOKUP($AC10, $C$2:$AA$28,2,FALSE) -> 0 | AE10: =VLOOKUP($AC10, $C$2:$AA$28,3,FALSE) -> 0 | AF10: =VLOOKUP($AC10, $C$2:$AA$28,4,FALSE) -> 0 | AG10: =VLOOKUP($AC10, $C$2:$AA$28,5,FALSE) -> 0 | AH10: =VLOOKUP($AC10, $C$2:$AA$28,6,FALSE) -> 0 | AI10: =VLOOKUP($AC10, $C$2:$AA$28,7,FALSE) -> 0 | AJ10: =VLOOKUP($AC10, $C$2:$AA$28,8,FALSE) -> 0 | AK10: =VLOOKUP($AC10, $C$2:$AA$28,9,FALSE) -> 0 | AL10: =VLOOKUP($AC10, $C$2:$AA$28,10,FALSE) -> 0 | AM10: =VLOOKUP($AC10, $C$2:$AA$28,11,FALSE) -> 0 | AN10: =VLOOKUP($AC10, $C$2:$AA$28,12,FALSE) -> 0 | AO10: =VLOOKUP($AC10, $C$2:$AA$28,13,FALSE) -> 0 | AP10: =VLOOKUP($AC10, $C$2:$AA$28,14,FALSE) -> 0 | AQ10: =VLOOKUP($AC10, $C$2:$AA$28,15,FALSE) -> 0 | AR10: =VLOOKUP($AC10, $C$2:$AA$28,16,FALSE) -> 0 | AS10: =VLOOKUP($AC10, $C$2:$AA$28,17,FALSE) -> 0 | AT10: =VLOOKUP($AC10, $C$2:$AA$28,18,FALSE) -> 0 | AU10: =VLOOKUP($AC10, $C$2:$AA$28,19,FALSE) -> 0 | AV10: =VLOOKUP($AC10, $C$2:$AA$28,20,FALSE) -> 0 | AW10: =VLOOKUP($AC10, $C$2:$AA$28,21,FALSE) -> 0 | AX10: =VLOOKUP($AC10, $C$2:$AA$28,22,FALSE) -> 0 | AY10: =VLOOKUP($AC10, $C$2:$AA$28,23,FALSE) -> 0 | AZ10: =VLOOKUP($AC10, $C$2:$AA$28,24,FALSE) -> 0 | BA10: =VLOOKUP($AC10, $C$2:$AA$28,25,FALSE) -> 0
B11: MATCH 3 | C11: ANGERS | D11: =G11*2+I11*3+K11*1 -> 0 | G11: =E11-I11 -> 0 | H11: =F11-J11 -> 0 | P11: =D12 -> 0 | Q11: =E12 -> 0 | R11: =F12 -> 0 | S11: =G12 -> 0 | T11: =H12 -> 0 | U11: =I12 -> 0 | V11: =J12 -> 0 | W11: =K12 -> 0 | ... AA11: =O12 -> 0 | AC11: LE HAVRE | AD11: =VLOOKUP($AC11, $C$2:$AA$28,2,FALSE) -> 0 | AE11: =VLOOKUP($AC11, $C$2:$AA$28,3,FALSE) -> 0 | AF11: =VLOOKUP($AC11, $C$2:$AA$28,4,FALSE) -> 0 | AG11: =VLOOKUP($AC11, $C$2:$AA$28,5,FALSE) -> 0 | AH11: =VLOOKUP($AC11, $C$2:$AA$28,6,FALSE) -> 0 | AI11: =VLOOKUP($AC11, $C$2:$AA$28,7,FALSE) -> 0 | AJ11: =VLOOKUP($AC11, $C$2:$AA$28,8,FALSE) -> 0 | AK11: =VLOOKUP($AC11, $C$2:$AA$28,9,FALSE) -> 0 | AL11: =VLOOKUP($AC11, $C$2:$AA$28,10,FALSE) -> 0 | AM11: =VLOOKUP($AC11, $C$2:$AA$28,11,FALSE) -> 0 | AN11: =VLOOKUP($AC11, $C$2:$AA$28,12,FALSE) -> 0 | AO11: =VLOOKUP($AC11, $C$2:$AA$28,13,FALSE) -> 0 | AP11: =VLOOKUP($AC11, $C$2:$AA$28,14,FALSE) -> 0 | AQ11: =VLOOKUP($AC11, $C$2:$AA$28,15,FALSE) -> 0 | AR11: =VLOOKUP($AC11, $C$2:$AA$28,16,FALSE) -> 0 | AS11: =VLOOKUP($AC11, $C$2:$AA$28,17,FALSE) -> 0 | AT11: =VLOOKUP($AC11, $C$2:$AA$28,18,FALSE) -> 0 | AU11: =VLOOKUP($AC11, $C$2:$AA$28,19,FALSE) -> 0 | AV11: =VLOOKUP($AC11, $C$2:$AA$28,20,FALSE) -> 0 | AW11: =VLOOKUP($AC11, $C$2:$AA$28,21,FALSE) -> 0 | AX11: =VLOOKUP($AC11, $C$2:$AA$28,22,FALSE) -> 0 | AY11: =VLOOKUP($AC11, $C$2:$AA$28,23,FALSE) -> 0 | AZ11: =VLOOKUP($AC11, $C$2:$AA$28,24,FALSE) -> 0 | BA11: =VLOOKUP($AC11, $C$2:$AA$28,25,FALSE) -> 0
C12: TOURS | D12: =G12*2+I12*3+K12*1 -> 0 | G12: =E12-I12 -> 0 | H12: =F12-J12 -> 0 | P12: =D11 -> 0 | Q12: =E11 -> 0 | R12: =F11 -> 0 | S12: =G11 -> 0 | T12: =H11 -> 0 | U12: =I11 -> 0 | V12: =J11 -> 0 | W12: =K11 -> 0 | ... AA12: =O11 -> 0 | AC12: LORIENT | AD12: =VLOOKUP($AC12, $C$2:$AA$28,2,FALSE) -> 0 | AE12: =VLOOKUP($AC12, $C$2:$AA$28,3,FALSE) -> 0 | AF12: =VLOOKUP($AC12, $C$2:$AA$28,4,FALSE) -> 0 | AG12: =VLOOKUP($AC12, $C$2:$AA$28,5,FALSE) -> 0 | AH12: =VLOOKUP($AC12, $C$2:$AA$28,6,FALSE) -> 0 | AI12: =VLOOKUP($AC12, $C$2:$AA$28,7,FALSE) -> 0 | AJ12: =VLOOKUP($AC12, $C$2:$AA$28,8,FALSE) -> 0 | AK12: =VLOOKUP($AC12, $C$2:$AA$28,9,FALSE) -> 0 | AL12: =VLOOKUP($AC12, $C$2:$AA$28,10,FALSE) -> 0 | AM12: =VLOOKUP($AC12, $C$2:$AA$28,11,FALSE) -> 0 | AN12: =VLOOKUP($AC12, $C$2:$AA$28,12,FALSE) -> 0 | AO12: =VLOOKUP($AC12, $C$2:$AA$28,13,FALSE) -> 0 | AP12: =VLOOKUP($AC12, $C$2:$AA$28,14,FALSE) -> 0 | AQ12: =VLOOKUP($AC12, $C$2:$AA$28,15,FALSE) -> 0 | AR12: =VLOOKUP($AC12, $C$2:$AA$28,16,FALSE) -> 0 | AS12: =VLOOKUP($AC12, $C$2:$AA$28,17,FALSE) -> 0 | AT12: =VLOOKUP($AC12, $C$2:$AA$28,18,FALSE) -> 0 | AU12: =VLOOKUP($AC12, $C$2:$AA$28,19,FALSE) -> 0 | AV12: =VLOOKUP($AC12, $C$2:$AA$28,20,FALSE) -> 0 | AW12: =VLOOKUP($AC12, $C$2:$AA$28,21,FALSE) -> 0 | AX12: =VLOOKUP($AC12, $C$2:$AA$28,22,FALSE) -> 0 | AY12: =VLOOKUP($AC12, $C$2:$AA$28,23,FALSE) -> 0 | AZ12: =VLOOKUP($AC12, $C$2:$AA$28,24,FALSE) -> 0 | BA12: =VLOOKUP($AC12, $C$2:$AA$28,25,FALSE) -> 0
AC13: TARBES | AD13: =VLOOKUP($AC13, $C$2:$AA$28,2,FALSE) -> 0 | AE13: =VLOOKUP($AC13, $C$2:$AA$28,3,FALSE) -> 0 | AF13: =VLOOKUP($AC13, $C$2:$AA$28,4,FALSE) -> 0 | AG13: =VLOOKUP($AC13, $C$2:$AA$28,5,FALSE) -> 0 | AH13: =VLOOKUP($AC13, $C$2:$AA$28,6,FALSE) -> 0 | AI13: =VLOOKUP($AC13, $C$2:$AA$28,7,FALSE) -> 0 | AJ13: =VLOOKUP($AC13, $C$2:$AA$28,8,FALSE) -> 0 | AK13: =VLOOKUP($AC13, $C$2:$AA$28,9,FALSE) -> 0 | AL13: =VLOOKUP($AC13, $C$2:$AA$28,10,FALSE) -> 0 | AM13: =VLOOKUP($AC13, $C$2:$AA$28,11,FALSE) -> 0 | AN13: =VLOOKUP($AC13, $C$2:$AA$28,12,FALSE) -> 0 | AO13: =VLOOKUP($AC13, $C$2:$AA$28,13,FALSE) -> 0 | AP13: =VLOOKUP($AC13, $C$2:$AA$28,14,FALSE) -> 0 | AQ13: =VLOOKUP($AC13, $C$2:$AA$28,15,FALSE) -> 0 | AR13: =VLOOKUP($AC13, $C$2:$AA$28,16,FALSE) -> 0 | AS13: =VLOOKUP($AC13, $C$2:$AA$28,17,FALSE) -> 0 | AT13: =VLOOKUP($AC13, $C$2:$AA$28,18,FALSE) -> 0 | AU13: =VLOOKUP($AC13, $C$2:$AA$28,19,FALSE) -> 0 | AV13: =VLOOKUP($AC13, $C$2:$AA$28,20,FALSE) -> 0 | AW13: =VLOOKUP($AC13, $C$2:$AA$28,21,FALSE) -> 0 | AX13: =VLOOKUP($AC13, $C$2:$AA$28,22,FALSE) -> 0 | AY13: =VLOOKUP($AC13, $C$2:$AA$28,23,FALSE) -> 0 | AZ13: =VLOOKUP($AC13, $C$2:$AA$28,24,FALSE) -> 0 | BA13: =VLOOKUP($AC13, $C$2:$AA$28,25,FALSE) -> 0
D14: SCORE | E14: TT | F14: TR | G14: TR2 | H14: TT2 | I14: TR3 | J14: TT3 | K14: LFR | L14: LFT | M14: BP | N14: ORB | O14: DRB | P14: Pts | Q14: TT | R14: TR | S14: TR2 | T14: TT2 | U14: TR3 | V14: TT3 | W14: LFR | X14: LFT | Y14: BP | Z14: ORB | AA14: DRB | AC14: TOULOUSE | AD14: =VLOOKUP($AC14, $C$2:$AA$28,2,FALSE) -> 0 | AE14: =VLOOKUP($AC14, $C$2:$AA$28,3,FALSE) -> 0 | AF14: =VLOOKUP($AC14, $C$2:$AA$28,4,FALSE) -> 0 | AG14: =VLOOKUP($AC14, $C$2:$AA$28,5,FALSE) -> 0 | AH14: =VLOOKUP($AC14, $C$2:$AA$28,6,FALSE) -> 0 | AI14: =VLOOKUP($AC14, $C$2:$AA$28,7,FALSE) -> 0 | AJ14: =VLOOKUP($AC14, $C$2:$AA$28,8,FALSE) -> 0 | AK14: =VLOOKUP($AC14, $C$2:$AA$28,9,FALSE) -> 0 | AL14: =VLOOKUP($AC14, $C$2:$AA$28,10,FALSE) -> 0 | AM14: =VLOOKUP($AC14, $C$2:$AA$28,11,FALSE) -> 0 | AN14: =VLOOKUP($AC14, $C$2:$AA$28,12,FALSE) -> 0 | AO14: =VLOOKUP($AC14, $C$2:$AA$28,13,FALSE) -> 0 | AP14: =VLOOKUP($AC14, $C$2:$AA$28,14,FALSE) -> 0 | AQ14: =VLOOKUP($AC14, $C$2:$AA$28,15,FALSE) -> 0 | AR14: =VLOOKUP($AC14, $C$2:$AA$28,16,FALSE) -> 0 | AS14: =VLOOKUP($AC14, $C$2:$AA$28,17,FALSE) -> 0 | AT14: =VLOOKUP($AC14, $C$2:$AA$28,18,FALSE) -> 0 | AU14: =VLOOKUP($AC14, $C$2:$AA$28,19,FALSE) -> 0 | AV14: =VLOOKUP($AC14, $C$2:$AA$28,20,FALSE) -> 0 | AW14: =VLOOKUP($AC14, $C$2:$AA$28,21,FALSE) -> 0 | AX14: =VLOOKUP($AC14, $C$2:$AA$28,22,FALSE) -> 0 | AY14: =VLOOKUP($AC14, $C$2:$AA$28,23,FALSE) -> 0 | AZ14: =VLOOKUP($AC14, $C$2:$AA$28,24,FALSE) -> 0 | BA14: =VLOOKUP($AC14, $C$2:$AA$28,25,FALSE) -> 0
B15: MATCH 4 | C15: TARBES | D15: =G15*2+I15*3+K15*1 -> 0 | G15: =E15-I15 -> 0 | H15: =F15-J15 -> 0 | P15: =D16 -> 0 | Q15: =E16 -> 0 | R15: =F16 -> 0 | S15: =G16 -> 0 | T15: =H16 -> 0 | U15: =I16 -> 0 | V15: =J16 -> 0 | W15: =K16 -> 0 | ... AA15: =O16 -> 0 | AC15: TOURS | AD15: =VLOOKUP($AC15, $C$2:$AA$28,2,FALSE) -> 0 | AE15: =VLOOKUP($AC15, $C$2:$AA$28,3,FALSE) -> 0 | AF15: =VLOOKUP($AC15, $C$2:$AA$28,4,FALSE) -> 0 | AG15: =VLOOKUP($AC15, $C$2:$AA$28,5,FALSE) -> 0 | AH15: =VLOOKUP($AC15, $C$2:$AA$28,6,FALSE) -> 0 | AI15: =VLOOKUP($AC15, $C$2:$AA$28,7,FALSE) -> 0 | AJ15: =VLOOKUP($AC15, $C$2:$AA$28,8,FALSE) -> 0 | AK15: =VLOOKUP($AC15, $C$2:$AA$28,9,FALSE) -> 0 | AL15: =VLOOKUP($AC15, $C$2:$AA$28,10,FALSE) -> 0 | AM15: =VLOOKUP($AC15, $C$2:$AA$28,11,FALSE) -> 0 | AN15: =VLOOKUP($AC15, $C$2:$AA$28,12,FALSE) -> 0 | AO15: =VLOOKUP($AC15, $C$2:$AA$28,13,FALSE) -> 0 | AP15: =VLOOKUP($AC15, $C$2:$AA$28,14,FALSE) -> 0 | AQ15: =VLOOKUP($AC15, $C$2:$AA$28,15,FALSE) -> 0 | AR15: =VLOOKUP($AC15, $C$2:$AA$28,16,FALSE) -> 0 | AS15: =VLOOKUP($AC15, $C$2:$AA$28,17,FALSE) -> 0 | AT15: =VLOOKUP($AC15, $C$2:$AA$28,18,FALSE) -> 0 | AU15: =VLOOKUP($AC15, $C$2:$AA$28,19,FALSE) -> 0 | AV15: =VLOOKUP($AC15, $C$2:$AA$28,20,FALSE) -> 0 | AW15: =VLOOKUP($AC15, $C$2:$AA$28,21,FALSE) -> 0 | AX15: =VLOOKUP($AC15, $C$2:$AA$28,22,FALSE) -> 0 | AY15: =VLOOKUP($AC15, $C$2:$AA$28,23,FALSE) -> 0 | AZ15: =VLOOKUP($AC15, $C$2:$AA$28,24,FALSE) -> 0 | BA15: =VLOOKUP($AC15, $C$2:$AA$28,25,FALSE) -> 0
C16: LORIENT | D16: =G16*2+I16*3+K16*1 -> 0 | G16: =E16-I16 -> 0 | H16: =F16-J16 -> 0 | P16: =D15 -> 0 | Q16: =E15 -> 0 | R16: =F15 -> 0 | S16: =G15 -> 0 | T16: =H15 -> 0 | U16: =I15 -> 0 | V16: =J15 -> 0 | W16: =K15 -> 0 | ... AA16: =O15 -> 0 | AC16: VANVES | AD16: =VLOOKUP($AC16, $C$2:$AA$28,2,FALSE) -> 0 | AE16: =VLOOKUP($AC16, $C$2:$AA$28,3,FALSE) -> 0 | AF16: =VLOOKUP($AC16, $C$2:$AA$28,4,FALSE) -> 0 | AG16: =VLOOKUP($AC16, $C$2:$AA$28,5,FALSE) -> 0 | AH16: =VLOOKUP($AC16, $C$2:$AA$28,6,FALSE) -> 0 | AI16: =VLOOKUP($AC16, $C$2:$AA$28,7,FALSE) -> 0 | AJ16: =VLOOKUP($AC16, $C$2:$AA$28,8,FALSE) -> 0 | AK16: =VLOOKUP($AC16, $C$2:$AA$28,9,FALSE) -> 0 | AL16: =VLOOKUP($AC16, $C$2:$AA$28,10,FALSE) -> 0 | AM16: =VLOOKUP($AC16, $C$2:$AA$28,11,FALSE) -> 0 | AN16: =VLOOKUP($AC16, $C$2:$AA$28,12,FALSE) -> 0 | AO16: =VLOOKUP($AC16, $C$2:$AA$28,13,FALSE) -> 0 | AP16: =VLOOKUP($AC16, $C$2:$AA$28,14,FALSE) -> 0 | AQ16: =VLOOKUP($AC16, $C$2:$AA$28,15,FALSE) -> 0 | AR16: =VLOOKUP($AC16, $C$2:$AA$28,16,FALSE) -> 0 | AS16: =VLOOKUP($AC16, $C$2:$AA$28,17,FALSE) -> 0 | AT16: =VLOOKUP($AC16, $C$2:$AA$28,18,FALSE) -> 0 | AU16: =VLOOKUP($AC16, $C$2:$AA$28,19,FALSE) -> 0 | AV16: =VLOOKUP($AC16, $C$2:$AA$28,20,FALSE) -> 0 | AW16: =VLOOKUP($AC16, $C$2:$AA$28,21,FALSE) -> 0 | AX16: =VLOOKUP($AC16, $C$2:$AA$28,22,FALSE) -> 0 | AY16: =VLOOKUP($AC16, $C$2:$AA$28,23,FALSE) -> 0 | AZ16: =VLOOKUP($AC16, $C$2:$AA$28,24,FALSE) -> 0 | BA16: =VLOOKUP($AC16, $C$2:$AA$28,25,FALSE) -> 0
AC17: VITRE | AD17: =VLOOKUP($AC17, $C$2:$AA$28,2,FALSE) -> 0 | AE17: =VLOOKUP($AC17, $C$2:$AA$28,3,FALSE) -> 0 | AF17: =VLOOKUP($AC17, $C$2:$AA$28,4,FALSE) -> 0 | AG17: =VLOOKUP($AC17, $C$2:$AA$28,5,FALSE) -> 0 | AH17: =VLOOKUP($AC17, $C$2:$AA$28,6,FALSE) -> 0 | AI17: =VLOOKUP($AC17, $C$2:$AA$28,7,FALSE) -> 0 | AJ17: =VLOOKUP($AC17, $C$2:$AA$28,8,FALSE) -> 0 | AK17: =VLOOKUP($AC17, $C$2:$AA$28,9,FALSE) -> 0 | AL17: =VLOOKUP($AC17, $C$2:$AA$28,10,FALSE) -> 0 | AM17: =VLOOKUP($AC17, $C$2:$AA$28,11,FALSE) -> 0 | AN17: =VLOOKUP($AC17, $C$2:$AA$28,12,FALSE) -> 0 | AO17: =VLOOKUP($AC17, $C$2:$AA$28,13,FALSE) -> 0 | AP17: =VLOOKUP($AC17, $C$2:$AA$28,14,FALSE) -> 0 | AQ17: =VLOOKUP($AC17, $C$2:$AA$28,15,FALSE) -> 0 | AR17: =VLOOKUP($AC17, $C$2:$AA$28,16,FALSE) -> 0 | AS17: =VLOOKUP($AC17, $C$2:$AA$28,17,FALSE) -> 0 | AT17: =VLOOKUP($AC17, $C$2:$AA$28,18,FALSE) -> 0 | AU17: =VLOOKUP($AC17, $C$2:$AA$28,19,FALSE) -> 0 | AV17: =VLOOKUP($AC17, $C$2:$AA$28,20,FALSE) -> 0 | AW17: =VLOOKUP($AC17, $C$2:$AA$28,21,FALSE) -> 0 | AX17: =VLOOKUP($AC17, $C$2:$AA$28,22,FALSE) -> 0 | AY17: =VLOOKUP($AC17, $C$2:$AA$28,23,FALSE) -> 0 | AZ17: =VLOOKUP($AC17, $C$2:$AA$28,24,FALSE) -> 0 | BA17: =VLOOKUP($AC17, $C$2:$AA$28,25,FALSE) -> 0
D18: SCORE | E18: TT | F18: TR | G18: TR2 | H18: TT2 | I18: TR3 | J18: TT3 | K18: LFR | L18: LFT | M18: BP | N18: ORB | O18: DRB | P18: Pts | Q18: TT | R18: TR | S18: TR2 | T18: TT2 | U18: TR3 | V18: TT3 | W18: LFR | X18: LFT | Y18: BP | Z18: ORB | AA18: DRB
B19: MATCH 5 | C19: TOULOUSE | D19: =G19*2+I19*3+K19*1 -> 0 | G19: =E19-I19 -> 0 | H19: =F19-J19 -> 0 | P19: =D20 -> 0 | Q19: =E20 -> 0 | R19: =F20 -> 0 | S19: =G20 -> 0 | T19: =H20 -> 0 | U19: =I20 -> 0 | V19: =J20 -> 0 | W19: =K20 -> 0 | ... AA19: =O20 -> 0
C20: DAX | D20: =G20*2+I20*3+K20*1 -> 0 | G20: =E20-I20 -> 0 | H20: =F20-J20 -> 0 | P20: =D19 -> 0 | Q20: =E19 -> 0 | R20: =F19 -> 0 | S20: =G19 -> 0 | T20: =H19 -> 0 | U20: =I19 -> 0 | V20: =J19 -> 0 | W20: =K19 -> 0 | ... AA20: =O19 -> 0
D22: SCORE | E22: TT | F22: TR | G22: TR2 | H22: TT2 | I22: TR3 | J22: TT3 | K22: LFR | L22: LFT | M22: BP | N22: ORB | O22: DRB | P22: Pts | Q22: TT | R22: TR | S22: TR2 | T22: TT2 | U22: TR3 | V22: TT3 | W22: LFR | X22: LFT | Y22: BP | Z22: ORB | AA22: DRB
B23: MATCH 6 | C23: BORDEAUX | D23: =G23*2+I23*3+K23*1 -> 0 | G23: =E23-I23 -> 0 | H23: =F23-J23 -> 0 | P23: =D24 -> 0 | Q23: =E24 -> 0 | R23: =F24 -> 0 | S23: =G24 -> 0 | T23: =H24 -> 0 | U23: =I24 -> 0 | V23: =J24 -> 0 | W23: =K24 -> 0 | ... AA23: =O24 -> 0
C24: CHALLANS | D24: =G24*2+I24*3+K24*1 -> 0 | G24: =E24-I24 -> 0 | H24: =F24-J24 -> 0 | P24: =D23 -> 0 | Q24: =E23 -> 0 | R24: =F23 -> 0 | S24: =G23 -> 0 | T24: =H23 -> 0 | U24: =I23 -> 0 | V24: =J23 -> 0 | W24: =K23 -> 0 | ... AA24: =O23 -> 0
D26: SCORE | E26: TT | F26: TR | G26: TR2 | H26: TT2 | I26: TR3 | J26: TT3 | K26: LFR | L26: LFT | M26: BP | N26: ORB | O26: DRB | P26: Pts | Q26: TT | R26: TR | S26: TR2 | T26: TT2 | U26: TR3 | V26: TT3 | W26: LFR | X26: LFT | Y26: BP | Z26: ORB | AA26: DRB
B27: MATCH 7 | C27: VANVES | D27: =G27*2+I27*3+K27*1 -> 0 | G27: =E27-I27 -> 0 | H27: =F27-J27 -> 0 | P27: =D28 -> 0 | Q27: =E28 -> 0 | R27: =F28 -> 0 | S27: =G28 -> 0 | T27: =H28 -> 0 | U27: =I28 -> 0 | V27: =J28 -> 0 | W27: =K28 -> 0 | ... AA27: =O28 -> 0
C28: VITRE | D28: =G28*2+I28*3+K28*1 -> 0 | G28: =E28-I28 -> 0 | H28: =F28-J28 -> 0 | P28: =D27 -> 0 | Q28: =E27 -> 0 | R28: =F27 -> 0 | S28: =G27 -> 0 | T28: =H27 -> 0 | U28: =I27 -> 0 | V28: =J27 -> 0 | W28: =K27 -> 0 | ... AA28: =O27 -> 0

Sheet J3
D2: SCORE | E2: TT | F2: TR | G2: TR2 | H2: TT2 | I2: TR3 | J2: TT3 | K2: LFR | L2: LFT | M2: BP | N2: ORB | O2: DRB | P2: Pts | Q2: TT | R2: TR | S2: TR2 | T2: TT2 | U2: TR3 | V2: TT3 | W2: LFR | X2: LFT | Y2: BP | Z2: ORB | AA2: DRB
B3: MATCH 1 | C3: LE HAVRE | D3: =G3*2+I3*3+K3*1 -> 0 | G3: =E3-I3 -> 0 | H3: =F3-J3 -> 0 | P3: =D4 -> 0 | Q3: =E4 -> 0 | R3: =F4 -> 0 | S3: =G4 -> 0 | T3: =H4 -> 0 | U3: =I4 -> 0 | V3: =J4 -> 0 | W3: =K4 -> 0 | ... AA3: =O4 -> 0 | AD3: PTS | AE3: TR | AF3: TT | AG3: TR2 | AH3: TT2 | AI3: TR3 | AJ3: TT3 | AK3: LFR | AL3: LFT | AM3: BP | AN3: ORB | AO3: DRB | AP3: Pts | AQ3: TT | AR3: TR | AS3: TR2 | AT3: TT2 | AU3: TR3 | AV3: TT3 | AW3: LFR | AX3: LFT | AY3: BP | AZ3: ORB | BA3: DRB
C4: BOULOGNE | D4: =G4*2+I4*3+K4*1 -> 0 | G4: =E4-I4 -> 0 | H4: =F4-J4 -> 0 | P4: =D3 -> 0 | Q4: =E3 -> 0 | R4: =F3 -> 0 | S4: =G3 -> 0 | T4: =H3 -> 0 | U4: =I3 -> 0 | V4: =J3 -> 0 | W4: =K3 -> 0 | ... AA4: =O3 -> 0 | AC4: ANGERS | AD4: =VLOOKUP($AC4, $C$2:$AA$28,2,FALSE) -> 0 | AE4: =VLOOKUP($AC4, $C$2:$AA$28,3,FALSE) -> 0 | AF4: =VLOOKUP($AC4, $C$2:$AA$28,4,FALSE) -> 0 | AG4: =VLOOKUP($AC4, $C$2:$AA$28,5,FALSE) -> 0 | AH4: =VLOOKUP($AC4, $C$2:$AA$28,6,FALSE) -> 0 | AI4: =VLOOKUP($AC4, $C$2:$AA$28,7,FALSE) -> 0 | AJ4: =VLOOKUP($AC4, $C$2:$AA$28,8,FALSE) -> 0 | AK4: =VLOOKUP($AC4, $C$2:$AA$28,9,FALSE) -> 0 | AL4: =VLOOKUP($AC4, $C$2:$AA$28,10,FALSE) -> 0 | AM4: =VLOOKUP($AC4, $C$2:$AA$28,11,FALSE) -> 0 | AN4: =VLOOKUP($AC4, $C$2:$AA$28,12,FALSE) -> 0 | AO4: =VLOOKUP($AC4, $C$2:$AA$28,13,FALSE) -> 0 | AP4: =VLOOKUP($AC4, $C$2:$AA$28,14,FALSE) -> 0 | AQ4: =VLOOKUP($AC4, $C$2:$AA$28,15,FALSE) -> 0 | AR4: =VLOOKUP($AC4, $C$2:$AA$28,16,FALSE) -> 0 | AS4: =VLOOKUP($AC4, $C$2:$AA$28,17,FALSE) -> 0 | AT4: =VLOOKUP($AC4, $C$2:$AA$28,18,FALSE) -> 0 | AU4: =VLOOKUP($AC4, $C$2:$AA$28,19,FALSE) -> 0 | AV4: =VLOOKUP($AC4, $C$2:$AA$28,20,FALSE) -> 0 | AW4: =VLOOKUP($AC4, $C$2:$AA$28,21,FALSE) -> 0 | AX4: =VLOOKUP($AC4, $C$2:$AA$28,22,FALSE) -> 0 | AY4: =VLOOKUP($AC4, $C$2:$AA$28,23,FALSE) -> 0 | AZ4: =VLOOKUP($AC4, $C$2:$AA$28,24,FALSE) -> 0 | BA4: =VLOOKUP($AC4, $C$2:$AA$28,25,FALSE) -> 0
AC5: BORDEAUX | AD5: =VLOOKUP($AC5, $C$2:$AA$28,2,FALSE) -> 0 | AE5: =VLOOKUP($AC5, $C$2:$AA$28,3,FALSE) -> 0 | AF5: =VLOOKUP($AC5, $C$2:$AA$28,4,FALSE) -> 0 | AG5: =VLOOKUP($AC5, $C$2:$AA$28,5,FALSE) -> 0 | AH5: =VLOOKUP($AC5, $C$2:$AA$28,6,FALSE) -> 0 | AI5: =VLOOKUP($AC5, $C$2:$AA$28,7,FALSE) -> 0 | AJ5: =VLOOKUP($AC5, $C$2:$AA$28,8,FALSE) -> 0 | AK5: =VLOOKUP($AC5, $C$2:$AA$28,9,FALSE) -> 0 | AL5: =VLOOKUP($AC5, $C$2:$AA$28,10,FALSE) -> 0 | AM5: =VLOOKUP($AC5, $C$2:$AA$28,11,FALSE) -> 0 | AN5: =VLOOKUP($AC5, $C$2:$AA$28,12,FALSE) -> 0 | AO5: =VLOOKUP($AC5, $C$2:$AA$28,13,FALSE) -> 0 | AP5: =VLOOKUP($AC5, $C$2:$AA$28,14,FALSE) -> 0 | AQ5: =VLOOKUP($AC5, $C$2:$AA$28,15,FALSE) -> 0 | AR5: =VLOOKUP($AC5, $C$2:$AA$28,16,FALSE) -> 0 | AS5: =VLOOKUP($AC5, $C$2:$AA$28,17,FALSE) -> 0 | AT5: =VLOOKUP($AC5, $C$2:$AA$28,18,FALSE) -> 0 | AU5: =VLOOKUP($AC5, $C$2:$AA$28,19,FALSE) -> 0 | AV5: =VLOOKUP($AC5, $C$2:$AA$28,20,FALSE) -> 0 | AW5: =VLOOKUP($AC5, $C$2:$AA$28,21,FALSE) -> 0 | AX5: =VLOOKUP($AC5, $C$2:$AA$28,22,FALSE) -> 0 | AY5: =VLOOKUP($AC5, $C$2:$AA$28,23,FALSE) -> 0 | AZ5: =VLOOKUP($AC5, $C$2:$AA$28,24,FALSE) -> 0 | BA5: =VLOOKUP($AC5, $C$2:$AA$28,25,FALSE) -> 0
D6: SCORE | E6: TT | F6: TR | G6: TR2 | H6: TT2 | I6: TR3 | J6: TT3 | K6: LFR | L6: LFT | M6: BP | N6: ORB | O6: DRB | P6: Pts | Q6: TT | R6: TR | S6: TR2 | T6: TT2 | U6: TR3 | V6: TT3 | W6: LFR | X6: LFT | Y6: BP | Z6: ORB | AA6: DRB | AC6: BOULOGNE | AD6: =VLOOKUP($AC6, $C$2:$AA$28,2,FALSE) -> 0 | AE6: =VLOOKUP($AC6, $C$2:$AA$28,3,FALSE) -> 0 | AF6: =VLOOKUP($AC6, $C$2:$AA$28,4,FALSE) -> 0 | AG6: =VLOOKUP($AC6, $C$2:$AA$28,5,FALSE) -> 0 | AH6: =VLOOKUP($AC6, $C$2:$AA$28,6,FALSE) -> 0 | AI6: =VLOOKUP($AC6, $C$2:$AA$28,7,FALSE) -> 0 | AJ6: =VLOOKUP($AC6, $C$2:$AA$28,8,FALSE) -> 0 | AK6: =VLOOKUP($AC6, $C$2:$AA$28,9,FALSE) -> 0 | AL6: =VLOOKUP($AC6, $C$2:$AA$28,10,FALSE) -> 0 | AM6: =VLOOKUP($AC6, $C$2:$AA$28,11,FALSE) -> 0 | AN6: =VLOOKUP($AC6, $C$2:$AA$28,12,FALSE) -> 0 | AO6: =VLOOKUP($AC6, $C$2:$AA$28,13,FALSE) -> 0 | AP6: =VLOOKUP($AC6, $C$2:$AA$28,14,FALSE) -> 0 | AQ6: =VLOOKUP($AC6, $C$2:$AA$28,15,FALSE) -> 0 | AR6: =VLOOKUP($AC6, $C$2:$AA$28,16,FALSE) -> 0 | AS6: =VLOOKUP($AC6, $C$2:$AA$28,17,FALSE) -> 0 | AT6: =VLOOKUP($AC6, $C$2:$AA$28,18,FALSE) -> 0 | AU6: =VLOOKUP($AC6, $C$2:$AA$28,19,FALSE) -> 0 | AV6: =VLOOKUP($AC6, $C$2:$AA$28,20,FALSE) -> 0 | AW6: =VLOOKUP($AC6, $C$2:$AA$28,21,FALSE) -> 0 | AX6: =VLOOKUP($AC6, $C$2:$AA$28,22,FALSE) -> 0 | AY6: =VLOOKUP($AC6, $C$2:$AA$28,23,FALSE) -> 0 | AZ6: =VLOOKUP($AC6, $C$2:$AA$28,24,FALSE) -> 0 | BA6: =VLOOKUP($AC6, $C$2:$AA$28,25,FALSE) -> 0
B7: MATCH 2 | C7: LA ROCHELLE | D7: =G7*2+I7*3+K7*1 -> 0 | G7: =E7-I7 -> 0 | H7: =F7-J7 -> 0 | P7: =D8 -> 0 | Q7: =E8 -> 0 | R7: =F8 -> 0 | S7: =G8 -> 0 | T7: =H8 -> 0 | U7: =I8 -> 0 | V7: =J8 -> 0 | W7: =K8 -> 0 | ... AA7: =O8 -> 0 | AC7: CAEN | AD7: =VLOOKUP($AC7, $C$2:$AA$28,2,FALSE) -> 0 | AE7: =VLOOKUP($AC7, $C$2:$AA$28,3,FALSE) -> 0 | AF7: =VLOOKUP($AC7, $C$2:$AA$28,4,FALSE) -> 0 | AG7: =VLOOKUP($AC7, $C$2:$AA$28,5,FALSE) -> 0 | AH7: =VLOOKUP($AC7, $C$2:$AA$28,6,FALSE) -> 0 | AI7: =VLOOKUP($AC7, $C$2:$AA$28,7,FALSE) -> 0 | AJ7: =VLOOKUP($AC7, $C$2:$AA$28,8,FALSE) -> 0 | AK7: =VLOOKUP($AC7, $C$2:$AA$28,9,FALSE) -> 0 | AL7: =VLOOKUP($AC7, $C$2:$AA$28,10,FALSE) -> 0 | AM7: =VLOOKUP($AC7, $C$2:$AA$28,11,FALSE) -> 0 | AN7: =VLOOKUP($AC7, $C$2:$AA$28,12,FALSE) -> 0 | AO7: =VLOOKUP($AC7, $C$2:$AA$28,13,FALSE) -> 0 | AP7: =VLOOKUP($AC7, $C$2:$AA$28,14,FALSE) -> 0 | AQ7: =VLOOKUP($AC7, $C$2:$AA$28,15,FALSE) -> 0 | AR7: =VLOOKUP($AC7, $C$2:$AA$28,16,FALSE) -> 0 | AS7: =VLOOKUP($AC7, $C$2:$AA$28,17,FALSE) -> 0 | AT7: =VLOOKUP($AC7, $C$2:$AA$28,18,FALSE) -> 0 | AU7: =VLOOKUP($AC7, $C$2:$AA$28,19,FALSE) -> 0 | AV7: =VLOOKUP($AC7, $C$2:$AA$28,20,FALSE) -> 0 | AW7: =VLOOKUP($AC7, $C$2:$AA$28,21,FALSE) -> 0 | AX7: =VLOOKUP($AC7, $C$2:$AA$28,22,FALSE) -> 0 | AY7: =VLOOKUP($AC7, $C$2:$AA$28,23,FALSE) -> 0 | AZ7: =VLOOKUP($AC7, $C$2:$AA$28,24,FALSE) -> 0 | BA7: =VLOOKUP($AC7, $C$2:$AA$28,25,FALSE) -> 0
C8: CAEN | D8: =G8*2+I8*3+K8*1 -> 0 | G8: =E8-I8 -> 0 | H8: =F8-J8 -> 0 | P8: =D7 -> 0 | Q8: =E7 -> 0 | R8: =F7 -> 0 | S8: =G7 -> 0 | T8: =H7 -> 0 | U8: =I7 -> 0 | V8: =J7 -> 0 | W8: =K7 -> 0 | ... AA8: =O7 -> 0 | AC8: CHALLANS | AD8: =VLOOKUP($AC8, $C$2:$AA$28,2,FALSE) -> 0 | AE8: =VLOOKUP($AC8, $C$2:$AA$28,3,FALSE) -> 0 | AF8: =VLOOKUP($AC8, $C$2:$AA$28,4,FALSE) -> 0 | AG8: =VLOOKUP($AC8, $C$2:$AA$28,5,FALSE) -> 0 | AH8: =VLOOKUP($AC8, $C$2:$AA$28,6,FALSE) -> 0 | AI8: =VLOOKUP($AC8, $C$2:$AA$28,7,FALSE) -> 0 | AJ8: =VLOOKUP($AC8, $C$2:$AA$28,8,FALSE) -> 0 | AK8: =VLOOKUP($AC8, $C$2:$AA$28,9,FALSE) -> 0 | AL8: =VLOOKUP($AC8, $C$2:$AA$28,10,FALSE) -> 0 | AM8: =VLOOKUP($AC8, $C$2:$AA$28,11,FALSE) -> 0 | AN8: =VLOOKUP($AC8, $C$2:$AA$28,12,FALSE) -> 0 | AO8: =VLOOKUP($AC8, $C$2:$AA$28,13,FALSE) -> 0 | AP8: =VLOOKUP($AC8, $C$2:$AA$28,14,FALSE) -> 0 | AQ8: =VLOOKUP($AC8, $C$2:$AA$28,15,FALSE) -> 0 | AR8: =VLOOKUP($AC8, $C$2:$AA$28,16,FALSE) -> 0 | AS8: =VLOOKUP($AC8, $C$2:$AA$28,17,FALSE) -> 0 | AT8: =VLOOKUP($AC8, $C$2:$AA$28,18,FALSE) -> 0 | AU8: =VLOOKUP($AC8, $C$2:$AA$28,19,FALSE) -> 0 | AV8: =VLOOKUP($AC8, $C$2:$AA$28,20,FALSE) -> 0 | AW8: =VLOOKUP($AC8, $C$2:$AA$28,21,FALSE) -> 0 | AX8: =VLOOKUP($AC8, $C$2:$AA$28,22,FALSE) -> 0 | AY8: =VLOOKUP($AC8, $C$2:$AA$28,23,FALSE) -> 0 | AZ8: =VLOOKUP($AC8, $C$2:$AA$28,24,FALSE) -> 0 | BA8: =VLOOKUP($AC8, $C$2:$AA$28,25,FALSE) -> 0
AC9: DAX | AD9: =VLOOKUP($AC9, $C$2:$AA$28,2,FALSE) -> 0 | AE9: =VLOOKUP($AC9, $C$2:$AA$28,3,FALSE) -> 0 | AF9: =VLOOKUP($AC9, $C$2:$AA$28,4,FALSE) -> 0 | AG9: =VLOOKUP($AC9, $C$2:$AA$28,5,FALSE) -> 0 | AH9: =VLOOKUP($AC9, $C$2:$AA$28,6,FALSE) -> 0 | AI9: =VLOOKUP($AC9, $C$2:$AA$28,7,FALSE) -> 0 | AJ9: =VLOOKUP($AC9, $C$2:$AA$28,8,FALSE) -> 0 | AK9: =VLOOKUP($AC9, $C$2:$AA$28,9,FALSE) -> 0 | AL9: =VLOOKUP($AC9, $C$2:$AA$28,10,FALSE) -> 0 | AM9: =VLOOKUP($AC9, $C$2:$AA$28,11,FALSE) -> 0 | AN9: =VLOOKUP($AC9, $C$2:$AA$28,12,FALSE) -> 0 | AO9: =VLOOKUP($AC9, $C$2:$AA$28,13,FALSE) -> 0 | AP9: =VLOOKUP($AC9, $C$2:$AA$28,14,FALSE) -> 0 | AQ9: =VLOOKUP($AC9, $C$2:$AA$28,15,FALSE) -> 0 | AR9: =VLOOKUP($AC9, $C$2:$AA$28,16,FALSE) -> 0 | AS9: =VLOOKUP($AC9, $C$2:$AA$28,17,FALSE) -> 0 | AT9: =VLOOKUP($AC9, $C$2:$AA$28,18,FALSE) -> 0 | AU9: =VLOOKUP($AC9, $C$2:$AA$28,19,FALSE) -> 0 | AV9: =VLOOKUP($AC9, $C$2:$AA$28,20,FALSE) -> 0 | AW9: =VLOOKUP($AC9, $C$2:$AA$28,21,FALSE) -> 0 | AX9: =VLOOKUP($AC9, $C$2:$AA$28,22,FALSE) -> 0 | AY9: =VLOOKUP($AC9, $C$2:$AA$28,23,FALSE) -> 0 | AZ9: =VLOOKUP($AC9, $C$2:$AA$28,24,FALSE) -> 0 | BA9: =VLOOKUP($AC9, $C$2:$AA$28,25,FALSE) -> 0
D10: SCORE | E10: TT | F10: TR | G10: TR2 | H10: TT2 | I10: TR3 | J10: TT3 | K10: LFR | L10: LFT | M10: BP | N10: ORB | O10: DRB | P10: Pts | Q10: TT | R10: TR | S10: TR2 | T10: TT2 | U10: TR3 | V10: TT3 | W10: LFR | X10: LFT | Y10: BP | Z10: ORB | AA10: DRB | AC10: LA ROCHELLE | AD10: =VLOOKUP($AC10, $C$2:$AA$28,2,FALSE) -> 0 | AE10: =VLOOKUP($AC10, $C$2:$AA$28,3,FALSE) -> 0 | AF10: =VLOOKUP($AC10, $C$2:$AA$28,4,FALSE) -> 0 | AG10: =VLOOKUP($AC10, $C$2:$AA$28,5,FALSE) -> 0 | AH10: =VLOOKUP($AC10, $C$2:$AA$28,6,FALSE) -> 0 | AI10: =VLOOKUP($AC10, $C$2:$AA$28,7,FALSE) -> 0 | AJ10: =VLOOKUP($AC10, $C$2:$AA$28,8,FALSE) -> 0 | AK10: =VLOOKUP($AC10, $C$2:$AA$28,9,FALSE) -> 0 | AL10: =VLOOKUP($AC10, $C$2:$AA$28,10,FALSE) -> 0 | AM10: =VLOOKUP($AC10, $C$2:$AA$28,11,FALSE) -> 0 | AN10: =VLOOKUP($AC10, $C$2:$AA$28,12,FALSE) -> 0 | AO10: =VLOOKUP($AC10, $C$2:$AA$28,13,FALSE) -> 0 | AP10: =VLOOKUP($AC10, $C$2:$AA$28,14,FALSE) -> 0 | AQ10: =VLOOKUP($AC10, $C$2:$AA$28,15,FALSE) -> 0 | AR10: =VLOOKUP($AC10, $C$2:$AA$28,16,FALSE) -> 0 | AS10: =VLOOKUP($AC10, $C$2:$AA$28,17,FALSE) -> 0 | AT10: =VLOOKUP($AC10, $C$2:$AA$28,18,FALSE) -> 0 | AU10: =VLOOKUP($AC10, $C$2:$AA$28,19,FALSE) -> 0 | AV10: =VLOOKUP($AC10, $C$2:$AA$28,20,FALSE) -> 0 | AW10: =VLOOKUP($AC10, $C$2:$AA$28,21,FALSE) -> 0 | AX10: =VLOOKUP($AC10, $C$2:$AA$28,22,FALSE) -> 0 | AY10: =VLOOKUP($AC10, $C$2:$AA$28,23,FALSE) -> 0 | AZ10: =VLOOKUP($AC10, $C$2:$AA$28,24,FALSE) -> 0 | BA10: =VLOOKUP($AC10, $C$2:$AA$28,25,FALSE) -> 0
B11: MATCH 3 | C11: ANGERS | D11: =G11*2+I11*3+K11*1 -> 0 | G11: =E11-I11 -> 0 | H11: =F11-J11 -> 0 | P11: =D12 -> 0 | Q11: =E12 -> 0 | R11: =F12 -> 0 | S11: =G12 -> 0 | T11: =H12 -> 0 | U11: =I12 -> 0 | V11: =J12 -> 0 | W11: =K12 -> 0 | ... AA11: =O12 -> 0 | AC11: LE HAVRE | AD11: =VLOOKUP($AC11, $C$2:$AA$28,2,FALSE) -> 0 | AE11: =VLOOKUP($AC11, $C$2:$AA$28,3,FALSE) -> 0 | AF11: =VLOOKUP($AC11, $C$2:$AA$28,4,FALSE) -> 0 | AG11: =VLOOKUP($AC11, $C$2:$AA$28,5,FALSE) -> 0 | AH11: =VLOOKUP($AC11, $C$2:$AA$28,6,FALSE) -> 0 | AI11: =VLOOKUP($AC11, $C$2:$AA$28,7,FALSE) -> 0 | AJ11: =VLOOKUP($AC11, $C$2:$AA$28,8,FALSE) -> 0 | AK11: =VLOOKUP($AC11, $C$2:$AA$28,9,FALSE) -> 0 | AL11: =VLOOKUP($AC11, $C$2:$AA$28,10,FALSE) -> 0 | AM11: =VLOOKUP($AC11, $C$2:$AA$28,11,FALSE) -> 0 | AN11: =VLOOKUP($AC11, $C$2:$AA$28,12,FALSE) -> 0 | AO11: =VLOOKUP($AC11, $C$2:$AA$28,13,FALSE) -> 0 | AP11: =VLOOKUP($AC11, $C$2:$AA$28,14,FALSE) -> 0 | AQ11: =VLOOKUP($AC11, $C$2:$AA$28,15,FALSE) -> 0 | AR11: =VLOOKUP($AC11, $C$2:$AA$28,16,FALSE) -> 0 | AS11: =VLOOKUP($AC11, $C$2:$AA$28,17,FALSE) -> 0 | AT11: =VLOOKUP($AC11, $C$2:$AA$28,18,FALSE) -> 0 | AU11: =VLOOKUP($AC11, $C$2:$AA$28,19,FALSE) -> 0 | AV11: =VLOOKUP($AC11, $C$2:$AA$28,20,FALSE) -> 0 | AW11: =VLOOKUP($AC11, $C$2:$AA$28,21,FALSE) -> 0 | AX11: =VLOOKUP($AC11, $C$2:$AA$28,22,FALSE) -> 0 | AY11: =VLOOKUP($AC11, $C$2:$AA$28,23,FALSE) -> 0 | AZ11: =VLOOKUP($AC11, $C$2:$AA$28,24,FALSE) -> 0 | BA11: =VLOOKUP($AC11, $C$2:$AA$28,25,FALSE) -> 0
C12: TOURS | D12: =G12*2+I12*3+K12*1 -> 0 | G12: =E12-I12 -> 0 | H12: =F12-J12 -> 0 | P12: =D11 -> 0 | Q12: =E11 -> 0 | R12: =F11 -> 0 | S12: =G11 -> 0 | T12: =H11 -> 0 | U12: =I11 -> 0 | V12: =J11 -> 0 | W12: =K11 -> 0 | ... AA12: =O11 -> 0 | AC12: LORIENT | AD12: =VLOOKUP($AC12, $C$2:$AA$28,2,FALSE) -> 0 | AE12: =VLOOKUP($AC12, $C$2:$AA$28,3,FALSE) -> 0 | AF12: =VLOOKUP($AC12, $C$2:$AA$28,4,FALSE) -> 0 | AG12: =VLOOKUP($AC12, $C$2:$AA$28,5,FALSE) -> 0 | AH12: =VLOOKUP($AC12, $C$2:$AA$28,6,FALSE) -> 0 | AI12: =VLOOKUP($AC12, $C$2:$AA$28,7,FALSE) -> 0 | AJ12: =VLOOKUP($AC12, $C$2:$AA$28,8,FALSE) -> 0 | AK12: =VLOOKUP($AC12, $C$2:$AA$28,9,FALSE) -> 0 | AL12: =VLOOKUP($AC12, $C$2:$AA$28,10,FALSE) -> 0 | AM12: =VLOOKUP($AC12, $C$2:$AA$28,11,FALSE) -> 0 | AN12: =VLOOKUP($AC12, $C$2:$AA$28,12,FALSE) -> 0 | AO12: =VLOOKUP($AC12, $C$2:$AA$28,13,FALSE) -> 0 | AP12: =VLOOKUP($AC12, $C$2:$AA$28,14,FALSE) -> 0 | AQ12: =VLOOKUP($AC12, $C$2:$AA$28,15,FALSE) -> 0 | AR12: =VLOOKUP($AC12, $C$2:$AA$28,16,FALSE) -> 0 | AS12: =VLOOKUP($AC12, $C$2:$AA$28,17,FALSE) -> 0 | AT12: =VLOOKUP($AC12, $C$2:$AA$28,18,FALSE) -> 0 | AU12: =VLOOKUP($AC12, $C$2:$AA$28,19,FALSE) -> 0 | AV12: =VLOOKUP($AC12, $C$2:$AA$28,20,FALSE) -> 0 | AW12: =VLOOKUP($AC12, $C$2:$AA$28,21,FALSE) -> 0 | AX12: =VLOOKUP($AC12, $C$2:$AA$28,22,FALSE) -> 0 | AY12: =VLOOKUP($AC12, $C$2:$AA$28,23,FALSE) -> 0 | AZ12: =VLOOKUP($AC12, $C$2:$AA$28,24,FALSE) -> 0 | BA12: =VLOOKUP($AC12, $C$2:$AA$28,25,FALSE) -> 0
AC13: TARBES | AD13: =VLOOKUP($AC13, $C$2:$AA$28,2,FALSE) -> 0 | AE13: =VLOOKUP($AC13, $C$2:$AA$28,3,FALSE) -> 0 | AF13: =VLOOKUP($AC13, $C$2:$AA$28,4,FALSE) -> 0 | AG13: =VLOOKUP($AC13, $C$2:$AA$28,5,FALSE) -> 0 | AH13: =VLOOKUP($AC13, $C$2:$AA$28,6,FALSE) -> 0 | AI13: =VLOOKUP($AC13, $C$2:$AA$28,7,FALSE) -> 0 | AJ13: =VLOOKUP($AC13, $C$2:$AA$28,8,FALSE) -> 0 | AK13: =VLOOKUP($AC13, $C$2:$AA$28,9,FALSE) -> 0 | AL13: =VLOOKUP($AC13, $C$2:$AA$28,10,FALSE) -> 0 | AM13: =VLOOKUP($AC13, $C$2:$AA$28,11,FALSE) -> 0 | AN13: =VLOOKUP($AC13, $C$2:$AA$28,12,FALSE) -> 0 | AO13: =VLOOKUP($AC13, $C$2:$AA$28,13,FALSE) -> 0 | AP13: =VLOOKUP($AC13, $C$2:$AA$28,14,FALSE) -> 0 | AQ13: =VLOOKUP($AC13, $C$2:$AA$28,15,FALSE) -> 0 | AR13: =VLOOKUP($AC13, $C$2:$AA$28,16,FALSE) -> 0 | AS13: =VLOOKUP($AC13, $C$2:$AA$28,17,FALSE) -> 0 | AT13: =VLOOKUP($AC13, $C$2:$AA$28,18,FALSE) -> 0 | AU13: =VLOOKUP($AC13, $C$2:$AA$28,19,FALSE) -> 0 | AV13: =VLOOKUP($AC13, $C$2:$AA$28,20,FALSE) -> 0 | AW13: =VLOOKUP($AC13, $C$2:$AA$28,21,FALSE) -> 0 | AX13: =VLOOKUP($AC13, $C$2:$AA$28,22,FALSE) -> 0 | AY13: =VLOOKUP($AC13, $C$2:$AA$28,23,FALSE) -> 0 | AZ13: =VLOOKUP($AC13, $C$2:$AA$28,24,FALSE) -> 0 | BA13: =VLOOKUP($AC13, $C$2:$AA$28,25,FALSE) -> 0
D14: SCORE | E14: TT | F14: TR | G14: TR2 | H14: TT2 | I14: TR3 | J14: TT3 | K14: LFR | L14: LFT | M14: BP | N14: ORB | O14: DRB | P14: Pts | Q14: TT | R14: TR | S14: TR2 | T14: TT2 | U14: TR3 | V14: TT3 | W14: LFR | X14: LFT | Y14: BP | Z14: ORB | AA14: DRB | AC14: TOULOUSE | AD14: =VLOOKUP($AC14, $C$2:$AA$28,2,FALSE) -> 0 | AE14: =VLOOKUP($AC14, $C$2:$AA$28,3,FALSE) -> 0 | AF14: =VLOOKUP($AC14, $C$2:$AA$28,4,FALSE) -> 0 | AG14: =VLOOKUP($AC14, $C$2:$AA$28,5,FALSE) -> 0 | AH14: =VLOOKUP($AC14, $C$2:$AA$28,6,FALSE) -> 0 | AI14: =VLOOKUP($AC14, $C$2:$AA$28,7,FALSE) -> 0 | AJ14: =VLOOKUP($AC14, $C$2:$AA$28,8,FALSE) -> 0 | AK14: =VLOOKUP($AC14, $C$2:$AA$28,9,FALSE) -> 0 | AL14: =VLOOKUP($AC14, $C$2:$AA$28,10,FALSE) -> 0 | AM14: =VLOOKUP($AC14, $C$2:$AA$28,11,FALSE) -> 0 | AN14: =VLOOKUP($AC14, $C$2:$AA$28,12,FALSE) -> 0 | AO14: =VLOOKUP($AC14, $C$2:$AA$28,13,FALSE) -> 0 | AP14: =VLOOKUP($AC14, $C$2:$AA$28,14,FALSE) -> 0 | AQ14: =VLOOKUP($AC14, $C$2:$AA$28,15,FALSE) -> 0 | AR14: =VLOOKUP($AC14, $C$2:$AA$28,16,FALSE) -> 0 | AS14: =VLOOKUP($AC14, $C$2:$AA$28,17,FALSE) -> 0 | AT14: =VLOOKUP($AC14, $C$2:$AA$28,18,FALSE) -> 0 | AU14: =VLOOKUP($AC14, $C$2:$AA$28,19,FALSE) -> 0 | AV14: =VLOOKUP($AC14, $C$2:$AA$28,20,FALSE) -> 0 | AW14: =VLOOKUP($AC14, $C$2:$AA$28,21,FALSE) -> 0 | AX14: =VLOOKUP($AC14, $C$2:$AA$28,22,FALSE) -> 0 | AY14: =VLOOKUP($AC14, $C$2:$AA$28,23,FALSE) -> 0 | AZ14: =VLOOKUP($AC14, $C$2:$AA$28,24,FALSE) -> 0 | BA14: =VLOOKUP($AC14, $C$2:$AA$28,25,FALSE) -> 0
B15: MATCH 4 | C15: TARBES | D15: =G15*2+I15*3+K15*1 -> 0 | G15: =E15-I15 -> 0 | H15: =F15-J15 -> 0 | P15: =D16 -> 0 | Q15: =E16 -> 0 | R15: =F16 -> 0 | S15: =G16 -> 0 | T15: =H16 -> 0 | U15: =I16 -> 0 | V15: =J16 -> 0 | W15: =K16 -> 0 | ... AA15: =O16 -> 0 | AC15: TOURS | AD15: =VLOOKUP($AC15, $C$2:$AA$28,2,FALSE) -> 0 | AE15: =VLOOKUP($AC15, $C$2:$AA$28,3,FALSE) -> 0 | AF15: =VLOOKUP($AC15, $C$2:$AA$28,4,FALSE) -> 0 | AG15: =VLOOKUP($AC15, $C$2:$AA$28,5,FALSE) -> 0 | AH15: =VLOOKUP($AC15, $C$2:$AA$28,6,FALSE) -> 0 | AI15: =VLOOKUP($AC15, $C$2:$AA$28,7,FALSE) -> 0 | AJ15: =VLOOKUP($AC15, $C$2:$AA$28,8,FALSE) -> 0 | AK15: =VLOOKUP($AC15, $C$2:$AA$28,9,FALSE) -> 0 | AL15: =VLOOKUP($AC15, $C$2:$AA$28,10,FALSE) -> 0 | AM15: =VLOOKUP($AC15, $C$2:$AA$28,11,FALSE) -> 0 | AN15: =VLOOKUP($AC15, $C$2:$AA$28,12,FALSE) -> 0 | AO15: =VLOOKUP($AC15, $C$2:$AA$28,13,FALSE) -> 0 | AP15: =VLOOKUP($AC15, $C$2:$AA$28,14,FALSE) -> 0 | AQ15: =VLOOKUP($AC15, $C$2:$AA$28,15,FALSE) -> 0 | AR15: =VLOOKUP($AC15, $C$2:$AA$28,16,FALSE) -> 0 | AS15: =VLOOKUP($AC15, $C$2:$AA$28,17,FALSE) -> 0 | AT15: =VLOOKUP($AC15, $C$2:$AA$28,18,FALSE) -> 0 | AU15: =VLOOKUP($AC15, $C$2:$AA$28,19,FALSE) -> 0 | AV15: =VLOOKUP($AC15, $C$2:$AA$28,20,FALSE) -> 0 | AW15: =VLOOKUP($AC15, $C$2:$AA$28,21,FALSE) -> 0 | AX15: =VLOOKUP($AC15, $C$2:$AA$28,22,FALSE) -> 0 | AY15: =VLOOKUP($AC15, $C$2:$AA$28,23,FALSE) -> 0 | AZ15: =VLOOKUP($AC15, $C$2:$AA$28,24,FALSE) -> 0 | BA15: =VLOOKUP($AC15, $C$2:$AA$28,25,FALSE) -> 0
C16: LORIENT | D16: =G16*2+I16*3+K16*1 -> 0 | G16: =E16-I16 -> 0 | H16: =F16-J16 -> 0 | P16: =D15 -> 0 | Q16: =E15 -> 0 | R16: =F15 -> 0 | S16: =G15 -> 0 | T16: =H15 -> 0 | U16: =I15 -> 0 | V16: =J15 -> 0 | W16: =K15 -> 0 | ... AA16: =O15 -> 0 | AC16: VANVES | AD16: =VLOOKUP($AC16, $C$2:$AA$28,2,FALSE) -> 0 | AE16: =VLOOKUP($AC16, $C$2:$AA$28,3,FALSE) -> 0 | AF16: =VLOOKUP($AC16, $C$2:$AA$28,4,FALSE) -> 0 | AG16: =VLOOKUP($AC16, $C$2:$AA$28,5,FALSE) -> 0 | AH16: =VLOOKUP($AC16, $C$2:$AA$28,6,FALSE) -> 0 | AI16: =VLOOKUP($AC16, $C$2:$AA$28,7,FALSE) -> 0 | AJ16: =VLOOKUP($AC16, $C$2:$AA$28,8,FALSE) -> 0 | AK16: =VLOOKUP($AC16, $C$2:$AA$28,9,FALSE) -> 0 | AL16: =VLOOKUP($AC16, $C$2:$AA$28,10,FALSE) -> 0 | AM16: =VLOOKUP($AC16, $C$2:$AA$28,11,FALSE) -> 0 | AN16: =VLOOKUP($AC16, $C$2:$AA$28,12,FALSE) -> 0 | AO16: =VLOOKUP($AC16, $C$2:$AA$28,13,FALSE) -> 0 | AP16: =VLOOKUP($AC16, $C$2:$AA$28,14,FALSE) -> 0 | AQ16: =VLOOKUP($AC16, $C$2:$AA$28,15,FALSE) -> 0 | AR16: =VLOOKUP($AC16, $C$2:$AA$28,16,FALSE) -> 0 | AS16: =VLOOKUP($AC16, $C$2:$AA$28,17,FALSE) -> 0 | AT16: =VLOOKUP($AC16, $C$2:$AA$28,18,FALSE) -> 0 | AU16: =VLOOKUP($AC16, $C$2:$AA$28,19,FALSE) -> 0 | AV16: =VLOOKUP($AC16, $C$2:$AA$28,20,FALSE) -> 0 | AW16: =VLOOKUP($AC16, $C$2:$AA$28,21,FALSE) -> 0 | AX16: =VLOOKUP($AC16, $C$2:$AA$28,22,FALSE) -> 0 | AY16: =VLOOKUP($AC16, $C$2:$AA$28,23,FALSE) -> 0 | AZ16: =VLOOKUP($AC16, $C$2:$AA$28,24,FALSE) -> 0 | BA16: =VLOOKUP($AC16, $C$2:$AA$28,25,FALSE) -> 0
AC17: VITRE | AD17: =VLOOKUP($AC17, $C$2:$AA$28,2,FALSE) -> 0 | AE17: =VLOOKUP($AC17, $C$2:$AA$28,3,FALSE) -> 0 | AF17: =VLOOKUP($AC17, $C$2:$AA$28,4,FALSE) -> 0 | AG17: =VLOOKUP($AC17, $C$2:$AA$28,5,FALSE) -> 0 | AH17: =VLOOKUP($AC17, $C$2:$AA$28,6,FALSE) -> 0 | AI17: =VLOOKUP($AC17, $C$2:$AA$28,7,FALSE) -> 0 | AJ17: =VLOOKUP($AC17, $C$2:$AA$28,8,FALSE) -> 0 | AK17: =VLOOKUP($AC17, $C$2:$AA$28,9,FALSE) -> 0 | AL17: =VLOOKUP($AC17, $C$2:$AA$28,10,FALSE) -> 0 | AM17: =VLOOKUP($AC17, $C$2:$AA$28,11,FALSE) -> 0 | AN17: =VLOOKUP($AC17, $C$2:$AA$28,12,FALSE) -> 0 | AO17: =VLOOKUP($AC17, $C$2:$AA$28,13,FALSE) -> 0 | AP17: =VLOOKUP($AC17, $C$2:$AA$28,14,FALSE) -> 0 | AQ17: =VLOOKUP($AC17, $C$2:$AA$28,15,FALSE) -> 0 | AR17: =VLOOKUP($AC17, $C$2:$AA$28,16,FALSE) -> 0 | AS17: =VLOOKUP($AC17, $C$2:$AA$28,17,FALSE) -> 0 | AT17: =VLOOKUP($AC17, $C$2:$AA$28,18,FALSE) -> 0 | AU17: =VLOOKUP($AC17, $C$2:$AA$28,19,FALSE) -> 0 | AV17: =VLOOKUP($AC17, $C$2:$AA$28,20,FALSE) -> 0 | AW17: =VLOOKUP($AC17, $C$2:$AA$28,21,FALSE) -> 0 | AX17: =VLOOKUP($AC17, $C$2:$AA$28,22,FALSE) -> 0 | AY17: =VLOOKUP($AC17, $C$2:$AA$28,23,FALSE) -> 0 | AZ17: =VLOOKUP($AC17, $C$2:$AA$28,24,FALSE) -> 0 | BA17: =VLOOKUP($AC17, $C$2:$AA$28,25,FALSE) -> 0
D18: SCORE | E18: TT | F18: TR | G18: TR2 | H18: TT2 | I18: TR3 | J18: TT3 | K18: LFR | L18: LFT | M18: BP | N18: ORB | O18: DRB | P18: Pts | Q18: TT | R18: TR | S18: TR2 | T18: TT2 | U18: TR3 | V18: TT3 | W18: LFR | X18: LFT | Y18: BP | Z18: ORB | AA18: DRB
B19: MATCH 5 | C19: TOULOUSE | D19: =G19*2+I19*3+K19*1 -> 0 | G19: =E19-I19 -> 0 | H19: =F19-J19 -> 0 | P19: =D20 -> 0 | Q19: =E20 -> 0 | R19: =F20 -> 0 | S19: =G20 -> 0 | T19: =H20 -> 0 | U19: =I20 -> 0 | V19: =J20 -> 0 | W19: =K20 -> 0 | ... AA19: =O20 -> 0
C20: DAX | D20: =G20*2+I20*3+K20*1 -> 0 | G20: =E20-I20 -> 0 | H20: =F20-J20 -> 0 | P20: =D19 -> 0 | Q20: =E19 -> 0 | R20: =F19 -> 0 | S20: =G19 -> 0 | T20: =H19 -> 0 | U20: =I19 -> 0 | V20: =J19 -> 0 | W20: =K19 -> 0 | ... AA20: =O19 -> 0
D22: SCORE | E22: TT | F22: TR | G22: TR2 | H22: TT2 | I22: TR3 | J22: TT3 | K22: LFR | L22: LFT | M22: BP | N22: ORB | O22: DRB | P22: Pts | Q22: TT | R22: TR | S22: TR2 | T22: TT2 | U22: TR3 | V22: TT3 | W22: LFR | X22: LFT | Y22: BP | Z22: ORB | AA22: DRB
B23: MATCH 6 | C23: BORDEAUX | D23: =G23*2+I23*3+K23*1 -> 0 | G23: =E23-I23 -> 0 | H23: =F23-J23 -> 0 | P23: =D24 -> 0 | Q23: =E24 -> 0 | R23: =F24 -> 0 | S23: =G24 -> 0 | T23: =H24 -> 0 | U23: =I24 -> 0 | V23: =J24 -> 0 | W23: =K24 -> 0 | ... AA23: =O24 -> 0
C24: CHALLANS | D24: =G24*2+I24*3+K24*1 -> 0 | G24: =E24-I24 -> 0 | H24: =F24-J24 -> 0 | P24: =D23 -> 0 | Q24: =E23 -> 0 | R24: =F23 -> 0 | S24: =G23 -> 0 | T24: =H23 -> 0 | U24: =I23 -> 0 | V24: =J23 -> 0 | W24: =K23 -> 0 | ... AA24: =O23 -> 0
D26: SCORE | E26: TT | F26: TR | G26: TR2 | H26: TT2 | I26: TR3 | J26: TT3 | K26: LFR | L26: LFT | M26: BP | N26: ORB | O26: DRB | P26: Pts | Q26: TT | R26: TR | S26: TR2 | T26: TT2 | U26: TR3 | V26: TT3 | W26: LFR | X26: LFT | Y26: BP | Z26: ORB | AA26: DRB
B27: MATCH 7 | C27: VANVES | D27: =G27*2+I27*3+K27*1 -> 0 | G27: =E27-I27 -> 0 | H27: =F27-J27 -> 0 | P27: =D28 -> 0 | Q27: =E28 -> 0 | R27: =F28 -> 0 | S27: =G28 -> 0 | T27: =H28 -> 0 | U27: =I28 -> 0 | V27: =J28 -> 0 | W27: =K28 -> 0 | ... AA27: =O28 -> 0
C28: VITRE | D28: =G28*2+I28*3+K28*1 -> 0 | G28: =E28-I28 -> 0 | H28: =F28-J28 -> 0 | P28: =D27 -> 0 | Q28: =E27 -> 0 | R28: =F27 -> 0 | S28: =G27 -> 0 | T28: =H27 -> 0 | U28: =I27 -> 0 | V28: =J27 -> 0 | W28: =K27 -> 0 | ... AA28: =O27 -> 0

Sheet J4
D2: SCORE | E2: TT | F2: TR | G2: TR2 | H2: TT2 | I2: TR3 | J2: TT3 | K2: LFR | L2: LFT | M2: BP | N2: ORB | O2: DRB | P2: Pts | Q2: TT | R2: TR | S2: TR2 | T2: TT2 | U2: TR3 | V2: TT3 | W2: LFR | X2: LFT | Y2: BP | Z2: ORB | AA2: DRB
B3: MATCH 1 | C3: LE HAVRE | D3: =G3*2+I3*3+K3*1 -> 0 | G3: =E3-I3 -> 0 | H3: =F3-J3 -> 0 | P3: =D4 -> 0 | Q3: =E4 -> 0 | R3: =F4 -> 0 | S3: =G4 -> 0 | T3: =H4 -> 0 | U3: =I4 -> 0 | V3: =J4 -> 0 | W3: =K4 -> 0 | ... AA3: =O4 -> 0 | AD3: PTS | AE3: TR | AF3: TT | AG3: TR2 | AH3: TT2 | AI3: TR3 | AJ3: TT3 | AK3: LFR | AL3: LFT | AM3: BP | AN3: ORB | AO3: DRB | AP3: Pts | AQ3: TT | AR3: TR | AS3: TR2 | AT3: TT2 | AU3: TR3 | AV3: TT3 | AW3: LFR | AX3: LFT | AY3: BP | AZ3: ORB | BA3: DRB
C4: BOULOGNE | D4: =G4*2+I4*3+K4*1 -> 0 | G4: =E4-I4 -> 0 | H4: =F4-J4 -> 0 | P4: =D3 -> 0 | Q4: =E3 -> 0 | R4: =F3 -> 0 | S4: =G3 -> 0 | T4: =H3 -> 0 | U4: =I3 -> 0 | V4: =J3 -> 0 | W4: =K3 -> 0 | ... AA4: =O3 -> 0 | AC4: ANGERS | AD4: =VLOOKUP($AC4, $C$2:$AA$28,2,FALSE) -> 0 | AE4: =VLOOKUP($AC4, $C$2:$AA$28,3,FALSE) -> 0 | AF4: =VLOOKUP($AC4, $C$2:$AA$28,4,FALSE) -> 0 | AG4: =VLOOKUP($AC4, $C$2:$AA$28,5,FALSE) -> 0 | AH4: =VLOOKUP($AC4, $C$2:$AA$28,6,FALSE) -> 0 | AI4: =VLOOKUP($AC4, $C$2:$AA$28,7,FALSE) -> 0 | AJ4: =VLOOKUP($AC4, $C$2:$AA$28,8,FALSE) -> 0 | AK4: =VLOOKUP($AC4, $C$2:$AA$28,9,FALSE) -> 0 | AL4: =VLOOKUP($AC4, $C$2:$AA$28,10,FALSE) -> 0 | AM4: =VLOOKUP($AC4, $C$2:$AA$28,11,FALSE) -> 0 | AN4: =VLOOKUP($AC4, $C$2:$AA$28,12,FALSE) -> 0 | AO4: =VLOOKUP($AC4, $C$2:$AA$28,13,FALSE) -> 0 | AP4: =VLOOKUP($AC4, $C$2:$AA$28,14,FALSE) -> 0 | AQ4: =VLOOKUP($AC4, $C$2:$AA$28,15,FALSE) -> 0 | AR4: =VLOOKUP($AC4, $C$2:$AA$28,16,FALSE) -> 0 | AS4: =VLOOKUP($AC4, $C$2:$AA$28,17,FALSE) -> 0 | AT4: =VLOOKUP($AC4, $C$2:$AA$28,18,FALSE) -> 0 | AU4: =VLOOKUP($AC4, $C$2:$AA$28,19,FALSE) -> 0 | AV4: =VLOOKUP($AC4, $C$2:$AA$28,20,FALSE) -> 0 | AW4: =VLOOKUP($AC4, $C$2:$AA$28,21,FALSE) -> 0 | AX4: =VLOOKUP($AC4, $C$2:$AA$28,22,FALSE) -> 0 | AY4: =VLOOKUP($AC4, $C$2:$AA$28,23,FALSE) -> 0 | AZ4: =VLOOKUP($AC4, $C$2:$AA$28,24,FALSE) -> 0 | BA4: =VLOOKUP($AC4, $C$2:$AA$28,25,FALSE) -> 0
AC5: BORDEAUX | AD5: =VLOOKUP($AC5, $C$2:$AA$28,2,FALSE) -> 0 | AE5: =VLOOKUP($AC5, $C$2:$AA$28,3,FALSE) -> 0 | AF5: =VLOOKUP($AC5, $C$2:$AA$28,4,FALSE) -> 0 | AG5: =VLOOKUP($AC5, $C$2:$AA$28,5,FALSE) -> 0 | AH5: =VLOOKUP($AC5, $C$2:$AA$28,6,FALSE) -> 0 | AI5: =VLOOKUP($AC5, $C$2:$AA$28,7,FALSE) -> 0 | AJ5: =VLOOKUP($AC5, $C$2:$AA$28,8,FALSE) -> 0 | AK5: =VLOOKUP($AC5, $C$2:$AA$28,9,FALSE) -> 0 | AL5: =VLOOKUP($AC5, $C$2:$AA$28,10,FALSE) -> 0 | AM5: =VLOOKUP($AC5, $C$2:$AA$28,11,FALSE) -> 0 | AN5: =VLOOKUP($AC5, $C$2:$AA$28,12,FALSE) -> 0 | AO5: =VLOOKUP($AC5, $C$2:$AA$28,13,FALSE) -> 0 | AP5: =VLOOKUP($AC5, $C$2:$AA$28,14,FALSE) -> 0 | AQ5: =VLOOKUP($AC5, $C$2:$AA$28,15,FALSE) -> 0 | AR5: =VLOOKUP($AC5, $C$2:$AA$28,16,FALSE) -> 0 | AS5: =VLOOKUP($AC5, $C$2:$AA$28,17,FALSE) -> 0 | AT5: =VLOOKUP($AC5, $C$2:$AA$28,18,FALSE) -> 0 | AU5: =VLOOKUP($AC5, $C$2:$AA$28,19,FALSE) -> 0 | AV5: =VLOOKUP($AC5, $C$2:$AA$28,20,FALSE) -> 0 | AW5: =VLOOKUP($AC5, $C$2:$AA$28,21,FALSE) -> 0 | AX5: =VLOOKUP($AC5, $C$2:$AA$28,22,FALSE) -> 0 | AY5: =VLOOKUP($AC5, $C$2:$AA$28,23,FALSE) -> 0 | AZ5: =VLOOKUP($AC5, $C$2:$AA$28,24,FALSE) -> 0 | BA5: =VLOOKUP($AC5, $C$2:$AA$28,25,FALSE) -> 0
D6: SCORE | E6: TT | F6: TR | G6: TR2 | H6: TT2 | I6: TR3 | J6: TT3 | K6: LFR | L6: LFT | M6: BP | N6: ORB | O6: DRB | P6: Pts | Q6: TT | R6: TR | S6: TR2 | T6: TT2 | U6: TR3 | V6: TT3 | W6: LFR | X6: LFT | Y6: BP | Z6: ORB | AA6: DRB | AC6: BOULOGNE | AD6: =VLOOKUP($AC6, $C$2:$AA$28,2,FALSE) -> 0 | AE6: =VLOOKUP($AC6, $C$2:$AA$28,3,FALSE) -> 0 | AF6: =VLOOKUP($AC6, $C$2:$AA$28,4,FALSE) -> 0 | AG6: =VLOOKUP($AC6, $C$2:$AA$28,5,FALSE) -> 0 | AH6: =VLOOKUP($AC6, $C$2:$AA$28,6,FALSE) -> 0 | AI6: =VLOOKUP($AC6, $C$2:$AA$28,7,FALSE) -> 0 | AJ6: =VLOOKUP($AC6, $C$2:$AA$28,8,FALSE) -> 0 | AK6: =VLOOKUP($AC6, $C$2:$AA$28,9,FALSE) -> 0 | AL6: =VLOOKUP($AC6, $C$2:$AA$28,10,FALSE) -> 0 | AM6: =VLOOKUP($AC6, $C$2:$AA$28,11,FALSE) -> 0 | AN6: =VLOOKUP($AC6, $C$2:$AA$28,12,FALSE) -> 0 | AO6: =VLOOKUP($AC6, $C$2:$AA$28,13,FALSE) -> 0 | AP6: =VLOOKUP($AC6, $C$2:$AA$28,14,FALSE) -> 0 | AQ6: =VLOOKUP($AC6, $C$2:$AA$28,15,FALSE) -> 0 | AR6: =VLOOKUP($AC6, $C$2:$AA$28,16,FALSE) -> 0 | AS6: =VLOOKUP($AC6, $C$2:$AA$28,17,FALSE) -> 0 | AT6: =VLOOKUP($AC6, $C$2:$AA$28,18,FALSE) -> 0 | AU6: =VLOOKUP($AC6, $C$2:$AA$28,19,FALSE) -> 0 | AV6: =VLOOKUP($AC6, $C$2:$AA$28,20,FALSE) -> 0 | AW6: =VLOOKUP($AC6, $C$2:$AA$28,21,FALSE) -> 0 | AX6: =VLOOKUP($AC6, $C$2:$AA$28,22,FALSE) -> 0 | AY6: =VLOOKUP($AC6, $C$2:$AA$28,23,FALSE) -> 0 | AZ6: =VLOOKUP($AC6, $C$2:$AA$28,24,FALSE) -> 0 | BA6: =VLOOKUP($AC6, $C$2:$AA$28,25,FALSE) -> 0
B7: MATCH 2 | C7: LA ROCHELLE | D7: =G7*2+I7*3+K7*1 -> 0 | G7: =E7-I7 -> 0 | H7: =F7-J7 -> 0 | P7: =D8 -> 0 | Q7: =E8 -> 0 | R7: =F8 -> 0 | S7: =G8 -> 0 | T7: =H8 -> 0 | U7: =I8 -> 0 | V7: =J8 -> 0 | W7: =K8 -> 0 | ... AA7: =O8 -> 0 | AC7: CAEN | AD7: =VLOOKUP($AC7, $C$2:$AA$28,2,FALSE) -> 0 | AE7: =VLOOKUP($AC7, $C$2:$AA$28,3,FALSE) -> 0 | AF7: =VLOOKUP($AC7, $C$2:$AA$28,4,FALSE) -> 0 | AG7: =VLOOKUP($AC7, $C$2:$AA$28,5,FALSE) -> 0 | AH7: =VLOOKUP($AC7, $C$2:$AA$28,6,FALSE) -> 0 | AI7: =VLOOKUP($AC7, $C$2:$AA$28,7,FALSE) -> 0 | AJ7: =VLOOKUP($AC7, $C$2:$AA$28,8,FALSE) -> 0 | AK7: =VLOOKUP($AC7, $C$2:$AA$28,9,FALSE) -> 0 | AL7: =VLOOKUP($AC7, $C$2:$AA$28,10,FALSE) -> 0 | AM7: =VLOOKUP($AC7, $C$2:$AA$28,11,FALSE) -> 0 | AN7: =VLOOKUP($AC7, $C$2:$AA$28,12,FALSE) -> 0 | AO7: =VLOOKUP($AC7, $C$2:$AA$28,13,FALSE) -> 0 | AP7: =VLOOKUP($AC7, $C$2:$AA$28,14,FALSE) -> 0 | AQ7: =VLOOKUP($AC7, $C$2:$AA$28,15,FALSE) -> 0 | AR7: =VLOOKUP($AC7, $C$2:$AA$28,16,FALSE) -> 0 | AS7: =VLOOKUP($AC7, $C$2:$AA$28,17,FALSE) -> 0 | AT7: =VLOOKUP($AC7, $C$2:$AA$28,18,FALSE) -> 0 | AU7: =VLOOKUP($AC7, $C$2:$AA$28,19,FALSE) -> 0 | AV7: =VLOOKUP($AC7, $C$2:$AA$28,20,FALSE) -> 0 | AW7: =VLOOKUP($AC7, $C$2:$AA$28,21,FALSE) -> 0 | AX7: =VLOOKUP($AC7, $C$2:$AA$28,22,FALSE) -> 0 | AY7: =VLOOKUP($AC7, $C$2:$AA$28,23,FALSE) -> 0 | AZ7: =VLOOKUP($AC7, $C$2:$AA$28,24,FALSE) -> 0 | BA7: =VLOOKUP($AC7, $C$2:$AA$28,25,FALSE) -> 0
C8: CAEN | D8: =G8*2+I8*3+K8*1 -> 0 | G8: =E8-I8 -> 0 | H8: =F8-J8 -> 0 | P8: =D7 -> 0 | Q8: =E7 -> 0 | R8: =F7 -> 0 | S8: =G7 -> 0 | T8: =H7 -> 0 | U8: =I7 -> 0 | V8: =J7 -> 0 | W8: =K7 -> 0 | ... AA8: =O7 -> 0 | AC8: CHALLANS | AD8: =VLOOKUP($AC8, $C$2:$AA$28,2,FALSE) -> 0 | AE8: =VLOOKUP($AC8, $C$2:$AA$28,3,FALSE) -> 0 | AF8: =VLOOKUP($AC8, $C$2:$AA$28,4,FALSE) -> 0 | AG8: =VLOOKUP($AC8, $C$2:$AA$28,5,FALSE) -> 0 | AH8: =VLOOKUP($AC8, $C$2:$AA$28,6,FALSE) -> 0 | AI8: =VLOOKUP($AC8, $C$2:$AA$28,7,FALSE) -> 0 | AJ8: =VLOOKUP($AC8, $C$2:$AA$28,8,FALSE) -> 0 | AK8: =VLOOKUP($AC8, $C$2:$AA$28,9,FALSE) -> 0 | AL8: =VLOOKUP($AC8, $C$2:$AA$28,10,FALSE) -> 0 | AM8: =VLOOKUP($AC8, $C$2:$AA$28,11,FALSE) -> 0 | AN8: =VLOOKUP($AC8, $C$2:$AA$28,12,FALSE) -> 0 | AO8: =VLOOKUP($AC8, $C$2:$AA$28,13,FALSE) -> 0 | AP8: =VLOOKUP($AC8, $C$2:$AA$28,14,FALSE) -> 0 | AQ8: =VLOOKUP($AC8, $C$2:$AA$28,15,FALSE) -> 0 | AR8: =VLOOKUP($AC8, $C$2:$AA$28,16,FALSE) -> 0 | AS8: =VLOOKUP($AC8, $C$2:$AA$28,17,FALSE) -> 0 | AT8: =VLOOKUP($AC8, $C$2:$AA$28,18,FALSE) -> 0 | AU8: =VLOOKUP($AC8, $C$2:$AA$28,19,FALSE) -> 0 | AV8: =VLOOKUP($AC8, $C$2:$AA$28,20,FALSE) -> 0 | AW8: =VLOOKUP($AC8, $C$2:$AA$28,21,FALSE) -> 0 | AX8: =VLOOKUP($AC8, $C$2:$AA$28,22,FALSE) -> 0 | AY8: =VLOOKUP($AC8, $C$2:$AA$28,23,FALSE) -> 0 | AZ8: =VLOOKUP($AC8, $C$2:$AA$28,24,FALSE) -> 0 | BA8: =VLOOKUP($AC8, $C$2:$AA$28,25,FALSE) -> 0
AC9: DAX | AD9: =VLOOKUP($AC9, $C$2:$AA$28,2,FALSE) -> 0 | AE9: =VLOOKUP($AC9, $C$2:$AA$28,3,FALSE) -> 0 | AF9: =VLOOKUP($AC9, $C$2:$AA$28,4,FALSE) -> 0 | AG9: =VLOOKUP($AC9, $C$2:$AA$28,5,FALSE) -> 0 | AH9: =VLOOKUP($AC9, $C$2:$AA$28,6,FALSE) -> 0 | AI9: =VLOOKUP($AC9, $C$2:$AA$28,7,FALSE) -> 0 | AJ9: =VLOOKUP($AC9, $C$2:$AA$28,8,FALSE) -> 0 | AK9: =VLOOKUP($AC9, $C$2:$AA$28,9,FALSE) -> 0 | AL9: =VLOOKUP($AC9, $C$2:$AA$28,10,FALSE) -> 0 | AM9: =VLOOKUP($AC9, $C$2:$AA$28,11,FALSE) -> 0 | AN9: =VLOOKUP($AC9, $C$2:$AA$28,12,FALSE) -> 0 | AO9: =VLOOKUP($AC9, $C$2:$AA$28,13,FALSE) -> 0 | AP9: =VLOOKUP($AC9, $C$2:$AA$28,14,FALSE) -> 0 | AQ9: =VLOOKUP($AC9, $C$2:$AA$28,15,FALSE) -> 0 | AR9: =VLOOKUP($AC9, $C$2:$AA$28,16,FALSE) -> 0 | AS9: =VLOOKUP($AC9, $C$2:$AA$28,17,FALSE) -> 0 | AT9: =VLOOKUP($AC9, $C$2:$AA$28,18,FALSE) -> 0 | AU9: =VLOOKUP($AC9, $C$2:$AA$28,19,FALSE) -> 0 | AV9: =VLOOKUP($AC9, $C$2:$AA$28,20,FALSE) -> 0 | AW9: =VLOOKUP($AC9, $C$2:$AA$28,21,FALSE) -> 0 | AX9: =VLOOKUP($AC9, $C$2:$AA$28,22,FALSE) -> 0 | AY9: =VLOOKUP($AC9, $C$2:$AA$28,23,FALSE) -> 0 | AZ9: =VLOOKUP($AC9, $C$2:$AA$28,24,FALSE) -> 0 | BA9: =VLOOKUP($AC9, $C$2:$AA$28,25,FALSE) -> 0
D10: SCORE | E10: TT | F10: TR | G10: TR2 | H10: TT2 | I10: TR3 | J10: TT3 | K10: LFR | L10: LFT | M10: BP | N10: ORB | O10: DRB | P10: Pts | Q10: TT | R10: TR | S10: TR2 | T10: TT2 | U10: TR3 | V10: TT3 | W10: LFR | X10: LFT | Y10: BP | Z10: ORB | AA10: DRB | AC10: LA ROCHELLE | AD10: =VLOOKUP($AC10, $C$2:$AA$28,2,FALSE) -> 0 | AE10: =VLOOKUP($AC10, $C$2:$AA$28,3,FALSE) -> 0 | AF10: =VLOOKUP($AC10, $C$2:$AA$28,4,FALSE) -> 0 | AG10: =VLOOKUP($AC10, $C$2:$AA$28,5,FALSE) -> 0 | AH10: =VLOOKUP($AC10, $C$2:$AA$28,6,FALSE) -> 0 | AI10: =VLOOKUP($AC10, $C$2:$AA$28,7,FALSE) -> 0 | AJ10: =VLOOKUP($AC10, $C$2:$AA$28,8,FALSE) -> 0 | AK10: =VLOOKUP($AC10, $C$2:$AA$28,9,FALSE) -> 0 | AL10: =VLOOKUP($AC10, $C$2:$AA$28,10,FALSE) -> 0 | AM10: =VLOOKUP($AC10, $C$2:$AA$28,11,FALSE) -> 0 | AN10: =VLOOKUP($AC10, $C$2:$AA$28,12,FALSE) -> 0 | AO10: =VLOOKUP($AC10, $C$2:$AA$28,13,FALSE) -> 0 | AP10: =VLOOKUP($AC10, $C$2:$AA$28,14,FALSE) -> 0 | AQ10: =VLOOKUP($AC10, $C$2:$AA$28,15,FALSE) -> 0 | AR10: =VLOOKUP($AC10, $C$2:$AA$28,16,FALSE) -> 0 | AS10: =VLOOKUP($AC10, $C$2:$AA$28,17,FALSE) -> 0 | AT10: =VLOOKUP($AC10, $C$2:$AA$28,18,FALSE) -> 0 | AU10: =VLOOKUP($AC10, $C$2:$AA$28,19,FALSE) -> 0 | AV10: =VLOOKUP($AC10, $C$2:$AA$28,20,FALSE) -> 0 | AW10: =VLOOKUP($AC10, $C$2:$AA$28,21,FALSE) -> 0 | AX10: =VLOOKUP($AC10, $C$2:$AA$28,22,FALSE) -> 0 | AY10: =VLOOKUP($AC10, $C$2:$AA$28,23,FALSE) -> 0 | AZ10: =VLOOKUP($AC10, $C$2:$AA$28,24,FALSE) -> 0 | BA10: =VLOOKUP($AC10, $C$2:$AA$28,25,FALSE) -> 0
B11: MATCH 3 | C11: ANGERS | D11: =G11*2+I11*3+K11*1 -> 0 | G11: =E11-I11 -> 0 | H11: =F11-J11 -> 0 | P11: =D12 -> 0 | Q11: =E12 -> 0 | R11: =F12 -> 0 | S11: =G12 -> 0 | T11: =H12 -> 0 | U11: =I12 -> 0 | V11: =J12 -> 0 | W11: =K12 -> 0 | ... AA11: =O12 -> 0 | AC11: LE HAVRE | AD11: =VLOOKUP($AC11, $C$2:$AA$28,2,FALSE) -> 0 | AE11: =VLOOKUP($AC11, $C$2:$AA$28,3,FALSE) -> 0 | AF11: =VLOOKUP($AC11, $C$2:$AA$28,4,FALSE) -> 0 | AG11: =VLOOKUP($AC11, $C$2:$AA$28,5,FALSE) -> 0 | AH11: =VLOOKUP($AC11, $C$2:$AA$28,6,FALSE) -> 0 | AI11: =VLOOKUP($AC11, $C$2:$AA$28,7,FALSE) -> 0 | AJ11: =VLOOKUP($AC11, $C$2:$AA$28,8,FALSE) -> 0 | AK11: =VLOOKUP($AC11, $C$2:$AA$28,9,FALSE) -> 0 | AL11: =VLOOKUP($AC11, $C$2:$AA$28,10,FALSE) -> 0 | AM11: =VLOOKUP($AC11, $C$2:$AA$28,11,FALSE) -> 0 | AN11: =VLOOKUP($AC11, $C$2:$AA$28,12,FALSE) -> 0 | AO11: =VLOOKUP($AC11, $C$2:$AA$28,13,FALSE) -> 0 | AP11: =VLOOKUP($AC11, $C$2:$AA$28,14,FALSE) -> 0 | AQ11: =VLOOKUP($AC11, $C$2:$AA$28,15,FALSE) -> 0 | AR11: =VLOOKUP($AC11, $C$2:$AA$28,16,FALSE) -> 0 | AS11: =VLOOKUP($AC11, $C$2:$AA$28,17,FALSE) -> 0 | AT11: =VLOOKUP($AC11, $C$2:$AA$28,18,FALSE) -> 0 | AU11: =VLOOKUP($AC11, $C$2:$AA$28,19,FALSE) -> 0 | AV11: =VLOOKUP($AC11, $C$2:$AA$28,20,FALSE) -> 0 | AW11: =VLOOKUP($AC11, $C$2:$AA$28,21,FALSE) -> 0 | AX11: =VLOOKUP($AC11, $C$2:$AA$28,22,FALSE) -> 0 | AY11: =VLOOKUP($AC11, $C$2:$AA$28,23,FALSE) -> 0 | AZ11: =VLOOKUP($AC11, $C$2:$AA$28,24,FALSE) -> 0 | BA11: =VLOOKUP($AC11, $C$2:$AA$28,25,FALSE) -> 0
C12: TOURS | D12: =G12*2+I12*3+K12*1 -> 0 | G12: =E12-I12 -> 0 | H12: =F12-J12 -> 0 | P12: =D11 -> 0 | Q12: =E11 -> 0 | R12: =F11 -> 0 | S12: =G11 -> 0 | T12: =H11 -> 0 | U12: =I11 -> 0 | V12: =J11 -> 0 | W12: =K11 -> 0 | ... AA12: =O11 -> 0 | AC12: LORIENT | AD12: =VLOOKUP($AC12, $C$2:$AA$28,2,FALSE) -> 0 | AE12: =VLOOKUP($AC12, $C$2:$AA$28,3,FALSE) -> 0 | AF12: =VLOOKUP($AC12, $C$2:$AA$28,4,FALSE) -> 0 | AG12: =VLOOKUP($AC12, $C$2:$AA$28,5,FALSE) -> 0 | AH12: =VLOOKUP($AC12, $C$2:$AA$28,6,FALSE) -> 0 | AI12: =VLOOKUP($AC12, $C$2:$AA$28,7,FALSE) -> 0 | AJ12: =VLOOKUP($AC12, $C$2:$AA$28,8,FALSE) -> 0 | AK12: =VLOOKUP($AC12, $C$2:$AA$28,9,FALSE) -> 0 | AL12: =VLOOKUP($AC12, $C$2:$AA$28,10,FALSE) -> 0 | AM12: =VLOOKUP($AC12, $C$2:$AA$28,11,FALSE) -> 0 | AN12: =VLOOKUP($AC12, $C$2:$AA$28,12,FALSE) -> 0 | AO12: =VLOOKUP($AC12, $C$2:$AA$28,13,FALSE) -> 0 | AP12: =VLOOKUP($AC12, $C$2:$AA$28,14,FALSE) -> 0 | AQ12: =VLOOKUP($AC12, $C$2:$AA$28,15,FALSE) -> 0 | AR12: =VLOOKUP($AC12, $C$2:$AA$28,16,FALSE) -> 0 | AS12: =VLOOKUP($AC12, $C$2:$AA$28,17,FALSE) -> 0 | AT12: =VLOOKUP($AC12, $C$2:$AA$28,18,FALSE) -> 0 | AU12: =VLOOKUP($AC12, $C$2:$AA$28,19,FALSE) -> 0 | AV12: =VLOOKUP($AC12, $C$2:$AA$28,20,FALSE) -> 0 | AW12: =VLOOKUP($AC12, $C$2:$AA$28,21,FALSE) -> 0 | AX12: =VLOOKUP($AC12, $C$2:$AA$28,22,FALSE) -> 0 | AY12: =VLOOKUP($AC12, $C$2:$AA$28,23,FALSE) -> 0 | AZ12: =VLOOKUP($AC12, $C$2:$AA$28,24,FALSE) -> 0 | BA12: =VLOOKUP($AC12, $C$2:$AA$28,25,FALSE) -> 0
AC13: TARBES | AD13: =VLOOKUP($AC13, $C$2:$AA$28,2,FALSE) -> 0 | AE13: =VLOOKUP($AC13, $C$2:$AA$28,3,FALSE) -> 0 | AF13: =VLOOKUP($AC13, $C$2:$AA$28,4,FALSE) -> 0 | AG13: =VLOOKUP($AC13, $C$2:$AA$28,5,FALSE) -> 0 | AH13: =VLOOKUP($AC13, $C$2:$AA$28,6,FALSE) -> 0 | AI13: =VLOOKUP($AC13, $C$2:$AA$28,7,FALSE) -> 0 | AJ13: =VLOOKUP($AC13, $C$2:$AA$28,8,FALSE) -> 0 | AK13: =VLOOKUP($AC13, $C$2:$AA$28,9,FALSE) -> 0 | AL13: =VLOOKUP($AC13, $C$2:$AA$28,10,FALSE) -> 0 | AM13: =VLOOKUP($AC13, $C$2:$AA$28,11,FALSE) -> 0 | AN13: =VLOOKUP($AC13, $C$2:$AA$28,12,FALSE) -> 0 | AO13: =VLOOKUP($AC13, $C$2:$AA$28,13,FALSE) -> 0 | AP13: =VLOOKUP($AC13, $C$2:$AA$28,14,FALSE) -> 0 | AQ13: =VLOOKUP($AC13, $C$2:$AA$28,15,FALSE) -> 0 | AR13: =VLOOKUP($AC13, $C$2:$AA$28,16,FALSE) -> 0 | AS13: =VLOOKUP($AC13, $C$2:$AA$28,17,FALSE) -> 0 | AT13: =VLOOKUP($AC13, $C$2:$AA$28,18,FALSE) -> 0 | AU13: =VLOOKUP($AC13, $C$2:$AA$28,19,FALSE) -> 0 | AV13: =VLOOKUP($AC13, $C$2:$AA$28,20,FALSE) -> 0 | AW13: =VLOOKUP($AC13, $C$2:$AA$28,21,FALSE) -> 0 | AX13: =VLOOKUP($AC13, $C$2:$AA$28,22,FALSE) -> 0 | AY13: =VLOOKUP($AC13, $C$2:$AA$28,23,FALSE) -> 0 | AZ13: =VLOOKUP($AC13, $C$2:$AA$28,24,FALSE) -> 0 | BA13: =VLOOKUP($AC13, $C$2:$AA$28,25,FALSE) -> 0
D14: SCORE | E14: TT | F14: TR | G14: TR2 | H14: TT2 | I14: TR3 | J14: TT3 | K14: LFR | L14: LFT | M14: BP | N14: ORB | O14: DRB | P14: Pts | Q14: TT | R14: TR | S14: TR2 | T14: TT2 | U14: TR3 | V14: TT3 | W14: LFR | X14: LFT | Y14: BP | Z14: ORB | AA14: DRB | AC14: TOULOUSE | AD14: =VLOOKUP($AC14, $C$2:$AA$28,2,FALSE) -> 0 | AE14: =VLOOKUP($AC14, $C$2:$AA$28,3,FALSE) -> 0 | AF14: =VLOOKUP($AC14, $C$2:$AA$28,4,FALSE) -> 0 | AG14: =VLOOKUP($AC14, $C$2:$AA$28,5,FALSE) -> 0 | AH14: =VLOOKUP($AC14, $C$2:$AA$28,6,FALSE) -> 0 | AI14: =VLOOKUP($AC14, $C$2:$AA$28,7,FALSE) -> 0 | AJ14: =VLOOKUP($AC14, $C$2:$AA$28,8,FALSE) -> 0 | AK14: =VLOOKUP($AC14, $C$2:$AA$28,9,FALSE) -> 0 | AL14: =VLOOKUP($AC14, $C$2:$AA$28,10,FALSE) -> 0 | AM14: =VLOOKUP($AC14, $C$2:$AA$28,11,FALSE) -> 0 | AN14: =VLOOKUP($AC14, $C$2:$AA$28,12,FALSE) -> 0 | AO14: =VLOOKUP($AC14, $C$2:$AA$28,13,FALSE) -> 0 | AP14: =VLOOKUP($AC14, $C$2:$AA$28,14,FALSE) -> 0 | AQ14: =VLOOKUP($AC14, $C$2:$AA$28,15,FALSE) -> 0 | AR14: =VLOOKUP($AC14, $C$2:$AA$28,16,FALSE) -> 0 | AS14: =VLOOKUP($AC14, $C$2:$AA$28,17,FALSE) -> 0 | AT14: =VLOOKUP($AC14, $C$2:$AA$28,18,FALSE) -> 0 | AU14: =VLOOKUP($AC14, $C$2:$AA$28,19,FALSE) -> 0 | AV14: =VLOOKUP($AC14, $C$2:$AA$28,20,FALSE) -> 0 | AW14: =VLOOKUP($AC14, $C$2:$AA$28,21,FALSE) -> 0 | AX14: =VLOOKUP($AC14, $C$2:$AA$28,22,FALSE) -> 0 | AY14: =VLOOKUP($AC14, $C$2:$AA$28,23,FALSE) -> 0 | AZ14: =VLOOKUP($AC14, $C$2:$AA$28,24,FALSE) -> 0 | BA14: =VLOOKUP($AC14, $C$2:$AA$28,25,FALSE) -> 0
B15: MATCH 4 | C15: TARBES | D15: =G15*2+I15*3+K15*1 -> 0 | G15: =E15-I15 -> 0 | H15: =F15-J15 -> 0 | P15: =D16 -> 0 | Q15: =E16 -> 0 | R15: =F16 -> 0 | S15: =G16 -> 0 | T15: =H16 -> 0 | U15: =I16 -> 0 | V15: =J16 -> 0 | W15: =K16 -> 0 | ... AA15: =O16 -> 0 | AC15: TOURS | AD15: =VLOOKUP($AC15, $C$2:$AA$28,2,FALSE) -> 0 | AE15: =VLOOKUP($AC15, $C$2:$AA$28,3,FALSE) -> 0 | AF15: =VLOOKUP($AC15, $C$2:$AA$28,4,FALSE) -> 0 | AG15: =VLOOKUP($AC15, $C$2:$AA$28,5,FALSE) -> 0 | AH15: =VLOOKUP($AC15, $C$2:$AA$28,6,FALSE) -> 0 | AI15: =VLOOKUP($AC15, $C$2:$AA$28,7,FALSE) -> 0 | AJ15: =VLOOKUP($AC15, $C$2:$AA$28,8,FALSE) -> 0 | AK15: =VLOOKUP($AC15, $C$2:$AA$28,9,FALSE) -> 0 | AL15: =VLOOKUP($AC15, $C$2:$AA$28,10,FALSE) -> 0 | AM15: =VLOOKUP($AC15, $C$2:$AA$28,11,FALSE) -> 0 | AN15: =VLOOKUP($AC15, $C$2:$AA$28,12,FALSE) -> 0 | AO15: =VLOOKUP($AC15, $C$2:$AA$28,13,FALSE) -> 0 | AP15: =VLOOKUP($AC15, $C$2:$AA$28,14,FALSE) -> 0 | AQ15: =VLOOKUP($AC15, $C$2:$AA$28,15,FALSE) -> 0 | AR15: =VLOOKUP($AC15, $C$2:$AA$28,16,FALSE) -> 0 | AS15: =VLOOKUP($AC15, $C$2:$AA$28,17,FALSE) -> 0 | AT15: =VLOOKUP($AC15, $C$2:$AA$28,18,FALSE) -> 0 | AU15: =VLOOKUP($AC15, $C$2:$AA$28,19,FALSE) -> 0 | AV15: =VLOOKUP($AC15, $C$2:$AA$28,20,FALSE) -> 0 | AW15: =VLOOKUP($AC15, $C$2:$AA$28,21,FALSE) -> 0 | AX15: =VLOOKUP($AC15, $C$2:$AA$28,22,FALSE) -> 0 | AY15: =VLOOKUP($AC15, $C$2:$AA$28,23,FALSE) -> 0 | AZ15: =VLOOKUP($AC15, $C$2:$AA$28,24,FALSE) -> 0 | BA15: =VLOOKUP($AC15, $C$2:$AA$28,25,FALSE) -> 0
C16: LORIENT | D16: =G16*2+I16*3+K16*1 -> 0 | G16: =E16-I16 -> 0 | H16: =F16-J16 -> 0 | P16: =D15 -> 0 | Q16: =E15 -> 0 | R16: =F15 -> 0 | S16: =G15 -> 0 | T16: =H15 -> 0 | U16: =I15 -> 0 | V16: =J15 -> 0 | W16: =K15 -> 0 | ... AA16: =O15 -> 0 | AC16: VANVES | AD16: =VLOOKUP($AC16, $C$2:$AA$28,2,FALSE) -> 0 | AE16: =VLOOKUP($AC16, $C$2:$AA$28,3,FALSE) -> 0 | AF16: =VLOOKUP($AC16, $C$2:$AA$28,4,FALSE) -> 0 | AG16: =VLOOKUP($AC16, $C$2:$AA$28,5,FALSE) -> 0 | AH16: =VLOOKUP($AC16, $C$2:$AA$28,6,FALSE) -> 0 | AI16: =VLOOKUP($AC16, $C$2:$AA$28,7,FALSE) -> 0 | AJ16: =VLOOKUP($AC16, $C$2:$AA$28,8,FALSE) -> 0 | AK16: =VLOOKUP($AC16, $C$2:$AA$28,9,FALSE) -> 0 | AL16: =VLOOKUP($AC16, $C$2:$AA$28,10,FALSE) -> 0 | AM16: =VLOOKUP($AC16, $C$2:$AA$28,11,FALSE) -> 0 | AN16: =VLOOKUP($AC16, $C$2:$AA$28,12,FALSE) -> 0 | AO16: =VLOOKUP($AC16, $C$2:$AA$28,13,FALSE) -> 0 | AP16: =VLOOKUP($AC16, $C$2:$AA$28,14,FALSE) -> 0 | AQ16: =VLOOKUP($AC16, $C$2:$AA$28,15,FALSE) -> 0 | AR16: =VLOOKUP($AC16, $C$2:$AA$28,16,FALSE) -> 0 | AS16: =VLOOKUP($AC16, $C$2:$AA$28,17,FALSE) -> 0 | AT16: =VLOOKUP($AC16, $C$2:$AA$28,18,FALSE) -> 0 | AU16: =VLOOKUP($AC16, $C$2:$AA$28,19,FALSE) -> 0 | AV16: =VLOOKUP($AC16, $C$2:$AA$28,20,FALSE) -> 0 | AW16: =VLOOKUP($AC16, $C$2:$AA$28,21,FALSE) -> 0 | AX16: =VLOOKUP($AC16, $C$2:$AA$28,22,FALSE) -> 0 | AY16: =VLOOKUP($AC16, $C$2:$AA$28,23,FALSE) -> 0 | AZ16: =VLOOKUP($AC16, $C$2:$AA$28,24,FALSE) -> 0 | BA16: =VLOOKUP($AC16, $C$2:$AA$28,25,FALSE) -> 0
AC17: VITRE | AD17: =VLOOKUP($AC17, $C$2:$AA$28,2,FALSE) -> 0 | AE17: =VLOOKUP($AC17, $C$2:$AA$28,3,FALSE) -> 0 | AF17: =VLOOKUP($AC17, $C$2:$AA$28,4,FALSE) -> 0 | AG17: =VLOOKUP($AC17, $C$2:$AA$28,5,FALSE) -> 0 | AH17: =VLOOKUP($AC17, $C$2:$AA$28,6,FALSE) -> 0 | AI17: =VLOOKUP($AC17, $C$2:$AA$28,7,FALSE) -> 0 | AJ17: =VLOOKUP($AC17, $C$2:$AA$28,8,FALSE) -> 0 | AK17: =VLOOKUP($AC17, $C$2:$AA$28,9,FALSE) -> 0 | AL17: =VLOOKUP($AC17, $C$2:$AA$28,10,FALSE) -> 0 | AM17: =VLOOKUP($AC17, $C$2:$AA$28,11,FALSE) -> 0 | AN17: =VLOOKUP($AC17, $C$2:$AA$28,12,FALSE) -> 0 | AO17: =VLOOKUP($AC17, $C$2:$AA$28,13,FALSE) -> 0 | AP17: =VLOOKUP($AC17, $C$2:$AA$28,14,FALSE) -> 0 | AQ17: =VLOOKUP($AC17, $C$2:$AA$28,15,FALSE) -> 0 | AR17: =VLOOKUP($AC17, $C$2:$AA$28,16,FALSE) -> 0 | AS17: =VLOOKUP($AC17, $C$2:$AA$28,17,FALSE) -> 0 | AT17: =VLOOKUP($AC17, $C$2:$AA$28,18,FALSE) -> 0 | AU17: =VLOOKUP($AC17, $C$2:$AA$28,19,FALSE) -> 0 | AV17: =VLOOKUP($AC17, $C$2:$AA$28,20,FALSE) -> 0 | AW17: =VLOOKUP($AC17, $C$2:$AA$28,21,FALSE) -> 0 | AX17: =VLOOKUP($AC17, $C$2:$AA$28,22,FALSE) -> 0 | AY17: =VLOOKUP($AC17, $C$2:$AA$28,23,FALSE) -> 0 | AZ17: =VLOOKUP($AC17, $C$2:$AA$28,24,FALSE) -> 0 | BA17: =VLOOKUP($AC17, $C$2:$AA$28,25,FALSE) -> 0
D18: SCORE | E18: TT | F18: TR | G18: TR2 | H18: TT2 | I18: TR3 | J18: TT3 | K18: LFR | L18: LFT | M18: BP | N18: ORB | O18: DRB | P18: Pts | Q18: TT | R18: TR | S18: TR2 | T18: TT2 | U18: TR3 | V18: TT3 | W18: LFR | X18: LFT | Y18: BP | Z18: ORB | AA18: DRB
B19: MATCH 5 | C19: TOULOUSE | D19: =G19*2+I19*3+K19*1 -> 0 | G19: =E19-I19 -> 0 | H19: =F19-J19 -> 0 | P19: =D20 -> 0 | Q19: =E20 -> 0 | R19: =F20 -> 0 | S19: =G20 -> 0 | T19: =H20 -> 0 | U19: =I20 -> 0 | V19: =J20 -> 0 | W19: =K20 -> 0 | ... AA19: =O20 -> 0
C20: DAX | D20: =G20*2+I20*3+K20*1 -> 0 | G20: =E20-I20 -> 0 | H20: =F20-J20 -> 0 | P20: =D19 -> 0 | Q20: =E19 -> 0 | R20: =F19 -> 0 | S20: =G19 -> 0 | T20: =H19 -> 0 | U20: =I19 -> 0 | V20: =J19 -> 0 | W20: =K19 -> 0 | ... AA20: =O19 -> 0
D22: SCORE | E22: TT | F22: TR | G22: TR2 | H22: TT2 | I22: TR3 | J22: TT3 | K22: LFR | L22: LFT | M22: BP | N22: ORB | O22: DRB | P22: Pts | Q22: TT | R22: TR | S22: TR2 | T22: TT2 | U22: TR3 | V22: TT3 | W22: LFR | X22: LFT | Y22: BP | Z22: ORB | AA22: DRB
B23: MATCH 6 | C23: BORDEAUX | D23: =G23*2+I23*3+K23*1 -> 0 | G23: =E23-I23 -> 0 | H23: =F23-J23 -> 0 | P23: =D24 -> 0 | Q23: =E24 -> 0 | R23: =F24 -> 0 | S23: =G24 -> 0 | T23: =H24 -> 0 | U23: =I24 -> 0 | V23: =J24 -> 0 | W23: =K24 -> 0 | ... AA23: =O24 -> 0
C24: CHALLANS | D24: =G24*2+I24*3+K24*1 -> 0 | G24: =E24-I24 -> 0 | H24: =F24-J24 -> 0 | P24: =D23 -> 0 | Q24: =E23 -> 0 | R24: =F23 -> 0 | S24: =G23 -> 0 | T24: =H23 -> 0 | U24: =I23 -> 0 | V24: =J23 -> 0 | W24: =K23 -> 0 | ... AA24: =O23 -> 0
D26: SCORE | E26: TT | F26: TR | G26: TR2 | H26: TT2 | I26: TR3 | J26: TT3 | K26: LFR | L26: LFT | M26: BP | N26: ORB | O26: DRB | P26: Pts | Q26: TT | R26: TR | S26: TR2 | T26: TT2 | U26: TR3 | V26: TT3 | W26: LFR | X26: LFT | Y26: BP | Z26: ORB | AA26: DRB
B27: MATCH 7 | C27: VANVES | D27: =G27*2+I27*3+K27*1 -> 0 | G27: =E27-I27 -> 0 | H27: =F27-J27 -> 0 | P27: =D28 -> 0 | Q27: =E28 -> 0 | R27: =F28 -> 0 | S27: =G28 -> 0 | T27: =H28 -> 0 | U27: =I28 -> 0 | V27: =J28 -> 0 | W27: =K28 -> 0 | ... AA27: =O28 -> 0
C28: VITRE | D28: =G28*2+I28*3+K28*1 -> 0 | G28: =E28-I28 -> 0 | H28: =F28-J28 -> 0 | P28: =D27 -> 0 | Q28: =E27 -> 0 | R28: =F27 -> 0 | S28: =G27 -> 0 | T28: =H27 -> 0 | U28: =I27 -> 0 | V28: =J27 -> 0 | W28: =K27 -> 0 | ... AA28: =O27 -> 0

Sheet J5
D2: SCORE | E2: TT | F2: TR | G2: TR2 | H2: TT2 | I2: TR3 | J2: TT3 | K2: LFR | L2: LFT | M2: BP | N2: ORB | O2: DRB | P2: Pts | Q2: TT | R2: TR | S2: TR2 | T2: TT2 | U2: TR3 | V2: TT3 | W2: LFR | X2: LFT | Y2: BP | Z2: ORB | AA2: DRB
B3: MATCH 1 | C3: LE HAVRE | D3: =G3*2+I3*3+K3*1 -> 0 | G3: =E3-I3 -> 0 | H3: =F3-J3 -> 0 | P3: =D4 -> 0 | Q3: =E4 -> 0 | R3: =F4 -> 0 | S3: =G4 -> 0 | T3: =H4 -> 0 | U3: =I4 -> 0 | V3: =J4 -> 0 | W3: =K4 -> 0 | ... AA3: =O4 -> 0 | AD3: PTS | AE3: TR | AF3: TT | AG3: TR2 | AH3: TT2 | AI3: TR3 | AJ3: TT3 | AK3: LFR | AL3: LFT | AM3: BP | AN3: ORB | AO3: DRB | AP3: Pts | AQ3: TT | AR3: TR | AS3: TR2 | AT3: TT2 | AU3: TR3 | AV3: TT3 | AW3: LFR | AX3: LFT | AY3: BP | AZ3: ORB | BA3: DRB
C4: BOULOGNE | D4: =G4*2+I4*3+K4*1 -> 0 | G4: =E4-I4 -> 0 | H4: =F4-J4 -> 0 | P4: =D3 -> 0 | Q4: =E3 -> 0 | R4: =F3 -> 0 | S4: =G3 -> 0 | T4: =H3 -> 0 | U4: =I3 -> 0 | V4: =J3 -> 0 | W4: =K3 -> 0 | ... AA4: =O3 -> 0 | AC4: ANGERS | AD4: =VLOOKUP($AC4, $C$2:$AA$28,2,FALSE) -> 0 | AE4: =VLOOKUP($AC4, $C$2:$AA$28,3,FALSE) -> 0 | AF4: =VLOOKUP($AC4, $C$2:$AA$28,4,FALSE) -> 0 | AG4: =VLOOKUP($AC4, $C$2:$AA$28,5,FALSE) -> 0 | AH4: =VLOOKUP($AC4, $C$2:$AA$28,6,FALSE) -> 0 | AI4: =VLOOKUP($AC4, $C$2:$AA$28,7,FALSE) -> 0 | AJ4: =VLOOKUP($AC4, $C$2:$AA$28,8,FALSE) -> 0 | AK4: =VLOOKUP($AC4, $C$2:$AA$28,9,FALSE) -> 0 | AL4: =VLOOKUP($AC4, $C$2:$AA$28,10,FALSE) -> 0 | AM4: =VLOOKUP($AC4, $C$2:$AA$28,11,FALSE) -> 0 | AN4: =VLOOKUP($AC4, $C$2:$AA$28,12,FALSE) -> 0 | AO4: =VLOOKUP($AC4, $C$2:$AA$28,13,FALSE) -> 0 | AP4: =VLOOKUP($AC4, $C$2:$AA$28,14,FALSE) -> 0 | AQ4: =VLOOKUP($AC4, $C$2:$AA$28,15,FALSE) -> 0 | AR4: =VLOOKUP($AC4, $C$2:$AA$28,16,FALSE) -> 0 | AS4: =VLOOKUP($AC4, $C$2:$AA$28,17,FALSE) -> 0 | AT4: =VLOOKUP($AC4, $C$2:$AA$28,18,FALSE) -> 0 | AU4: =VLOOKUP($AC4, $C$2:$AA$28,19,FALSE) -> 0 | AV4: =VLOOKUP($AC4, $C$2:$AA$28,20,FALSE) -> 0 | AW4: =VLOOKUP($AC4, $C$2:$AA$28,21,FALSE) -> 0 | AX4: =VLOOKUP($AC4, $C$2:$AA$28,22,FALSE) -> 0 | AY4: =VLOOKUP($AC4, $C$2:$AA$28,23,FALSE) -> 0 | AZ4: =VLOOKUP($AC4, $C$2:$AA$28,24,FALSE) -> 0 | BA4: =VLOOKUP($AC4, $C$2:$AA$28,25,FALSE) -> 0
AC5: BORDEAUX | AD5: =VLOOKUP($AC5, $C$2:$AA$28,2,FALSE) -> 0 | AE5: =VLOOKUP($AC5, $C$2:$AA$28,3,FALSE) -> 0 | AF5: =VLOOKUP($AC5, $C$2:$AA$28,4,FALSE) -> 0 | AG5: =VLOOKUP($AC5, $C$2:$AA$28,5,FALSE) -> 0 | AH5: =VLOOKUP($AC5, $C$2:$AA$28,6,FALSE) -> 0 | AI5: =VLOOKUP($AC5, $C$2:$AA$28,7,FALSE) -> 0 | AJ5: =VLOOKUP($AC5, $C$2:$AA$28,8,FALSE) -> 0 | AK5: =VLOOKUP($AC5, $C$2:$AA$28,9,FALSE) -> 0 | AL5: =VLOOKUP($AC5, $C$2:$AA$28,10,FALSE) -> 0 | AM5: =VLOOKUP($AC5, $C$2:$AA$28,11,FALSE) -> 0 | AN5: =VLOOKUP($AC5, $C$2:$AA$28,12,FALSE) -> 0 | AO5: =VLOOKUP($AC5, $C$2:$AA$28,13,FALSE) -> 0 | AP5: =VLOOKUP($AC5, $C$2:$AA$28,14,FALSE) -> 0 | AQ5: =VLOOKUP($AC5, $C$2:$AA$28,15,FALSE) -> 0 | AR5: =VLOOKUP($AC5, $C$2:$AA$28,16,FALSE) -> 0 | AS5: =VLOOKUP($AC5, $C$2:$AA$28,17,FALSE) -> 0 | AT5: =VLOOKUP($AC5, $C$2:$AA$28,18,FALSE) -> 0 | AU5: =VLOOKUP($AC5, $C$2:$AA$28,19,FALSE) -> 0 | AV5: =VLOOKUP($AC5, $C$2:$AA$28,20,FALSE) -> 0 | AW5: =VLOOKUP($AC5, $C$2:$AA$28,21,FALSE) -> 0 | AX5: =VLOOKUP($AC5, $C$2:$AA$28,22,FALSE) -> 0 | AY5: =VLOOKUP($AC5, $C$2:$AA$28,23,FALSE) -> 0 | AZ5: =VLOOKUP($AC5, $C$2:$AA$28,24,FALSE) -> 0 | BA5: =VLOOKUP($AC5, $C$2:$AA$28,25,FALSE) -> 0
D6: SCORE | E6: TT | F6: TR | G6: TR2 | H6: TT2 | I6: TR3 | J6: TT3 | K6: LFR | L6: LFT | M6: BP | N6: ORB | O6: DRB | P6: Pts | Q6: TT | R6: TR | S6: TR2 | T6: TT2 | U6: TR3 | V6: TT3 | W6: LFR | X6: LFT | Y6: BP | Z6: ORB | AA6: DRB | AC6: BOULOGNE | AD6: =VLOOKUP($AC6, $C$2:$AA$28,2,FALSE) -> 0 | AE6: =VLOOKUP($AC6, $C$2:$AA$28,3,FALSE) -> 0 | AF6: =VLOOKUP($AC6, $C$2:$AA$28,4,FALSE) -> 0 | AG6: =VLOOKUP($AC6, $C$2:$AA$28,5,FALSE) -> 0 | AH6: =VLOOKUP($AC6, $C$2:$AA$28,6,FALSE) -> 0 | AI6: =VLOOKUP($AC6, $C$2:$AA$28,7,FALSE) -> 0 | AJ6: =VLOOKUP($AC6, $C$2:$AA$28,8,FALSE) -> 0 | AK6: =VLOOKUP($AC6, $C$2:$AA$28,9,FALSE) -> 0 | AL6: =VLOOKUP($AC6, $C$2:$AA$28,10,FALSE) -> 0 | AM6: =VLOOKUP($AC6, $C$2:$AA$28,11,FALSE) -> 0 | AN6: =VLOOKUP($AC6, $C$2:$AA$28,12,FALSE) -> 0 | AO6: =VLOOKUP($AC6, $C$2:$AA$28,13,FALSE) -> 0 | AP6: =VLOOKUP($AC6, $C$2:$AA$28,14,FALSE) -> 0 | AQ6: =VLOOKUP($AC6, $C$2:$AA$28,15,FALSE) -> 0 | AR6: =VLOOKUP($AC6, $C$2:$AA$28,16,FALSE) -> 0 | AS6: =VLOOKUP($AC6, $C$2:$AA$28,17,FALSE) -> 0 | AT6: =VLOOKUP($AC6, $C$2:$AA$28,18,FALSE) -> 0 | AU6: =VLOOKUP($AC6, $C$2:$AA$28,19,FALSE) -> 0 | AV6: =VLOOKUP($AC6, $C$2:$AA$28,20,FALSE) -> 0 | AW6: =VLOOKUP($AC6, $C$2:$AA$28,21,FALSE) -> 0 | AX6: =VLOOKUP($AC6, $C$2:$AA$28,22,FALSE) -> 0 | AY6: =VLOOKUP($AC6, $C$2:$AA$28,23,FALSE) -> 0 | AZ6: =VLOOKUP($AC6, $C$2:$AA$28,24,FALSE) -> 0 | BA6: =VLOOKUP($AC6, $C$2:$AA$28,25,FALSE) -> 0
B7: MATCH 2 | C7: LA ROCHELLE | D7: =G7*2+I7*3+K7*1 -> 0 | G7: =E7-I7 -> 0 | H7: =F7-J7 -> 0 | P7: =D8 -> 0 | Q7: =E8 -> 0 | R7: =F8 -> 0 | S7: =G8 -> 0 | T7: =H8 -> 0 | U7: =I8 -> 0 | V7: =J8 -> 0 | W7: =K8 -> 0 | ... AA7: =O8 -> 0 | AC7: CAEN | AD7: =VLOOKUP($AC7, $C$2:$AA$28,2,FALSE) -> 0 | AE7: =VLOOKUP($AC7, $C$2:$AA$28,3,FALSE) -> 0 | AF7: =VLOOKUP($AC7, $C$2:$AA$28,4,FALSE) -> 0 | AG7: =VLOOKUP($AC7, $C$2:$AA$28,5,FALSE) -> 0 | AH7: =VLOOKUP($AC7, $C$2:$AA$28,6,FALSE) -> 0 | AI7: =VLOOKUP($AC7, $C$2:$AA$28,7,FALSE) -> 0 | AJ7: =VLOOKUP($AC7, $C$2:$AA$28,8,FALSE) -> 0 | AK7: =VLOOKUP($AC7, $C$2:$AA$28,9,FALSE) -> 0 | AL7: =VLOOKUP($AC7, $C$2:$AA$28,10,FALSE) -> 0 | AM7: =VLOOKUP($AC7, $C$2:$AA$28,11,FALSE) -> 0 | AN7: =VLOOKUP($AC7, $C$2:$AA$28,12,FALSE) -> 0 | AO7: =VLOOKUP($AC7, $C$2:$AA$28,13,FALSE) -> 0 | AP7: =VLOOKUP($AC7, $C$2:$AA$28,14,FALSE) -> 0 | AQ7: =VLOOKUP($AC7, $C$2:$AA$28,15,FALSE) -> 0 | AR7: =VLOOKUP($AC7, $C$2:$AA$28,16,FALSE) -> 0 | AS7: =VLOOKUP($AC7, $C$2:$AA$28,17,FALSE) -> 0 | AT7: =VLOOKUP($AC7, $C$2:$AA$28,18,FALSE) -> 0 | AU7: =VLOOKUP($AC7, $C$2:$AA$28,19,FALSE) -> 0 | AV7: =VLOOKUP($AC7, $C$2:$AA$28,20,FALSE) -> 0 | AW7: =VLOOKUP($AC7, $C$2:$AA$28,21,FALSE) -> 0 | AX7: =VLOOKUP($AC7, $C$2:$AA$28,22,FALSE) -> 0 | AY7: =VLOOKUP($AC7, $C$2:$AA$28,23,FALSE) -> 0 | AZ7: =VLOOKUP($AC7, $C$2:$AA$28,24,FALSE) -> 0 | BA7: =VLOOKUP($AC7, $C$2:$AA$28,25,FALSE) -> 0
C8: CAEN | D8: =G8*2+I8*3+K8*1 -> 0 | G8: =E8-I8 -> 0 | H8: =F8-J8 -> 0 | P8: =D7 -> 0 | Q8: =E7 -> 0 | R8: =F7 -> 0 | S8: =G7 -> 0 | T8: =H7 -> 0 | U8: =I7 -> 0 | V8: =J7 -> 0 | W8: =K7 -> 0 | ... AA8: =O7 -> 0 | AC8: CHALLANS | AD8: =VLOOKUP($AC8, $C$2:$AA$28,2,FALSE) -> 0 | AE8: =VLOOKUP($AC8, $C$2:$AA$28,3,FALSE) -> 0 | AF8: =VLOOKUP($AC8, $C$2:$AA$28,4,FALSE) -> 0 | AG8: =VLOOKUP($AC8, $C$2:$AA$28,5,FALSE) -> 0 | AH8: =VLOOKUP($AC8, $C$2:$AA$28,6,FALSE) -> 0 | AI8: =VLOOKUP($AC8, $C$2:$AA$28,7,FALSE) -> 0 | AJ8: =VLOOKUP($AC8, $C$2:$AA$28,8,FALSE) -> 0 | AK8: =VLOOKUP($AC8, $C$2:$AA$28,9,FALSE) -> 0 | AL8: =VLOOKUP($AC8, $C$2:$AA$28,10,FALSE) -> 0 | AM8: =VLOOKUP($AC8, $C$2:$AA$28,11,FALSE) -> 0 | AN8: =VLOOKUP($AC8, $C$2:$AA$28,12,FALSE) -> 0 | AO8: =VLOOKUP($AC8, $C$2:$AA$28,13,FALSE) -> 0 | AP8: =VLOOKUP($AC8, $C$2:$AA$28,14,FALSE) -> 0 | AQ8: =VLOOKUP($AC8, $C$2:$AA$28,15,FALSE) -> 0 | AR8: =VLOOKUP($AC8, $C$2:$AA$28,16,FALSE) -> 0 | AS8: =VLOOKUP($AC8, $C$2:$AA$28,17,FALSE) -> 0 | AT8: =VLOOKUP($AC8, $C$2:$AA$28,18,FALSE) -> 0 | AU8: =VLOOKUP($AC8, $C$2:$AA$28,19,FALSE) -> 0 | AV8: =VLOOKUP($AC8, $C$2:$AA$28,20,FALSE) -> 0 | AW8: =VLOOKUP($AC8, $C$2:$AA$28,21,FALSE) -> 0 | AX8: =VLOOKUP($AC8, $C$2:$AA$28,22,FALSE) -> 0 | AY8: =VLOOKUP($AC8, $C$2:$AA$28,23,FALSE) -> 0 | AZ8: =VLOOKUP($AC8, $C$2:$AA$28,24,FALSE) -> 0 | BA8: =VLOOKUP($AC8, $C$2:$AA$28,25,FALSE) -> 0
AC9: DAX | AD9: =VLOOKUP($AC9, $C$2:$AA$28,2,FALSE) -> 0 | AE9: =VLOOKUP($AC9, $C$2:$AA$28,3,FALSE) -> 0 | AF9: =VLOOKUP($AC9, $C$2:$AA$28,4,FALSE) -> 0 | AG9: =VLOOKUP($AC9, $C$2:$AA$28,5,FALSE) -> 0 | AH9: =VLOOKUP($AC9, $C$2:$AA$28,6,FALSE) -> 0 | AI9: =VLOOKUP($AC9, $C$2:$AA$28,7,FALSE) -> 0 | AJ9: =VLOOKUP($AC9, $C$2:$AA$28,8,FALSE) -> 0 | AK9: =VLOOKUP($AC9, $C$2:$AA$28,9,FALSE) -> 0 | AL9: =VLOOKUP($AC9, $C$2:$AA$28,10,FALSE) -> 0 | AM9: =VLOOKUP($AC9, $C$2:$AA$28,11,FALSE) -> 0 | AN9: =VLOOKUP($AC9, $C$2:$AA$28,12,FALSE) -> 0 | AO9: =VLOOKUP($AC9, $C$2:$AA$28,13,FALSE) -> 0 | AP9: =VLOOKUP($AC9, $C$2:$AA$28,14,FALSE) -> 0 | AQ9: =VLOOKUP($AC9, $C$2:$AA$28,15,FALSE) -> 0 | AR9: =VLOOKUP($AC9, $C$2:$AA$28,16,FALSE) -> 0 | AS9: =VLOOKUP($AC9, $C$2:$AA$28,17,FALSE) -> 0 | AT9: =VLOOKUP($AC9, $C$2:$AA$28,18,FALSE) -> 0 | AU9: =VLOOKUP($AC9, $C$2:$AA$28,19,FALSE) -> 0 | AV9: =VLOOKUP($AC9, $C$2:$AA$28,20,FALSE) -> 0 | AW9: =VLOOKUP($AC9, $C$2:$AA$28,21,FALSE) -> 0 | AX9: =VLOOKUP($AC9, $C$2:$AA$28,22,FALSE) -> 0 | AY9: =VLOOKUP($AC9, $C$2:$AA$28,23,FALSE) -> 0 | AZ9: =VLOOKUP($AC9, $C$2:$AA$28,24,FALSE) -> 0 | BA9: =VLOOKUP($AC9, $C$2:$AA$28,25,FALSE) -> 0
D10: SCORE | E10: TT | F10: TR | G10: TR2 | H10: TT2 | I10: TR3 | J10: TT3 | K10: LFR | L10: LFT | M10: BP | N10: ORB | O10: DRB | P10: Pts | Q10: TT | R10: TR | S10: TR2 | T10: TT2 | U10: TR3 | V10: TT3 | W10: LFR | X10: LFT | Y10: BP | Z10: ORB | AA10: DRB | AC10: LA ROCHELLE | AD10: =VLOOKUP($AC10, $C$2:$AA$28,2,FALSE) -> 0 | AE10: =VLOOKUP($AC10, $C$2:$AA$28,3,FALSE) -> 0 | AF10: =VLOOKUP($AC10, $C$2:$AA$28,4,FALSE) -> 0 | AG10: =VLOOKUP($AC10, $C$2:$AA$28,5,FALSE) -> 0 | AH10: =VLOOKUP($AC10, $C$2:$AA$28,6,FALSE) -> 0 | AI10: =VLOOKUP($AC10, $C$2:$AA$28,7,FALSE) -> 0 | AJ10: =VLOOKUP($AC10, $C$2:$AA$28,8,FALSE) -> 0 | AK10: =VLOOKUP($AC10, $C$2:$AA$28,9,FALSE) -> 0 | AL10: =VLOOKUP($AC10, $C$2:$AA$28,10,FALSE) -> 0 | AM10: =VLOOKUP($AC10, $C$2:$AA$28,11,FALSE) -> 0 | AN10: =VLOOKUP($AC10, $C$2:$AA$28,12,FALSE) -> 0 | AO10: =VLOOKUP($AC10, $C$2:$AA$28,13,FALSE) -> 0 | AP10: =VLOOKUP($AC10, $C$2:$AA$28,14,FALSE) -> 0 | AQ10: =VLOOKUP($AC10, $C$2:$AA$28,15,FALSE) -> 0 | AR10: =VLOOKUP($AC10, $C$2:$AA$28,16,FALSE) -> 0 | AS10: =VLOOKUP($AC10, $C$2:$AA$28,17,FALSE) -> 0 | AT10: =VLOOKUP($AC10, $C$2:$AA$28,18,FALSE) -> 0 | AU10: =VLOOKUP($AC10, $C$2:$AA$28,19,FALSE) -> 0 | AV10: =VLOOKUP($AC10, $C$2:$AA$28,20,FALSE) -> 0 | AW10: =VLOOKUP($AC10, $C$2:$AA$28,21,FALSE) -> 0 | AX10: =VLOOKUP($AC10, $C$2:$AA$28,22,FALSE) -> 0 | AY10: =VLOOKUP($AC10, $C$2:$AA$28,23,FALSE) -> 0 | AZ10: =VLOOKUP($AC10, $C$2:$AA$28,24,FALSE) -> 0 | BA10: =VLOOKUP($AC10, $C$2:$AA$28,25,FALSE) -> 0
B11: MATCH 3 | C11: ANGERS | D11: =G11*2+I11*3+K11*1 -> 0 | G11: =E11-I11 -> 0 | H11: =F11-J11 -> 0 | P11: =D12 -> 0 | Q11: =E12 -> 0 | R11: =F12 -> 0 | S11: =G12 -> 0 | T11: =H12 -> 0 | U11: =I12 -> 0 | V11: =J12 -> 0 | W11: =K12 -> 0 | ... AA11: =O12 -> 0 | AC11: LE HAVRE | AD11: =VLOOKUP($AC11, $C$2:$AA$28,2,FALSE) -> 0 | AE11: =VLOOKUP($AC11, $C$2:$AA$28,3,FALSE) -> 0 | AF11: =VLOOKUP($AC11, $C$2:$AA$28,4,FALSE) -> 0 | AG11: =VLOOKUP($AC11, $C$2:$AA$28,5,FALSE) -> 0 | AH11: =VLOOKUP($AC11, $C$2:$AA$28,6,FALSE) -> 0 | AI11: =VLOOKUP($AC11, $C$2:$AA$28,7,FALSE) -> 0 | AJ11: =VLOOKUP($AC11, $C$2:$AA$28,8,FALSE) -> 0 | AK11: =VLOOKUP($AC11, $C$2:$AA$28,9,FALSE) -> 0 | AL11: =VLOOKUP($AC11, $C$2:$AA$28,10,FALSE) -> 0 | AM11: =VLOOKUP($AC11, $C$2:$AA$28,11,FALSE) -> 0 | AN11: =VLOOKUP($AC11, $C$2:$AA$28,12,FALSE) -> 0 | AO11: =VLOOKUP($AC11, $C$2:$AA$28,13,FALSE) -> 0 | AP11: =VLOOKUP($AC11, $C$2:$AA$28,14,FALSE) -> 0 | AQ11: =VLOOKUP($AC11, $C$2:$AA$28,15,FALSE) -> 0 | AR11: =VLOOKUP($AC11, $C$2:$AA$28,16,FALSE) -> 0 | AS11: =VLOOKUP($AC11, $C$2:$AA$28,17,FALSE) -> 0 | AT11: =VLOOKUP($AC11, $C$2:$AA$28,18,FALSE) -> 0 | AU11: =VLOOKUP($AC11, $C$2:$AA$28,19,FALSE) -> 0 | AV11: =VLOOKUP($AC11, $C$2:$AA$28,20,FALSE) -> 0 | AW11: =VLOOKUP($AC11, $C$2:$AA$28,21,FALSE) -> 0 | AX11: =VLOOKUP($AC11, $C$2:$AA$28,22,FALSE) -> 0 | AY11: =VLOOKUP($AC11, $C$2:$AA$28,23,FALSE) -> 0 | AZ11: =VLOOKUP($AC11, $C$2:$AA$28,24,FALSE) -> 0 | BA11: =VLOOKUP($AC11, $C$2:$AA$28,25,FALSE) -> 0
C12: TOURS | D12: =G12*2+I12*3+K12*1 -> 0 | G12: =E12-I12 -> 0 | H12: =F12-J12 -> 0 | P12: =D11 -> 0 | Q12: =E11 -> 0 | R12: =F11 -> 0 | S12: =G11 -> 0 | T12: =H11 -> 0 | U12: =I11 -> 0 | V12: =J11 -> 0 | W12: =K11 -> 0 | ... AA12: =O11 -> 0 | AC12: LORIENT | AD12: =VLOOKUP($AC12, $C$2:$AA$28,2,FALSE) -> 0 | AE12: =VLOOKUP($AC12, $C$2:$AA$28,3,FALSE) -> 0 | AF12: =VLOOKUP($AC12, $C$2:$AA$28,4,FALSE) -> 0 | AG12: =VLOOKUP($AC12, $C$2:$AA$28,5,FALSE) -> 0 | AH12: =VLOOKUP($AC12, $C$2:$AA$28,6,FALSE) -> 0 | AI12: =VLOOKUP($AC12, $C$2:$AA$28,7,FALSE) -> 0 | AJ12: =VLOOKUP($AC12, $C$2:$AA$28,8,FALSE) -> 0 | AK12: =VLOOKUP($AC12, $C$2:$AA$28,9,FALSE) -> 0 | AL12: =VLOOKUP($AC12, $C$2:$AA$28,10,FALSE) -> 0 | AM12: =VLOOKUP($AC12, $C$2:$AA$28,11,FALSE) -> 0 | AN12: =VLOOKUP($AC12, $C$2:$AA$28,12,FALSE) -> 0 | AO12: =VLOOKUP($AC12, $C$2:$AA$28,13,FALSE) -> 0 | AP12: =VLOOKUP($AC12, $C$2:$AA$28,14,FALSE) -> 0 | AQ12: =VLOOKUP($AC12, $C$2:$AA$28,15,FALSE) -> 0 | AR12: =VLOOKUP($AC12, $C$2:$AA$28,16,FALSE) -> 0 | AS12: =VLOOKUP($AC12, $C$2:$AA$28,17,FALSE) -> 0 | AT12: =VLOOKUP($AC12, $C$2:$AA$28,18,FALSE) -> 0 | AU12: =VLOOKUP($AC12, $C$2:$AA$28,19,FALSE) -> 0 | AV12: =VLOOKUP($AC12, $C$2:$AA$28,20,FALSE) -> 0 | AW12: =VLOOKUP($AC12, $C$2:$AA$28,21,FALSE) -> 0 | AX12: =VLOOKUP($AC12, $C$2:$AA$28,22,FALSE) -> 0 | AY12: =VLOOKUP($AC12, $C$2:$AA$28,23,FALSE) -> 0 | AZ12: =VLOOKUP($AC12, $C$2:$AA$28,24,FALSE) -> 0 | BA12: =VLOOKUP($AC12, $C$2:$AA$28,25,FALSE) -> 0
AC13: TARBES | AD13: =VLOOKUP($AC13, $C$2:$AA$28,2,FALSE) -> 0 | AE13: =VLOOKUP($AC13, $C$2:$AA$28,3,FALSE) -> 0 | AF13: =VLOOKUP($AC13, $C$2:$AA$28,4,FALSE) -> 0 | AG13: =VLOOKUP($AC13, $C$2:$AA$28,5,FALSE) -> 0 | AH13: =VLOOKUP($AC13, $C$2:$AA$28,6,FALSE) -> 0 | AI13: =VLOOKUP($AC13, $C$2:$AA$28,7,FALSE) -> 0 | AJ13: =VLOOKUP($AC13, $C$2:$AA$28,8,FALSE) -> 0 | AK13: =VLOOKUP($AC13, $C$2:$AA$28,9,FALSE) -> 0 | AL13: =VLOOKUP($AC13, $C$2:$AA$28,10,FALSE) -> 0 | AM13: =VLOOKUP($AC13, $C$2:$AA$28,11,FALSE) -> 0 | AN13: =VLOOKUP($AC13, $C$2:$AA$28,12,FALSE) -> 0 | AO13: =VLOOKUP($AC13, $C$2:$AA$28,13,FALSE) -> 0 | AP13: =VLOOKUP($AC13, $C$2:$AA$28,14,FALSE) -> 0 | AQ13: =VLOOKUP($AC13, $C$2:$AA$28,15,FALSE) -> 0 | AR13: =VLOOKUP($AC13, $C$2:$AA$28,16,FALSE) -> 0 | AS13: =VLOOKUP($AC13, $C$2:$AA$28,17,FALSE) -> 0 | AT13: =VLOOKUP($AC13, $C$2:$AA$28,18,FALSE) -> 0 | AU13: =VLOOKUP($AC13, $C$2:$AA$28,19,FALSE) -> 0 | AV13: =VLOOKUP($AC13, $C$2:$AA$28,20,FALSE) -> 0 | AW13: =VLOOKUP($AC13, $C$2:$AA$28,21,FALSE) -> 0 | AX13: =VLOOKUP($AC13, $C$2:$AA$28,22,FALSE) -> 0 | AY13: =VLOOKUP($AC13, $C$2:$AA$28,23,FALSE) -> 0 | AZ13: =VLOOKUP($AC13, $C$2:$AA$28,24,FALSE) -> 0 | BA13: =VLOOKUP($AC13, $C$2:$AA$28,25,FALSE) -> 0
D14: SCORE | E14: TT | F14: TR | G14: TR2 | H14: TT2 | I14: TR3 | J14: TT3 | K14: LFR | L14: LFT | M14: BP | N14: ORB | O14: DRB | P14: Pts | Q14: TT | R14: TR | S14: TR2 | T14: TT2 | U14: TR3 | V14: TT3 | W14: LFR | X14: LFT | Y14: BP | Z14: ORB | AA14: DRB | AC14: TOULOUSE | AD14: =VLOOKUP($AC14, $C$2:$AA$28,2,FALSE) -> 0 | AE14: =VLOOKUP($AC14, $C$2:$AA$28,3,FALSE) -> 0 | AF14: =VLOOKUP($AC14, $C$2:$AA$28,4,FALSE) -> 0 | AG14: =VLOOKUP($AC14, $C$2:$AA$28,5,FALSE) -> 0 | AH14: =VLOOKUP($AC14, $C$2:$AA$28,6,FALSE) -> 0 | AI14: =VLOOKUP($AC14, $C$2:$AA$28,7,FALSE) -> 0 | AJ14: =VLOOKUP($AC14, $C$2:$AA$28,8,FALSE) -> 0 | AK14: =VLOOKUP($AC14, $C$2:$AA$28,9,FALSE) -> 0 | AL14: =VLOOKUP($AC14, $C$2:$AA$28,10,FALSE) -> 0 | AM14: =VLOOKUP($AC14, $C$2:$AA$28,11,FALSE) -> 0 | AN14: =VLOOKUP($AC14, $C$2:$AA$28,12,FALSE) -> 0 | AO14: =VLOOKUP($AC14, $C$2:$AA$28,13,FALSE) -> 0 | AP14: =VLOOKUP($AC14, $C$2:$AA$28,14,FALSE) -> 0 | AQ14: =VLOOKUP($AC14, $C$2:$AA$28,15,FALSE) -> 0 | AR14: =VLOOKUP($AC14, $C$2:$AA$28,16,FALSE) -> 0 | AS14: =VLOOKUP($AC14, $C$2:$AA$28,17,FALSE) -> 0 | AT14: =VLOOKUP($AC14, $C$2:$AA$28,18,FALSE) -> 0 | AU14: =VLOOKUP($AC14, $C$2:$AA$28,19,FALSE) -> 0 | AV14: =VLOOKUP($AC14, $C$2:$AA$28,20,FALSE) -> 0 | AW14: =VLOOKUP($AC14, $C$2:$AA$28,21,FALSE) -> 0 | AX14: =VLOOKUP($AC14, $C$2:$AA$28,22,FALSE) -> 0 | AY14: =VLOOKUP($AC14, $C$2:$AA$28,23,FALSE) -> 0 | AZ14: =VLOOKUP($AC14, $C$2:$AA$28,24,FALSE) -> 0 | BA14: =VLOOKUP($AC14, $C$2:$AA$28,25,FALSE) -> 0
B15: MATCH 4 | C15: TARBES | D15: =G15*2+I15*3+K15*1 -> 0 | G15: =E15-I15 -> 0 | H15: =F15-J15 -> 0 | P15: =D16 -> 0 | Q15: =E16 -> 0 | R15: =F16 -> 0 | S15: =G16 -> 0 | T15: =H16 -> 0 | U15: =I16 -> 0 | V15: =J16 -> 0 | W15: =K16 -> 0 | ... AA15: =O16 -> 0 | AC15: TOURS | AD15: =VLOOKUP($AC15, $C$2:$AA$28,2,FALSE) -> 0 | AE15: =VLOOKUP($AC15, $C$2:$AA$28,3,FALSE) -> 0 | AF15: =VLOOKUP($AC15, $C$2:$AA$28,4,FALSE) -> 0 | AG15: =VLOOKUP($AC15, $C$2:$AA$28,5,FALSE) -> 0 | AH15: =VLOOKUP($AC15, $C$2:$AA$28,6,FALSE) -> 0 | AI15: =VLOOKUP($AC15, $C$2:$AA$28,7,FALSE) -> 0 | AJ15: =VLOOKUP($AC15, $C$2:$AA$28,8,FALSE) -> 0 | AK15: =VLOOKUP($AC15, $C$2:$AA$28,9,FALSE) -> 0 | AL15: =VLOOKUP($AC15, $C$2:$AA$28,10,FALSE) -> 0 | AM15: =VLOOKUP($AC15, $C$2:$AA$28,11,FALSE) -> 0 | AN15: =VLOOKUP($AC15, $C$2:$AA$28,12,FALSE) -> 0 | AO15: =VLOOKUP($AC15, $C$2:$AA$28,13,FALSE) -> 0 | AP15: =VLOOKUP($AC15, $C$2:$AA$28,14,FALSE) -> 0 | AQ15: =VLOOKUP($AC15, $C$2:$AA$28,15,FALSE) -> 0 | AR15: =VLOOKUP($AC15, $C$2:$AA$28,16,FALSE) -> 0 | AS15: =VLOOKUP($AC15, $C$2:$AA$28,17,FALSE) -> 0 | AT15: =VLOOKUP($AC15, $C$2:$AA$28,18,FALSE) -> 0 | AU15: =VLOOKUP($AC15, $C$2:$AA$28,19,FALSE) -> 0 | AV15: =VLOOKUP($AC15, $C$2:$AA$28,20,FALSE) -> 0 | AW15: =VLOOKUP($AC15, $C$2:$AA$28,21,FALSE) -> 0 | AX15: =VLOOKUP($AC15, $C$2:$AA$28,22,FALSE) -> 0 | AY15: =VLOOKUP($AC15, $C$2:$AA$28,23,FALSE) -> 0 | AZ15: =VLOOKUP($AC15, $C$2:$AA$28,24,FALSE) -> 0 | BA15: =VLOOKUP($AC15, $C$2:$AA$28,25,FALSE) -> 0
C16: LORIENT | D16: =G16*2+I16*3+K16*1 -> 0 | G16: =E16-I16 -> 0 | H16: =F16-J16 -> 0 | P16: =D15 -> 0 | Q16: =E15 -> 0 | R16: =F15 -> 0 | S16: =G15 -> 0 | T16: =H15 -> 0 | U16: =I15 -> 0 | V16: =J15 -> 0 | W16: =K15 -> 0 | ... AA16: =O15 -> 0 | AC16: VANVES | AD16: =VLOOKUP($AC16, $C$2:$AA$28,2,FALSE) -> 0 | AE16: =VLOOKUP($AC16, $C$2:$AA$28,3,FALSE) -> 0 | AF16: =VLOOKUP($AC16, $C$2:$AA$28,4,FALSE) -> 0 | AG16: =VLOOKUP($AC16, $C$2:$AA$28,5,FALSE) -> 0 | AH16: =VLOOKUP($AC16, $C$2:$AA$28,6,FALSE) -> 0 | AI16: =VLOOKUP($AC16, $C$2:$AA$28,7,FALSE) -> 0 | AJ16: =VLOOKUP($AC16, $C$2:$AA$28,8,FALSE) -> 0 | AK16: =VLOOKUP($AC16, $C$2:$AA$28,9,FALSE) -> 0 | AL16: =VLOOKUP($AC16, $C$2:$AA$28,10,FALSE) -> 0 | AM16: =VLOOKUP($AC16, $C$2:$AA$28,11,FALSE) -> 0 | AN16: =VLOOKUP($AC16, $C$2:$AA$28,12,FALSE) -> 0 | AO16: =VLOOKUP($AC16, $C$2:$AA$28,13,FALSE) -> 0 | AP16: =VLOOKUP($AC16, $C$2:$AA$28,14,FALSE) -> 0 | AQ16: =VLOOKUP($AC16, $C$2:$AA$28,15,FALSE) -> 0 | AR16: =VLOOKUP($AC16, $C$2:$AA$28,16,FALSE) -> 0 | AS16: =VLOOKUP($AC16, $C$2:$AA$28,17,FALSE) -> 0 | AT16: =VLOOKUP($AC16, $C$2:$AA$28,18,FALSE) -> 0 | AU16: =VLOOKUP($AC16, $C$2:$AA$28,19,FALSE) -> 0 | AV16: =VLOOKUP($AC16, $C$2:$AA$28,20,FALSE) -> 0 | AW16: =VLOOKUP($AC16, $C$2:$AA$28,21,FALSE) -> 0 | AX16: =VLOOKUP($AC16, $C$2:$AA$28,22,FALSE) -> 0 | AY16: =VLOOKUP($AC16, $C$2:$AA$28,23,FALSE) -> 0 | AZ16: =VLOOKUP($AC16, $C$2:$AA$28,24,FALSE) -> 0 | BA16: =VLOOKUP($AC16, $C$2:$AA$28,25,FALSE) -> 0
AC17: VITRE | AD17: =VLOOKUP($AC17, $C$2:$AA$28,2,FALSE) -> 0 | AE17: =VLOOKUP($AC17, $C$2:$AA$28,3,FALSE) -> 0 | AF17: =VLOOKUP($AC17, $C$2:$AA$28,4,FALSE) -> 0 | AG17: =VLOOKUP($AC17, $C$2:$AA$28,5,FALSE) -> 0 | AH17: =VLOOKUP($AC17, $C$2:$AA$28,6,FALSE) -> 0 | AI17: =VLOOKUP($AC17, $C$2:$AA$28,7,FALSE) -> 0 | AJ17: =VLOOKUP($AC17, $C$2:$AA$28,8,FALSE) -> 0 | AK17: =VLOOKUP($AC17, $C$2:$AA$28,9,FALSE) -> 0 | AL17: =VLOOKUP($AC17, $C$2:$AA$28,10,FALSE) -> 0 | AM17: =VLOOKUP($AC17, $C$2:$AA$28,11,FALSE) -> 0 | AN17: =VLOOKUP($AC17, $C$2:$AA$28,12,FALSE) -> 0 | AO17: =VLOOKUP($AC17, $C$2:$AA$28,13,FALSE) -> 0 | AP17: =VLOOKUP($AC17, $C$2:$AA$28,14,FALSE) -> 0 | AQ17: =VLOOKUP($AC17, $C$2:$AA$28,15,FALSE) -> 0 | AR17: =VLOOKUP($AC17, $C$2:$AA$28,16,FALSE) -> 0 | AS17: =VLOOKUP($AC17, $C$2:$AA$28,17,FALSE) -> 0 | AT17: =VLOOKUP($AC17, $C$2:$AA$28,18,FALSE) -> 0 | AU17: =VLOOKUP($AC17, $C$2:$AA$28,19,FALSE) -> 0 | AV17: =VLOOKUP($AC17, $C$2:$AA$28,20,FALSE) -> 0 | AW17: =VLOOKUP($AC17, $C$2:$AA$28,21,FALSE) -> 0 | AX17: =VLOOKUP($AC17, $C$2:$AA$28,22,FALSE) -> 0 | AY17: =VLOOKUP($AC17, $C$2:$AA$28,23,FALSE) -> 0 | AZ17: =VLOOKUP($AC17, $C$2:$AA$28,24,FALSE) -> 0 | BA17: =VLOOKUP($AC17, $C$2:$AA$28,25,FALSE) -> 0
D18: SCORE | E18: TT | F18: TR | G18: TR2 | H18: TT2 | I18: TR3 | J18: TT3 | K18: LFR | L18: LFT | M18: BP | N18: ORB | O18: DRB | P18: Pts | Q18: TT | R18: TR | S18: TR2 | T18: TT2 | U18: TR3 | V18: TT3 | W18: LFR | X18: LFT | Y18: BP | Z18: ORB | AA18: DRB
B19: MATCH 5 | C19: TOULOUSE | D19: =G19*2+I19*3+K19*1 -> 0 | G19: =E19-I19 -> 0 | H19: =F19-J19 -> 0 | P19: =D20 -> 0 | Q19: =E20 -> 0 | R19: =F20 -> 0 | S19: =G20 -> 0 | T19: =H20 -> 0 | U19: =I20 -> 0 | V19: =J20 -> 0 | W19: =K20 -> 0 | ... AA19: =O20 -> 0
C20: DAX | D20: =G20*2+I20*3+K20*1 -> 0 | G20: =E20-I20 -> 0 | H20: =F20-J20 -> 0 | P20: =D19 -> 0 | Q20: =E19 -> 0 | R20: =F19 -> 0 | S20: =G19 -> 0 | T20: =H19 -> 0 | U20: =I19 -> 0 | V20: =J19 -> 0 | W20: =K19 -> 0 | ... AA20: =O19 -> 0
D22: SCORE | E22: TT | F22: TR | G22: TR2 | H22: TT2 | I22: TR3 | J22: TT3 | K22: LFR | L22: LFT | M22: BP | N22: ORB | O22: DRB | P22: Pts | Q22: TT | R22: TR | S22: TR2 | T22: TT2 | U22: TR3 | V22: TT3 | W22: LFR | X22: LFT | Y22: BP | Z22: ORB | AA22: DRB
B23: MATCH 6 | C23: BORDEAUX | D23: =G23*2+I23*3+K23*1 -> 0 | G23: =E23-I23 -> 0 | H23: =F23-J23 -> 0 | P23: =D24 -> 0 | Q23: =E24 -> 0 | R23: =F24 -> 0 | S23: =G24 -> 0 | T23: =H24 -> 0 | U23: =I24 -> 0 | V23: =J24 -> 0 | W23: =K24 -> 0 | ... AA23: =O24 -> 0
C24: CHALLANS | D24: =G24*2+I24*3+K24*1 -> 0 | G24: =E24-I24 -> 0 | H24: =F24-J24 -> 0 | P24: =D23 -> 0 | Q24: =E23 -> 0 | R24: =F23 -> 0 | S24: =G23 -> 0 | T24: =H23 -> 0 | U24: =I23 -> 0 | V24: =J23 -> 0 | W24: =K23 -> 0 | ... AA24: =O23 -> 0
D26: SCORE | E26: TT | F26: TR | G26: TR2 | H26: TT2 | I26: TR3 | J26: TT3 | K26: LFR | L26: LFT | M26: BP | N26: ORB | O26: DRB | P26: Pts | Q26: TT | R26: TR | S26: TR2 | T26: TT2 | U26: TR3 | V26: TT3 | W26: LFR | X26: LFT | Y26: BP | Z26: ORB | AA26: DRB
B27: MATCH 7 | C27: VANVES | D27: =G27*2+I27*3+K27*1 -> 0 | G27: =E27-I27 -> 0 | H27: =F27-J27 -> 0 | P27: =D28 -> 0 | Q27: =E28 -> 0 | R27: =F28 -> 0 | S27: =G28 -> 0 | T27: =H28 -> 0 | U27: =I28 -> 0 | V27: =J28 -> 0 | W27: =K28 -> 0 | ... AA27: =O28 -> 0
C28: VITRE | D28: =G28*2+I28*3+K28*1 -> 0 | G28: =E28-I28 -> 0 | H28: =F28-J28 -> 0 | P28: =D27 -> 0 | Q28: =E27 -> 0 | R28: =F27 -> 0 | S28: =G27 -> 0 | T28: =H27 -> 0 | U28: =I27 -> 0 | V28: =J27 -> 0 | W28: =K27 -> 0 | ... AA28: =O27 -> 0

Sheet J6
D2: SCORE | E2: TT | F2: TR | G2: TR2 | H2: TT2 | I2: TR3 | J2: TT3 | K2: LFR | L2: LFT | M2: BP | N2: ORB | O2: DRB | P2: Pts | Q2: TT | R2: TR | S2: TR2 | T2: TT2 | U2: TR3 | V2: TT3 | W2: LFR | X2: LFT | Y2: BP | Z2: ORB | AA2: DRB
B3: MATCH 1 | C3: LE HAVRE | D3: =G3*2+I3*3+K3*1 -> 0 | G3: =E3-I3 -> 0 | H3: =F3-J3 -> 0 | P3: =D4 -> 0 | Q3: =E4 -> 0 | R3: =F4 -> 0 | S3: =G4 -> 0 | T3: =H4 -> 0 | U3: =I4 -> 0 | V3: =J4 -> 0 | W3: =K4 -> 0 | ... AA3: =O4 -> 0 | AD3: PTS | AE3: TR | AF3: TT | AG3: TR2 | AH3: TT2 | AI3: TR3 | AJ3: TT3 | AK3: LFR | AL3: LFT | AM3: BP | AN3: ORB | AO3: DRB | AP3: Pts | AQ3: TT | AR3: TR | AS3: TR2 | AT3: TT2 | AU3: TR3 | AV3: TT3 | AW3: LFR | AX3: LFT | AY3: BP | AZ3: ORB | BA3: DRB
C4: BOULOGNE | D4: =G4*2+I4*3+K4*1 -> 0 | G4: =E4-I4 -> 0 | H4: =F4-J4 -> 0 | P4: =D3 -> 0 | Q4: =E3 -> 0 | R4: =F3 -> 0 | S4: =G3 -> 0 | T4: =H3 -> 0 | U4: =I3 -> 0 | V4: =J3 -> 0 | W4: =K3 -> 0 | ... AA4: =O3 -> 0 | AC4: ANGERS | AD4: =VLOOKUP($AC4, $C$2:$AA$28,2,FALSE) -> 0 | AE4: =VLOOKUP($AC4, $C$2:$AA$28,3,FALSE) -> 0 | AF4: =VLOOKUP($AC4, $C$2:$AA$28,4,FALSE) -> 0 | AG4: =VLOOKUP($AC4, $C$2:$AA$28,5,FALSE) -> 0 | AH4: =VLOOKUP($AC4, $C$2:$AA$28,6,FALSE) -> 0 | AI4: =VLOOKUP($AC4, $C$2:$AA$28,7,FALSE) -> 0 | AJ4: =VLOOKUP($AC4, $C$2:$AA$28,8,FALSE) -> 0 | AK4: =VLOOKUP($AC4, $C$2:$AA$28,9,FALSE) -> 0 | AL4: =VLOOKUP($AC4, $C$2:$AA$28,10,FALSE) -> 0 | AM4: =VLOOKUP($AC4, $C$2:$AA$28,11,FALSE) -> 0 | AN4: =VLOOKUP($AC4, $C$2:$AA$28,12,FALSE) -> 0 | AO4: =VLOOKUP($AC4, $C$2:$AA$28,13,FALSE) -> 0 | AP4: =VLOOKUP($AC4, $C$2:$AA$28,14,FALSE) -> 0 | AQ4: =VLOOKUP($AC4, $C$2:$AA$28,15,FALSE) -> 0 | AR4: =VLOOKUP($AC4, $C$2:$AA$28,16,FALSE) -> 0 | AS4: =VLOOKUP($AC4, $C$2:$AA$28,17,FALSE) -> 0 | AT4: =VLOOKUP($AC4, $C$2:$AA$28,18,FALSE) -> 0 | AU4: =VLOOKUP($AC4, $C$2:$AA$28,19,FALSE) -> 0 | AV4: =VLOOKUP($AC4, $C$2:$AA$28,20,FALSE) -> 0 | AW4: =VLOOKUP($AC4, $C$2:$AA$28,21,FALSE) -> 0 | AX4: =VLOOKUP($AC4, $C$2:$AA$28,22,FALSE) -> 0 | AY4: =VLOOKUP($AC4, $C$2:$AA$28,23,FALSE) -> 0 | AZ4: =VLOOKUP($AC4, $C$2:$AA$28,24,FALSE) -> 0 | BA4: =VLOOKUP($AC4, $C$2:$AA$28,25,FALSE) -> 0
AC5: BORDEAUX | AD5: =VLOOKUP($AC5, $C$2:$AA$28,2,FALSE) -> 0 | AE5: =VLOOKUP($AC5, $C$2:$AA$28,3,FALSE) -> 0 | AF5: =VLOOKUP($AC5, $C$2:$AA$28,4,FALSE) -> 0 | AG5: =VLOOKUP($AC5, $C$2:$AA$28,5,FALSE) -> 0 | AH5: =VLOOKUP($AC5, $C$2:$AA$28,6,FALSE) -> 0 | AI5: =VLOOKUP($AC5, $C$2:$AA$28,7,FALSE) -> 0 | AJ5: =VLOOKUP($AC5, $C$2:$AA$28,8,FALSE) -> 0 | AK5: =VLOOKUP($AC5, $C$2:$AA$28,9,FALSE) -> 0 | AL5: =VLOOKUP($AC5, $C$2:$AA$28,10,FALSE) -> 0 | AM5: =VLOOKUP($AC5, $C$2:$AA$28,11,FALSE) -> 0 | AN5: =VLOOKUP($AC5, $C$2:$AA$28,12,FALSE) -> 0 | AO5: =VLOOKUP($AC5, $C$2:$AA$28,13,FALSE) -> 0 | AP5: =VLOOKUP($AC5, $C$2:$AA$28,14,FALSE) -> 0 | AQ5: =VLOOKUP($AC5, $C$2:$AA$28,15,FALSE) -> 0 | AR5: =VLOOKUP($AC5, $C$2:$AA$28,16,FALSE) -> 0 | AS5: =VLOOKUP($AC5, $C$2:$AA$28,17,FALSE) -> 0 | AT5: =VLOOKUP($AC5, $C$2:$AA$28,18,FALSE) -> 0 | AU5: =VLOOKUP($AC5, $C$2:$AA$28,19,FALSE) -> 0 | AV5: =VLOOKUP($AC5, $C$2:$AA$28,20,FALSE) -> 0 | AW5: =VLOOKUP($AC5, $C$2:$AA$28,21,FALSE) -> 0 | AX5: =VLOOKUP($AC5, $C$2:$AA$28,22,FALSE) -> 0 | AY5: =VLOOKUP($AC5, $C$2:$AA$28,23,FALSE) -> 0 | AZ5: =VLOOKUP($AC5, $C$2:$AA$28,24,FALSE) -> 0 | BA5: =VLOOKUP($AC5, $C$2:$AA$28,25,FALSE) -> 0
D6: SCORE | E6: TT | F6: TR | G6: TR2 | H6: TT2 | I6: TR3 | J6: TT3 | K6: LFR | L6: LFT | M6: BP | N6: ORB | O6: DRB | P6: Pts | Q6: TT | R6: TR | S6: TR2 | T6: TT2 | U6: TR3 | V6: TT3 | W6: LFR | X6: LFT | Y6: BP | Z6: ORB | AA6: DRB | AC6: BOULOGNE | AD6: =VLOOKUP($AC6, $C$2:$AA$28,2,FALSE) -> 0 | AE6: =VLOOKUP($AC6, $C$2:$AA$28,3,FALSE) -> 0 | AF6: =VLOOKUP($AC6, $C$2:$AA$28,4,FALSE) -> 0 | AG6: =VLOOKUP($AC6, $C$2:$AA$28,5,FALSE) -> 0 | AH6: =VLOOKUP($AC6, $C$2:$AA$28,6,FALSE) -> 0 | AI6: =VLOOKUP($AC6, $C$2:$AA$28,7,FALSE) -> 0 | AJ6: =VLOOKUP($AC6, $C$2:$AA$28,8,FALSE) -> 0 | AK6: =VLOOKUP($AC6, $C$2:$AA$28,9,FALSE) -> 0 | AL6: =VLOOKUP($AC6, $C$2:$AA$28,10,FALSE) -> 0 | AM6: =VLOOKUP($AC6, $C$2:$AA$28,11,FALSE) -> 0 | AN6: =VLOOKUP($AC6, $C$2:$AA$28,12,FALSE) -> 0 | AO6: =VLOOKUP($AC6, $C$2:$AA$28,13,FALSE) -> 0 | AP6: =VLOOKUP($AC6, $C$2:$AA$28,14,FALSE) -> 0 | AQ6: =VLOOKUP($AC6, $C$2:$AA$28,15,FALSE) -> 0 | AR6: =VLOOKUP($AC6, $C$2:$AA$28,16,FALSE) -> 0 | AS6: =VLOOKUP($AC6, $C$2:$AA$28,17,FALSE) -> 0 | AT6: =VLOOKUP($AC6, $C$2:$AA$28,18,FALSE) -> 0 | AU6: =VLOOKUP($AC6, $C$2:$AA$28,19,FALSE) -> 0 | AV6: =VLOOKUP($AC6, $C$2:$AA$28,20,FALSE) -> 0 | AW6: =VLOOKUP($AC6, $C$2:$AA$28,21,FALSE) -> 0 | AX6: =VLOOKUP($AC6, $C$2:$AA$28,22,FALSE) -> 0 | AY6: =VLOOKUP($AC6, $C$2:$AA$28,23,FALSE) -> 0 | AZ6: =VLOOKUP($AC6, $C$2:$AA$28,24,FALSE) -> 0 | BA6: =VLOOKUP($AC6, $C$2:$AA$28,25,FALSE) -> 0
B7: MATCH 2 | C7: LA ROCHELLE | D7: =G7*2+I7*3+K7*1 -> 0 | G7: =E7-I7 -> 0 | H7: =F7-J7 -> 0 | P7: =D8 -> 0 | Q7: =E8 -> 0 | R7: =F8 -> 0 | S7: =G8 -> 0 | T7: =H8 -> 0 | U7: =I8 -> 0 | V7: =J8 -> 0 | W7: =K8 -> 0 | ... AA7: =O8 -> 0 | AC7: CAEN | AD7: =VLOOKUP($AC7, $C$2:$AA$28,2,FALSE) -> 0 | AE7: =VLOOKUP($AC7, $C$2:$AA$28,3,FALSE) -> 0 | AF7: =VLOOKUP($AC7, $C$2:$AA$28,4,FALSE) -> 0 | AG7: =VLOOKUP($AC7, $C$2:$AA$28,5,FALSE) -> 0 | AH7: =VLOOKUP($AC7, $C$2:$AA$28,6,FALSE) -> 0 | AI7: =VLOOKUP($AC7, $C$2:$AA$28,7,FALSE) -> 0 | AJ7: =VLOOKUP($AC7, $C$2:$AA$28,8,FALSE) -> 0 | AK7: =VLOOKUP($AC7, $C$2:$AA$28,9,FALSE) -> 0 | AL7: =VLOOKUP($AC7, $C$2:$AA$28,10,FALSE) -> 0 | AM7: =VLOOKUP($AC7, $C$2:$AA$28,11,FALSE) -> 0 | AN7: =VLOOKUP($AC7, $C$2:$AA$28,12,FALSE) -> 0 | AO7: =VLOOKUP($AC7, $C$2:$AA$28,13,FALSE) -> 0 | AP7: =VLOOKUP($AC7, $C$2:$AA$28,14,FALSE) -> 0 | AQ7: =VLOOKUP($AC7, $C$2:$AA$28,15,FALSE) -> 0 | AR7: =VLOOKUP($AC7, $C$2:$AA$28,16,FALSE) -> 0 | AS7: =VLOOKUP($AC7, $C$2:$AA$28,17,FALSE) -> 0 | AT7: =VLOOKUP($AC7, $C$2:$AA$28,18,FALSE) -> 0 | AU7: =VLOOKUP($AC7, $C$2:$AA$28,19,FALSE) -> 0 | AV7: =VLOOKUP($AC7, $C$2:$AA$28,20,FALSE) -> 0 | AW7: =VLOOKUP($AC7, $C$2:$AA$28,21,FALSE) -> 0 | AX7: =VLOOKUP($AC7, $C$2:$AA$28,22,FALSE) -> 0 | AY7: =VLOOKUP($AC7, $C$2:$AA$28,23,FALSE) -> 0 | AZ7: =VLOOKUP($AC7, $C$2:$AA$28,24,FALSE) -> 0 | BA7: =VLOOKUP($AC7, $C$2:$AA$28,25,FALSE) -> 0
C8: CAEN | D8: =G8*2+I8*3+K8*1 -> 0 | G8: =E8-I8 -> 0 | H8: =F8-J8 -> 0 | P8: =D7 -> 0 | Q8: =E7 -> 0 | R8: =F7 -> 0 | S8: =G7 -> 0 | T8: =H7 -> 0 | U8: =I7 -> 0 | V8: =J7 -> 0 | W8: =K7 -> 0 | ... AA8: =O7 -> 0 | AC8: CHALLANS | AD8: =VLOOKUP($AC8, $C$2:$AA$28,2,FALSE) -> 0 | AE8: =VLOOKUP($AC8, $C$2:$AA$28,3,FALSE) -> 0 | AF8: =VLOOKUP($AC8, $C$2:$AA$28,4,FALSE) -> 0 | AG8: =VLOOKUP($AC8, $C$2:$AA$28,5,FALSE) -> 0 | AH8: =VLOOKUP($AC8, $C$2:$AA$28,6,FALSE) -> 0 | AI8: =VLOOKUP($AC8, $C$2:$AA$28,7,FALSE) -> 0 | AJ8: =VLOOKUP($AC8, $C$2:$AA$28,8,FALSE) -> 0 | AK8: =VLOOKUP($AC8, $C$2:$AA$28,9,FALSE) -> 0 | AL8: =VLOOKUP($AC8, $C$2:$AA$28,10,FALSE) -> 0 | AM8: =VLOOKUP($AC8, $C$2:$AA$28,11,FALSE) -> 0 | AN8: =VLOOKUP($AC8, $C$2:$AA$28,12,FALSE) -> 0 | AO8: =VLOOKUP($AC8, $C$2:$AA$28,13,FALSE) -> 0 | AP8: =VLOOKUP($AC8, $C$2:$AA$28,14,FALSE) -> 0 | AQ8: =VLOOKUP($AC8, $C$2:$AA$28,15,FALSE) -> 0 | AR8: =VLOOKUP($AC8, $C$2:$AA$28,16,FALSE) -> 0 | AS8: =VLOOKUP($AC8, $C$2:$AA$28,17,FALSE) -> 0 | AT8: =VLOOKUP($AC8, $C$2:$AA$28,18,FALSE) -> 0 | AU8: =VLOOKUP($AC8, $C$2:$AA$28,19,FALSE) -> 0 | AV8: =VLOOKUP($AC8, $C$2:$AA$28,20,FALSE) -> 0 | AW8: =VLOOKUP($AC8, $C$2:$AA$28,21,FALSE) -> 0 | AX8: =VLOOKUP($AC8, $C$2:$AA$28,22,FALSE) -> 0 | AY8: =VLOOKUP($AC8, $C$2:$AA$28,23,FALSE) -> 0 | AZ8: =VLOOKUP($AC8, $C$2:$AA$28,24,FALSE) -> 0 | BA8: =VLOOKUP($AC8, $C$2:$AA$28,25,FALSE) -> 0
AC9: DAX | AD9: =VLOOKUP($AC9, $C$2:$AA$28,2,FALSE) -> 0 | AE9: =VLOOKUP($AC9, $C$2:$AA$28,3,FALSE) -> 0 | AF9: =VLOOKUP($AC9, $C$2:$AA$28,4,FALSE) -> 0 | AG9: =VLOOKUP($AC9, $C$2:$AA$28,5,FALSE) -> 0 | AH9: =VLOOKUP($AC9, $C$2:$AA$28,6,FALSE) -> 0 | AI9: =VLOOKUP($AC9, $C$2:$AA$28,7,FALSE) -> 0 | AJ9: =VLOOKUP($AC9, $C$2:$AA$28,8,FALSE) -> 0 | AK9: =VLOOKUP($AC9, $C$2:$AA$28,9,FALSE) -> 0 | AL9: =VLOOKUP($AC9, $C$2:$AA$28,10,FALSE) -> 0 | AM9: =VLOOKUP($AC9, $C$2:$AA$28,11,FALSE) -> 0 | AN9: =VLOOKUP($AC9, $C$2:$AA$28,12,FALSE) -> 0 | AO9: =VLOOKUP($AC9, $C$2:$AA$28,13,FALSE) -> 0 | AP9: =VLOOKUP($AC9, $C$2:$AA$28,14,FALSE) -> 0 | AQ9: =VLOOKUP($AC9, $C$2:$AA$28,15,FALSE) -> 0 | AR9: =VLOOKUP($AC9, $C$2:$AA$28,16,FALSE) -> 0 | AS9: =VLOOKUP($AC9, $C$2:$AA$28,17,FALSE) -> 0 | AT9: =VLOOKUP($AC9, $C$2:$AA$28,18,FALSE) -> 0 | AU9: =VLOOKUP($AC9, $C$2:$AA$28,19,FALSE) -> 0 | AV9: =VLOOKUP($AC9, $C$2:$AA$28,20,FALSE) -> 0 | AW9: =VLOOKUP($AC9, $C$2:$AA$28,21,FALSE) -> 0 | AX9: =VLOOKUP($AC9, $C$2:$AA$28,22,FALSE) -> 0 | AY9: =VLOOKUP($AC9, $C$2:$AA$28,23,FALSE) -> 0 | AZ9: =VLOOKUP($AC9, $C$2:$AA$28,24,FALSE) -> 0 | BA9: =VLOOKUP($AC9, $C$2:$AA$28,25,FALSE) -> 0
D10: SCORE | E10: TT | F10: TR | G10: TR2 | H10: TT2 | I10: TR3 | J10: TT3 | K10: LFR | L10: LFT | M10: BP | N10: ORB | O10: DRB | P10: Pts | Q10: TT | R10: TR | S10: TR2 | T10: TT2 | U10: TR3 | V10: TT3 | W10: LFR | X10: LFT | Y10: BP | Z10: ORB | AA10: DRB | AC10: LA ROCHELLE | AD10: =VLOOKUP($AC10, $C$2:$AA$28,2,FALSE) -> 0 | AE10: =VLOOKUP($AC10, $C$2:$AA$28,3,FALSE) -> 0 | AF10: =VLOOKUP($AC10, $C$2:$AA$28,4,FALSE) -> 0 | AG10: =VLOOKUP($AC10, $C$2:$AA$28,5,FALSE) -> 0 | AH10: =VLOOKUP($AC10, $C$2:$AA$28,6,FALSE) -> 0 | AI10: =VLOOKUP($AC10, $C$2:$AA$28,7,FALSE) -> 0 | AJ10: =VLOOKUP($AC10, $C$2:$AA$28,8,FALSE) -> 0 | AK10: =VLOOKUP($AC10, $C$2:$AA$28,9,FALSE) -> 0 | AL10: =VLOOKUP($AC10, $C$2:$AA$28,10,FALSE) -> 0 | AM10: =VLOOKUP($AC10, $C$2:$AA$28,11,FALSE) -> 0 | AN10: =VLOOKUP($AC10, $C$2:$AA$28,12,FALSE) -> 0 | AO10: =VLOOKUP($AC10, $C$2:$AA$28,13,FALSE) -> 0 | AP10: =VLOOKUP($AC10, $C$2:$AA$28,14,FALSE) -> 0 | AQ10: =VLOOKUP($AC10, $C$2:$AA$28,15,FALSE) -> 0 | AR10: =VLOOKUP($AC10, $C$2:$AA$28,16,FALSE) -> 0 | AS10: =VLOOKUP($AC10, $C$2:$AA$28,17,FALSE) -> 0 | AT10: =VLOOKUP($AC10, $C$2:$AA$28,18,FALSE) -> 0 | AU10: =VLOOKUP($AC10, $C$2:$AA$28,19,FALSE) -> 0 | AV10: =VLOOKUP($AC10, $C$2:$AA$28,20,FALSE) -> 0 | AW10: =VLOOKUP($AC10, $C$2:$AA$28,21,FALSE) -> 0 | AX10: =VLOOKUP($AC10, $C$2:$AA$28,22,FALSE) -> 0 | AY10: =VLOOKUP($AC10, $C$2:$AA$28,23,FALSE) -> 0 | AZ10: =VLOOKUP($AC10, $C$2:$AA$28,24,FALSE) -> 0 | BA10: =VLOOKUP($AC10, $C$2:$AA$28,25,FALSE) -> 0
B11: MATCH 3 | C11: ANGERS | D11: =G11*2+I11*3+K11*1 -> 0 | G11: =E11-I11 -> 0 | H11: =F11-J11 -> 0 | P11: =D12 -> 0 | Q11: =E12 -> 0 | R11: =F12 -> 0 | S11: =G12 -> 0 | T11: =H12 -> 0 | U11: =I12 -> 0 | V11: =J12 -> 0 | W11: =K12 -> 0 | ... AA11: =O12 -> 0 | AC11: LE HAVRE | AD11: =VLOOKUP($AC11, $C$2:$AA$28,2,FALSE) -> 0 | AE11: =VLOOKUP($AC11, $C$2:$AA$28,3,FALSE) -> 0 | AF11: =VLOOKUP($AC11, $C$2:$AA$28,4,FALSE) -> 0 | AG11: =VLOOKUP($AC11, $C$2:$AA$28,5,FALSE) -> 0 | AH11: =VLOOKUP($AC11, $C$2:$AA$28,6,FALSE) -> 0 | AI11: =VLOOKUP($AC11, $C$2:$AA$28,7,FALSE) -> 0 | AJ11: =VLOOKUP($AC11, $C$2:$AA$28,8,FALSE) -> 0 | AK11: =VLOOKUP($AC11, $C$2:$AA$28,9,FALSE) -> 0 | AL11: =VLOOKUP($AC11, $C$2:$AA$28,10,FALSE) -> 0 | AM11: =VLOOKUP($AC11, $C$2:$AA$28,11,FALSE) -> 0 | AN11: =VLOOKUP($AC11, $C$2:$AA$28,12,FALSE) -> 0 | AO11: =VLOOKUP($AC11, $C$2:$AA$28,13,FALSE) -> 0 | AP11: =VLOOKUP($AC11, $C$2:$AA$28,14,FALSE) -> 0 | AQ11: =VLOOKUP($AC11, $C$2:$AA$28,15,FALSE) -> 0 | AR11: =VLOOKUP($AC11, $C$2:$AA$28,16,FALSE) -> 0 | AS11: =VLOOKUP($AC11, $C$2:$AA$28,17,FALSE) -> 0 | AT11: =VLOOKUP($AC11, $C$2:$AA$28,18,FALSE) -> 0 | AU11: =VLOOKUP($AC11, $C$2:$AA$28,19,FALSE) -> 0 | AV11: =VLOOKUP($AC11, $C$2:$AA$28,20,FALSE) -> 0 | AW11: =VLOOKUP($AC11, $C$2:$AA$28,21,FALSE) -> 0 | AX11: =VLOOKUP($AC11, $C$2:$AA$28,22,FALSE) -> 0 | AY11: =VLOOKUP($AC11, $C$2:$AA$28,23,FALSE) -> 0 | AZ11: =VLOOKUP($AC11, $C$2:$AA$28,24,FALSE) -> 0 | BA11: =VLOOKUP($AC11, $C$2:$AA$28,25,FALSE) -> 0
C12: TOURS | D12: =G12*2+I12*3+K12*1 -> 0 | G12: =E12-I12 -> 0 | H12: =F12-J12 -> 0 | P12: =D11 -> 0 | Q12: =E11 -> 0 | R12: =F11 -> 0 | S12: =G11 -> 0 | T12: =H11 -> 0 | U12: =I11 -> 0 | V12: =J11 -> 0 | W12: =K11 -> 0 | ... AA12: =O11 -> 0 | AC12: LORIENT | AD12: =VLOOKUP($AC12, $C$2:$AA$28,2,FALSE) -> 0 | AE12: =VLOOKUP($AC12, $C$2:$AA$28,3,FALSE) -> 0 | AF12: =VLOOKUP($AC12, $C$2:$AA$28,4,FALSE) -> 0 | AG12: =VLOOKUP($AC12, $C$2:$AA$28,5,FALSE) -> 0 | AH12: =VLOOKUP($AC12, $C$2:$AA$28,6,FALSE) -> 0 | AI12: =VLOOKUP($AC12, $C$2:$AA$28,7,FALSE) -> 0 | AJ12: =VLOOKUP($AC12, $C$2:$AA$28,8,FALSE) -> 0 | AK12: =VLOOKUP($AC12, $C$2:$AA$28,9,FALSE) -> 0 | AL12: =VLOOKUP($AC12, $C$2:$AA$28,10,FALSE) -> 0 | AM12: =VLOOKUP($AC12, $C$2:$AA$28,11,FALSE) -> 0 | AN12: =VLOOKUP($AC12, $C$2:$AA$28,12,FALSE) -> 0 | AO12: =VLOOKUP($AC12, $C$2:$AA$28,13,FALSE) -> 0 | AP12: =VLOOKUP($AC12, $C$2:$AA$28,14,FALSE) -> 0 | AQ12: =VLOOKUP($AC12, $C$2:$AA$28,15,FALSE) -> 0 | AR12: =VLOOKUP($AC12, $C$2:$AA$28,16,FALSE) -> 0 | AS12: =VLOOKUP($AC12, $C$2:$AA$28,17,FALSE) -> 0 | AT12: =VLOOKUP($AC12, $C$2:$AA$28,18,FALSE) -> 0 | AU12: =VLOOKUP($AC12, $C$2:$AA$28,19,FALSE) -> 0 | AV12: =VLOOKUP($AC12, $C$2:$AA$28,20,FALSE) -> 0 | AW12: =VLOOKUP($AC12, $C$2:$AA$28,21,FALSE) -> 0 | AX12: =VLOOKUP($AC12, $C$2:$AA$28,22,FALSE) -> 0 | AY12: =VLOOKUP($AC12, $C$2:$AA$28,23,FALSE) -> 0 | AZ12: =VLOOKUP($AC12, $C$2:$AA$28,24,FALSE) -> 0 | BA12: =VLOOKUP($AC12, $C$2:$AA$28,25,FALSE) -> 0
AC13: TARBES | AD13: =VLOOKUP($AC13, $C$2:$AA$28,2,FALSE) -> 0 | AE13: =VLOOKUP($AC13, $C$2:$AA$28,3,FALSE) -> 0 | AF13: =VLOOKUP($AC13, $C$2:$AA$28,4,FALSE) -> 0 | AG13: =VLOOKUP($AC13, $C$2:$AA$28,5,FALSE) -> 0 | AH13: =VLOOKUP($AC13, $C$2:$AA$28,6,FALSE) -> 0 | AI13: =VLOOKUP($AC13, $C$2:$AA$28,7,FALSE) -> 0 | AJ13: =VLOOKUP($AC13, $C$2:$AA$28,8,FALSE) -> 0 | AK13: =VLOOKUP($AC13, $C$2:$AA$28,9,FALSE) -> 0 | AL13: =VLOOKUP($AC13, $C$2:$AA$28,10,FALSE) -> 0 | AM13: =VLOOKUP($AC13, $C$2:$AA$28,11,FALSE) -> 0 | AN13: =VLOOKUP($AC13, $C$2:$AA$28,12,FALSE) -> 0 | AO13: =VLOOKUP($AC13, $C$2:$AA$28,13,FALSE) -> 0 | AP13: =VLOOKUP($AC13, $C$2:$AA$28,14,FALSE) -> 0 | AQ13: =VLOOKUP($AC13, $C$2:$AA$28,15,FALSE) -> 0 | AR13: =VLOOKUP($AC13, $C$2:$AA$28,16,FALSE) -> 0 | AS13: =VLOOKUP($AC13, $C$2:$AA$28,17,FALSE) -> 0 | AT13: =VLOOKUP($AC13, $C$2:$AA$28,18,FALSE) -> 0 | AU13: =VLOOKUP($AC13, $C$2:$AA$28,19,FALSE) -> 0 | AV13: =VLOOKUP($AC13, $C$2:$AA$28,20,FALSE) -> 0 | AW13: =VLOOKUP($AC13, $C$2:$AA$28,21,FALSE) -> 0 | AX13: =VLOOKUP($AC13, $C$2:$AA$28,22,FALSE) -> 0 | AY13: =VLOOKUP($AC13, $C$2:$AA$28,23,FALSE) -> 0 | AZ13: =VLOOKUP($AC13, $C$2:$AA$28,24,FALSE) -> 0 | BA13: =VLOOKUP($AC13, $C$2:$AA$28,25,FALSE) -> 0
D14: SCORE | E14: TT | F14: TR | G14: TR2 | H14: TT2 | I14: TR3 | J14: TT3 | K14: LFR | L14: LFT | M14: BP | N14: ORB | O14: DRB | P14: Pts | Q14: TT | R14: TR | S14: TR2 | T14: TT2 | U14: TR3 | V14: TT3 | W14: LFR | X14: LFT | Y14: BP | Z14: ORB | AA14: DRB | AC14: TOULOUSE | AD14: =VLOOKUP($AC14, $C$2:$AA$28,2,FALSE) -> 0 | AE14: =VLOOKUP($AC14, $C$2:$AA$28,3,FALSE) -> 0 | AF14: =VLOOKUP($AC14, $C$2:$AA$28,4,FALSE) -> 0 | AG14: =VLOOKUP($AC14, $C$2:$AA$28,5,FALSE) -> 0 | AH14: =VLOOKUP($AC14, $C$2:$AA$28,6,FALSE) -> 0 | AI14: =VLOOKUP($AC14, $C$2:$AA$28,7,FALSE) -> 0 | AJ14: =VLOOKUP($AC14, $C$2:$AA$28,8,FALSE) -> 0 | AK14: =VLOOKUP($AC14, $C$2:$AA$28,9,FALSE) -> 0 | AL14: =VLOOKUP($AC14, $C$2:$AA$28,10,FALSE) -> 0 | AM14: =VLOOKUP($AC14, $C$2:$AA$28,11,FALSE) -> 0 | AN14: =VLOOKUP($AC14, $C$2:$AA$28,12,FALSE) -> 0 | AO14: =VLOOKUP($AC14, $C$2:$AA$28,13,FALSE) -> 0 | AP14: =VLOOKUP($AC14, $C$2:$AA$28,14,FALSE) -> 0 | AQ14: =VLOOKUP($AC14, $C$2:$AA$28,15,FALSE) -> 0 | AR14: =VLOOKUP($AC14, $C$2:$AA$28,16,FALSE) -> 0 | AS14: =VLOOKUP($AC14, $C$2:$AA$28,17,FALSE) -> 0 | AT14: =VLOOKUP($AC14, $C$2:$AA$28,18,FALSE) -> 0 | AU14: =VLOOKUP($AC14, $C$2:$AA$28,19,FALSE) -> 0 | AV14: =VLOOKUP($AC14, $C$2:$AA$28,20,FALSE) -> 0 | AW14: =VLOOKUP($AC14, $C$2:$AA$28,21,FALSE) -> 0 | AX14: =VLOOKUP($AC14, $C$2:$AA$28,22,FALSE) -> 0 | AY14: =VLOOKUP($AC14, $C$2:$AA$28,23,FALSE) -> 0 | AZ14: =VLOOKUP($AC14, $C$2:$AA$28,24,FALSE) -> 0 | BA14: =VLOOKUP($AC14, $C$2:$AA$28,25,FALSE) -> 0
B15: MATCH 4 | C15: TARBES | D15: =G15*2+I15*3+K15*1 -> 0 | G15: =E15-I15 -> 0 | H15: =F15-J15 -> 0 | P15: =D16 -> 0 | Q15: =E16 -> 0 | R15: =F16 -> 0 | S15: =G16 -> 0 | T15: =H16 -> 0 | U15: =I16 -> 0 | V15: =J16 -> 0 | W15: =K16 -> 0 | ... AA15: =O16 -> 0 | AC15: TOURS | AD15: =VLOOKUP($AC15, $C$2:$AA$28,2,FALSE) -> 0 | AE15: =VLOOKUP($AC15, $C$2:$AA$28,3,FALSE) -> 0 | AF15: =VLOOKUP($AC15, $C$2:$AA$28,4,FALSE) -> 0 | AG15: =VLOOKUP($AC15, $C$2:$AA$28,5,FALSE) -> 0 | AH15: =VLOOKUP($AC15, $C$2:$AA$28,6,FALSE) -> 0 | AI15: =VLOOKUP($AC15, $C$2:$AA$28,7,FALSE) -> 0 | AJ15: =VLOOKUP($AC15, $C$2:$AA$28,8,FALSE) -> 0 | AK15: =VLOOKUP($AC15, $C$2:$AA$28,9,FALSE) -> 0 | AL15: =VLOOKUP($AC15, $C$2:$AA$28,10,FALSE) -> 0 | AM15: =VLOOKUP($AC15, $C$2:$AA$28,11,FALSE) -> 0 | AN15: =VLOOKUP($AC15, $C$2:$AA$28,12,FALSE) -> 0 | AO15: =VLOOKUP($AC15, $C$2:$AA$28,13,FALSE) -> 0 | AP15: =VLOOKUP($AC15, $C$2:$AA$28,14,FALSE) -> 0 | AQ15: =VLOOKUP($AC15, $C$2:$AA$28,15,FALSE) -> 0 | AR15: =VLOOKUP($AC15, $C$2:$AA$28,16,FALSE) -> 0 | AS15: =VLOOKUP($AC15, $C$2:$AA$28,17,FALSE) -> 0 | AT15: =VLOOKUP($AC15, $C$2:$AA$28,18,FALSE) -> 0 | AU15: =VLOOKUP($AC15, $C$2:$AA$28,19,FALSE) -> 0 | AV15: =VLOOKUP($AC15, $C$2:$AA$28,20,FALSE) -> 0 | AW15: =VLOOKUP($AC15, $C$2:$AA$28,21,FALSE) -> 0 | AX15: =VLOOKUP($AC15, $C$2:$AA$28,22,FALSE) -> 0 | AY15: =VLOOKUP($AC15, $C$2:$AA$28,23,FALSE) -> 0 | AZ15: =VLOOKUP($AC15, $C$2:$AA$28,24,FALSE) -> 0 | BA15: =VLOOKUP($AC15, $C$2:$AA$28,25,FALSE) -> 0
C16: LORIENT | D16: =G16*2+I16*3+K16*1 -> 0 | G16: =E16-I16 -> 0 | H16: =F16-J16 -> 0 | P16: =D15 -> 0 | Q16: =E15 -> 0 | R16: =F15 -> 0 | S16: =G15 -> 0 | T16: =H15 -> 0 | U16: =I15 -> 0 | V16: =J15 -> 0 | W16: =K15 -> 0 | ... AA16: =O15 -> 0 | AC16: VANVES | AD16: =VLOOKUP($AC16, $C$2:$AA$28,2,FALSE) -> 0 | AE16: =VLOOKUP($AC16, $C$2:$AA$28,3,FALSE) -> 0 | AF16: =VLOOKUP($AC16, $C$2:$AA$28,4,FALSE) -> 0 | AG16: =VLOOKUP($AC16, $C$2:$AA$28,5,FALSE) -> 0 | AH16: =VLOOKUP($AC16, $C$2:$AA$28,6,FALSE) -> 0 | AI16: =VLOOKUP($AC16, $C$2:$AA$28,7,FALSE) -> 0 | AJ16: =VLOOKUP($AC16, $C$2:$AA$28,8,FALSE) -> 0 | AK16: =VLOOKUP($AC16, $C$2:$AA$28,9,FALSE) -> 0 | AL16: =VLOOKUP($AC16, $C$2:$AA$28,10,FALSE) -> 0 | AM16: =VLOOKUP($AC16, $C$2:$AA$28,11,FALSE) -> 0 | AN16: =VLOOKUP($AC16, $C$2:$AA$28,12,FALSE) -> 0 | AO16: =VLOOKUP($AC16, $C$2:$AA$28,13,FALSE) -> 0 | AP16: =VLOOKUP($AC16, $C$2:$AA$28,14,FALSE) -> 0 | AQ16: =VLOOKUP($AC16, $C$2:$AA$28,15,FALSE) -> 0 | AR16: =VLOOKUP($AC16, $C$2:$AA$28,16,FALSE) -> 0 | AS16: =VLOOKUP($AC16, $C$2:$AA$28,17,FALSE) -> 0 | AT16: =VLOOKUP($AC16, $C$2:$AA$28,18,FALSE) -> 0 | AU16: =VLOOKUP($AC16, $C$2:$AA$28,19,FALSE) -> 0 | AV16: =VLOOKUP($AC16, $C$2:$AA$28,20,FALSE) -> 0 | AW16: =VLOOKUP($AC16, $C$2:$AA$28,21,FALSE) -> 0 | AX16: =VLOOKUP($AC16, $C$2:$AA$28,22,FALSE) -> 0 | AY16: =VLOOKUP($AC16, $C$2:$AA$28,23,FALSE) -> 0 | AZ16: =VLOOKUP($AC16, $C$2:$AA$28,24,FALSE) -> 0 | BA16: =VLOOKUP($AC16, $C$2:$AA$28,25,FALSE) -> 0
AC17: VITRE | AD17: =VLOOKUP($AC17, $C$2:$AA$28,2,FALSE) -> 0 | AE17: =VLOOKUP($AC17, $C$2:$AA$28,3,FALSE) -> 0 | AF17: =VLOOKUP($AC17, $C$2:$AA$28,4,FALSE) -> 0 | AG17: =VLOOKUP($AC17, $C$2:$AA$28,5,FALSE) -> 0 | AH17: =VLOOKUP($AC17, $C$2:$AA$28,6,FALSE) -> 0 | AI17: =VLOOKUP($AC17, $C$2:$AA$28,7,FALSE) -> 0 | AJ17: =VLOOKUP($AC17, $C$2:$AA$28,8,FALSE) -> 0 | AK17: =VLOOKUP($AC17, $C$2:$AA$28,9,FALSE) -> 0 | AL17: =VLOOKUP($AC17, $C$2:$AA$28,10,FALSE) -> 0 | AM17: =VLOOKUP($AC17, $C$2:$AA$28,11,FALSE) -> 0 | AN17: =VLOOKUP($AC17, $C$2:$AA$28,12,FALSE) -> 0 | AO17: =VLOOKUP($AC17, $C$2:$AA$28,13,FALSE) -> 0 | AP17: =VLOOKUP($AC17, $C$2:$AA$28,14,FALSE) -> 0 | AQ17: =VLOOKUP($AC17, $C$2:$AA$28,15,FALSE) -> 0 | AR17: =VLOOKUP($AC17, $C$2:$AA$28,16,FALSE) -> 0 | AS17: =VLOOKUP($AC17, $C$2:$AA$28,17,FALSE) -> 0 | AT17: =VLOOKUP($AC17, $C$2:$AA$28,18,FALSE) -> 0 | AU17: =VLOOKUP($AC17, $C$2:$AA$28,19,FALSE) -> 0 | AV17: =VLOOKUP($AC17, $C$2:$AA$28,20,FALSE) -> 0 | AW17: =VLOOKUP($AC17, $C$2:$AA$28,21,FALSE) -> 0 | AX17: =VLOOKUP($AC17, $C$2:$AA$28,22,FALSE) -> 0 | AY17: =VLOOKUP($AC17, $C$2:$AA$28,23,FALSE) -> 0 | AZ17: =VLOOKUP($AC17, $C$2:$AA$28,24,FALSE) -> 0 | BA17: =VLOOKUP($AC17, $C$2:$AA$28,25,FALSE) -> 0
D18: SCORE | E18: TT | F18: TR | G18: TR2 | H18: TT2 | I18: TR3 | J18: TT3 | K18: LFR | L18: LFT | M18: BP | N18: ORB | O18: DRB | P18: Pts | Q18: TT | R18: TR | S18: TR2 | T18: TT2 | U18: TR3 | V18: TT3 | W18: LFR | X18: LFT | Y18: BP | Z18: ORB | AA18: DRB
B19: MATCH 5 | C19: TOULOUSE | D19: =G19*2+I19*3+K19*1 -> 0 | G19: =E19-I19 -> 0 | H19: =F19-J19 -> 0 | P19: =D20 -> 0 | Q19: =E20 -> 0 | R19: =F20 -> 0 | S19: =G20 -> 0 | T19: =H20 -> 0 | U19: =I20 -> 0 | V19: =J20 -> 0 | W19: =K20 -> 0 | ... AA19: =O20 -> 0
C20: DAX | D20: =G20*2+I20*3+K20*1 -> 0 | G20: =E20-I20 -> 0 | H20: =F20-J20 -> 0 | P20: =D19 -> 0 | Q20: =E19 -> 0 | R20: =F19 -> 0 | S20: =G19 -> 0 | T20: =H19 -> 0 | U20: =I19 -> 0 | V20: =J19 -> 0 | W20: =K19 -> 0 | ... AA20: =O19 -> 0
D22: SCORE | E22: TT | F22: TR | G22: TR2 | H22: TT2 | I22: TR3 | J22: TT3 | K22: LFR | L22: LFT | M22: BP | N22: ORB | O22: DRB | P22: Pts | Q22: TT | R22: TR | S22: TR2 | T22: TT2 | U22: TR3 | V22: TT3 | W22: LFR | X22: LFT | Y22: BP | Z22: ORB | AA22: DRB
B23: MATCH 6 | C23: BORDEAUX | D23: =G23*2+I23*3+K23*1 -> 0 | G23: =E23-I23 -> 0 | H23: =F23-J23 -> 0 | P23: =D24 -> 0 | Q23: =E24 -> 0 | R23: =F24 -> 0 | S23: =G24 -> 0 | T23: =H24 -> 0 | U23: =I24 -> 0 | V23: =J24 -> 0 | W23: =K24 -> 0 | ... AA23: =O24 -> 0
C24: CHALLANS | D24: =G24*2+I24*3+K24*1 -> 0 | G24: =E24-I24 -> 0 | H24: =F24-J24 -> 0 | P24: =D23 -> 0 | Q24: =E23 -> 0 | R24: =F23 -> 0 | S24: =G23 -> 0 | T24: =H23 -> 0 | U24: =I23 -> 0 | V24: =J23 -> 0 | W24: =K23 -> 0 | ... AA24: =O23 -> 0
D26: SCORE | E26: TT | F26: TR | G26: TR2 | H26: TT2 | I26: TR3 | J26: TT3 | K26: LFR | L26: LFT | M26: BP | N26: ORB | O26: DRB | P26: Pts | Q26: TT | R26: TR | S26: TR2 | T26: TT2 | U26: TR3 | V26: TT3 | W26: LFR | X26: LFT | Y26: BP | Z26: ORB | AA26: DRB
B27: MATCH 7 | C27: VANVES | D27: =G27*2+I27*3+K27*1 -> 0 | G27: =E27-I27 -> 0 | H27: =F27-J27 -> 0 | P27: =D28 -> 0 | Q27: =E28 -> 0 | R27: =F28 -> 0 | S27: =G28 -> 0 | T27: =H28 -> 0 | U27: =I28 -> 0 | V27: =J28 -> 0 | W27: =K28 -> 0 | ... AA27: =O28 -> 0
C28: VITRE | D28: =G28*2+I28*3+K28*1 -> 0 | G28: =E28-I28 -> 0 | H28: =F28-J28 -> 0 | P28: =D27 -> 0 | Q28: =E27 -> 0 | R28: =F27 -> 0 | S28: =G27 -> 0 | T28: =H27 -> 0 | U28: =I27 -> 0 | V28: =J27 -> 0 | W28: =K27 -> 0 | ... AA28: =O27 -> 0

Sheet J7
D2: SCORE | E2: TT | F2: TR | G2: TR2 | H2: TT2 | I2: TR3 | J2: TT3 | K2: LFR | L2: LFT | M2: BP | N2: ORB | O2: DRB | P2: Pts | Q2: TT | R2: TR | S2: TR2 | T2: TT2 | U2: TR3 | V2: TT3 | W2: LFR | X2: LFT | Y2: BP | Z2: ORB | AA2: DRB
B3: MATCH 1 | C3: LE HAVRE | D3: =G3*2+I3*3+K3*1 -> 0 | G3: =E3-I3 -> 0 | H3: =F3-J3 -> 0 | P3: =D4 -> 0 | Q3: =E4 -> 0 | R3: =F4 -> 0 | S3: =G4 -> 0 | T3: =H4 -> 0 | U3: =I4 -> 0 | V3: =J4 -> 0 | W3: =K4 -> 0 | ... AA3: =O4 -> 0 | AD3: PTS | AE3: TR | AF3: TT | AG3: TR2 | AH3: TT2 | AI3: TR3 | AJ3: TT3 | AK3: LFR | AL3: LFT | AM3: BP | AN3: ORB | AO3: DRB | AP3: Pts | AQ3: TT | AR3: TR | AS3: TR2 | AT3: TT2 | AU3: TR3 | AV3: TT3 | AW3: LFR | AX3: LFT | AY3: BP | AZ3: ORB | BA3: DRB
C4: BOULOGNE | D4: =G4*2+I4*3+K4*1 -> 0 | G4: =E4-I4 -> 0 | H4: =F4-J4 -> 0 | P4: =D3 -> 0 | Q4: =E3 -> 0 | R4: =F3 -> 0 | S4: =G3 -> 0 | T4: =H3 -> 0 | U4: =I3 -> 0 | V4: =J3 -> 0 | W4: =K3 -> 0 | ... AA4: =O3 -> 0 | AC4: ANGERS | AD4: =VLOOKUP($AC4, $C$2:$AA$28,2,FALSE) -> 0 | AE4: =VLOOKUP($AC4, $C$2:$AA$28,3,FALSE) -> 0 | AF4: =VLOOKUP($AC4, $C$2:$AA$28,4,FALSE) -> 0 | AG4: =VLOOKUP($AC4, $C$2:$AA$28,5,FALSE) -> 0 | AH4: =VLOOKUP($AC4, $C$2:$AA$28,6,FALSE) -> 0 | AI4: =VLOOKUP($AC4, $C$2:$AA$28,7,FALSE) -> 0 | AJ4: =VLOOKUP($AC4, $C$2:$AA$28,8,FALSE) -> 0 | AK4: =VLOOKUP($AC4, $C$2:$AA$28,9,FALSE) -> 0 | AL4: =VLOOKUP($AC4, $C$2:$AA$28,10,FALSE) -> 0 | AM4: =VLOOKUP($AC4, $C$2:$AA$28,11,FALSE) -> 0 | AN4: =VLOOKUP($AC4, $C$2:$AA$28,12,FALSE) -> 0 | AO4: =VLOOKUP($AC4, $C$2:$AA$28,13,FALSE) -> 0 | AP4: =VLOOKUP($AC4, $C$2:$AA$28,14,FALSE) -> 0 | AQ4: =VLOOKUP($AC4, $C$2:$AA$28,15,FALSE) -> 0 | AR4: =VLOOKUP($AC4, $C$2:$AA$28,16,FALSE) -> 0 | AS4: =VLOOKUP($AC4, $C$2:$AA$28,17,FALSE) -> 0 | AT4: =VLOOKUP($AC4, $C$2:$AA$28,18,FALSE) -> 0 | AU4: =VLOOKUP($AC4, $C$2:$AA$28,19,FALSE) -> 0 | AV4: =VLOOKUP($AC4, $C$2:$AA$28,20,FALSE) -> 0 | AW4: =VLOOKUP($AC4, $C$2:$AA$28,21,FALSE) -> 0 | AX4: =VLOOKUP($AC4, $C$2:$AA$28,22,FALSE) -> 0 | AY4: =VLOOKUP($AC4, $C$2:$AA$28,23,FALSE) -> 0 | AZ4: =VLOOKUP($AC4, $C$2:$AA$28,24,FALSE) -> 0 | BA4: =VLOOKUP($AC4, $C$2:$AA$28,25,FALSE) -> 0
AC5: BORDEAUX | AD5: =VLOOKUP($AC5, $C$2:$AA$28,2,FALSE) -> 0 | AE5: =VLOOKUP($AC5, $C$2:$AA$28,3,FALSE) -> 0 | AF5: =VLOOKUP($AC5, $C$2:$AA$28,4,FALSE) -> 0 | AG5: =VLOOKUP($AC5, $C$2:$AA$28,5,FALSE) -> 0 | AH5: =VLOOKUP($AC5, $C$2:$AA$28,6,FALSE) -> 0 | AI5: =VLOOKUP($AC5, $C$2:$AA$28,7,FALSE) -> 0 | AJ5: =VLOOKUP($AC5, $C$2:$AA$28,8,FALSE) -> 0 | AK5: =VLOOKUP($AC5, $C$2:$AA$28,9,FALSE) -> 0 | AL5: =VLOOKUP($AC5, $C$2:$AA$28,10,FALSE) -> 0 | AM5: =VLOOKUP($AC5, $C$2:$AA$28,11,FALSE) -> 0 | AN5: =VLOOKUP($AC5, $C$2:$AA$28,12,FALSE) -> 0 | AO5: =VLOOKUP($AC5, $C$2:$AA$28,13,FALSE) -> 0 | AP5: =VLOOKUP($AC5, $C$2:$AA$28,14,FALSE) -> 0 | AQ5: =VLOOKUP($AC5, $C$2:$AA$28,15,FALSE) -> 0 | AR5: =VLOOKUP($AC5, $C$2:$AA$28,16,FALSE) -> 0 | AS5: =VLOOKUP($AC5, $C$2:$AA$28,17,FALSE) -> 0 | AT5: =VLOOKUP($AC5, $C$2:$AA$28,18,FALSE) -> 0 | AU5: =VLOOKUP($AC5, $C$2:$AA$28,19,FALSE) -> 0 | AV5: =VLOOKUP($AC5, $C$2:$AA$28,20,FALSE) -> 0 | AW5: =VLOOKUP($AC5, $C$2:$AA$28,21,FALSE) -> 0 | AX5: =VLOOKUP($AC5, $C$2:$AA$28,22,FALSE) -> 0 | AY5: =VLOOKUP($AC5, $C$2:$AA$28,23,FALSE) -> 0 | AZ5: =VLOOKUP($AC5, $C$2:$AA$28,24,FALSE) -> 0 | BA5: =VLOOKUP($AC5, $C$2:$AA$28,25,FALSE) -> 0
D6: SCORE | E6: TT | F6: TR | G6: TR2 | H6: TT2 | I6: TR3 | J6: TT3 | K6: LFR | L6: LFT | M6: BP | N6: ORB | O6: DRB | P6: Pts | Q6: TT | R6: TR | S6: TR2 | T6: TT2 | U6: TR3 | V6: TT3 | W6: LFR | X6: LFT | Y6: BP | Z6: ORB | AA6: DRB | AC6: BOULOGNE | AD6: =VLOOKUP($AC6, $C$2:$AA$28,2,FALSE) -> 0 | AE6: =VLOOKUP($AC6, $C$2:$AA$28,3,FALSE) -> 0 | AF6: =VLOOKUP($AC6, $C$2:$AA$28,4,FALSE) -> 0 | AG6: =VLOOKUP($AC6, $C$2:$AA$28,5,FALSE) -> 0 | AH6: =VLOOKUP($AC6, $C$2:$AA$28,6,FALSE) -> 0 | AI6: =VLOOKUP($AC6, $C$2:$AA$28,7,FALSE) -> 0 | AJ6: =VLOOKUP($AC6, $C$2:$AA$28,8,FALSE) -> 0 | AK6: =VLOOKUP($AC6, $C$2:$AA$28,9,FALSE) -> 0 | AL6: =VLOOKUP($AC6, $C$2:$AA$28,10,FALSE) -> 0 | AM6: =VLOOKUP($AC6, $C$2:$AA$28,11,FALSE) -> 0 | AN6: =VLOOKUP($AC6, $C$2:$AA$28,12,FALSE) -> 0 | AO6: =VLOOKUP($AC6, $C$2:$AA$28,13,FALSE) -> 0 | AP6: =VLOOKUP($AC6, $C$2:$AA$28,14,FALSE) -> 0 | AQ6: =VLOOKUP($AC6, $C$2:$AA$28,15,FALSE) -> 0 | AR6: =VLOOKUP($AC6, $C$2:$AA$28,16,FALSE) -> 0 | AS6: =VLOOKUP($AC6, $C$2:$AA$28,17,FALSE) -> 0 | AT6: =VLOOKUP($AC6, $C$2:$AA$28,18,FALSE) -> 0 | AU6: =VLOOKUP($AC6, $C$2:$AA$28,19,FALSE) -> 0 | AV6: =VLOOKUP($AC6, $C$2:$AA$28,20,FALSE) -> 0 | AW6: =VLOOKUP($AC6, $C$2:$AA$28,21,FALSE) -> 0 | AX6: =VLOOKUP($AC6, $C$2:$AA$28,22,FALSE) -> 0 | AY6: =VLOOKUP($AC6, $C$2:$AA$28,23,FALSE) -> 0 | AZ6: =VLOOKUP($AC6, $C$2:$AA$28,24,FALSE) -> 0 | BA6: =VLOOKUP($AC6, $C$2:$AA$28,25,FALSE) -> 0
B7: MATCH 2 | C7: LA ROCHELLE | D7: =G7*2+I7*3+K7*1 -> 0 | G7: =E7-I7 -> 0 | H7: =F7-J7 -> 0 | P7: =D8 -> 0 | Q7: =E8 -> 0 | R7: =F8 -> 0 | S7: =G8 -> 0 | T7: =H8 -> 0 | U7: =I8 -> 0 | V7: =J8 -> 0 | W7: =K8 -> 0 | ... AA7: =O8 -> 0 | AC7: CAEN | AD7: =VLOOKUP($AC7, $C$2:$AA$28,2,FALSE) -> 0 | AE7: =VLOOKUP($AC7, $C$2:$AA$28,3,FALSE) -> 0 | AF7: =VLOOKUP($AC7, $C$2:$AA$28,4,FALSE) -> 0 | AG7: =VLOOKUP($AC7, $C$2:$AA$28,5,FALSE) -> 0 | AH7: =VLOOKUP($AC7, $C$2:$AA$28,6,FALSE) -> 0 | AI7: =VLOOKUP($AC7, $C$2:$AA$28,7,FALSE) -> 0 | AJ7: =VLOOKUP($AC7, $C$2:$AA$28,8,FALSE) -> 0 | AK7: =VLOOKUP($AC7, $C$2:$AA$28,9,FALSE) -> 0 | AL7: =VLOOKUP($AC7, $C$2:$AA$28,10,FALSE) -> 0 | AM7: =VLOOKUP($AC7, $C$2:$AA$28,11,FALSE) -> 0 | AN7: =VLOOKUP($AC7, $C$2:$AA$28,12,FALSE) -> 0 | AO7: =VLOOKUP($AC7, $C$2:$AA$28,13,FALSE) -> 0 | AP7: =VLOOKUP($AC7, $C$2:$AA$28,14,FALSE) -> 0 | AQ7: =VLOOKUP($AC7, $C$2:$AA$28,15,FALSE) -> 0 | AR7: =VLOOKUP($AC7, $C$2:$AA$28,16,FALSE) -> 0 | AS7: =VLOOKUP($AC7, $C$2:$AA$28,17,FALSE) -> 0 | AT7: =VLOOKUP($AC7, $C$2:$AA$28,18,FALSE) -> 0 | AU7: =VLOOKUP($AC7, $C$2:$AA$28,19,FALSE) -> 0 | AV7: =VLOOKUP($AC7, $C$2:$AA$28,20,FALSE) -> 0 | AW7: =VLOOKUP($AC7, $C$2:$AA$28,21,FALSE) -> 0 | AX7: =VLOOKUP($AC7, $C$2:$AA$28,22,FALSE) -> 0 | AY7: =VLOOKUP($AC7, $C$2:$AA$28,23,FALSE) -> 0 | AZ7: =VLOOKUP($AC7, $C$2:$AA$28,24,FALSE) -> 0 | BA7: =VLOOKUP($AC7, $C$2:$AA$28,25,FALSE) -> 0
C8: CAEN | D8: =G8*2+I8*3+K8*1 -> 0 | G8: =E8-I8 -> 0 | H8: =F8-J8 -> 0 | P8: =D7 -> 0 | Q8: =E7 -> 0 | R8: =F7 -> 0 | S8: =G7 -> 0 | T8: =H7 -> 0 | U8: =I7 -> 0 | V8: =J7 -> 0 | W8: =K7 -> 0 | ... AA8: =O7 -> 0 | AC8: CHALLANS | AD8: =VLOOKUP($AC8, $C$2:$AA$28,2,FALSE) -> 0 | AE8: =VLOOKUP($AC8, $C$2:$AA$28,3,FALSE) -> 0 | AF8: =VLOOKUP($AC8, $C$2:$AA$28,4,FALSE) -> 0 | AG8: =VLOOKUP($AC8, $C$2:$AA$28,5,FALSE) -> 0 | AH8: =VLOOKUP($AC8, $C$2:$AA$28,6,FALSE) -> 0 | AI8: =VLOOKUP($AC8, $C$2:$AA$28,7,FALSE) -> 0 | AJ8: =VLOOKUP($AC8, $C$2:$AA$28,8,FALSE) -> 0 | AK8: =VLOOKUP($AC8, $C$2:$AA$28,9,FALSE) -> 0 | AL8: =VLOOKUP($AC8, $C$2:$AA$28,10,FALSE) -> 0 | AM8: =VLOOKUP($AC8, $C$2:$AA$28,11,FALSE) -> 0 | AN8: =VLOOKUP($AC8, $C$2:$AA$28,12,FALSE) -> 0 | AO8: =VLOOKUP($AC8, $C$2:$AA$28,13,FALSE) -> 0 | AP8: =VLOOKUP($AC8, $C$2:$AA$28,14,FALSE) -> 0 | AQ8: =VLOOKUP($AC8, $C$2:$AA$28,15,FALSE) -> 0 | AR8: =VLOOKUP($AC8, $C$2:$AA$28,16,FALSE) -> 0 | AS8: =VLOOKUP($AC8, $C$2:$AA$28,17,FALSE) -> 0 | AT8: =VLOOKUP($AC8, $C$2:$AA$28,18,FALSE) -> 0 | AU8: =VLOOKUP($AC8, $C$2:$AA$28,19,FALSE) -> 0 | AV8: =VLOOKUP($AC8, $C$2:$AA$28,20,FALSE) -> 0 | AW8: =VLOOKUP($AC8, $C$2:$AA$28,21,FALSE) -> 0 | AX8: =VLOOKUP($AC8, $C$2:$AA$28,22,FALSE) -> 0 | AY8: =VLOOKUP($AC8, $C$2:$AA$28,23,FALSE) -> 0 | AZ8: =VLOOKUP($AC8, $C$2:$AA$28,24,FALSE) -> 0 | BA8: =VLOOKUP($AC8, $C$2:$AA$28,25,FALSE) -> 0
AC9: DAX | AD9: =VLOOKUP($AC9, $C$2:$AA$28,2,FALSE) -> 0 | AE9: =VLOOKUP($AC9, $C$2:$AA$28,3,FALSE) -> 0 | AF9: =VLOOKUP($AC9, $C$2:$AA$28,4,FALSE) -> 0 | AG9: =VLOOKUP($AC9, $C$2:$AA$28,5,FALSE) -> 0 | AH9: =VLOOKUP($AC9, $C$2:$AA$28,6,FALSE) -> 0 | AI9: =VLOOKUP($AC9, $C$2:$AA$28,7,FALSE) -> 0 | AJ9: =VLOOKUP($AC9, $C$2:$AA$28,8,FALSE) -> 0 | AK9: =VLOOKUP($AC9, $C$2:$AA$28,9,FALSE) -> 0 | AL9: =VLOOKUP($AC9, $C$2:$AA$28,10,FALSE) -> 0 | AM9: =VLOOKUP($AC9, $C$2:$AA$28,11,FALSE) -> 0 | AN9: =VLOOKUP($AC9, $C$2:$AA$28,12,FALSE) -> 0 | AO9: =VLOOKUP($AC9, $C$2:$AA$28,13,FALSE) -> 0 | AP9: =VLOOKUP($AC9, $C$2:$AA$28,14,FALSE) -> 0 | AQ9: =VLOOKUP($AC9, $C$2:$AA$28,15,FALSE) -> 0 | AR9: =VLOOKUP($AC9, $C$2:$AA$28,16,FALSE) -> 0 | AS9: =VLOOKUP($AC9, $C$2:$AA$28,17,FALSE) -> 0 | AT9: =VLOOKUP($AC9, $C$2:$AA$28,18,FALSE) -> 0 | AU9: =VLOOKUP($AC9, $C$2:$AA$28,19,FALSE) -> 0 | AV9: =VLOOKUP($AC9, $C$2:$AA$28,20,FALSE) -> 0 | AW9: =VLOOKUP($AC9, $C$2:$AA$28,21,FALSE) -> 0 | AX9: =VLOOKUP($AC9, $C$2:$AA$28,22,FALSE) -> 0 | AY9: =VLOOKUP($AC9, $C$2:$AA$28,23,FALSE) -> 0 | AZ9: =VLOOKUP($AC9, $C$2:$AA$28,24,FALSE) -> 0 | BA9: =VLOOKUP($AC9, $C$2:$AA$28,25,FALSE) -> 0
D10: SCORE | E10: TT | F10: TR | G10: TR2 | H10: TT2 | I10: TR3 | J10: TT3 | K10: LFR | L10: LFT | M10: BP | N10: ORB | O10: DRB | P10: Pts | Q10: TT | R10: TR | S10: TR2 | T10: TT2 | U10: TR3 | V10: TT3 | W10: LFR | X10: LFT | Y10: BP | Z10: ORB | AA10: DRB | AC10: LA ROCHELLE | AD10: =VLOOKUP($AC10, $C$2:$AA$28,2,FALSE) -> 0 | AE10: =VLOOKUP($AC10, $C$2:$AA$28,3,FALSE) -> 0 | AF10: =VLOOKUP($AC10, $C$2:$AA$28,4,FALSE) -> 0 | AG10: =VLOOKUP($AC10, $C$2:$AA$28,5,FALSE) -> 0 | AH10: =VLOOKUP($AC10, $C$2:$AA$28,6,FALSE) -> 0 | AI10: =VLOOKUP($AC10, $C$2:$AA$28,7,FALSE) -> 0 | AJ10: =VLOOKUP($AC10, $C$2:$AA$28,8,FALSE) -> 0 | AK10: =VLOOKUP($AC10, $C$2:$AA$28,9,FALSE) -> 0 | AL10: =VLOOKUP($AC10, $C$2:$AA$28,10,FALSE) -> 0 | AM10: =VLOOKUP($AC10, $C$2:$AA$28,11,FALSE) -> 0 | AN10: =VLOOKUP($AC10, $C$2:$AA$28,12,FALSE) -> 0 | AO10: =VLOOKUP($AC10, $C$2:$AA$28,13,FALSE) -> 0 | AP10: =VLOOKUP($AC10, $C$2:$AA$28,14,FALSE) -> 0 | AQ10: =VLOOKUP($AC10, $C$2:$AA$28,15,FALSE) -> 0 | AR10: =VLOOKUP($AC10, $C$2:$AA$28,16,FALSE) -> 0 | AS10: =VLOOKUP($AC10, $C$2:$AA$28,17,FALSE) -> 0 | AT10: =VLOOKUP($AC10, $C$2:$AA$28,18,FALSE) -> 0 | AU10: =VLOOKUP($AC10, $C$2:$AA$28,19,FALSE) -> 0 | AV10: =VLOOKUP($AC10, $C$2:$AA$28,20,FALSE) -> 0 | AW10: =VLOOKUP($AC10, $C$2:$AA$28,21,FALSE) -> 0 | AX10: =VLOOKUP($AC10, $C$2:$AA$28,22,FALSE) -> 0 | AY10: =VLOOKUP($AC10, $C$2:$AA$28,23,FALSE) -> 0 | AZ10: =VLOOKUP($AC10, $C$2:$AA$28,24,FALSE) -> 0 | BA10: =VLOOKUP($AC10, $C$2:$AA$28,25,FALSE) -> 0
B11: MATCH 3 | C11: ANGERS | D11: =G11*2+I11*3+K11*1 -> 0 | G11: =E11-I11 -> 0 | H11: =F11-J11 -> 0 | P11: =D12 -> 0 | Q11: =E12 -> 0 | R11: =F12 -> 0 | S11: =G12 -> 0 | T11: =H12 -> 0 | U11: =I12 -> 0 | V11: =J12 -> 0 | W11: =K12 -> 0 | ... AA11: =O12 -> 0 | AC11: LE HAVRE | AD11: =VLOOKUP($AC11, $C$2:$AA$28,2,FALSE) -> 0 | AE11: =VLOOKUP($AC11, $C$2:$AA$28,3,FALSE) -> 0 | AF11: =VLOOKUP($AC11, $C$2:$AA$28,4,FALSE) -> 0 | AG11: =VLOOKUP($AC11, $C$2:$AA$28,5,FALSE) -> 0 | AH11: =VLOOKUP($AC11, $C$2:$AA$28,6,FALSE) -> 0 | AI11: =VLOOKUP($AC11, $C$2:$AA$28,7,FALSE) -> 0 | AJ11: =VLOOKUP($AC11, $C$2:$AA$28,8,FALSE) -> 0 | AK11: =VLOOKUP($AC11, $C$2:$AA$28,9,FALSE) -> 0 | AL11: =VLOOKUP($AC11, $C$2:$AA$28,10,FALSE) -> 0 | AM11: =VLOOKUP($AC11, $C$2:$AA$28,11,FALSE) -> 0 | AN11: =VLOOKUP($AC11, $C$2:$AA$28,12,FALSE) -> 0 | AO11: =VLOOKUP($AC11, $C$2:$AA$28,13,FALSE) -> 0 | AP11: =VLOOKUP($AC11, $C$2:$AA$28,14,FALSE) -> 0 | AQ11: =VLOOKUP($AC11, $C$2:$AA$28,15,FALSE) -> 0 | AR11: =VLOOKUP($AC11, $C$2:$AA$28,16,FALSE) -> 0 | AS11: =VLOOKUP($AC11, $C$2:$AA$28,17,FALSE) -> 0 | AT11: =VLOOKUP($AC11, $C$2:$AA$28,18,FALSE) -> 0 | AU11: =VLOOKUP($AC11, $C$2:$AA$28,19,FALSE) -> 0 | AV11: =VLOOKUP($AC11, $C$2:$AA$28,20,FALSE) -> 0 | AW11: =VLOOKUP($AC11, $C$2:$AA$28,21,FALSE) -> 0 | AX11: =VLOOKUP($AC11, $C$2:$AA$28,22,FALSE) -> 0 | AY11: =VLOOKUP($AC11, $C$2:$AA$28,23,FALSE) -> 0 | AZ11: =VLOOKUP($AC11, $C$2:$AA$28,24,FALSE) -> 0 | BA11: =VLOOKUP($AC11, $C$2:$AA$28,25,FALSE) -> 0
C12: TOURS | D12: =G12*2+I12*3+K12*1 -> 0 | G12: =E12-I12 -> 0 | H12: =F12-J12 -> 0 | P12: =D11 -> 0 | Q12: =E11 -> 0 | R12: =F11 -> 0 | S12: =G11 -> 0 | T12: =H11 -> 0 | U12: =I11 -> 0 | V12: =J11 -> 0 | W12: =K11 -> 0 | ... AA12: =O11 -> 0 | AC12: LORIENT | AD12: =VLOOKUP($AC12, $C$2:$AA$28,2,FALSE) -> 0 | AE12: =VLOOKUP($AC12, $C$2:$AA$28,3,FALSE) -> 0 | AF12: =VLOOKUP($AC12, $C$2:$AA$28,4,FALSE) -> 0 | AG12: =VLOOKUP($AC12, $C$2:$AA$28,5,FALSE) -> 0 | AH12: =VLOOKUP($AC12, $C$2:$AA$28,6,FALSE) -> 0 | AI12: =VLOOKUP($AC12, $C$2:$AA$28,7,FALSE) -> 0 | AJ12: =VLOOKUP($AC12, $C$2:$AA$28,8,FALSE) -> 0 | AK12: =VLOOKUP($AC12, $C$2:$AA$28,9,FALSE) -> 0 | AL12: =VLOOKUP($AC12, $C$2:$AA$28,10,FALSE) -> 0 | AM12: =VLOOKUP($AC12, $C$2:$AA$28,11,FALSE) -> 0 | AN12: =VLOOKUP($AC12, $C$2:$AA$28,12,FALSE) -> 0 | AO12: =VLOOKUP($AC12, $C$2:$AA$28,13,FALSE) -> 0 | AP12: =VLOOKUP($AC12, $C$2:$AA$28,14,FALSE) -> 0 | AQ12: =VLOOKUP($AC12, $C$2:$AA$28,15,FALSE) -> 0 | AR12: =VLOOKUP($AC12, $C$2:$AA$28,16,FALSE) -> 0 | AS12: =VLOOKUP($AC12, $C$2:$AA$28,17,FALSE) -> 0 | AT12: =VLOOKUP($AC12, $C$2:$AA$28,18,FALSE) -> 0 | AU12: =VLOOKUP($AC12, $C$2:$AA$28,19,FALSE) -> 0 | AV12: =VLOOKUP($AC12, $C$2:$AA$28,20,FALSE) -> 0 | AW12: =VLOOKUP($AC12, $C$2:$AA$28,21,FALSE) -> 0 | AX12: =VLOOKUP($AC12, $C$2:$AA$28,22,FALSE) -> 0 | AY12: =VLOOKUP($AC12, $C$2:$AA$28,23,FALSE) -> 0 | AZ12: =VLOOKUP($AC12, $C$2:$AA$28,24,FALSE) -> 0 | BA12: =VLOOKUP($AC12, $C$2:$AA$28,25,FALSE) -> 0
AC13: TARBES | AD13: =VLOOKUP($AC13, $C$2:$AA$28,2,FALSE) -> 0 | AE13: =VLOOKUP($AC13, $C$2:$AA$28,3,FALSE) -> 0 | AF13: =VLOOKUP($AC13, $C$2:$AA$28,4,FALSE) -> 0 | AG13: =VLOOKUP($AC13, $C$2:$AA$28,5,FALSE) -> 0 | AH13: =VLOOKUP($AC13, $C$2:$AA$28,6,FALSE) -> 0 | AI13: =VLOOKUP($AC13, $C$2:$AA$28,7,FALSE) -> 0 | AJ13: =VLOOKUP($AC13, $C$2:$AA$28,8,FALSE) -> 0 | AK13: =VLOOKUP($AC13, $C$2:$AA$28,9,FALSE) -> 0 | AL13: =VLOOKUP($AC13, $C$2:$AA$28,10,FALSE) -> 0 | AM13: =VLOOKUP($AC13, $C$2:$AA$28,11,FALSE) -> 0 | AN13: =VLOOKUP($AC13, $C$2:$AA$28,12,FALSE) -> 0 | AO13: =VLOOKUP($AC13, $C$2:$AA$28,13,FALSE) -> 0 | AP13: =VLOOKUP($AC13, $C$2:$AA$28,14,FALSE) -> 0 | AQ13: =VLOOKUP($AC13, $C$2:$AA$28,15,FALSE) -> 0 | AR13: =VLOOKUP($AC13, $C$2:$AA$28,16,FALSE) -> 0 | AS13: =VLOOKUP($AC13, $C$2:$AA$28,17,FALSE) -> 0 | AT13: =VLOOKUP($AC13, $C$2:$AA$28,18,FALSE) -> 0 | AU13: =VLOOKUP($AC13, $C$2:$AA$28,19,FALSE) -> 0 | AV13: =VLOOKUP($AC13, $C$2:$AA$28,20,FALSE) -> 0 | AW13: =VLOOKUP($AC13, $C$2:$AA$28,21,FALSE) -> 0 | AX13: =VLOOKUP($AC13, $C$2:$AA$28,22,FALSE) -> 0 | AY13: =VLOOKUP($AC13, $C$2:$AA$28,23,FALSE) -> 0 | AZ13: =VLOOKUP($AC13, $C$2:$AA$28,24,FALSE) -> 0 | BA13: =VLOOKUP($AC13, $C$2:$AA$28,25,FALSE) -> 0
D14: SCORE | E14: TT | F14: TR | G14: TR2 | H14: TT2 | I14: TR3 | J14: TT3 | K14: LFR | L14: LFT | M14: BP | N14: ORB | O14: DRB | P14: Pts | Q14: TT | R14: TR | S14: TR2 | T14: TT2 | U14: TR3 | V14: TT3 | W14: LFR | X14: LFT | Y14: BP | Z14: ORB | AA14: DRB | AC14: TOULOUSE | AD14: =VLOOKUP($AC14, $C$2:$AA$28,2,FALSE) -> 0 | AE14: =VLOOKUP($AC14, $C$2:$AA$28,3,FALSE) -> 0 | AF14: =VLOOKUP($AC14, $C$2:$AA$28,4,FALSE) -> 0 | AG14: =VLOOKUP($AC14, $C$2:$AA$28,5,FALSE) -> 0 | AH14: =VLOOKUP($AC14, $C$2:$AA$28,6,FALSE) -> 0 | AI14: =VLOOKUP($AC14, $C$2:$AA$28,7,FALSE) -> 0 | AJ14: =VLOOKUP($AC14, $C$2:$AA$28,8,FALSE) -> 0 | AK14: =VLOOKUP($AC14, $C$2:$AA$28,9,FALSE) -> 0 | AL14: =VLOOKUP($AC14, $C$2:$AA$28,10,FALSE) -> 0 | AM14: =VLOOKUP($AC14, $C$2:$AA$28,11,FALSE) -> 0 | AN14: =VLOOKUP($AC14, $C$2:$AA$28,12,FALSE) -> 0 | AO14: =VLOOKUP($AC14, $C$2:$AA$28,13,FALSE) -> 0 | AP14: =VLOOKUP($AC14, $C$2:$AA$28,14,FALSE) -> 0 | AQ14: =VLOOKUP($AC14, $C$2:$AA$28,15,FALSE) -> 0 | AR14: =VLOOKUP($AC14, $C$2:$AA$28,16,FALSE) -> 0 | AS14: =VLOOKUP($AC14, $C$2:$AA$28,17,FALSE) -> 0 | AT14: =VLOOKUP($AC14, $C$2:$AA$28,18,FALSE) -> 0 | AU14: =VLOOKUP($AC14, $C$2:$AA$28,19,FALSE) -> 0 | AV14: =VLOOKUP($AC14, $C$2:$AA$28,20,FALSE) -> 0 | AW14: =VLOOKUP($AC14, $C$2:$AA$28,21,FALSE) -> 0 | AX14: =VLOOKUP($AC14, $C$2:$AA$28,22,FALSE) -> 0 | AY14: =VLOOKUP($AC14, $C$2:$AA$28,23,FALSE) -> 0 | AZ14: =VLOOKUP($AC14, $C$2:$AA$28,24,FALSE) -> 0 | BA14: =VLOOKUP($AC14, $C$2:$AA$28,25,FALSE) -> 0
B15: MATCH 4 | C15: TARBES | D15: =G15*2+I15*3+K15*1 -> 0 | G15: =E15-I15 -> 0 | H15: =F15-J15 -> 0 | P15: =D16 -> 0 | Q15: =E16 -> 0 | R15: =F16 -> 0 | S15: =G16 -> 0 | T15: =H16 -> 0 | U15: =I16 -> 0 | V15: =J16 -> 0 | W15: =K16 -> 0 | ... AA15: =O16 -> 0 | AC15: TOURS | AD15: =VLOOKUP($AC15, $C$2:$AA$28,2,FALSE) -> 0 | AE15: =VLOOKUP($AC15, $C$2:$AA$28,3,FALSE) -> 0 | AF15: =VLOOKUP($AC15, $C$2:$AA$28,4,FALSE) -> 0 | AG15: =VLOOKUP($AC15, $C$2:$AA$28,5,FALSE) -> 0 | AH15: =VLOOKUP($AC15, $C$2:$AA$28,6,FALSE) -> 0 | AI15: =VLOOKUP($AC15, $C$2:$AA$28,7,FALSE) -> 0 | AJ15: =VLOOKUP($AC15, $C$2:$AA$28,8,FALSE) -> 0 | AK15: =VLOOKUP($AC15, $C$2:$AA$28,9,FALSE) -> 0 | AL15: =VLOOKUP($AC15, $C$2:$AA$28,10,FALSE) -> 0 | AM15: =VLOOKUP($AC15, $C$2:$AA$28,11,FALSE) -> 0 | AN15: =VLOOKUP($AC15, $C$2:$AA$28,12,FALSE) -> 0 | AO15: =VLOOKUP($AC15, $C$2:$AA$28,13,FALSE) -> 0 | AP15: =VLOOKUP($AC15, $C$2:$AA$28,14,FALSE) -> 0 | AQ15: =VLOOKUP($AC15, $C$2:$AA$28,15,FALSE) -> 0 | AR15: =VLOOKUP($AC15, $C$2:$AA$28,16,FALSE) -> 0 | AS15: =VLOOKUP($AC15, $C$2:$AA$28,17,FALSE) -> 0 | AT15: =VLOOKUP($AC15, $C$2:$AA$28,18,FALSE) -> 0 | AU15: =VLOOKUP($AC15, $C$2:$AA$28,19,FALSE) -> 0 | AV15: =VLOOKUP($AC15, $C$2:$AA$28,20,FALSE) -> 0 | AW15: =VLOOKUP($AC15, $C$2:$AA$28,21,FALSE) -> 0 | AX15: =VLOOKUP($AC15, $C$2:$AA$28,22,FALSE) -> 0 | AY15: =VLOOKUP($AC15, $C$2:$AA$28,23,FALSE) -> 0 | AZ15: =VLOOKUP($AC15, $C$2:$AA$28,24,FALSE) -> 0 | BA15: =VLOOKUP($AC15, $C$2:$AA$28,25,FALSE) -> 0
C16: LORIENT | D16: =G16*2+I16*3+K16*1 -> 0 | G16: =E16-I16 -> 0 | H16: =F16-J16 -> 0 | P16: =D15 -> 0 | Q16: =E15 -> 0 | R16: =F15 -> 0 | S16: =G15 -> 0 | T16: =H15 -> 0 | U16: =I15 -> 0 | V16: =J15 -> 0 | W16: =K15 -> 0 | ... AA16: =O15 -> 0 | AC16: VANVES | AD16: =VLOOKUP($AC16, $C$2:$AA$28,2,FALSE) -> 0 | AE16: =VLOOKUP($AC16, $C$2:$AA$28,3,FALSE) -> 0 | AF16: =VLOOKUP($AC16, $C$2:$AA$28,4,FALSE) -> 0 | AG16: =VLOOKUP($AC16, $C$2:$AA$28,5,FALSE) -> 0 | AH16: =VLOOKUP($AC16, $C$2:$AA$28,6,FALSE) -> 0 | AI16: =VLOOKUP($AC16, $C$2:$AA$28,7,FALSE) -> 0 | AJ16: =VLOOKUP($AC16, $C$2:$AA$28,8,FALSE) -> 0 | AK16: =VLOOKUP($AC16, $C$2:$AA$28,9,FALSE) -> 0 | AL16: =VLOOKUP($AC16, $C$2:$AA$28,10,FALSE) -> 0 | AM16: =VLOOKUP($AC16, $C$2:$AA$28,11,FALSE) -> 0 | AN16: =VLOOKUP($AC16, $C$2:$AA$28,12,FALSE) -> 0 | AO16: =VLOOKUP($AC16, $C$2:$AA$28,13,FALSE) -> 0 | AP16: =VLOOKUP($AC16, $C$2:$AA$28,14,FALSE) -> 0 | AQ16: =VLOOKUP($AC16, $C$2:$AA$28,15,FALSE) -> 0 | AR16: =VLOOKUP($AC16, $C$2:$AA$28,16,FALSE) -> 0 | AS16: =VLOOKUP($AC16, $C$2:$AA$28,17,FALSE) -> 0 | AT16: =VLOOKUP($AC16, $C$2:$AA$28,18,FALSE) -> 0 | AU16: =VLOOKUP($AC16, $C$2:$AA$28,19,FALSE) -> 0 | AV16: =VLOOKUP($AC16, $C$2:$AA$28,20,FALSE) -> 0 | AW16: =VLOOKUP($AC16, $C$2:$AA$28,21,FALSE) -> 0 | AX16: =VLOOKUP($AC16, $C$2:$AA$28,22,FALSE) -> 0 | AY16: =VLOOKUP($AC16, $C$2:$AA$28,23,FALSE) -> 0 | AZ16: =VLOOKUP($AC16, $C$2:$AA$28,24,FALSE) -> 0 | BA16: =VLOOKUP($AC16, $C$2:$AA$28,25,FALSE) -> 0
AC17: VITRE | AD17: =VLOOKUP($AC17, $C$2:$AA$28,2,FALSE) -> 0 | AE17: =VLOOKUP($AC17, $C$2:$AA$28,3,FALSE) -> 0 | AF17: =VLOOKUP($AC17, $C$2:$AA$28,4,FALSE) -> 0 | AG17: =VLOOKUP($AC17, $C$2:$AA$28,5,FALSE) -> 0 | AH17: =VLOOKUP($AC17, $C$2:$AA$28,6,FALSE) -> 0 | AI17: =VLOOKUP($AC17, $C$2:$AA$28,7,FALSE) -> 0 | AJ17: =VLOOKUP($AC17, $C$2:$AA$28,8,FALSE) -> 0 | AK17: =VLOOKUP($AC17, $C$2:$AA$28,9,FALSE) -> 0 | AL17: =VLOOKUP($AC17, $C$2:$AA$28,10,FALSE) -> 0 | AM17: =VLOOKUP($AC17, $C$2:$AA$28,11,FALSE) -> 0 | AN17: =VLOOKUP($AC17, $C$2:$AA$28,12,FALSE) -> 0 | AO17: =VLOOKUP($AC17, $C$2:$AA$28,13,FALSE) -> 0 | AP17: =VLOOKUP($AC17, $C$2:$AA$28,14,FALSE) -> 0 | AQ17: =VLOOKUP($AC17, $C$2:$AA$28,15,FALSE) -> 0 | AR17: =VLOOKUP($AC17, $C$2:$AA$28,16,FALSE) -> 0 | AS17: =VLOOKUP($AC17, $C$2:$AA$28,17,FALSE) -> 0 | AT17: =VLOOKUP($AC17, $C$2:$AA$28,18,FALSE) -> 0 | AU17: =VLOOKUP($AC17, $C$2:$AA$28,19,FALSE) -> 0 | AV17: =VLOOKUP($AC17, $C$2:$AA$28,20,FALSE) -> 0 | AW17: =VLOOKUP($AC17, $C$2:$AA$28,21,FALSE) -> 0 | AX17: =VLOOKUP($AC17, $C$2:$AA$28,22,FALSE) -> 0 | AY17: =VLOOKUP($AC17, $C$2:$AA$28,23,FALSE) -> 0 | AZ17: =VLOOKUP($AC17, $C$2:$AA$28,24,FALSE) -> 0 | BA17: =VLOOKUP($AC17, $C$2:$AA$28,25,FALSE) -> 0
D18: SCORE | E18: TT | F18: TR | G18: TR2 | H18: TT2 | I18: TR3 | J18: TT3 | K18: LFR | L18: LFT | M18: BP | N18: ORB | O18: DRB | P18: Pts | Q18: TT | R18: TR | S18: TR2 | T18: TT2 | U18: TR3 | V18: TT3 | W18: LFR | X18: LFT | Y18: BP | Z18: ORB | AA18: DRB
B19: MATCH 5 | C19: TOULOUSE | D19: =G19*2+I19*3+K19*1 -> 0 | G19: =E19-I19 -> 0 | H19: =F19-J19 -> 0 | P19: =D20 -> 0 | Q19: =E20 -> 0 | R19: =F20 -> 0 | S19: =G20 -> 0 | T19: =H20 -> 0 | U19: =I20 -> 0 | V19: =J20 -> 0 | W19: =K20 -> 0 | ... AA19: =O20 -> 0
C20: DAX | D20: =G20*2+I20*3+K20*1 -> 0 | G20: =E20-I20 -> 0 | H20: =F20-J20 -> 0 | P20: =D19 -> 0 | Q20: =E19 -> 0 | R20: =F19 -> 0 | S20: =G19 -> 0 | T20: =H19 -> 0 | U20: =I19 -> 0 | V20: =J19 -> 0 | W20: =K19 -> 0 | ... AA20: =O19 -> 0
D22: SCORE | E22: TT | F22: TR | G22: TR2 | H22: TT2 | I22: TR3 | J22: TT3 | K22: LFR | L22: LFT | M22: BP | N22: ORB | O22: DRB | P22: Pts | Q22: TT | R22: TR | S22: TR2 | T22: TT2 | U22: TR3 | V22: TT3 | W22: LFR | X22: LFT | Y22: BP | Z22: ORB | AA22: DRB
B23: MATCH 6 | C23: BORDEAUX | D23: =G23*2+I23*3+K23*1 -> 0 | G23: =E23-I23 -> 0 | H23: =F23-J23 -> 0 | P23: =D24 -> 0 | Q23: =E24 -> 0 | R23: =F24 -> 0 | S23: =G24 -> 0 | T23: =H24 -> 0 | U23: =I24 -> 0 | V23: =J24 -> 0 | W23: =K24 -> 0 | ... AA23: =O24 -> 0
C24: CHALLANS | D24: =G24*2+I24*3+K24*1 -> 0 | G24: =E24-I24 -> 0 | H24: =F24-J24 -> 0 | P24: =D23 -> 0 | Q24: =E23 -> 0 | R24: =F23 -> 0 | S24: =G23 -> 0 | T24: =H23 -> 0 | U24: =I23 -> 0 | V24: =J23 -> 0 | W24: =K23 -> 0 | ... AA24: =O23 -> 0
D26: SCORE | E26: TT | F26: TR | G26: TR2 | H26: TT2 | I26: TR3 | J26: TT3 | K26: LFR | L26: LFT | M26: BP | N26: ORB | O26: DRB | P26: Pts | Q26: TT | R26: TR | S26: TR2 | T26: TT2 | U26: TR3 | V26: TT3 | W26: LFR | X26: LFT | Y26: BP | Z26: ORB | AA26: DRB
B27: MATCH 7 | C27: VANVES | D27: =G27*2+I27*3+K27*1 -> 0 | G27: =E27-I27 -> 0 | H27: =F27-J27 -> 0 | P27: =D28 -> 0 | Q27: =E28 -> 0 | R27: =F28 -> 0 | S27: =G28 -> 0 | T27: =H28 -> 0 | U27: =I28 -> 0 | V27: =J28 -> 0 | W27: =K28 -> 0 | ... AA27: =O28 -> 0
C28: VITRE | D28: =G28*2+I28*3+K28*1 -> 0 | G28: =E28-I28 -> 0 | H28: =F28-J28 -> 0 | P28: =D27 -> 0 | Q28: =E27 -> 0 | R28: =F27 -> 0 | S28: =G27 -> 0 | T28: =H27 -> 0 | U28: =I27 -> 0 | V28: =J27 -> 0 | W28: =K27 -> 0 | ... AA28: =O27 -> 0

Sheet J8
D2: SCORE | E2: TT | F2: TR | G2: TR2 | H2: TT2 | I2: TR3 | J2: TT3 | K2: LFR | L2: LFT | M2: BP | N2: ORB | O2: DRB | P2: Pts | Q2: TT | R2: TR | S2: TR2 | T2: TT2 | U2: TR3 | V2: TT3 | W2: LFR | X2: LFT | Y2: BP | Z2: ORB | AA2: DRB
B3: MATCH 1 | C3: LE HAVRE | D3: =G3*2+I3*3+K3*1 -> 0 | G3: =E3-I3 -> 0 | H3: =F3-J3 -> 0 | P3: =D4 -> 0 | Q3: =E4 -> 0 | R3: =F4 -> 0 | S3: =G4 -> 0 | T3: =H4 -> 0 | U3: =I4 -> 0 | V3: =J4 -> 0 | W3: =K4 -> 0 | ... AA3: =O4 -> 0 | AD3: PTS | AE3: TR | AF3: TT | AG3: TR2 | AH3: TT2 | AI3: TR3 | AJ3: TT3 | AK3: LFR | AL3: LFT | AM3: BP | AN3: ORB | AO3: DRB | AP3: Pts | AQ3: TT | AR3: TR | AS3: TR2 | AT3: TT2 | AU3: TR3 | AV3: TT3 | AW3: LFR | AX3: LFT | AY3: BP | AZ3: ORB | BA3: DRB
C4: BOULOGNE | D4: =G4*2+I4*3+K4*1 -> 0 | G4: =E4-I4 -> 0 | H4: =F4-J4 -> 0 | P4: =D3 -> 0 | Q4: =E3 -> 0 | R4: =F3 -> 0 | S4: =G3 -> 0 | T4: =H3 -> 0 | U4: =I3 -> 0 | V4: =J3 -> 0 | W4: =K3 -> 0 | ... AA4: =O3 -> 0 | AC4: ANGERS | AD4: =VLOOKUP($AC4, $C$2:$AA$28,2,FALSE) -> 0 | AE4: =VLOOKUP($AC4, $C$2:$AA$28,3,FALSE) -> 0 | AF4: =VLOOKUP($AC4, $C$2:$AA$28,4,FALSE) -> 0 | AG4: =VLOOKUP($AC4, $C$2:$AA$28,5,FALSE) -> 0 | AH4: =VLOOKUP($AC4, $C$2:$AA$28,6,FALSE) -> 0 | AI4: =VLOOKUP($AC4, $C$2:$AA$28,7,FALSE) -> 0 | AJ4: =VLOOKUP($AC4, $C$2:$AA$28,8,FALSE) -> 0 | AK4: =VLOOKUP($AC4, $C$2:$AA$28,9,FALSE) -> 0 | AL4: =VLOOKUP($AC4, $C$2:$AA$28,10,FALSE) -> 0 | AM4: =VLOOKUP($AC4, $C$2:$AA$28,11,FALSE) -> 0 | AN4: =VLOOKUP($AC4, $C$2:$AA$28,12,FALSE) -> 0 | AO4: =VLOOKUP($AC4, $C$2:$AA$28,13,FALSE) -> 0 | AP4: =VLOOKUP($AC4, $C$2:$AA$28,14,FALSE) -> 0 | AQ4: =VLOOKUP($AC4, $C$2:$AA$28,15,FALSE) -> 0 | AR4: =VLOOKUP($AC4, $C$2:$AA$28,16,FALSE) -> 0 | AS4: =VLOOKUP($AC4, $C$2:$AA$28,17,FALSE) -> 0 | AT4: =VLOOKUP($AC4, $C$2:$AA$28,18,FALSE) -> 0 | AU4: =VLOOKUP($AC4, $C$2:$AA$28,19,FALSE) -> 0 | AV4: =VLOOKUP($AC4, $C$2:$AA$28,20,FALSE) -> 0 | AW4: =VLOOKUP($AC4, $C$2:$AA$28,21,FALSE) -> 0 | AX4: =VLOOKUP($AC4, $C$2:$AA$28,22,FALSE) -> 0 | AY4: =VLOOKUP($AC4, $C$2:$AA$28,23,FALSE) -> 0 | AZ4: =VLOOKUP($AC4, $C$2:$AA$28,24,FALSE) -> 0 | BA4: =VLOOKUP($AC4, $C$2:$AA$28,25,FALSE) -> 0
AC5: BORDEAUX | AD5: =VLOOKUP($AC5, $C$2:$AA$28,2,FALSE) -> 0 | AE5: =VLOOKUP($AC5, $C$2:$AA$28,3,FALSE) -> 0 | AF5: =VLOOKUP($AC5, $C$2:$AA$28,4,FALSE) -> 0 | AG5: =VLOOKUP($AC5, $C$2:$AA$28,5,FALSE) -> 0 | AH5: =VLOOKUP($AC5, $C$2:$AA$28,6,FALSE) -> 0 | AI5: =VLOOKUP($AC5, $C$2:$AA$28,7,FALSE) -> 0 | AJ5: =VLOOKUP($AC5, $C$2:$AA$28,8,FALSE) -> 0 | AK5: =VLOOKUP($AC5, $C$2:$AA$28,9,FALSE) -> 0 | AL5: =VLOOKUP($AC5, $C$2:$AA$28,10,FALSE) -> 0 | AM5: =VLOOKUP($AC5, $C$2:$AA$28,11,FALSE) -> 0 | AN5: =VLOOKUP($AC5, $C$2:$AA$28,12,FALSE) -> 0 | AO5: =VLOOKUP($AC5, $C$2:$AA$28,13,FALSE) -> 0 | AP5: =VLOOKUP($AC5, $C$2:$AA$28,14,FALSE) -> 0 | AQ5: =VLOOKUP($AC5, $C$2:$AA$28,15,FALSE) -> 0 | AR5: =VLOOKUP($AC5, $C$2:$AA$28,16,FALSE) -> 0 | AS5: =VLOOKUP($AC5, $C$2:$AA$28,17,FALSE) -> 0 | AT5: =VLOOKUP($AC5, $C$2:$AA$28,18,FALSE) -> 0 | AU5: =VLOOKUP($AC5, $C$2:$AA$28,19,FALSE) -> 0 | AV5: =VLOOKUP($AC5, $C$2:$AA$28,20,FALSE) -> 0 | AW5: =VLOOKUP($AC5, $C$2:$AA$28,21,FALSE) -> 0 | AX5: =VLOOKUP($AC5, $C$2:$AA$28,22,FALSE) -> 0 | AY5: =VLOOKUP($AC5, $C$2:$AA$28,23,FALSE) -> 0 | AZ5: =VLOOKUP($AC5, $C$2:$AA$28,24,FALSE) -> 0 | BA5: =VLOOKUP($AC5, $C$2:$AA$28,25,FALSE) -> 0
D6: SCORE | E6: TT | F6: TR | G6: TR2 | H6: TT2 | I6: TR3 | J6: TT3 | K6: LFR | L6: J8 | M6: BP | N6: ORB | O6: DRB | P6: Pts | Q6: TT | R6: TR | S6: TR2 | T6: TT2 | U6: TR3 | V6: TT3 | W6: LFR | X6: LFT | Y6: BP | Z6: ORB | AA6: DRB | AC6: BOULOGNE | AD6: =VLOOKUP($AC6, $C$2:$AA$28,2,FALSE) -> 0 | AE6: =VLOOKUP($AC6, $C$2:$AA$28,3,FALSE) -> 0 | AF6: =VLOOKUP($AC6, $C$2:$AA$28,4,FALSE) -> 0 | AG6: =VLOOKUP($AC6, $C$2:$AA$28,5,FALSE) -> 0 | AH6: =VLOOKUP($AC6, $C$2:$AA$28,6,FALSE) -> 0 | AI6: =VLOOKUP($AC6, $C$2:$AA$28,7,FALSE) -> 0 | AJ6: =VLOOKUP($AC6, $C$2:$AA$28,8,FALSE) -> 0 | AK6: =VLOOKUP($AC6, $C$2:$AA$28,9,FALSE) -> 0 | AL6: =VLOOKUP($AC6, $C$2:$AA$28,10,FALSE) -> 0 | AM6: =VLOOKUP($AC6, $C$2:$AA$28,11,FALSE) -> 0 | AN6: =VLOOKUP($AC6, $C$2:$AA$28,12,FALSE) -> 0 | AO6: =VLOOKUP($AC6, $C$2:$AA$28,13,FALSE) -> 0 | AP6: =VLOOKUP($AC6, $C$2:$AA$28,14,FALSE) -> 0 | AQ6: =VLOOKUP($AC6, $C$2:$AA$28,15,FALSE) -> 0 | AR6: =VLOOKUP($AC6, $C$2:$AA$28,16,FALSE) -> 0 | AS6: =VLOOKUP($AC6, $C$2:$AA$28,17,FALSE) -> 0 | AT6: =VLOOKUP($AC6, $C$2:$AA$28,18,FALSE) -> 0 | AU6: =VLOOKUP($AC6, $C$2:$AA$28,19,FALSE) -> 0 | AV6: =VLOOKUP($AC6, $C$2:$AA$28,20,FALSE) -> 0 | AW6: =VLOOKUP($AC6, $C$2:$AA$28,21,FALSE) -> 0 | AX6: =VLOOKUP($AC6, $C$2:$AA$28,22,FALSE) -> 0 | AY6: =VLOOKUP($AC6, $C$2:$AA$28,23,FALSE) -> 0 | AZ6: =VLOOKUP($AC6, $C$2:$AA$28,24,FALSE) -> 0 | BA6: =VLOOKUP($AC6, $C$2:$AA$28,25,FALSE) -> 0
B7: MATCH 2 | C7: LA ROCHELLE | D7: =G7*2+I7*3+K7*1 -> 0 | G7: =E7-I7 -> 0 | H7: =F7-J7 -> 0 | P7: =D8 -> 0 | Q7: =E8 -> 0 | R7: =F8 -> 0 | S7: =G8 -> 0 | T7: =H8 -> 0 | U7: =I8 -> 0 | V7: =J8 -> 0 | W7: =K8 -> 0 | ... AA7: =O8 -> 0 | AC7: CAEN | AD7: =VLOOKUP($AC7, $C$2:$AA$28,2,FALSE) -> 0 | AE7: =VLOOKUP($AC7, $C$2:$AA$28,3,FALSE) -> 0 | AF7: =VLOOKUP($AC7, $C$2:$AA$28,4,FALSE) -> 0 | AG7: =VLOOKUP($AC7, $C$2:$AA$28,5,FALSE) -> 0 | AH7: =VLOOKUP($AC7, $C$2:$AA$28,6,FALSE) -> 0 | AI7: =VLOOKUP($AC7, $C$2:$AA$28,7,FALSE) -> 0 | AJ7: =VLOOKUP($AC7, $C$2:$AA$28,8,FALSE) -> 0 | AK7: =VLOOKUP($AC7, $C$2:$AA$28,9,FALSE) -> 0 | AL7: =VLOOKUP($AC7, $C$2:$AA$28,10,FALSE) -> 0 | AM7: =VLOOKUP($AC7, $C$2:$AA$28,11,FALSE) -> 0 | AN7: =VLOOKUP($AC7, $C$2:$AA$28,12,FALSE) -> 0 | AO7: =VLOOKUP($AC7, $C$2:$AA$28,13,FALSE) -> 0 | AP7: =VLOOKUP($AC7, $C$2:$AA$28,14,FALSE) -> 0 | AQ7: =VLOOKUP($AC7, $C$2:$AA$28,15,FALSE) -> 0 | AR7: =VLOOKUP($AC7, $C$2:$AA$28,16,FALSE) -> 0 | AS7: =VLOOKUP($AC7, $C$2:$AA$28,17,FALSE) -> 0 | AT7: =VLOOKUP($AC7, $C$2:$AA$28,18,FALSE) -> 0 | AU7: =VLOOKUP($AC7, $C$2:$AA$28,19,FALSE) -> 0 | AV7: =VLOOKUP($AC7, $C$2:$AA$28,20,FALSE) -> 0 | AW7: =VLOOKUP($AC7, $C$2:$AA$28,21,FALSE) -> 0 | AX7: =VLOOKUP($AC7, $C$2:$AA$28,22,FALSE) -> 0 | AY7: =VLOOKUP($AC7, $C$2:$AA$28,23,FALSE) -> 0 | AZ7: =VLOOKUP($AC7, $C$2:$AA$28,24,FALSE) -> 0 | BA7: =VLOOKUP($AC7, $C$2:$AA$28,25,FALSE) -> 0
C8: CAEN | D8: =G8*2+I8*3+K8*1 -> 0 | G8: =E8-I8 -> 0 | H8: =F8-J8 -> 0 | P8: =D7 -> 0 | Q8: =E7 -> 0 | R8: =F7 -> 0 | S8: =G7 -> 0 | T8: =H7 -> 0 | U8: =I7 -> 0 | V8: =J7 -> 0 | W8: =K7 -> 0 | ... AA8: =O7 -> 0 | AC8: CHALLANS | AD8: =VLOOKUP($AC8, $C$2:$AA$28,2,FALSE) -> 0 | AE8: =VLOOKUP($AC8, $C$2:$AA$28,3,FALSE) -> 0 | AF8: =VLOOKUP($AC8, $C$2:$AA$28,4,FALSE) -> 0 | AG8: =VLOOKUP($AC8, $C$2:$AA$28,5,FALSE) -> 0 | AH8: =VLOOKUP($AC8, $C$2:$AA$28,6,FALSE) -> 0 | AI8: =VLOOKUP($AC8, $C$2:$AA$28,7,FALSE) -> 0 | AJ8: =VLOOKUP($AC8, $C$2:$AA$28,8,FALSE) -> 0 | AK8: =VLOOKUP($AC8, $C$2:$AA$28,9,FALSE) -> 0 | AL8: =VLOOKUP($AC8, $C$2:$AA$28,10,FALSE) -> 0 | AM8: =VLOOKUP($AC8, $C$2:$AA$28,11,FALSE) -> 0 | AN8: =VLOOKUP($AC8, $C$2:$AA$28,12,FALSE) -> 0 | AO8: =VLOOKUP($AC8, $C$2:$AA$28,13,FALSE) -> 0 | AP8: =VLOOKUP($AC8, $C$2:$AA$28,14,FALSE) -> 0 | AQ8: =VLOOKUP($AC8, $C$2:$AA$28,15,FALSE) -> 0 | AR8: =VLOOKUP($AC8, $C$2:$AA$28,16,FALSE) -> 0 | AS8: =VLOOKUP($AC8, $C$2:$AA$28,17,FALSE) -> 0 | AT8: =VLOOKUP($AC8, $C$2:$AA$28,18,FALSE) -> 0 | AU8: =VLOOKUP($AC8, $C$2:$AA$28,19,FALSE) -> 0 | AV8: =VLOOKUP($AC8, $C$2:$AA$28,20,FALSE) -> 0 | AW8: =VLOOKUP($AC8, $C$2:$AA$28,21,FALSE) -> 0 | AX8: =VLOOKUP($AC8, $C$2:$AA$28,22,FALSE) -> 0 | AY8: =VLOOKUP($AC8, $C$2:$AA$28,23,FALSE) -> 0 | AZ8: =VLOOKUP($AC8, $C$2:$AA$28,24,FALSE) -> 0 | BA8: =VLOOKUP($AC8, $C$2:$AA$28,25,FALSE) -> 0
AC9: DAX | AD9: =VLOOKUP($AC9, $C$2:$AA$28,2,FALSE) -> 0 | AE9: =VLOOKUP($AC9, $C$2:$AA$28,3,FALSE) -> 0 | AF9: =VLOOKUP($AC9, $C$2:$AA$28,4,FALSE) -> 0 | AG9: =VLOOKUP($AC9, $C$2:$AA$28,5,FALSE) -> 0 | AH9: =VLOOKUP($AC9, $C$2:$AA$28,6,FALSE) -> 0 | AI9: =VLOOKUP($AC9, $C$2:$AA$28,7,FALSE) -> 0 | AJ9: =VLOOKUP($AC9, $C$2:$AA$28,8,FALSE) -> 0 | AK9: =VLOOKUP($AC9, $C$2:$AA$28,9,FALSE) -> 0 | AL9: =VLOOKUP($AC9, $C$2:$AA$28,10,FALSE) -> 0 | AM9: =VLOOKUP($AC9, $C$2:$AA$28,11,FALSE) -> 0 | AN9: =VLOOKUP($AC9, $C$2:$AA$28,12,FALSE) -> 0 | AO9: =VLOOKUP($AC9, $C$2:$AA$28,13,FALSE) -> 0 | AP9: =VLOOKUP($AC9, $C$2:$AA$28,14,FALSE) -> 0 | AQ9: =VLOOKUP($AC9, $C$2:$AA$28,15,FALSE) -> 0 | AR9: =VLOOKUP($AC9, $C$2:$AA$28,16,FALSE) -> 0 | AS9: =VLOOKUP($AC9, $C$2:$AA$28,17,FALSE) -> 0 | AT9: =VLOOKUP($AC9, $C$2:$AA$28,18,FALSE) -> 0 | AU9: =VLOOKUP($AC9, $C$2:$AA$28,19,FALSE) -> 0 | AV9: =VLOOKUP($AC9, $C$2:$AA$28,20,FALSE) -> 0 | AW9: =VLOOKUP($AC9, $C$2:$AA$28,21,FALSE) -> 0 | AX9: =VLOOKUP($AC9, $C$2:$AA$28,22,FALSE) -> 0 | AY9: =VLOOKUP($AC9, $C$2:$AA$28,23,FALSE) -> 0 | AZ9: =VLOOKUP($AC9, $C$2:$AA$28,24,FALSE) -> 0 | BA9: =VLOOKUP($AC9, $C$2:$AA$28,25,FALSE) -> 0
D10: SCORE | E10: TT | F10: TR | G10: TR2 | H10: TT2 | I10: TR3 | J10: TT3 | K10: LFR | L10: LFT | M10: BP | N10: ORB | O10: DRB | P10: Pts | Q10: TT | R10: TR | S10: TR2 | T10: TT2 | U10: TR3 | V10: TT3 | W10: LFR | X10: LFT | Y10: BP | Z10: ORB | AA10: DRB | AC10: LA ROCHELLE | AD10: =VLOOKUP($AC10, $C$2:$AA$28,2,FALSE) -> 0 | AE10: =VLOOKUP($AC10, $C$2:$AA$28,3,FALSE) -> 0 | AF10: =VLOOKUP($AC10, $C$2:$AA$28,4,FALSE) -> 0 | AG10: =VLOOKUP($AC10, $C$2:$AA$28,5,FALSE) -> 0 | AH10: =VLOOKUP($AC10, $C$2:$AA$28,6,FALSE) -> 0 | AI10: =VLOOKUP($AC10, $C$2:$AA$28,7,FALSE) -> 0 | AJ10: =VLOOKUP($AC10, $C$2:$AA$28,8,FALSE) -> 0 | AK10: =VLOOKUP($AC10, $C$2:$AA$28,9,FALSE) -> 0 | AL10: =VLOOKUP($AC10, $C$2:$AA$28,10,FALSE) -> 0 | AM10: =VLOOKUP($AC10, $C$2:$AA$28,11,FALSE) -> 0 | AN10: =VLOOKUP($AC10, $C$2:$AA$28,12,FALSE) -> 0 | AO10: =VLOOKUP($AC10, $C$2:$AA$28,13,FALSE) -> 0 | AP10: =VLOOKUP($AC10, $C$2:$AA$28,14,FALSE) -> 0 | AQ10: =VLOOKUP($AC10, $C$2:$AA$28,15,FALSE) -> 0 | AR10: =VLOOKUP($AC10, $C$2:$AA$28,16,FALSE) -> 0 | AS10: =VLOOKUP($AC10, $C$2:$AA$28,17,FALSE) -> 0 | AT10: =VLOOKUP($AC10, $C$2:$AA$28,18,FALSE) -> 0 | AU10: =VLOOKUP($AC10, $C$2:$AA$28,19,FALSE) -> 0 | AV10: =VLOOKUP($AC10, $C$2:$AA$28,20,FALSE) -> 0 | AW10: =VLOOKUP($AC10, $C$2:$AA$28,21,FALSE) -> 0 | AX10: =VLOOKUP($AC10, $C$2:$AA$28,22,FALSE) -> 0 | AY10: =VLOOKUP($AC10, $C$2:$AA$28,23,FALSE) -> 0 | AZ10: =VLOOKUP($AC10, $C$2:$AA$28,24,FALSE) -> 0 | BA10: =VLOOKUP($AC10, $C$2:$AA$28,25,FALSE) -> 0
B11: MATCH 3 | C11: ANGERS | D11: =G11*2+I11*3+K11*1 -> 0 | G11: =E11-I11 -> 0 | H11: =F11-J11 -> 0 | P11: =D12 -> 0 | Q11: =E12 -> 0 | R11: =F12 -> 0 | S11: =G12 -> 0 | T11: =H12 -> 0 | U11: =I12 -> 0 | V11: =J12 -> 0 | W11: =K12 -> 0 | ... AA11: =O12 -> 0 | AC11: LE HAVRE | AD11: =VLOOKUP($AC11, $C$2:$AA$28,2,FALSE) -> 0 | AE11: =VLOOKUP($AC11, $C$2:$AA$28,3,FALSE) -> 0 | AF11: =VLOOKUP($AC11, $C$2:$AA$28,4,FALSE) -> 0 | AG11: =VLOOKUP($AC11, $C$2:$AA$28,5,FALSE) -> 0 | AH11: =VLOOKUP($AC11, $C$2:$AA$28,6,FALSE) -> 0 | AI11: =VLOOKUP($AC11, $C$2:$AA$28,7,FALSE) -> 0 | AJ11: =VLOOKUP($AC11, $C$2:$AA$28,8,FALSE) -> 0 | AK11: =VLOOKUP($AC11, $C$2:$AA$28,9,FALSE) -> 0 | AL11: =VLOOKUP($AC11, $C$2:$AA$28,10,FALSE) -> 0 | AM11: =VLOOKUP($AC11, $C$2:$AA$28,11,FALSE) -> 0 | AN11: =VLOOKUP($AC11, $C$2:$AA$28,12,FALSE) -> 0 | AO11: =VLOOKUP($AC11, $C$2:$AA$28,13,FALSE) -> 0 | AP11: =VLOOKUP($AC11, $C$2:$AA$28,14,FALSE) -> 0 | AQ11: =VLOOKUP($AC11, $C$2:$AA$28,15,FALSE) -> 0 | AR11: =VLOOKUP($AC11, $C$2:$AA$28,16,FALSE) -> 0 | AS11: =VLOOKUP($AC11, $C$2:$AA$28,17,FALSE) -> 0 | AT11: =VLOOKUP($AC11, $C$2:$AA$28,18,FALSE) -> 0 | AU11: =VLOOKUP($AC11, $C$2:$AA$28,19,FALSE) -> 0 | AV11: =VLOOKUP($AC11, $C$2:$AA$28,20,FALSE) -> 0 | AW11: =VLOOKUP($AC11, $C$2:$AA$28,21,FALSE) -> 0 | AX11: =VLOOKUP($AC11, $C$2:$AA$28,22,FALSE) -> 0 | AY11: =VLOOKUP($AC11, $C$2:$AA$28,23,FALSE) -> 0 | AZ11: =VLOOKUP($AC11, $C$2:$AA$28,24,FALSE) -> 0 | BA11: =VLOOKUP($AC11, $C$2:$AA$28,25,FALSE) -> 0
C12: TOURS | D12: =G12*2+I12*3+K12*1 -> 0 | G12: =E12-I12 -> 0 | H12: =F12-J12 -> 0 | P12: =D11 -> 0 | Q12: =E11 -> 0 | R12: =F11 -> 0 | S12: =G11 -> 0 | T12: =H11 -> 0 | U12: =I11 -> 0 | V12: =J11 -> 0 | W12: =K11 -> 0 | ... AA12: =O11 -> 0 | AC12: LORIENT | AD12: =VLOOKUP($AC12, $C$2:$AA$28,2,FALSE) -> 0 | AE12: =VLOOKUP($AC12, $C$2:$AA$28,3,FALSE) -> 0 | AF12: =VLOOKUP($AC12, $C$2:$AA$28,4,FALSE) -> 0 | AG12: =VLOOKUP($AC12, $C$2:$AA$28,5,FALSE) -> 0 | AH12: =VLOOKUP($AC12, $C$2:$AA$28,6,FALSE) -> 0 | AI12: =VLOOKUP($AC12, $C$2:$AA$28,7,FALSE) -> 0 | AJ12: =VLOOKUP($AC12, $C$2:$AA$28,8,FALSE) -> 0 | AK12: =VLOOKUP($AC12, $C$2:$AA$28,9,FALSE) -> 0 | AL12: =VLOOKUP($AC12, $C$2:$AA$28,10,FALSE) -> 0 | AM12: =VLOOKUP($AC12, $C$2:$AA$28,11,FALSE) -> 0 | AN12: =VLOOKUP($AC12, $C$2:$AA$28,12,FALSE) -> 0 | AO12: =VLOOKUP($AC12, $C$2:$AA$28,13,FALSE) -> 0 | AP12: =VLOOKUP($AC12, $C$2:$AA$28,14,FALSE) -> 0 | AQ12: =VLOOKUP($AC12, $C$2:$AA$28,15,FALSE) -> 0 | AR12: =VLOOKUP($AC12, $C$2:$AA$28,16,FALSE) -> 0 | AS12: =VLOOKUP($AC12, $C$2:$AA$28,17,FALSE) -> 0 | AT12: =VLOOKUP($AC12, $C$2:$AA$28,18,FALSE) -> 0 | AU12: =VLOOKUP($AC12, $C$2:$AA$28,19,FALSE) -> 0 | AV12: =VLOOKUP($AC12, $C$2:$AA$28,20,FALSE) -> 0 | AW12: =VLOOKUP($AC12, $C$2:$AA$28,21,FALSE) -> 0 | AX12: =VLOOKUP($AC12, $C$2:$AA$28,22,FALSE) -> 0 | AY12: =VLOOKUP($AC12, $C$2:$AA$28,23,FALSE) -> 0 | AZ12: =VLOOKUP($AC12, $C$2:$AA$28,24,FALSE) -> 0 | BA12: =VLOOKUP($AC12, $C$2:$AA$28,25,FALSE) -> 0
AC13: TARBES | AD13: =VLOOKUP($AC13, $C$2:$AA$28,2,FALSE) -> 0 | AE13: =VLOOKUP($AC13, $C$2:$AA$28,3,FALSE) -> 0 | AF13: =VLOOKUP($AC13, $C$2:$AA$28,4,FALSE) -> 0 | AG13: =VLOOKUP($AC13, $C$2:$AA$28,5,FALSE) -> 0 | AH13: =VLOOKUP($AC13, $C$2:$AA$28,6,FALSE) -> 0 | AI13: =VLOOKUP($AC13, $C$2:$AA$28,7,FALSE) -> 0 | AJ13: =VLOOKUP($AC13, $C$2:$AA$28,8,FALSE) -> 0 | AK13: =VLOOKUP($AC13, $C$2:$AA$28,9,FALSE) -> 0 | AL13: =VLOOKUP($AC13, $C$2:$AA$28,10,FALSE) -> 0 | AM13: =VLOOKUP($AC13, $C$2:$AA$28,11,FALSE) -> 0 | AN13: =VLOOKUP($AC13, $C$2:$AA$28,12,FALSE) -> 0 | AO13: =VLOOKUP($AC13, $C$2:$AA$28,13,FALSE) -> 0 | AP13: =VLOOKUP($AC13, $C$2:$AA$28,14,FALSE) -> 0 | AQ13: =VLOOKUP($AC13, $C$2:$AA$28,15,FALSE) -> 0 | AR13: =VLOOKUP($AC13, $C$2:$AA$28,16,FALSE) -> 0 | AS13: =VLOOKUP($AC13, $C$2:$AA$28,17,FALSE) -> 0 | AT13: =VLOOKUP($AC13, $C$2:$AA$28,18,FALSE) -> 0 | AU13: =VLOOKUP($AC13, $C$2:$AA$28,19,FALSE) -> 0 | AV13: =VLOOKUP($AC13, $C$2:$AA$28,20,FALSE) -> 0 | AW13: =VLOOKUP($AC13, $C$2:$AA$28,21,FALSE) -> 0 | AX13: =VLOOKUP($AC13, $C$2:$AA$28,22,FALSE) -> 0 | AY13: =VLOOKUP($AC13, $C$2:$AA$28,23,FALSE) -> 0 | AZ13: =VLOOKUP($AC13, $C$2:$AA$28,24,FALSE) -> 0 | BA13: =VLOOKUP($AC13, $C$2:$AA$28,25,FALSE) -> 0
D14: SCORE | E14: TT | F14: TR | G14: TR2 | H14: TT2 | I14: TR3 | J14: TT3 | K14: LFR | L14: LFT | M14: BP | N14: ORB | O14: DRB | P14: Pts | Q14: TT | R14: TR | S14: TR2 | T14: TT2 | U14: TR3 | V14: TT3 | W14: LFR | X14: LFT | Y14: BP | Z14: ORB | AA14: DRB | AC14: TOULOUSE | AD14: =VLOOKUP($AC14, $C$2:$AA$28,2,FALSE) -> 0 | AE14: =VLOOKUP($AC14, $C$2:$AA$28,3,FALSE) -> 0 | AF14: =VLOOKUP($AC14, $C$2:$AA$28,4,FALSE) -> 0 | AG14: =VLOOKUP($AC14, $C$2:$AA$28,5,FALSE) -> 0 | AH14: =VLOOKUP($AC14, $C$2:$AA$28,6,FALSE) -> 0 | AI14: =VLOOKUP($AC14, $C$2:$AA$28,7,FALSE) -> 0 | AJ14: =VLOOKUP($AC14, $C$2:$AA$28,8,FALSE) -> 0 | AK14: =VLOOKUP($AC14, $C$2:$AA$28,9,FALSE) -> 0 | AL14: =VLOOKUP($AC14, $C$2:$AA$28,10,FALSE) -> 0 | AM14: =VLOOKUP($AC14, $C$2:$AA$28,11,FALSE) -> 0 | AN14: =VLOOKUP($AC14, $C$2:$AA$28,12,FALSE) -> 0 | AO14: =VLOOKUP($AC14, $C$2:$AA$28,13,FALSE) -> 0 | AP14: =VLOOKUP($AC14, $C$2:$AA$28,14,FALSE) -> 0 | AQ14: =VLOOKUP($AC14, $C$2:$AA$28,15,FALSE) -> 0 | AR14: =VLOOKUP($AC14, $C$2:$AA$28,16,FALSE) -> 0 | AS14: =VLOOKUP($AC14, $C$2:$AA$28,17,FALSE) -> 0 | AT14: =VLOOKUP($AC14, $C$2:$AA$28,18,FALSE) -> 0 | AU14: =VLOOKUP($AC14, $C$2:$AA$28,19,FALSE) -> 0 | AV14: =VLOOKUP($AC14, $C$2:$AA$28,20,FALSE) -> 0 | AW14: =VLOOKUP($AC14, $C$2:$AA$28,21,FALSE) -> 0 | AX14: =VLOOKUP($AC14, $C$2:$AA$28,22,FALSE) -> 0 | AY14: =VLOOKUP($AC14, $C$2:$AA$28,23,FALSE) -> 0 | AZ14: =VLOOKUP($AC14, $C$2:$AA$28,24,FALSE) -> 0 | BA14: =VLOOKUP($AC14, $C$2:$AA$28,25,FALSE) -> 0
B15: MATCH 4 | C15: TARBES | D15: =G15*2+I15*3+K15*1 -> 0 | G15: =E15-I15 -> 0 | H15: =F15-J15 -> 0 | P15: =D16 -> 0 | Q15: =E16 -> 0 | R15: =F16 -> 0 | S15: =G16 -> 0 | T15: =H16 -> 0 | U15: =I16 -> 0 | V15: =J16 -> 0 | W15: =K16 -> 0 | ... AA15: =O16 -> 0 | AC15: TOURS | AD15: =VLOOKUP($AC15, $C$2:$AA$28,2,FALSE) -> 0 | AE15: =VLOOKUP($AC15, $C$2:$AA$28,3,FALSE) -> 0 | AF15: =VLOOKUP($AC15, $C$2:$AA$28,4,FALSE) -> 0 | AG15: =VLOOKUP($AC15, $C$2:$AA$28,5,FALSE) -> 0 | AH15: =VLOOKUP($AC15, $C$2:$AA$28,6,FALSE) -> 0 | AI15: =VLOOKUP($AC15, $C$2:$AA$28,7,FALSE) -> 0 | AJ15: =VLOOKUP($AC15, $C$2:$AA$28,8,FALSE) -> 0 | AK15: =VLOOKUP($AC15, $C$2:$AA$28,9,FALSE) -> 0 | AL15: =VLOOKUP($AC15, $C$2:$AA$28,10,FALSE) -> 0 | AM15: =VLOOKUP($AC15, $C$2:$AA$28,11,FALSE) -> 0 | AN15: =VLOOKUP($AC15, $C$2:$AA$28,12,FALSE) -> 0 | AO15: =VLOOKUP($AC15, $C$2:$AA$28,13,FALSE) -> 0 | AP15: =VLOOKUP($AC15, $C$2:$AA$28,14,FALSE) -> 0 | AQ15: =VLOOKUP($AC15, $C$2:$AA$28,15,FALSE) -> 0 | AR15: =VLOOKUP($AC15, $C$2:$AA$28,16,FALSE) -> 0 | AS15: =VLOOKUP($AC15, $C$2:$AA$28,17,FALSE) -> 0 | AT15: =VLOOKUP($AC15, $C$2:$AA$28,18,FALSE) -> 0 | AU15: =VLOOKUP($AC15, $C$2:$AA$28,19,FALSE) -> 0 | AV15: =VLOOKUP($AC15, $C$2:$AA$28,20,FALSE) -> 0 | AW15: =VLOOKUP($AC15, $C$2:$AA$28,21,FALSE) -> 0 | AX15: =VLOOKUP($AC15, $C$2:$AA$28,22,FALSE) -> 0 | AY15: =VLOOKUP($AC15, $C$2:$AA$28,23,FALSE) -> 0 | AZ15: =VLOOKUP($AC15, $C$2:$AA$28,24,FALSE) -> 0 | BA15: =VLOOKUP($AC15, $C$2:$AA$28,25,FALSE) -> 0
C16: LORIENT | D16: =G16*2+I16*3+K16*1 -> 0 | G16: =E16-I16 -> 0 | H16: =F16-J16 -> 0 | P16: =D15 -> 0 | Q16: =E15 -> 0 | R16: =F15 -> 0 | S16: =G15 -> 0 | T16: =H15 -> 0 | U16: =I15 -> 0 | V16: =J15 -> 0 | W16: =K15 -> 0 | ... AA16: =O15 -> 0 | AC16: VANVES | AD16: =VLOOKUP($AC16, $C$2:$AA$28,2,FALSE) -> 0 | AE16: =VLOOKUP($AC16, $C$2:$AA$28,3,FALSE) -> 0 | AF16: =VLOOKUP($AC16, $C$2:$AA$28,4,FALSE) -> 0 | AG16: =VLOOKUP($AC16, $C$2:$AA$28,5,FALSE) -> 0 | AH16: =VLOOKUP($AC16, $C$2:$AA$28,6,FALSE) -> 0 | AI16: =VLOOKUP($AC16, $C$2:$AA$28,7,FALSE) -> 0 | AJ16: =VLOOKUP($AC16, $C$2:$AA$28,8,FALSE) -> 0 | AK16: =VLOOKUP($AC16, $C$2:$AA$28,9,FALSE) -> 0 | AL16: =VLOOKUP($AC16, $C$2:$AA$28,10,FALSE) -> 0 | AM16: =VLOOKUP($AC16, $C$2:$AA$28,11,FALSE) -> 0 | AN16: =VLOOKUP($AC16, $C$2:$AA$28,12,FALSE) -> 0 | AO16: =VLOOKUP($AC16, $C$2:$AA$28,13,FALSE) -> 0 | AP16: =VLOOKUP($AC16, $C$2:$AA$28,14,FALSE) -> 0 | AQ16: =VLOOKUP($AC16, $C$2:$AA$28,15,FALSE) -> 0 | AR16: =VLOOKUP($AC16, $C$2:$AA$28,16,FALSE) -> 0 | AS16: =VLOOKUP($AC16, $C$2:$AA$28,17,FALSE) -> 0 | AT16: =VLOOKUP($AC16, $C$2:$AA$28,18,FALSE) -> 0 | AU16: =VLOOKUP($AC16, $C$2:$AA$28,19,FALSE) -> 0 | AV16: =VLOOKUP($AC16, $C$2:$AA$28,20,FALSE) -> 0 | AW16: =VLOOKUP($AC16, $C$2:$AA$28,21,FALSE) -> 0 | AX16: =VLOOKUP($AC16, $C$2:$AA$28,22,FALSE) -> 0 | AY16: =VLOOKUP($AC16, $C$2:$AA$28,23,FALSE) -> 0 | AZ16: =VLOOKUP($AC16, $C$2:$AA$28,24,FALSE) -> 0 | BA16: =VLOOKUP($AC16, $C$2:$AA$28,25,FALSE) -> 0
AC17: VITRE | AD17: =VLOOKUP($AC17, $C$2:$AA$28,2,FALSE) -> 0 | AE17: =VLOOKUP($AC17, $C$2:$AA$28,3,FALSE) -> 0 | AF17: =VLOOKUP($AC17, $C$2:$AA$28,4,FALSE) -> 0 | AG17: =VLOOKUP($AC17, $C$2:$AA$28,5,FALSE) -> 0 | AH17: =VLOOKUP($AC17, $C$2:$AA$28,6,FALSE) -> 0 | AI17: =VLOOKUP($AC17, $C$2:$AA$28,7,FALSE) -> 0 | AJ17: =VLOOKUP($AC17, $C$2:$AA$28,8,FALSE) -> 0 | AK17: =VLOOKUP($AC17, $C$2:$AA$28,9,FALSE) -> 0 | AL17: =VLOOKUP($AC17, $C$2:$AA$28,10,FALSE) -> 0 | AM17: =VLOOKUP($AC17, $C$2:$AA$28,11,FALSE) -> 0 | AN17: =VLOOKUP($AC17, $C$2:$AA$28,12,FALSE) -> 0 | AO17: =VLOOKUP($AC17, $C$2:$AA$28,13,FALSE) -> 0 | AP17: =VLOOKUP($AC17, $C$2:$AA$28,14,FALSE) -> 0 | AQ17: =VLOOKUP($AC17, $C$2:$AA$28,15,FALSE) -> 0 | AR17: =VLOOKUP($AC17, $C$2:$AA$28,16,FALSE) -> 0 | AS17: =VLOOKUP($AC17, $C$2:$AA$28,17,FALSE) -> 0 | AT17: =VLOOKUP($AC17, $C$2:$AA$28,18,FALSE) -> 0 | AU17: =VLOOKUP($AC17, $C$2:$AA$28,19,FALSE) -> 0 | AV17: =VLOOKUP($AC17, $C$2:$AA$28,20,FALSE) -> 0 | AW17: =VLOOKUP($AC17, $C$2:$AA$28,21,FALSE) -> 0 | AX17: =VLOOKUP($AC17, $C$2:$AA$28,22,FALSE) -> 0 | AY17: =VLOOKUP($AC17, $C$2:$AA$28,23,FALSE) -> 0 | AZ17: =VLOOKUP($AC17, $C$2:$AA$28,24,FALSE) -> 0 | BA17: =VLOOKUP($AC17, $C$2:$AA$28,25,FALSE) -> 0
D18: SCORE | E18: TT | F18: TR | G18: TR2 | H18: TT2 | I18: TR3 | J18: TT3 | K18: LFR | L18: LFT | M18: BP | N18: ORB | O18: DRB | P18: Pts | Q18: TT | R18: TR | S18: TR2 | T18: TT2 | U18: TR3 | V18: TT3 | W18: LFR | X18: LFT | Y18: BP | Z18: ORB | AA18: DRB
B19: MATCH 5 | C19: TOULOUSE | D19: =G19*2+I19*3+K19*1 -> 0 | G19: =E19-I19 -> 0 | H19: =F19-J19 -> 0 | P19: =D20 -> 0 | Q19: =E20 -> 0 | R19: =F20 -> 0 | S19: =G20 -> 0 | T19: =H20 -> 0 | U19: =I20 -> 0 | V19: =J20 -> 0 | W19: =K20 -> 0 | ... AA19: =O20 -> 0
C20: DAX | D20: =G20*2+I20*3+K20*1 -> 0 | G20: =E20-I20 -> 0 | H20: =F20-J20 -> 0 | P20: =D19 -> 0 | Q20: =E19 -> 0 | R20: =F19 -> 0 | S20: =G19 -> 0 | T20: =H19 -> 0 | U20: =I19 -> 0 | V20: =J19 -> 0 | W20: =K19 -> 0 | ... AA20: =O19 -> 0
D22: SCORE | E22: TT | F22: TR | G22: TR2 | H22: TT2 | I22: TR3 | J22: TT3 | K22: LFR | L22: LFT | M22: BP | N22: ORB | O22: DRB | P22: Pts | Q22: TT | R22: TR | S22: TR2 | T22: TT2 | U22: TR3 | V22: TT3 | W22: LFR | X22: LFT | Y22: BP | Z22: ORB | AA22: DRB
B23: MATCH 6 | C23: BORDEAUX | D23: =G23*2+I23*3+K23*1 -> 0 | G23: =E23-I23 -> 0 | H23: =F23-J23 -> 0 | P23: =D24 -> 0 | Q23: =E24 -> 0 | R23: =F24 -> 0 | S23: =G24 -> 0 | T23: =H24 -> 0 | U23: =I24 -> 0 | V23: =J24 -> 0 | W23: =K24 -> 0 | ... AA23: =O24 -> 0
C24: CHALLANS | D24: =G24*2+I24*3+K24*1 -> 0 | G24: =E24-I24 -> 0 | H24: =F24-J24 -> 0 | P24: =D23 -> 0 | Q24: =E23 -> 0 | R24: =F23 -> 0 | S24: =G23 -> 0 | T24: =H23 -> 0 | U24: =I23 -> 0 | V24: =J23 -> 0 | W24: =K23 -> 0 | ... AA24: =O23 -> 0
D26: SCORE | E26: TT | F26: TR | G26: TR2 | H26: TT2 | I26: TR3 | J26: TT3 | K26: LFR | L26: LFT | M26: BP | N26: ORB | O26: DRB | P26: Pts | Q26: TT | R26: TR | S26: TR2 | T26: TT2 | U26: TR3 | V26: TT3 | W26: LFR | X26: LFT | Y26: BP | Z26: ORB | AA26: DRB
B27: MATCH 7 | C27: VANVES | D27: =G27*2+I27*3+K27*1 -> 0 | G27: =E27-I27 -> 0 | H27: =F27-J27 -> 0 | P27: =D28 -> 0 | Q27: =E28 -> 0 | R27: =F28 -> 0 | S27: =G28 -> 0 | T27: =H28 -> 0 | U27: =I28 -> 0 | V27: =J28 -> 0 | W27: =K28 -> 0 | ... AA27: =O28 -> 0
C28: VITRE | D28: =G28*2+I28*3+K28*1 -> 0 | G28: =E28-I28 -> 0 | H28: =F28-J28 -> 0 | P28: =D27 -> 0 | Q28: =E27 -> 0 | R28: =F27 -> 0 | S28: =G27 -> 0 | T28: =H27 -> 0 | U28: =I27 -> 0 | V28: =J27 -> 0 | W28: =K27 -> 0 | ... AA28: =O27 -> 0

Sheet J9
D2: SCORE | E2: TT | F2: TR | G2: TR2 | H2: TT2 | I2: TR3 | J2: TT3 | K2: LFR | L2: LFT | M2: BP | N2: ORB | O2: DRB | P2: Pts | Q2: TT | R2: TR | S2: TR2 | T2: TT2 | U2: TR3 | V2: TT3 | W2: LFR | X2: LFT | Y2: BP | Z2: ORB | AA2: DRB
B3: MATCH 1 | C3: LE HAVRE | D3: =G3*2+I3*3+K3*1 -> 0 | G3: =E3-I3 -> 0 | H3: =F3-J3 -> 0 | P3: =D4 -> 0 | Q3: =E4 -> 0 | R3: =F4 -> 0 | S3: =G4 -> 0 | T3: =H4 -> 0 | U3: =I4 -> 0 | V3: =J4 -> 0 | W3: =K4 -> 0 | ... AA3: =O4 -> 0 | AD3: PTS | AE3: TR | AF3: TT | AG3: TR2 | AH3: TT2 | AI3: TR3 | AJ3: TT3 | AK3: LFR | AL3: LFT | AM3: BP | AN3: ORB | AO3: DRB | AP3: Pts | AQ3: TT | AR3: TR | AS3: TR2 | AT3: TT2 | AU3: TR3 | AV3: TT3 | AW3: LFR | AX3: LFT | AY3: BP | AZ3: ORB | BA3: DRB
C4: BOULOGNE | D4: =G4*2+I4*3+K4*1 -> 0 | G4: =E4-I4 -> 0 | H4: =F4-J4 -> 0 | P4: =D3 -> 0 | Q4: =E3 -> 0 | R4: =F3 -> 0 | S4: =G3 -> 0 | T4: =H3 -> 0 | U4: =I3 -> 0 | V4: =J3 -> 0 | W4: =K3 -> 0 | ... AA4: =O3 -> 0 | AC4: ANGERS | AD4: =VLOOKUP($AC4, $C$2:$AA$28,2,FALSE) -> 0 | AE4: =VLOOKUP($AC4, $C$2:$AA$28,3,FALSE) -> 0 | AF4: =VLOOKUP($AC4, $C$2:$AA$28,4,FALSE) -> 0 | AG4: =VLOOKUP($AC4, $C$2:$AA$28,5,FALSE) -> 0 | AH4: =VLOOKUP($AC4, $C$2:$AA$28,6,FALSE) -> 0 | AI4: =VLOOKUP($AC4, $C$2:$AA$28,7,FALSE) -> 0 | AJ4: =VLOOKUP($AC4, $C$2:$AA$28,8,FALSE) -> 0 | AK4: =VLOOKUP($AC4, $C$2:$AA$28,9,FALSE) -> 0 | AL4: =VLOOKUP($AC4, $C$2:$AA$28,10,FALSE) -> 0 | AM4: =VLOOKUP($AC4, $C$2:$AA$28,11,FALSE) -> 0 | AN4: =VLOOKUP($AC4, $C$2:$AA$28,12,FALSE) -> 0 | AO4: =VLOOKUP($AC4, $C$2:$AA$28,13,FALSE) -> 0 | AP4: =VLOOKUP($AC4, $C$2:$AA$28,14,FALSE) -> 0 | AQ4: =VLOOKUP($AC4, $C$2:$AA$28,15,FALSE) -> 0 | AR4: =VLOOKUP($AC4, $C$2:$AA$28,16,FALSE) -> 0 | AS4: =VLOOKUP($AC4, $C$2:$AA$28,17,FALSE) -> 0 | AT4: =VLOOKUP($AC4, $C$2:$AA$28,18,FALSE) -> 0 | AU4: =VLOOKUP($AC4, $C$2:$AA$28,19,FALSE) -> 0 | AV4: =VLOOKUP($AC4, $C$2:$AA$28,20,FALSE) -> 0 | AW4: =VLOOKUP($AC4, $C$2:$AA$28,21,FALSE) -> 0 | AX4: =VLOOKUP($AC4, $C$2:$AA$28,22,FALSE) -> 0 | AY4: =VLOOKUP($AC4, $C$2:$AA$28,23,FALSE) -> 0 | AZ4: =VLOOKUP($AC4, $C$2:$AA$28,24,FALSE) -> 0 | BA4: =VLOOKUP($AC4, $C$2:$AA$28,25,FALSE) -> 0
AC5: BORDEAUX | AD5: =VLOOKUP($AC5, $C$2:$AA$28,2,FALSE) -> 0 | AE5: =VLOOKUP($AC5, $C$2:$AA$28,3,FALSE) -> 0 | AF5: =VLOOKUP($AC5, $C$2:$AA$28,4,FALSE) -> 0 | AG5: =VLOOKUP($AC5, $C$2:$AA$28,5,FALSE) -> 0 | AH5: =VLOOKUP($AC5, $C$2:$AA$28,6,FALSE) -> 0 | AI5: =VLOOKUP($AC5, $C$2:$AA$28,7,FALSE) -> 0 | AJ5: =VLOOKUP($AC5, $C$2:$AA$28,8,FALSE) -> 0 | AK5: =VLOOKUP($AC5, $C$2:$AA$28,9,FALSE) -> 0 | AL5: =VLOOKUP($AC5, $C$2:$AA$28,10,FALSE) -> 0 | AM5: =VLOOKUP($AC5, $C$2:$AA$28,11,FALSE) -> 0 | AN5: =VLOOKUP($AC5, $C$2:$AA$28,12,FALSE) -> 0 | AO5: =VLOOKUP($AC5, $C$2:$AA$28,13,FALSE) -> 0 | AP5: =VLOOKUP($AC5, $C$2:$AA$28,14,FALSE) -> 0 | AQ5: =VLOOKUP($AC5, $C$2:$AA$28,15,FALSE) -> 0 | AR5: =VLOOKUP($AC5, $C$2:$AA$28,16,FALSE) -> 0 | AS5: =VLOOKUP($AC5, $C$2:$AA$28,17,FALSE) -> 0 | AT5: =VLOOKUP($AC5, $C$2:$AA$28,18,FALSE) -> 0 | AU5: =VLOOKUP($AC5, $C$2:$AA$28,19,FALSE) -> 0 | AV5: =VLOOKUP($AC5, $C$2:$AA$28,20,FALSE) -> 0 | AW5: =VLOOKUP($AC5, $C$2:$AA$28,21,FALSE) -> 0 | AX5: =VLOOKUP($AC5, $C$2:$AA$28,22,FALSE) -> 0 | AY5: =VLOOKUP($AC5, $C$2:$AA$28,23,FALSE) -> 0 | AZ5: =VLOOKUP($AC5, $C$2:$AA$28,24,FALSE) -> 0 | BA5: =VLOOKUP($AC5, $C$2:$AA$28,25,FALSE) -> 0
D6: SCORE | E6: TT | F6: TR | G6: TR2 | H6: TT2 | I6: TR3 | J6: TT3 | K6: LFR | L6: LFT | M6: BP | N6: ORB | O6: DRB | P6: Pts | Q6: TT | R6: TR | S6: TR2 | T6: TT2 | U6: TR3 | V6: TT3 | W6: LFR | X6: LFT | Y6: BP | Z6: ORB | AA6: DRB | AC6: BOULOGNE | AD6: =VLOOKUP($AC6, $C$2:$AA$28,2,FALSE) -> 0 | AE6: =VLOOKUP($AC6, $C$2:$AA$28,3,FALSE) -> 0 | AF6: =VLOOKUP($AC6, $C$2:$AA$28,4,FALSE) -> 0 | AG6: =VLOOKUP($AC6, $C$2:$AA$28,5,FALSE) -> 0 | AH6: =VLOOKUP($AC6, $C$2:$AA$28,6,FALSE) -> 0 | AI6: =VLOOKUP($AC6, $C$2:$AA$28,7,FALSE) -> 0 | AJ6: =VLOOKUP($AC6, $C$2:$AA$28,8,FALSE) -> 0 | AK6: =VLOOKUP($AC6, $C$2:$AA$28,9,FALSE) -> 0 | AL6: =VLOOKUP($AC6, $C$2:$AA$28,10,FALSE) -> 0 | AM6: =VLOOKUP($AC6, $C$2:$AA$28,11,FALSE) -> 0 | AN6: =VLOOKUP($AC6, $C$2:$AA$28,12,FALSE) -> 0 | AO6: =VLOOKUP($AC6, $C$2:$AA$28,13,FALSE) -> 0 | AP6: =VLOOKUP($AC6, $C$2:$AA$28,14,FALSE) -> 0 | AQ6: =VLOOKUP($AC6, $C$2:$AA$28,15,FALSE) -> 0 | AR6: =VLOOKUP($AC6, $C$2:$AA$28,16,FALSE) -> 0 | AS6: =VLOOKUP($AC6, $C$2:$AA$28,17,FALSE) -> 0 | AT6: =VLOOKUP($AC6, $C$2:$AA$28,18,FALSE) -> 0 | AU6: =VLOOKUP($AC6, $C$2:$AA$28,19,FALSE) -> 0 | AV6: =VLOOKUP($AC6, $C$2:$AA$28,20,FALSE) -> 0 | AW6: =VLOOKUP($AC6, $C$2:$AA$28,21,FALSE) -> 0 | AX6: =VLOOKUP($AC6, $C$2:$AA$28,22,FALSE) -> 0 | AY6: =VLOOKUP($AC6, $C$2:$AA$28,23,FALSE) -> 0 | AZ6: =VLOOKUP($AC6, $C$2:$AA$28,24,FALSE) -> 0 | BA6: =VLOOKUP($AC6, $C$2:$AA$28,25,FALSE) -> 0
B7: MATCH 2 | C7: LA ROCHELLE | D7: =G7*2+I7*3+K7*1 -> 0 | G7: =E7-I7 -> 0 | H7: =F7-J7 -> 0 | P7: =D8 -> 0 | Q7: =E8 -> 0 | R7: =F8 -> 0 | S7: =G8 -> 0 | T7: =H8 -> 0 | U7: =I8 -> 0 | V7: =J8 -> 0 | W7: =K8 -> 0 | ... AA7: =O8 -> 0 | AC7: CAEN | AD7: =VLOOKUP($AC7, $C$2:$AA$28,2,FALSE) -> 0 | AE7: =VLOOKUP($AC7, $C$2:$AA$28,3,FALSE) -> 0 | AF7: =VLOOKUP($AC7, $C$2:$AA$28,4,FALSE) -> 0 | AG7: =VLOOKUP($AC7, $C$2:$AA$28,5,FALSE) -> 0 | AH7: =VLOOKUP($AC7, $C$2:$AA$28,6,FALSE) -> 0 | AI7: =VLOOKUP($AC7, $C$2:$AA$28,7,FALSE) -> 0 | AJ7: =VLOOKUP($AC7, $C$2:$AA$28,8,FALSE) -> 0 | AK7: =VLOOKUP($AC7, $C$2:$AA$28,9,FALSE) -> 0 | AL7: =VLOOKUP($AC7, $C$2:$AA$28,10,FALSE) -> 0 | AM7: =VLOOKUP($AC7, $C$2:$AA$28,11,FALSE) -> 0 | AN7: =VLOOKUP($AC7, $C$2:$AA$28,12,FALSE) -> 0 | AO7: =VLOOKUP($AC7, $C$2:$AA$28,13,FALSE) -> 0 | AP7: =VLOOKUP($AC7, $C$2:$AA$28,14,FALSE) -> 0 | AQ7: =VLOOKUP($AC7, $C$2:$AA$28,15,FALSE) -> 0 | AR7: =VLOOKUP($AC7, $C$2:$AA$28,16,FALSE) -> 0 | AS7: =VLOOKUP($AC7, $C$2:$AA$28,17,FALSE) -> 0 | AT7: =VLOOKUP($AC7, $C$2:$AA$28,18,FALSE) -> 0 | AU7: =VLOOKUP($AC7, $C$2:$AA$28,19,FALSE) -> 0 | AV7: =VLOOKUP($AC7, $C$2:$AA$28,20,FALSE) -> 0 | AW7: =VLOOKUP($AC7, $C$2:$AA$28,21,FALSE) -> 0 | AX7: =VLOOKUP($AC7, $C$2:$AA$28,22,FALSE) -> 0 | AY7: =VLOOKUP($AC7, $C$2:$AA$28,23,FALSE) -> 0 | AZ7: =VLOOKUP($AC7, $C$2:$AA$28,24,FALSE) -> 0 | BA7: =VLOOKUP($AC7, $C$2:$AA$28,25,FALSE) -> 0
C8: CAEN | D8: =G8*2+I8*3+K8*1 -> 0 | G8: =E8-I8 -> 0 | H8: =F8-J8 -> 0 | P8: =D7 -> 0 | Q8: =E7 -> 0 | R8: =F7 -> 0 | S8: =G7 -> 0 | T8: =H7 -> 0 | U8: =I7 -> 0 | V8: =J7 -> 0 | W8: =K7 -> 0 | ... AA8: =O7 -> 0 | AC8: CHALLANS | AD8: =VLOOKUP($AC8, $C$2:$AA$28,2,FALSE) -> 0 | AE8: =VLOOKUP($AC8, $C$2:$AA$28,3,FALSE) -> 0 | AF8: =VLOOKUP($AC8, $C$2:$AA$28,4,FALSE) -> 0 | AG8: =VLOOKUP($AC8, $C$2:$AA$28,5,FALSE) -> 0 | AH8: =VLOOKUP($AC8, $C$2:$AA$28,6,FALSE) -> 0 | AI8: =VLOOKUP($AC8, $C$2:$AA$28,7,FALSE) -> 0 | AJ8: =VLOOKUP($AC8, $C$2:$AA$28,8,FALSE) -> 0 | AK8: =VLOOKUP($AC8, $C$2:$AA$28,9,FALSE) -> 0 | AL8: =VLOOKUP($AC8, $C$2:$AA$28,10,FALSE) -> 0 | AM8: =VLOOKUP($AC8, $C$2:$AA$28,11,FALSE) -> 0 | AN8: =VLOOKUP($AC8, $C$2:$AA$28,12,FALSE) -> 0 | AO8: =VLOOKUP($AC8, $C$2:$AA$28,13,FALSE) -> 0 | AP8: =VLOOKUP($AC8, $C$2:$AA$28,14,FALSE) -> 0 | AQ8: =VLOOKUP($AC8, $C$2:$AA$28,15,FALSE) -> 0 | AR8: =VLOOKUP($AC8, $C$2:$AA$28,16,FALSE) -> 0 | AS8: =VLOOKUP($AC8, $C$2:$AA$28,17,FALSE) -> 0 | AT8: =VLOOKUP($AC8, $C$2:$AA$28,18,FALSE) -> 0 | AU8: =VLOOKUP($AC8, $C$2:$AA$28,19,FALSE) -> 0 | AV8: =VLOOKUP($AC8, $C$2:$AA$28,20,FALSE) -> 0 | AW8: =VLOOKUP($AC8, $C$2:$AA$28,21,FALSE) -> 0 | AX8: =VLOOKUP($AC8, $C$2:$AA$28,22,FALSE) -> 0 | AY8: =VLOOKUP($AC8, $C$2:$AA$28,23,FALSE) -> 0 | AZ8: =VLOOKUP($AC8, $C$2:$AA$28,24,FALSE) -> 0 | BA8: =VLOOKUP($AC8, $C$2:$AA$28,25,FALSE) -> 0
AC9: DAX | AD9: =VLOOKUP($AC9, $C$2:$AA$28,2,FALSE) -> 0 | AE9: =VLOOKUP($AC9, $C$2:$AA$28,3,FALSE) -> 0 | AF9: =VLOOKUP($AC9, $C$2:$AA$28,4,FALSE) -> 0 | AG9: =VLOOKUP($AC9, $C$2:$AA$28,5,FALSE) -> 0 | AH9: =VLOOKUP($AC9, $C$2:$AA$28,6,FALSE) -> 0 | AI9: =VLOOKUP($AC9, $C$2:$AA$28,7,FALSE) -> 0 | AJ9: =VLOOKUP($AC9, $C$2:$AA$28,8,FALSE) -> 0 | AK9: =VLOOKUP($AC9, $C$2:$AA$28,9,FALSE) -> 0 | AL9: =VLOOKUP($AC9, $C$2:$AA$28,10,FALSE) -> 0 | AM9: =VLOOKUP($AC9, $C$2:$AA$28,11,FALSE) -> 0 | AN9: =VLOOKUP($AC9, $C$2:$AA$28,12,FALSE) -> 0 | AO9: =VLOOKUP($AC9, $C$2:$AA$28,13,FALSE) -> 0 | AP9: =VLOOKUP($AC9, $C$2:$AA$28,14,FALSE) -> 0 | AQ9: =VLOOKUP($AC9, $C$2:$AA$28,15,FALSE) -> 0 | AR9: =VLOOKUP($AC9, $C$2:$AA$28,16,FALSE) -> 0 | AS9: =VLOOKUP($AC9, $C$2:$AA$28,17,FALSE) -> 0 | AT9: =VLOOKUP($AC9, $C$2:$AA$28,18,FALSE) -> 0 | AU9: =VLOOKUP($AC9, $C$2:$AA$28,19,FALSE) -> 0 | AV9: =VLOOKUP($AC9, $C$2:$AA$28,20,FALSE) -> 0 | AW9: =VLOOKUP($AC9, $C$2:$AA$28,21,FALSE) -> 0 | AX9: =VLOOKUP($AC9, $C$2:$AA$28,22,FALSE) -> 0 | AY9: =VLOOKUP($AC9, $C$2:$AA$28,23,FALSE) -> 0 | AZ9: =VLOOKUP($AC9, $C$2:$AA$28,24,FALSE) -> 0 | BA9: =VLOOKUP($AC9, $C$2:$AA$28,25,FALSE) -> 0
D10: SCORE | E10: TT | F10: TR | G10: TR2 | H10: TT2 | I10: TR3 | J10: TT3 | K10: LFR | L10: LFT | M10: BP | N10: ORB | O10: DRB | P10: Pts | Q10: TT | R10: TR | S10: TR2 | T10: TT2 | U10: TR3 | V10: TT3 | W10: LFR | X10: LFT | Y10: BP | Z10: ORB | AA10: DRB | AC10: LA ROCHELLE | AD10: =VLOOKUP($AC10, $C$2:$AA$28,2,FALSE) -> 0 | AE10: =VLOOKUP($AC10, $C$2:$AA$28,3,FALSE) -> 0 | AF10: =VLOOKUP($AC10, $C$2:$AA$28,4,FALSE) -> 0 | AG10: =VLOOKUP($AC10, $C$2:$AA$28,5,FALSE) -> 0 | AH10: =VLOOKUP($AC10, $C$2:$AA$28,6,FALSE) -> 0 | AI10: =VLOOKUP($AC10, $C$2:$AA$28,7,FALSE) -> 0 | AJ10: =VLOOKUP($AC10, $C$2:$AA$28,8,FALSE) -> 0 | AK10: =VLOOKUP($AC10, $C$2:$AA$28,9,FALSE) -> 0 | AL10: =VLOOKUP($AC10, $C$2:$AA$28,10,FALSE) -> 0 | AM10: =VLOOKUP($AC10, $C$2:$AA$28,11,FALSE) -> 0 | AN10: =VLOOKUP($AC10, $C$2:$AA$28,12,FALSE) -> 0 | AO10: =VLOOKUP($AC10, $C$2:$AA$28,13,FALSE) -> 0 | AP10: =VLOOKUP($AC10, $C$2:$AA$28,14,FALSE) -> 0 | AQ10: =VLOOKUP($AC10, $C$2:$AA$28,15,FALSE) -> 0 | AR10: =VLOOKUP($AC10, $C$2:$AA$28,16,FALSE) -> 0 | AS10: =VLOOKUP($AC10, $C$2:$AA$28,17,FALSE) -> 0 | AT10: =VLOOKUP($AC10, $C$2:$AA$28,18,FALSE) -> 0 | AU10: =VLOOKUP($AC10, $C$2:$AA$28,19,FALSE) -> 0 | AV10: =VLOOKUP($AC10, $C$2:$AA$28,20,FALSE) -> 0 | AW10: =VLOOKUP($AC10, $C$2:$AA$28,21,FALSE) -> 0 | AX10: =VLOOKUP($AC10, $C$2:$AA$28,22,FALSE) -> 0 | AY10: =VLOOKUP($AC10, $C$2:$AA$28,23,FALSE) -> 0 | AZ10: =VLOOKUP($AC10, $C$2:$AA$28,24,FALSE) -> 0 | BA10: =VLOOKUP($AC10, $C$2:$AA$28,25,FALSE) -> 0
B11: MATCH 3 | C11: ANGERS | D11: =G11*2+I11*3+K11*1 -> 0 | G11: =E11-I11 -> 0 | H11: =F11-J11 -> 0 | P11: =D12 -> 0 | Q11: =E12 -> 0 | R11: =F12 -> 0 | S11: =G12 -> 0 | T11: =H12 -> 0 | U11: =I12 -> 0 | V11: =J12 -> 0 | W11: =K12 -> 0 | ... AA11: =O12 -> 0 | AC11: LE HAVRE | AD11: =VLOOKUP($AC11, $C$2:$AA$28,2,FALSE) -> 0 | AE11: =VLOOKUP($AC11, $C$2:$AA$28,3,FALSE) -> 0 | AF11: =VLOOKUP($AC11, $C$2:$AA$28,4,FALSE) -> 0 | AG11: =VLOOKUP($AC11, $C$2:$AA$28,5,FALSE) -> 0 | AH11: =VLOOKUP($AC11, $C$2:$AA$28,6,FALSE) -> 0 | AI11: =VLOOKUP($AC11, $C$2:$AA$28,7,FALSE) -> 0 | AJ11: =VLOOKUP($AC11, $C$2:$AA$28,8,FALSE) -> 0 | AK11: =VLOOKUP($AC11, $C$2:$AA$28,9,FALSE) -> 0 | AL11: =VLOOKUP($AC11, $C$2:$AA$28,10,FALSE) -> 0 | AM11: =VLOOKUP($AC11, $C$2:$AA$28,11,FALSE) -> 0 | AN11: =VLOOKUP($AC11, $C$2:$AA$28,12,FALSE) -> 0 | AO11: =VLOOKUP($AC11, $C$2:$AA$28,13,FALSE) -> 0 | AP11: =VLOOKUP($AC11, $C$2:$AA$28,14,FALSE) -> 0 | AQ11: =VLOOKUP($AC11, $C$2:$AA$28,15,FALSE) -> 0 | AR11: =VLOOKUP($AC11, $C$2:$AA$28,16,FALSE) -> 0 | AS11: =VLOOKUP($AC11, $C$2:$AA$28,17,FALSE) -> 0 | AT11: =VLOOKUP($AC11, $C$2:$AA$28,18,FALSE) -> 0 | AU11: =VLOOKUP($AC11, $C$2:$AA$28,19,FALSE) -> 0 | AV11: =VLOOKUP($AC11, $C$2:$AA$28,20,FALSE) -> 0 | AW11: =VLOOKUP($AC11, $C$2:$AA$28,21,FALSE) -> 0 | AX11: =VLOOKUP($AC11, $C$2:$AA$28,22,FALSE) -> 0 | AY11: =VLOOKUP($AC11, $C$2:$AA$28,23,FALSE) -> 0 | AZ11: =VLOOKUP($AC11, $C$2:$AA$28,24,FALSE) -> 0 | BA11: =VLOOKUP($AC11, $C$2:$AA$28,25,FALSE) -> 0
C12: TOURS | D12: =G12*2+I12*3+K12*1 -> 0 | G12: =E12-I12 -> 0 | H12: =F12-J12 -> 0 | P12: =D11 -> 0 | Q12: =E11 -> 0 | R12: =F11 -> 0 | S12: =G11 -> 0 | T12: =H11 -> 0 | U12: =I11 -> 0 | V12: =J11 -> 0 | W12: =K11 -> 0 | ... AA12: =O11 -> 0 | AC12: LORIENT | AD12: =VLOOKUP($AC12, $C$2:$AA$28,2,FALSE) -> 0 | AE12: =VLOOKUP($AC12, $C$2:$AA$28,3,FALSE) -> 0 | AF12: =VLOOKUP($AC12, $C$2:$AA$28,4,FALSE) -> 0 | AG12: =VLOOKUP($AC12, $C$2:$AA$28,5,FALSE) -> 0 | AH12: =VLOOKUP($AC12, $C$2:$AA$28,6,FALSE) -> 0 | AI12: =VLOOKUP($AC12, $C$2:$AA$28,7,FALSE) -> 0 | AJ12: =VLOOKUP($AC12, $C$2:$AA$28,8,FALSE) -> 0 | AK12: =VLOOKUP($AC12, $C$2:$AA$28,9,FALSE) -> 0 | AL12: =VLOOKUP($AC12, $C$2:$AA$28,10,FALSE) -> 0 | AM12: =VLOOKUP($AC12, $C$2:$AA$28,11,FALSE) -> 0 | AN12: =VLOOKUP($AC12, $C$2:$AA$28,12,FALSE) -> 0 | AO12: =VLOOKUP($AC12, $C$2:$AA$28,13,FALSE) -> 0 | AP12: =VLOOKUP($AC12, $C$2:$AA$28,14,FALSE) -> 0 | AQ12: =VLOOKUP($AC12, $C$2:$AA$28,15,FALSE) -> 0 | AR12: =VLOOKUP($AC12, $C$2:$AA$28,16,FALSE) -> 0 | AS12: =VLOOKUP($AC12, $C$2:$AA$28,17,FALSE) -> 0 | AT12: =VLOOKUP($AC12, $C$2:$AA$28,18,FALSE) -> 0 | AU12: =VLOOKUP($AC12, $C$2:$AA$28,19,FALSE) -> 0 | AV12: =VLOOKUP($AC12, $C$2:$AA$28,20,FALSE) -> 0 | AW12: =VLOOKUP($AC12, $C$2:$AA$28,21,FALSE) -> 0 | AX12: =VLOOKUP($AC12, $C$2:$AA$28,22,FALSE) -> 0 | AY12: =VLOOKUP($AC12, $C$2:$AA$28,23,FALSE) -> 0 | AZ12: =VLOOKUP($AC12, $C$2:$AA$28,24,FALSE) -> 0 | BA12: =VLOOKUP($AC12, $C$2:$AA$28,25,FALSE) -> 0
AC13: TARBES | AD13: =VLOOKUP($AC13, $C$2:$AA$28,2,FALSE) -> 0 | AE13: =VLOOKUP($AC13, $C$2:$AA$28,3,FALSE) -> 0 | AF13: =VLOOKUP($AC13, $C$2:$AA$28,4,FALSE) -> 0 | AG13: =VLOOKUP($AC13, $C$2:$AA$28,5,FALSE) -> 0 | AH13: =VLOOKUP($AC13, $C$2:$AA$28,6,FALSE) -> 0 | AI13: =VLOOKUP($AC13, $C$2:$AA$28,7,FALSE) -> 0 | AJ13: =VLOOKUP($AC13, $C$2:$AA$28,8,FALSE) -> 0 | AK13: =VLOOKUP($AC13, $C$2:$AA$28,9,FALSE) -> 0 | AL13: =VLOOKUP($AC13, $C$2:$AA$28,10,FALSE) -> 0 | AM13: =VLOOKUP($AC13, $C$2:$AA$28,11,FALSE) -> 0 | AN13: =VLOOKUP($AC13, $C$2:$AA$28,12,FALSE) -> 0 | AO13: =VLOOKUP($AC13, $C$2:$AA$28,13,FALSE) -> 0 | AP13: =VLOOKUP($AC13, $C$2:$AA$28,14,FALSE) -> 0 | AQ13: =VLOOKUP($AC13, $C$2:$AA$28,15,FALSE) -> 0 | AR13: =VLOOKUP($AC13, $C$2:$AA$28,16,FALSE) -> 0 | AS13: =VLOOKUP($AC13, $C$2:$AA$28,17,FALSE) -> 0 | AT13: =VLOOKUP($AC13, $C$2:$AA$28,18,FALSE) -> 0 | AU13: =VLOOKUP($AC13, $C$2:$AA$28,19,FALSE) -> 0 | AV13: =VLOOKUP($AC13, $C$2:$AA$28,20,FALSE) -> 0 | AW13: =VLOOKUP($AC13, $C$2:$AA$28,21,FALSE) -> 0 | AX13: =VLOOKUP($AC13, $C$2:$AA$28,22,FALSE) -> 0 | AY13: =VLOOKUP($AC13, $C$2:$AA$28,23,FALSE) -> 0 | AZ13: =VLOOKUP($AC13, $C$2:$AA$28,24,FALSE) -> 0 | BA13: =VLOOKUP($AC13, $C$2:$AA$28,25,FALSE) -> 0
