Workbook
Name Catagories: 'Catégories et Règles'!$B$2:$B$42
Name Catégories: 'Catégories et Règles'!$B$2:$B$41

Sheet Catégories et Règles
B1: Catégories | E1: Lettres | L1: Collées123
A2: 1 | B2: Mots +18 | D2: 1 | E2: Lettre A | F2: Catégories Aléatoires | I2: {=INDEX(Catégories,RANDBETWEEN(1,ROWS((Catégories))))} -> Couleurs & Motifs | L2: Éléments Chimiques
A3: 2 | B3: Aliments | D3: 2 | E3: Lettre B | I3: {=INDEX(Catégories,RANDBETWEEN(1,ROWS((Catégories))))} -> Pays | L3: Pièces de lieu de vie
A4: 3 | B4: Anatomie | D4: 3 | E4: Lettre C | I4: {=INDEX(Catégories,RANDBETWEEN(1,ROWS((Catégories))))} -> Prénom Masculin | L4: Personnages Fictifs
A5: 4 | B5: Animaux Marin | D5: 4 | E5: Lettre D | I5: {=INDEX(Catégories,RANDBETWEEN(1,ROWS((Catégories))))} -> Jeux de Société | L5: Animaux Volatile
A6: 5 | B6: Animaux Terrestre | D6: 5 | E6: Lettre E | I6: {=INDEX(Catégories,RANDBETWEEN(1,ROWS((Catégories))))} -> Jeux Vidéo | L6: Fruits
A7: 6 | B7: Animaux Volatile | D7: 6 | E7: Lettre F | I7: {=INDEX(Catégories,RANDBETWEEN(1,ROWS((Catégories))))} -> Aliments | L7: Mobilité
A8: 7 | B8: Collectionnables | D8: 7 | E8: Lettre G | I8: {=INDEX(Catégories,RANDBETWEEN(1,ROWS((Catégories))))} -> Moyens de Transport | L8: Objets d'exterieur
A9: 8 | B9: Couleurs & Motifs | D9: 8 | E9: Lettre H | I9: {=INDEX(Catégories,RANDBETWEEN(1,ROWS((Catégories))))} -> Jeux de Société | L9: Trucs de Riche
A10: 9 | B10: Science | D10: 9 | E10: Lettre I | I10: {=INDEX(Catégories,RANDBETWEEN(1,ROWS((Catégories))))} -> Trucs de Riche | L10: Pokémons
A11: 10 | B11: Éléments de S.Valley | D11: 10 | E11: Lettre J | I11: {=INDEX(Catégories,RANDBETWEEN(1,ROWS((Catégories))))} -> Mots +18 | L11: Moyens de Transport
A12: 11 | B12: États des USA | D12: 11 | E12: Lettre K | F12: Lettres Aléatoire | I12: {=INDEX($E$2:$E$27,INT(RAND()*26)+1)} -> Lettre P
A13: 12 | B13: Fleurs | D13: 12 | E13: Lettre L
A14: 13 | B14: Fruits | D14: 13 | E14: Lettre M
A15: 14 | B15: Instru. de Musique | D15: 14 | E15: Lettre N
A16: 15 | B16: Jeux de Société | D16: 15 | E16: Lettre O
A17: 16 | B17: Jeux Vidéo | D17: 16 | E17: Lettre P | G17: Règles
A18: 17 | B18: Légumes (sauf S.Hawkins) | D18: 17 | E18: Lettre Q | G18: 0 pt | H18: si aucun mot n'est trouvé ou valide
A19: 18 | B19: Marques | D19: 18 | E19: Lettre R | G19: 1 pt | H19: si le mot est bon mais que quelqu'un l'a également validé
A20: 19 | B20: Matières | D20: 19 | E20: Lettre S | G20: 2 pts | H20: si le mot est bon et validé par tous
A21: 20 | B21: Métiers | D21: 20 | E21: Lettre T | G21: ,+0,5 pt | H21: si le mot a fait rire les autres (mot valide ou non) ou donné par d'autres
A22: 21 | B22: Mobs de SW | D22: 21 | E22: Lettre U
A23: 22 | B23: Moyens de Transport | D23: 22 | E23: Lettre V
A24: 23 | B24: Objets | D24: 23 | E24: Lettre W
A25: 24 | B25: Objets d'exterieur | D25: 24 | E25: Lettre X
A26: 25 | B26: Objets Cartables | D26: 25 | E26: Lettre Y
A27: 26 | B27: Outils Manuel | D27: 26 | E27: Lettre Z
A28: 27 | B28: Pays
A29: 28 | B29: Personnages Célèbres
A30: 29 | B30: Personnages Fictifs
A31: 30 | B31: Personnages Historiques
A32: 31 | B32: Pokémons
A33: 32 | B33: Prénom Féminin
A34: 33 | B34: Prénom Masculin
A35: 34 | B35: Sports
A36: 35 | B36: Trucs de Riche
A37: 36 | B37: Musiques ou Dances
A38: 37 | B38: Vêtements
A39: 38 | B39: Villes Célèbre
... A42: 41 | B42: Insectes

Sheet Table de jeu
A1: Lettre | B1: ='Catégories et Règles'!L2 -> Éléments Chimiques | C1: Pts | D1: ='Catégories et Règles'!L3 -> Pièces de lieu de vie | E1: Pts | F1: ='Catégories et Règles'!L4 -> Personnages Fictifs | G1: Pts | H1: ='Catégories et Règles'!L5 -> Animaux Volatile | I1: Pts | J1: ='Catégories et Règles'!L6 -> Fruits | K1: Pts | L1: ='Catégories et Règles'!L7 -> Mobilité | M1: Pts | N1: ='Catégories et Règles'!L8 -> Objets d'exterieur | O1: Pts | P1: ='Catégories et Règles'!L9 -> Trucs de Riche | Q1: Pts | R1: ='Catégories et Règles'!L10 -> Pokémons | S1: Pts | T1: ='Catégories et Règles'!L11 -> Moyens de Transport | U1: Pts | V1: Total
V2: =SUM(C2+E2+G2+I2+K2+M2+O2+Q2+S2+U2) -> 0
V3: =SUM(C3+E3+G3+I3+K3+M3+O3+Q3+S3+U3) -> 0
V4: =SUM(C4+E4+G4+I4+K4+M4+O4+Q4+S4+U4) -> 0
V5: =SUM(C5+E5+G5+I5+K5+M5+O5+Q5+S5+U5) -> 0
V6: =SUM(C6+E6+G6+I6+K6+M6+O6+Q6+S6+U6) -> 0
V7: =SUM(C7+E7+G7+I7+K7+M7+O7+Q7+S7+U7) -> 0
V8: =SUM(C8+E8+G8+I8+K8+M8+O8+Q8+S8+U8) -> 0
V9: =SUM(C9+E9+G9+I9+K9+M9+O9+Q9+S9+U9) -> 0
V10: =SUM(C10+E10+G10+I10+K10+M10+O10+Q10+S10+U10) -> 0
V11: =SUM(C11+E11+G11+I11+K11+M11+O11+Q11+S11+U11) -> 0
V12: =SUM(C12+E12+G12+I12+K12+M12+O12+Q12+S12+U12) -> 0
V13: =SUM(C13+E13+G13+I13+K13+M13+O13+Q13+S13+U13) -> 0
... V20: =SUM(C20+E20+G20+I20+K20+M20+O20+Q20+S20+U20) -> 0
D23: Total Final | I23: =SUM(V2:V20) -> 0
