Workbook

Sheet VIERGES
A1: FICHE INDIVIDUELLE DE DOTATION ANNEE 2018 | I1: =RIGHT(CELL("nomfichier",A1),LEN(CELL("nomfichier",A1))-FIND("]",CELL("nomfichier",A1))) -> VIERGES
E2: PERIODICITE | G2: TAILLE | H2: Nb | I2: ANNEE REF
B4: OU | C4: VESTE ÉTÉ | D4: T1 à T8 | E4: 2/AN
C5: VESTE HIVER | D5: T1 à T8
A6: ET | B6: OU | C6: PANTALON ÉTÉ | D6: 38 à 68 | E6: 2/AN
C7: PANTALON HIVER | D7: 38 à 68
B8: OU | C8: COTTE A BRETELLES ÉTÉ | D8: 28 à68 | E8: 2/AN
C9: COTTE A BRETELLES HIVER | D9: 28 à68
B10: OU | C10: VESTE ÉTÉ | D10: T1 à T8 | E10: 2/AN
C11: VESTE HIVER | D11: T1 à T8 | E11: 2/AN
A12: OU | C12: COMBINAISON ÉTÉ | D12: T1 à T8 | E12: 2/AN
C13: COMBINAISON HIVER | D13: T1 à T8
A15: OU | C15: POLO HIVER | D15: T0 à T7 | E15: 3/AN
C16: POLO ETE | D16: T0 à T7
C17: POLO AERE | D17: T0 à T7
A19: OU | C19: PULL COL ROND | D19: T0 à T7 | E19: 1/AN
C20: PULL COL CAMIONNEUR | D20: T0 à T7
A22: OU | B22: ET | C22: PANTALON DE PLUIE | D22: S à 4XL | E22: 1/2 ANS
C23: VESTE DE PLUIE | D23: S à 4XL
C24: COMBINAISON DE PLUIE | D24: S à 4XL
C26: SURPANTALON | D26: S à 4XL | E26: 1/4 ANS
A28: OU | C28: VESTE DOUBLEE POLAIRE | D28: S à 4XL | E28: 1/2 ANS
C29: GILET THERMIQUE SANS MANCHES | D29: S à 4XL
C31: PARKA | D31: S à 4XL | E31: 1/4 ANS
A33: ET | C33: TEE SHIRT GRAND FROID | D33: S à 2XL | E33: 1/2 ANS
C34: CALECON GRAND FROID | D34: S à 3XL
A36: OU | C36: CAGOULE | D36: S à L | E36: 1/2 ANS
C37: BONNET | D37: S 0 xl
C39: CHAUSSETTE | E39: 1/2 ANS
C41: CASQUE IDRA 2 | E41: 1/6 ANS
C43: SAC DOTATION VESTIMENTAIRE | E43: USURE
A45: Chaussures basses | E45: 1/AN | G45: POINTURE | H45: Nb
C46: JALATHLON | D46: 35-47
A47: OU | C47: JALPALME | D47: 38-47
A48: OU | C48: JALSKATE | D48: 35-47
A49: OU | C49: SAFETY 40 LOW | D49: 38-50
A50: OU | C50: VITAMINE S3 | D50: 35-42
A51: OU | C51: SUCCESS S3 | D51: 35-42
A52: Chaussures hautes | G52: POINTURE | H52: Nb
A53: OU | C53: VITAMINE S3 | D53: 35-42
A54: OU | C54: JALSPHINX | D54: 38-47
A55: OU | C55: JALIROK SAS | D55: 39-47
A56: OU | C56: HEGOA | D56: 38-48
A57: OU | C57: JALREI | D57: 38-48
A58: OU | C58: CANYON | D58: 38-47
A59: OU | C59: EBM113 | D59: 36-49
A60: Bottes | G60: POINTURE | H60: Nb
C61: Bottes Normal Sec | D61: 39-48 | E61: 1/2 ANS
A62: OU | C62: Bottes ARDÈCHE | D62: 35-49
A63: OU | C63: Bottes CUIR Snowcruiser | D63: 39-47
A64: OU | C64: Bottes Fourées MOON | D64: 38-47
A65: OU | C65: Bottes Tylex | D65: 39-47
D67: AGENT | G67: CHEF D'EQUIPE
D68: DATE | E68: VISA | G68: DATE | H68: VISA

Sheet A
A1: FICHE INDIVIDUELLE DE DOTATION ANNEE 2018 | I1: =RIGHT(CELL("nomfichier",A1),LEN(CELL("nomfichier",A1))-FIND("]",CELL("nomfichier",A1))) -> A
E2: PERIODICITE | G2: TAILLE | H2: Nb | I2: ANNEE REF
B4: OU | C4: VESTE ÉTÉ | D4: T1 à T8 | E4: 2/AN
C5: VESTE HIVER | D5: T1 à T8
A6: ET | B6: OU | C6: PANTALON ÉTÉ | D6: 38 à 68 | E6: 2/AN
C7: PANTALON HIVER | D7: 38 à 68
B8: OU | C8: COTTE A BRETELLES ÉTÉ | D8: 28 à 68 | E8: 2/AN
C9: COTTE A BRETELLES HIVER | D9: 28 à 68
B10: OU | C10: VESTE ÉTÉ | D10: T1 à T8 | E10: 2/AN
C11: VESTE HIVER | D11: T1 à T8 | E11: 2/AN
A12: OU | C12: COMBINAISON ÉTÉ | D12: T1 à T8 | E12: 2/AN
C13: COMBINAISON HIVER | D13: T1 à T8
A15: OU | C15: POLO HIVER | D15: T0 à T7 | E15: 3/AN
C16: POLO ETE | D16: T0 à T7
C17: POLO AERE | D17: T0 à T7
A19: OU | C19: POLO ignifugé et antistatique | D19: S à 3XL | E19: 3/AN
C20: remplace veste et polo
A22: OU | C22: PULL COL ROND | D22: T0 à T7 | E22: 1/AN
C23: PULL COL CAMIONNEUR | D23: T0 à T7
A25: OU | B25: ET | C25: PANTALON DE PLUIE | D25: S à 4XL | E25: 1/2 ANS
C26: VESTE DE PLUIE | D26: S à 4XL
C27: COMBINAISON DE PLUIE | D27: S à 4XL
C29: SURPANTALON | D29: S à 4XL | E29: 1/4 ANS
A31: OU | C31: VESTE DOUBLEE POLAIRE | D31: S à 4XL | E31: 1/2 ANS
C32: GILET THERMIQUE SANS MANCHES | D32: S à 4XL
C34: PARKA | D34: S à 4XL | E34: 1/4 ANS
C36: GILET RAFRAICHISSANT | D36: M à 3XL | E36: USURE
A38: ET | C38: TEE SHIRT GRAND FROID | D38: S à 2XL | E38: 1/2 ANS
C39: CALECON GRAND FROID | D39: S à 3XL
A41: OU | C41: CAGOULE | D41: UNIQUE | E41: 1/2 ANS
C42: BONNET SOUS CASQUE | D42: UNIQUE
C43: BONNET | D43: UNIQUE
C45: CHAUSSETTE | E45: 1/2 ANS
C47: CASQUE IDRA 2 | E47: 1/6 ANS
C49: SAC DOTATION VESTIMENTAIRE | E49: USURE
A51: Chaussures basses | E51: 1/AN | G51: POINTURE | H51: Nb
C52: JALATHLON | D52: 35-47
A53: OU | C53: JALPALME | D53: 38-47
A54: OU | C54: JALSKATE | D54: 35-47
A55: OU | C55: SAFETY 40 LOW | D55: 38-50
A56: OU | C56: VITAMINE S3 | D56: 35-42
A57: OU | C57: SUCCESS S3 | D57: 35-42
A58: Chaussures hautes | G58: POINTURE | H58: Nb
A59: OU | C59: VITAMINE S3 | D59: 35-42
A60: OU | C60: JALSPHINX | D60: 38-47
A61: OU | C61: JALIROK SAS | D61: 39-47
A62: OU | C62: HEGOA | D62: 38-48
A63: OU | C63: JALREI | D63: 38-48
A64: OU | C64: CANYON | D64: 38-47
A65: OU | C65: EBM113 | D65: 36-49
A66: Bottes | G66: POINTURE | H66: Nb
C67: Bottes Normal Sec | D67: 39-48 | E67: 1/2 ANS
A68: OU | C68: Bottes ARDÈCHE | D68: 35-49
A69: OU | C69: Bottes CUIR Snowcruiser | D69: 39-47
A70: OU | C70: Bottes Fourées MOON | D70: 38-47
A71: OU | C71: Bottes Tylex | D71: 39-47
D73: AGENT | G73: CHEF D'EQUIPE
D74: DATE | E74: VISA | G74: DATE | H74: VISA

Sheet B
A1: FICHE INDIVIDUELLE DE DOTATION ANNEE 2018 | I1: =RIGHT(CELL("nomfichier",A1),LEN(CELL("nomfichier",A1))-FIND("]",CELL("nomfichier",A1))) -> B
E2: PERIODICITE | G2: TAILLE | H2: Nb | I2: ANNEE REF
B4: OU | C4: VESTE ÉTÉ | D4: T1 à T8 | E4: 2/AN
C5: VESTE HIVER | D5: T1 à T8
A6: ET | B6: OU | C6: PANTALON ÉTÉ | D6: 38 à 68 | E6: 2/AN
C7: PANTALON HIVER | D7: 38 à 68
B8: OU | C8: COTTE A BRETELLES ÉTÉ | D8: 28 à 68 | E8: 2/AN
C9: COTTE A BRETELLES HIVER | D9: 28 à 68
B10: OU | C10: VESTE ÉTÉ | D10: T1 à T8 | E10: 2/AN
C11: VESTE HIVER | D11: T1 à T8 | E11: 2/AN
A12: OU | C12: COMBINAISON ÉTÉ | D12: T1 à T8 | E12: 2/AN
C13: COMBINAISON HIVER | D13: T1 à T8
A15: OU | C15: POLO HIVER | D15: T0 à T7 | E15: 3/AN
C16: POLO ETE | D16: T0 à T7 | G16: 5 | H16: 1
C17: POLO AERE | D17: T0 à T7
A19: OU | C19: POLO ignifugé et antistatique | D19: S à 3XL | E19: 3/AN | G19: XL | H19: 2
C20: remplace veste et polo
A22: OU | C22: PULL COL ROND | D22: T0 à T7 | E22: 1/AN | G22: 3 | H22: 1
C23: PULL COL CAMIONNEUR | D23: T0 à T7
A25: OU | B25: ET | C25: PANTALON DE PLUIE | D25: S à 4XL | E25: 1/2 ANS | G25: M | H25: 1 | I25: 2016
C26: VESTE DE PLUIE | D26: S à 4XL | G26: M | H26: 1
C27: COMBINAISON DE PLUIE | D27: S à 4XL
C29: SURPANTALON | D29: S à 4XL | E29: 1/4 ANS | G29: M | H29: 1 | I29: 2014
A31: OU | C31: VESTE DOUBLEE POLAIRE | D31: S à 4XL | E31: 1/2 ANS | I31: 2017
C32: GILET THERMIQUE SANS MANCHES | D32: S à 4XL
C34: PARKA | D34: S à 4XL | E34: 1/4 ANS | I34: 2015
C36: GILET RAFRAICHISSANT | D36: M à 3XL | E36: USURE | I36: 2015
A38: ET | C38: TEE SHIRT GRAND FROID | D38: S à 2XL | E38: 1/2 ANS | G38: XL | H38: 1 | I38: 2016
C39: CALECON GRAND FROID | D39: S à 3XL
A41: OU | C41: CAGOULE | D41: UNIQUE | E41: 1/2 ANS | I41: 2015
C42: BONNET SOUS CASQUE | D42: UNIQUE | G42: L | H42: 1
C43: BONNET | D43: UNIQUE
C45: CHAUSSETTE | E45: 1/2 ANS | G45: 43 | H45: 1 | I45: 2016
C47: CASQUE IDRA 2 | E47: 1/6 ANS
C49: SAC DOTATION VESTIMENTAIRE | E49: USURE
A51: Chaussures basses | E51: 1/AN | G51: POINTURE | H51: Nb | I51: ANNEE REF
C52: JALATHLON | D52: 35-47 | G52: 43 | H52: 1
A53: OU | C53: JALPALME | D53: 38-47
A54: OU | C54: JALSKATE | D54: 35-47
A55: OU | C55: SAFETY 40 LOW | D55: 38-50
A56: OU | C56: VITAMINE S3 | D56: 35-42
A57: OU | C57: SUCCESS S3 | D57: 35-42
A58: Chaussures hautes | G58: POINTURE | H58: Nb
A59: OU | C59: VITAMINE S3 | D59: 35-42
A60: OU | C60: JALSPHINX | D60: 38-47
A61: OU | C61: JALIROK SAS | D61: 39-47
A62: OU | C62: HEGOA | D62: 38-48
A63: OU | C63: JALREI | D63: 38-48
A64: OU | C64: CANYON | D64: 38-47
A65: OU | C65: EBM113 | D65: 36-49
A66: Bottes | G66: POINTURE | H66: Nb
C67: Bottes Normal Sec | D67: 39-48 | E67: 1/2 ANS
A68: OU | C68: Bottes ARDÈCHE | D68: 35-49 | I68: 2017
A69: OU | C69: Bottes CUIR Snowcruiser | D69: 39-47
A70: OU | C70: Bottes Fourées MOON | D70: 38-47
A71: OU | C71: Bottes Tylex | D71: 39-47
D73: AGENT | G73: CHEF D'EQUIPE
D74: DATE | E74: VISA | G74: DATE | H74: VISA

Sheet C
A1: FICHE INDIVIDUELLE DE DOTATION ANNEE 2018 | I1: =RIGHT(CELL("nomfichier",A1),LEN(CELL("nomfichier",A1))-FIND("]",CELL("nomfichier",A1))) -> C
E2: PERIODICITE | G2: TAILLE | H2: Nb | I2: ANNEE REF
B4: OU | C4: VESTE ÉTÉ | D4: T1 à T8 | E4: 2/AN
C5: VESTE HIVER | D5: T1 à T8
A6: ET | B6: OU | C6: PANTALON ÉTÉ | D6: 38 à 68 | E6: 2/AN | G6: 48 | H6: 1
C7: PANTALON HIVER | D7: 38 à 68 | G7: 48 | H7: 1
B8: OU | C8: COTTE A BRETELLES ÉTÉ | D8: 28 à 68 | E8: 2/AN
C9: COTTE A BRETELLES HIVER | D9: 28 à 68
B10: OU | C10: VESTE ÉTÉ | D10: T1 à T8 | E10: 2/AN
C11: VESTE HIVER | D11: T1 à T8 | E11: 2/AN
A12: OU | C12: COMBINAISON ÉTÉ | D12: T1 à T8 | E12: 2/AN
C13: COMBINAISON HIVER | D13: T1 à T8
A15: OU | C15: POLO HIVER | D15: T0 à T7 | E15: 3/AN | G15: 6 | H15: 2
C16: POLO ETE | D16: T0 à T7 | G16: 6 | H16: 1
C17: POLO AERE | D17: T0 à T7
A19: OU | C19: POLO ignifugé et antistatique | D19: S à 3XL | E19: 3/AN | G19: XL | H19: 1
C20: remplace veste et polo
A22: OU | C22: PULL COL ROND | D22: T0 à T7 | E22: 1/AN | G22: 3 | H22: 1
C23: PULL COL CAMIONNEUR | D23: T0 à T7
A25: OU | B25: ET | C25: PANTALON DE PLUIE | D25: S à 4XL | E25: 1/2 ANS | I25: 2017
C26: VESTE DE PLUIE | D26: S à 4XL
C27: COMBINAISON DE PLUIE | D27: S à 4XL
C29: SURPANTALON | D29: S à 4XL | E29: 1/4 ANS | I29: 2015
A31: OU | C31: VESTE DOUBLEE POLAIRE | D31: S à 4XL | E31: 1/2 ANS | I31: 2017
C32: GILET THERMIQUE SANS MANCHES | D32: S à 4XL
C34: PARKA | D34: S à 4XL | E34: 1/4 ANS | I34: 2015
C36: GILET RAFRAICHISSANT | D36: M à 3XL | E36: USURE | G36: XL | H36: 1 | I36: 2015
A38: ET | C38: TEE SHIRT GRAND FROID | D38: S à 2XL | E38: 1/2 ANS | G38: M | H38: 1 | I38: 2014
C39: CALECON GRAND FROID | D39: S à 3XL | G39: M | H39: 1
A41: OU | C41: CAGOULE | D41: UNIQUE | E41: 1/2 ANS | I41: 2014
C42: BONNET SOUS CASQUE | D42: UNIQUE | G42: X | H42: 1
C43: BONNET | D43: UNIQUE
C45: CHAUSSETTE | E45: 1/2 ANS | G45: 42 | H45: 1 | I45: 2015
C47: CASQUE IDRA 2 | E47: 1/6 ANS
C49: SAC DOTATION VESTIMENTAIRE | E49: USURE
A51: Chaussures basses | E51: 1/AN | G51: POINTURE | H51: Nb | I51: ANNEE REF
C52: JALATHLON | D52: 35-47
A53: OU | C53: JALPALME | D53: 38-47
A54: OU | C54: JALSKATE | D54: 35-47
A55: OU | C55: SAFETY 40 LOW | D55: 38-50
A56: OU | C56: VITAMINE S3 | D56: 35-42
A57: OU | C57: SUCCESS S3 | D57: 35-42
A58: Chaussures hautes | G58: POINTURE | H58: Nb
A59: OU | C59: VITAMINE S3 | D59: 35-42
A60: OU | C60: JALSPHINX | D60: 38-47
A61: OU | C61: JALIROK SAS | D61: 39-47
A62: OU | C62: HEGOA | D62: 38-48 | G62: 44 | H62: 1
A63: OU | C63: JALREI | D63: 38-48
A64: OU | C64: CANYON | D64: 38-47
A65: OU | C65: EBM113 | D65: 36-49
A66: Bottes | G66: POINTURE | H66: Nb
C67: Bottes Normal Sec | D67: 39-48 | E67: 1/2 ANS
A68: OU | C68: Bottes ARDÈCHE | D68: 35-49
A69: OU | C69: Bottes CUIR Snowcruiser | D69: 39-47
A70: OU | C70: Bottes Fourées MOON | D70: 38-47
A71: OU | C71: Bottes Tylex | D71: 39-47
D73: AGENT | G73: CHEF D'EQUIPE
D74: DATE | E74: VISA | G74: DATE | H74: VISA

Sheet D
A1: FICHE INDIVIDUELLE DE DOTATION ANNEE 2018 | I1: =RIGHT(CELL("nomfichier",A1),LEN(CELL("nomfichier",A1))-FIND("]",CELL("nomfichier",A1))) -> D
E2: PERIODICITE | G2: TAILLE | H2: Nb | I2: ANNEE REF
B4: OU | C4: VESTE ÉTÉ | D4: T1 à T8 | E4: 2/AN
C5: VESTE HIVER | D5: T1 à T8
A6: ET | B6: OU | C6: PANTALON ÉTÉ | D6: 38 à 68 | E6: 2/AN | G6: 42 | H6: 1
C7: PANTALON HIVER | D7: 38 à 68 | G7: 42 | H7: 1
B8: OU | C8: COTTE A BRETELLES ÉTÉ | D8: 28 à 68 | E8: 2/AN
C9: COTTE A BRETELLES HIVER | D9: 28 à 68
B10: OU | C10: VESTE ÉTÉ | D10: T1 à T8 | E10: 2/AN
C11: VESTE HIVER | D11: T1 à T8 | E11: 2/AN
A12: OU | C12: COMBINAISON ÉTÉ | D12: T1 à T8 | E12: 2/AN
C13: COMBINAISON HIVER | D13: T1 à T8
A15: OU | C15: POLO HIVER | D15: T0 à T7 | E15: 3/AN
C16: POLO ETE | D16: T0 à T7
C17: POLO AERE | D17: T0 à T7 | G17: 3 | H17: 1
A19: OU | C19: POLO ignifugé et antistatique | D19: S à 3XL | E19: 3/AN | G19: M | H19: 2
C20: remplace veste et polo
A22: OU | C22: PULL COL ROND | D22: T0 à T7 | E22: 1/AN
C23: PULL COL CAMIONNEUR | D23: T0 à T7 | G23: 3 | H23: 1
A25: OU | B25: ET | C25: PANTALON DE PLUIE | D25: S à 4XL | E25: 1/2 ANS | G25: M | H25: 1 | I25: 2016
C26: VESTE DE PLUIE | D26: S à 4XL | G26: M | H26: 1
C27: COMBINAISON DE PLUIE | D27: S à 4XL
C29: SURPANTALON | D29: S à 4XL | E29: 1/4 ANS | G29: M | H29: 1 | I29: 2014
A31: OU | C31: VESTE DOUBLEE POLAIRE | D31: S à 4XL | E31: 1/2 ANS | I31: 2017
C32: GILET THERMIQUE SANS MANCHES | D32: S à 4XL
C34: PARKA | D34: S à 4XL | E34: 1/4 ANS | I34: 2015
C36: GILET RAFRAICHISSANT | D36: M à 3XL | E36: USURE | G36: M | H36: 1
A38: ET | C38: TEE SHIRT GRAND FROID | D38: S à 2XL | E38: 1/2 ANS | G38: M | H38: 1 | I38: 2016
C39: CALECON GRAND FROID | D39: S à 3XL | G39: M | H39: 1
A41: OU | C41: CAGOULE | D41: UNIQUE | E41: 1/2 ANS | I41: 2016
C42: BONNET SOUS CASQUE | D42: UNIQUE
C43: BONNET | D43: UNIQUE | G43: L | H43: 1
C45: CHAUSSETTE | E45: 1/2 ANS | I45: 2017
C47: CASQUE IDRA 2 | E47: 1/6 ANS
C49: SAC DOTATION VESTIMENTAIRE | E49: USURE
A51: Chaussures basses | E51: 1/AN | G51: POINTURE | H51: Nb | I51: ANNEE REF
C52: JALATHLON | D52: 35-47
A53: OU | C53: JALPALME | D53: 38-47
A54: OU | C54: JALSKATE | D54: 35-47
A55: OU | C55: SAFETY 40 LOW | D55: 38-50
A56: OU | C56: VITAMINE S3 | D56: 35-42
A57: OU | C57: SUCCESS S3 | D57: 35-42
A58: Chaussures hautes | G58: POINTURE | H58: Nb
A59: OU | C59: VITAMINE S3 | D59: 35-42
A60: OU | C60: JALSPHINX | D60: 38-47
A61: OU | C61: JALIROK SAS | D61: 39-47
A62: OU | C62: HEGOA | D62: 38-48
A63: OU | C63: JALREI | D63: 38-48
A64: OU | C64: CANYON | D64: 38-47 | G64: 42 | H64: 1
A65: OU | C65: EBM113 | D65: 36-49
A66: Bottes | G66: POINTURE | H66: Nb
C67: Bottes Normal Sec | D67: 39-48 | E67: 1/2 ANS
A68: OU | C68: Bottes ARDÈCHE | D68: 35-49
A69: OU | C69: Bottes CUIR Snowcruiser | D69: 39-47 | I69: 2017
A70: OU | C70: Bottes Fourées MOON | D70: 38-47
A71: OU | C71: Bottes Tylex | D71: 39-47
D73: AGENT | G73: CHEF D'EQUIPE
D74: DATE | E74: VISA | G74: DATE | H74: VISA

Sheet E
A1: FICHE INDIVIDUELLE DE DOTATION ANNEE 2018 | I1: =RIGHT(CELL("nomfichier",A1),LEN(CELL("nomfichier",A1))-FIND("]",CELL("nomfichier",A1))) -> E
E2: PERIODICITE | G2: TAILLE | H2: Nb | I2: ANNEE REF
B4: OU | C4: VESTE ÉTÉ | D4: T1 à T8 | E4: 2/AN
C5: VESTE HIVER | D5: T1 à T8
A6: ET | B6: OU | C6: PANTALON ÉTÉ | D6: 38 à 68 | E6: 2/AN | G6: 42 | H6: 2
C7: PANTALON HIVER | D7: 38 à 68
B8: OU | C8: COTTE A BRETELLES ÉTÉ | D8: 28 à 68 | E8: 2/AN
C9: COTTE A BRETELLES HIVER | D9: 28 à 68
B10: OU | C10: VESTE ÉTÉ | D10: T1 à T8 | E10: 2/AN
C11: VESTE HIVER | D11: T1 à T8 | E11: 2/AN
A12: OU | C12: COMBINAISON ÉTÉ | D12: T1 à T8 | E12: 2/AN
C13: COMBINAISON HIVER | D13: T1 à T8
A15: OU | C15: POLO HIVER | D15: T0 à T7 | E15: 3/AN
C16: POLO ETE | D16: T0 à T7 | G16: 3 | H16: 1
C17: POLO AERE | D17: T0 à T7 | G17: 3 | H17: 2
A19: OU | C19: POLO ignifugé et antistatique | D19: S à 3XL | E19: 3/AN | G19: L | H19: 1
C20: remplace veste et polo
A22: OU | C22: PULL COL ROND | D22: T0 à T7 | E22: 1/AN
C23: PULL COL CAMIONNEUR | D23: T0 à T7 | G23: 3 | H23: 1
A25: OU | B25: ET | C25: PANTALON DE PLUIE | D25: S à 4XL | E25: 1/2 ANS | I25: 2016
C26: VESTE DE PLUIE | D26: S à 4XL
C27: COMBINAISON DE PLUIE | D27: S à 4XL
C29: SURPANTALON | D29: S à 4XL | E29: 1/4 ANS | I29: 2014
A31: OU | C31: VESTE DOUBLEE POLAIRE | D31: S à 4XL | E31: 1/2 ANS | I31: 2017
C32: GILET THERMIQUE SANS MANCHES | D32: S à 4XL
C34: PARKA | D34: S à 4XL | E34: 1/4 ANS | I34: 2015
C36: GILET RAFRAICHISSANT | D36: M à 3XL | E36: USURE | I36: 2015
A38: ET | C38: TEE SHIRT GRAND FROID | D38: S à 2XL | E38: 1/2 ANS | G38: L | H38: 1 | I38: 2016
C39: CALECON GRAND FROID | D39: S à 3XL | G39: L | H39: 1
A41: OU | C41: CAGOULE | D41: UNIQUE | E41: 1/2 ANS | I41: 2017
C42: BONNET SOUS CASQUE | D42: UNIQUE
C43: BONNET | D43: UNIQUE
C45: CHAUSSETTE | E45: 1/2 ANS | I45: 2017
C47: CASQUE IDRA 2 | E47: 1/6 ANS | I47: 2015
C49: SAC DOTATION VESTIMENTAIRE | E49: USURE
A51: Chaussures basses | E51: 1/AN | G51: POINTURE | H51: Nb | I51: ANNEE REF
C52: JALATHLON | D52: 35-47
A53: OU | C53: JALPALME | D53: 38-47
A54: OU | C54: JALSKATE | D54: 35-47
A55: OU | C55: SAFETY 40 LOW | D55: 38-50
A56: OU | C56: VITAMINE S3 | D56: 35-42
A57: OU | C57: SUCCESS S3 | D57: 35-42
A58: Chaussures hautes | G58: POINTURE | H58: Nb
A59: OU | C59: VITAMINE S3 | D59: 35-42
A60: OU | C60: JALSPHINX | D60: 38-47
A61: OU | C61: JALIROK SAS | D61: 39-47
A62: OU | C62: HEGOA | D62: 38-48
A63: OU | C63: JALREI | D63: 38-48 | G63: 41 | H63: 1
A64: OU | C64: CANYON | D64: 38-47
A65: OU | C65: EBM113 | D65: 36-49
A66: Bottes | G66: POINTURE | H66: Nb
C67: Bottes Normal Sec | D67: 39-48 | E67: 1/2 ANS
A68: OU | C68: Bottes ARDÈCHE | D68: 35-49
A69: OU | C69: Bottes CUIR Snowcruiser | D69: 39-47
A70: OU | C70: Bottes Fourées MOON | D70: 38-47 | I70: 2017
A71: OU | C71: Bottes Tylex | D71: 39-47
D73: AGENT | G73: CHEF D'EQUIPE
D74: DATE | E74: VISA | G74: DATE | H74: VISA

Sheet F
A1: FICHE INDIVIDUELLE DE DOTATION ANNEE 2018 | I1: =RIGHT(CELL("nomfichier",A1),LEN(CELL("nomfichier",A1))-FIND("]",CELL("nomfichier",A1))) -> F
E2: PERIODICITE | G2: TAILLE | H2: Nb | I2: ANNEE REF
B4: OU | C4: VESTE ÉTÉ | D4: T1 à T8 | E4: 2/AN
C5: VESTE HIVER | D5: T1 à T8
A6: ET | B6: OU | C6: PANTALON ÉTÉ | D6: 38 à 68 | E6: 2/AN | G6: 44 | H6: 1
C7: PANTALON HIVER | D7: 38 à 68
B8: OU | C8: COTTE A BRETELLES ÉTÉ | D8: 28 à 68 | E8: 2/AN
C9: COTTE A BRETELLES HIVER | D9: 28 à 68
B10: OU | C10: VESTE ÉTÉ | D10: T1 à T8 | E10: 2/AN
C11: VESTE HIVER | D11: T1 à T8 | E11: 2/AN
A12: OU | C12: COMBINAISON ÉTÉ | D12: T1 à T8 | E12: 2/AN | G12: 4 | H12: 1
C13: COMBINAISON HIVER | D13: T1 à T8
A15: OU | C15: POLO HIVER | D15: T0 à T7 | E15: 3/AN
C16: POLO ETE | D16: T0 à T7
C17: POLO AERE | D17: T0 à T7 | G17: 3 | H17: 2
A19: OU | C19: POLO ignifugé et antistatique | D19: S à 3XL | E19: 3/AN | G19: L | H19: 1
C20: remplace veste et polo
A22: OU | C22: PULL COL ROND | D22: T0 à T7 | E22: 1/AN | G22: 3 | H22: 1
C23: PULL COL CAMIONNEUR | D23: T0 à T7
A25: OU | B25: ET | C25: PANTALON DE PLUIE | D25: S à 4XL | E25: 1/2 ANS | G25: L | H25: 1 | I25: 2016
C26: VESTE DE PLUIE | D26: S à 4XL | G26: L | H26: 1
C27: COMBINAISON DE PLUIE | D27: S à 4XL
C29: SURPANTALON | D29: S à 4XL | E29: 1/4 ANS | I29: 2016
A31: OU | C31: VESTE DOUBLEE POLAIRE | D31: S à 4XL | E31: 1/2 ANS | I31: 2016
C32: GILET THERMIQUE SANS MANCHES | D32: S à 4XL | G32: L | H32: 1
C34: PARKA | D34: S à 4XL | E34: 1/4 ANS | I34: 2016
C36: GILET RAFRAICHISSANT | D36: M à 3XL | E36: USURE | G36: L | H36: 1 | I36: 2016
A38: ET | C38: TEE SHIRT GRAND FROID | D38: S à 2XL | E38: 1/2 ANS | G38: L | H38: 1 | I38: 2016
C39: CALECON GRAND FROID | D39: S à 3XL | G39: L | H39: 1
A41: OU | C41: CAGOULE | D41: UNIQUE | E41: 1/2 ANS | I41: 2017
C42: BONNET SOUS CASQUE | D42: UNIQUE
C43: BONNET | D43: UNIQUE
C45: CHAUSSETTE | E45: 1/2 ANS | G45: L | H45: 1 | I45: 2015
C47: CASQUE IDRA 2 | E47: 1/6 ANS
C49: SAC DOTATION VESTIMENTAIRE | E49: USURE
A51: Chaussures basses | E51: 1/AN | G51: POINTURE | H51: Nb | I51: ANNEE REF
C52: JALATHLON | D52: 35-47
A53: OU | C53: JALPALME | D53: 38-47
A54: OU | C54: JALSKATE | D54: 35-47
A55: OU | C55: SAFETY 40 LOW | D55: 38-50
A56: OU | C56: VITAMINE S3 | D56: 35-42
A57: OU | C57: SUCCESS S3 | D57: 35-42
A58: Chaussures hautes | G58: POINTURE | H58: Nb
A59: OU | C59: VITAMINE S3 | D59: 35-42
A60: OU | C60: JALSPHINX | D60: 38-47
A61: OU | C61: JALIROK SAS | D61: 39-47
A62: OU | C62: HEGOA | D62: 38-48
A63: OU | C63: JALREI | D63: 38-48 | G63: 42 | H63: 1
A64: OU | C64: CANYON | D64: 38-47
A65: OU | C65: EBM113 | D65: 36-49
A66: Bottes | G66: POINTURE | H66: Nb
C67: Bottes Normal Sec | D67: 39-48 | E67: 1/2 ANS
A68: OU | C68: Bottes ARDÈCHE | D68: 35-49
A69: OU | C69: Bottes CUIR Snowcruiser | D69: 39-47
A70: OU | C70: Bottes Fourées MOON | D70: 38-47 | G70: 42 | H70: 1
A71: OU | C71: Bottes Tylex | D71: 39-47
D73: AGENT | G73: CHEF D'EQUIPE
D74: DATE | E74: VISA | G74: DATE | H74: VISA

Sheet G
A1: FICHE INDIVIDUELLE DE DOTATION ANNEE 2018 | I1: =RIGHT(CELL("nomfichier",A1),LEN(CELL("nomfichier",A1))-FIND("]",CELL("nomfichier",A1))) -> G
E2: PERIODICITE | G2: TAILLE | H2: Nb | I2: ANNEE REF
B4: OU | C4: VESTE ÉTÉ | D4: T1 à T8 | E4: 2/AN
C5: VESTE HIVER | D5: T1 à T8
A6: ET | B6: OU | C6: PANTALON ÉTÉ | D6: 38 à 68 | E6: 2/AN | G6: 40 | H6: 1
C7: PANTALON HIVER | D7: 38 à 68 | G7: 40 | H7: 1
B8: OU | C8: COTTE A BRETELLES ÉTÉ | D8: 28 à 68 | E8: 2/AN
C9: COTTE A BRETELLES HIVER | D9: 28 à 68
B10: OU | C10: VESTE ÉTÉ | D10: T1 à T8 | E10: 2/AN
C11: VESTE HIVER | D11: T1 à T8 | E11: 2/AN
A12: OU | C12: COMBINAISON ÉTÉ | D12: T1 à T8 | E12: 2/AN
C13: COMBINAISON HIVER | D13: T1 à T8
A15: OU | C15: POLO HIVER | D15: T0 à T7 | E15: 3/AN | G15: 2 | H15: 1
C16: POLO ETE | D16: T0 à T7 | G16: 2 | H16: 1
C17: POLO AERE | D17: T0 à T7
A19: OU | C19: POLO ignifugé et antistatique | D19: S à 3XL | E19: 3/AN | G19: M | H19: 1
C20: remplace veste et polo
A22: OU | C22: PULL COL ROND | D22: T0 à T7 | E22: 1/AN
C23: PULL COL CAMIONNEUR | D23: T0 à T7 | G23: 2 | H23: 1
A25: OU | B25: ET | C25: PANTALON DE PLUIE | D25: S à 4XL | E25: 1/2 ANS | I25: 2016
C26: VESTE DE PLUIE | D26: S à 4XL
C27: COMBINAISON DE PLUIE | D27: S à 4XL | G27: M | H27: 1
C29: SURPANTALON | D29: S à 4XL | E29: 1/4 ANS | G29: M | H29: 1 | I29: 2014
A31: OU | C31: VESTE DOUBLEE POLAIRE | D31: S à 4XL | E31: 1/2 ANS | I31: 2017
C32: GILET THERMIQUE SANS MANCHES | D32: S à 4XL
C34: PARKA | D34: S à 4XL | E34: 1/4 ANS | I34: 2015
C36: GILET RAFRAICHISSANT | D36: M à 3XL | E36: USURE | I36: 2015
A38: ET | C38: TEE SHIRT GRAND FROID | D38: S à 2XL | E38: 1/2 ANS | G38: M | H38: 1 | I38: 2016
C39: CALECON GRAND FROID | D39: S à 3XL | G39: M | H39: 1
A41: OU | C41: CAGOULE | D41: UNIQUE | E41: 1/2 ANS | I41: 2014
C42: BONNET SOUS CASQUE | D42: UNIQUE
C43: BONNET | D43: UNIQUE | G43: S | H43: 1
C45: CHAUSSETTE | E45: 1/2 ANS | I45: 2017
C47: CASQUE IDRA 2 | E47: 1/6 ANS
C49: SAC DOTATION VESTIMENTAIRE | E49: USURE
A51: Chaussures basses | E51: 1/AN | G51: POINTURE | H51: Nb | I51: ANNEE REF
C52: JALATHLON | D52: 35-47
A53: OU | C53: JALPALME | D53: 38-47
A54: OU | C54: JALSKATE | D54: 35-47
A55: OU | C55: SAFETY 40 LOW | D55: 38-50
A56: OU | C56: VITAMINE S3 | D56: 35-42
A57: OU | C57: SUCCESS S3 | D57: 35-42
A58: Chaussures hautes | G58: POINTURE | H58: Nb
A59: OU | C59: VITAMINE S3 | D59: 35-42
A60: OU | C60: JALSPHINX | D60: 38-47
A61: OU | C61: JALIROK SAS | D61: 39-47
A62: OU | C62: HEGOA | D62: 38-48
A63: OU | C63: JALREI | D63: 38-48 | G63: 40 | H63: 1
A64: OU | C64: CANYON | D64: 38-47
A65: OU | C65: EBM113 | D65: 36-49
A66: Bottes | G66: POINTURE | H66: Nb
C67: Bottes Normal Sec | D67: 39-48 | E67: 1/2 ANS
A68: OU | C68: Bottes ARDÈCHE | D68: 35-49
A69: OU | C69: Bottes CUIR Snowcruiser | D69: 39-47
A70: OU | C70: Bottes Fourées MOON | D70: 38-47
A71: OU | C71: Bottes Tylex | D71: 39-47
D73: AGENT | G73: CHEF D'EQUIPE
D74: DATE | E74: VISA | G74: DATE | H74: VISA

Sheet H
A1: FICHE INDIVIDUELLE DE DOTATION ANNEE 2018 | I1: =RIGHT(CELL("nomfichier",A1),LEN(CELL("nomfichier",A1))-FIND("]",CELL("nomfichier",A1))) -> H
E2: PERIODICITE | G2: TAILLE | H2: Nb | I2: ANNEE REF
B4: OU | C4: VESTE ÉTÉ | D4: T1 à T8 | E4: 2/AN
C5: VESTE HIVER | D5: T1 à T8
A6: ET | B6: OU | C6: PANTALON ÉTÉ | D6: 38 à 68 | E6: 2/AN
C7: PANTALON HIVER | D7: 38 à 68 | G7: 48 | H7: 1
B8: OU | C8: COTTE A BRETELLES ÉTÉ | D8: 28 à 68 | E8: 2/AN
C9: COTTE A BRETELLES HIVER | D9: 28 à 68
B10: OU | C10: VESTE ÉTÉ | D10: T1 à T8 | E10: 2/AN
C11: VESTE HIVER | D11: T1 à T8 | E11: 2/AN
A12: OU | C12: COMBINAISON ÉTÉ | D12: T1 à T8 | E12: 2/AN
C13: COMBINAISON HIVER | D13: T1 à T8 | G13: 6 | H13: 1
A15: OU | C15: POLO HIVER | D15: T0 à T7 | E15: 3/AN
C16: POLO ETE | D16: T0 à T7 | G16: 6 | H16: 1
C17: POLO AERE | D17: T0 à T7 | G17: 6 | H17: 1
A19: OU | C19: POLO ignifugé et antistatique | D19: S à 3XL | E19: 3/AN | G19: XL | H19: 1
C20: remplace veste et polo
A22: OU | C22: PULL COL ROND | D22: T0 à T7 | E22: 1/AN | G22: 6 | H22: 1
C23: PULL COL CAMIONNEUR | D23: T0 à T7
A25: OU | B25: ET | C25: PANTALON DE PLUIE | D25: S à 4XL | E25: 1/2 ANS | I25: 2017
C26: VESTE DE PLUIE | D26: S à 4XL
C27: COMBINAISON DE PLUIE | D27: S à 4XL
C29: SURPANTALON | D29: S à 4XL | E29: 1/4 ANS | I29: 2017
A31: OU | C31: VESTE DOUBLEE POLAIRE | D31: S à 4XL | E31: 1/2 ANS | I31: 2017
C32: GILET THERMIQUE SANS MANCHES | D32: S à 4XL
C34: PARKA | D34: S à 4XL | E34: 1/4 ANS | I34: 2015
C36: GILET RAFRAICHISSANT | D36: M à 3XL | E36: USURE | G36: XL | H36: 1 | I36: 2015
A38: ET | C38: TEE SHIRT GRAND FROID | D38: S à 2XL | E38: 1/2 ANS | I38: 2017
C39: CALECON GRAND FROID | D39: S à 3XL
A41: OU | C41: CAGOULE | D41: UNIQUE | E41: 1/2 ANS | I41: 2017
C42: BONNET SOUS CASQUE | D42: UNIQUE
C43: BONNET | D43: UNIQUE
C45: CHAUSSETTE | E45: 1/2 ANS | I45: 2017
C47: CASQUE IDRA 2 | E47: 1/6 ANS
C49: SAC DOTATION VESTIMENTAIRE | E49: USURE
A51: Chaussures basses | E51: 1/AN | G51: POINTURE | H51: Nb | I51: ANNEE REF
C52: JALATHLON | D52: 35-47
A53: OU | C53: JALPALME | D53: 38-47 | G53: 45 | H53: 1
A54: OU | C54: JALSKATE | D54: 35-47
A55: OU | C55: SAFETY 40 LOW | D55: 38-50
A56: OU | C56: VITAMINE S3 | D56: 35-42
A57: OU | C57: SUCCESS S3 | D57: 35-42
A58: Chaussures hautes | G58: POINTURE | H58: Nb
A59: OU | C59: VITAMINE S3 | D59: 35-42
A60: OU | C60: JALSPHINX | D60: 38-47
A61: OU | C61: JALIROK SAS | D61: 39-47
A62: OU | C62: HEGOA | D62: 38-48
A63: OU | C63: JALREI | D63: 38-48
A64: OU | C64: CANYON | D64: 38-47
A65: OU | C65: EBM113 | D65: 36-49
A66: Bottes | G66: POINTURE | H66: Nb
C67: Bottes Normal Sec | D67: 39-48 | E67: 1/2 ANS
A68: OU | C68: Bottes ARDÈCHE | D68: 35-49
A69: OU | C69: Bottes CUIR Snowcruiser | D69: 39-47
A70: OU | C70: Bottes Fourées MOON | D70: 38-47
A71: OU | C71: Bottes Tylex | D71: 39-47
D73: AGENT | G73: CHEF D'EQUIPE
D74: DATE | E74: VISA | G74: DATE | H74: VISA

Sheet I
A1: FICHE INDIVIDUELLE DE DOTATION ANNEE 2018 | I1: =RIGHT(CELL("nomfichier",A1),LEN(CELL("nomfichier",A1))-FIND("]",CELL("nomfichier",A1))) -> I
E2: PERIODICITE | G2: TAILLE | H2: Nb | I2: ANNEE REF
B4: OU | C4: VESTE ÉTÉ | D4: T1 à T8 | E4: 2/AN
C5: VESTE HIVER | D5: T1 à T8
A6: ET | B6: OU | C6: PANTALON ÉTÉ | D6: 38 à 68 | E6: 2/AN | G6: 48 | H6: 2
C7: PANTALON HIVER | D7: 38 à 68 | G7: 48 | H7: 2
B8: OU | C8: COTTE A BRETELLES ÉTÉ | D8: 28 à 68 | E8: 2/AN
C9: COTTE A BRETELLES HIVER | D9: 28 à 68
B10: OU | C10: VESTE ÉTÉ | D10: T1 à T8 | E10: 2/AN
C11: VESTE HIVER | D11: T1 à T8 | E11: 2/AN
A12: OU | C12: COMBINAISON ÉTÉ | D12: T1 à T8 | E12: 2/AN
C13: COMBINAISON HIVER | D13: T1 à T8
A15: OU | C15: POLO HIVER | D15: T0 à T7 | E15: 3/AN | G15: 6 | H15: 1
C16: POLO ETE | D16: T0 à T7 | G16: 6 | H16: 1
C17: POLO AERE | D17: T0 à T7
A19: OU | C19: POLO ignifugé et antistatique | D19: S à 3XL | E19: 3/AN | G19: XL | H19: 1
C20: remplace veste et polo
A22: OU | C22: PULL COL ROND | D22: T0 à T7 | E22: 1/AN
C23: PULL COL CAMIONNEUR | D23: T0 à T7 | G23: 6 | H23: 1
A25: OU | B25: ET | C25: PANTALON DE PLUIE | D25: S à 4XL | E25: 1/2 ANS | I25: 2016
C26: VESTE DE PLUIE | D26: S à 4XL
C27: COMBINAISON DE PLUIE | D27: S à 4XL
C29: SURPANTALON | D29: S à 4XL | E29: 1/4 ANS
A31: OU | C31: VESTE DOUBLEE POLAIRE | D31: S à 4XL | E31: 1/2 ANS | G31: XXL | H31: 1 | I31: 2016
C32: GILET THERMIQUE SANS MANCHES | D32: S à 4XL
C34: PARKA | D34: S à 4XL | E34: 1/4 ANS | I34: 2016
C36: GILET RAFRAICHISSANT | D36: M à 3XL | E36: USURE | I36: 2016
A38: ET | C38: TEE SHIRT GRAND FROID | D38: S à 2XL | E38: 1/2 ANS | G38: XXL | H38: 1 | I38: 2016
C39: CALECON GRAND FROID | D39: S à 3XL | G39: L | H39: 1
A41: OU | C41: CAGOULE | D41: UNIQUE | E41: 1/2 ANS | I41: 2016
C42: BONNET SOUS CASQUE | D42: UNIQUE
C43: BONNET | D43: UNIQUE | G43: X | H43: 1
C45: CHAUSSETTE | E45: 1/2 ANS | I45: 2017
C47: CASQUE IDRA 2 | E47: 1/6 ANS | I47: 2016
C49: SAC DOTATION VESTIMENTAIRE | E49: USURE | I49: 2016
A51: Chaussures basses | E51: 1/AN | G51: POINTURE | H51: Nb | I51: ANNEE REF
C52: JALATHLON | D52: 35-47
A53: OU | C53: JALPALME | D53: 38-47
A54: OU | C54: JALSKATE | D54: 35-47
A55: OU | C55: SAFETY 40 LOW | D55: 38-50
A56: OU | C56: VITAMINE S3 | D56: 35-42
A57: OU | C57: SUCCESS S3 | D57: 35-42
A58: Chaussures hautes | G58: POINTURE | H58: Nb
A59: OU | C59: VITAMINE S3 | D59: 35-42
A60: OU | C60: JALSPHINX | D60: 38-47 | I60: 2016
A61: OU | C61: JALIROK SAS | D61: 39-47
A62: OU | C62: HEGOA | D62: 38-48
A63: OU | C63: JALREI | D63: 38-48
A64: OU | C64: CANYON | D64: 38-47 | G64: 45 | H64: 1
A65: OU | C65: EBM113 | D65: 36-49
A66: Bottes | G66: POINTURE | H66: Nb
C67: Bottes Normal Sec | D67: 39-48 | E67: 1/2 ANS
A68: OU | C68: Bottes ARDÈCHE | D68: 35-49
A69: OU | C69: Bottes CUIR Snowcruiser | D69: 39-47
A70: OU | C70: Bottes Fourées MOON | D70: 38-47 | I70: 2016
A71: OU | C71: Bottes Tylex | D71: 39-47
D73: AGENT | G73: CHEF D'EQUIPE
D74: DATE | E74: VISA | G74: DATE | H74: VISA

Sheet J
A1: FICHE INDIVIDUELLE DE DOTATION ANNEE 2018 | I1: =RIGHT(CELL("nomfichier",A1),LEN(CELL("nomfichier",A1))-FIND("]",CELL("nomfichier",A1))) -> J
E2: PERIODICITE | G2: TAILLE | H2: Nb | I2: ANNEE REF
B4: OU | C4: VESTE ÉTÉ | D4: T1 à T8 | E4: 2/AN
C5: VESTE HIVER | D5: T1 à T8
A6: ET | B6: OU | C6: PANTALON ÉTÉ | D6: 38 à 68 | E6: 2/AN | G6: 40 | H6: 1
C7: PANTALON HIVER | D7: 38 à 68 | G7: 40 | H7: 1
B8: OU | C8: COTTE A BRETELLES ÉTÉ | D8: 28 à 68 | E8: 2/AN | G8: 40 | H8: 1
C9: COTTE A BRETELLES HIVER | D9: 28 à 68
B10: OU | C10: VESTE ÉTÉ | D10: T1 à T8 | E10: 2/AN
C11: VESTE HIVER | D11: T1 à T8 | E11: 2/AN
A12: OU | C12: COMBINAISON ÉTÉ | D12: T1 à T8 | E12: 2/AN
C13: COMBINAISON HIVER | D13: T1 à T8
A15: OU | C15: POLO HIVER | D15: T0 à T7 | E15: 3/AN
C16: POLO ETE | D16: T0 à T7 | G16: 2 | H16: 1
C17: POLO AERE | D17: T0 à T7 | G17: 2 | H17: 1
A19: OU | C19: POLO ignifugé et antistatique | D19: S à 3XL | E19: 3/AN | G19: M | H19: 1
C20: remplace veste et polo
A22: OU | C22: PULL COL ROND | D22: T0 à T7 | E22: 1/AN
C23: PULL COL CAMIONNEUR | D23: T0 à T7 | G23: 2 | H23: 1
A25: OU | B25: ET | C25: PANTALON DE PLUIE | D25: S à 4XL | E25: 1/2 ANS | I25: 2017
C26: VESTE DE PLUIE | D26: S à 4XL
C27: COMBINAISON DE PLUIE | D27: S à 4XL
C29: SURPANTALON | D29: S à 4XL | E29: 1/4 ANS | I29: 2015
A31: OU | C31: VESTE DOUBLEE POLAIRE | D31: S à 4XL | E31: 1/2 ANS | I31: 2017
C32: GILET THERMIQUE SANS MANCHES | D32: S à 4XL
C34: PARKA | D34: S à 4XL | E34: 1/4 ANS | I34: 2015
C36: GILET RAFRAICHISSANT | D36: M à 3XL | E36: USURE | G36: M | H36: 1 | I36: 2015
A38: ET | C38: TEE SHIRT GRAND FROID | D38: S à 2XL | E38: 1/2 ANS | I38: 2017
C39: CALECON GRAND FROID | D39: S à 3XL
A41: OU | C41: CAGOULE | D41: UNIQUE | E41: 1/2 ANS | I41: 2017
C42: BONNET SOUS CASQUE | D42: UNIQUE
C43: BONNET | D43: UNIQUE
C45: CHAUSSETTE | E45: 1/2 ANS | I45: 2017
C47: CASQUE IDRA 2 | E47: 1/6 ANS
C49: SAC DOTATION VESTIMENTAIRE | E49: USURE
A51: Chaussures basses | E51: 1/AN | G51: POINTURE | H51: Nb | I51: ANNEE REF
C52: JALATHLON | D52: 35-47 | G52: 43 | H52: 1
A53: OU | C53: JALPALME | D53: 38-47
A54: OU | C54: JALSKATE | D54: 35-47
A55: OU | C55: SAFETY 40 LOW | D55: 38-50
A56: OU | C56: VITAMINE S3 | D56: 35-42
A57: OU | C57: SUCCESS S3 | D57: 35-42
A58: Chaussures hautes | G58: POINTURE | H58: Nb
A59: OU | C59: VITAMINE S3 | D59: 35-42
A60: OU | C60: JALSPHINX | D60: 38-47
A61: OU | C61: JALIROK SAS | D61: 39-47
A62: OU | C62: HEGOA | D62: 38-48
A63: OU | C63: JALREI | D63: 38-48
A64: OU | C64: CANYON | D64: 38-47
A65: OU | C65: EBM113 | D65: 36-49
A66: Bottes | G66: POINTURE | H66: Nb
C67: Bottes Normal Sec | D67: 39-48 | E67: 1/2 ANS
A68: OU | C68: Bottes ARDÈCHE | D68: 35-49
A69: OU | C69: Bottes CUIR Snowcruiser | D69: 39-47
A70: OU | C70: Bottes Fourées MOON | D70: 38-47
A71: OU | C71: Bottes Tylex | D71: 39-47 | G71: 43 | H71: 1
D73: AGENT | G73: CHEF D'EQUIPE
D74: DATE | E74: VISA | G74: DATE | H74: VISA

Sheet K
A1: FICHE INDIVIDUELLE DE DOTATION ANNEE 2018 | I1: =RIGHT(CELL("nomfichier",A1),LEN(CELL("nomfichier",A1))-FIND("]",CELL("nomfichier",A1))) -> K
E2: PERIODICITE | G2: TAILLE | H2: Nb | I2: ANNEE REF
B4: OU | C4: VESTE ÉTÉ | D4: T1 à T8 | E4: 2/AN
C5: VESTE HIVER | D5: T1 à T8
A6: ET | B6: OU | C6: PANTALON ÉTÉ | D6: 38 à 68 | E6: 2/AN
C7: PANTALON HIVER | D7: 38 à 68
B8: OU | C8: COTTE A BRETELLES ÉTÉ | D8: 28 à 68 | E8: 2/AN
C9: COTTE A BRETELLES HIVER | D9: 28 à 68
B10: OU | C10: VESTE ÉTÉ | D10: T1 à T8 | E10: 2/AN
C11: VESTE HIVER | D11: T1 à T8 | E11: 2/AN
A12: OU | C12: COMBINAISON ÉTÉ | D12: T1 à T8 | E12: 2/AN
C13: COMBINAISON HIVER | D13: T1 à T8
A15: OU | C15: POLO HIVER | D15: T0 à T7 | E15: 3/AN
C16: POLO ETE | D16: T0 à T7
C17: POLO AERE | D17: T0 à T7
A19: OU | C19: POLO ignifugé et antistatique | D19: S à 3XL | E19: 3/AN
C20: remplace veste et polo
A22: OU | C22: PULL COL ROND | D22: T0 à T7 | E22: 1/AN
C23: PULL COL CAMIONNEUR | D23: T0 à T7
A25: OU | B25: ET | C25: PANTALON DE PLUIE | D25: S à 4XL | E25: 1/2 ANS | I25: 2017
C26: VESTE DE PLUIE | D26: S à 4XL
C27: COMBINAISON DE PLUIE | D27: S à 4XL
C29: SURPANTALON | D29: S à 4XL | E29: 1/4 ANS | I29: 2016
A31: OU | C31: VESTE DOUBLEE POLAIRE | D31: S à 4XL | E31: 1/2 ANS | I31: 2016
C32: GILET THERMIQUE SANS MANCHES | D32: S à 4XL
C34: PARKA | D34: S à 4XL | E34: 1/4 ANS | I34: 2016
C36: GILET RAFRAICHISSANT | D36: M à 3XL | E36: USURE | I36: 2016
A38: ET | C38: TEE SHIRT GRAND FROID | D38: S à 2XL | E38: 1/2 ANS | I38: 2016
C39: CALECON GRAND FROID | D39: S à 3XL
A41: OU | C41: CAGOULE | D41: UNIQUE | E41: 1/2 ANS | I41: 2016
C42: BONNET SOUS CASQUE | D42: UNIQUE
C43: BONNET | D43: UNIQUE
C45: CHAUSSETTE | E45: 1/2 ANS | I45: 2015
C47: CASQUE IDRA 2 | E47: 1/6 ANS
C49: SAC DOTATION VESTIMENTAIRE | E49: USURE
A51: Chaussures basses | E51: 1/AN | G51: POINTURE | H51: Nb | I51: ANNEE REF
C52: JALATHLON | D52: 35-47
A53: OU | C53: JALPALME | D53: 38-47
A54: OU | C54: JALSKATE | D54: 35-47
A55: OU | C55: SAFETY 40 LOW | D55: 38-50
A56: OU | C56: VITAMINE S3 | D56: 35-42
A57: OU | C57: SUCCESS S3 | D57: 35-42
A58: Chaussures hautes | G58: POINTURE | H58: Nb
A59: OU | C59: VITAMINE S3 | D59: 35-42
A60: OU | C60: JALSPHINX | D60: 38-47
A61: OU | C61: JALIROK SAS | D61: 39-47
A62: OU | C62: HEGOA | D62: 38-48
A63: OU | C63: JALREI | D63: 38-48
A64: OU | C64: CANYON | D64: 38-47
A65: OU | C65: EBM113 | D65: 36-49
A66: Bottes | G66: POINTURE | H66: Nb
C67: Bottes Normal Sec | D67: 39-48 | E67: 1/2 ANS
A68: OU | C68: Bottes ARDÈCHE | D68: 35-49
A69: OU | C69: Bottes CUIR Snowcruiser | D69: 39-47
A70: OU | C70: Bottes Fourées MOON | D70: 38-47
A71: OU | C71: Bottes Tylex | D71: 39-47
D73: AGENT | G73: CHEF D'EQUIPE
D74: DATE | E74: VISA | G74: DATE | H74: VISA

Sheet L
A1: FICHE INDIVIDUELLE DE DOTATION ANNEE 2018 | I1: =RIGHT(CELL("nomfichier",A1),LEN(CELL("nomfichier",A1))-FIND("]",CELL("nomfichier",A1))) -> L
E2: PERIODICITE | G2: TAILLE | H2: Nb | I2: ANNEE REF
B4: OU | C4: VESTE ÉTÉ | D4: T1 à T8 | E4: 2/AN
C5: VESTE HIVER | D5: T1 à T8
A6: ET | B6: OU | C6: PANTALON ÉTÉ | D6: 38 à 68 | E6: 2/AN
C7: PANTALON HIVER | D7: 38 à 68
B8: OU | C8: COTTE A BRETELLES ÉTÉ | D8: 28 à 68 | E8: 2/AN | G8: 46 | H8: 1
C9: COTTE A BRETELLES HIVER | D9: 28 à 68 | G9: 46 | H9: 1
B10: OU | C10: VESTE ÉTÉ | D10: T1 à T8 | E10: 2/AN
C11: VESTE HIVER | D11: T1 à T8 | E11: 2/AN
A12: OU | C12: COMBINAISON ÉTÉ | D12: T1 à T8 | E12: 2/AN
C13: COMBINAISON HIVER | D13: T1 à T8
A15: OU | C15: POLO HIVER | D15: T0 à T7 | E15: 3/AN
C16: POLO ETE | D16: T0 à T7 | G16: 3 | H16: 3
C17: POLO AERE | D17: T0 à T7
A19: OU | C19: POLO ignifugé et antistatique | D19: S à 3XL | E19: 3/AN | G19: L | H19: 1
C20: remplace veste et polo
A22: OU | C22: PULL COL ROND | D22: T0 à T7 | E22: 1/AN | G22: 4 | H22: 1
C23: PULL COL CAMIONNEUR | D23: T0 à T7
A25: OU | B25: ET | C25: PANTALON DE PLUIE | D25: S à 4XL | E25: 1/2 ANS | G25: L | H25: 1 | I25: 2016
C26: VESTE DE PLUIE | D26: S à 4XL | G26: L | H26: 1
C27: COMBINAISON DE PLUIE | D27: S à 4XL
C29: SURPANTALON | D29: S à 4XL | E29: 1/4 ANS | I29: 2014
A31: OU | C31: VESTE DOUBLEE POLAIRE | D31: S à 4XL | E31: 1/2 ANS | G31: L | H31: 1 | I31: 2014
C32: GILET THERMIQUE SANS MANCHES | D32: S à 4XL
C34: PARKA | D34: S à 4XL | E34: 1/4 ANS | I34: 2017
C36: GILET RAFRAICHISSANT | D36: M à 3XL | E36: USURE | I36: 2017
A38: ET | C38: TEE SHIRT GRAND FROID | D38: S à 2XL | E38: 1/2 ANS | G38: L | H38: 1 | I38: 2016
C39: CALECON GRAND FROID | D39: S à 3XL | G39: L | H39: 1
A41: OU | C41: CAGOULE | D41: UNIQUE | E41: 1/2 ANS | I41: 2016
C42: BONNET SOUS CASQUE | D42: UNIQUE | H42: 1
C43: BONNET | D43: UNIQUE
C45: CHAUSSETTE | E45: 1/2 ANS | I45: 2017
C47: CASQUE IDRA 2 | E47: 1/6 ANS
C49: SAC DOTATION VESTIMENTAIRE | E49: USURE
A51: Chaussures basses | E51: 1/AN | G51: POINTURE | H51: Nb | I51: ANNEE REF
C52: JALATHLON | D52: 35-47
A53: OU | C53: JALPALME | D53: 38-47
A54: OU | C54: JALSKATE | D54: 35-47
A55: OU | C55: SAFETY 40 LOW | D55: 38-50
A56: OU | C56: VITAMINE S3 | D56: 35-42
A57: OU | C57: SUCCESS S3 | D57: 35-42
A58: Chaussures hautes | G58: POINTURE | H58: Nb
A59: OU | C59: VITAMINE S3 | D59: 35-42
A60: OU | C60: JALSPHINX | D60: 38-47
A61: OU | C61: JALIROK SAS | D61: 39-47
A62: OU | C62: HEGOA | D62: 38-48
A63: OU | C63: JALREI | D63: 38-48
A64: OU | C64: CANYON | D64: 38-47
A65: OU | C65: EBM113 | D65: 36-49
A66: Bottes | G66: POINTURE | H66: Nb
C67: Bottes Normal Sec | D67: 39-48 | E67: 1/2 ANS | I67: 2017
A68: OU | C68: Bottes ARDÈCHE | D68: 35-49
A69: OU | C69: Bottes CUIR Snowcruiser | D69: 39-47
A70: OU | C70: Bottes Fourées MOON | D70: 38-47
A71: OU | C71: Bottes Tylex | D71: 39-47
D73: AGENT | G73: CHEF D'EQUIPE
D74: DATE | E74: VISA | G74: DATE | H74: VISA

Sheet M
A1: FICHE INDIVIDUELLE DE DOTATION ANNEE 2018 | I1: =RIGHT(CELL("nomfichier",A1),LEN(CELL("nomfichier",A1))-FIND("]",CELL("nomfichier",A1))) -> M
E2: PERIODICITE | G2: TAILLE | H2: Nb | I2: ANNEE REF
B4: OU | C4: VESTE ÉTÉ | D4: T1 à T8 | E4: 2/AN
C5: VESTE HIVER | D5: T1 à T8
A6: ET | B6: OU | C6: PANTALON ÉTÉ | D6: 38 à 68 | E6: 2/AN | G6: 40 | H6: 4
C7: PANTALON HIVER | D7: 38 à 68
B8: OU | C8: COTTE A BRETELLES ÉTÉ | D8: 28 à 68 | E8: 2/AN
C9: COTTE A BRETELLES HIVER | D9: 28 à 68
B10: OU | C10: VESTE ÉTÉ | D10: T1 à T8 | E10: 2/AN
C11: VESTE HIVER | D11: T1 à T8 | E11: 2/AN
A12: OU | C12: COMBINAISON ÉTÉ | D12: T1 à T8 | E12: 2/AN
C13: COMBINAISON HIVER | D13: T1 à T8
A15: OU | C15: POLO HIVER | D15: T0 à T7 | E15: 3/AN
C16: POLO ETE | D16: T0 à T7
C17: POLO AERE | D17: T0 à T7 | G17: 3 | H17: 3
A19: OU | C19: POLO ignifugé et antistatique | D19: S à 3XL | E19: 3/AN
C20: remplace veste et polo
A22: OU | C22: PULL COL ROND | D22: T0 à T7 | E22: 1/AN | G22: 3 | H22: 1
C23: PULL COL CAMIONNEUR | D23: T0 à T7
A25: OU | B25: ET | C25: PANTALON DE PLUIE | D25: S à 4XL | E25: 1/2 ANS | I25: 2017
C26: VESTE DE PLUIE | D26: S à 4XL
C27: COMBINAISON DE PLUIE | D27: S à 4XL
C29: SURPANTALON | D29: S à 4XL | E29: 1/4 ANS | G29: L | H29: 1 | I29: 2014
A31: OU | C31: VESTE DOUBLEE POLAIRE | D31: S à 4XL | E31: 1/2 ANS | I31: 2017
C32: GILET THERMIQUE SANS MANCHES | D32: S à 4XL
C34: PARKA | D34: S à 4XL | E34: 1/4 ANS | I34: 2016
C36: GILET RAFRAICHISSANT | D36: M à 3XL | E36: USURE | I36: 2016
A38: ET | C38: TEE SHIRT GRAND FROID | D38: S à 2XL | E38: 1/2 ANS | G38: L | H38: 1 | I38: 2016
C39: CALECON GRAND FROID | D39: S à 3XL | G39: L | H39: 1
A41: OU | C41: CAGOULE | D41: UNIQUE | E41: 1/2 ANS | I41: 2015
C42: BONNET SOUS CASQUE | D42: UNIQUE
C43: BONNET | D43: UNIQUE
C45: CHAUSSETTE | E45: 1/2 ANS | I45: 2017
C47: CASQUE IDRA 2 | E47: 1/6 ANS
C49: SAC DOTATION VESTIMENTAIRE | E49: USURE
A51: Chaussures basses | E51: 1/AN | G51: POINTURE | H51: Nb | I51: ANNEE REF
C52: JALATHLON | D52: 35-47 | G52: 43 | H52: 1
A53: OU | C53: JALPALME | D53: 38-47
A54: OU | C54: JALSKATE | D54: 35-47
A55: OU | C55: SAFETY 40 LOW | D55: 38-50
A56: OU | C56: VITAMINE S3 | D56: 35-42
A57: OU | C57: SUCCESS S3 | D57: 35-42
A58: Chaussures hautes | G58: POINTURE | H58: Nb
A59: OU | C59: VITAMINE S3 | D59: 35-42
A60: OU | C60: JALSPHINX | D60: 38-47
A61: OU | C61: JALIROK SAS | D61: 39-47
A62: OU | C62: HEGOA | D62: 38-48
A63: OU | C63: JALREI | D63: 38-48
A64: OU | C64: CANYON | D64: 38-47
A65: OU | C65: EBM113 | D65: 36-49
A66: Bottes | G66: POINTURE | H66: Nb
C67: Bottes Normal Sec | D67: 39-48 | E67: 1/2 ANS
A68: OU | C68: Bottes ARDÈCHE | D68: 35-49
A69: OU | C69: Bottes CUIR Snowcruiser | D69: 39-47
A70: OU | C70: Bottes Fourées MOON | D70: 38-47
A71: OU | C71: Bottes Tylex | D71: 39-47 | G71: 43 | H71: 1
D73: AGENT | G73: CHEF D'EQUIPE
D74: DATE | E74: VISA | G74: DATE | H74: VISA

Sheet N
A1: FICHE INDIVIDUELLE DE DOTATION ANNEE 2018 | I1: =RIGHT(CELL("nomfichier",A1),LEN(CELL("nomfichier",A1))-FIND("]",CELL("nomfichier",A1))) -> N
E2: PERIODICITE | G2: TAILLE | H2: Nb | I2: ANNEE REF
B4: OU | C4: VESTE ÉTÉ | D4: T1 à T8 | E4: 2/AN
C5: VESTE HIVER | D5: T1 à T8
A6: ET | B6: OU | C6: PANTALON ÉTÉ | D6: 38 à 68 | E6: 2/AN
C7: PANTALON HIVER | D7: 38 à 68
B8: OU | C8: COTTE A BRETELLES ÉTÉ | D8: 28 à 68 | E8: 2/AN | G8: 46 | H8: 1
C9: COTTE A BRETELLES HIVER | D9: 28 à 68 | G9: 46 | H9: 1
B10: OU | C10: VESTE ÉTÉ | D10: T1 à T8 | E10: 2/AN
C11: VESTE HIVER | D11: T1 à T8 | E11: 2/AN
A12: OU | C12: COMBINAISON ÉTÉ | D12: T1 à T8 | E12: 2/AN
C13: COMBINAISON HIVER | D13: T1 à T8
A15: OU | C15: POLO HIVER | D15: T0 à T7 | E15: 3/AN | G15: 4 | H15: 1
C16: POLO ETE | D16: T0 à T7 | G16: 4 | H16: 1
C17: POLO AERE | D17: T0 à T7 | G17: 4 | H17: 1
A19: OU | C19: POLO ignifugé et antistatique | D19: S à 3XL | E19: 3/AN
C20: remplace veste et polo
A22: OU | C22: PULL COL ROND | D22: T0 à T7 | E22: 1/AN | G22: 4 | H22: 1
C23: PULL COL CAMIONNEUR | D23: T0 à T7
A25: OU | B25: ET | C25: PANTALON DE PLUIE | D25: S à 4XL | E25: 1/2 ANS | I25: 2017
C26: VESTE DE PLUIE | D26: S à 4XL
C27: COMBINAISON DE PLUIE | D27: S à 4XL
C29: SURPANTALON | D29: S à 4XL | E29: 1/4 ANS | I29: 2017
A31: OU | C31: VESTE DOUBLEE POLAIRE | D31: S à 4XL | E31: 1/2 ANS | I31: 2017
C32: GILET THERMIQUE SANS MANCHES | D32: S à 4XL
C34: PARKA | D34: S à 4XL | E34: 1/4 ANS | I34: 2015
C36: GILET RAFRAICHISSANT | D36: M à 3XL | E36: USURE | G36: L | H36: 1 | I36: 2015
A38: ET | C38: TEE SHIRT GRAND FROID | D38: S à 2XL | E38: 1/2 ANS | I38: 2017
C39: CALECON GRAND FROID | D39: S à 3XL
A41: OU | C41: CAGOULE | D41: UNIQUE | E41: 1/2 ANS | I41: 2017
C42: BONNET SOUS CASQUE | D42: UNIQUE
C43: BONNET | D43: UNIQUE
C45: CHAUSSETTE | E45: 1/2 ANS | I45: 2017
C47: CASQUE IDRA 2 | E47: 1/6 ANS
C49: SAC DOTATION VESTIMENTAIRE | E49: USURE | G49: U | H49: 1
A51: Chaussures basses | E51: 1/AN | G51: POINTURE | H51: Nb | I51: ANNEE REF
C52: JALATHLON | D52: 35-47
A53: OU | C53: JALPALME | D53: 38-47
A54: OU | C54: JALSKATE | D54: 35-47
A55: OU | C55: SAFETY 40 LOW | D55: 38-50
A56: OU | C56: VITAMINE S3 | D56: 35-42
A57: OU | C57: SUCCESS S3 | D57: 35-42
A58: Chaussures hautes | G58: POINTURE | H58: Nb
A59: OU | C59: VITAMINE S3 | D59: 35-42
A60: OU | C60: JALSPHINX | D60: 38-47
A61: OU | C61: JALIROK SAS | D61: 39-47
A62: OU | C62: HEGOA | D62: 38-48
A63: OU | C63: JALREI | D63: 38-48
A64: OU | C64: CANYON | D64: 38-47 | G64: 44 | H64: 1
A65: OU | C65: EBM113 | D65: 36-49
A66: Bottes | G66: POINTURE | H66: Nb
C67: Bottes Normal Sec | D67: 39-48 | E67: 1/2 ANS
A68: OU | C68: Bottes ARDÈCHE | D68: 35-49
A69: OU | C69: Bottes CUIR Snowcruiser | D69: 39-47
A70: OU | C70: Bottes Fourées MOON | D70: 38-47
A71: OU | C71: Bottes Tylex | D71: 39-47
D73: AGENT | G73: CHEF D'EQUIPE
D74: DATE | E74: VISA | G74: DATE | H74: VISA

Sheet O
A1: FICHE INDIVIDUELLE DE DOTATION ANNEE 2018 | I1: =RIGHT(CELL("nomfichier",A1),LEN(CELL("nomfichier",A1))-FIND("]",CELL("nomfichier",A1))) -> O
E2: PERIODICITE | G2: TAILLE | H2: Nb | I2: ANNEE REF
B4: OU | C4: VESTE ÉTÉ | D4: T1 à T8 | E4: 2/AN | G4: 2 | H4: 1
C5: VESTE HIVER | D5: T1 à T8 | G5: 2 | H5: 1
A6: ET | B6: OU | C6: PANTALON ÉTÉ | D6: 38 à 68 | E6: 2/AN | G6: 38 | H6: 1
C7: PANTALON HIVER | D7: 38 à 68 | G7: 38 | H7: 1
B8: OU | C8: COTTE A BRETELLES ÉTÉ | D8: 28 à 68 | E8: 2/AN
C9: COTTE A BRETELLES HIVER | D9: 28 à 68
B10: OU | C10: VESTE ÉTÉ | D10: T1 à T8 | E10: 2/AN
C11: VESTE HIVER | D11: T1 à T8 | E11: 2/AN
A12: OU | C12: COMBINAISON ÉTÉ | D12: T1 à T8 | E12: 2/AN
C13: COMBINAISON HIVER | D13: T1 à T8
A15: OU | C15: POLO HIVER | D15: T0 à T7 | E15: 3/AN | G15: 2 | H15: 2
C16: POLO ETE | D16: T0 à T7
C17: POLO AERE | D17: T0 à T7 | G17: 2 | H17: 1
A19: OU | C19: POLO ignifugé et antistatique | D19: S à 3XL | E19: 3/AN
C20: remplace veste et polo
A22: OU | C22: PULL COL ROND | D22: T0 à T7 | E22: 1/AN
C23: PULL COL CAMIONNEUR | D23: T0 à T7 | G23: 2 | H23: 1
A25: OU | B25: ET | C25: PANTALON DE PLUIE | D25: S à 4XL | E25: 1/2 ANS | I25: 2015
C26: VESTE DE PLUIE | D26: S à 4XL | I26: 2015
C27: COMBINAISON DE PLUIE | D27: S à 4XL | I27: 2017
C29: SURPANTALON | D29: S à 4XL | E29: 1/4 ANS | I29: 2015
A31: OU | C31: VESTE DOUBLEE POLAIRE | D31: S à 4XL | E31: 1/2 ANS | I31: 2015
C32: GILET THERMIQUE SANS MANCHES | D32: S à 4XL | I32: 2017
C34: PARKA | D34: S à 4XL | E34: 1/4 ANS | I34: 2015
C36: GILET RAFRAICHISSANT | D36: M à 3XL | E36: USURE | I36: 2015
A38: ET | C38: TEE SHIRT GRAND FROID | D38: S à 2XL | E38: 1/2 ANS | G38: M | H38: 1 | I38: 2016
C39: CALECON GRAND FROID | D39: S à 3XL | G39: M | H39: 1 | I39: 2016
A41: OU | C41: CAGOULE | D41: UNIQUE | E41: 1/2 ANS | I41: 2017
C42: BONNET SOUS CASQUE | D42: UNIQUE
C43: BONNET | D43: UNIQUE | I43: 2016
C45: CHAUSSETTE | E45: 1/2 ANS | G45: 42 | H45: 1
C47: CASQUE IDRA 2 | E47: 1/6 ANS
C49: SAC DOTATION VESTIMENTAIRE | E49: USURE
A51: Chaussures basses | E51: 1/AN | G51: POINTURE | H51: Nb | I51: ANNEE REF
C52: JALATHLON | D52: 35-47
A53: OU | C53: JALPALME | D53: 38-47
A54: OU | C54: JALSKATE | D54: 35-47 | G54: 42 | H54: 1
A55: OU | C55: SAFETY 40 LOW | D55: 38-50
A56: OU | C56: VITAMINE S3 | D56: 35-42
A57: OU | C57: SUCCESS S3 | D57: 35-42
A58: Chaussures hautes | G58: POINTURE | H58: Nb
A59: OU | C59: VITAMINE S3 | D59: 35-42
A60: OU | C60: JALSPHINX | D60: 38-47
A61: OU | C61: JALIROK SAS | D61: 39-47
A62: OU | C62: HEGOA | D62: 38-48
A63: OU | C63: JALREI | D63: 38-48
A64: OU | C64: CANYON | D64: 38-47
A65: OU | C65: EBM113 | D65: 36-49
A66: Bottes | G66: POINTURE | H66: Nb
C67: Bottes Normal Sec | D67: 39-48 | E67: 1/2 ANS
A68: OU | C68: Bottes ARDÈCHE | D68: 35-49
A69: OU | C69: Bottes CUIR Snowcruiser | D69: 39-47
A70: OU | C70: Bottes Fourées MOON | D70: 38-47 | G70: 42 | H70: 1
A71: OU | C71: Bottes Tylex | D71: 39-47
D73: AGENT | G73: CHEF D'EQUIPE
D74: DATE | E74: VISA | G74: DATE | H74: VISA

Sheet P
A1: FICHE INDIVIDUELLE DE DOTATION ANNEE 2018 | I1: =RIGHT(CELL("nomfichier",A1),LEN(CELL("nomfichier",A1))-FIND("]",CELL("nomfichier",A1))) -> P
E2: PERIODICITE | G2: TAILLE | H2: Nb | I2: ANNEE REF
B4: OU | C4: VESTE ÉTÉ | D4: T1 à T8 | E4: 2/AN | G4: 3 | H4: 1
C5: VESTE HIVER | D5: T1 à T8
A6: ET | B6: OU | C6: PANTALON ÉTÉ | D6: 38 à 68 | E6: 2/AN | G6: 46 | H6: 2
C7: PANTALON HIVER | D7: 38 à 68
B8: OU | C8: COTTE A BRETELLES ÉTÉ | D8: 28 à 68 | E8: 2/AN
C9: COTTE A BRETELLES HIVER | D9: 28 à 68
B10: OU | C10: VESTE ÉTÉ | D10: T1 à T8 | E10: 2/AN
C11: VESTE HIVER | D11: T1 à T8 | E11: 2/AN
A12: OU | C12: COMBINAISON ÉTÉ | D12: T1 à T8 | E12: 2/AN
C13: COMBINAISON HIVER | D13: T1 à T8
A15: OU | C15: POLO HIVER | D15: T0 à T7 | E15: 3/AN | G15: 3 | H15: 1
C16: POLO ETE | D16: T0 à T7
C17: POLO AERE | D17: T0 à T7
A19: OU | C19: POLO ignifugé et antistatique | D19: S à 3XL | E19: 3/AN | G19: L | H19: 2
C20: remplace veste et polo
A22: OU | C22: PULL COL ROND | D22: T0 à T7 | E22: 1/AN | G22: 4 | H22: 1
C23: PULL COL CAMIONNEUR | D23: T0 à T7
A25: OU | B25: ET | C25: PANTALON DE PLUIE | D25: S à 4XL | E25: 1/2 ANS | I25: 2016
C26: VESTE DE PLUIE | D26: S à 4XL
C27: COMBINAISON DE PLUIE | D27: S à 4XL
C29: SURPANTALON | D29: S à 4XL | E29: 1/4 ANS
A31: OU | C31: VESTE DOUBLEE POLAIRE | D31: S à 4XL | E31: 1/2 ANS | I31: 2016
C32: GILET THERMIQUE SANS MANCHES | D32: S à 4XL | G32: L | H32: 1
C34: PARKA | D34: S à 4XL | E34: 1/4 ANS | I34: 2016
C36: GILET RAFRAICHISSANT | D36: M à 3XL | E36: USURE | I36: 2016
A38: ET | C38: TEE SHIRT GRAND FROID | D38: S à 2XL | E38: 1/2 ANS | I38: 2017
C39: CALECON GRAND FROID | D39: S à 3XL
A41: OU | C41: CAGOULE | D41: UNIQUE | E41: 1/2 ANS | I41: 2016
C42: BONNET SOUS CASQUE | D42: UNIQUE
C43: BONNET | D43: UNIQUE | G43: M | H43: 1
C45: CHAUSSETTE | E45: 1/2 ANS
C47: CASQUE IDRA 2 | E47: 1/6 ANS | I47: 2016
C49: SAC DOTATION VESTIMENTAIRE | E49: USURE | I49: 2016
A51: Chaussures basses | E51: 1/AN | G51: POINTURE | H51: Nb | I51: ANNEE REF
C52: JALATHLON | D52: 35-47
A53: OU | C53: JALPALME | D53: 38-47
A54: OU | C54: JALSKATE | D54: 35-47 | G54: 43 | H54: 1
A55: OU | C55: SAFETY 40 LOW | D55: 38-50
A56: OU | C56: VITAMINE S3 | D56: 35-42
A57: OU | C57: SUCCESS S3 | D57: 35-42
A58: Chaussures hautes | G58: POINTURE | H58: Nb
A59: OU | C59: VITAMINE S3 | D59: 35-42
A60: OU | C60: JALSPHINX | D60: 38-47 | I60: 2016
A61: OU | C61: JALIROK SAS | D61: 39-47
A62: OU | C62: HEGOA | D62: 38-48
A63: OU | C63: JALREI | D63: 38-48
A64: OU | C64: CANYON | D64: 38-47
A65: OU | C65: EBM113 | D65: 36-49
A66: Bottes | G66: POINTURE | H66: Nb
C67: Bottes Normal Sec | D67: 39-48 | E67: 1/2 ANS
A68: OU | C68: Bottes ARDÈCHE | D68: 35-49
A69: OU | C69: Bottes CUIR Snowcruiser | D69: 39-47 | I69: 2016
A70: OU | C70: Bottes Fourées MOON | D70: 38-47
A71: OU | C71: Bottes Tylex | D71: 39-47
D73: AGENT | G73: CHEF D'EQUIPE
D74: DATE | E74: VISA | G74: DATE | H74: VISA

Sheet Q
A1: FICHE INDIVIDUELLE DE DOTATION ANNEE 2018 | I1: =RIGHT(CELL("nomfichier",A1),LEN(CELL("nomfichier",A1))-FIND("]",CELL("nomfichier",A1))) -> Q
E2: PERIODICITE | G2: TAILLE | H2: Nb | I2: ANNEE REF
B4: OU | C4: VESTE ÉTÉ | D4: T1 à T8 | E4: 2/AN
C5: VESTE HIVER | D5: T1 à T8
A6: ET | B6: OU | C6: PANTALON ÉTÉ | D6: 38 à 68 | E6: 2/AN
C7: PANTALON HIVER | D7: 38 à 68
B8: OU | C8: COTTE A BRETELLES ÉTÉ | D8: 28 à 68 | E8: 2/AN | G8: 44 | H8: 1
C9: COTTE A BRETELLES HIVER | D9: 28 à 68
B10: OU | C10: VESTE ÉTÉ | D10: T1 à T8 | E10: 2/AN
C11: VESTE HIVER | D11: T1 à T8 | E11: 2/AN
A12: OU | C12: COMBINAISON ÉTÉ | D12: T1 à T8 | E12: 2/AN | G12: 4 | H12: 1
C13: COMBINAISON HIVER | D13: T1 à T8
A15: OU | C15: POLO HIVER | D15: T0 à T7 | E15: 3/AN | G15: 3 | H15: 2
C16: POLO ETE | D16: T0 à T7 | G16: 3 | H16: 1
C17: POLO AERE | D17: T0 à T7
A19: OU | C19: POLO ignifugé et antistatique | D19: S à 3XL | E19: 3/AN | G19: L | H19: 1
C20: remplace veste et polo
A22: OU | C22: PULL COL ROND | D22: T0 à T7 | E22: 1/AN | G22: 4 | H22: 1
C23: PULL COL CAMIONNEUR | D23: T0 à T7
A25: OU | B25: ET | C25: PANTALON DE PLUIE | D25: S à 4XL | E25: 1/2 ANS | I25: 2016
C26: VESTE DE PLUIE | D26: S à 4XL
C27: COMBINAISON DE PLUIE | D27: S à 4XL
C29: SURPANTALON | D29: S à 4XL | E29: 1/4 ANS
A31: OU | C31: VESTE DOUBLEE POLAIRE | D31: S à 4XL | E31: 1/2 ANS | I31: 2016
C32: GILET THERMIQUE SANS MANCHES | D32: S à 4XL
C34: PARKA | D34: S à 4XL | E34: 1/4 ANS | G34: M | H34: 1 | I34: 2016
C36: GILET RAFRAICHISSANT | D36: M à 3XL | E36: USURE | I36: 2016
A38: ET | C38: TEE SHIRT GRAND FROID | D38: S à 2XL | E38: 1/2 ANS | I38: 2017
C39: CALECON GRAND FROID | D39: S à 3XL
A41: OU | C41: CAGOULE | D41: UNIQUE | E41: 1/2 ANS | I41: 2016
C42: BONNET SOUS CASQUE | D42: UNIQUE
C43: BONNET | D43: UNIQUE
C45: CHAUSSETTE | E45: 1/2 ANS | G45: 43 | H45: 1
C47: CASQUE IDRA 2 | E47: 1/6 ANS | I47: 2016
C49: SAC DOTATION VESTIMENTAIRE | E49: USURE | I49: 2016
A51: Chaussures basses | E51: 1/AN | G51: POINTURE | H51: Nb | I51: ANNEE REF
C52: JALATHLON | D52: 35-47 | G52: 42 | H52: 1
A53: OU | C53: JALPALME | D53: 38-47
A54: OU | C54: JALSKATE | D54: 35-47
A55: OU | C55: SAFETY 40 LOW | D55: 38-50
A56: OU | C56: VITAMINE S3 | D56: 35-42
A57: OU | C57: SUCCESS S3 | D57: 35-42
A58: Chaussures hautes | G58: POINTURE | H58: Nb
A59: OU | C59: VITAMINE S3 | D59: 35-42
A60: OU | C60: JALSPHINX | D60: 38-47 | I60: 2016
A61: OU | C61: JALIROK SAS | D61: 39-47
A62: OU | C62: HEGOA | D62: 38-48
A63: OU | C63: JALREI | D63: 38-48
A64: OU | C64: CANYON | D64: 38-47
A65: OU | C65: EBM113 | D65: 36-49
A66: Bottes | G66: POINTURE | H66: Nb
C67: Bottes Normal Sec | D67: 39-48 | E67: 1/2 ANS
A68: OU | C68: Bottes ARDÈCHE | D68: 35-49
A69: OU | C69: Bottes CUIR Snowcruiser | D69: 39-47 | I69: 2016
A70: OU | C70: Bottes Fourées MOON | D70: 38-47
A71: OU | C71: Bottes Tylex | D71: 39-47
D73: AGENT | G73: CHEF D'EQUIPE
D74: DATE | E74: VISA | G74: DATE | H74: VISA

Sheet TOTAL
A1: TOTAL DOTATION ANNEE 2018 | E1: EJ + 90 | H1: LIGNE FEMINIME
B3: =A!I1 -> A | D3: =B!I1 -> B | F3: ='C'!I1 -> C | H3: =D!I1 -> D | J3: =E!I1 -> E | L3: =F!I1 -> F | N3: =G!I1 -> G | P3: =H!I1 -> H | R3: =I!I1 -> I | T3: =J!I1 -> J | V3: =K!I1 -> K | X3: =L!I1 -> L | Z3: =M!I1 -> M | AB3: =N!I1 -> N | AD3: =O!I1 -> O | AF3: =P!I1 -> P | AH3: =Q!I1 -> Q
B4: TAILLE | C4: NB | D4: TAILLE | E4: NB | F4: TAILLE | G4: NB | H4: TAILLE | I4: NB | J4: TAILLE | K4: NB | L4: TAILLE | M4: NB | N4: TAILLE | O4: NB | P4: TAILLE | Q4: NB | R4: TAILLE | S4: NB | T4: TAILLE | U4: NB | V4: TAILLE | W4: NB | X4: TAILLE | Y4: NB | Z4: TAILLE | AA4: NB | AB4: TAILLE | AC4: NB | AD4: TAILLE | AE4: NB | AF4: TAILLE | AG4: NB | AH4: TAILLE | AI4: NB
A5: PANTALON ÉTÉ | B5: =IF(ISBLANK(A!G6),"",A!G6) | C5: =IF(ISBLANK(A!H6),"",A!H6) | D5: =IF(ISBLANK(B!G6),"",B!G6) | E5: =IF(ISBLANK(B!H6),"",B!H6) | F5: ² | G5: =IF(ISBLANK('C'!H6),"",'C'!H6) -> 1 | H5: =IF(ISBLANK(D!G6),"",D!G6) -> 42 | I5: =IF(ISBLANK(D!H6),"",D!H6) -> 1 | J5: =IF(ISBLANK(E!G6),"",E!G6) -> 42 | K5: =IF(ISBLANK(E!H6),"",E!H6) -> 2 | L5: =IF(ISBLANK(F!G6),"",F!G6) -> 44 | M5: =IF(ISBLANK(F!H6),"",F!H6) -> 1 | N5: =IF(ISBLANK(G!G6),"",G!G6) -> 40 | O5: =IF(ISBLANK(G!H6),"",G!H6) -> 1 | P5: =IF(ISBLANK(H!G6),"",H!G6) | Q5: =IF(ISBLANK(H!H6),"",H!H6) | R5: =IF(ISBLANK(I!G6),"",I!G6) -> 48 | S5: =IF(ISBLANK(I!H6),"",I!H6) -> 2 | T5: =IF(ISBLANK(J!G6),"",J!G6) -> 40 | U5: =IF(ISBLANK(J!H6),"",J!H6) -> 1 | V5: =IF(ISBLANK(K!G6),"",K!G6) | W5: =IF(ISBLANK(K!H6),"",K!H6) | X5: =IF(ISBLANK(L!G6),"",L!G6) | Y5: =IF(ISBLANK(L!H6),"",L!H6) | Z5: =IF(ISBLANK(M!G6),"",M!G6) -> 40 | AA5: =IF(ISBLANK(M!H6),"",M!H6) -> 4 | AB5: =IF(ISBLANK(N!G6),"",N!G6) | AC5: =IF(ISBLANK(N!H6),"",N!H6) | AD5: =IF(ISBLANK(O!G6),"",O!G6) -> 38 | AE5: =IF(ISBLANK(O!H6),"",O!H6) -> 1 | AF5: =IF(ISBLANK(P!G6),"",P!G6) -> 46 | AG5: =IF(ISBLANK(P!H6),"",P!H6) -> 2 | AH5: =IF(ISBLANK(Q!G6),"",Q!G6) | AI5: =IF(ISBLANK(Q!H6),"",Q!H6)
A6: PANTALON HIVER | B6: =IF(ISBLANK(A!G7),"",A!G7) | C6: =IF(ISBLANK(A!H7),"",A!H7) | D6: =IF(ISBLANK(B!G7),"",B!G7) | E6: =IF(ISBLANK(B!H7),"",B!H7) | F6: =IF(ISBLANK('C'!G7),"",'C'!G7) -> 48 | G6: =IF(ISBLANK('C'!H7),"",'C'!H7) -> 1 | H6: =IF(ISBLANK(D!G7),"",D!G7) -> 42 | I6: =IF(ISBLANK(D!H7),"",D!H7) -> 1 | J6: =IF(ISBLANK(E!G7),"",E!G7) | K6: =IF(ISBLANK(E!H7),"",E!H7) | L6: =IF(ISBLANK(F!G7),"",F!G7) | M6: =IF(ISBLANK(F!H7),"",F!H7) | N6: =IF(ISBLANK(G!G7),"",G!G7) -> 40 | O6: =IF(ISBLANK(G!H7),"",G!H7) -> 1 | P6: =IF(ISBLANK(H!G7),"",H!G7) -> 48 | Q6: =IF(ISBLANK(H!H7),"",H!H7) -> 1 | R6: =IF(ISBLANK(I!G7),"",I!G7) -> 48 | S6: =IF(ISBLANK(I!H7),"",I!H7) -> 2 | T6: =IF(ISBLANK(J!G7),"",J!G7) -> 40 | U6: =IF(ISBLANK(J!H7),"",J!H7) -> 1 | V6: =IF(ISBLANK(K!G7),"",K!G7) | W6: =IF(ISBLANK(K!H7),"",K!H7) | X6: =IF(ISBLANK(L!G7),"",L!G7) | Y6: =IF(ISBLANK(L!H7),"",L!H7) | Z6: =IF(ISBLANK(M!G7),"",M!G7) | AA6: =IF(ISBLANK(M!H7),"",M!H7) | AB6: =IF(ISBLANK(N!G7),"",N!G7) | AC6: =IF(ISBLANK(N!H7),"",N!H7) | AD6: =IF(ISBLANK(O!G7),"",O!G7) -> 38 | AE6: =IF(ISBLANK(O!H7),"",O!H7) -> 1 | AF6: =IF(ISBLANK(P!G7),"",P!G7) | AG6: =IF(ISBLANK(P!H7),"",P!H7) | AH6: =IF(ISBLANK(Q!G7),"",Q!G7) | AI6: =IF(ISBLANK(Q!H7),"",Q!H7)
A7: VESTE ÉTÉ | B7: =IF(ISBLANK(A!G4),"",A!G4) | C7: =IF(ISBLANK(A!H4),"",A!H4) | D7: =IF(ISBLANK(B!G4),"",B!G4) | E7: =IF(ISBLANK(B!H4),"",B!H4) | F7: =IF(ISBLANK('C'!G4),"",'C'!G4) | G7: =IF(ISBLANK('C'!H4),"",'C'!H4) | H7: =IF(ISBLANK(D!G4),"",D!G4) | I7: =IF(ISBLANK(D!H4),"",D!H4) | J7: =IF(ISBLANK(E!G4),"",E!G4) | K7: =IF(ISBLANK(E!H4),"",E!H4) | L7: =IF(ISBLANK(F!G4),"",F!G4) | M7: =IF(ISBLANK(F!H4),"",F!H4) | N7: =IF(ISBLANK(G!G4),"",G!G4) | O7: =IF(ISBLANK(G!H4),"",G!H4) | P7: =IF(ISBLANK(H!G4),"",H!G4) | Q7: =IF(ISBLANK(H!H4),"",H!H4) | R7: =IF(ISBLANK(I!G4),"",I!G4) | S7: =IF(ISBLANK(I!H4),"",I!H4) | T7: =IF(ISBLANK(J!G4),"",J!G4) | U7: =IF(ISBLANK(J!H4),"",J!H4) | V7: =IF(ISBLANK(K!G4),"",K!G4) | W7: =IF(ISBLANK(K!H4),"",K!H4) | X7: =IF(ISBLANK(L!G4),"",L!G4) | Y7: =IF(ISBLANK(L!H4),"",L!H4) | Z7: =IF(ISBLANK(M!G4),"",M!G4) | AA7: =IF(ISBLANK(M!H4),"",M!H4) | AB7: =IF(ISBLANK(N!G4),"",N!G4) | AC7: =IF(ISBLANK(N!H4),"",N!H4) | AD7: =IF(ISBLANK(O!G4),"",O!G4) -> 2 | AE7: =IF(ISBLANK(O!H4),"",O!H4) -> 1 | AF7: =IF(ISBLANK(P!G4),"",P!G4) -> 3 | AG7: =IF(ISBLANK(P!H4),"",P!H4) -> 1 | AH7: =IF(ISBLANK(Q!G4),"",Q!G4) | AI7: =IF(ISBLANK(Q!H4),"",Q!H4)
A8: VESTE HIVER | B8: =IF(ISBLANK(A!G5),"",A!G5) | C8: =IF(ISBLANK(A!H5),"",A!H5) | D8: =IF(ISBLANK(B!G5),"",B!G5) | E8: =IF(ISBLANK(B!H5),"",B!H5) | F8: =IF(ISBLANK('C'!G5),"",'C'!G5) | G8: =IF(ISBLANK('C'!H5),"",'C'!H5) | H8: =IF(ISBLANK(D!G5),"",D!G5) | I8: =IF(ISBLANK(D!H5),"",D!H5) | J8: =IF(ISBLANK(E!G5),"",E!G5) | K8: =IF(ISBLANK(E!H5),"",E!H5) | L8: =IF(ISBLANK(F!G5),"",F!G5) | M8: =IF(ISBLANK(F!H5),"",F!H5) | N8: =IF(ISBLANK(G!G5),"",G!G5) | O8: =IF(ISBLANK(G!H5),"",G!H5) | P8: =IF(ISBLANK(H!G5),"",H!G5) | Q8: =IF(ISBLANK(H!H5),"",H!H5) | R8: =IF(ISBLANK(I!G5),"",I!G5) | S8: =IF(ISBLANK(I!H5),"",I!H5) | T8: =IF(ISBLANK(J!G5),"",J!G5) | U8: =IF(ISBLANK(J!H5),"",J!H5) | V8: =IF(ISBLANK(K!G5),"",K!G5) | W8: =IF(ISBLANK(K!H5),"",K!H5) | X8: =IF(ISBLANK(L!G5),"",L!G5) | Y8: =IF(ISBLANK(L!H5),"",L!H5) | Z8: =IF(ISBLANK(M!G5),"",M!G5) | AA8: =IF(ISBLANK(M!H5),"",M!H5) | AB8: =IF(ISBLANK(N!G5),"",N!G5) | AC8: =IF(ISBLANK(N!H5),"",N!H5) | AD8: =IF(ISBLANK(O!G5),"",O!G5) -> 2 | AE8: =IF(ISBLANK(O!H5),"",O!H5) -> 1 | AF8: =IF(ISBLANK(P!G5),"",P!G5) | AG8: =IF(ISBLANK(P!H5),"",P!H5) | AH8: =IF(ISBLANK(Q!G5),"",Q!G5) | AI8: =IF(ISBLANK(Q!H5),"",Q!H5)
B9: =IF(ISBLANK(A!#REF!),"",A!#REF!) -> #REF! | C9: =IF(ISBLANK(A!#REF!),"",A!#REF!) -> #REF! | D9: =IF(ISBLANK(B!#REF!),"",B!#REF!) -> #REF! | E9: =IF(ISBLANK(B!#REF!),"",B!#REF!) -> #REF! | F9: =IF(ISBLANK('C'!#REF!),"",'C'!#REF!) -> #REF! | G9: =IF(ISBLANK('C'!#REF!),"",'C'!#REF!) -> #REF! | H9: =IF(ISBLANK(D!#REF!),"",D!#REF!) -> #REF! | I9: =IF(ISBLANK(D!#REF!),"",D!#REF!) -> #REF! | J9: =IF(ISBLANK(E!#REF!),"",E!#REF!) -> #REF! | K9: =IF(ISBLANK(E!#REF!),"",E!#REF!) -> #REF! | L9: =IF(ISBLANK(F!#REF!),"",F!#REF!) -> #REF! | M9: =IF(ISBLANK(F!#REF!),"",F!#REF!) -> #REF! | N9: =IF(ISBLANK(G!#REF!),"",G!#REF!) -> #REF! | O9: =IF(ISBLANK(G!#REF!),"",G!#REF!) -> #REF! | P9: =IF(ISBLANK(H!#REF!),"",H!#REF!) -> #REF! | Q9: =IF(ISBLANK(H!#REF!),"",H!#REF!) -> #REF! | R9: =IF(ISBLANK(I!#REF!),"",I!#REF!) -> #REF! | S9: =IF(ISBLANK(I!#REF!),"",I!#REF!) -> #REF! | T9: =IF(ISBLANK(J!#REF!),"",J!#REF!) -> #REF! | U9: =IF(ISBLANK(J!#REF!),"",J!#REF!) -> #REF! | V9: =IF(ISBLANK(K!#REF!),"",K!#REF!) -> #REF! | W9: =IF(ISBLANK(K!#REF!),"",K!#REF!) -> #REF! | X9: =IF(ISBLANK(L!#REF!),"",L!#REF!) -> #REF! | Y9: =IF(ISBLANK(L!#REF!),"",L!#REF!) -> #REF! | Z9: =IF(ISBLANK(M!#REF!),"",M!#REF!) -> #REF! | AA9: =IF(ISBLANK(M!#REF!),"",M!#REF!) -> #REF! | AB9: =IF(ISBLANK(N!#REF!),"",N!#REF!) -> #REF! | AC9: =IF(ISBLANK(N!#REF!),"",N!#REF!) -> #REF! | AD9: =IF(ISBLANK(O!#REF!),"",O!#REF!) -> #REF! | AE9: =IF(ISBLANK(O!#REF!),"",O!#REF!) -> #REF! | AF9: =IF(ISBLANK(P!#REF!),"",P!#REF!) -> #REF! | AG9: =IF(ISBLANK(P!#REF!),"",P!#REF!) -> #REF! | AH9: =IF(ISBLANK(Q!#REF!),"",Q!#REF!) -> #REF! | AI9: =IF(ISBLANK(Q!#REF!),"",Q!#REF!) -> #REF!
A10: COTTE A BRETELLES ÉTÉ | B10: =IF(ISBLANK(A!G8),"",A!G8) | C10: =IF(ISBLANK(A!H8),"",A!H8) | D10: =IF(ISBLANK(B!G8),"",B!G8) | E10: =IF(ISBLANK(B!H8),"",B!H8) | F10: =IF(ISBLANK('C'!G8),"",'C'!G8) | G10: =IF(ISBLANK('C'!H8),"",'C'!H8) | H10: =IF(ISBLANK(D!G8),"",D!G8) | I10: =IF(ISBLANK(D!H8),"",D!H8) | J10: =IF(ISBLANK(E!G8),"",E!G8) | K10: =IF(ISBLANK(E!H8),"",E!H8) | L10: =IF(ISBLANK(F!G8),"",F!G8) | M10: =IF(ISBLANK(F!H8),"",F!H8) | N10: =IF(ISBLANK(G!G8),"",G!G8) | O10: =IF(ISBLANK(G!H8),"",G!H8) | P10: =IF(ISBLANK(H!G8),"",H!G8) | Q10: =IF(ISBLANK(H!H8),"",H!H8) | R10: =IF(ISBLANK(I!G8),"",I!G8) | S10: =IF(ISBLANK(I!H8),"",I!H8) | T10: =IF(ISBLANK(J!G8),"",J!G8) -> 40 | U10: =IF(ISBLANK(J!H8),"",J!H8) -> 1 | V10: =IF(ISBLANK(K!G8),"",K!G8) | W10: =IF(ISBLANK(K!H8),"",K!H8) | X10: =IF(ISBLANK(L!G8),"",L!G8) -> 46 | Y10: =IF(ISBLANK(L!H8),"",L!H8) -> 1 | Z10: =IF(ISBLANK(M!G8),"",M!G8) | AA10: =IF(ISBLANK(M!H8),"",M!H8) | AB10: =IF(ISBLANK(N!G8),"",N!G8) -> 46 | AC10: =IF(ISBLANK(N!H8),"",N!H8) -> 1 | AD10: =IF(ISBLANK(O!G8),"",O!G8) | AE10: =IF(ISBLANK(O!H8),"",O!H8) | AF10: =IF(ISBLANK(P!G8),"",P!G8) | AG10: =IF(ISBLANK(P!H8),"",P!H8) | AH10: =IF(ISBLANK(Q!G8),"",Q!G8) -> 44 | AI10: =IF(ISBLANK(Q!H8),"",Q!H8) -> 1
A11: COTTE A BRETELLES HIVER | B11: =IF(ISBLANK(A!G9),"",A!G9) | C11: =IF(ISBLANK(A!H9),"",A!H9) | D11: =IF(ISBLANK(B!G9),"",B!G9) | E11: =IF(ISBLANK(B!H9),"",B!H9) | F11: =IF(ISBLANK('C'!G9),"",'C'!G9) | G11: =IF(ISBLANK('C'!H9),"",'C'!H9) | H11: =IF(ISBLANK(D!G9),"",D!G9) | I11: =IF(ISBLANK(D!H9),"",D!H9) | J11: =IF(ISBLANK(E!G9),"",E!G9) | K11: =IF(ISBLANK(E!H9),"",E!H9) | L11: =IF(ISBLANK(F!G9),"",F!G9) | M11: =IF(ISBLANK(F!H9),"",F!H9) | N11: =IF(ISBLANK(G!G9),"",G!G9) | O11: =IF(ISBLANK(G!H9),"",G!H9) | P11: =IF(ISBLANK(H!G9),"",H!G9) | Q11: =IF(ISBLANK(H!H9),"",H!H9) | R11: =IF(ISBLANK(I!G9),"",I!G9) | S11: =IF(ISBLANK(I!H9),"",I!H9) | T11: =IF(ISBLANK(J!G9),"",J!G9) | U11: =IF(ISBLANK(J!H9),"",J!H9) | V11: =IF(ISBLANK(K!G9),"",K!G9) | W11: =IF(ISBLANK(K!H9),"",K!H9) | X11: =IF(ISBLANK(L!G9),"",L!G9) -> 46 | Y11: =IF(ISBLANK(L!H9),"",L!H9) -> 1 | Z11: =IF(ISBLANK(M!G9),"",M!G9) | AA11: =IF(ISBLANK(M!H9),"",M!H9) | AB11: =IF(ISBLANK(N!G9),"",N!G9) -> 46 | AC11: =IF(ISBLANK(N!H9),"",N!H9) -> 1 | AD11: =IF(ISBLANK(O!G9),"",O!G9) | AE11: =IF(ISBLANK(O!H9),"",O!H9) | AF11: =IF(ISBLANK(P!G9),"",P!G9) | AG11: =IF(ISBLANK(P!H9),"",P!H9) | AH11: =IF(ISBLANK(Q!G9),"",Q!G9) | AI11: =IF(ISBLANK(Q!H9),"",Q!H9)
A12: VESTE ÉTÉ | B12: =IF(ISBLANK(A!G10),"",A!G10) | C12: =IF(ISBLANK(A!H10),"",A!H10) | D12: =IF(ISBLANK(B!G10),"",B!G10) | E12: =IF(ISBLANK(B!H10),"",B!H10) | F12: =IF(ISBLANK('C'!G10),"",'C'!G10) | G12: =IF(ISBLANK('C'!H10),"",'C'!H10) | H12: =IF(ISBLANK(D!G10),"",D!G10) | I12: =IF(ISBLANK(D!H10),"",D!H10) | J12: =IF(ISBLANK(E!G10),"",E!G10) | K12: =IF(ISBLANK(E!H10),"",E!H10) | L12: =IF(ISBLANK(F!G10),"",F!G10) | M12: =IF(ISBLANK(F!H10),"",F!H10) | N12: =IF(ISBLANK(G!G10),"",G!G10) | O12: =IF(ISBLANK(G!H10),"",G!H10) | P12: =IF(ISBLANK(H!G10),"",H!G10) | Q12: =IF(ISBLANK(H!H10),"",H!H10) | R12: =IF(ISBLANK(I!G10),"",I!G10) | S12: =IF(ISBLANK(I!H10),"",I!H10) | T12: =IF(ISBLANK(J!G10),"",J!G10) | U12: =IF(ISBLANK(J!H10),"",J!H10) | V12: =IF(ISBLANK(K!G10),"",K!G10) | W12: =IF(ISBLANK(K!H10),"",K!H10) | X12: =IF(ISBLANK(L!G10),"",L!G10) | Y12: =IF(ISBLANK(L!H10),"",L!H10) | Z12: =IF(ISBLANK(M!G10),"",M!G10) | AA12: =IF(ISBLANK(M!H10),"",M!H10) | AB12: =IF(ISBLANK(N!G10),"",N!G10) | AC12: =IF(ISBLANK(N!H10),"",N!H10) | AD12: =IF(ISBLANK(O!G10),"",O!G10) | AE12: =IF(ISBLANK(O!H10),"",O!H10) | AF12: =IF(ISBLANK(P!G10),"",P!G10) | AG12: =IF(ISBLANK(P!H10),"",P!H10) | AH12: =IF(ISBLANK(Q!G10),"",Q!G10) | AI12: =IF(ISBLANK(Q!H10),"",Q!H10)
A13: VESTE HIVER | B13: =IF(ISBLANK(A!G11),"",A!G11) | C13: =IF(ISBLANK(A!H11),"",A!H11) | D13: =IF(ISBLANK(B!G11),"",B!G11) | E13: =IF(ISBLANK(B!H11),"",B!H11) | F13: =IF(ISBLANK('C'!G11),"",'C'!G11) | G13: =IF(ISBLANK('C'!H11),"",'C'!H11) | H13: =IF(ISBLANK(D!G11),"",D!G11) | I13: =IF(ISBLANK(D!H11),"",D!H11) | J13: =IF(ISBLANK(E!G11),"",E!G11) | K13: =IF(ISBLANK(E!H11),"",E!H11) | L13: =IF(ISBLANK(F!G11),"",F!G11) | M13: =IF(ISBLANK(F!H11),"",F!H11) | N13: =IF(ISBLANK(G!G11),"",G!G11) | O13: =IF(ISBLANK(G!H11),"",G!H11) | P13: =IF(ISBLANK(H!G11),"",H!G11) | Q13: =IF(ISBLANK(H!H11),"",H!H11) | R13: =IF(ISBLANK(I!G11),"",I!G11) | S13: =IF(ISBLANK(I!H11),"",I!H11) | T13: =IF(ISBLANK(J!G11),"",J!G11) | U13: =IF(ISBLANK(J!H11),"",J!H11) | V13: =IF(ISBLANK(K!G11),"",K!G11) | W13: =IF(ISBLANK(K!H11),"",K!H11) | X13: =IF(ISBLANK(L!G11),"",L!G11) | Y13: =IF(ISBLANK(L!H11),"",L!H11) | Z13: =IF(ISBLANK(M!G11),"",M!G11) | AA13: =IF(ISBLANK(M!H11),"",M!H11) | AB13: =IF(ISBLANK(N!G11),"",N!G11) | AC13: =IF(ISBLANK(N!H11),"",N!H11) | AD13: =IF(ISBLANK(O!G11),"",O!G11) | AE13: =IF(ISBLANK(O!H11),"",O!H11) | AF13: =IF(ISBLANK(P!G11),"",P!G11) | AG13: =IF(ISBLANK(P!H11),"",P!H11) | AH13: =IF(ISBLANK(Q!G11),"",Q!G11) | AI13: =IF(ISBLANK(Q!H11),"",Q!H11)
B14: =IF(ISBLANK(A!#REF!),"",A!#REF!) -> #REF! | C14: =IF(ISBLANK(A!#REF!),"",A!#REF!) -> #REF! | D14: =IF(ISBLANK(B!#REF!),"",B!#REF!) -> #REF! | E14: =IF(ISBLANK(B!#REF!),"",B!#REF!) -> #REF! | F14: =IF(ISBLANK('C'!#REF!),"",'C'!#REF!) -> #REF! | G14: =IF(ISBLANK('C'!#REF!),"",'C'!#REF!) -> #REF! | H14: =IF(ISBLANK(D!#REF!),"",D!#REF!) -> #REF! | I14: =IF(ISBLANK(D!#REF!),"",D!#REF!) -> #REF! | J14: =IF(ISBLANK(E!#REF!),"",E!#REF!) -> #REF! | K14: =IF(ISBLANK(E!#REF!),"",E!#REF!) -> #REF! | L14: =IF(ISBLANK(F!#REF!),"",F!#REF!) -> #REF! | M14: =IF(ISBLANK(F!#REF!),"",F!#REF!) -> #REF! | N14: =IF(ISBLANK(G!#REF!),"",G!#REF!) -> #REF! | O14: =IF(ISBLANK(G!#REF!),"",G!#REF!) -> #REF! | P14: =IF(ISBLANK(H!#REF!),"",H!#REF!) -> #REF! | Q14: =IF(ISBLANK(H!#REF!),"",H!#REF!) -> #REF! | R14: =IF(ISBLANK(I!#REF!),"",I!#REF!) -> #REF! | S14: =IF(ISBLANK(I!#REF!),"",I!#REF!) -> #REF! | T14: =IF(ISBLANK(J!#REF!),"",J!#REF!) -> #REF! | U14: =IF(ISBLANK(J!#REF!),"",J!#REF!) -> #REF! | V14: =IF(ISBLANK(K!#REF!),"",K!#REF!) -> #REF! | W14: =IF(ISBLANK(K!#REF!),"",K!#REF!) -> #REF! | X14: =IF(ISBLANK(L!#REF!),"",L!#REF!) -> #REF! | Y14: =IF(ISBLANK(L!#REF!),"",L!#REF!) -> #REF! | Z14: =IF(ISBLANK(M!#REF!),"",M!#REF!) -> #REF! | AA14: =IF(ISBLANK(M!#REF!),"",M!#REF!) -> #REF! | AB14: =IF(ISBLANK(N!#REF!),"",N!#REF!) -> #REF! | AC14: =IF(ISBLANK(N!#REF!),"",N!#REF!) -> #REF! | AD14: =IF(ISBLANK(O!#REF!),"",O!#REF!) -> #REF! | AE14: =IF(ISBLANK(O!#REF!),"",O!#REF!) -> #REF! | AF14: =IF(ISBLANK(P!#REF!),"",P!#REF!) -> #REF! | AG14: =IF(ISBLANK(P!#REF!),"",P!#REF!) -> #REF! | AH14: =IF(ISBLANK(Q!#REF!),"",Q!#REF!) -> #REF! | AI14: =IF(ISBLANK(Q!#REF!),"",Q!#REF!) -> #REF!
A15: COMBINAISON ÉTÉ | B15: =IF(ISBLANK(A!G12),"",A!G12) | C15: =IF(ISBLANK(A!H12),"",A!H12) | D15: =IF(ISBLANK(B!G12),"",B!G12) | E15: =IF(ISBLANK(B!H12),"",B!H12) | F15: =IF(ISBLANK('C'!G12),"",'C'!G12) | G15: =IF(ISBLANK('C'!H12),"",'C'!H12) | H15: =IF(ISBLANK(D!G12),"",D!G12) | I15: =IF(ISBLANK(D!H12),"",D!H12) | J15: =IF(ISBLANK(E!G12),"",E!G12) | K15: =IF(ISBLANK(E!H12),"",E!H12) | L15: =IF(ISBLANK(F!G12),"",F!G12) -> 4 | M15: =IF(ISBLANK(F!H12),"",F!H12) -> 1 | N15: =IF(ISBLANK(G!G12),"",G!G12) | O15: =IF(ISBLANK(G!H12),"",G!H12) | P15: =IF(ISBLANK(H!G12),"",H!G12) | Q15: =IF(ISBLANK(H!H12),"",H!H12) | R15: =IF(ISBLANK(I!G12),"",I!G12) | S15: =IF(ISBLANK(I!H12),"",I!H12) | T15: =IF(ISBLANK(J!G12),"",J!G12) | U15: =IF(ISBLANK(J!H12),"",J!H12) | V15: =IF(ISBLANK(K!G12),"",K!G12) | W15: =IF(ISBLANK(K!H12),"",K!H12) | X15: =IF(ISBLANK(L!G12),"",L!G12) | Y15: =IF(ISBLANK(L!H12),"",L!H12) | Z15: =IF(ISBLANK(M!G12),"",M!G12) | AA15: =IF(ISBLANK(M!H12),"",M!H12) | AB15: =IF(ISBLANK(N!G12),"",N!G12) | AC15: =IF(ISBLANK(N!H12),"",N!H12) | AD15: =IF(ISBLANK(O!G12),"",O!G12) | AE15: =IF(ISBLANK(O!H12),"",O!H12) | AF15: =IF(ISBLANK(P!G12),"",P!G12) | AG15: =IF(ISBLANK(P!H12),"",P!H12) | AH15: =IF(ISBLANK(Q!G12),"",Q!G12) -> 4 | AI15: =IF(ISBLANK(Q!H12),"",Q!H12) -> 1
A16: COMBINAISON HIVER | B16: =IF(ISBLANK(A!G13),"",A!G13) | C16: =IF(ISBLANK(A!H13),"",A!H13) | D16: =IF(ISBLANK(B!G13),"",B!G13) | E16: =IF(ISBLANK(B!H13),"",B!H13) | F16: =IF(ISBLANK('C'!G13),"",'C'!G13) | G16: =IF(ISBLANK('C'!H13),"",'C'!H13) | H16: =IF(ISBLANK(D!G13),"",D!G13) | I16: =IF(ISBLANK(D!H13),"",D!H13) | J16: =IF(ISBLANK(E!G13),"",E!G13) | K16: =IF(ISBLANK(E!H13),"",E!H13) | L16: =IF(ISBLANK(F!G13),"",F!G13) | M16: =IF(ISBLANK(F!H13),"",F!H13) | N16: =IF(ISBLANK(G!G13),"",G!G13) | O16: =IF(ISBLANK(G!H13),"",G!H13) | P16: =IF(ISBLANK(H!G13),"",H!G13) -> 6 | Q16: =IF(ISBLANK(H!H13),"",H!H13) -> 1 | R16: =IF(ISBLANK(I!G13),"",I!G13) | S16: =IF(ISBLANK(I!H13),"",I!H13) | T16: =IF(ISBLANK(J!G13),"",J!G13) | U16: =IF(ISBLANK(J!H13),"",J!H13) | V16: =IF(ISBLANK(K!G13),"",K!G13) | W16: =IF(ISBLANK(K!H13),"",K!H13) | X16: =IF(ISBLANK(L!G13),"",L!G13) | Y16: =IF(ISBLANK(L!H13),"",L!H13) | Z16: =IF(ISBLANK(M!G13),"",M!G13) | AA16: =IF(ISBLANK(M!H13),"",M!H13) | AB16: =IF(ISBLANK(N!G13),"",N!G13) | AC16: =IF(ISBLANK(N!H13),"",N!H13) | AD16: =IF(ISBLANK(O!G13),"",O!G13) | AE16: =IF(ISBLANK(O!H13),"",O!H13) | AF16: =IF(ISBLANK(P!G13),"",P!G13) | AG16: =IF(ISBLANK(P!H13),"",P!H13) | AH16: =IF(ISBLANK(Q!G13),"",Q!G13) | AI16: =IF(ISBLANK(Q!H13),"",Q!H13)
B17: =IF(ISBLANK(A!G14),"",A!G14) | C17: =IF(ISBLANK(A!H14),"",A!H14) | D17: =IF(ISBLANK(B!G14),"",B!G14) | E17: =IF(ISBLANK(B!H14),"",B!H14) | F17: =IF(ISBLANK('C'!G14),"",'C'!G14) | G17: =IF(ISBLANK('C'!H14),"",'C'!H14) | H17: =IF(ISBLANK(D!G14),"",D!G14) | I17: =IF(ISBLANK(D!H14),"",D!H14) | J17: =IF(ISBLANK(E!G14),"",E!G14) | K17: =IF(ISBLANK(E!H14),"",E!H14) | L17: =IF(ISBLANK(F!G14),"",F!G14) | M17: =IF(ISBLANK(F!H14),"",F!H14) | N17: =IF(ISBLANK(G!G14),"",G!G14) | O17: =IF(ISBLANK(G!H14),"",G!H14) | P17: =IF(ISBLANK(H!G14),"",H!G14) | Q17: =IF(ISBLANK(H!H14),"",H!H14) | R17: =IF(ISBLANK(I!G14),"",I!G14) | S17: =IF(ISBLANK(I!H14),"",I!H14) | T17: =IF(ISBLANK(J!G14),"",J!G14) | U17: =IF(ISBLANK(J!H14),"",J!H14) | V17: =IF(ISBLANK(K!G14),"",K!G14) | W17: =IF(ISBLANK(K!H14),"",K!H14) | X17: =IF(ISBLANK(L!G14),"",L!G14) | Y17: =IF(ISBLANK(L!H14),"",L!H14) | Z17: =IF(ISBLANK(M!G14),"",M!G14) | AA17: =IF(ISBLANK(M!H14),"",M!H14) | AB17: =IF(ISBLANK(N!G14),"",N!G14) | AC17: =IF(ISBLANK(N!H14),"",N!H14) | AD17: =IF(ISBLANK(O!G14),"",O!G14) | AE17: =IF(ISBLANK(O!H14),"",O!H14) | AF17: =IF(ISBLANK(P!G14),"",P!G14) | AG17: =IF(ISBLANK(P!H14),"",P!H14) | AH17: =IF(ISBLANK(Q!G14),"",Q!G14) | AI17: =IF(ISBLANK(Q!H14),"",Q!H14)
A18: POLO HIVER | B18: =IF(ISBLANK(A!G15),"",A!G15) | C18: =IF(ISBLANK(A!H15),"",A!H15) | D18: =IF(ISBLANK(B!G15),"",B!G15) | E18: =IF(ISBLANK(B!H15),"",B!H15) | F18: =IF(ISBLANK('C'!G15),"",'C'!G15) -> 6 | G18: =IF(ISBLANK('C'!H15),"",'C'!H15) -> 2 | H18: =IF(ISBLANK(D!G15),"",D!G15) | I18: =IF(ISBLANK(D!H15),"",D!H15) | J18: =IF(ISBLANK(E!G15),"",E!G15) | K18: =IF(ISBLANK(E!H15),"",E!H15) | L18: =IF(ISBLANK(F!G15),"",F!G15) | M18: =IF(ISBLANK(F!H15),"",F!H15) | N18: =IF(ISBLANK(G!G15),"",G!G15) -> 2 | O18: =IF(ISBLANK(G!H15),"",G!H15) -> 1 | P18: =IF(ISBLANK(H!G15),"",H!G15) | Q18: =IF(ISBLANK(H!H15),"",H!H15) | R18: =IF(ISBLANK(I!G15),"",I!G15) -> 6 | S18: =IF(ISBLANK(I!H15),"",I!H15) -> 1 | T18: =IF(ISBLANK(J!G15),"",J!G15) | U18: =IF(ISBLANK(J!H15),"",J!H15) | V18: =IF(ISBLANK(K!G15),"",K!G15) | W18: =IF(ISBLANK(K!H15),"",K!H15) | X18: =IF(ISBLANK(L!G15),"",L!G15) | Y18: =IF(ISBLANK(L!H15),"",L!H15) | Z18: =IF(ISBLANK(M!G15),"",M!G15) | AA18: =IF(ISBLANK(M!H15),"",M!H15) | AB18: =IF(ISBLANK(N!G15),"",N!G15) -> 4 | AC18: =IF(ISBLANK(N!H15),"",N!H15) -> 1 | AD18: =IF(ISBLANK(O!G15),"",O!G15) -> 2 | AE18: =IF(ISBLANK(O!H15),"",O!H15) -> 2 | AF18: =IF(ISBLANK(P!G15),"",P!G15) -> 3 | AG18: =IF(ISBLANK(P!H15),"",P!H15) -> 1 | AH18: =IF(ISBLANK(Q!G15),"",Q!G15) -> 3 | AI18: =IF(ISBLANK(Q!H15),"",Q!H15) -> 2
A19: POLO ETE | B19: =IF(ISBLANK(A!G16),"",A!G16) | C19: =IF(ISBLANK(A!H16),"",A!H16) | D19: =IF(ISBLANK(B!G16),"",B!G16) -> 5 | E19: =IF(ISBLANK(B!H16),"",B!H16) -> 1 | F19: =IF(ISBLANK('C'!G16),"",'C'!G16) -> 6 | G19: =IF(ISBLANK('C'!H16),"",'C'!H16) -> 1 | H19: =IF(ISBLANK(D!G16),"",D!G16) | I19: =IF(ISBLANK(D!H16),"",D!H16) | J19: =IF(ISBLANK(E!G16),"",E!G16) -> 3 | K19: =IF(ISBLANK(E!H16),"",E!H16) -> 1 | L19: =IF(ISBLANK(F!G16),"",F!G16) | M19: =IF(ISBLANK(F!H16),"",F!H16) | N19: =IF(ISBLANK(G!G16),"",G!G16) -> 2 | O19: =IF(ISBLANK(G!H16),"",G!H16) -> 1 | P19: =IF(ISBLANK(H!G16),"",H!G16) -> 6 | Q19: =IF(ISBLANK(H!H16),"",H!H16) -> 1 | R19: =IF(ISBLANK(I!G16),"",I!G16) -> 6 | S19: =IF(ISBLANK(I!H16),"",I!H16) -> 1 | T19: =IF(ISBLANK(J!G16),"",J!G16) -> 2 | U19: =IF(ISBLANK(J!H16),"",J!H16) -> 1 | V19: =IF(ISBLANK(K!G16),"",K!G16) | W19: =IF(ISBLANK(K!H16),"",K!H16) | X19: =IF(ISBLANK(L!G16),"",L!G16) -> 3 | Y19: =IF(ISBLANK(L!H16),"",L!H16) -> 3 | Z19: =IF(ISBLANK(M!G16),"",M!G16) | AA19: =IF(ISBLANK(M!H16),"",M!H16) | AB19: =IF(ISBLANK(N!G16),"",N!G16) -> 4 | AC19: =IF(ISBLANK(N!H16),"",N!H16) -> 1 | AD19: =IF(ISBLANK(O!G16),"",O!G16) | AE19: =IF(ISBLANK(O!H16),"",O!H16) | AF19: =IF(ISBLANK(P!G16),"",P!G16) | AG19: =IF(ISBLANK(P!H16),"",P!H16) | AH19: =IF(ISBLANK(Q!G16),"",Q!G16) -> 3 | AI19: =IF(ISBLANK(Q!H16),"",Q!H16) -> 1
A20: POLO AERE | B20: =IF(ISBLANK(A!G17),"",A!G17) | C20: =IF(ISBLANK(A!H17),"",A!H17) | D20: =IF(ISBLANK(B!G17),"",B!G17) | E20: =IF(ISBLANK(B!H17),"",B!H17) | F20: =IF(ISBLANK('C'!G17),"",'C'!G17) | G20: =IF(ISBLANK('C'!H17),"",'C'!H17) | H20: =IF(ISBLANK(D!G17),"",D!G17) -> 3 | I20: =IF(ISBLANK(D!H17),"",D!H17) -> 1 | J20: =IF(ISBLANK(E!G17),"",E!G17) -> 3 | K20: =IF(ISBLANK(E!H17),"",E!H17) -> 2 | L20: =IF(ISBLANK(F!G17),"",F!G17) -> 3 | M20: =IF(ISBLANK(F!H17),"",F!H17) -> 2 | N20: =IF(ISBLANK(G!G17),"",G!G17) | O20: =IF(ISBLANK(G!H17),"",G!H17) | P20: =IF(ISBLANK(H!G17),"",H!G17) -> 6 | Q20: =IF(ISBLANK(H!H17),"",H!H17) -> 1 | R20: =IF(ISBLANK(I!G17),"",I!G17) | S20: =IF(ISBLANK(I!H17),"",I!H17) | T20: =IF(ISBLANK(J!G17),"",J!G17) -> 2 | U20: =IF(ISBLANK(J!H17),"",J!H17) -> 1 | V20: =IF(ISBLANK(K!G17),"",K!G17) | W20: =IF(ISBLANK(K!H17),"",K!H17) | X20: =IF(ISBLANK(L!G17),"",L!G17) | Y20: =IF(ISBLANK(L!H17),"",L!H17) | Z20: =IF(ISBLANK(M!G17),"",M!G17) -> 3 | AA20: =IF(ISBLANK(M!H17),"",M!H17) -> 3 | AB20: =IF(ISBLANK(N!G17),"",N!G17) -> 4 | AC20: =IF(ISBLANK(N!H17),"",N!H17) -> 1 | AD20: =IF(ISBLANK(O!G17),"",O!G17) -> 2 | AE20: =IF(ISBLANK(O!H17),"",O!H17) -> 1 | AF20: =IF(ISBLANK(P!G17),"",P!G17) | AG20: =IF(ISBLANK(P!H17),"",P!H17) | AH20: =IF(ISBLANK(Q!G17),"",Q!G17) | AI20: =IF(ISBLANK(Q!H17),"",Q!H17)
B21: =IF(ISBLANK(A!G18),"",A!G18) | C21: =IF(ISBLANK(A!H18),"",A!H18) | D21: =IF(ISBLANK(B!G18),"",B!G18) | E21: =IF(ISBLANK(B!H18),"",B!H18) | F21: =IF(ISBLANK('C'!G18),"",'C'!G18) | G21: =IF(ISBLANK('C'!H18),"",'C'!H18) | H21: =IF(ISBLANK(D!G18),"",D!G18) | I21: =IF(ISBLANK(D!H18),"",D!H18) | J21: =IF(ISBLANK(E!G18),"",E!G18) | K21: =IF(ISBLANK(E!H18),"",E!H18) | L21: =IF(ISBLANK(F!G18),"",F!G18) | M21: =IF(ISBLANK(F!H18),"",F!H18) | N21: =IF(ISBLANK(G!G18),"",G!G18) | O21: =IF(ISBLANK(G!H18),"",G!H18) | P21: =IF(ISBLANK(H!G18),"",H!G18) | Q21: =IF(ISBLANK(H!H18),"",H!H18) | R21: =IF(ISBLANK(I!G18),"",I!G18) | S21: =IF(ISBLANK(I!H18),"",I!H18) | T21: =IF(ISBLANK(J!G18),"",J!G18) | U21: =IF(ISBLANK(J!H18),"",J!H18) | V21: =IF(ISBLANK(K!G18),"",K!G18) | W21: =IF(ISBLANK(K!H18),"",K!H18) | X21: =IF(ISBLANK(L!G18),"",L!G18) | Y21: =IF(ISBLANK(L!H18),"",L!H18) | Z21: =IF(ISBLANK(M!G18),"",M!G18) | AA21: =IF(ISBLANK(M!H18),"",M!H18) | AB21: =IF(ISBLANK(N!G18),"",N!G18) | AC21: =IF(ISBLANK(N!H18),"",N!H18) | AD21: =IF(ISBLANK(O!G18),"",O!G18) | AE21: =IF(ISBLANK(O!H18),"",O!H18) | AF21: =IF(ISBLANK(P!G18),"",P!G18) | AG21: =IF(ISBLANK(P!H18),"",P!H18) | AH21: =IF(ISBLANK(Q!G18),"",Q!G18) | AI21: =IF(ISBLANK(Q!H18),"",Q!H18)
A22: POLO ignifugé et antistatique | B22: =IF(ISBLANK(A!G19),"",A!G19) | C22: =IF(ISBLANK(A!H19),"",A!H19) | D22: =IF(ISBLANK(B!G19),"",B!G19) -> XL | E22: =IF(ISBLANK(B!H19),"",B!H19) -> 2 | F22: =IF(ISBLANK('C'!G19),"",'C'!G19) -> XL | G22: =IF(ISBLANK('C'!H19),"",'C'!H19) -> 1 | H22: =IF(ISBLANK(D!G19),"",D!G19) -> M | I22: =IF(ISBLANK(D!H19),"",D!H19) -> 2 | J22: =IF(ISBLANK(E!G19),"",E!G19) -> L | K22: =IF(ISBLANK(E!H19),"",E!H19) -> 1 | L22: =IF(ISBLANK(F!G19),"",F!G19) -> L | M22: =IF(ISBLANK(F!H19),"",F!H19) -> 1 | N22: =IF(ISBLANK(G!G19),"",G!G19) -> M | O22: =IF(ISBLANK(G!H19),"",G!H19) -> 1 | P22: =IF(ISBLANK(H!G19),"",H!G19) -> XL | Q22: =IF(ISBLANK(H!H19),"",H!H19) -> 1 | R22: =IF(ISBLANK(I!G19),"",I!G19) -> XL | S22: =IF(ISBLANK(I!H19),"",I!H19) -> 1 | T22: =IF(ISBLANK(J!G19),"",J!G19) -> M | U22: =IF(ISBLANK(J!H19),"",J!H19) -> 1 | V22: =IF(ISBLANK(K!G19),"",K!G19) | W22: =IF(ISBLANK(K!H19),"",K!H19) | X22: =IF(ISBLANK(L!G19),"",L!G19) -> L | Y22: =IF(ISBLANK(L!H19),"",L!H19) -> 1 | Z22: =IF(ISBLANK(M!G19),"",M!G19) | AA22: =IF(ISBLANK(M!H19),"",M!H19) | AB22: =IF(ISBLANK(N!G19),"",N!G19) | AC22: =IF(ISBLANK(N!H19),"",N!H19) | AD22: =IF(ISBLANK(O!G19),"",O!G19) | AE22: =IF(ISBLANK(O!H19),"",O!H19) | AF22: =IF(ISBLANK(P!G19),"",P!G19) -> L | AG22: =IF(ISBLANK(P!H19),"",P!H19) -> 2 | AH22: =IF(ISBLANK(Q!G19),"",Q!G19) -> L | AI22: =IF(ISBLANK(Q!H19),"",Q!H19) -> 1
A23: PULL COL ROND | B23: =IF(ISBLANK(A!G22),"",A!G22) | C23: =IF(ISBLANK(A!H22),"",A!H22) | D23: =IF(ISBLANK(B!G22),"",B!G22) -> 3 | E23: =IF(ISBLANK(B!H22),"",B!H22) -> 1 | F23: =IF(ISBLANK('C'!G22),"",'C'!G22) -> 3 | G23: =IF(ISBLANK('C'!H22),"",'C'!H22) -> 1 | H23: =IF(ISBLANK(D!G22),"",D!G22) | I23: =IF(ISBLANK(D!H22),"",D!H22) | J23: =IF(ISBLANK(E!G22),"",E!G22) | K23: =IF(ISBLANK(E!H22),"",E!H22) | L23: =IF(ISBLANK(F!G22),"",F!G22) -> 3 | M23: =IF(ISBLANK(F!H22),"",F!H22) -> 1 | N23: =IF(ISBLANK(G!G22),"",G!G22) | O23: =IF(ISBLANK(G!H22),"",G!H22) | P23: =IF(ISBLANK(H!G22),"",H!G22) -> 6 | Q23: =IF(ISBLANK(H!H22),"",H!H22) -> 1 | R23: =IF(ISBLANK(I!G22),"",I!G22) | S23: =IF(ISBLANK(I!H22),"",I!H22) | T23: =IF(ISBLANK(J!G22),"",J!G22) | U23: =IF(ISBLANK(J!H22),"",J!H22) | V23: =IF(ISBLANK(K!G22),"",K!G22) | W23: =IF(ISBLANK(K!H22),"",K!H22) | X23: =IF(ISBLANK(L!G22),"",L!G22) -> 4 | Y23: =IF(ISBLANK(L!H22),"",L!H22) -> 1 | Z23: =IF(ISBLANK(M!G22),"",M!G22) -> 3 | AA23: =IF(ISBLANK(M!H22),"",M!H22) -> 1 | AB23: =IF(ISBLANK(N!G22),"",N!G22) -> 4 | AC23: =IF(ISBLANK(N!H22),"",N!H22) -> 1 | AD23: =IF(ISBLANK(O!G22),"",O!G22) | AE23: =IF(ISBLANK(O!H22),"",O!H22) | AF23: =IF(ISBLANK(P!G22),"",P!G22) -> 4 | AG23: =IF(ISBLANK(P!H22),"",P!H22) -> 1 | AH23: =IF(ISBLANK(Q!G22),"",Q!G22) -> 4 | AI23: =IF(ISBLANK(Q!H22),"",Q!H22) -> 1
A24: PULL COL CAMIONNEUR | B24: =IF(ISBLANK(A!G23),"",A!G23) | C24: =IF(ISBLANK(A!H23),"",A!H23) | D24: =IF(ISBLANK(B!G23),"",B!G23) | E24: =IF(ISBLANK(B!H23),"",B!H23) | F24: =IF(ISBLANK('C'!G23),"",'C'!G23) | G24: =IF(ISBLANK('C'!H23),"",'C'!H23) | H24: =IF(ISBLANK(D!G23),"",D!G23) -> 3 | I24: =IF(ISBLANK(D!H23),"",D!H23) -> 1 | J24: =IF(ISBLANK(E!G23),"",E!G23) -> 3 | K24: =IF(ISBLANK(E!H23),"",E!H23) -> 1 | L24: =IF(ISBLANK(F!G23),"",F!G23) | M24: =IF(ISBLANK(F!H23),"",F!H23) | N24: =IF(ISBLANK(G!G23),"",G!G23) -> 2 | O24: =IF(ISBLANK(G!H23),"",G!H23) -> 1 | P24: =IF(ISBLANK(H!G23),"",H!G23) | Q24: =IF(ISBLANK(H!H23),"",H!H23) | R24: =IF(ISBLANK(I!G23),"",I!G23) -> 6 | S24: =IF(ISBLANK(I!H23),"",I!H23) -> 1 | T24: =IF(ISBLANK(J!G23),"",J!G23) -> 2 | U24: =IF(ISBLANK(J!H23),"",J!H23) -> 1 | V24: =IF(ISBLANK(K!G23),"",K!G23) | W24: =IF(ISBLANK(K!H23),"",K!H23) | X24: =IF(ISBLANK(L!G23),"",L!G23) | Y24: =IF(ISBLANK(L!H23),"",L!H23) | Z24: =IF(ISBLANK(M!G23),"",M!G23) | AA24: =IF(ISBLANK(M!H23),"",M!H23) | AB24: =IF(ISBLANK(N!G23),"",N!G23) | AC24: =IF(ISBLANK(N!H23),"",N!H23) | AD24: =IF(ISBLANK(O!G23),"",O!G23) -> 2 | AE24: =IF(ISBLANK(O!H23),"",O!H23) -> 1 | AF24: =IF(ISBLANK(P!G23),"",P!G23) | AG24: =IF(ISBLANK(P!H23),"",P!H23) | AH24: =IF(ISBLANK(Q!G23),"",Q!G23) | AI24: =IF(ISBLANK(Q!H23),"",Q!H23)
B25: =IF(ISBLANK(A!G24),"",A!G24) | C25: =IF(ISBLANK(A!H24),"",A!H24) | D25: =IF(ISBLANK(B!G24),"",B!G24) | E25: =IF(ISBLANK(B!H24),"",B!H24) | F25: =IF(ISBLANK('C'!G24),"",'C'!G24) | G25: =IF(ISBLANK('C'!H24),"",'C'!H24) | H25: =IF(ISBLANK(D!G24),"",D!G24) | I25: =IF(ISBLANK(D!H24),"",D!H24) | J25: =IF(ISBLANK(E!G24),"",E!G24) | K25: =IF(ISBLANK(E!H24),"",E!H24) | L25: =IF(ISBLANK(F!G24),"",F!G24) | M25: =IF(ISBLANK(F!H24),"",F!H24) | N25: =IF(ISBLANK(G!G24),"",G!G24) | O25: =IF(ISBLANK(G!H24),"",G!H24) | P25: =IF(ISBLANK(H!G24),"",H!G24) | Q25: =IF(ISBLANK(H!H24),"",H!H24) | R25: =IF(ISBLANK(I!G24),"",I!G24) | S25: =IF(ISBLANK(I!H24),"",I!H24) | T25: =IF(ISBLANK(J!G24),"",J!G24) | U25: =IF(ISBLANK(J!H24),"",J!H24) | V25: =IF(ISBLANK(K!G24),"",K!G24) | W25: =IF(ISBLANK(K!H24),"",K!H24) | X25: =IF(ISBLANK(L!G24),"",L!G24) | Y25: =IF(ISBLANK(L!H24),"",L!H24) | Z25: =IF(ISBLANK(M!G24),"",M!G24) | AA25: =IF(ISBLANK(M!H24),"",M!H24) | AB25: =IF(ISBLANK(N!G24),"",N!G24) | AC25: =IF(ISBLANK(N!H24),"",N!H24) | AD25: =IF(ISBLANK(O!G24),"",O!G24) | AE25: =IF(ISBLANK(O!H24),"",O!H24) | AF25: =IF(ISBLANK(P!G24),"",P!G24) | AG25: =IF(ISBLANK(P!H24),"",P!H24) | AH25: =IF(ISBLANK(Q!G24),"",Q!G24) | AI25: =IF(ISBLANK(Q!H24),"",Q!H24)
A26: PANTALON DE PLUIE | B26: =IF(ISBLANK(A!G25),"",A!G25) | C26: =IF(ISBLANK(A!H25),"",A!H25) | D26: =IF(ISBLANK(B!G25),"",B!G25) -> M | E26: =IF(ISBLANK(B!H25),"",B!H25) -> 1 | F26: =IF(ISBLANK('C'!G25),"",'C'!G25) | G26: =IF(ISBLANK('C'!H25),"",'C'!H25) | H26: =IF(ISBLANK(D!G25),"",D!G25) -> M | I26: =IF(ISBLANK(D!H25),"",D!H25) -> 1 | J26: =IF(ISBLANK(E!G25),"",E!G25) | K26: =IF(ISBLANK(E!H25),"",E!H25) | L26: =IF(ISBLANK(F!G25),"",F!G25) -> L | M26: =IF(ISBLANK(F!H25),"",F!H25) -> 1 | N26: =IF(ISBLANK(G!G25),"",G!G25) | O26: =IF(ISBLANK(G!H25),"",G!H25) | P26: =IF(ISBLANK(H!G25),"",H!G25) | Q26: =IF(ISBLANK(H!H25),"",H!H25) | R26: =IF(ISBLANK(I!G25),"",I!G25) | S26: =IF(ISBLANK(I!H25),"",I!H25) | T26: =IF(ISBLANK(J!G25),"",J!G25) | U26: =IF(ISBLANK(J!H25),"",J!H25) | V26: =IF(ISBLANK(K!G25),"",K!G25) | W26: =IF(ISBLANK(K!H25),"",K!H25) | X26: =IF(ISBLANK(L!G25),"",L!G25) -> L | Y26: =IF(ISBLANK(L!H25),"",L!H25) -> 1 | Z26: =IF(ISBLANK(M!G25),"",M!G25) | AA26: =IF(ISBLANK(M!H25),"",M!H25) | AB26: =IF(ISBLANK(N!G25),"",N!G25) | AC26: =IF(ISBLANK(N!H25),"",N!H25) | AD26: =IF(ISBLANK(O!G25),"",O!G25) | AE26: =IF(ISBLANK(O!H25),"",O!H25) | AF26: =IF(ISBLANK(P!G25),"",P!G25) | AG26: =IF(ISBLANK(P!H25),"",P!H25) | AH26: =IF(ISBLANK(Q!G25),"",Q!G25) | AI26: =IF(ISBLANK(Q!H25),"",Q!H25)
A27: VESTE DE PLUIE | B27: =IF(ISBLANK(A!G26),"",A!G26) | C27: =IF(ISBLANK(A!H26),"",A!H26) | D27: =IF(ISBLANK(B!G26),"",B!G26) -> M | E27: =IF(ISBLANK(B!H26),"",B!H26) -> 1 | F27: =IF(ISBLANK('C'!G26),"",'C'!G26) | G27: =IF(ISBLANK('C'!H26),"",'C'!H26) | H27: =IF(ISBLANK(D!G26),"",D!G26) -> M | I27: =IF(ISBLANK(D!H26),"",D!H26) -> 1 | J27: =IF(ISBLANK(E!G26),"",E!G26) | K27: =IF(ISBLANK(E!H26),"",E!H26) | L27: =IF(ISBLANK(F!G26),"",F!G26) -> L | M27: =IF(ISBLANK(F!H26),"",F!H26) -> 1 | N27: =IF(ISBLANK(G!G26),"",G!G26) | O27: =IF(ISBLANK(G!H26),"",G!H26) | P27: =IF(ISBLANK(H!G26),"",H!G26) | Q27: =IF(ISBLANK(H!H26),"",H!H26) | R27: =IF(ISBLANK(I!G26),"",I!G26) | S27: =IF(ISBLANK(I!H26),"",I!H26) | T27: =IF(ISBLANK(J!G26),"",J!G26) | U27: =IF(ISBLANK(J!H26),"",J!H26) | V27: =IF(ISBLANK(K!G26),"",K!G26) | W27: =IF(ISBLANK(K!H26),"",K!H26) | X27: =IF(ISBLANK(L!G26),"",L!G26) -> L | Y27: =IF(ISBLANK(L!H26),"",L!H26) -> 1 | Z27: =IF(ISBLANK(M!G26),"",M!G26) | AA27: =IF(ISBLANK(M!H26),"",M!H26) | AB27: =IF(ISBLANK(N!G26),"",N!G26) | AC27: =IF(ISBLANK(N!H26),"",N!H26) | AD27: =IF(ISBLANK(O!G26),"",O!G26) | AE27: =IF(ISBLANK(O!H26),"",O!H26) | AF27: =IF(ISBLANK(P!G26),"",P!G26) | AG27: =IF(ISBLANK(P!H26),"",P!H26) | AH27: =IF(ISBLANK(Q!G26),"",Q!G26) | AI27: =IF(ISBLANK(Q!H26),"",Q!H26)
A28: COMBINAISON DE PLUIE | B28: =IF(ISBLANK(A!G27),"",A!G27) | C28: =IF(ISBLANK(A!H27),"",A!H27) | D28: =IF(ISBLANK(B!G27),"",B!G27) | E28: =IF(ISBLANK(B!H27),"",B!H27) | F28: =IF(ISBLANK('C'!G27),"",'C'!G27) | G28: =IF(ISBLANK('C'!H27),"",'C'!H27) | H28: =IF(ISBLANK(D!G27),"",D!G27) | I28: =IF(ISBLANK(D!H27),"",D!H27) | J28: =IF(ISBLANK(E!G27),"",E!G27) | K28: =IF(ISBLANK(E!H27),"",E!H27) | L28: =IF(ISBLANK(F!G27),"",F!G27) | M28: =IF(ISBLANK(F!H27),"",F!H27) | N28: =IF(ISBLANK(G!G27),"",G!G27) -> M | O28: =IF(ISBLANK(G!H27),"",G!H27) -> 1 | P28: =IF(ISBLANK(H!G27),"",H!G27) | Q28: =IF(ISBLANK(H!H27),"",H!H27) | R28: =IF(ISBLANK(I!G27),"",I!G27) | S28: =IF(ISBLANK(I!H27),"",I!H27) | T28: =IF(ISBLANK(J!G27),"",J!G27) | U28: =IF(ISBLANK(J!H27),"",J!H27) | V28: =IF(ISBLANK(K!G27),"",K!G27) | W28: =IF(ISBLANK(K!H27),"",K!H27) | X28: =IF(ISBLANK(L!G27),"",L!G27) | Y28: =IF(ISBLANK(L!H27),"",L!H27) | Z28: =IF(ISBLANK(M!G27),"",M!G27) | AA28: =IF(ISBLANK(M!H27),"",M!H27) | AB28: =IF(ISBLANK(N!G27),"",N!G27) | AC28: =IF(ISBLANK(N!H27),"",N!H27) | AD28: =IF(ISBLANK(O!G27),"",O!G27) | AE28: =IF(ISBLANK(O!H27),"",O!H27) | AF28: =IF(ISBLANK(P!G27),"",P!G27) | AG28: =IF(ISBLANK(P!H27),"",P!H27) | AH28: =IF(ISBLANK(Q!G27),"",Q!G27) | AI28: =IF(ISBLANK(Q!H27),"",Q!H27)
B29: =IF(ISBLANK(A!G28),"",A!G28) | C29: =IF(ISBLANK(A!H28),"",A!H28) | D29: =IF(ISBLANK(B!G28),"",B!G28) | E29: =IF(ISBLANK(B!H28),"",B!H28) | F29: =IF(ISBLANK('C'!G28),"",'C'!G28) | G29: =IF(ISBLANK('C'!H28),"",'C'!H28) | H29: =IF(ISBLANK(D!G28),"",D!G28) | I29: =IF(ISBLANK(D!H28),"",D!H28) | J29: =IF(ISBLANK(E!G28),"",E!G28) | K29: =IF(ISBLANK(E!H28),"",E!H28) | L29: =IF(ISBLANK(F!G28),"",F!G28) | M29: =IF(ISBLANK(F!H28),"",F!H28) | N29: =IF(ISBLANK(G!G28),"",G!G28) | O29: =IF(ISBLANK(G!H28),"",G!H28) | P29: =IF(ISBLANK(H!G28),"",H!G28) | Q29: =IF(ISBLANK(H!H28),"",H!H28) | R29: =IF(ISBLANK(I!G28),"",I!G28) | S29: =IF(ISBLANK(I!H28),"",I!H28) | T29: =IF(ISBLANK(J!G28),"",J!G28) | U29: =IF(ISBLANK(J!H28),"",J!H28) | V29: =IF(ISBLANK(K!G28),"",K!G28) | W29: =IF(ISBLANK(K!H28),"",K!H28) | X29: =IF(ISBLANK(L!G28),"",L!G28) | Y29: =IF(ISBLANK(L!H28),"",L!H28) | Z29: =IF(ISBLANK(M!G28),"",M!G28) | AA29: =IF(ISBLANK(M!H28),"",M!H28) | AB29: =IF(ISBLANK(N!G28),"",N!G28) | AC29: =IF(ISBLANK(N!H28),"",N!H28) | AD29: =IF(ISBLANK(O!G28),"",O!G28) | AE29: =IF(ISBLANK(O!H28),"",O!H28) | AF29: =IF(ISBLANK(P!G28),"",P!G28) | AG29: =IF(ISBLANK(P!H28),"",P!H28) | AH29: =IF(ISBLANK(Q!G28),"",Q!G28) | AI29: =IF(ISBLANK(Q!H28),"",Q!H28)
A30: SURPANTALON | B30: =IF(ISBLANK(A!G29),"",A!G29) | C30: =IF(ISBLANK(A!H29),"",A!H29) | D30: =IF(ISBLANK(B!G29),"",B!G29) -> M | E30: =IF(ISBLANK(B!H29),"",B!H29) -> 1 | F30: =IF(ISBLANK('C'!G29),"",'C'!G29) | G30: =IF(ISBLANK('C'!H29),"",'C'!H29) | H30: =IF(ISBLANK(D!G29),"",D!G29) -> M | I30: =IF(ISBLANK(D!H29),"",D!H29) -> 1 | J30: =IF(ISBLANK(E!G29),"",E!G29) | K30: =IF(ISBLANK(E!H29),"",E!H29) | L30: =IF(ISBLANK(F!G29),"",F!G29) | M30: =IF(ISBLANK(F!H29),"",F!H29) | N30: =IF(ISBLANK(G!G29),"",G!G29) -> M | O30: =IF(ISBLANK(G!H29),"",G!H29) -> 1 | P30: =IF(ISBLANK(H!G29),"",H!G29) | Q30: =IF(ISBLANK(H!H29),"",H!H29) | R30: =IF(ISBLANK(I!G29),"",I!G29) | S30: =IF(ISBLANK(I!H29),"",I!H29) | T30: =IF(ISBLANK(J!G29),"",J!G29) | U30: =IF(ISBLANK(J!H29),"",J!H29) | V30: =IF(ISBLANK(K!G29),"",K!G29) | W30: =IF(ISBLANK(K!H29),"",K!H29) | X30: =IF(ISBLANK(L!G29),"",L!G29) | Y30: =IF(ISBLANK(L!H29),"",L!H29) | Z30: =IF(ISBLANK(M!G29),"",M!G29) -> L | AA30: =IF(ISBLANK(M!H29),"",M!H29) -> 1 | AB30: =IF(ISBLANK(N!G29),"",N!G29) | AC30: =IF(ISBLANK(N!H29),"",N!H29) | AD30: =IF(ISBLANK(O!G29),"",O!G29) | AE30: =IF(ISBLANK(O!H29),"",O!H29) | AF30: =IF(ISBLANK(P!G29),"",P!G29) | AG30: =IF(ISBLANK(P!H29),"",P!H29) | AH30: =IF(ISBLANK(Q!G29),"",Q!G29) | AI30: =IF(ISBLANK(Q!H29),"",Q!H29)
B31: =IF(ISBLANK(A!G30),"",A!G30) | C31: =IF(ISBLANK(A!H30),"",A!H30) | D31: =IF(ISBLANK(B!G30),"",B!G30) | E31: =IF(ISBLANK(B!H30),"",B!H30) | F31: =IF(ISBLANK('C'!G30),"",'C'!G30) | G31: =IF(ISBLANK('C'!H30),"",'C'!H30) | H31: =IF(ISBLANK(D!G30),"",D!G30) | I31: =IF(ISBLANK(D!H30),"",D!H30) | J31: =IF(ISBLANK(E!G30),"",E!G30) | K31: =IF(ISBLANK(E!H30),"",E!H30) | L31: =IF(ISBLANK(F!G30),"",F!G30) | M31: =IF(ISBLANK(F!H30),"",F!H30) | N31: =IF(ISBLANK(G!G30),"",G!G30) | O31: =IF(ISBLANK(G!H30),"",G!H30) | P31: =IF(ISBLANK(H!G30),"",H!G30) | Q31: =IF(ISBLANK(H!H30),"",H!H30) | R31: =IF(ISBLANK(I!G30),"",I!G30) | S31: =IF(ISBLANK(I!H30),"",I!H30) | T31: =IF(ISBLANK(J!G30),"",J!G30) | U31: =IF(ISBLANK(J!H30),"",J!H30) | V31: =IF(ISBLANK(K!G30),"",K!G30) | W31: =IF(ISBLANK(K!H30),"",K!H30) | X31: =IF(ISBLANK(L!G30),"",L!G30) | Y31: =IF(ISBLANK(L!H30),"",L!H30) | Z31: =IF(ISBLANK(M!G30),"",M!G30) | AA31: =IF(ISBLANK(M!H30),"",M!H30) | AB31: =IF(ISBLANK(N!G30),"",N!G30) | AC31: =IF(ISBLANK(N!H30),"",N!H30) | AD31: =IF(ISBLANK(O!G30),"",O!G30) | AE31: =IF(ISBLANK(O!H30),"",O!H30) | AF31: =IF(ISBLANK(P!G30),"",P!G30) | AG31: =IF(ISBLANK(P!H30),"",P!H30) | AH31: =IF(ISBLANK(Q!G30),"",Q!G30) | AI31: =IF(ISBLANK(Q!H30),"",Q!H30)
A32: VESTE DOUBLEE POLAIRE | B32: =IF(ISBLANK(A!G31),"",A!G31) | C32: =IF(ISBLANK(A!H31),"",A!H31) | D32: =IF(ISBLANK(B!G31),"",B!G31) | E32: =IF(ISBLANK(B!H31),"",B!H31) | F32: =IF(ISBLANK('C'!G31),"",'C'!G31) | G32: =IF(ISBLANK('C'!H31),"",'C'!H31) | H32: =IF(ISBLANK(D!G31),"",D!G31) | I32: =IF(ISBLANK(D!H31),"",D!H31) | J32: =IF(ISBLANK(E!G31),"",E!G31) | K32: =IF(ISBLANK(E!H31),"",E!H31) | L32: =IF(ISBLANK(F!G31),"",F!G31) | M32: =IF(ISBLANK(F!H31),"",F!H31) | N32: =IF(ISBLANK(G!G31),"",G!G31) | O32: =IF(ISBLANK(G!H31),"",G!H31) | P32: =IF(ISBLANK(H!G31),"",H!G31) | Q32: =IF(ISBLANK(H!H31),"",H!H31) | R32: =IF(ISBLANK(I!G31),"",I!G31) -> XXL | S32: =IF(ISBLANK(I!H31),"",I!H31) -> 1 | T32: =IF(ISBLANK(J!G31),"",J!G31) | U32: =IF(ISBLANK(J!H31),"",J!H31) | V32: =IF(ISBLANK(K!G31),"",K!G31) | W32: =IF(ISBLANK(K!H31),"",K!H31) | X32: =IF(ISBLANK(L!G31),"",L!G31) -> L | Y32: =IF(ISBLANK(L!H31),"",L!H31) -> 1 | Z32: =IF(ISBLANK(M!G31),"",M!G31) | AA32: =IF(ISBLANK(M!H31),"",M!H31) | AB32: =IF(ISBLANK(N!G31),"",N!G31) | AC32: =IF(ISBLANK(N!H31),"",N!H31) | AD32: =IF(ISBLANK(O!G31),"",O!G31) | AE32: =IF(ISBLANK(O!H31),"",O!H31) | AF32: =IF(ISBLANK(P!G31),"",P!G31) | AG32: =IF(ISBLANK(P!H31),"",P!H31) | AH32: =IF(ISBLANK(Q!G31),"",Q!G31) | AI32: =IF(ISBLANK(Q!H31),"",Q!H31)
A33: GILET THERMIQUE SANS MANCHES | B33: =IF(ISBLANK(A!G32),"",A!G32) | C33: =IF(ISBLANK(A!H32),"",A!H32) | D33: =IF(ISBLANK(B!G32),"",B!G32) | E33: =IF(ISBLANK(B!H32),"",B!H32) | F33: =IF(ISBLANK('C'!G32),"",'C'!G32) | G33: =IF(ISBLANK('C'!H32),"",'C'!H32) | H33: =IF(ISBLANK(D!G32),"",D!G32) | I33: =IF(ISBLANK(D!H32),"",D!H32) | J33: =IF(ISBLANK(E!G32),"",E!G32) | K33: =IF(ISBLANK(E!H32),"",E!H32) | L33: =IF(ISBLANK(F!G32),"",F!G32) -> L | M33: =IF(ISBLANK(F!H32),"",F!H32) -> 1 | N33: =IF(ISBLANK(G!G32),"",G!G32) | O33: =IF(ISBLANK(G!H32),"",G!H32) | P33: =IF(ISBLANK(H!G32),"",H!G32) | Q33: =IF(ISBLANK(H!H32),"",H!H32) | R33: =IF(ISBLANK(I!G32),"",I!G32) | S33: =IF(ISBLANK(I!H32),"",I!H32) | T33: =IF(ISBLANK(J!G32),"",J!G32) | U33: =IF(ISBLANK(J!H32),"",J!H32) | V33: =IF(ISBLANK(K!G32),"",K!G32) | W33: =IF(ISBLANK(K!H32),"",K!H32) | X33: =IF(ISBLANK(L!G32),"",L!G32) | Y33: =IF(ISBLANK(L!H32),"",L!H32) | Z33: =IF(ISBLANK(M!G32),"",M!G32) | AA33: =IF(ISBLANK(M!H32),"",M!H32) | AB33: =IF(ISBLANK(N!G32),"",N!G32) | AC33: =IF(ISBLANK(N!H32),"",N!H32) | AD33: =IF(ISBLANK(O!G32),"",O!G32) | AE33: =IF(ISBLANK(O!H32),"",O!H32) | AF33: =IF(ISBLANK(P!G32),"",P!G32) -> L | AG33: =IF(ISBLANK(P!H32),"",P!H32) -> 1 | AH33: =IF(ISBLANK(Q!G32),"",Q!G32) | AI33: =IF(ISBLANK(Q!H32),"",Q!H32)
B34: =IF(ISBLANK(A!G33),"",A!G33) | C34: =IF(ISBLANK(A!H33),"",A!H33) | D34: =IF(ISBLANK(B!G33),"",B!G33) | E34: =IF(ISBLANK(B!H33),"",B!H33) | F34: =IF(ISBLANK('C'!G33),"",'C'!G33) | G34: =IF(ISBLANK('C'!H33),"",'C'!H33) | H34: =IF(ISBLANK(D!G33),"",D!G33) | I34: =IF(ISBLANK(D!H33),"",D!H33) | J34: =IF(ISBLANK(E!G33),"",E!G33) | K34: =IF(ISBLANK(E!H33),"",E!H33) | L34: =IF(ISBLANK(F!G33),"",F!G33) | M34: =IF(ISBLANK(F!H33),"",F!H33) | N34: =IF(ISBLANK(G!G33),"",G!G33) | O34: =IF(ISBLANK(G!H33),"",G!H33) | P34: =IF(ISBLANK(H!G33),"",H!G33) | Q34: =IF(ISBLANK(H!H33),"",H!H33) | R34: =IF(ISBLANK(I!G33),"",I!G33) | S34: =IF(ISBLANK(I!H33),"",I!H33) | T34: =IF(ISBLANK(J!G33),"",J!G33) | U34: =IF(ISBLANK(J!H33),"",J!H33) | V34: =IF(ISBLANK(K!G33),"",K!G33) | W34: =IF(ISBLANK(K!H33),"",K!H33) | X34: =IF(ISBLANK(L!G33),"",L!G33) | Y34: =IF(ISBLANK(L!H33),"",L!H33) | Z34: =IF(ISBLANK(M!G33),"",M!G33) | AA34: =IF(ISBLANK(M!H33),"",M!H33) | AB34: =IF(ISBLANK(N!G33),"",N!G33) | AC34: =IF(ISBLANK(N!H33),"",N!H33) | AD34: =IF(ISBLANK(O!G33),"",O!G33) | AE34: =IF(ISBLANK(O!H33),"",O!H33) | AF34: =IF(ISBLANK(P!G33),"",P!G33) | AG34: =IF(ISBLANK(P!H33),"",P!H33) | AH34: =IF(ISBLANK(Q!G33),"",Q!G33) | AI34: =IF(ISBLANK(Q!H33),"",Q!H33)
A35: PARKA | B35: =IF(ISBLANK(A!G34),"",A!G34) | C35: =IF(ISBLANK(A!H34),"",A!H34) | D35: =IF(ISBLANK(B!G34),"",B!G34) | E35: =IF(ISBLANK(B!H34),"",B!H34) | F35: =IF(ISBLANK('C'!G34),"",'C'!G34) | G35: =IF(ISBLANK('C'!H34),"",'C'!H34) | H35: =IF(ISBLANK(D!G34),"",D!G34) | I35: =IF(ISBLANK(D!H34),"",D!H34) | J35: =IF(ISBLANK(E!G34),"",E!G34) | K35: =IF(ISBLANK(E!H34),"",E!H34) | L35: =IF(ISBLANK(F!G34),"",F!G34) | M35: =IF(ISBLANK(F!H34),"",F!H34) | N35: =IF(ISBLANK(G!G34),"",G!G34) | O35: =IF(ISBLANK(G!H34),"",G!H34) | P35: =IF(ISBLANK(H!G34),"",H!G34) | Q35: =IF(ISBLANK(H!H34),"",H!H34) | R35: =IF(ISBLANK(I!G34),"",I!G34) | S35: =IF(ISBLANK(I!H34),"",I!H34) | T35: =IF(ISBLANK(J!G34),"",J!G34) | U35: =IF(ISBLANK(J!H34),"",J!H34) | V35: =IF(ISBLANK(K!G34),"",K!G34) | W35: =IF(ISBLANK(K!H34),"",K!H34) | X35: =IF(ISBLANK(L!G34),"",L!G34) | Y35: =IF(ISBLANK(L!H34),"",L!H34) | Z35: =IF(ISBLANK(M!G34),"",M!G34) | AA35: =IF(ISBLANK(M!H34),"",M!H34) | AB35: =IF(ISBLANK(N!G34),"",N!G34) | AC35: =IF(ISBLANK(N!H34),"",N!H34) | AD35: =IF(ISBLANK(O!G34),"",O!G34) | AE35: =IF(ISBLANK(O!H34),"",O!H34) | AF35: =IF(ISBLANK(P!G34),"",P!G34) | AG35: =IF(ISBLANK(P!H34),"",P!H34) | AH35: =IF(ISBLANK(Q!G34),"",Q!G34) -> M | AI35: =IF(ISBLANK(Q!H34),"",Q!H34) -> 1
B36: =IF(ISBLANK(A!G35),"",A!G35) | C36: =IF(ISBLANK(A!H35),"",A!H35) | D36: =IF(ISBLANK(B!G35),"",B!G35) | E36: =IF(ISBLANK(B!H35),"",B!H35) | F36: =IF(ISBLANK('C'!G35),"",'C'!G35) | G36: =IF(ISBLANK('C'!H35),"",'C'!H35) | H36: =IF(ISBLANK(D!G35),"",D!G35) | I36: =IF(ISBLANK(D!H35),"",D!H35) | J36: =IF(ISBLANK(E!G35),"",E!G35) | K36: =IF(ISBLANK(E!H35),"",E!H35) | L36: =IF(ISBLANK(F!G35),"",F!G35) | M36: =IF(ISBLANK(F!H35),"",F!H35) | N36: =IF(ISBLANK(G!G35),"",G!G35) | O36: =IF(ISBLANK(G!H35),"",G!H35) | P36: =IF(ISBLANK(H!G35),"",H!G35) | Q36: =IF(ISBLANK(H!H35),"",H!H35) | R36: =IF(ISBLANK(I!G35),"",I!G35) | S36: =IF(ISBLANK(I!H35),"",I!H35) | T36: =IF(ISBLANK(J!G35),"",J!G35) | U36: =IF(ISBLANK(J!H35),"",J!H35) | V36: =IF(ISBLANK(K!G35),"",K!G35) | W36: =IF(ISBLANK(K!H35),"",K!H35) | X36: =IF(ISBLANK(L!G35),"",L!G35) | Y36: =IF(ISBLANK(L!H35),"",L!H35) | Z36: =IF(ISBLANK(M!G35),"",M!G35) | AA36: =IF(ISBLANK(M!H35),"",M!H35) | AB36: =IF(ISBLANK(N!G35),"",N!G35) | AC36: =IF(ISBLANK(N!H35),"",N!H35) | AD36: =IF(ISBLANK(O!G35),"",O!G35) | AE36: =IF(ISBLANK(O!H35),"",O!H35) | AF36: =IF(ISBLANK(P!G35),"",P!G35) | AG36: =IF(ISBLANK(P!H35),"",P!H35) | AH36: =IF(ISBLANK(Q!G35),"",Q!G35) | AI36: =IF(ISBLANK(Q!H35),"",Q!H35)
A37: GILET RAFRAICHISSANT | B37: =IF(ISBLANK(A!G36),"",A!G36) | C37: =IF(ISBLANK(A!H36),"",A!H36) | D37: =IF(ISBLANK(B!G36),"",B!G36) | E37: =IF(ISBLANK(B!H36),"",B!H36) | F37: =IF(ISBLANK('C'!G36),"",'C'!G36) -> XL | G37: =IF(ISBLANK('C'!H36),"",'C'!H36) -> 1 | H37: =IF(ISBLANK(D!G36),"",D!G36) -> M | I37: =IF(ISBLANK(D!H36),"",D!H36) -> 1 | J37: =IF(ISBLANK(E!G36),"",E!G36) | K37: =IF(ISBLANK(E!H36),"",E!H36) | L37: =IF(ISBLANK(F!G36),"",F!G36) -> L | M37: =IF(ISBLANK(F!H36),"",F!H36) -> 1 | N37: =IF(ISBLANK(G!G36),"",G!G36) | O37: =IF(ISBLANK(G!H36),"",G!H36) | P37: =IF(ISBLANK(H!G36),"",H!G36) -> XL | Q37: =IF(ISBLANK(H!H36),"",H!H36) -> 1 | R37: =IF(ISBLANK(I!G36),"",I!G36) | S37: =IF(ISBLANK(I!H36),"",I!H36) | T37: =IF(ISBLANK(J!G36),"",J!G36) -> M | U37: =IF(ISBLANK(J!H36),"",J!H36) -> 1 | V37: =IF(ISBLANK(K!G36),"",K!G36) | W37: =IF(ISBLANK(K!H36),"",K!H36) | X37: =IF(ISBLANK(L!G36),"",L!G36) | Y37: =IF(ISBLANK(L!H36),"",L!H36) | Z37: =IF(ISBLANK(M!G36),"",M!G36) | AA37: =IF(ISBLANK(M!H36),"",M!H36) | AB37: =IF(ISBLANK(N!G36),"",N!G36) -> L | AC37: =IF(ISBLANK(N!H36),"",N!H36) -> 1 | AD37: =IF(ISBLANK(O!G36),"",O!G36) | AE37: =IF(ISBLANK(O!H36),"",O!H36) | AF37: =IF(ISBLANK(P!G36),"",P!G36) | AG37: =IF(ISBLANK(P!H36),"",P!H36) | AH37: =IF(ISBLANK(Q!G36),"",Q!G36) | AI37: =IF(ISBLANK(Q!H36),"",Q!H36)
A38: TEE SHIRT GRAND FROID | B38: =IF(ISBLANK(A!G38),"",A!G38) | C38: =IF(ISBLANK(A!H38),"",A!H38) | D38: =IF(ISBLANK(B!G38),"",B!G38) -> XL | E38: =IF(ISBLANK(B!H38),"",B!H38) -> 1 | F38: =IF(ISBLANK('C'!G38),"",'C'!G38) -> M | G38: =IF(ISBLANK('C'!H38),"",'C'!H38) -> 1 | H38: =IF(ISBLANK(D!G38),"",D!G38) -> M | I38: =IF(ISBLANK(D!H38),"",D!H38) -> 1 | J38: =IF(ISBLANK(E!G38),"",E!G38) -> L | K38: =IF(ISBLANK(E!H38),"",E!H38) -> 1 | L38: =IF(ISBLANK(F!G38),"",F!G38) -> L | M38: =IF(ISBLANK(F!H38),"",F!H38) -> 1 | N38: =IF(ISBLANK(G!G38),"",G!G38) -> M | O38: =IF(ISBLANK(G!H38),"",G!H38) -> 1 | P38: =IF(ISBLANK(H!G38),"",H!G38) | Q38: =IF(ISBLANK(H!H38),"",H!H38) | R38: =IF(ISBLANK(I!G38),"",I!G38) -> XXL | S38: =IF(ISBLANK(I!H38),"",I!H38) -> 1 | T38: =IF(ISBLANK(J!G38),"",J!G38) | U38: =IF(ISBLANK(J!H38),"",J!H38) | V38: =IF(ISBLANK(K!G38),"",K!G38) | W38: =IF(ISBLANK(K!H38),"",K!H38) | X38: =IF(ISBLANK(L!G38),"",L!G38) -> L | Y38: =IF(ISBLANK(L!H38),"",L!H38) -> 1 | Z38: =IF(ISBLANK(M!G38),"",M!G38) -> L | AA38: =IF(ISBLANK(M!H38),"",M!H38) -> 1 | AB38: =IF(ISBLANK(N!G38),"",N!G38) | AC38: =IF(ISBLANK(N!H38),"",N!H38) | AD38: =IF(ISBLANK(O!G38),"",O!G38) -> M | AE38: =IF(ISBLANK(O!H38),"",O!H38) -> 1 | AF38: =IF(ISBLANK(P!G38),"",P!G38) | AG38: =IF(ISBLANK(P!H38),"",P!H38) | AH38: =IF(ISBLANK(Q!G38),"",Q!G38) | AI38: =IF(ISBLANK(Q!H38),"",Q!H38)
A39: CALECON GRAND FROID | B39: =IF(ISBLANK(A!G39),"",A!G39) | C39: =IF(ISBLANK(A!H39),"",A!H39) | D39: =IF(ISBLANK(B!G39),"",B!G39) | E39: =IF(ISBLANK(B!H39),"",B!H39) | F39: =IF(ISBLANK('C'!G39),"",'C'!G39) -> M | G39: =IF(ISBLANK('C'!H39),"",'C'!H39) -> 1 | H39: =IF(ISBLANK(D!G39),"",D!G39) -> M | I39: =IF(ISBLANK(D!H39),"",D!H39) -> 1 | J39: =IF(ISBLANK(E!G39),"",E!G39) -> L | K39: =IF(ISBLANK(E!H39),"",E!H39) -> 1 | L39: =IF(ISBLANK(F!G39),"",F!G39) -> L | M39: =IF(ISBLANK(F!H39),"",F!H39) -> 1 | N39: =IF(ISBLANK(G!G39),"",G!G39) -> M | O39: =IF(ISBLANK(G!H39),"",G!H39) -> 1 | P39: =IF(ISBLANK(H!G39),"",H!G39) | Q39: =IF(ISBLANK(H!H39),"",H!H39) | R39: =IF(ISBLANK(I!G39),"",I!G39) -> L | S39: =IF(ISBLANK(I!H39),"",I!H39) -> 1 | T39: =IF(ISBLANK(J!G39),"",J!G39) | U39: =IF(ISBLANK(J!H39),"",J!H39) | V39: =IF(ISBLANK(K!G39),"",K!G39) | W39: =IF(ISBLANK(K!H39),"",K!H39) | X39: =IF(ISBLANK(L!G39),"",L!G39) -> L | Y39: =IF(ISBLANK(L!H39),"",L!H39) -> 1 | Z39: =IF(ISBLANK(M!G39),"",M!G39) -> L | AA39: =IF(ISBLANK(M!H39),"",M!H39) -> 1 | AB39: =IF(ISBLANK(N!G39),"",N!G39) | AC39: =IF(ISBLANK(N!H39),"",N!H39) | AD39: =IF(ISBLANK(O!G39),"",O!G39) -> M | AE39: =IF(ISBLANK(O!H39),"",O!H39) -> 1 | AF39: =IF(ISBLANK(P!G39),"",P!G39) | AG39: =IF(ISBLANK(P!H39),"",P!H39) | AH39: =IF(ISBLANK(Q!G39),"",Q!G39) | AI39: =IF(ISBLANK(Q!H39),"",Q!H39)
B40: =IF(ISBLANK(A!G40),"",A!G40) | C40: =IF(ISBLANK(A!H40),"",A!H40) | D40: =IF(ISBLANK(B!G40),"",B!G40) | E40: =IF(ISBLANK(B!H40),"",B!H40) | F40: =IF(ISBLANK('C'!G40),"",'C'!G40) | G40: =IF(ISBLANK('C'!H40),"",'C'!H40) | H40: =IF(ISBLANK(D!G40),"",D!G40) | I40: =IF(ISBLANK(D!H40),"",D!H40) | J40: =IF(ISBLANK(E!G40),"",E!G40) | K40: =IF(ISBLANK(E!H40),"",E!H40) | L40: =IF(ISBLANK(F!G40),"",F!G40) | M40: =IF(ISBLANK(F!H40),"",F!H40) | N40: =IF(ISBLANK(G!G40),"",G!G40) | O40: =IF(ISBLANK(G!H40),"",G!H40) | P40: =IF(ISBLANK(H!G40),"",H!G40) | Q40: =IF(ISBLANK(H!H40),"",H!H40) | R40: =IF(ISBLANK(I!G40),"",I!G40) | S40: =IF(ISBLANK(I!H40),"",I!H40) | T40: =IF(ISBLANK(J!G40),"",J!G40) | U40: =IF(ISBLANK(J!H40),"",J!H40) | V40: =IF(ISBLANK(K!G40),"",K!G40) | W40: =IF(ISBLANK(K!H40),"",K!H40) | X40: =IF(ISBLANK(L!G40),"",L!G40) | Y40: =IF(ISBLANK(L!H40),"",L!H40) | Z40: =IF(ISBLANK(M!G40),"",M!G40) | AA40: =IF(ISBLANK(M!H40),"",M!H40) | AB40: =IF(ISBLANK(N!G40),"",N!G40) | AC40: =IF(ISBLANK(N!H40),"",N!H40) | AD40: =IF(ISBLANK(O!G40),"",O!G40) | AE40: =IF(ISBLANK(O!H40),"",O!H40) | AF40: =IF(ISBLANK(P!G40),"",P!G40) | AG40: =IF(ISBLANK(P!H40),"",P!H40) | AH40: =IF(ISBLANK(Q!G40),"",Q!G40) | AI40: =IF(ISBLANK(Q!H40),"",Q!H40)
A41: CAGOULE | B41: =IF(ISBLANK(A!G41),"",A!G41) | C41: =IF(ISBLANK(A!H41),"",A!H41) | D41: =IF(ISBLANK(B!G41),"",B!G41) | E41: =IF(ISBLANK(B!H41),"",B!H41) | F41: =IF(ISBLANK('C'!G41),"",'C'!G41) | G41: =IF(ISBLANK('C'!H41),"",'C'!H41) | H41: =IF(ISBLANK(D!G41),"",D!G41) | I41: =IF(ISBLANK(D!H41),"",D!H41) | J41: =IF(ISBLANK(E!G41),"",E!G41) | K41: =IF(ISBLANK(E!H41),"",E!H41) | L41: =IF(ISBLANK(F!G41),"",F!G41) | M41: =IF(ISBLANK(F!H41),"",F!H41) | N41: =IF(ISBLANK(G!G41),"",G!G41) | O41: =IF(ISBLANK(G!H41),"",G!H41) | P41: =IF(ISBLANK(H!G41),"",H!G41) | Q41: =IF(ISBLANK(H!H41),"",H!H41) | R41: =IF(ISBLANK(I!G41),"",I!G41) | S41: =IF(ISBLANK(I!H41),"",I!H41) | T41: =IF(ISBLANK(J!G41),"",J!G41) | U41: =IF(ISBLANK(J!H41),"",J!H41) | V41: =IF(ISBLANK(K!G41),"",K!G41) | W41: =IF(ISBLANK(K!H41),"",K!H41) | X41: =IF(ISBLANK(L!G41),"",L!G41) | Y41: =IF(ISBLANK(L!H41),"",L!H41) | Z41: =IF(ISBLANK(M!G41),"",M!G41) | AA41: =IF(ISBLANK(M!H41),"",M!H41) | AB41: =IF(ISBLANK(N!G41),"",N!G41) | AC41: =IF(ISBLANK(N!H41),"",N!H41) | AD41: =IF(ISBLANK(O!G41),"",O!G41) | AE41: =IF(ISBLANK(O!H41),"",O!H41) | AF41: =IF(ISBLANK(P!G41),"",P!G41) | AG41: =IF(ISBLANK(P!H41),"",P!H41) | AH41: =IF(ISBLANK(Q!G41),"",Q!G41) | AI41: =IF(ISBLANK(Q!H41),"",Q!H41)
A42: BONNET SOUS CASQUE | B42: =IF(ISBLANK(A!G42),"",A!G42) | C42: =IF(ISBLANK(A!H42),"",A!H42) | D42: =IF(ISBLANK(B!G42),"",B!G42) -> L | E42: =IF(ISBLANK(B!H42),"",B!H42) -> 1 | F42: =IF(ISBLANK('C'!G42),"",'C'!G42) -> X | G42: =IF(ISBLANK('C'!H42),"",'C'!H42) -> 1 | H42: =IF(ISBLANK(D!G42),"",D!G42) | I42: =IF(ISBLANK(D!H42),"",D!H42) | J42: =IF(ISBLANK(E!G42),"",E!G42) | K42: =IF(ISBLANK(E!H42),"",E!H42) | L42: =IF(ISBLANK(F!G42),"",F!G42) | M42: =IF(ISBLANK(F!H42),"",F!H42) | N42: =IF(ISBLANK(G!G42),"",G!G42) | O42: =IF(ISBLANK(G!H42),"",G!H42) | P42: =IF(ISBLANK(H!G42),"",H!G42) | Q42: =IF(ISBLANK(H!H42),"",H!H42) | R42: =IF(ISBLANK(I!G42),"",I!G42) | S42: =IF(ISBLANK(I!H42),"",I!H42) | T42: =IF(ISBLANK(J!G42),"",J!G42) | U42: =IF(ISBLANK(J!H42),"",J!H42) | V42: =IF(ISBLANK(K!G42),"",K!G42) | W42: =IF(ISBLANK(K!H42),"",K!H42) | X42: =IF(ISBLANK(L!G42),"",L!G42) | Y42: =IF(ISBLANK(L!H42),"",L!H42) -> 1 | Z42: =IF(ISBLANK(M!G42),"",M!G42) | AA42: =IF(ISBLANK(M!H42),"",M!H42) | AB42: =IF(ISBLANK(N!G42),"",N!G42) | AC42: =IF(ISBLANK(N!H42),"",N!H42) | AD42: =IF(ISBLANK(O!G42),"",O!G42) | AE42: =IF(ISBLANK(O!H42),"",O!H42) | AF42: =IF(ISBLANK(P!G42),"",P!G42) | AG42: =IF(ISBLANK(P!H42),"",P!H42) | AH42: =IF(ISBLANK(Q!G42),"",Q!G42) | AI42: =IF(ISBLANK(Q!H42),"",Q!H42)
A43: BONNET | B43: =IF(ISBLANK(A!G43),"",A!G43) | C43: =IF(ISBLANK(A!H43),"",A!H43) | D43: =IF(ISBLANK(B!G43),"",B!G43) | E43: =IF(ISBLANK(B!H43),"",B!H43) | F43: =IF(ISBLANK('C'!G43),"",'C'!G43) | G43: =IF(ISBLANK('C'!H43),"",'C'!H43) | H43: =IF(ISBLANK(D!G43),"",D!G43) -> L | I43: =IF(ISBLANK(D!H43),"",D!H43) -> 1 | J43: =IF(ISBLANK(E!G43),"",E!G43) | K43: =IF(ISBLANK(E!H43),"",E!H43) | L43: =IF(ISBLANK(F!G43),"",F!G43) | M43: =IF(ISBLANK(F!H43),"",F!H43) | N43: =IF(ISBLANK(G!G43),"",G!G43) -> S | O43: =IF(ISBLANK(G!H43),"",G!H43) -> 1 | P43: =IF(ISBLANK(H!G43),"",H!G43) | Q43: =IF(ISBLANK(H!H43),"",H!H43) | R43: =IF(ISBLANK(I!G43),"",I!G43) -> X | S43: =IF(ISBLANK(I!H43),"",I!H43) -> 1 | T43: =IF(ISBLANK(J!G43),"",J!G43) | U43: =IF(ISBLANK(J!H43),"",J!H43) | V43: =IF(ISBLANK(K!G43),"",K!G43) | W43: =IF(ISBLANK(K!H43),"",K!H43) | X43: =IF(ISBLANK(L!G43),"",L!G43) | Y43: =IF(ISBLANK(L!H43),"",L!H43) | Z43: =IF(ISBLANK(M!G43),"",M!G43) | AA43: =IF(ISBLANK(M!H43),"",M!H43) | AB43: =IF(ISBLANK(N!G43),"",N!G43) | AC43: =IF(ISBLANK(N!H43),"",N!H43) | AD43: =IF(ISBLANK(O!G43),"",O!G43) | AE43: =IF(ISBLANK(O!H43),"",O!H43) | AF43: =IF(ISBLANK(P!G43),"",P!G43) -> M | AG43: =IF(ISBLANK(P!H43),"",P!H43) -> 1 | AH43: =IF(ISBLANK(Q!G43),"",Q!G43) | AI43: =IF(ISBLANK(Q!H43),"",Q!H43)
B44: =IF(ISBLANK(A!G44),"",A!G44) | C44: =IF(ISBLANK(A!H44),"",A!H44) | D44: =IF(ISBLANK(B!G44),"",B!G44) | E44: =IF(ISBLANK(B!H44),"",B!H44) | F44: =IF(ISBLANK('C'!G44),"",'C'!G44) | G44: =IF(ISBLANK('C'!H44),"",'C'!H44) | H44: =IF(ISBLANK(D!G44),"",D!G44) | I44: =IF(ISBLANK(D!H44),"",D!H44) | J44: =IF(ISBLANK(E!G44),"",E!G44) | K44: =IF(ISBLANK(E!H44),"",E!H44) | L44: =IF(ISBLANK(F!G44),"",F!G44) | M44: =IF(ISBLANK(F!H44),"",F!H44) | N44: =IF(ISBLANK(G!G44),"",G!G44) | O44: =IF(ISBLANK(G!H44),"",G!H44) | P44: =IF(ISBLANK(H!G44),"",H!G44) | Q44: =IF(ISBLANK(H!H44),"",H!H44) | R44: =IF(ISBLANK(I!G44),"",I!G44) | S44: =IF(ISBLANK(I!H44),"",I!H44) | T44: =IF(ISBLANK(J!G44),"",J!G44) | U44: =IF(ISBLANK(J!H44),"",J!H44) | V44: =IF(ISBLANK(K!G44),"",K!G44) | W44: =IF(ISBLANK(K!H44),"",K!H44) | X44: =IF(ISBLANK(L!G44),"",L!G44) | Y44: =IF(ISBLANK(L!H44),"",L!H44) | Z44: =IF(ISBLANK(M!G44),"",M!G44) | AA44: =IF(ISBLANK(M!H44),"",M!H44) | AB44: =IF(ISBLANK(N!G44),"",N!G44) | AC44: =IF(ISBLANK(N!H44),"",N!H44) | AD44: =IF(ISBLANK(O!G44),"",O!G44) | AE44: =IF(ISBLANK(O!H44),"",O!H44) | AF44: =IF(ISBLANK(P!G44),"",P!G44) | AG44: =IF(ISBLANK(P!H44),"",P!H44) | AH44: =IF(ISBLANK(Q!G44),"",Q!G44) | AI44: =IF(ISBLANK(Q!H44),"",Q!H44)
A45: CHAUSSETTE | B45: =IF(ISBLANK(A!G45),"",A!G45) | C45: =IF(ISBLANK(A!H45),"",A!H45) | D45: =IF(ISBLANK(B!G45),"",B!G45) -> 43 | E45: =IF(ISBLANK(B!H45),"",B!H45) -> 1 | F45: =IF(ISBLANK('C'!G45),"",'C'!G45) -> 42 | G45: =IF(ISBLANK('C'!H45),"",'C'!H45) -> 1 | H45: =IF(ISBLANK(D!G45),"",D!G45) | I45: =IF(ISBLANK(D!H45),"",D!H45) | J45: =IF(ISBLANK(E!G45),"",E!G45) | K45: =IF(ISBLANK(E!H45),"",E!H45) | L45: =IF(ISBLANK(F!G45),"",F!G45) -> L | M45: =IF(ISBLANK(F!H45),"",F!H45) -> 1 | N45: =IF(ISBLANK(G!G45),"",G!G45) | O45: =IF(ISBLANK(G!H45),"",G!H45) | P45: =IF(ISBLANK(H!G45),"",H!G45) | Q45: =IF(ISBLANK(H!H45),"",H!H45) | R45: =IF(ISBLANK(I!G45),"",I!G45) | S45: =IF(ISBLANK(I!H45),"",I!H45) | T45: =IF(ISBLANK(J!G45),"",J!G45) | U45: =IF(ISBLANK(J!H45),"",J!H45) | V45: =IF(ISBLANK(K!G45),"",K!G45) | W45: =IF(ISBLANK(K!H45),"",K!H45) | X45: =IF(ISBLANK(L!G45),"",L!G45) | Y45: =IF(ISBLANK(L!H45),"",L!H45) | Z45: =IF(ISBLANK(M!G45),"",M!G45) | AA45: =IF(ISBLANK(M!H45),"",M!H45) | AB45: =IF(ISBLANK(N!G45),"",N!G45) | AC45: =IF(ISBLANK(N!H45),"",N!H45) | AD45: =IF(ISBLANK(O!G45),"",O!G45) -> 42 | AE45: =IF(ISBLANK(O!H45),"",O!H45) -> 1 | AF45: =IF(ISBLANK(P!G45),"",P!G45) | AG45: =IF(ISBLANK(P!H45),"",P!H45) | AH45: =IF(ISBLANK(Q!G45),"",Q!G45) -> 43 | AI45: =IF(ISBLANK(Q!H45),"",Q!H45) -> 1
B46: =IF(ISBLANK(A!G46),"",A!G46) | C46: =IF(ISBLANK(A!H46),"",A!H46) | D46: =IF(ISBLANK(B!G46),"",B!G46) | E46: =IF(ISBLANK(B!H46),"",B!H46) | F46: =IF(ISBLANK('C'!G46),"",'C'!G46) | G46: =IF(ISBLANK('C'!H46),"",'C'!H46) | H46: =IF(ISBLANK(D!G46),"",D!G46) | I46: =IF(ISBLANK(D!H46),"",D!H46) | J46: =IF(ISBLANK(E!G46),"",E!G46) | K46: =IF(ISBLANK(E!H46),"",E!H46) | L46: =IF(ISBLANK(F!G46),"",F!G46) | M46: =IF(ISBLANK(F!H46),"",F!H46) | N46: =IF(ISBLANK(G!G46),"",G!G46) | O46: =IF(ISBLANK(G!H46),"",G!H46) | P46: =IF(ISBLANK(H!G46),"",H!G46) | Q46: =IF(ISBLANK(H!H46),"",H!H46) | R46: =IF(ISBLANK(I!G46),"",I!G46) | S46: =IF(ISBLANK(I!H46),"",I!H46) | T46: =IF(ISBLANK(J!G46),"",J!G46) | U46: =IF(ISBLANK(J!H46),"",J!H46) | V46: =IF(ISBLANK(K!G46),"",K!G46) | W46: =IF(ISBLANK(K!H46),"",K!H46) | X46: =IF(ISBLANK(L!G46),"",L!G46) | Y46: =IF(ISBLANK(L!H46),"",L!H46) | Z46: =IF(ISBLANK(M!G46),"",M!G46) | AA46: =IF(ISBLANK(M!H46),"",M!H46) | AB46: =IF(ISBLANK(N!G46),"",N!G46) | AC46: =IF(ISBLANK(N!H46),"",N!H46) | AD46: =IF(ISBLANK(O!G46),"",O!G46) | AE46: =IF(ISBLANK(O!H46),"",O!H46) | AF46: =IF(ISBLANK(P!G46),"",P!G46) | AG46: =IF(ISBLANK(P!H46),"",P!H46) | AH46: =IF(ISBLANK(Q!G46),"",Q!G46) | AI46: =IF(ISBLANK(Q!H46),"",Q!H46)
A47: CASQUE IDRA 2 | B47: =IF(ISBLANK(A!G47),"",A!G47) | C47: =IF(ISBLANK(A!H47),"",A!H47) | D47: =IF(ISBLANK(B!G47),"",B!G47) | E47: =IF(ISBLANK(B!H47),"",B!H47) | F47: =IF(ISBLANK('C'!G47),"",'C'!G47) | G47: =IF(ISBLANK('C'!H47),"",'C'!H47) | H47: =IF(ISBLANK(D!G47),"",D!G47) | I47: =IF(ISBLANK(D!H47),"",D!H47) | J47: =IF(ISBLANK(E!G47),"",E!G47) | K47: =IF(ISBLANK(E!H47),"",E!H47) | L47: =IF(ISBLANK(F!G47),"",F!G47) | M47: =IF(ISBLANK(F!H47),"",F!H47) | N47: =IF(ISBLANK(G!G47),"",G!G47) | O47: =IF(ISBLANK(G!H47),"",G!H47) | P47: =IF(ISBLANK(H!G47),"",H!G47) | Q47: =IF(ISBLANK(H!H47),"",H!H47) | R47: =IF(ISBLANK(I!G47),"",I!G47) | S47: =IF(ISBLANK(I!H47),"",I!H47) | T47: =IF(ISBLANK(J!G47),"",J!G47) | U47: =IF(ISBLANK(J!H47),"",J!H47) | V47: =IF(ISBLANK(K!G47),"",K!G47) | W47: =IF(ISBLANK(K!H47),"",K!H47) | X47: =IF(ISBLANK(L!G47),"",L!G47) | Y47: =IF(ISBLANK(L!H47),"",L!H47) | Z47: =IF(ISBLANK(M!G47),"",M!G47) | AA47: =IF(ISBLANK(M!H47),"",M!H47) | AB47: =IF(ISBLANK(N!G47),"",N!G47) | AC47: =IF(ISBLANK(N!H47),"",N!H47) | AD47: =IF(ISBLANK(O!G47),"",O!G47) | AE47: =IF(ISBLANK(O!H47),"",O!H47) | AF47: =IF(ISBLANK(P!G47),"",P!G47) | AG47: =IF(ISBLANK(P!H47),"",P!H47) | AH47: =IF(ISBLANK(Q!G47),"",Q!G47) | AI47: =IF(ISBLANK(Q!H47),"",Q!H47)
B48: =IF(ISBLANK(A!G48),"",A!G48) | C48: =IF(ISBLANK(A!H48),"",A!H48) | D48: =IF(ISBLANK(B!G48),"",B!G48) | E48: =IF(ISBLANK(B!H48),"",B!H48) | F48: =IF(ISBLANK('C'!G48),"",'C'!G48) | G48: =IF(ISBLANK('C'!H48),"",'C'!H48) | H48: =IF(ISBLANK(D!G48),"",D!G48) | I48: =IF(ISBLANK(D!H48),"",D!H48) | J48: =IF(ISBLANK(E!G48),"",E!G48) | K48: =IF(ISBLANK(E!H48),"",E!H48) | L48: =IF(ISBLANK(F!G48),"",F!G48) | M48: =IF(ISBLANK(F!H48),"",F!H48) | N48: =IF(ISBLANK(G!G48),"",G!G48) | O48: =IF(ISBLANK(G!H48),"",G!H48) | P48: =IF(ISBLANK(H!G48),"",H!G48) | Q48: =IF(ISBLANK(H!H48),"",H!H48) | R48: =IF(ISBLANK(I!G48),"",I!G48) | S48: =IF(ISBLANK(I!H48),"",I!H48) | T48: =IF(ISBLANK(J!G48),"",J!G48) | U48: =IF(ISBLANK(J!H48),"",J!H48) | V48: =IF(ISBLANK(K!G48),"",K!G48) | W48: =IF(ISBLANK(K!H48),"",K!H48) | X48: =IF(ISBLANK(L!G48),"",L!G48) | Y48: =IF(ISBLANK(L!H48),"",L!H48) | Z48: =IF(ISBLANK(M!G48),"",M!G48) | AA48: =IF(ISBLANK(M!H48),"",M!H48) | AB48: =IF(ISBLANK(N!G48),"",N!G48) | AC48: =IF(ISBLANK(N!H48),"",N!H48) | AD48: =IF(ISBLANK(O!G48),"",O!G48) | AE48: =IF(ISBLANK(O!H48),"",O!H48) | AF48: =IF(ISBLANK(P!G48),"",P!G48) | AG48: =IF(ISBLANK(P!H48),"",P!H48) | AH48: =IF(ISBLANK(Q!G48),"",Q!G48) | AI48: =IF(ISBLANK(Q!H48),"",Q!H48)
A49: SAC DOTATION VESTIMENTAIRE | B49: =IF(ISBLANK(A!G49),"",A!G49) | C49: =IF(ISBLANK(A!H49),"",A!H49) | D49: =IF(ISBLANK(B!G49),"",B!G49) | E49: =IF(ISBLANK(B!H49),"",B!H49) | F49: =IF(ISBLANK('C'!G49),"",'C'!G49) | G49: =IF(ISBLANK('C'!H49),"",'C'!H49) | H49: =IF(ISBLANK(D!G49),"",D!G49) | I49: =IF(ISBLANK(D!H49),"",D!H49) | J49: =IF(ISBLANK(E!G49),"",E!G49) | K49: =IF(ISBLANK(E!H49),"",E!H49) | L49: =IF(ISBLANK(F!G49),"",F!G49) | M49: =IF(ISBLANK(F!H49),"",F!H49) | N49: =IF(ISBLANK(G!G49),"",G!G49) | O49: =IF(ISBLANK(G!H49),"",G!H49) | P49: =IF(ISBLANK(H!G49),"",H!G49) | Q49: =IF(ISBLANK(H!H49),"",H!H49) | R49: =IF(ISBLANK(I!G49),"",I!G49) | S49: =IF(ISBLANK(I!H49),"",I!H49) | T49: =IF(ISBLANK(J!G49),"",J!G49) | U49: =IF(ISBLANK(J!H49),"",J!H49) | V49: =IF(ISBLANK(K!G49),"",K!G49) | W49: =IF(ISBLANK(K!H49),"",K!H49) | X49: =IF(ISBLANK(L!G49),"",L!G49) | Y49: =IF(ISBLANK(L!H49),"",L!H49) | Z49: =IF(ISBLANK(M!G49),"",M!G49) | AA49: =IF(ISBLANK(M!H49),"",M!H49) | AB49: =IF(ISBLANK(N!G49),"",N!G49) -> U | AC49: =IF(ISBLANK(N!H49),"",N!H49) -> 1 | AD49: =IF(ISBLANK(O!G49),"",O!G49) | AE49: =IF(ISBLANK(O!H49),"",O!H49) | AF49: =IF(ISBLANK(P!G49),"",P!G49) | AG49: =IF(ISBLANK(P!H49),"",P!H49) | AH49: =IF(ISBLANK(Q!G49),"",Q!G49) | AI49: =IF(ISBLANK(Q!H49),"",Q!H49)
B50: =IF(ISBLANK(A!G50),"",A!G50) | C50: =IF(ISBLANK(A!H50),"",A!H50) | D50: =IF(ISBLANK(B!G50),"",B!G50) | E50: =IF(ISBLANK(B!H50),"",B!H50) | F50: =IF(ISBLANK('C'!G50),"",'C'!G50) | G50: =IF(ISBLANK('C'!H50),"",'C'!H50) | H50: =IF(ISBLANK(D!G50),"",D!G50) | I50: =IF(ISBLANK(D!H50),"",D!H50) | J50: =IF(ISBLANK(E!G50),"",E!G50) | K50: =IF(ISBLANK(E!H50),"",E!H50) | L50: =IF(ISBLANK(F!G50),"",F!G50) | M50: =IF(ISBLANK(F!H50),"",F!H50) | N50: =IF(ISBLANK(G!G50),"",G!G50) | O50: =IF(ISBLANK(G!H50),"",G!H50) | P50: =IF(ISBLANK(H!G50),"",H!G50) | Q50: =IF(ISBLANK(H!H50),"",H!H50) | R50: =IF(ISBLANK(I!G50),"",I!G50) | S50: =IF(ISBLANK(I!H50),"",I!H50) | T50: =IF(ISBLANK(J!G50),"",J!G50) | U50: =IF(ISBLANK(J!H50),"",J!H50) | V50: =IF(ISBLANK(K!G50),"",K!G50) | W50: =IF(ISBLANK(K!H50),"",K!H50) | X50: =IF(ISBLANK(L!G50),"",L!G50) | Y50: =IF(ISBLANK(L!H50),"",L!H50) | Z50: =IF(ISBLANK(M!G50),"",M!G50) | AA50: =IF(ISBLANK(M!H50),"",M!H50) | AB50: =IF(ISBLANK(N!G50),"",N!G50) | AC50: =IF(ISBLANK(N!H50),"",N!H50) | AD50: =IF(ISBLANK(O!G50),"",O!G50) | AE50: =IF(ISBLANK(O!H50),"",O!H50) | AF50: =IF(ISBLANK(P!G50),"",P!G50) | AG50: =IF(ISBLANK(P!H50),"",P!H50) | AH50: =IF(ISBLANK(Q!G50),"",Q!G50) | AI50: =IF(ISBLANK(Q!H50),"",Q!H50)
A51: Chaussures basses | B51: =IF(ISBLANK(A!G51),"",A!G51) -> POINTURE | C51: =IF(ISBLANK(A!H51),"",A!H51) -> Nb | D51: =IF(ISBLANK(B!G51),"",B!G51) -> POINTURE | E51: =IF(ISBLANK(B!H51),"",B!H51) -> Nb | F51: =IF(ISBLANK('C'!G51),"",'C'!G51) -> POINTURE | G51: =IF(ISBLANK('C'!H51),"",'C'!H51) -> Nb | H51: =IF(ISBLANK(D!G51),"",D!G51) -> POINTURE | I51: =IF(ISBLANK(D!H51),"",D!H51) -> Nb | J51: =IF(ISBLANK(E!G51),"",E!G51) -> POINTURE | K51: =IF(ISBLANK(E!H51),"",E!H51) -> Nb | L51: =IF(ISBLANK(F!G51),"",F!G51) -> POINTURE | M51: =IF(ISBLANK(F!H51),"",F!H51) -> Nb | N51: =IF(ISBLANK(G!G51),"",G!G51) -> POINTURE | O51: =IF(ISBLANK(G!H51),"",G!H51) -> Nb | P51: =IF(ISBLANK(H!G51),"",H!G51) -> POINTURE | Q51: =IF(ISBLANK(H!H51),"",H!H51) -> Nb | R51: =IF(ISBLANK(I!G51),"",I!G51) -> POINTURE | S51: =IF(ISBLANK(I!H51),"",I!H51) -> Nb | T51: =IF(ISBLANK(J!G51),"",J!G51) -> POINTURE | U51: =IF(ISBLANK(J!H51),"",J!H51) -> Nb | V51: =IF(ISBLANK(K!G51),"",K!G51) -> POINTURE | W51: =IF(ISBLANK(K!H51),"",K!H51) -> Nb | X51: =IF(ISBLANK(L!G51),"",L!G51) -> POINTURE | Y51: =IF(ISBLANK(L!H51),"",L!H51) -> Nb | Z51: =IF(ISBLANK(M!G51),"",M!G51) -> POINTURE | AA51: =IF(ISBLANK(M!H51),"",M!H51) -> Nb | AB51: =IF(ISBLANK(N!G51),"",N!G51) -> POINTURE | AC51: =IF(ISBLANK(N!H51),"",N!H51) -> Nb | AD51: =IF(ISBLANK(O!G51),"",O!G51) -> POINTURE | AE51: =IF(ISBLANK(O!H51),"",O!H51) -> Nb | AF51: =IF(ISBLANK(P!G51),"",P!G51) -> POINTURE | AG51: =IF(ISBLANK(P!H51),"",P!H51) -> Nb | AH51: =IF(ISBLANK(Q!G51),"",Q!G51) -> POINTURE | AI51: =IF(ISBLANK(Q!H51),"",Q!H51) -> Nb
A52: JALATHLON | B52: =IF(ISBLANK(A!G52),"",A!G52) | C52: =IF(ISBLANK(A!H52),"",A!H52) | D52: =IF(ISBLANK(B!G52),"",B!G52) -> 43 | E52: =IF(ISBLANK(B!H52),"",B!H52) -> 1 | F52: =IF(ISBLANK('C'!G52),"",'C'!G52) | G52: =IF(ISBLANK('C'!H52),"",'C'!H52) | H52: =IF(ISBLANK(D!G52),"",D!G52) | I52: =IF(ISBLANK(D!H52),"",D!H52) | J52: =IF(ISBLANK(E!G52),"",E!G52) | K52: =IF(ISBLANK(E!H52),"",E!H52) | L52: =IF(ISBLANK(F!G52),"",F!G52) | M52: =IF(ISBLANK(F!H52),"",F!H52) | N52: =IF(ISBLANK(G!G52),"",G!G52) | O52: =IF(ISBLANK(G!H52),"",G!H52) | P52: =IF(ISBLANK(H!G52),"",H!G52) | Q52: =IF(ISBLANK(H!H52),"",H!H52) | R52: =IF(ISBLANK(I!G52),"",I!G52) | S52: =IF(ISBLANK(I!H52),"",I!H52) | T52: =IF(ISBLANK(J!G52),"",J!G52) -> 43 | U52: =IF(ISBLANK(J!H52),"",J!H52) -> 1 | V52: =IF(ISBLANK(K!G52),"",K!G52) | W52: =IF(ISBLANK(K!H52),"",K!H52) | X52: =IF(ISBLANK(L!G52),"",L!G52) | Y52: =IF(ISBLANK(L!H52),"",L!H52) | Z52: =IF(ISBLANK(M!G52),"",M!G52) -> 43 | AA52: =IF(ISBLANK(M!H52),"",M!H52) -> 1 | AB52: =IF(ISBLANK(N!G52),"",N!G52) | AC52: =IF(ISBLANK(N!H52),"",N!H52) | AD52: =IF(ISBLANK(O!G52),"",O!G52) | AE52: =IF(ISBLANK(O!H52),"",O!H52) | AF52: =IF(ISBLANK(P!G52),"",P!G52) | AG52: =IF(ISBLANK(P!H52),"",P!H52) | AH52: =IF(ISBLANK(Q!G52),"",Q!G52) -> 42 | AI52: =IF(ISBLANK(Q!H52),"",Q!H52) -> 1
A53: JALPALME | B53: =IF(ISBLANK(A!G53),"",A!G53) | C53: =IF(ISBLANK(A!H53),"",A!H53) | D53: =IF(ISBLANK(B!G53),"",B!G53) | E53: =IF(ISBLANK(B!H53),"",B!H53) | F53: =IF(ISBLANK('C'!G53),"",'C'!G53) | G53: =IF(ISBLANK('C'!H53),"",'C'!H53) | H53: =IF(ISBLANK(D!G53),"",D!G53) | I53: =IF(ISBLANK(D!H53),"",D!H53) | J53: =IF(ISBLANK(E!G53),"",E!G53) | K53: =IF(ISBLANK(E!H53),"",E!H53) | L53: =IF(ISBLANK(F!G53),"",F!G53) | M53: =IF(ISBLANK(F!H53),"",F!H53) | N53: =IF(ISBLANK(G!G53),"",G!G53) | O53: =IF(ISBLANK(G!H53),"",G!H53) | P53: =IF(ISBLANK(H!G53),"",H!G53) -> 45 | Q53: =IF(ISBLANK(H!H53),"",H!H53) -> 1 | R53: =IF(ISBLANK(I!G53),"",I!G53) | S53: =IF(ISBLANK(I!H53),"",I!H53) | T53: =IF(ISBLANK(J!G53),"",J!G53) | U53: =IF(ISBLANK(J!H53),"",J!H53) | V53: =IF(ISBLANK(K!G53),"",K!G53) | W53: =IF(ISBLANK(K!H53),"",K!H53) | X53: =IF(ISBLANK(L!G53),"",L!G53) | Y53: =IF(ISBLANK(L!H53),"",L!H53) | Z53: =IF(ISBLANK(M!G53),"",M!G53) | AA53: =IF(ISBLANK(M!H53),"",M!H53) | AB53: =IF(ISBLANK(N!G53),"",N!G53) | AC53: =IF(ISBLANK(N!H53),"",N!H53) | AD53: =IF(ISBLANK(O!G53),"",O!G53) | AE53: =IF(ISBLANK(O!H53),"",O!H53) | AF53: =IF(ISBLANK(P!G53),"",P!G53) | AG53: =IF(ISBLANK(P!H53),"",P!H53) | AH53: =IF(ISBLANK(Q!G53),"",Q!G53) | AI53: =IF(ISBLANK(Q!H53),"",Q!H53)
A54: JALSKATE | B54: =IF(ISBLANK(A!G54),"",A!G54) | C54: =IF(ISBLANK(A!H54),"",A!H54) | D54: =IF(ISBLANK(B!G54),"",B!G54) | E54: =IF(ISBLANK(B!H54),"",B!H54) | F54: =IF(ISBLANK('C'!G54),"",'C'!G54) | G54: =IF(ISBLANK('C'!H54),"",'C'!H54) | H54: =IF(ISBLANK(D!G54),"",D!G54) | I54: =IF(ISBLANK(D!H54),"",D!H54) | J54: =IF(ISBLANK(E!G54),"",E!G54) | K54: =IF(ISBLANK(E!H54),"",E!H54) | L54: =IF(ISBLANK(F!G54),"",F!G54) | M54: =IF(ISBLANK(F!H54),"",F!H54) | N54: =IF(ISBLANK(G!G54),"",G!G54) | O54: =IF(ISBLANK(G!H54),"",G!H54) | P54: =IF(ISBLANK(H!G54),"",H!G54) | Q54: =IF(ISBLANK(H!H54),"",H!H54) | R54: =IF(ISBLANK(I!G54),"",I!G54) | S54: =IF(ISBLANK(I!H54),"",I!H54) | T54: =IF(ISBLANK(J!G54),"",J!G54) | U54: =IF(ISBLANK(J!H54),"",J!H54) | V54: =IF(ISBLANK(K!G54),"",K!G54) | W54: =IF(ISBLANK(K!H54),"",K!H54) | X54: =IF(ISBLANK(L!G54),"",L!G54) | Y54: =IF(ISBLANK(L!H54),"",L!H54) | Z54: =IF(ISBLANK(M!G54),"",M!G54) | AA54: =IF(ISBLANK(M!H54),"",M!H54) | AB54: =IF(ISBLANK(N!G54),"",N!G54) | AC54: =IF(ISBLANK(N!H54),"",N!H54) | AD54: =IF(ISBLANK(O!G54),"",O!G54) -> 42 | AE54: =IF(ISBLANK(O!H54),"",O!H54) -> 1 | AF54: =IF(ISBLANK(P!G54),"",P!G54) -> 43 | AG54: =IF(ISBLANK(P!H54),"",P!H54) -> 1 | AH54: =IF(ISBLANK(Q!G54),"",Q!G54) | AI54: =IF(ISBLANK(Q!H54),"",Q!H54)
A55: SAFETY 40 LOW | B55: =IF(ISBLANK(A!G55),"",A!G55) | C55: =IF(ISBLANK(A!H55),"",A!H55) | D55: =IF(ISBLANK(B!G55),"",B!G55) | E55: =IF(ISBLANK(B!H55),"",B!H55) | F55: =IF(ISBLANK('C'!G55),"",'C'!G55) | G55: =IF(ISBLANK('C'!H55),"",'C'!H55) | H55: =IF(ISBLANK(D!G55),"",D!G55) | I55: =IF(ISBLANK(D!H55),"",D!H55) | J55: =IF(ISBLANK(E!G55),"",E!G55) | K55: =IF(ISBLANK(E!H55),"",E!H55) | L55: =IF(ISBLANK(F!G55),"",F!G55) | M55: =IF(ISBLANK(F!H55),"",F!H55) | N55: =IF(ISBLANK(G!G55),"",G!G55) | O55: =IF(ISBLANK(G!H55),"",G!H55) | P55: =IF(ISBLANK(H!G55),"",H!G55) | Q55: =IF(ISBLANK(H!H55),"",H!H55) | R55: =IF(ISBLANK(I!G55),"",I!G55) | S55: =IF(ISBLANK(I!H55),"",I!H55) | T55: =IF(ISBLANK(J!G55),"",J!G55) | U55: =IF(ISBLANK(J!H55),"",J!H55) | V55: =IF(ISBLANK(K!G55),"",K!G55) | W55: =IF(ISBLANK(K!H55),"",K!H55) | X55: =IF(ISBLANK(L!G55),"",L!G55) | Y55: =IF(ISBLANK(L!H55),"",L!H55) | Z55: =IF(ISBLANK(M!G55),"",M!G55) | AA55: =IF(ISBLANK(M!H55),"",M!H55) | AB55: =IF(ISBLANK(N!G55),"",N!G55) | AC55: =IF(ISBLANK(N!H55),"",N!H55) | AD55: =IF(ISBLANK(O!G55),"",O!G55) | AE55: =IF(ISBLANK(O!H55),"",O!H55) | AF55: =IF(ISBLANK(P!G55),"",P!G55) | AG55: =IF(ISBLANK(P!H55),"",P!H55) | AH55: =IF(ISBLANK(Q!G55),"",Q!G55) | AI55: =IF(ISBLANK(Q!H55),"",Q!H55)
A56: VITAMINE S3 | B56: =IF(ISBLANK(A!G56),"",A!G56) | C56: =IF(ISBLANK(A!H56),"",A!H56) | D56: =IF(ISBLANK(B!G56),"",B!G56) | E56: =IF(ISBLANK(B!H56),"",B!H56) | F56: =IF(ISBLANK('C'!G56),"",'C'!G56) | G56: =IF(ISBLANK('C'!H56),"",'C'!H56) | H56: =IF(ISBLANK(D!G56),"",D!G56) | I56: =IF(ISBLANK(D!H56),"",D!H56) | J56: =IF(ISBLANK(E!G56),"",E!G56) | K56: =IF(ISBLANK(E!H56),"",E!H56) | L56: =IF(ISBLANK(F!G56),"",F!G56) | M56: =IF(ISBLANK(F!H56),"",F!H56) | N56: =IF(ISBLANK(G!G56),"",G!G56) | O56: =IF(ISBLANK(G!H56),"",G!H56) | P56: =IF(ISBLANK(H!G56),"",H!G56) | Q56: =IF(ISBLANK(H!H56),"",H!H56) | R56: =IF(ISBLANK(I!G56),"",I!G56) | S56: =IF(ISBLANK(I!H56),"",I!H56) | T56: =IF(ISBLANK(J!G56),"",J!G56) | U56: =IF(ISBLANK(J!H56),"",J!H56) | V56: =IF(ISBLANK(K!G56),"",K!G56) | W56: =IF(ISBLANK(K!H56),"",K!H56) | X56: =IF(ISBLANK(L!G56),"",L!G56) | Y56: =IF(ISBLANK(L!H56),"",L!H56) | Z56: =IF(ISBLANK(M!G56),"",M!G56) | AA56: =IF(ISBLANK(M!H56),"",M!H56) | AB56: =IF(ISBLANK(N!G56),"",N!G56) | AC56: =IF(ISBLANK(N!H56),"",N!H56) | AD56: =IF(ISBLANK(O!G56),"",O!G56) | AE56: =IF(ISBLANK(O!H56),"",O!H56) | AF56: =IF(ISBLANK(P!G56),"",P!G56) | AG56: =IF(ISBLANK(P!H56),"",P!H56) | AH56: =IF(ISBLANK(Q!G56),"",Q!G56) | AI56: =IF(ISBLANK(Q!H56),"",Q!H56)
A57: SUCCESS S3 | B57: =IF(ISBLANK(A!G57),"",A!G57) | C57: =IF(ISBLANK(A!H57),"",A!H57) | D57: =IF(ISBLANK(B!G57),"",B!G57) | E57: =IF(ISBLANK(B!H57),"",B!H57) | F57: =IF(ISBLANK('C'!G57),"",'C'!G57) | G57: =IF(ISBLANK('C'!H57),"",'C'!H57) | H57: =IF(ISBLANK(D!G57),"",D!G57) | I57: =IF(ISBLANK(D!H57),"",D!H57) | J57: =IF(ISBLANK(E!G57),"",E!G57) | K57: =IF(ISBLANK(E!H57),"",E!H57) | L57: =IF(ISBLANK(F!G57),"",F!G57) | M57: =IF(ISBLANK(F!H57),"",F!H57) | N57: =IF(ISBLANK(G!G57),"",G!G57) | O57: =IF(ISBLANK(G!H57),"",G!H57) | P57: =IF(ISBLANK(H!G57),"",H!G57) | Q57: =IF(ISBLANK(H!H57),"",H!H57) | R57: =IF(ISBLANK(I!G57),"",I!G57) | S57: =IF(ISBLANK(I!H57),"",I!H57) | T57: =IF(ISBLANK(J!G57),"",J!G57) | U57: =IF(ISBLANK(J!H57),"",J!H57) | V57: =IF(ISBLANK(K!G57),"",K!G57) | W57: =IF(ISBLANK(K!H57),"",K!H57) | X57: =IF(ISBLANK(L!G57),"",L!G57) | Y57: =IF(ISBLANK(L!H57),"",L!H57) | Z57: =IF(ISBLANK(M!G57),"",M!G57) | AA57: =IF(ISBLANK(M!H57),"",M!H57) | AB57: =IF(ISBLANK(N!G57),"",N!G57) | AC57: =IF(ISBLANK(N!H57),"",N!H57) | AD57: =IF(ISBLANK(O!G57),"",O!G57) | AE57: =IF(ISBLANK(O!H57),"",O!H57) | AF57: =IF(ISBLANK(P!G57),"",P!G57) | AG57: =IF(ISBLANK(P!H57),"",P!H57) | AH57: =IF(ISBLANK(Q!G57),"",Q!G57) | AI57: =IF(ISBLANK(Q!H57),"",Q!H57)
A58: Chaussures hautes | B58: =IF(ISBLANK(A!G58),"",A!G58) -> POINTURE | C58: =IF(ISBLANK(A!H58),"",A!H58) -> Nb | D58: =IF(ISBLANK(B!G58),"",B!G58) -> POINTURE | E58: =IF(ISBLANK(B!H58),"",B!H58) -> Nb | F58: =IF(ISBLANK('C'!G58),"",'C'!G58) -> POINTURE | G58: =IF(ISBLANK('C'!H58),"",'C'!H58) -> Nb | H58: =IF(ISBLANK(D!G58),"",D!G58) -> POINTURE | I58: =IF(ISBLANK(D!H58),"",D!H58) -> Nb | J58: =IF(ISBLANK(E!G58),"",E!G58) -> POINTURE | K58: =IF(ISBLANK(E!H58),"",E!H58) -> Nb | L58: =IF(ISBLANK(F!G58),"",F!G58) -> POINTURE | M58: =IF(ISBLANK(F!H58),"",F!H58) -> Nb | N58: =IF(ISBLANK(G!G58),"",G!G58) -> POINTURE | O58: =IF(ISBLANK(G!H58),"",G!H58) -> Nb | P58: =IF(ISBLANK(H!G58),"",H!G58) -> POINTURE | Q58: =IF(ISBLANK(H!H58),"",H!H58) -> Nb | R58: =IF(ISBLANK(I!G58),"",I!G58) -> POINTURE | S58: =IF(ISBLANK(I!H58),"",I!H58) -> Nb | T58: =IF(ISBLANK(J!G58),"",J!G58) -> POINTURE | U58: =IF(ISBLANK(J!H58),"",J!H58) -> Nb | V58: =IF(ISBLANK(K!G58),"",K!G58) -> POINTURE | W58: =IF(ISBLANK(K!H58),"",K!H58) -> Nb | X58: =IF(ISBLANK(L!G58),"",L!G58) -> POINTURE | Y58: =IF(ISBLANK(L!H58),"",L!H58) -> Nb | Z58: =IF(ISBLANK(M!G58),"",M!G58) -> POINTURE | AA58: =IF(ISBLANK(M!H58),"",M!H58) -> Nb | AB58: =IF(ISBLANK(N!G58),"",N!G58) -> POINTURE | AC58: =IF(ISBLANK(N!H58),"",N!H58) -> Nb | AD58: =IF(ISBLANK(O!G58),"",O!G58) -> POINTURE | AE58: =IF(ISBLANK(O!H58),"",O!H58) -> Nb | AF58: =IF(ISBLANK(P!G58),"",P!G58) -> POINTURE | AG58: =IF(ISBLANK(P!H58),"",P!H58) -> Nb | AH58: =IF(ISBLANK(Q!G58),"",Q!G58) -> POINTURE | AI58: =IF(ISBLANK(Q!H58),"",Q!H58) -> Nb
A59: VITAMINE S3 | B59: =IF(ISBLANK(A!G59),"",A!G59) | C59: =IF(ISBLANK(A!H59),"",A!H59) | D59: =IF(ISBLANK(B!G59),"",B!G59) | E59: =IF(ISBLANK(B!H59),"",B!H59) | F59: =IF(ISBLANK('C'!G59),"",'C'!G59) | G59: =IF(ISBLANK('C'!H59),"",'C'!H59) | H59: =IF(ISBLANK(D!G59),"",D!G59) | I59: =IF(ISBLANK(D!H59),"",D!H59) | J59: =IF(ISBLANK(E!G59),"",E!G59) | K59: =IF(ISBLANK(E!H59),"",E!H59) | L59: =IF(ISBLANK(F!G59),"",F!G59) | M59: =IF(ISBLANK(F!H59),"",F!H59) | N59: =IF(ISBLANK(G!G59),"",G!G59) | O59: =IF(ISBLANK(G!H59),"",G!H59) | P59: =IF(ISBLANK(H!G59),"",H!G59) | Q59: =IF(ISBLANK(H!H59),"",H!H59) | R59: =IF(ISBLANK(I!G59),"",I!G59) | S59: =IF(ISBLANK(I!H59),"",I!H59) | T59: =IF(ISBLANK(J!G59),"",J!G59) | U59: =IF(ISBLANK(J!H59),"",J!H59) | V59: =IF(ISBLANK(K!G59),"",K!G59) | W59: =IF(ISBLANK(K!H59),"",K!H59) | X59: =IF(ISBLANK(L!G59),"",L!G59) | Y59: =IF(ISBLANK(L!H59),"",L!H59) | Z59: =IF(ISBLANK(M!G59),"",M!G59) | AA59: =IF(ISBLANK(M!H59),"",M!H59) | AB59: =IF(ISBLANK(N!G59),"",N!G59) | AC59: =IF(ISBLANK(N!H59),"",N!H59) | AD59: =IF(ISBLANK(O!G59),"",O!G59) | AE59: =IF(ISBLANK(O!H59),"",O!H59) | AF59: =IF(ISBLANK(P!G59),"",P!G59) | AG59: =IF(ISBLANK(P!H59),"",P!H59) | AH59: =IF(ISBLANK(Q!G59),"",Q!G59) | AI59: =IF(ISBLANK(Q!H59),"",Q!H59)
A60: JALSPHINX | B60: =IF(ISBLANK(A!G60),"",A!G60) | C60: =IF(ISBLANK(A!H60),"",A!H60) | D60: =IF(ISBLANK(B!G60),"",B!G60) | E60: =IF(ISBLANK(B!H60),"",B!H60) | F60: =IF(ISBLANK('C'!G60),"",'C'!G60) | G60: =IF(ISBLANK('C'!H60),"",'C'!H60) | H60: =IF(ISBLANK(D!G60),"",D!G60) | I60: =IF(ISBLANK(D!H60),"",D!H60) | J60: =IF(ISBLANK(E!G60),"",E!G60) | K60: =IF(ISBLANK(E!H60),"",E!H60) | L60: =IF(ISBLANK(F!G60),"",F!G60) | M60: =IF(ISBLANK(F!H60),"",F!H60) | N60: =IF(ISBLANK(G!G60),"",G!G60) | O60: =IF(ISBLANK(G!H60),"",G!H60) | P60: =IF(ISBLANK(H!G60),"",H!G60) | Q60: =IF(ISBLANK(H!H60),"",H!H60) | R60: =IF(ISBLANK(I!G60),"",I!G60) | S60: =IF(ISBLANK(I!H60),"",I!H60) | T60: =IF(ISBLANK(J!G60),"",J!G60) | U60: =IF(ISBLANK(J!H60),"",J!H60) | V60: =IF(ISBLANK(K!G60),"",K!G60) | W60: =IF(ISBLANK(K!H60),"",K!H60) | X60: =IF(ISBLANK(L!G60),"",L!G60) | Y60: =IF(ISBLANK(L!H60),"",L!H60) | Z60: =IF(ISBLANK(M!G60),"",M!G60) | AA60: =IF(ISBLANK(M!H60),"",M!H60) | AB60: =IF(ISBLANK(N!G60),"",N!G60) | AC60: =IF(ISBLANK(N!H60),"",N!H60) | AD60: =IF(ISBLANK(O!G60),"",O!G60) | AE60: =IF(ISBLANK(O!H60),"",O!H60) | AF60: =IF(ISBLANK(P!G60),"",P!G60) | AG60: =IF(ISBLANK(P!H60),"",P!H60) | AH60: =IF(ISBLANK(Q!G60),"",Q!G60) | AI60: =IF(ISBLANK(Q!H60),"",Q!H60)
A61: JALIROK SAS | B61: =IF(ISBLANK(A!G61),"",A!G61) | C61: =IF(ISBLANK(A!H61),"",A!H61) | D61: =IF(ISBLANK(B!G61),"",B!G61) | E61: =IF(ISBLANK(B!H61),"",B!H61) | F61: =IF(ISBLANK('C'!G61),"",'C'!G61) | G61: =IF(ISBLANK('C'!H61),"",'C'!H61) | H61: =IF(ISBLANK(D!G61),"",D!G61) | I61: =IF(ISBLANK(D!H61),"",D!H61) | J61: =IF(ISBLANK(E!G61),"",E!G61) | K61: =IF(ISBLANK(E!H61),"",E!H61) | L61: =IF(ISBLANK(F!G61),"",F!G61) | M61: =IF(ISBLANK(F!H61),"",F!H61) | N61: =IF(ISBLANK(G!G61),"",G!G61) | O61: =IF(ISBLANK(G!H61),"",G!H61) | P61: =IF(ISBLANK(H!G61),"",H!G61) | Q61: =IF(ISBLANK(H!H61),"",H!H61) | R61: =IF(ISBLANK(I!G61),"",I!G61) | S61: =IF(ISBLANK(I!H61),"",I!H61) | T61: =IF(ISBLANK(J!G61),"",J!G61) | U61: =IF(ISBLANK(J!H61),"",J!H61) | V61: =IF(ISBLANK(K!G61),"",K!G61) | W61: =IF(ISBLANK(K!H61),"",K!H61) | X61: =IF(ISBLANK(L!G61),"",L!G61) | Y61: =IF(ISBLANK(L!H61),"",L!H61) | Z61: =IF(ISBLANK(M!G61),"",M!G61) | AA61: =IF(ISBLANK(M!H61),"",M!H61) | AB61: =IF(ISBLANK(N!G61),"",N!G61) | AC61: =IF(ISBLANK(N!H61),"",N!H61) | AD61: =IF(ISBLANK(O!G61),"",O!G61) | AE61: =IF(ISBLANK(O!H61),"",O!H61) | AF61: =IF(ISBLANK(P!G61),"",P!G61) | AG61: =IF(ISBLANK(P!H61),"",P!H61) | AH61: =IF(ISBLANK(Q!G61),"",Q!G61) | AI61: =IF(ISBLANK(Q!H61),"",Q!H61)
A62: HEGOA | B62: =IF(ISBLANK(A!G62),"",A!G62) | C62: =IF(ISBLANK(A!H62),"",A!H62) | D62: =IF(ISBLANK(B!G62),"",B!G62) | E62: =IF(ISBLANK(B!H62),"",B!H62) | F62: =IF(ISBLANK('C'!G62),"",'C'!G62) -> 44 | G62: =IF(ISBLANK('C'!H62),"",'C'!H62) -> 1 | H62: =IF(ISBLANK(D!G62),"",D!G62) | I62: =IF(ISBLANK(D!H62),"",D!H62) | J62: =IF(ISBLANK(E!G62),"",E!G62) | K62: =IF(ISBLANK(E!H62),"",E!H62) | L62: =IF(ISBLANK(F!G62),"",F!G62) | M62: =IF(ISBLANK(F!H62),"",F!H62) | N62: =IF(ISBLANK(G!G62),"",G!G62) | O62: =IF(ISBLANK(G!H62),"",G!H62) | P62: =IF(ISBLANK(H!G62),"",H!G62) | Q62: =IF(ISBLANK(H!H62),"",H!H62) | R62: =IF(ISBLANK(I!G62),"",I!G62) | S62: =IF(ISBLANK(I!H62),"",I!H62) | T62: =IF(ISBLANK(J!G62),"",J!G62) | U62: =IF(ISBLANK(J!H62),"",J!H62) | V62: =IF(ISBLANK(K!G62),"",K!G62) | W62: =IF(ISBLANK(K!H62),"",K!H62) | X62: =IF(ISBLANK(L!G62),"",L!G62) | Y62: =IF(ISBLANK(L!H62),"",L!H62) | Z62: =IF(ISBLANK(M!G62),"",M!G62) | AA62: =IF(ISBLANK(M!H62),"",M!H62) | AB62: =IF(ISBLANK(N!G62),"",N!G62) | AC62: =IF(ISBLANK(N!H62),"",N!H62) | AD62: =IF(ISBLANK(O!G62),"",O!G62) | AE62: =IF(ISBLANK(O!H62),"",O!H62) | AF62: =IF(ISBLANK(P!G62),"",P!G62) | AG62: =IF(ISBLANK(P!H62),"",P!H62) | AH62: =IF(ISBLANK(Q!G62),"",Q!G62) | AI62: =IF(ISBLANK(Q!H62),"",Q!H62)
... A71: Bottes Tylex | B71: =IF(ISBLANK(A!G71),"",A!G71) | C71: =IF(ISBLANK(A!H71),"",A!H71) | D71: =IF(ISBLANK(B!G71),"",B!G71) | E71: =IF(ISBLANK(B!H71),"",B!H71) | F71: =IF(ISBLANK('C'!G71),"",'C'!G71) | G71: =IF(ISBLANK('C'!H71),"",'C'!H71) | H71: =IF(ISBLANK(D!G71),"",D!G71) | I71: =IF(ISBLANK(D!H71),"",D!H71) | J71: =IF(ISBLANK(E!G71),"",E!G71) | K71: =IF(ISBLANK(E!H71),"",E!H71) | L71: =IF(ISBLANK(F!G71),"",F!G71) | M71: =IF(ISBLANK(F!H71),"",F!H71) | N71: =IF(ISBLANK(G!G71),"",G!G71) | O71: =IF(ISBLANK(G!H71),"",G!H71) | P71: =IF(ISBLANK(H!G71),"",H!G71) | Q71: =IF(ISBLANK(H!H71),"",H!H71) | R71: =IF(ISBLANK(I!G71),"",I!G71) | S71: =IF(ISBLANK(I!H71),"",I!H71) | T71: =IF(ISBLANK(J!G71),"",J!G71) -> 43 | U71: =IF(ISBLANK(J!H71),"",J!H71) -> 1 | V71: =IF(ISBLANK(K!G71),"",K!G71) | W71: =IF(ISBLANK(K!H71),"",K!H71) | X71: =IF(ISBLANK(L!G71),"",L!G71) | Y71: =IF(ISBLANK(L!H71),"",L!H71) | Z71: =IF(ISBLANK(M!G71),"",M!G71) -> 43 | AA71: =IF(ISBLANK(M!H71),"",M!H71) -> 1 | AB71: =IF(ISBLANK(N!G71),"",N!G71) | AC71: =IF(ISBLANK(N!H71),"",N!H71) | AD71: =IF(ISBLANK(O!G71),"",O!G71) | AE71: =IF(ISBLANK(O!H71),"",O!H71) | AF71: =IF(ISBLANK(P!G71),"",P!G71) | AG71: =IF(ISBLANK(P!H71),"",P!H71) | AH71: =IF(ISBLANK(Q!G71),"",Q!G71) | AI71: =IF(ISBLANK(Q!H71),"",Q!H71)

Sheet TOTAL (2)
B2: TAILLE | C2: NB | D2: TAILLE | E2: NB | F2: TAILLE | G2: NB | H2: TAILLE | I2: NB | J2: TAILLE | K2: NB | L2: TAILLE | M2: NB | N2: TAILLE | O2: NB
A3: PANTALON ÉTÉ | B3: 48 | C3: 3 | D3: 42 | E3: 3 | F3: 44 | G3: 1 | H3: 40 | I3: 1 | J3: 40 | K3: 5 | L3: 38 | M3: 1 | N3: 46 | O3: 2
A4: PANTALON HIVER | B4: 48 | C4: 4 | D4: 42 | E4: 1 | F4: 40 | G4: 1 | H4: 40 | I4: 1 | J4: 38 | K4: 1
A5: VESTE ÉTÉ | B5: 2 | C5: 1 | D5: 3 | E5: 1
A6: VESTE HIVER | B6: 2 | C6: 1
A7: COTTE A BRETELLES ÉTÉ | B7: 40 | C7: 1 | D7: 46 | E7: 2 | F7: 44 | G7: 1
A8: COTTE A BRETELLES HIVER | B8: 46 | C8: 2
A9: VESTE ÉTÉ
A10: COMBINAISON ÉTÉ | B10: 4 | C10: 2
A11: COMBINAISON HIVER | B11: 6 | C11: 1
A12: POLO HIVER | B12: 6 | C12: 3 | D12: 2 | E12: 3 | F12: 3 | G12: 3 | H12: 4 | I12: 1
A13: POLO ETE | B13: 5 | C13: 1 | D13: 6 | E13: 3 | F13: 3 | G13: 5 | H13: 2 | I13: 2 | J13: 4 | K13: 1
A14: POLO AERE | B14: 3 | C14: 8 | D14: 4 | E14: 1 | F14: 6 | G14: 1 | H14: 2 | I14: 2
A15: POLO ignifugé et antistatique | B15: XL | C15: 5 | D15: M | E15: 4 | F15: L | G15: 6
A16: PULL COL ROND | B16: 3 | C16: 4 | D16: 4 | E16: 4 | F16: 6 | G16: 1
A17: PULL COL CAMIONNEUR | B17: 3 | C17: 2 | D17: 2 | E17: 3 | F17: 6 | G17: 1
A18: PANTALON DE PLUIE | B18: M | C18: 2 | D18: L | E18: 2
A19: VESTE DE PLUIE | B19: M | C19: 2 | D19: L | E19: 2
A20: COMBINAISON DE PLUIE | B20: M | C20: 1
A21: SURPANTALON | B21: M | C21: 3 | D21: L | E21: 1
A22: VESTE DOUBLEE POLAIRE | B22: XXL | C22: 1
A23: GILET THERMIQUE SANS MANCHES | B23: L | C23: 2
A24: PARKA | B24: M | C24: 1
A25: GILET RAFRAICHISSANT | B25: XL | C25: 2 | D25: M | E25: 2 | F25: L | G25: 2
A26: TEE SHIRT GRAND FROID | B26: XL | C26: 1 | D26: M | E26: 4 | F26: L | G26: 4 | H26: XXL | I26: 1
A27: CALECON GRAND FROID | B27: M | C27: 4 | D27: L | E27: 5
A28: BONNET SOUS CASQUE | B28: X | C28: 3
A29: BONNET | B29: X | C29: 3
A30: CHAUSSETTE | B30: 43 | C30: 1 | D30: 42 | E30: 1 | F30: L | G30: 1 | H30: 42 | I30: 1 | J30: 43 | K30: 1
A31: SAC DOTATION VESTIMENTAIRE | B31: U | C31: 1
A32: Chaussures basses | B32: POINTURE | C32: Nb | D32: POINTURE | E32: Nb
A33: JALATHLON | B33: 42 | C33: 1 | D33: 43 | E33: 3
A34: JALPALME | B34: 45 | C34: 1
A35: JALSKATE | B35: 42 | C35: 1 | D35: 43 | E35: 1
A36: Chaussures hautes | B36: POINTURE | C36: Nb
A37: HEGOA | B37: 44 | C37: 1
A38: JALREI | B38: 40 | C38: 1 | D38: 41 | E38: 1 | F38: 42 | G38: 1
A39: CANYON | B39: 42 | C39: 1 | D39: 44 | E39: 1 | F39: 45 | G39: 1
A40: Bottes | B40: POINTURE | C40: Nb
A41: Bottes Fourées MOON | B41: 42 | C41: 2
A42: Bottes Tylex | B42: 43 | C42: 2

Sheet Total Dot
A1: TOTAL DE DOTATION VESTIMENTAIRE
A3: 2018
A6: MAILLE | B6: Population: | N6: VETEMENTS DE FROID | T6: Population:
A7: Vêtement image de marque logotés RTE | B7: Dotation : | C7: T1 | D7: T2 | E7: T3 | F7: T4 | G7: T5 | H7: T6 | I7: T7 | J7: T8 | T7: Dotation : | V7: S | W7: M | X7: L | Y7: XL | Z7: 2XL | AA7: 3XL | AB7: 4XL
A8: Polo hiver | B8: Taille 0 à 7 | N8: Sur-pantalon ARC (sans renfort fessier) | T8: S à XXXXL
A9: Polo été | B9: Taille 0 à 7 | N9: Sur-pantalon ARC (avec renfort fessier) | T9: S à XXXXL
A10: Polo été aéré | B10: Taille 0 à 7 | N10: Veste double polaire HV ARC | T10: S à XXXXL
B11: Dotation : | N11: Gilet thermique sans manches | T11: S à XXXXL
A12: Pull col rond | B12: Taille 0 à 7 | N12: Parka ARC | T12: S à XXXXL
A13: Pull col camionneur | B13: Taille 0 à 7 | N13: Tee-Shirt grand froid | T13: S à XXXXL
N14: Caleçon grand froid | T14: S à XXXXL
A15: VETEMENTS DE TRAVAIL | B15: Population: | N15: Cagoule | T15: S à XXXXL
A16: Série RTE Eté | B16: Dotation : | C16: T0 36 | D16: T1 38 | E16: T2 40 | F16: T3 42 | G16: T4 44 | H16: T5 46 | I16: T6 48 | J16: T7 50 | K16: T8 52 | N16: Bonnet | T16: S à XXXXL
A17: Pantalon RTE Eté | B17: Tailles 36 à 60
A18: Pantalon RTE Eté | B18: Tailles 62 à 68 | N18: CHAUSSURES DE SECURITE | T18: Population:
A19: Pantalon RTE Eté - L (EJ 90 cm) | B19: Tailles 36 à 60 | T19: Dotation : | V19: 35 | W19: 36 | X19: 37 | Y19: 38 | Z19: 39 | AA19: 40 | AB19: 41 | AC19: 42 | AD19: 43 | AE19: 44 | AF19: 45 | AG19: 46 | AH19: 47 | AI19: 48 | AJ19: 49
A20: Pantalon RTE Eté - L (EJ 90 cm) | B20: Tailles 62 à 68 | N20: Chaussette | T20: 37-47
A21: Pantalon RTE Hiver | B21: Tailles 36 à 60 | N21: JALATHLON | T21: 37-47
A22: Pantalon RTE Hiver | B22: Tailles 62 à 68 | N22: JALPALME | T22: 37-47
A23: Pantalon RTE Hiver - L (EJ 90 cm) | B23: Tailles 36 à 60 | N23: JALSKATE | T23: 37-47
A24: Pantalon RTE Hiver - L (EJ 90 cm) | B24: Tailles 62 à 68 | N24: SAFETY 40 LOW | T24: 37-47
A25: Veste RTE Eté | B25: Tailles 0 à 6 | N25: VITAMINE S3 | T25: 37-47
A26: Veste RTE Eté | B26: Tailles 7 à 8 | N26: SUCCESS S3 | T26: 37-47
A27: Veste RTE Hiver | B27: Tailles 0 à 6 | N27: VITAMINE S3 | T27: 37-47
A28: Veste RTE Hiver | B28: Tailles 7 à 8 | N28: JALSPHINX | T28: 37-47
A29: Cotte à bretelles RTE Eté | B29: Tailles 36 à 60 | N29: JALIROK SAS | T29: 37-47
A30: Cotte à bretelles RTE Eté | B30: Tailles 62 à 68 | N30: HEGOA | T30: 37-47
A31: Cotte à bretelles RTE Eté - L (EJ 90 cm) | B31: Tailles 36 à 60 | N31: JALREI | T31: 37-47
... A38: Combinaison 2 zips RTE Eté | B38: Tailles 7 à 8 | N38: Bottes Tylex | T38: 37-47
A39: Combinaison 2 zips RTE Eté - L (EJ 90 cm) | B39: Tailles 0 à 6
A40: Combinaison 2 zips RTE Eté - L (EJ 90 cm) | B40: Tailles 7 à 8 | N40: Ligne féminine | T40: Dotation : | V40: T0 36 | W40: T1 38 | X40: T2 40 | Y40: T3 42 | Z40: T4 44 | AA40: T5 46 | AB40: T6 48 | AC40: T7 50 | AD40: T8 52
A41: Combinaison 2 zips RTE Hiver | B41: Tailles 0 à 6 | N41: Veste RTE Eté | T41: Tailles 0 à 6
A42: Combinaison 2 zips RTE Hiver | B42: Tailles 7 à 8 | N42: Veste RTE Eté | T42: Tailles 7 à 8
A43: Combinaison 2 zips RTE Hiver - L (EJ 90 cm) | B43: Tailles 0 à 6 | N43: Pantalon RTE Eté | T43: Tailles 36 à 60
A44: Combinaison 2 zips RTE Hiver - L (EJ 90 cm) | B44: Tailles 7 à 8 | N44: Pantalon RTE Eté | T44: Tailles 62 à 68
N45: Veste RTE Hiver | T45: Tailles 0 à 6
N46: Veste RTE Hiver | T46: Tailles 7 à 8
N47: Pantalon RTE Hiver | T47: Tailles 36 à 60
N48: Pantalon RTE Hiver | T48: Tailles 62 à 68
