Workbook

Sheet VIERGES
A1: FICHE INDIVIDUELLE DE DOTATION ANNEE 2018 | I1: =RIGHT(CELL("nomfichier",A1),LEN(CELL("nomfichier",A1))-FIND("]",CELL("nomfichier",A1))) -> VIERGES
E2: PERIODICITE | G2: TAILLE | H2: Nb | I2: ANNEE REF
B4: OU | C4: VESTE ÉTÉ | D4: T1 à T8 | E4: 2/AN
C5: VESTE HIVER | D5: T1 à T8
A6: ET | B6: OU | C6: PANTALON ÉTÉ | D6: 38 à 68 | E6: 2/AN
C7: PANTALON HIVER | D7: 38 à 68
B8: OU | C8: COTTE A BRETELLES ÉTÉ | D8: 28 à68 | E8: 2/AN
C9: COTTE A BRETELLES HIVER | D9: 28 à68
B10: OU | C10: VESTE ÉTÉ | D10: T1 à T8 | E10: 2/AN
C11: VESTE HIVER | D11: T1 à T8 | E11: 2/AN
A12: OU | C12: COMBINAISON ÉTÉ | D12: T1 à T8 | E12: 2/AN
C13: COMBINAISON HIVER | D13: T1 à T8
A15: OU | C15: POLO HIVER | D15: T0 à T7 | E15: 3/AN
C16: POLO ETE | D16: T0 à T7
C17: POLO AERE | D17: T0 à T7
A19: OU | C19: PULL COL ROND | D19: T0 à T7 | E19: 1/AN
C20: PULL COL CAMIONNEUR | D20: T0 à T7
A22: OU | B22: ET | C22: PANTALON DE PLUIE | D22: S à 4XL | E22: 1/2 ANS
C23: VESTE DE PLUIE | D23: S à 4XL
C24: COMBINAISON DE PLUIE | D24: S à 4XL
C26: SURPANTALON | D26: S à 4XL | E26: 1/4 ANS
A28: OU | C28: VESTE DOUBLEE POLAIRE | D28: S à 4XL | E28: 1/2 ANS
C29: GILET THERMIQUE SANS MANCHES | D29: S à 4XL
C31: PARKA | D31: S à 4XL | E31: 1/4 ANS
A33: ET | C33: TEE SHIRT GRAND FROID | D33: S à 2XL | E33: 1/2 ANS
C34: CALECON GRAND FROID | D34: S à 3XL
A36: OU | C36: CAGOULE | D36: S à L | E36: 1/2 ANS
C37: BONNET | D37: S 0 xl
C39: CHAUSSETTE | E39: 1/2 ANS
C41: CASQUE IDRA 2 | E41: 1/6 ANS
C43: SAC DOTATION VESTIMENTAIRE | E43: USURE
A45: Chaussures basses | E45: 1/AN | G45: POINTURE | H45: Nb
C46: JALATHLON | D46: 35-47
A47: OU | C47: JALPALME | D47: 38-47
A48: OU | C48: JALSKATE | D48: 35-47
A49: OU | C49: SAFETY 40 LOW | D49: 38-50
A50: OU | C50: VITAMINE S3 | D50: 35-42
A51: OU | C51: SUCCESS S3 | D51: 35-42
A52: Chaussures hautes | G52: POINTURE | H52: Nb
A53: OU | C53: VITAMINE S3 | D53: 35-42
...

Sheet A
A1: FICHE INDIVIDUELLE DE DOTATION ANNEE 2018 | I1: =RIGHT(CELL("nomfichier",A1),LEN(CELL("nomfichier",A1))-FIND("]",CELL("nomfichier",A1))) -> A
E2: PERIODICITE | G2: TAILLE | H2: Nb | I2: ANNEE REF
B4: OU | C4: VESTE ÉTÉ | D4: T1 à T8 | E4: 2/AN
C5: VESTE HIVER | D5: T1 à T8
A6: ET | B6: OU | C6: PANTALON ÉTÉ | D6: 38 à 68 | E6: 2/AN
C7: PANTALON HIVER | D7: 38 à 68
B8: OU | C8: COTTE A BRETELLES ÉTÉ | D8: 28 à 68 | E8: 2/AN
C9: COTTE A BRETELLES HIVER | D9: 28 à 68
B10: OU | C10: VESTE ÉTÉ | D10: T1 à T8 | E10: 2/AN
C11: VESTE HIVER | D11: T1 à T8 | E11: 2/AN
A12: OU | C12: COMBINAISON ÉTÉ | D12: T1 à T8 | E12: 2/AN
C13: COMBINAISON HIVER | D13: T1 à T8
A15: OU | C15: POLO HIVER | D15: T0 à T7 | E15: 3/AN
C16: POLO ETE | D16: T0 à T7
C17: POLO AERE | D17: T0 à T7
A19: OU | C19: POLO ignifugé et antistatique | D19: S à 3XL | E19: 3/AN
C20: remplace veste et polo
A22: OU | C22: PULL COL ROND | D22: T0 à T7 | E22: 1/AN
C23: PULL COL CAMIONNEUR | D23: T0 à T7
A25: OU | B25: ET | C25: PANTALON DE PLUIE | D25: S à 4XL | E25: 1/2 ANS
C26: VESTE DE PLUIE | D26: S à 4XL
C27: COMBINAISON DE PLUIE | D27: S à 4XL
C29: SURPANTALON | D29: S à 4XL | E29: 1/4 ANS
A31: OU | C31: VESTE DOUBLEE POLAIRE | D31: S à 4XL | E31: 1/2 ANS
C32: GILET THERMIQUE SANS MANCHES | D32: S à 4XL
C34: PARKA | D34: S à 4XL | E34: 1/4 ANS
C36: GILET RAFRAICHISSANT | D36: M à 3XL | E36: USURE
A38: ET | C38: TEE SHIRT GRAND FROID | D38: S à 2XL | E38: 1/2 ANS
C39: CALECON GRAND FROID | D39: S à 3XL
A41: OU | C41: CAGOULE | D41: UNIQUE | E41: 1/2 ANS
C42: BONNET SOUS CASQUE | D42: UNIQUE
C43: BONNET | D43: UNIQUE
C45: CHAUSSETTE | E45: 1/2 ANS
C47: CASQUE IDRA 2 | E47: 1/6 ANS
C49: SAC DOTATION VESTIMENTAIRE | E49: USURE
A51: Chaussures basses | E51: 1/AN | G51: POINTURE | H51: Nb
C52: JALATHLON | D52: 35-47
A53: OU | C53: JALPALME | D53: 38-47
A54: OU | C54: JALSKATE | D54: 35-47
A55: OU | C55: SAFETY 40 LOW | D55: 38-50
...

Sheet B
A1: FICHE INDIVIDUELLE DE DOTATION ANNEE 2018 | I1: =RIGHT(CELL("nomfichier",A1),LEN(CELL("nomfichier",A1))-FIND("]",CELL("nomfichier",A1))) -> B
E2: PERIODICITE | G2: TAILLE | H2: Nb | I2: ANNEE REF
B4: OU | C4: VESTE ÉTÉ | D4: T1 à T8 | E4: 2/AN
C5: VESTE HIVER | D5: T1 à T8
A6: ET | B6: OU | C6: PANTALON ÉTÉ | D6: 38 à 68 | E6: 2/AN
C7: PANTALON HIVER | D7: 38 à 68
B8: OU | C8: COTTE A BRETELLES ÉTÉ | D8: 28 à 68 | E8: 2/AN
C9: COTTE A BRETELLES HIVER | D9: 28 à 68
B10: OU | C10: VESTE ÉTÉ | D10: T1 à T8 | E10: 2/AN
C11: VESTE HIVER | D11: T1 à T8 | E11: 2/AN
A12: OU | C12: COMBINAISON ÉTÉ | D12: T1 à T8 | E12: 2/AN
C13: COMBINAISON HIVER | D13: T1 à T8
A15: OU | C15: POLO HIVER | D15: T0 à T7 | E15: 3/AN
C16: POLO ETE | D16: T0 à T7 | G16: 5 | H16: 1
C17: POLO AERE | D17: T0 à T7
A19: OU | C19: POLO ignifugé et antistatique | D19: S à 3XL | E19: 3/AN | G19: XL | H19: 2
C20: remplace veste et polo
A22: OU | C22: PULL COL ROND | D22: T0 à T7 | E22: 1/AN | G22: 3 | H22: 1
C23: PULL COL CAMIONNEUR | D23: T0 à T7
A25: OU | B25: ET | C25: PANTALON DE PLUIE | D25: S à 4XL | E25: 1/2 ANS | G25: M | H25: 1 | I25: 2016
C26: VESTE DE PLUIE | D26: S à 4XL | G26: M | H26: 1
C27: COMBINAISON DE PLUIE | D27: S à 4XL
C29: SURPANTALON | D29: S à 4XL | E29: 1/4 ANS | G29: M | H29: 1 | I29: 2014
A31: OU | C31: VESTE DOUBLEE POLAIRE | D31: S à 4XL | E31: 1/2 ANS | I31: 2017
C32: GILET THERMIQUE SANS MANCHES | D32: S à 4XL
C34: PARKA | D34: S à 4XL | E34: 1/4 ANS | I34: 2015
C36: GILET RAFRAICHISSANT | D36: M à 3XL | E36: USURE | I36: 2015
A38: ET | C38: TEE SHIRT GRAND FROID | D38: S à 2XL | E38: 1/2 ANS | G38: XL | H38: 1 | I38: 2016
C39: CALECON GRAND FROID | D39: S à 3XL
A41: OU | C41: CAGOULE | D41: UNIQUE | E41: 1/2 ANS | I41: 2015
C42: BONNET SOUS CASQUE | D42: UNIQUE | G42: L | H42: 1
C43: BONNET | D43: UNIQUE
C45: CHAUSSETTE | E45: 1/2 ANS | G45: 43 | H45: 1 | I45: 2016
C47: CASQUE IDRA 2 | E47: 1/6 ANS
C49: SAC DOTATION VESTIMENTAIRE | E49: USURE
A51: Chaussures basses | E51: 1/AN | G51: POINTURE | H51: Nb | I51: ANNEE REF
C52: JALATHLON | D52: 35-47 | G52: 43 | H52: 1
A53: OU | C53: JALPALME | D53: 38-47
A54: OU | C54: JALSKATE | D54: 35-47
A55: OU | C55: SAFETY 40 LOW | D55: 38-50
...

Sheet C
A1: FICHE INDIVIDUELLE DE DOTATION ANNEE 2018 | I1: =RIGHT(CELL("nomfichier",A1),LEN(CELL("nomfichier",A1))-FIND("]",CELL("nomfichier",A1))) -> C
E2: PERIODICITE | G2: TAILLE | H2: Nb | I2: ANNEE REF
B4: OU | C4: VESTE ÉTÉ | D4: T1 à T8 | E4: 2/AN
C5: VESTE HIVER | D5: T1 à T8
A6: ET | B6: OU | C6: PANTALON ÉTÉ | D6: 38 à 68 | E6: 2/AN | G6: 48 | H6: 1
C7: PANTALON HIVER | D7: 38 à 68 | G7: 48 | H7: 1
B8: OU | C8: COTTE A BRETELLES ÉTÉ | D8: 28 à 68 | E8: 2/AN
C9: COTTE A BRETELLES HIVER | D9: 28 à 68
B10: OU | C10: VESTE ÉTÉ | D10: T1 à T8 | E10: 2/AN
C11: VESTE HIVER | D11: T1 à T8 | E11: 2/AN
A12: OU | C12: COMBINAISON ÉTÉ | D12: T1 à T8 | E12: 2/AN
C13: COMBINAISON HIVER | D13: T1 à T8
A15: OU | C15: POLO HIVER | D15: T0 à T7 | E15: 3/AN | G15: 6 | H15: 2
C16: POLO ETE | D16: T0 à T7 | G16: 6 | H16: 1
C17: POLO AERE | D17: T0 à T7
A19: OU | C19: POLO ignifugé et antistatique | D19: S à 3XL | E19: 3/AN | G19: XL | H19: 1
C20: remplace veste et polo
A22: OU | C22: PULL COL ROND | D22: T0 à T7 | E22: 1/AN | G22: 3 | H22: 1
C23: PULL COL CAMIONNEUR | D23: T0 à T7
A25: OU | B25: ET | C25: PANTALON DE PLUIE | D25: S à 4XL | E25: 1/2 ANS | I25: 2017
C26: VESTE DE PLUIE | D26: S à 4XL
C27: COMBINAISON DE PLUIE | D27: S à 4XL
C29: SURPANTALON | D29: S à 4XL | E29: 1/4 ANS | I29: 2015
A31: OU | C31: VESTE DOUBLEE POLAIRE | D31: S à 4XL | E31: 1/2 ANS | I31: 2017
C32: GILET THERMIQUE SANS MANCHES | D32: S à 4XL
C34: PARKA | D34: S à 4XL | E34: 1/4 ANS | I34: 2015
C36: GILET RAFRAICHISSANT | D36: M à 3XL | E36: USURE | G36: XL | H36: 1 | I36: 2015
A38: ET | C38: TEE SHIRT GRAND FROID | D38: S à 2XL | E38: 1/2 ANS | G38: M | H38: 1 | I38: 2014
C39: CALECON GRAND FROID | D39: S à 3XL | G39: M | H39: 1
A41: OU | C41: CAGOULE | D41: UNIQUE | E41: 1/2 ANS | I41: 2014
C42: BONNET SOUS CASQUE | D42: UNIQUE | G42: X | H42: 1
C43: BONNET | D43: UNIQUE
C45: CHAUSSETTE | E45: 1/2 ANS | G45: 42 | H45: 1 | I45: 2015
C47: CASQUE IDRA 2 | E47: 1/6 ANS
C49: SAC DOTATION VESTIMENTAIRE | E49: USURE
A51: Chaussures basses | E51: 1/AN | G51: POINTURE | H51: Nb | I51: ANNEE REF
C52: JALATHLON | D52: 35-47
A53: OU | C53: JALPALME | D53: 38-47
A54: OU | C54: JALSKATE | D54: 35-47
A55: OU | C55: SAFETY 40 LOW | D55: 38-50
...

Sheet D
A1: FICHE INDIVIDUELLE DE DOTATION ANNEE 2018 | I1: =RIGHT(CELL("nomfichier",A1),LEN(CELL("nomfichier",A1))-FIND("]",CELL("nomfichier",A1))) -> D
E2: PERIODICITE | G2: TAILLE | H2: Nb | I2: ANNEE REF
B4: OU | C4: VESTE ÉTÉ | D4: T1 à T8 | E4: 2/AN
C5: VESTE HIVER | D5: T1 à T8
A6: ET | B6: OU | C6: PANTALON ÉTÉ | D6: 38 à 68 | E6: 2/AN | G6: 42 | H6: 1
C7: PANTALON HIVER | D7: 38 à 68 | G7: 42 | H7: 1
B8: OU | C8: COTTE A BRETELLES ÉTÉ | D8: 28 à 68 | E8: 2/AN
C9: COTTE A BRETELLES HIVER | D9: 28 à 68
B10: OU | C10: VESTE ÉTÉ | D10: T1 à T8 | E10: 2/AN
C11: VESTE HIVER | D11: T1 à T8 | E11: 2/AN
A12: OU | C12: COMBINAISON ÉTÉ | D12: T1 à T8 | E12: 2/AN
C13: COMBINAISON HIVER | D13: T1 à T8
A15: OU | C15: POLO HIVER | D15: T0 à T7 | E15: 3/AN
C16: POLO ETE | D16: T0 à T7
C17: POLO AERE | D17: T0 à T7 | G17: 3 | H17: 1
A19: OU | C19: POLO ignifugé et antistatique | D19: S à 3XL | E19: 3/AN | G19: M | H19: 2
C20: remplace veste et polo
A22: OU | C22: PULL COL ROND | D22: T0 à T7 | E22: 1/AN
C23: PULL COL CAMIONNEUR | D23: T0 à T7 | G23: 3 | H23: 1
A25: OU | B25: ET | C25: PANTALON DE PLUIE | D25: S à 4XL | E25: 1/2 ANS | G25: M | H25: 1 | I25: 2016
C26: VESTE DE PLUIE | D26: S à 4XL | G26: M | H26: 1
C27: COMBINAISON DE PLUIE | D27: S à 4XL
C29: SURPANTALON | D29: S à 4XL | E29: 1/4 ANS | G29: M | H29: 1 | I29: 2014
A31: OU | C31: VESTE DOUBLEE POLAIRE | D31: S à 4XL | E31: 1/2 ANS | I31: 2017
C32: GILET THERMIQUE SANS MANCHES | D32: S à 4XL
C34: PARKA | D34: S à 4XL | E34: 1/4 ANS | I34: 2015
C36: GILET RAFRAICHISSANT | D36: M à 3XL | E36: USURE | G36: M | H36: 1
A38: ET | C38: TEE SHIRT GRAND FROID | D38: S à 2XL | E38: 1/2 ANS | G38: M | H38: 1 | I38: 2016
C39: CALECON GRAND FROID | D39: S à 3XL | G39: M | H39: 1
A41: OU | C41: CAGOULE | D41: UNIQUE | E41: 1/2 ANS | I41: 2016
C42: BONNET SOUS CASQUE | D42: UNIQUE
C43: BONNET | D43: UNIQUE | G43: L | H43: 1
C45: CHAUSSETTE | E45: 1/2 ANS | I45: 2017
C47: CASQUE IDRA 2 | E47: 1/6 ANS
C49: SAC DOTATION VESTIMENTAIRE | E49: USURE
A51: Chaussures basses | E51: 1/AN | G51: POINTURE | H51: Nb | I51: ANNEE REF
C52: JALATHLON | D52: 35-47
A53: OU | C53: JALPALME | D53: 38-47
A54: OU | C54: JALSKATE | D54: 35-47
A55: OU | C55: SAFETY 40 LOW | D55: 38-50
...

Sheet E
A1: FICHE INDIVIDUELLE DE DOTATION ANNEE 2018 | I1: =RIGHT(CELL("nomfichier",A1),LEN(CELL("nomfichier",A1))-FIND("]",CELL("nomfichier",A1))) -> E
E2: PERIODICITE | G2: TAILLE | H2: Nb | I2: ANNEE REF
B4: OU | C4: VESTE ÉTÉ | D4: T1 à T8 | E4: 2/AN
C5: VESTE HIVER | D5: T1 à T8
A6: ET | B6: OU | C6: PANTALON ÉTÉ | D6: 38 à 68 | E6: 2/AN | G6: 42 | H6: 2
C7: PANTALON HIVER | D7: 38 à 68
B8: OU | C8: COTTE A BRETELLES ÉTÉ | D8: 28 à 68 | E8: 2/AN
C9: COTTE A BRETELLES HIVER | D9: 28 à 68
B10: OU | C10: VESTE ÉTÉ | D10: T1 à T8 | E10: 2/AN
C11: VESTE HIVER | D11: T1 à T8 | E11: 2/AN
A12: OU | C12: COMBINAISON ÉTÉ | D12: T1 à T8 | E12: 2/AN
C13: COMBINAISON HIVER | D13: T1 à T8
A15: OU | C15: POLO HIVER | D15: T0 à T7 | E15: 3/AN
C16: POLO ETE | D16: T0 à T7 | G16: 3 | H16: 1
C17: POLO AERE | D17: T0 à T7 | G17: 3 | H17: 2
A19: OU | C19: POLO ignifugé et antistatique | D19: S à 3XL | E19: 3/AN | G19: L | H19: 1
C20: remplace veste et polo
A22: OU | C22: PULL COL ROND | D22: T0 à T7 | E22: 1/AN
C23: PULL COL CAMIONNEUR | D23: T0 à T7 | G23: 3 | H23: 1
A25: OU | B25: ET | C25: PANTALON DE PLUIE | D25: S à 4XL | E25: 1/2 ANS | I25: 2016
C26: VESTE DE PLUIE | D26: S à 4XL
C27: COMBINAISON DE PLUIE | D27: S à 4XL
C29: SURPANTALON | D29: S à 4XL | E29: 1/4 ANS | I29: 2014
A31: OU | C31: VESTE DOUBLEE POLAIRE | D31: S à 4XL | E31: 1/2 ANS | I31: 2017
C32: GILET THERMIQUE SANS MANCHES | D32: S à 4XL
C34: PARKA | D34: S à 4XL | E34: 1/4 ANS | I34: 2015
C36: GILET RAFRAICHISSANT | D36: M à 3XL | E36: USURE | I36: 2015
A38: ET | C38: TEE SHIRT GRAND FROID | D38: S à 2XL | E38: 1/2 ANS | G38: L | H38: 1 | I38: 2016
C39: CALECON GRAND FROID | D39: S à 3XL | G39: L | H39: 1
A41: OU | C41: CAGOULE | D41: UNIQUE | E41: 1/2 ANS | I41: 2017
C42: BONNET SOUS CASQUE | D42: UNIQUE
C43: BONNET | D43: UNIQUE
C45: CHAUSSETTE | E45: 1/2 ANS | I45: 2017
C47: CASQUE IDRA 2 | E47: 1/6 ANS | I47: 2015
C49: SAC DOTATION VESTIMENTAIRE | E49: USURE
A51: Chaussures basses | E51: 1/AN | G51: POINTURE | H51: Nb | I51: ANNEE REF
C52: JALATHLON | D52: 35-47
A53: OU | C53: JALPALME | D53: 38-47
A54: OU | C54: JALSKATE | D54: 35-47
A55: OU | C55: SAFETY 40 LOW | D55: 38-50
...

Sheet F
A1: FICHE INDIVIDUELLE DE DOTATION ANNEE 2018 | I1: =RIGHT(CELL("nomfichier",A1),LEN(CELL("nomfichier",A1))-FIND("]",CELL("nomfichier",A1))) -> F
E2: PERIODICITE | G2: TAILLE | H2: Nb | I2: ANNEE REF
B4: OU | C4: VESTE ÉTÉ | D4: T1 à T8 | E4: 2/AN
C5: VESTE HIVER | D5: T1 à T8
A6: ET | B6: OU | C6: PANTALON ÉTÉ | D6: 38 à 68 | E6: 2/AN | G6: 44 | H6: 1
C7: PANTALON HIVER | D7: 38 à 68
B8: OU | C8: COTTE A BRETELLES ÉTÉ | D8: 28 à 68 | E8: 2/AN
C9: COTTE A BRETELLES HIVER | D9: 28 à 68
B10: OU | C10: VESTE ÉTÉ | D10: T1 à T8 | E10: 2/AN
C11: VESTE HIVER | D11: T1 à T8 | E11: 2/AN
A12: OU | C12: COMBINAISON ÉTÉ | D12: T1 à T8 | E12: 2/AN | G12: 4 | H12: 1
C13: COMBINAISON HIVER | D13: T1 à T8
A15: OU | C15: POLO HIVER | D15: T0 à T7 | E15: 3/AN
C16: POLO ETE | D16: T0 à T7
C17: POLO AERE | D17: T0 à T7 | G17: 3 | H17: 2
A19: OU | C19: POLO ignifugé et antistatique | D19: S à 3XL | E19: 3/AN | G19: L | H19: 1
C20: remplace veste et polo
A22: OU | C22: PULL COL ROND | D22: T0 à T7 | E22: 1/AN | G22: 3 | H22: 1
C23: PULL COL CAMIONNEUR | D23: T0 à T7
A25: OU | B25: ET | C25: PANTALON DE PLUIE | D25: S à 4XL | E25: 1/2 ANS | G25: L | H25: 1 | I25: 2016
C26: VESTE DE PLUIE | D26: S à 4XL | G26: L | H26: 1
C27: COMBINAISON DE PLUIE | D27: S à 4XL
C29: SURPANTALON | D29: S à 4XL | E29: 1/4 ANS | I29: 2016
A31: OU | C31: VESTE DOUBLEE POLAIRE | D31: S à 4XL | E31: 1/2 ANS | I31: 2016
C32: GILET THERMIQUE SANS MANCHES | D32: S à 4XL | G32: L | H32: 1
C34: PARKA | D34: S à 4XL | E34: 1/4 ANS | I34: 2016
C36: GILET RAFRAICHISSANT | D36: M à 3XL | E36: USURE | G36: L | H36: 1 | I36: 2016
A38: ET | C38: TEE SHIRT GRAND FROID | D38: S à 2XL | E38: 1/2 ANS | G38: L | H38: 1 | I38: 2016
C39: CALECON GRAND FROID | D39: S à 3XL | G39: L | H39: 1
A41: OU | C41: CAGOULE | D41: UNIQUE | E41: 1/2 ANS | I41: 2017
C42: BONNET SOUS CASQUE | D42: UNIQUE
C43: BONNET | D43: UNIQUE
C45: CHAUSSETTE | E45: 1/2 ANS | G45: L | H45: 1 | I45: 2015
C47: CASQUE IDRA 2 | E47: 1/6 ANS
C49: SAC DOTATION VESTIMENTAIRE | E49: USURE
A51: Chaussures basses | E51: 1/AN | G51: POINTURE | H51: Nb | I51: ANNEE REF
C52: JALATHLON | D52: 35-47
A53: OU | C53: JALPALME | D53: 38-47
A54: OU | C54: JALSKATE | D54: 35-47
A55: OU | C55: SAFETY 40 LOW | D55: 38-50
...

Sheet G
A1: FICHE INDIVIDUELLE DE DOTATION ANNEE 2018 | I1: =RIGHT(CELL("nomfichier",A1),LEN(CELL("nomfichier",A1))-FIND("]",CELL("nomfichier",A1))) -> G
E2: PERIODICITE | G2: TAILLE | H2: Nb | I2: ANNEE REF
B4: OU | C4: VESTE ÉTÉ | D4: T1 à T8 | E4: 2/AN
C5: VESTE HIVER | D5: T1 à T8
A6: ET | B6: OU | C6: PANTALON ÉTÉ | D6: 38 à 68 | E6: 2/AN | G6: 40 | H6: 1
C7: PANTALON HIVER | D7: 38 à 68 | G7: 40 | H7: 1
B8: OU | C8: COTTE A BRETELLES ÉTÉ | D8: 28 à 68 | E8: 2/AN
C9: COTTE A BRETELLES HIVER | D9: 28 à 68
B10: OU | C10: VESTE ÉTÉ | D10: T1 à T8 | E10: 2/AN
C11: VESTE HIVER | D11: T1 à T8 | E11: 2/AN
A12: OU | C12: COMBINAISON ÉTÉ | D12: T1 à T8 | E12: 2/AN
C13: COMBINAISON HIVER | D13: T1 à T8
A15: OU | C15: POLO HIVER | D15: T0 à T7 | E15: 3/AN | G15: 2 | H15: 1
C16: POLO ETE | D16: T0 à T7 | G16: 2 | H16: 1
C17: POLO AERE | D17: T0 à T7
A19: OU | C19: POLO ignifugé et antistatique | D19: S à 3XL | E19: 3/AN | G19: M | H19: 1
C20: remplace veste et polo
A22: OU | C22: PULL COL ROND | D22: T0 à T7 | E22: 1/AN
C23: PULL COL CAMIONNEUR | D23: T0 à T7 | G23: 2 | H23: 1
A25: OU | B25: ET | C25: PANTALON DE PLUIE | D25: S à 4XL | E25: 1/2 ANS | I25: 2016
C26: VESTE DE PLUIE | D26: S à 4XL
C27: COMBINAISON DE PLUIE | D27: S à 4XL | G27: M | H27: 1
C29: SURPANTALON | D29: S à 4XL | E29: 1/4 ANS | G29: M | H29: 1 | I29: 2014
A31: OU | C31: VESTE DOUBLEE POLAIRE | D31: S à 4XL | E31: 1/2 ANS | I31: 2017
C32: GILET THERMIQUE SANS MANCHES | D32: S à 4XL
C34: PARKA | D34: S à 4XL | E34: 1/4 ANS | I34: 2015
C36: GILET RAFRAICHISSANT | D36: M à 3XL | E36: USURE | I36: 2015
A38: ET | C38: TEE SHIRT GRAND FROID | D38: S à 2XL | E38: 1/2 ANS | G38: M | H38: 1 | I38: 2016
C39: CALECON GRAND FROID | D39: S à 3XL | G39: M | H39: 1
A41: OU | C41: CAGOULE | D41: UNIQUE | E41: 1/2 ANS | I41: 2014
C42: BONNET SOUS CASQUE | D42: UNIQUE
C43: BONNET | D43: UNIQUE | G43: S | H43: 1
C45: CHAUSSETTE | E45: 1/2 ANS | I45: 2017
C47: CASQUE IDRA 2 | E47: 1/6 ANS
C49: SAC DOTATION VESTIMENTAIRE | E49: USURE
A51: Chaussures basses | E51: 1/AN | G51: POINTURE | H51: Nb | I51: ANNEE REF
C52: JALATHLON | D52: 35-47
A53: OU | C53: JALPALME | D53: 38-47
A54: OU | C54: JALSKATE | D54: 35-47
A55: OU | C55: SAFETY 40 LOW | D55: 38-50
...

Sheet H
A1: FICHE INDIVIDUELLE DE DOTATION ANNEE 2018 | I1: =RIGHT(CELL("nomfichier",A1),LEN(CELL("nomfichier",A1))-FIND("]",CELL("nomfichier",A1))) -> H
E2: PERIODICITE | G2: TAILLE | H2: Nb | I2: ANNEE REF
B4: OU | C4: VESTE ÉTÉ | D4: T1 à T8 | E4: 2/AN
C5: VESTE HIVER | D5: T1 à T8
A6: ET | B6: OU | C6: PANTALON ÉTÉ | D6: 38 à 68 | E6: 2/AN
C7: PANTALON HIVER | D7: 38 à 68 | G7: 48 | H7: 1
B8: OU | C8: COTTE A BRETELLES ÉTÉ | D8: 28 à 68 | E8: 2/AN
C9: COTTE A BRETELLES HIVER | D9: 28 à 68
B10: OU | C10: VESTE ÉTÉ | D10: T1 à T8 | E10: 2/AN
C11: VESTE HIVER | D11: T1 à T8 | E11: 2/AN
A12: OU | C12: COMBINAISON ÉTÉ | D12: T1 à T8 | E12: 2/AN
C13: COMBINAISON HIVER | D13: T1 à T8 | G13: 6 | H13: 1
A15: OU | C15: POLO HIVER | D15: T0 à T7 | E15: 3/AN
C16: POLO ETE | D16: T0 à T7 | G16: 6 | H16: 1
C17: POLO AERE | D17: T0 à T7 | G17: 6 | H17: 1
A19: OU | C19: POLO ignifugé et antistatique | D19: S à 3XL | E19: 3/AN | G19: XL | H19: 1
C20: remplace veste et polo
A22: OU | C22: PULL COL ROND | D22: T0 à T7 | E22: 1/AN | G22: 6 | H22: 1
C23: PULL COL CAMIONNEUR | D23: T0 à T7
A25: OU | B25: ET | C25: PANTALON DE PLUIE | D25: S à 4XL | E25: 1/2 ANS | I25: 2017
C26: VESTE DE PLUIE | D26: S à 4XL
C27: COMBINAISON DE PLUIE | D27: S à 4XL
C29: SURPANTALON | D29: S à 4XL | E29: 1/4 ANS | I29: 2017
A31: OU | C31: VESTE DOUBLEE POLAIRE | D31: S à 4XL | E31: 1/2 ANS | I31: 2017
C32: GILET THERMIQUE SANS MANCHES | D32: S à 4XL
C34: PARKA | D34: S à 4XL | E34: 1/4 ANS | I34: 2015
C36: GILET RAFRAICHISSANT | D36: M à 3XL | E36: USURE | G36: XL | H36: 1 | I36: 2015
A38: ET | C38: TEE SHIRT GRAND FROID | D38: S à 2XL | E38: 1/2 ANS | I38: 2017
C39: CALECON GRAND FROID | D39: S à 3XL
A41: OU | C41: CAGOULE | D41: UNIQUE | E41: 1/2 ANS | I41: 2017
C42: BONNET SOUS CASQUE | D42: UNIQUE
C43: BONNET | D43: UNIQUE
C45: CHAUSSETTE | E45: 1/2 ANS | I45: 2017
C47: CASQUE IDRA 2 | E47: 1/6 ANS
C49: SAC DOTATION VESTIMENTAIRE | E49: USURE
A51: Chaussures basses | E51: 1/AN | G51: POINTURE | H51: Nb | I51: ANNEE REF
C52: JALATHLON | D52: 35-47
A53: OU | C53: JALPALME | D53: 38-47 | G53: 45 | H53: 1
A54: OU | C54: JALSKATE | D54: 35-47
A55: OU | C55: SAFETY 40 LOW | D55: 38-50
...

Sheet I
A1: FICHE INDIVIDUELLE DE DOTATION ANNEE 2018 | I1: =RIGHT(CELL("nomfichier",A1),LEN(CELL("nomfichier",A1))-FIND("]",CELL("nomfichier",A1))) -> I
E2: PERIODICITE | G2: TAILLE | H2: Nb | I2: ANNEE REF
B4: OU | C4: VESTE ÉTÉ | D4: T1 à T8 | E4: 2/AN
C5: VESTE HIVER | D5: T1 à T8
A6: ET | B6: OU | C6: PANTALON ÉTÉ | D6: 38 à 68 | E6: 2/AN | G6: 48 | H6: 2
C7: PANTALON HIVER | D7: 38 à 68 | G7: 48 | H7: 2
B8: OU | C8: COTTE A BRETELLES ÉTÉ | D8: 28 à 68 | E8: 2/AN
C9: COTTE A BRETELLES HIVER | D9: 28 à 68
B10: OU | C10: VESTE ÉTÉ | D10: T1 à T8 | E10: 2/AN
C11: VESTE HIVER | D11: T1 à T8 | E11: 2/AN
A12: OU | C12: COMBINAISON ÉTÉ | D12: T1 à T8 | E12: 2/AN
C13: COMBINAISON HIVER | D13: T1 à T8
A15: OU | C15: POLO HIVER | D15: T0 à T7 | E15: 3/AN | G15: 6 | H15: 1
C16: POLO ETE | D16: T0 à T7 | G16: 6 | H16: 1
C17: POLO AERE | D17: T0 à T7
A19: OU | C19: POLO ignifugé et antistatique | D19: S à 3XL | E19: 3/AN | G19: XL | H19: 1
C20: remplace veste et polo
A22: OU | C22: PULL COL ROND | D22: T0 à T7 | E22: 1/AN
C23: PULL COL CAMIONNEUR | D23: T0 à T7 | G23: 6 | H23: 1
A25: OU | B25: ET | C25: PANTALON DE PLUIE | D25: S à 4XL | E25: 1/2 ANS | I25: 2016
C26: VESTE DE PLUIE | D26: S à 4XL
C27: COMBINAISON DE PLUIE | D27: S à 4XL
C29: SURPANTALON | D29: S à 4XL | E29: 1/4 ANS
A31: OU | C31: VESTE DOUBLEE POLAIRE | D31: S à 4XL | E31: 1/2 ANS | G31: XXL | H31: 1 | I31: 2016
C32: GILET THERMIQUE SANS MANCHES | D32: S à 4XL
C34: PARKA | D34: S à 4XL | E34: 1/4 ANS | I34: 2016
C36: GILET RAFRAICHISSANT | D36: M à 3XL | E36: USURE | I36: 2016
A38: ET | C38: TEE SHIRT GRAND FROID | D38: S à 2XL | E38: 1/2 ANS | G38: XXL | H38: 1 | I38: 2016
C39: CALECON GRAND FROID | D39: S à 3XL | G39: L | H39: 1
A41: OU | C41: CAGOULE | D41: UNIQUE | E41: 1/2 ANS | I41: 2016
C42: BONNET SOUS CASQUE | D42: UNIQUE
C43: BONNET | D43: UNIQUE | G43: X | H43: 1
C45: CHAUSSETTE | E45: 1/2 ANS | I45: 2017
C47: CASQUE IDRA 2 | E47: 1/6 ANS | I47: 2016
C49: SAC DOTATION VESTIMENTAIRE | E49: USURE | I49: 2016
A51: Chaussures basses | E51: 1/AN | G51: POINTURE | H51: Nb | I51: ANNEE REF
C52: JALATHLON | D52: 35-47
A53: OU | C53: JALPALME | D53: 38-47
A54: OU | C54: JALSKATE | D54: 35-47
A55: OU | C55: SAFETY 40 LOW | D55: 38-50
...

Sheet J
A1: FICHE INDIVIDUELLE DE DOTATION ANNEE 2018 | I1: =RIGHT(CELL("nomfichier",A1),LEN(CELL("nomfichier",A1))-FIND("]",CELL("nomfichier",A1))) -> J
E2: PERIODICITE | G2: TAILLE | H2: Nb | I2: ANNEE REF
B4: OU | C4: VESTE ÉTÉ | D4: T1 à T8 | E4: 2/AN
C5: VESTE HIVER | D5: T1 à T8
A6: ET | B6: OU | C6: PANTALON ÉTÉ | D6: 38 à 68 | E6: 2/AN | G6: 40 | H6: 1
C7: PANTALON HIVER | D7: 38 à 68 | G7: 40 | H7: 1
B8: OU | C8: COTTE A BRETELLES ÉTÉ | D8: 28 à 68 | E8: 2/AN | G8: 40 | H8: 1
C9: COTTE A BRETELLES HIVER | D9: 28 à 68
B10: OU | C10: VESTE ÉTÉ | D10: T1 à T8 | E10: 2/AN
C11: VESTE HIVER | D11: T1 à T8 | E11: 2/AN
A12: OU | C12: COMBINAISON ÉTÉ | D12: T1 à T8 | E12: 2/AN
C13: COMBINAISON HIVER | D13: T1 à T8
A15: OU | C15: POLO HIVER | D15: T0 à T7 | E15: 3/AN
C16: POLO ETE | D16: T0 à T7 | G16: 2 | H16: 1
C17: POLO AERE | D17: T0 à T7 | G17: 2 | H17: 1
A19: OU | C19: POLO ignifugé et antistatique | D19: S à 3XL | E19: 3/AN | G19: M | H19: 1
C20: remplace veste et polo
A22: OU | C22: PULL COL ROND | D22: T0 à T7 | E22: 1/AN
C23: PULL COL CAMIONNEUR | D23: T0 à T7 | G23: 2 | H23: 1
A25: OU | B25: ET | C25: PANTALON DE PLUIE | D25: S à 4XL | E25: 1/2 ANS | I25: 2017
C26: VESTE DE PLUIE | D26: S à 4XL
C27: COMBINAISON DE PLUIE | D27: S à 4XL
C29: SURPANTALON | D29: S à 4XL | E29: 1/4 ANS | I29: 2015
A31: OU | C31: VESTE DOUBLEE POLAIRE | D31: S à 4XL | E31: 1/2 ANS | I31: 2017
C32: GILET THERMIQUE SANS MANCHES | D32: S à 4XL
C34: PARKA | D34: S à 4XL | E34: 1/4 ANS | I34: 2015
C36: GILET RAFRAICHISSANT | D36: M à 3XL | E36: USURE | G36: M | H36: 1 | I36: 2015
A38: ET | C38: TEE SHIRT GRAND FROID | D38: S à 2XL | E38: 1/2 ANS | I38: 2017
C39: CALECON GRAND FROID | D39: S à 3XL
A41: OU | C41: CAGOULE | D41: UNIQUE | E41: 1/2 ANS | I41: 2017
C42: BONNET SOUS CASQUE | D42: UNIQUE
C43: BONNET | D43: UNIQUE
C45: CHAUSSETTE | E45: 1/2 ANS | I45: 2017
C47: CASQUE IDRA 2 | E47: 1/6 ANS
C49: SAC DOTATION VESTIMENTAIRE | E49: USURE
A51: Chaussures basses | E51: 1/AN | G51: POINTURE | H51: Nb | I51: ANNEE REF
C52: JALATHLON | D52: 35-47 | G52: 43 | H52: 1
A53: OU | C53: JALPALME | D53: 38-47
A54: OU | C54: JALSKATE | D54: 35-47
A55: OU | C55: SAFETY 40 LOW | D55: 38-50
...

Sheet K
A1: FICHE INDIVIDUELLE DE DOTATION ANNEE 2018 | I1: =RIGHT(CELL("nomfichier",A1),LEN(CELL("nomfichier",A1))-FIND("]",CELL("nomfichier",A1))) -> K
E2: PERIODICITE | G2: TAILLE | H2: Nb | I2: ANNEE REF
B4: OU | C4: VESTE ÉTÉ | D4: T1 à T8 | E4: 2/AN
C5: VESTE HIVER | D5: T1 à T8
A6: ET | B6: OU | C6: PANTALON ÉTÉ | D6: 38 à 68 | E6: 2/AN
C7: PANTALON HIVER | D7: 38 à 68
B8: OU | C8: COTTE A BRETELLES ÉTÉ | D8: 28 à 68 | E8: 2/AN
C9: COTTE A BRETELLES HIVER | D9: 28 à 68
B10: OU | C10: VESTE ÉTÉ | D10: T1 à T8 | E10: 2/AN
C11: VESTE HIVER | D11: T1 à T8 | E11: 2/AN
A12: OU | C12: COMBINAISON ÉTÉ | D12: T1 à T8 | E12: 2/AN
C13: COMBINAISON HIVER | D13: T1 à T8
A15: OU | C15: POLO HIVER | D15: T0 à T7 | E15: 3/AN
C16: POLO ETE | D16: T0 à T7
C17: POLO AERE | D17: T0 à T7
A19: OU | C19: POLO ignifugé et antistatique | D19: S à 3XL | E19: 3/AN
C20: remplace veste et polo
A22: OU | C22: PULL COL ROND | D22: T0 à T7 | E22: 1/AN
C23: PULL COL CAMIONNEUR | D23: T0 à T7
A25: OU | B25: ET | C25: PANTALON DE PLUIE | D25: S à 4XL | E25: 1/2 ANS | I25: 2017
C26: VESTE DE PLUIE | D26: S à 4XL
C27: COMBINAISON DE PLUIE | D27: S à 4XL
C29: SURPANTALON | D29: S à 4XL | E29: 1/4 ANS | I29: 2016
A31: OU | C31: VESTE DOUBLEE POLAIRE | D31: S à 4XL | E31: 1/2 ANS | I31: 2016
C32: GILET THERMIQUE SANS MANCHES | D32: S à 4XL
C34: PARKA | D34: S à 4XL | E34: 1/4 ANS | I34: 2016
C36: GILET RAFRAICHISSANT | D36: M à 3XL | E36: USURE | I36: 2016
A38: ET | C38: TEE SHIRT GRAND FROID | D38: S à 2XL | E38: 1/2 ANS | I38: 2016
C39: CALECON GRAND FROID | D39: S à 3XL
A41: OU | C41: CAGOULE | D41: UNIQUE | E41: 1/2 ANS | I41: 2016
C42: BONNET SOUS CASQUE | D42: UNIQUE
C43: BONNET | D43: UNIQUE
C45: CHAUSSETTE | E45: 1/2 ANS | I45: 2015
C47: CASQUE IDRA 2 | E47: 1/6 ANS
C49: SAC DOTATION VESTIMENTAIRE | E49: USURE
A51: Chaussures basses | E51: 1/AN | G51: POINTURE | H51: Nb | I51: ANNEE REF
C52: JALATHLON | D52: 35-47
A53: OU | C53: JALPALME | D53: 38-47
A54: OU | C54: JALSKATE | D54: 35-47
A55: OU | C55: SAFETY 40 LOW | D55: 38-50
...

Sheet L
A1: FICHE INDIVIDUELLE DE DOTATION ANNEE 2018 | I1: =RIGHT(CELL("nomfichier",A1),LEN(CELL("nomfichier",A1))-FIND("]",CELL("nomfichier",A1))) -> L
E2: PERIODICITE | G2: TAILLE | H2: Nb | I2: ANNEE REF
B4: OU | C4: VESTE ÉTÉ | D4: T1 à T8 | E4: 2/AN
C5: VESTE HIVER | D5: T1 à T8
A6: ET | B6: OU | C6: PANTALON ÉTÉ | D6: 38 à 68 | E6: 2/AN
C7: PANTALON HIVER | D7: 38 à 68
B8: OU | C8: COTTE A BRETELLES ÉTÉ | D8: 28 à 68 | E8: 2/AN | G8: 46 | H8: 1
C9: COTTE A BRETELLES HIVER | D9: 28 à 68 | G9: 46 | H9: 1
B10: OU | C10: VESTE ÉTÉ | D10: T1 à T8 | E10: 2/AN
C11: VESTE HIVER | D11: T1 à T8 | E11: 2/AN
A12: OU | C12: COMBINAISON ÉTÉ | D12: T1 à T8 | E12: 2/AN
C13: COMBINAISON HIVER | D13: T1 à T8
A15: OU | C15: POLO HIVER | D15: T0 à T7 | E15: 3/AN
C16: POLO ETE | D16: T0 à T7 | G16: 3 | H16: 3
C17: POLO AERE | D17: T0 à T7
A19: OU | C19: POLO ignifugé et antistatique | D19: S à 3XL | E19: 3/AN | G19: L | H19: 1
C20: remplace veste et polo
A22: OU | C22: PULL COL ROND | D22: T0 à T7 | E22: 1/AN | G22: 4 | H22: 1
C23: PULL COL CAMIONNEUR | D23: T0 à T7
A25: OU | B25: ET | C25: PANTALON DE PLUIE | D25: S à 4XL | E25: 1/2 ANS | G25: L | H25: 1 | I25: 2016
C26: VESTE DE PLUIE | D26: S à 4XL | G26: L | H26: 1
C27: COMBINAISON DE PLUIE | D27: S à 4XL
C29: SURPANTALON | D29: S à 4XL | E29: 1/4 ANS | I29: 2014
A31: OU | C31: VESTE DOUBLEE POLAIRE | D31: S à 4XL | E31: 1/2 ANS | G31: L | H31: 1 | I31: 2014
C32: GILET THERMIQUE SANS MANCHES | D32: S à 4XL
C34: PARKA | D34: S à 4XL | E34: 1/4 ANS | I34: 2017
C36: GILET RAFRAICHISSANT | D36: M à 3XL | E36: USURE | I36: 2017
A38: ET | C38: TEE SHIRT GRAND FROID | D38: S à 2XL | E38: 1/2 ANS | G38: L | H38: 1 | I38: 2016
C39: CALECON GRAND FROID | D39: S à 3XL | G39: L | H39: 1
A41: OU | C41: CAGOULE | D41: UNIQUE | E41: 1/2 ANS | I41: 2016
C42: BONNET SOUS CASQUE | D42: UNIQUE | H42: 1
C43: BONNET | D43: UNIQUE
C45: CHAUSSETTE | E45: 1/2 ANS | I45: 2017
C47: CASQUE IDRA 2 | E47: 1/6 ANS
C49: SAC DOTATION VESTIMENTAIRE | E49: USURE
A51: Chaussures basses | E51: 1/AN | G51: POINTURE | H51: Nb | I51: ANNEE REF
C52: JALATHLON | D52: 35-47
A53: OU | C53: JALPALME | D53: 38-47
A54: OU | C54: JALSKATE | D54: 35-47
A55: OU | C55: SAFETY 40 LOW | D55: 38-50
...

Sheet M
A1: FICHE INDIVIDUELLE DE DOTATION ANNEE 2018 | I1: =RIGHT(CELL("nomfichier",A1),LEN(CELL("nomfichier",A1))-FIND("]",CELL("nomfichier",A1))) -> M
E2: PERIODICITE | G2: TAILLE | H2: Nb | I2: ANNEE REF
B4: OU | C4: VESTE ÉTÉ | D4: T1 à T8 | E4: 2/AN
C5: VESTE HIVER | D5: T1 à T8
A6: ET | B6: OU | C6: PANTALON ÉTÉ | D6: 38 à 68 | E6: 2/AN | G6: 40 | H6: 4
C7: PANTALON HIVER | D7: 38 à 68
B8: OU | C8: COTTE A BRETELLES ÉTÉ | D8: 28 à 68 | E8: 2/AN
C9: COTTE A BRETELLES HIVER | D9: 28 à 68
B10: OU | C10: VESTE ÉTÉ | D10: T1 à T8 | E10: 2/AN
C11: VESTE HIVER | D11: T1 à T8 | E11: 2/AN
A12: OU | C12: COMBINAISON ÉTÉ | D12: T1 à T8 | E12: 2/AN
C13: COMBINAISON HIVER | D13: T1 à T8
A15: OU | C15: POLO HIVER | D15: T0 à T7 | E15: 3/AN
C16: POLO ETE | D16: T0 à T7
C17: POLO AERE | D17: T0 à T7 | G17: 3 | H17: 3
A19: OU | C19: POLO ignifugé et antistatique | D19: S à 3XL | E19: 3/AN
C20: remplace veste et polo
A22: OU | C22: PULL COL ROND | D22: T0 à T7 | E22: 1/AN | G22: 3 | H22: 1
C23: PULL COL CAMIONNEUR | D23: T0 à T7
A25: OU | B25: ET | C25: PANTALON DE PLUIE | D25: S à 4XL | E25: 1/2 ANS | I25: 2017
C26: VESTE DE PLUIE | D26: S à 4XL
C27: COMBINAISON DE PLUIE | D27: S à 4XL
C29: SURPANTALON | D29: S à 4XL | E29: 1/4 ANS | G29: L | H29: 1 | I29: 2014
A31: OU | C31: VESTE DOUBLEE POLAIRE | D31: S à 4XL | E31: 1/2 ANS | I31: 2017
C32: GILET THERMIQUE SANS MANCHES | D32: S à 4XL
C34: PARKA | D34: S à 4XL | E34: 1/4 ANS | I34: 2016
C36: GILET RAFRAICHISSANT | D36: M à 3XL | E36: USURE | I36: 2016
A38: ET | C38: TEE SHIRT GRAND FROID | D38: S à 2XL | E38: 1/2 ANS | G38: L | H38: 1 | I38: 2016
C39: CALECON GRAND FROID | D39: S à 3XL | G39: L | H39: 1
A41: OU | C41: CAGOULE | D41: UNIQUE | E41: 1/2 ANS | I41: 2015
C42: BONNET SOUS CASQUE | D42: UNIQUE
C43: BONNET | D43: UNIQUE
C45: CHAUSSETTE | E45: 1/2 ANS | I45: 2017
C47: CASQUE IDRA 2 | E47: 1/6 ANS
C49: SAC DOTATION VESTIMENTAIRE | E49: USURE
A51: Chaussures basses | E51: 1/AN | G51: POINTURE | H51: Nb | I51: ANNEE REF
C52: JALATHLON | D52: 35-47 | G52: 43 | H52: 1
A53: OU | C53: JALPALME | D53: 38-47
A54: OU | C54: JALSKATE | D54: 35-47
A55: OU | C55: SAFETY 40 LOW | D55: 38-50
...

Sheet N
A1: FICHE INDIVIDUELLE DE DOTATION ANNEE 2018 | I1: =RIGHT(CELL("nomfichier",A1),LEN(CELL("nomfichier",A1))-FIND("]",CELL("nomfichier",A1))) -> N
E2: PERIODICITE | G2: TAILLE | H2: Nb | I2: ANNEE REF
B4: OU | C4: VESTE ÉTÉ | D4: T1 à T8 | E4: 2/AN
C5: VESTE HIVER | D5: T1 à T8
A6: ET | B6: OU | C6: PANTALON ÉTÉ | D6: 38 à 68 | E6: 2/AN
C7: PANTALON HIVER | D7: 38 à 68
B8: OU | C8: COTTE A BRETELLES ÉTÉ | D8: 28 à 68 | E8: 2/AN | G8: 46 | H8: 1
C9: COTTE A BRETELLES HIVER | D9: 28 à 68 | G9: 46 | H9: 1
B10: OU | C10: VESTE ÉTÉ | D10: T1 à T8 | E10: 2/AN
C11: VESTE HIVER | D11: T1 à T8 | E11: 2/AN
A12: OU | C12: COMBINAISON ÉTÉ | D12: T1 à T8 | E12: 2/AN
C13: COMBINAISON HIVER | D13: T1 à T8
A15: OU | C15: POLO HIVER | D15: T0 à T7 | E15: 3/AN | G15: 4 | H15: 1
C16: POLO ETE | D16: T0 à T7 | G16: 4 | H16: 1
C17: POLO AERE | D17: T0 à T7 | G17: 4 | H17: 1
A19: OU | C19: POLO ignifugé et antistatique | D19: S à 3XL | E19: 3/AN
C20: remplace veste et polo
A22: OU | C22: PULL COL ROND | D22: T0 à T7 | E22: 1/AN | G22: 4 | H22: 1
C23: PULL COL CAMIONNEUR | D23: T0 à T7
A25: OU | B25: ET | C25: PANTALON DE PLUIE | D25: S à 4XL | E25: 1/2 ANS | I25: 2017
C26: VESTE DE PLUIE | D26: S à 4XL
C27: COMBINAISON DE PLUIE | D27: S à 4XL
C29: SURPANTALON | D29: S à 4XL | E29: 1/4 ANS | I29: 2017
A31: OU | C31: VESTE DOUBLEE POLAIRE | D31: S à 4XL | E31: 1/2 ANS | I31: 2017
C32: GILET THERMIQUE SANS MANCHES | D32: S à 4XL
C34: PARKA | D34: S à 4XL | E34: 1/4 ANS | I34: 2015
C36: GILET RAFRAICHISSANT | D36: M à 3XL | E36: USURE | G36: L | H36: 1 | I36: 2015
A38: ET | C38: TEE SHIRT GRAND FROID | D38: S à 2XL | E38: 1/2 ANS | I38: 2017
C39: CALECON GRAND FROID | D39: S à 3XL
A41: OU | C41: CAGOULE | D41: UNIQUE | E41: 1/2 ANS | I41: 2017
C42: BONNET SOUS CASQUE | D42: UNIQUE
C43: BONNET | D43: UNIQUE
C45: CHAUSSETTE | E45: 1/2 ANS | I45: 2017
C47: CASQUE IDRA 2 | E47: 1/6 ANS
C49: SAC DOTATION VESTIMENTAIRE | E49: USURE | G49: U | H49: 1
A51: Chaussures basses | E51: 1/AN | G51: POINTURE | H51: Nb | I51: ANNEE REF
C52: JALATHLON | D52: 35-47
A53: OU | C53: JALPALME | D53: 38-47
A54: OU | C54: JALSKATE | D54: 35-47
A55: OU | C55: SAFETY 40 LOW | D55: 38-50
...

Sheet O
A1: FICHE INDIVIDUELLE DE DOTATION ANNEE 2018 | I1: =RIGHT(CELL("nomfichier",A1),LEN(CELL("nomfichier",A1))-FIND("]",CELL("nomfichier",A1))) -> O
E2: PERIODICITE | G2: TAILLE | H2: Nb | I2: ANNEE REF
B4: OU | C4: VESTE ÉTÉ | D4: T1 à T8 | E4: 2/AN | G4: 2 | H4: 1
C5: VESTE HIVER | D5: T1 à T8 | G5: 2 | H5: 1
A6: ET | B6: OU | C6: PANTALON ÉTÉ | D6: 38 à 68 | E6: 2/AN | G6: 38 | H6: 1
C7: PANTALON HIVER | D7: 38 à 68 | G7: 38 | H7: 1
B8: OU | C8: COTTE A BRETELLES ÉTÉ | D8: 28 à 68 | E8: 2/AN
C9: COTTE A BRETELLES HIVER | D9: 28 à 68
B10: OU | C10: VESTE ÉTÉ | D10: T1 à T8 | E10: 2/AN
C11: VESTE HIVER | D11: T1 à T8 | E11: 2/AN
A12: OU | C12: COMBINAISON ÉTÉ | D12: T1 à T8 | E12: 2/AN
C13: COMBINAISON HIVER | D13: T1 à T8
A15: OU | C15: POLO HIVER | D15: T0 à T7 | E15: 3/AN | G15: 2 | H15: 2
C16: POLO ETE | D16: T0 à T7
C17: POLO AERE | D17: T0 à T7 | G17: 2 | H17: 1
A19: OU | C19: POLO ignifugé et antistatique | D19: S à 3XL | E19: 3/AN
C20: remplace veste et polo
A22: OU | C22: PULL COL ROND | D22: T0 à T7 | E22: 1/AN
C23: PULL COL CAMIONNEUR | D23: T0 à T7 | G23: 2 | H23: 1
A25: OU | B25: ET | C25: PANTALON DE PLUIE | D25: S à 4XL | E25: 1/2 ANS | I25: 2015
C26: VESTE DE PLUIE | D26: S à 4XL | I26: 2015
C27: COMBINAISON DE PLUIE | D27: S à 4XL | I27: 2017
C29: SURPANTALON | D29: S à 4XL | E29: 1/4 ANS | I29: 2015
A31: OU | C31: VESTE DOUBLEE POLAIRE | D31: S à 4XL | E31: 1/2 ANS | I31: 2015
C32: GILET THERMIQUE SANS MANCHES | D32: S à 4XL | I32: 2017
C34: PARKA | D34: S à 4XL | E34: 1/4 ANS | I34: 2015
C36: GILET RAFRAICHISSANT | D36: M à 3XL | E36: USURE | I36: 2015
A38: ET | C38: TEE SHIRT GRAND FROID | D38: S à 2XL | E38: 1/2 ANS | G38: M | H38: 1 | I38: 2016
C39: CALECON GRAND FROID | D39: S à 3XL | G39: M | H39: 1 | I39: 2016
A41: OU | C41: CAGOULE | D41: UNIQUE | E41: 1/2 ANS | I41: 2017
C42: BONNET SOUS CASQUE | D42: UNIQUE
C43: BONNET | D43: UNIQUE | I43: 2016
C45: CHAUSSETTE | E45: 1/2 ANS | G45: 42 | H45: 1
C47: CASQUE IDRA 2 | E47: 1/6 ANS
C49: SAC DOTATION VESTIMENTAIRE | E49: USURE
A51: Chaussures basses | E51: 1/AN | G51: POINTURE | H51: Nb | I51: ANNEE REF
C52: JALATHLON | D52: 35-47
A53: OU | C53: JALPALME | D53: 38-47
A54: OU | C54: JALSKATE | D54: 35-47 | G54: 42 | H54: 1
A55: OU | C55: SAFETY 40 LOW | D55: 38-50
...

Sheet P
A1: FICHE INDIVIDUELLE DE DOTATION ANNEE 2018 | I1: =RIGHT(CELL("nomfichier",A1),LEN(CELL("nomfichier",A1))-FIND("]",CELL("nomfichier",A1))) -> P
E2: PERIODICITE | G2: TAILLE | H2: Nb | I2: ANNEE REF
B4: OU | C4: VESTE ÉTÉ | D4: T1 à T8 | E4: 2/AN | G4: 3 | H4: 1
C5: VESTE HIVER | D5: T1 à T8
A6: ET | B6: OU | C6: PANTALON ÉTÉ | D6: 38 à 68 | E6: 2/AN | G6: 46 | H6: 2
C7: PANTALON HIVER | D7: 38 à 68
B8: OU | C8: COTTE A BRETELLES ÉTÉ | D8: 28 à 68 | E8: 2/AN
C9: COTTE A BRETELLES HIVER | D9: 28 à 68
B10: OU | C10: VESTE ÉTÉ | D10: T1 à T8 | E10: 2/AN
C11: VESTE HIVER | D11: T1 à T8 | E11: 2/AN
A12: OU | C12: COMBINAISON ÉTÉ | D12: T1 à T8 | E12: 2/AN
C13: COMBINAISON HIVER | D13: T1 à T8
A15: OU | C15: POLO HIVER | D15: T0 à T7 | E15: 3/AN | G15: 3 | H15: 1
C16: POLO ETE | D16: T0 à T7
C17: POLO AERE | D17: T0 à T7
A19: OU | C19: POLO ignifugé et antistatique | D19: S à 3XL | E19: 3/AN | G19: L | H19: 2
C20: remplace veste et polo
A22: OU | C22: PULL COL ROND | D22: T0 à T7 | E22: 1/AN | G22: 4 | H22: 1
C23: PULL COL CAMIONNEUR | D23: T0 à T7
A25: OU | B25: ET | C25: PANTALON DE PLUIE | D25: S à 4XL | E25: 1/2 ANS | I25: 2016
C26: VESTE DE PLUIE | D26: S à 4XL
C27: COMBINAISON DE PLUIE | D27: S à 4XL
C29: SURPANTALON | D29: S à 4XL | E29: 1/4 ANS
A31: OU | C31: VESTE DOUBLEE POLAIRE | D31: S à 4XL | E31: 1/2 ANS | I31: 2016
C32: GILET THERMIQUE SANS MANCHES | D32: S à 4XL | G32: L | H32: 1
C34: PARKA | D34: S à 4XL | E34: 1/4 ANS | I34: 2016
C36: GILET RAFRAICHISSANT | D36: M à 3XL | E36: USURE | I36: 2016
A38: ET | C38: TEE SHIRT GRAND FROID | D38: S à 2XL | E38: 1/2 ANS | I38: 2017
C39: CALECON GRAND FROID | D39: S à 3XL
A41: OU | C41: CAGOULE | D41: UNIQUE | E41: 1/2 ANS | I41: 2016
C42: BONNET SOUS CASQUE | D42: UNIQUE
C43: BONNET | D43: UNIQUE | G43: M | H43: 1
C45: CHAUSSETTE | E45: 1/2 ANS
C47: CASQUE IDRA 2 | E47: 1/6 ANS | I47: 2016
C49: SAC DOTATION VESTIMENTAIRE | E49: USURE | I49: 2016
A51: Chaussures basses | E51: 1/AN | G51: POINTURE | H51: Nb | I51: ANNEE REF
C52: JALATHLON | D52: 35-47
A53: OU | C53: JALPALME | D53: 38-47
A54: OU | C54: JALSKATE | D54: 35-47 | G54: 43 | H54: 1
A55: OU | C55: SAFETY 40 LOW | D55: 38-50
...

Sheet Q
A1: FICHE INDIVIDUELLE DE DOTATION ANNEE 2018 | I1: =RIGHT(CELL("nomfichier",A1),LEN(CELL("nomfichier",A1))-FIND("]",CELL("nomfichier",A1))) -> Q
E2: PERIODICITE | G2: TAILLE | H2: Nb | I2: ANNEE REF
B4: OU | C4: VESTE ÉTÉ | D4: T1 à T8 | E4: 2/AN
C5: VESTE HIVER | D5: T1 à T8
A6: ET | B6: OU | C6: PANTALON ÉTÉ | D6: 38 à 68 | E6: 2/AN
C7: PANTALON HIVER | D7: 38 à 68
B8: OU | C8: COTTE A BRETELLES ÉTÉ | D8: 28 à 68 | E8: 2/AN | G8: 44 | H8: 1
C9: COTTE A BRETELLES HIVER | D9: 28 à 68
B10: OU | C10: VESTE ÉTÉ | D10: T1 à T8 | E10: 2/AN
C11: VESTE HIVER | D11: T1 à T8 | E11: 2/AN
A12: OU | C12: COMBINAISON ÉTÉ | D12: T1 à T8 | E12: 2/AN | G12: 4 | H12: 1
C13: COMBINAISON HIVER | D13: T1 à T8
A15: OU | C15: POLO HIVER | D15: T0 à T7 | E15: 3/AN | G15: 3 | H15: 2
C16: POLO ETE | D16: T0 à T7 | G16: 3 | H16: 1
C17: POLO AERE | D17: T0 à T7
A19: OU | C19: POLO ignifugé et antistatique | D19: S à 3XL | E19: 3/AN | G19: L | H19: 1
C20: remplace veste et polo
A22: OU | C22: PULL COL ROND | D22: T0 à T7 | E22: 1/AN | G22: 4 | H22: 1
C23: PULL COL CAMIONNEUR | D23: T0 à T7
A25: OU | B25: ET | C25: PANTALON DE PLUIE | D25: S à 4XL | E25: 1/2 ANS | I25: 2016
C26: VESTE DE PLUIE | D26: S à 4XL
C27: COMBINAISON DE PLUIE | D27: S à 4XL
C29: SURPANTALON | D29: S à 4XL | E29: 1/4 ANS
A31: OU | C31: VESTE DOUBLEE POLAIRE | D31: S à 4XL | E31: 1/2 ANS | I31: 2016
C32: GILET THERMIQUE SANS MANCHES | D32: S à 4XL
C34: PARKA | D34: S à 4XL | E34: 1/4 ANS | G34: M | H34: 1 | I34: 2016
C36: GILET RAFRAICHISSANT | D36: M à 3XL | E36: USURE | I36: 2016
A38: ET | C38: TEE SHIRT GRAND FROID | D38: S à 2XL | E38: 1/2 ANS | I38: 2017
C39: CALECON GRAND FROID | D39: S à 3XL
A41: OU | C41: CAGOULE | D41: UNIQUE | E41: 1/2 ANS | I41: 2016
C42: BONNET SOUS CASQUE | D42: UNIQUE
C43: BONNET | D43: UNIQUE
C45: CHAUSSETTE | E45: 1/2 ANS | G45: 43 | H45: 1
C47: CASQUE IDRA 2 | E47: 1/6 ANS | I47: 2016
C49: SAC DOTATION VESTIMENTAIRE | E49: USURE | I49: 2016
A51: Chaussures basses | E51: 1/AN | G51: POINTURE | H51: Nb | I51: ANNEE REF
C52: JALATHLON | D52: 35-47 | G52: 42 | H52: 1
A53: OU | C53: JALPALME | D53: 38-47
A54: OU | C54: JALSKATE | D54: 35-47
A55: OU | C55: SAFETY 40 LOW | D55: 38-50
...

Sheet TOTAL
A1: TOTAL DOTATION ANNEE 2018 | E1: EJ + 90 | H1: LIGNE FEMINIME
B3: =A!I1 -> A | D3: =B!I1 -> B | F3: ='C'!I1 -> C | H3: =D!I1 -> D | J3: =E!I1 -> E | L3: =F!I1 -> F | N3: =G!I1 -> G | P3: =H!I1 -> H | R3: =I!I1 -> I | T3: =J!I1 -> J | V3: =K!I1 -> K | X3: =L!I1 -> L | Z3: =M!I1 -> M | AB3: =N!I1 -> N | AD3: =O!I1 -> O | AF3: =P!I1 -> P | AH3: =Q!I1 -> Q
B4: TAILLE | C4: NB | D4: TAILLE | E4: NB | F4: TAILLE | G4: NB | H4: TAILLE | I4: NB | J4: TAILLE | K4: NB | L4: TAILLE | M4: NB | N4: TAILLE | O4: NB | P4: TAILLE | Q4: NB | R4: TAILLE | S4: NB | T4: TAILLE | U4: NB | V4: TAILLE | W4: NB | X4: TAILLE | Y4: NB | Z4: TAILLE | AA4: NB | AB4: TAILLE | AC4: NB | AD4: TAILLE | AE4: NB | AF4: TAILLE | AG4: NB | AH4: TAILLE | AI4: NB
A5: PANTALON ÉTÉ | B5: =IF(ISBLANK(A!G6),"",A!G6) | C5: =IF(ISBLANK(A!H6),"",A!H6) | D5: =IF(ISBLANK(B!G6),"",B!G6) | E5: =IF(ISBLANK(B!H6),"",B!H6) | F5: ² | G5: =IF(ISBLANK('C'!H6),"",'C'!H6) -> 1 | H5: =IF(ISBLANK(D!G6),"",D!G6) -> 42 | I5: =IF(ISBLANK(D!H6),"",D!H6) -> 1 | J5: =IF(ISBLANK(E!G6),"",E!G6) -> 42 | K5: =IF(ISBLANK(E!H6),"",E!H6) -> 2 | L5: =IF(ISBLANK(F!G6),"",F!G6) -> 44 | M5: =IF(ISBLANK(F!H6),"",F!H6) -> 1 | N5: =IF(ISBLANK(G!G6),"",G!G6) -> 40 | O5: =IF(ISBLANK(G!H6),"",G!H6) -> 1 | P5: =IF(ISBLANK(H!G6),"",H!G6) | Q5: =IF(ISBLANK(H!H6),"",H!H6) | R5: =IF(ISBLANK(I!G6),"",I!G6) -> 48 | S5: =IF(ISBLANK(I!H6),"",I!H6) -> 2 | T5: =IF(ISBLANK(J!G6),"",J!G6) -> 40 | U5: =IF(ISBLANK(J!H6),"",J!H6) -> 1 | V5: =IF(ISBLANK(K!G6),"",K!G6) | W5: =IF(ISBLANK(K!H6),"",K!H6) | X5: =IF(ISBLANK(L!G6),"",L!G6) | Y5: =IF(ISBLANK(L!H6),"",L!H6) | Z5: =IF(ISBLANK(M!G6),"",M!G6) -> 40 | AA5: =IF(ISBLANK(M!H6),"",M!H6) -> 4 | AB5: =IF(ISBLANK(N!G6),"",N!G6) | AC5: =IF(ISBLANK(N!H6),"",N!H6) | AD5: =IF(ISBLANK(O!G6),"",O!G6) -> 38 | AE5: =IF(ISBLANK(O!H6),"",O!H6) -> 1 | AF5: =IF(ISBLANK(P!G6),"",P!G6) -> 46 | AG5: =IF(ISBLANK(P!H6),"",P!H6) -> 2 | AH5: =IF(ISBLANK(Q!G6),"",Q!G6) | AI5: =IF(ISBLANK(Q!H6),"",Q!H6)
A6: PANTALON HIVER | B6: =IF(ISBLANK(A!G7),"",A!G7) | C6: =IF(ISBLANK(A!H7),"",A!H7) | D6: =IF(ISBLANK(B!G7),"",B!G7) | E6: =IF(ISBLANK(B!H7),"",B!H7) | F6: =IF(ISBLANK('C'!G7),"",'C'!G7) -> 48 | G6: =IF(ISBLANK('C'!H7),"",'C'!H7) -> 1 | H6: =IF(ISBLANK(D!G7),"",D!G7) -> 42 | I6: =IF(ISBLANK(D!H7),"",D!H7) -> 1 | J6: =IF(ISBLANK(E!G7),"",E!G7) | K6: =IF(ISBLANK(E!H7),"",E!H7) | L6: =IF(ISBLANK(F!G7),"",F!G7) | M6: =IF(ISBLANK(F!H7),"",F!H7) | N6: =IF(ISBLANK(G!G7),"",G!G7) -> 40 | O6: =IF(ISBLANK(G!H7),"",G!H7) -> 1 | P6: =IF(ISBLANK(H!G7),"",H!G7) -> 48 | Q6: =IF(ISBLANK(H!H7),"",H!H7) -> 1 | R6: =IF(ISBLANK(I!G7),"",I!G7) -> 48 | S6: =IF(ISBLANK(I!H7),"",I!H7) -> 2 | T6: =IF(ISBLANK(J!G7),"",J!G7) -> 40 | U6: =IF(ISBLANK(J!H7),"",J!H7) -> 1 | V6: =IF(ISBLANK(K!G7),"",K!G7) | W6: =IF(ISBLANK(K!H7),"",K!H7) | X6: =IF(ISBLANK(L!G7),"",L!G7) | Y6: =IF(ISBLANK(L!H7),"",L!H7) | Z6: =IF(ISBLANK(M!G7),"",M!G7) | AA6: =IF(ISBLANK(M!H7),"",M!H7) | AB6: =IF(ISBLANK(N!G7),"",N!G7) | AC6: =IF(ISBLANK(N!H7),"",N!H7) | AD6: =IF(ISBLANK(O!G7),"",O!G7) -> 38 | AE6: =IF(ISBLANK(O!H7),"",O!H7) -> 1 | AF6: =IF(ISBLANK(P!G7),"",P!G7) | AG6: =IF(ISBLANK(P!H7),"",P!H7) | AH6: =IF(ISBLANK(Q!G7),"",Q!G7) | AI6: =IF(ISBLANK(Q!H7),"",Q!H7)
A7: VESTE ÉTÉ | B7: =IF(ISBLANK(A!G4),"",A!G4) | C7: =IF(ISBLANK(A!H4),"",A!H4) | D7: =IF(ISBLANK(B!G4),"",B!G4) | E7: =IF(ISBLANK(B!H4),"",B!H4) | F7: =IF(ISBLANK('C'!G4),"",'C'!G4) | G7: =IF(ISBLANK('C'!H4),"",'C'!H4) | H7: =IF(ISBLANK(D!G4),"",D!G4) | I7: =IF(ISBLANK(D!H4),"",D!H4) | J7: =IF(ISBLANK(E!G4),"",E!G4) | K7: =IF(ISBLANK(E!H4),"",E!H4) | L7: =IF(ISBLANK(F!G4),"",F!G4) | M7: =IF(ISBLANK(F!H4),"",F!H4) | N7: =IF(ISBLANK(G!G4),"",G!G4) | O7: =IF(ISBLANK(G!H4),"",G!H4) | P7: =IF(ISBLANK(H!G4),"",H!G4) | Q7: =IF(ISBLANK(H!H4),"",H!H4) | R7: =IF(ISBLANK(I!G4),"",I!G4) | S7: =IF(ISBLANK(I!H4),"",I!H4) | T7: =IF(ISBLANK(J!G4),"",J!G4) | U7: =IF(ISBLANK(J!H4),"",J!H4) | V7: =IF(ISBLANK(K!G4),"",K!G4) | W7: =IF(ISBLANK(K!H4),"",K!H4) | X7: =IF(ISBLANK(L!G4),"",L!G4) | Y7: =IF(ISBLANK(L!H4),"",L!H4) | Z7: =IF(ISBLANK(M!G4),"",M!G4) | AA7: =IF(ISBLANK(M!H4),"",M!H4) | AB7: =IF(ISBLANK(N!G4),"",N!G4) | AC7: =IF(ISBLANK(N!H4),"",N!H4) | AD7: =IF(ISBLANK(O!G4),"",O!G4) -> 2 | AE7: =IF(ISBLANK(O!H4),"",O!H4) -> 1 | AF7: =IF(ISBLANK(P!G4),"",P!G4) -> 3 | AG7: =IF(ISBLANK(P!H4),"",P!H4) -> 1 | AH7: =IF(ISBLANK(Q!G4),"",Q!G4) | AI7: =IF(ISBLANK(Q!H4),"",Q!H4)
A8: VESTE HIVER | B8: =IF(ISBLANK(A!G5),"",A!G5) | C8: =IF(ISBLANK(A!H5),"",A!H5) | D8: =IF(ISBLANK(B!G5),"",B!G5) | E8: =IF(ISBLANK(B!H5),"",B!H5) | F8: =IF(ISBLANK('C'!G5),"",'C'!G5) | G8: =IF(ISBLANK('C'!H5),"",'C'!H5) | H8: =IF(ISBLANK(D!G5),"",D!G5) | I8: =IF(ISBLANK(D!H5),"",D!H5) | J8: =IF(ISBLANK(E!G5),"",E!G5) | K8: =IF(ISBLANK(E!H5),"",E!H5) | L8: =IF(ISBLANK(F!G5),"",F!G5) | M8: =IF(ISBLANK(F!H5),"",F!H5) | N8: =IF(ISBLANK(G!G5),"",G!G5) | O8: =IF(ISBLANK(G!H5),"",G!H5) | P8: =IF(ISBLANK(H!G5),"",H!G5) | Q8: =IF(ISBLANK(H!H5),"",H!H5) | R8: =IF(ISBLANK(I!G5),"",I!G5) | S8: =IF(ISBLANK(I!H5),"",I!H5) | T8: =IF(ISBLANK(J!G5),"",J!G5) | U8: =IF(ISBLANK(J!H5),"",J!H5) | V8: =IF(ISBLANK(K!G5),"",K!G5) | W8: =IF(ISBLANK(K!H5),"",K!H5) | X8: =IF(ISBLANK(L!G5),"",L!G5) | Y8: =IF(ISBLANK(L!H5),"",L!H5) | Z8: =IF(ISBLANK(M!G5),"",M!G5) | AA8: =IF(ISBLANK(M!H5),"",M!H5) | AB8: =IF(ISBLANK(N!G5),"",N!G5) | AC8: =IF(ISBLANK(N!H5),"",N!H5) | AD8: =IF(ISBLANK(O!G5),"",O!G5) -> 2 | AE8: =IF(ISBLANK(O!H5),"",O!H5) -> 1 | AF8: =IF(ISBLANK(P!G5),"",P!G5) | AG8: =IF(ISBLANK(P!H5),"",P!H5) | AH8: =IF(ISBLANK(Q!G5),"",Q!G5) | AI8: =IF(ISBLANK(Q!H5),"",Q!H5)
B9: =IF(ISBLANK(A!#REF!),"",A!#REF!) -> #REF! | C9: =IF(ISBLANK(A!#REF!),"",A!#REF!) -> #REF! | D9: =IF(ISBLANK(B!#REF!),"",B!#REF!) -> #REF! | E9: =IF(ISBLANK(B!#REF!),"",B!#REF!) -> #REF! | F9: =IF(ISBLANK('C'!#REF!),"",'C'!#REF!) -> #REF! | G9: =IF(ISBLANK('C'!#REF!),"",'C'!#REF!) -> #REF! | H9: =IF(ISBLANK(D!#REF!),"",D!#REF!) -> #REF! | I9: =IF(ISBLANK(D!#REF!),"",D!#REF!) -> #REF! | J9: =IF(ISBLANK(E!#REF!),"",E!#REF!) -> #REF! | K9: =IF(ISBLANK(E!#REF!),"",E!#REF!) -> #REF! | L9: =IF(ISBLANK(F!#REF!),"",F!#REF!) -> #REF! | M9: =IF(ISBLANK(F!#REF!),"",F!#REF!) -> #REF! | N9: =IF(ISBLANK(G!#REF!),"",G!#REF!) -> #REF! | O9: =IF(ISBLANK(G!#REF!),"",G!#REF!) -> #REF! | P9: =IF(ISBLANK(H!#REF!),"",H!#REF!) -> #REF! | Q9: =IF(ISBLANK(H!#REF!),"",H!#REF!) -> #REF! | R9: =IF(ISBLANK(I!#REF!),"",I!#REF!) -> #REF! | S9: =IF(ISBLANK(I!#REF!),"",I!#REF!) -> #REF! | T9: =IF(ISBLANK(J!#REF!),"",J!#REF!) -> #REF! | U9: =IF(ISBLANK(J!#REF!),"",J!#REF!) -> #REF! | V9: =IF(ISBLANK(K!#REF!),"",K!#REF!) -> #REF! | W9: =IF(ISBLANK(K!#REF!),"",K!#REF!) -> #REF! | X9: =IF(ISBLANK(L!#REF!),"",L!#REF!) -> #REF! | Y9: =IF(ISBLANK(L!#REF!),"",L!#REF!) -> #REF! | Z9: =IF(ISBLANK(M!#REF!),"",M!#REF!) -> #REF! | AA9: =IF(ISBLANK(M!#REF!),"",M!#REF!) -> #REF! | AB9: =IF(ISBLANK(N!#REF!),"",N!#REF!) -> #REF! | AC9: =IF(ISBLANK(N!#REF!),"",N!#REF!) -> #REF! | AD9: =IF(ISBLANK(O!#REF!),"",O!#REF!) -> #REF! | AE9: =IF(ISBLANK(O!#REF!),"",O!#REF!) -> #REF! | AF9: =IF(ISBLANK(P!#REF!),"",P!#REF!) -> #REF! | AG9: =IF(ISBLANK(P!#REF!),"",P!#REF!) -> #REF! | AH9: =IF(ISBLANK(Q!#REF!),"",Q!#REF!) -> #REF! | AI9: =IF(ISBLANK(Q!#REF!),"",Q!#REF!) -> #REF!
A10: COTTE A BRETELLES ÉTÉ | B10: =IF(ISBLANK(A!G8),"",A!G8) | C10: =IF(ISBLANK(A!H8),"",A!H8) | D10: =IF(ISBLANK(B!G8),"",B!G8) | E10: =IF(ISBLANK(B!H8),"",B!H8) | F10: =IF(ISBLANK('C'!G8),"",'C'!G8) | G10: =IF(ISBLANK('C'!H8),"",'C'!H8) | H10: =IF(ISBLANK(D!G8),"",D!G8) | I10: =IF(ISBLANK(D!H8),"",D!H8) | J10: =IF(ISBLANK(E!G8),"",E!G8) | K10: =IF(ISBLANK(E!H8),"",E!H8) | L10: =IF(ISBLANK(F!G8),"",F!G8) | M10: =IF(ISBLANK(F!H8),"",F!H8) | N10: =IF(ISBLANK(G!G8),"",G!G8) | O10: =IF(ISBLANK(G!H8),"",G!H8) | P10: =IF(ISBLANK(H!G8),"",H!G8) | Q10: =IF(ISBLANK(H!H8),"",H!H8) | R10: =IF(ISBLANK(I!G8),"",I!G8) | S10: =IF(ISBLANK(I!H8),"",I!H8) | T10: =IF(ISBLANK(J!G8),"",J!G8) -> 40 | U10: =IF(ISBLANK(J!H8),"",J!H8) -> 1 | V10: =IF(ISBLANK(K!G8),"",K!G8) | W10: =IF(ISBLANK(K!H8),"",K!H8) | X10: =IF(ISBLANK(L!G8),"",L!G8) -> 46 | Y10: =IF(ISBLANK(L!H8),"",L!H8) -> 1 | Z10: =IF(ISBLANK(M!G8),"",M!G8) | AA10: =IF(ISBLANK(M!H8),"",M!H8) | AB10: =IF(ISBLANK(N!G8),"",N!G8) -> 46 | AC10: =IF(ISBLANK(N!H8),"",N!H8) -> 1 | AD10: =IF(ISBLANK(O!G8),"",O!G8) | AE10: =IF(ISBLANK(O!H8),"",O!H8) | AF10: =IF(ISBLANK(P!G8),"",P!G8) | AG10: =IF(ISBLANK(P!H8),"",P!H8) | AH10: =IF(ISBLANK(Q!G8),"",Q!G8) -> 44 | AI10: =IF(ISBLANK(Q!H8),"",Q!H8) -> 1
A11: COTTE A BRETELLES HIVER | B11: =IF(ISBLANK(A!G9),"",A!G9) | C11: =IF(ISBLANK(A!H9),"",A!H9) | D11: =IF(ISBLANK(B!G9),"",B!G9) | E11: =IF(ISBLANK(B!H9),"",B!H9) | F11: =IF(ISBLANK('C'!G9),"",'C'!G9) | G11: =IF(ISBLANK('C'!H9),"",'C'!H9) | H11: =IF(ISBLANK(D!G9),"",D!G9) | I11: =IF(ISBLANK(D!H9),"",D!H9) | J11: =IF(ISBLANK(E!G9),"",E!G9) | K11: =IF(ISBLANK(E!H9),"",E!H9) | L11: =IF(ISBLANK(F!G9),"",F!G9) | M11: =IF(ISBLANK(F!H9),"",F!H9) | N11: =IF(ISBLANK(G!G9),"",G!G9) | O11: =IF(ISBLANK(G!H9),"",G!H9) | P11: =IF(ISBLANK(H!G9),"",H!G9) | Q11: =IF(ISBLANK(H!H9),"",H!H9) | R11: =IF(ISBLANK(I!G9),"",I!G9) | S11: =IF(ISBLANK(I!H9),"",I!H9) | T11: =IF(ISBLANK(J!G9),"",J!G9) | U11: =IF(ISBLANK(J!H9),"",J!H9) | V11: =IF(ISBLANK(K!G9),"",K!G9) | W11: =IF(ISBLANK(K!H9),"",K!H9) | X11: =IF(ISBLANK(L!G9),"",L!G9) -> 46 | Y11: =IF(ISBLANK(L!H9),"",L!H9) -> 1 | Z11: =IF(ISBLANK(M!G9),"",M!G9) | AA11: =IF(ISBLANK(M!H9),"",M!H9) | AB11: =IF(ISBLANK(N!G9),"",N!G9) -> 46 | AC11: =IF(ISBLANK(N!H9),"",N!H9) -> 1 | AD11: =IF(ISBLANK(O!G9),"",O!G9) | AE11: =IF(ISBLANK(O!H9),"",O!H9) | AF11: =IF(ISBLANK(P!G9),"",P!G9) | AG11: =IF(ISBLANK(P!H9),"",P!H9) | AH11: =IF(ISBLANK(Q!G9),"",Q!G9) | AI11: =IF(ISBLANK(Q!H9),"",Q!H9)
A12: VESTE ÉTÉ | B12: =IF(ISBLANK(A!G10),"",A!G10) | C12: =IF(ISBLANK(A!H10),"",A!H10) | D12: =IF(ISBLANK(B!G10),"",B!G10) | E12: =IF(ISBLANK(B!H10),"",B!H10) | F12: =IF(ISBLANK('C'!G10),"",'C'!G10) | G12: =IF(ISBLANK('C'!H10),"",'C'!H10) | H12: =IF(ISBLANK(D!G10),"",D!G10) | I12: =IF(ISBLANK(D!H10),"",D!H10) | J12: =IF(ISBLANK(E!G10),"",E!G10) | K12: =IF(ISBLANK(E!H10),"",E!H10) | L12: =IF(ISBLANK(F!G10),"",F!G10) | M12: =IF(ISBLANK(F!H10),"",F!H10) | N12: =IF(ISBLANK(G!G10),"",G!G10) | O12: =IF(ISBLANK(G!H10),"",G!H10) | P12: =IF(ISBLANK(H!G10),"",H!G10) | Q12: =IF(ISBLANK(H!H10),"",H!H10) | R12: =IF(ISBLANK(I!G10),"",I!G10) | S12: =IF(ISBLANK(I!H10),"",I!H10) | T12: =IF(ISBLANK(J!G10),"",J!G10) | U12: =IF(ISBLANK(J!H10),"",J!H10) | V12: =IF(ISBLANK(K!G10),"",K!G10) | W12: =IF(ISBLANK(K!H10),"",K!H10) | X12: =IF(ISBLANK(L!G10),"",L!G10) | Y12: =IF(ISBLANK(L!H10),"",L!H10) | Z12: =IF(ISBLANK(M!G10),"",M!G10) | AA12: =IF(ISBLANK(M!H10),"",M!H10) | AB12: =IF(ISBLANK(N!G10),"",N!G10) | AC12: =IF(ISBLANK(N!H10),"",N!H10) | AD12: =IF(ISBLANK(O!G10),"",O!G10) | AE12: =IF(ISBLANK(O!H10),"",O!H10) | AF12: =IF(ISBLANK(P!G10),"",P!G10) | AG12: =IF(ISBLANK(P!H10),"",P!H10) | AH12: =IF(ISBLANK(Q!G10),"",Q!G10) | AI12: =IF(ISBLANK(Q!H10),"",Q!H10)
A13: VESTE HIVER | B13: =IF(ISBLANK(A!G11),"",A!G11) | C13: =IF(ISBLANK(A!H11),"",A!H11) | D13: =IF(ISBLANK(B!G11),"",B!G11) | E13: =IF(ISBLANK(B!H11),"",B!H11) | F13: =IF(ISBLANK('C'!G11),"",'C'!G11) | G13: =IF(ISBLANK('C'!H11),"",'C'!H11) | H13: =IF(ISBLANK(D!G11),"",D!G11) | I13: =IF(ISBLANK(D!H11),"",D!H11) | J13: =IF(ISBLANK(E!G11),"",E!G11) | K13: =IF(ISBLANK(E!H11),"",E!H11) | L13: =IF(ISBLANK(F!G11),"",F!G11) | M13: =IF(ISBLANK(F!H11),"",F!H11) | N13: =IF(ISBLANK(G!G11),"",G!G11) | O13: =IF(ISBLANK(G!H11),"",G!H11) | P13: =IF(ISBLANK(H!G11),"",H!G11) | Q13: =IF(ISBLANK(H!H11),"",H!H11) | R13: =IF(ISBLANK(I!G11),"",I!G11) | S13: =IF(ISBLANK(I!H11),"",I!H11) | T13: =IF(ISBLANK(J!G11),"",J!G11) | U13: =IF(ISBLANK(J!H11),"",J!H11) | V13: =IF(ISBLANK(K!G11),"",K!G11) | W13: =IF(ISBLANK(K!H11),"",K!H11) | X13: =IF(ISBLANK(L!G11),"",L!G11) | Y13: =IF(ISBLANK(L!H11),"",L!H11) | Z13: =IF(ISBLANK(M!G11),"",M!G11) | AA13: =IF(ISBLANK(M!H11),"",M!H11) | AB13: =IF(ISBLANK(N!G11),"",N!G11) | AC13: =IF(ISBLANK(N!H11),"",N!H11) | AD13: =IF(ISBLANK(O!G11),"",O!G11) | AE13: =IF(ISBLANK(O!H11),"",O!H11) | AF13: =IF(ISBLANK(P!G11),"",P!G11) | AG13: =IF(ISBLANK(P!H11),"",P!H11) | AH13: =IF(ISBLANK(Q!G11),"",Q!G11) | AI13: =IF(ISBLANK(Q!H11),"",Q!H11)
B14: =IF(ISBLANK(A!#REF!),"",A!#REF!) -> #REF! | C14: =IF(ISBLANK(A!#REF!),"",A!#REF!) -> #REF! | D14: =IF(ISBLANK(B!#REF!),"",B!#REF!) -> #REF! | E14: =IF(ISBLANK(B!#REF!),"",B!#REF!) -> #REF! | F14: =IF(ISBLANK('C'!#REF!),"",'C'!#REF!) -> #REF! | G14: =IF(ISBLANK('C'!#REF!),"",'C'!#REF!) -> #REF! | H14: =IF(ISBLANK(D!#REF!),"",D!#REF!) -> #REF! | I14: =IF(ISBLANK(D!#REF!),"",D!#REF!) -> #REF! | J14: =IF(ISBLANK(E!#REF!),"",E!#REF!) -> #REF! | K14: =IF(ISBLANK(E!#REF!),"",E!#REF!) -> #REF! | L14: =IF(ISBLANK(F!#REF!),"",F!#REF!) -> #REF! | M14: =IF(ISBLANK(F!#REF!),"",F!#REF!) -> #REF! | N14: =IF(ISBLANK(G!#REF!),"",G!#REF!) -> #REF! | O14: =IF(ISBLANK(G!#REF!),"",G!#REF!) -> #REF! | P14: =IF(ISBLANK(H!#REF!),"",H!#REF!) -> #REF! | Q14: =IF(ISBLANK(H!#REF!),"",H!#REF!) -> #REF! | R14: =IF(ISBLANK(I!#REF!),"",I!#REF!) -> #REF! | S14: =IF(ISBLANK(I!#REF!),"",I!#REF!) -> #REF! | T14: =IF(ISBLANK(J!#REF!),"",J!#REF!) -> #REF! | U14: =IF(ISBLANK(J!#REF!),"",J!#REF!) -> #REF! | V14: =IF(ISBLANK(K!#REF!),"",K!#REF!) -> #REF! | W14: =IF(ISBLANK(K!#REF!),"",K!#REF!) -> #REF! | X14: =IF(ISBLANK(L!#REF!),"",L!#REF!) -> #REF! | Y14: =IF(ISBLANK(L!#REF!),"",L!#REF!) -> #REF! | Z14: =IF(ISBLANK(M!#REF!),"",M!#REF!) -> #REF! | AA14: =IF(ISBLANK(M!#REF!),"",M!#REF!) -> #REF! | AB14: =IF(ISBLANK(N!#REF!),"",N!#REF!) -> #REF! | AC14: =IF(ISBLANK(N!#REF!),"",N!#REF!) -> #REF! | AD14: =IF(ISBLANK(O!#REF!),"",O!#REF!) -> #REF! | AE14: =IF(ISBLANK(O!#REF!),"",O!#REF!) -> #REF! | AF14: =IF(ISBLANK(P!#REF!),"",P!#REF!) -> #REF! | AG14: =IF(ISBLANK(P!#REF!),"",P!#REF!) -> #REF! | AH14: =IF(ISBLANK(Q!#REF!),"",Q!#REF!) -> #REF! | AI14: =IF(ISBLANK(Q!#REF!),"",Q!#REF!) -> #REF!
A15: COMBINAISON ÉTÉ | B15: =IF(ISBLANK(A!G12),"",A!G12) | C15: =IF(ISBLANK(A!H12),"",A!H12) | D15: =IF(ISBLANK(B!G12),"",B!G12) | E15: =IF(ISBLANK(B!H12),"",B!H12) | F15: =IF(ISBLANK('C'!G12),"",'C'!G12) | G15: =IF(ISBLANK('C'!H12),"",'C'!H12) | H15: =IF(ISBLANK(D!G12),"",D!G12) | I15: =IF(ISBLANK(D!H12),"",D!H12) | J15: =IF(ISBLANK(E!G12),"",E!G12) | K15: =IF(ISBLANK(E!H12),"",E!H12) | L15: =IF(ISBLANK(F!G12),"",F!G12) -> 4 | M15: =IF(ISBLANK(F!H12),"",F!H12) -> 1 | N15: =IF(ISBLANK(G!G12),"",G!G12) | O15: =IF(ISBLANK(G!H12),"",G!H12) | P15: =IF(ISBLANK(H!G12),"",H!G12) | Q15: =IF(ISBLANK(H!H12),"",H!H12) | R15: =IF(ISBLANK(I!G12),"",I!G12) | S15: =IF(ISBLANK(I!H12),"",I!H12) | T15: =IF(ISBLANK(J!G12),"",J!G12) | U15: =IF(ISBLANK(J!H12),"",J!H12) | V15: =IF(ISBLANK(K!G12),"",K!G12) | W15: =IF(ISBLANK(K!H12),"",K!H12) | X15: =IF(ISBLANK(L!G12),"",L!G12) | Y15: =IF(ISBLANK(L!H12),"",L!H12) | Z15: =IF(ISBLANK(M!G12),"",M!G12) | AA15: =IF(ISBLANK(M!H12),"",M!H12) | AB15: =IF(ISBLANK(N!G12),"",N!G12) | AC15: =IF(ISBLANK(N!H12),"",N!H12) | AD15: =IF(ISBLANK(O!G12),"",O!G12) | AE15: =IF(ISBLANK(O!H12),"",O!H12) | AF15: =IF(ISBLANK(P!G12),"",P!G12) | AG15: =IF(ISBLANK(P!H12),"",P!H12) | AH15: =IF(ISBLANK(Q!G12),"",Q!G12) -> 4 | AI15: =IF(ISBLANK(Q!H12),"",Q!H12) -> 1
A16: COMBINAISON HIVER | B16: =IF(ISBLANK(A!G13),"",A!G13) | C16: =IF(ISBLANK(A!H13),"",A!H13) | D16: =IF(ISBLANK(B!G13),"",B!G13) | E16: =IF(ISBLANK(B!H13),"",B!H13) | F16: =IF(ISBLANK('C'!G13),"",'C'!G13) | G16: =IF(ISBLANK('C'!H13),"",'C'!H13) | H16: =IF(ISBLANK(D!G13),"",D!G13) | I16: =IF(ISBLANK(D!H13),"",D!H13) | J16: =IF(ISBLANK(E!G13),"",E!G13) | K16: =IF(ISBLANK(E!H13),"",E!H13) | L16: =IF(ISBLANK(F!G13),"",F!G13) | M16: =IF(ISBLANK(F!H13),"",F!H13) | N16: =IF(ISBLANK(G!G13),"",G!G13) | O16: =IF(ISBLANK(G!H13),"",G!H13) | P16: =IF(ISBLANK(H!G13),"",H!G13) -> 6 | Q16: =IF(ISBLANK(H!H13),"",H!H13) -> 1 | R16: =IF(ISBLANK(I!G13),"",I!G13) | S16: =IF(ISBLANK(I!H13),"",I!H13) | T16: =IF(ISBLANK(J!G13),"",J!G13) | U16: =IF(ISBLANK(J!H13),"",J!H13) | V16: =IF(ISBLANK(K!G13),"",K!G13) | W16: =IF(ISBLANK(K!H13),"",K!H13) | X16: =IF(ISBLANK(L!G13),"",L!G13) | Y16: =IF(ISBLANK(L!H13),"",L!H13) | Z16: =IF(ISBLANK(M!G13),"",M!G13) | AA16: =IF(ISBLANK(M!H13),"",M!H13) | AB16: =IF(ISBLANK(N!G13),"",N!G13) | AC16: =IF(ISBLANK(N!H13),"",N!H13) | AD16: =IF(ISBLANK(O!G13),"",O!G13) | AE16: =IF(ISBLANK(O!H13),"",O!H13) | AF16: =IF(ISBLANK(P!G13),"",P!G13) | AG16: =IF(ISBLANK(P!H13),"",P!H13) | AH16: =IF(ISBLANK(Q!G13),"",Q!G13) | AI16: =IF(ISBLANK(Q!H13),"",Q!H13)
B17: =IF(ISBLANK(A!G14),"",A!G14) | C17: =IF(ISBLANK(A!H14),"",A!H14) | D17: =IF(ISBLANK(B!G14),"",B!G14) | E17: =IF(ISBLANK(B!H14),"",B!H14) | F17: =IF(ISBLANK('C'!G14),"",'C'!G14) | G17: =IF(ISBLANK('C'!H14),"",'C'!H14) | H17: =IF(ISBLANK(D!G14),"",D!G14) | I17: =IF(ISBLANK(D!H14),"",D!H14) | J17: =IF(ISBLANK(E!G14),"",E!G14) | K17: =IF(ISBLANK(E!H14),"",E!H14) | L17: =IF(ISBLANK(F!G14),"",F!G14) | M17: =IF(ISBLANK(F!H14),"",F!H14) | N17: =IF(ISBLANK(G!G14),"",G!G14) | O17: =IF(ISBLANK(G!H14),"",G!H14) | P17: =IF(ISBLANK(H!G14),"",H!G14) | Q17: =IF(ISBLANK(H!H14),"",H!H14) | R17: =IF(ISBLANK(I!G14),"",I!G14) | S17: =IF(ISBLANK(I!H14),"",I!H14) | T17: =IF(ISBLANK(J!G14),"",J!G14) | U17: =IF(ISBLANK(J!H14),"",J!H14) | V17: =IF(ISBLANK(K!G14),"",K!G14) | W17: =IF(ISBLANK(K!H14),"",K!H14) | X17: =IF(ISBLANK(L!G14),"",L!G14) | Y17: =IF(ISBLANK(L!H14),"",L!H14) | Z17: =IF(ISBLANK(M!G14),"",M!G14) | AA17: =IF(ISBLANK(M!H14),"",M!H14) | AB17: =IF(ISBLANK(N!G14),"",N!G14) | AC17: =IF(ISBLANK(N!H14),"",N!H14) | AD17: =IF(ISBLANK(O!G14),"",O!G14) | AE17: =IF(ISBLANK(O!H14),"",O!H14) | AF17: =IF(ISBLANK(P!G14),"",P!G14) | AG17: =IF(ISBLANK(P!H14),"",P!H14) | AH17: =IF(ISBLANK(Q!G14),"",Q!G14) | AI17: =IF(ISBLANK(Q!H14),"",Q!H14)
A18: POLO HIVER | B18: =IF(ISBLANK(A!G15),"",A!G15) | C18: =IF(ISBLANK(A!H15),"",A!H15) | D18: =IF(ISBLANK(B!G15),"",B!G15) | E18: =IF(ISBLANK(B!H15),"",B!H15) | F18: =IF(ISBLANK('C'!G15),"",'C'!G15) -> 6 | G18: =IF(ISBLANK('C'!H15),"",'C'!H15) -> 2 | H18: =IF(ISBLANK(D!G15),"",D!G15) | I18: =IF(ISBLANK(D!H15),"",D!H15) | J18: =IF(ISBLANK(E!G15),"",E!G15) | K18: =IF(ISBLANK(E!H15),"",E!H15) | L18: =IF(ISBLANK(F!G15),"",F!G15) | M18: =IF(ISBLANK(F!H15),"",F!H15) | N18: =IF(ISBLANK(G!G15),"",G!G15) -> 2 | O18: =IF(ISBLANK(G!H15),"",G!H15) -> 1 | P18: =IF(ISBLANK(H!G15),"",H!G15) | Q18: =IF(ISBLANK(H!H15),"",H!H15) | R18: =IF(ISBLANK(I!G15),"",I!G15) -> 6 | S18: =IF(ISBLANK(I!H15),"",I!H15) -> 1 | T18: =IF(ISBLANK(J!G15),"",J!G15) | U18: =IF(ISBLANK(J!H15),"",J!H15) | V18: =IF(ISBLANK(K!G15),"",K!G15) | W18: =IF(ISBLANK(K!H15),"",K!H15) | X18: =IF(ISBLANK(L!G15),"",L!G15) | Y18: =IF(ISBLANK(L!H15),"",L!H15) | Z18: =IF(ISBLANK(M!G15),"",M!G15) | AA18: =IF(ISBLANK(M!H15),"",M!H15) | AB18: =IF(ISBLANK(N!G15),"",N!G15) -> 4 | AC18: =IF(ISBLANK(N!H15),"",N!H15) -> 1 | AD18: =IF(ISBLANK(O!G15),"",O!G15) -> 2 | AE18: =IF(ISBLANK(O!H15),"",O!H15) -> 2 | AF18: =IF(ISBLANK(P!G15),"",P!G15) -> 3 | AG18: =IF(ISBLANK(P!H15),"",P!H15) -> 1 | AH18: =IF(ISBLANK(Q!G15),"",Q!G15) -> 3 | AI18: =IF(ISBLANK(Q!H15),"",Q!H15) -> 2
A19: POLO ETE | B19: =IF(ISBLANK(A!G16),"",A!G16) | C19: =IF(ISBLANK(A!H16),"",A!H16) | D19: =IF(ISBLANK(B!G16),"",B!G16) -> 5 | E19: =IF(ISBLANK(B!H16),"",B!H16) -> 1 | F19: =IF(ISBLANK('C'!G16),"",'C'!G16) -> 6 | G19: =IF(ISBLANK('C'!H16),"",'C'!H16) -> 1 | H19: =IF(ISBLANK(D!G16),"",D!G16) | I19: =IF(ISBLANK(D!H16),"",D!H16) | J19: =IF(ISBLANK(E!G16),"",E!G16) -> 3 | K19: =IF(ISBLANK(E!H16),"",E!H16) -> 1 | L19: =IF(ISBLANK(F!G16),"",F!G16) | M19: =IF(ISBLANK(F!H16),"",F!H16) | N19: =IF(ISBLANK(G!G16),"",G!G16) -> 2 | O19: =IF(ISBLANK(G!H16),"",G!H16) -> 1 | P19: =IF(ISBLANK(H!G16),"",H!G16) -> 6 | Q19: =IF(ISBLANK(H!H16),"",H!H16) -> 1 | R19: =IF(ISBLANK(I!G16),"",I!G16) -> 6 | S19: =IF(ISBLANK(I!H16),"",I!H16) -> 1 | T19: =IF(ISBLANK(J!G16),"",J!G16) -> 2 | U19: =IF(ISBLANK(J!H16),"",J!H16) -> 1 | V19: =IF(ISBLANK(K!G16),"",K!G16) | W19: =IF(ISBLANK(K!H16),"",K!H16) | X19: =IF(ISBLANK(L!G16),"",L!G16) -> 3 | Y19: =IF(ISBLANK(L!H16),"",L!H16) -> 3 | Z19: =IF(ISBLANK(M!G16),"",M!G16) | AA19: =IF(ISBLANK(M!H16),"",M!H16) | AB19: =IF(ISBLANK(N!G16),"",N!G16) -> 4 | AC19: =IF(ISBLANK(N!H16),"",N!H16) -> 1 | AD19: =IF(ISBLANK(O!G16),"",O!G16) | AE19: =IF(ISBLANK(O!H16),"",O!H16) | AF19: =IF(ISBLANK(P!G16),"",P!G16) | AG19: =IF(ISBLANK(P!H16),"",P!H16) | AH19: =IF(ISBLANK(Q!G16),"",Q!G16) -> 3 | AI19: =IF(ISBLANK(Q!H16),"",Q!H16) -> 1
