Workbook
Name Année: Calendrier!$A$1

Sheet Calendrier
A1: 2018
B3: Janvier | C3: Février | D3: Mars | E3: Avril | F3: Mai | G3: Juin | H3: Juillet | I3: Août | J3: Septembre | K3: Octobre | L3: Novembre | M3: Décembre
A4: 1 | B4: {=(DATE(Année,COLUMN(1:12),ROW(1:31)))} -> 43101 | C4: 43132 | D4: 43160 | E4: 43191 | F4: 43221 | G4: 43252 | H4: 43282 | I4: 43313 | J4: 43344 | K4: 43374 | L4: 43405 | M4: 43435
A5: 2 | B5: 43102 | C5: 43133 | D5: 43161 | E5: 43192 | F5: 43222 | G5: 43253 | H5: 43283 | I5: 43314 | J5: 43345 | K5: 43375 | L5: 43406 | M5: 43436
A6: 3 | B6: 43103 | C6: 43134 | D6: 43162 | E6: 43193 | F6: 43223 | G6: 43254 | H6: 43284 | I6: 43315 | J6: 43346 | K6: 43376 | L6: 43407 | M6: 43437
A7: 4 | B7: 43104 | C7: 43135 | D7: 43163 | E7: 43194 | F7: 43224 | G7: 43255 | H7: 43285 | I7: 43316 | J7: 43347 | K7: 43377 | L7: 43408 | M7: 43438
A8: 5 | B8: 43105 | C8: 43136 | D8: 43164 | E8: 43195 | F8: 43225 | G8: 43256 | H8: 43286 | I8: 43317 | J8: 43348 | K8: 43378 | L8: 43409 | M8: 43439
A9: 6 | B9: 43106 | C9: 43137 | D9: 43165 | E9: 43196 | F9: 43226 | G9: 43257 | H9: 43287 | I9: 43318 | J9: 43349 | K9: 43379 | L9: 43410 | M9: 43440
A10: 7 | B10: 43107 | C10: 43138 | D10: 43166 | E10: 43197 | F10: 43227 | G10: 43258 | H10: 43288 | I10: 43319 | J10: 43350 | K10: 43380 | L10: 43411 | M10: 43441
A11: 8 | B11: 43108 | C11: 43139 | D11: 43167 | E11: 43198 | F11: 43228 | G11: 43259 | H11: 43289 | I11: 43320 | J11: 43351 | K11: 43381 | L11: 43412 | M11: 43442
A12: 9 | B12: 43109 | C12: 43140 | D12: 43168 | E12: 43199 | F12: 43229 | G12: 43260 | H12: 43290 | I12: 43321 | J12: 43352 | K12: 43382 | L12: 43413 | M12: 43443
A13: 10 | B13: 43110 | C13: 43141 | D13: 43169 | E13: 43200 | F13: 43230 | G13: 43261 | H13: 43291 | I13: 43322 | J13: 43353 | K13: 43383 | L13: 43414 | M13: 43444
A14: 11 | B14: 43111 | C14: 43142 | D14: 43170 | E14: 43201 | F14: 43231 | G14: 43262 | H14: 43292 | I14: 43323 | J14: 43354 | K14: 43384 | L14: 43415 | M14: 43445
A15: 12 | B15: 43112 | C15: 43143 | D15: 43171 | E15: 43202 | F15: 43232 | G15: 43263 | H15: 43293 | I15: 43324 | J15: 43355 | K15: 43385 | L15: 43416 | M15: 43446
A16: 13 | B16: 43113 | C16: 43144 | D16: 43172 | E16: 43203 | F16: 43233 | G16: 43264 | H16: 43294 | I16: 43325 | J16: 43356 | K16: 43386 | L16: 43417 | M16: 43447
... A34: 31 | B34: 43131 | C34: 43162 | D34: 43190 | E34: 43221 | F34: 43251 | G34: 43282 | H34: 43312 | I34: 43343 | J34: 43374 | K34: 43404 | L34: 43435 | M34: 43465
B36: mardi =
B37: vendredi =

Sheet Test
A1: =Calendrier!B4 -> 43101 | E1: =CHOOSE(WEEKDAY(A1,2),"LUN","MAR","MER","JEU","VEN","SAM","DIM") -> LUN
A2: =Calendrier!B5 -> 43102 | E2: =CHOOSE(WEEKDAY(A2,2),"LUN","MAR","MER","JEU","VEN","SAM","DIM") -> MAR
A3: =Calendrier!B6 -> 43103 | E3: =CHOOSE(WEEKDAY(A3,2),"LUN","MAR","MER","JEU","VEN","SAM","DIM") -> MER
A4: =Calendrier!B7 -> 43104 | E4: =CHOOSE(WEEKDAY(A4,2),"LUN","MAR","MER","JEU","VEN","SAM","DIM") -> JEU | G4: =COUNTIF(E1:E31,"MAR") -> 5
A5: =Calendrier!B8 -> 43105 | E5: =CHOOSE(WEEKDAY(A5,2),"LUN","MAR","MER","JEU","VEN","SAM","DIM") -> VEN
A6: =Calendrier!B9 -> 43106 | E6: =CHOOSE(WEEKDAY(A6,2),"LUN","MAR","MER","JEU","VEN","SAM","DIM") -> SAM
A7: =Calendrier!B10 -> 43107 | E7: =CHOOSE(WEEKDAY(A7,2),"LUN","MAR","MER","JEU","VEN","SAM","DIM") -> DIM
A8: =Calendrier!B11 -> 43108 | E8: =CHOOSE(WEEKDAY(A8,2),"LUN","MAR","MER","JEU","VEN","SAM","DIM") -> LUN
A9: =Calendrier!B12 -> 43109 | E9: =CHOOSE(WEEKDAY(A9,2),"LUN","MAR","MER","JEU","VEN","SAM","DIM") -> MAR
A10: =Calendrier!B13 -> 43110 | E10: =CHOOSE(WEEKDAY(A10,2),"LUN","MAR","MER","JEU","VEN","SAM","DIM") -> MER
A11: =Calendrier!B14 -> 43111 | E11: =CHOOSE(WEEKDAY(A11,2),"LUN","MAR","MER","JEU","VEN","SAM","DIM") -> JEU
A12: =Calendrier!B15 -> 43112 | E12: =CHOOSE(WEEKDAY(A12,2),"LUN","MAR","MER","JEU","VEN","SAM","DIM") -> VEN
A13: =Calendrier!B16 -> 43113 | E13: =CHOOSE(WEEKDAY(A13,2),"LUN","MAR","MER","JEU","VEN","SAM","DIM") -> SAM
A14: =Calendrier!B17 -> 43114 | E14: =CHOOSE(WEEKDAY(A14,2),"LUN","MAR","MER","JEU","VEN","SAM","DIM") -> DIM
A15: =Calendrier!B18 -> 43115 | E15: =CHOOSE(WEEKDAY(A15,2),"LUN","MAR","MER","JEU","VEN","SAM","DIM") -> LUN
A16: =Calendrier!B19 -> 43116 | E16: =CHOOSE(WEEKDAY(A16,2),"LUN","MAR","MER","JEU","VEN","SAM","DIM") -> MAR
... A31: =Calendrier!B34 -> 43131 | E31: =CHOOSE(WEEKDAY(A31,2),"LUN","MAR","MER","JEU","VEN","SAM","DIM") -> MER
