Workbook

Sheet Phase1 Sep-Oct
J2: PSG HB | K2: Match à domicile
J3: Montpellier | K3: Match à l'extérieur
B7: 11G | C7: 13F (1) | D7: 13F (2) | E7: 13G (1) | F7: 13G (2) | G7: 13G (3) | H7: 15G (1) | I7: 15G (2) | J7: 15G (3) | K7: 18G | L7: SG
B8: Brass.Général (poule F) | C8: Brassage Haut (poule A) | D8: Brass. Général (poule F) | E8: Brassage Haut (poule A) | F8: Brass.Général (poule E) | G8: Brass.Général (poule F) | H8: Brassage Haut (poule D) | I8: Brass.Général (poule G) | J8: Brass.Général (poule H) | K8: Région (poule A) | L8: Pré-Régional
A10: Sam 17/09/16 | I10: Talence | J10: Canéjan | L10: Blaye
I11: G : 22-14 | J11: P : 11-28 | L11: G : 32-28
A12: Dim 18/09/16 | H12: Le Barp
H13: G : 21-35
A14: Sam 24/09/16 | C14: Pessac | D14: Le Barp | G14: Arcachon LT | H14: Le Teich | I14: Gradignan | J14: Arcachon LT | K14: Lormont | L14: Pompignac
C15: G : 17-11 | D15: P : 15-23 | G15: G : 16-17 | H15: G : 32-13 | I15: G : 18-39 | J15: P : 39-20 | K15: P : 47-23 | L15: P : 17-23
A16: Dim 25/09/16 | B16: Talence | E16: Bruges
B17: G : 14-9 | E17: G : 30-24
A18: Sam 01/10/16 | C18: Le Teich | E18: Canéjan | F18: Cestas | G18: Le Teich 2 | H18: Mios-Biganos | I18: Mérignac 2 | J18: Créon 2 | K18: Mt-de-Marsan | L18: Le Barp
C19: G : 14-18 | E19: G : 18-38 | F19: P : 16-20 | G19: G : 21-15 | H19: G : 12-47 | I19: G : 45-15 | J19: P : 16-23 | K19: G : 35-24 | L19: P : 30-27
A20: Dim 02/10/16 | B20: Le Teich 2 | D20: Le Teich 2
B21: G: 3-31 | D21: P : 16-15
A22: Sam 08/10/16 | B22: Gradignan 2 | C22: Mios-Biganos | D22: Arcachon LT | E22: Pessac | G22: Mios-Biganos | L22: Médoc
B23: G : 2-22 | C23: P : 18-33 | D23: P : 16-15 | E23: G : 37-12 | G23: P : 33-14 | L23: G : 28-16
A24: Dim 09/10/16 | I24: Cestas | J24: Le Teich 2 | K24: Asson
I25: P : 32-28 | J25: P : 17-16 | K25: P : 51-37
A26: Sam 15/10/16 | B26: Cestas | C26: ASPOM Bègles | D26: Lège CF | H26: Pessac | L26: Artigues
B27: G : 19-12 | C27: G : 30-21 | D27: P : 7-35 | H27: G : 38-15 | L27: N : 34-34
A28: Dim 16/10/16 | F28: Mérignac 2 | I28: Villenave 2 | K28: CA Bègles
F29: G : 17-40 | I29: N : 28-28 | K29: P : 39-21
A30: Sam 22/10/16 | F30: Mios-Big. 2 | L30: Gradignan
F31: G : | L31: 19h
A32: Dim 23/10/16 Loto du club
A35: Vacances Toussaint

Sheet Phase1 Nov-Déc
I3: PSG HB | J3: Match à domicile
I4: Montpellier | J4: Match à l'extérieur
B7: 11G | C7: 13F (1) | D7: 13F (2) | E7: 13G (1) | F7: 13G (2) | G7: 13G (3) | H7: 15G (1) | I7: 15G (2) | J7: 15G (3) | K7: 18G | L7: SG
B8: Brass.Général (poule F) | C8: Brassage Haut (poule A) | D8: Brass. Général (poule F) | E8: Brassage Haut (poule A) | F8: Brass.Général (poule E) | G8: Brass.Général (poule F) | H8: Brassage Haut (poule D) | I8: Brass.Général (poule G) | J8: Brass.Général (poule H) | K8: Région (poule A) | L8: Pré-Régional
A10: Sam 05/11/16 | C10: Belin-Beliet | D10: Cestas | F10: Léognan | G10: Le Barp | H10: Le Barp | I10: Talence | J10: Canéjan | K10: Brax-Villeneuve
C11: G : 22-24 | D11: P : 24-10 | F11: P : 14-37 | G11: P : 8-34 | H11: G : 41-13 | I11: G : 14-20 | J11: P : 24-10 | K11: P : 36-37
A12: Dim 06/11/16 | B12: Léognan | E12: Eysines
B13: N : 13-13 | E13: G : 9-55
A14: Sam 12/11/16 Halloween | B14: Talence | C14: Pessac | D14: Le Barp | F14: Mios-Biganos 2 | G14: Arcachon LT | H14: Le Teich | I14: Gradignan | J14: Arcachon LT | K14: Anglet-Biarritz | L14: Martignas
B15: P : 12-9 | C15: G : 15-25 | D15: P : 21-10 | F15: G : 37-7 | G15: P : 9-26 | H15: G : 9-33 | I15: G : 46-15 | J15: P: 13-35 | K15: P : 40-34 | L15: P : 28-29
A16: Dim 13/11/16 | E16: Le Teich
E17: G : 36-11
A18: Sam 19/11/16 | B18: Le Teich 2 | C18: Le Teich | D18: Le Teich 2 | E18: Médoc | F18: Cestas | G18: Le Teich 2 | H18: Mios-Biganos | I18: Mérignac 2 | J18: Créon 2 | K18: Montpon-Berg. | L18: Eysines 2
B19: G : 29-6 | C19: G : 19-8 | D19: G : 21-8 | E19: P : 19-17 | F19: P : 32-27 | G19: P : 23-16 | H19: G : 40-11 | I19: G : 13-25 | J19: P : forfait | K19: G : 33-27 | L19: P : 32-27
A20: Dim 20/11/16
A22: Sam 26/11/16 | B22: Gradignan 2 | C22: Mios-Biganos | D22: Arcachon LT | F22: Lormont 2 | G22: Mios-Biganos | J22: Belin-Beliet | L22: Blanquefort 2
B23: G : 30-3 | C23: P : 47-27 | D23: P : 12-17 | F23: G : 32-13 | G23: P : 14-26 | J23: P : 37-13 | L23: P : 39-17
A24: Dim 27/11/16
A26: Sam 03/12/16 | C26: ASPOM Bègles | D26: Lège CF | E26: Belin-Beliet | I26: Cestas | J26: Le Teich 2 | K26: Lormont
C27: P : 25-23 | D27: P : 16-13 | E27: G : 40-14 | I27: G : 29-22 | J27: G : 25-15 | K27: P : 26-37
A28: Dim 04/12/16 | B28: Cestas | F28: Mérignac 2 | G28: Lège-CF
B29: P : 24-23 | F29: G : forfait | G29: G : 28-23
A30: Sam 10/12/16 | B30: Léognan | C30: Belin-Beliet | D30: Cestas | E30: St-Médard EJ | F30: Léognan | G30: Le Barp | I30: Villenave 2
B31: G : 20-14 | C31: P : 20-23 | D31: G : 20-18 | E31: G : 11-24 | F31: P : 37-21 | G31: P : 23-15 | I31: G : 25-30
A32: Dim 11/12/16 Noël du Club | H32: Pessac | J32: Belin-Beliet | K32: Mont-de-Marsan | L32: Canéjan 2
H33: G : 14-45 | J33: G : 25-21 | K33: P : 34-32 | L33: P : 21-26

Sheet Phase2 Jan-Fév
J3: Paris-SG | K3: Match à domicile
J4: Montpellier | K4: Match à l'extérieur
B7: 11F | C7: 11G | D7: 13F (1) | E7: 13F (2) | F7: 13G (1) | G7: 13G (2) | H7: 13G (3) | I7: 15G (1) | J7: 15G (2) | K7: 15G (3) | L7: 18G | M7: SG
B8: Promotion (poule F) | C8: Honneur (poule E) | D8: Excellence (poule A) | E8: Promotion Exc. (poule H) | F8: Excellence (poule A) | G8: Promotion Exc. (poule G) | H8: Prom.Hon.Exc. (poule I) | I8: Excellence (poule A) | J8: Honneur (poule E) | K8: Promotion (poule K) | L8: Région (poule A) | M8: Pré-Régional
A10: Sam 07/01/17 | B10: Cestas 2 | C10: Gradignan | F10: Pessac | G10: Le Barp | I10: Bordeaux EC | J10: Canéjan | K10: Le Teich 2 | L10: Asson | M10: Le Teich
B11: P : 8-7 | C11: G : 19-11 | F11: G : 38-12 | G11: G : 22-23 | I11: G : 13-47 | J11: P : 25-26 | K11: G : 19-9 | L11: P : 35-43 | M11: N : 28-28
A12: Dim 08/01/17 | D12: Détections | H12: Artigues
D13: Mérignac 15h | H13: P : 24-11
A14: Sam 14/01/17 | L14: CA Bègles | M14: Ambarès
L15: P : 24-30 | M15: P : 26-39
A16: Dim 07/05/17 | F16: Forma Cup
A17: Plateau EHB Grands | F17: Bègles
A18: Sam 21/01/17 | B18: Villenave | D18: CA Bègles | E18: Villenave | I18: Libourne | J18: Bruges 2 | L18: Brax-Villeneuve | M18: Blaye
B19: G : 13-7 | D19: N : 26-26 | E19: G : 21-7 | I19: G : 29-21 | J19: P : 35-13 | L19: P: forfait | M19: P : 37-31
A20: Dim 22/01/17 | C20: Léognan | F20: Détections | K20: Ste-Hélène
C21: G : 14-22 | F21: Andernos 13h | K21: G : 10-27
A22: Sam 28/01/17
A24: Dim 29/01/17
A26: Sam 04/02/17 | C26: Mérignac | D26: Mérignac | E26: Arcachon-LT | F26: Lormont | G26: Pessac 2 | H26: Blanquefort | I26: Floirac-Cenon | J26: CA Bègles | K26: Eysines 2 | L26: Anglet-Biarritz | M26: Le Barp
C27: P : 16-14 | D27: P : 31-17 | E27: P : 10-9 | F27: G : 18-23 | G27: N : 22-22 | H27: P : 16-20 | I27: G : 22-30 | J27: P : 18-36 | K27: G : 30-3 | L27: G : 22-20 | M27: P : 33-34
A28: Dim 05/02/17 | B28: Le Teich
B29: N : 10-10
A30: Sam 11/02/17 Boum 13G/13F | B30: Arcachon-LT | C30: Martignas | D30: Mios-Biganos | E30: Arsac | I30: Bordeaux EC | J30: Médoc 2 | K30: Audenge | L30: Montpon-Berg. | M30: Médoc
B31: P : 10-8 | C31: G : 19-16 | D31: P : 43-25 | E31: G : 10-13 | I31: G : 43-10 | J31: G : 40-10 | K31: G : 35-9 | L31: P : 35-31 | M31: P : 25-20
A32: Dim 12/02/17 | F32: Créon | G32: Bdx Caudéran | H32: Eysines 2
F33: G : 31-18 | G33: G : 26-20 | H33: P : forfait

Sheet Calendrier Match
J3: Paris-SG | K3: Match à domicile
J4: Montpellier | K4: Match à l'extérieur
B7: 11F | C7: 11G(1) | D7: 11G(2) | E7: 13F | F7: 13G | G7: 13G(2) | H7: 15F | I7: 15G(1) | J7: 15G(2) | K7: 15G(3) | L7: 18G(1) | M7: 18G(2) | N7: SG(1) | O7: SG(2)
B8: Niveau Bas (poule D) | C8: Niveau Haut (poule B) | D8: Brass.Général (poule F) | E8: Niveau Haut | F8: Niveau Haut (poule C) | G8: Promotion (poule M) | H8: Niveau Haut (poule B) | I8: Niveau Haut (poule B) | J8: Brass.Général (poule L) | K8: Brass.Général (poule K) | L8: Niveau Haut (poule C) | M8: Brass. Général (poule F) | N8: Pré-Régional (poule B) | O8: Brass. Promotion (poule F)
A10: Sam 04/11/17 Haloween
A12: Dim 05/11/17 | G12: Gradignan
G13: 11h30
A14: Sam 11/11/17 | B14: Lège-CF | C14: CA Bègles | D14: Martignas (2) | F14: Cestas | H14: Belin-Beliet | J14: Le Teich (2) | M14: Mios-Biganos | N14: Gradignan | O14: Belin-Beliet (2)
B15: 16h30 | C15: 14h | D15: 16h15 | F15: 16h45 | H15: 15h15 | J15: 16h15 | M15: 18h15 | N15: 20h | O15: 20h
A16: Dim 12/11/17 | E16: Détections | G16: Détections ? | L16: Léognan
L17: 15h
A18: Sam 18/11/17 | B18: St-Médard-Ey.(2) | C18: ASPOM Bègles | F18: Le Teich | H18: Mios-Biganos | I18: Cestas | K18: Le Barp | L18: Arcachon-LT | M18: Belin-Beliet | N18: Martignas
B19: 14h | I19: 16h45 | K19: 15h15 | L19: 18h | M19: 18h15 | N19: 20h15
A20: Dim 19/11/17 | D20: Pessac (2) | E20: St-Médard-EJ | G20: Arsac | J20: Pessac (2) | O20: PE2M (3)
D21: 10h | E21: 11h | G21: 11h30 | J21: 16h | O21: 15h
A22: Sam 25/11/17 | E22: St-Loubès | F22: Le Barp | J22: Gradignan | K22: Le Teich | L22: Villenave (2) | M22: Arcachon (2)
E23: 14h | F23: 15h30 | J23: 18h30 | L23: 17h | M23: 19h
A24: Dim 26/11/17 | D24: Gradignan | H24: Le Teich | I24: Pessac
D25: 10h15 | H25: 11h30 | I25: 14h
A26: Sam 02/12/17 | B26: Le Teich | C26: Belin-Beliet | D26: Canéjan | E26: Mérignac | F26: Martignas | G26: Martignas | I26: Villenave | J26: Audenge | K26: Belin-Beliet | L26: Le Barp | M26: Le Teich (2)
F27: 14h | G27: 14h | I27: 17h | J27: 15h30 | M27: 18h30
A28: Dim 03/12/17 | N28: Bazas | O28: Mios-Biganos
N29: 16h | O29: 14h
A30: Sam 09/12/17 | D30: Lège-CF | E30: Mios-Biganos | F30: Belin-Beliet | G30: Belin-Beliet | H30: Lège-CF | I30: Arcachon-LT | J30: Mios-Big. (2) | K30: Mios-Biganos | L30: Le Teich | M30: Gradignan | N30: Girondins Bdx
D31: 14h | E31: 15h | H31: 13h30 | I31: 18h | K31: 16h30 | M31: 18h
A32: Dim 10/12/17 | B32: Mios-Biganos | C32: Le Barp
B33: 10h15 | C33: 11h30
A34: Sam 16/12/17 Noël du Club | D34: Martignas (2) | E34: ASPOM Bègles | H34: Belin-Beliet | J34: Le Teich(2) | L34: Léognan | M34: Mios-Biganos | N34: Léognan | O34: Floirac-Cenon
D35: 14h | J35: 15h15 | L35: 16h45 | N35: 20h30 | O35: 18h30
A36: Dim 17/12/17 | C36: CA Bègles | F36: Détections | G36: Détections
C37: 10h
A39: Vacances
A40: Tennis-de-Table

Sheet Semaine 1
K3: Paris-SG | L3: Match à domicile
K4: Montpellier | L4: Match à l'extérieur
B7: 11F | C7: 11G(1) | D7: 11G(2) | E7: 13F | F7: 13G | G7: 13G(2) | H7: 15F | I7: 15G(1) | J7: 15G(2) | K7: 15G(3) | L7: 18G(1) | M7: 18G(2) | N7: SG(1) | O7: SG(2)
B8: Niveau Bas (poule D) | C8: Niveau Haut (poule B) | D8: Brass.Général (poule F) | E8: Niveau Haut | F8: Niveau Haut (poule C) | G8: Promotion (poule M) | H8: Niveau Haut (poule B) | I8: Niveau Haut (poule B) | J8: Brass.Général (poule L) | K8: Brass.Général (poule K) | L8: Niveau Haut (poule C) | M8: Brass. Général (poule F) | N8: Pré-Régional (poule B) | O8: Brass. Promotion (poule F)
A10: ='Calendrier Match'!A10 -> Sam 04/11/17 Haloween | B10: ='Perm general'!B10 -> 0 | C10: ='Perm general'!C10 -> 0 | D10: ='Perm general'!D10 -> 0 | E10: ='Perm general'!E10 -> 0 | F10: ='Perm general'!F10 -> 0 | G10: ='Perm general'!G10 -> 0 | H10: ='Perm general'!H10 -> 0 | I10: ='Perm general'!I10 -> 0 | ... O10: ='Perm general'!O10 -> 0
B11: ='Perm general'!B11 -> 0 | C11: ='Perm general'!C11 -> 0 | D11: ='Perm general'!D11 -> 0 | E11: ='Perm general'!E11 -> 0 | F11: ='Perm general'!F11 -> 0 | G11: ='Perm general'!G11 -> 0 | H11: ='Perm general'!H11 -> 0 | I11: ='Perm general'!I11 -> 0 | ... O11: ='Perm general'!O11 -> 0
A12: table | B12: ='Perm general'!B12 -> 0 | C12: ='Perm general'!C12 -> 0 | D12: ='Perm general'!D12 -> 0 | E12: ='Perm general'!E12 -> 0 | F12: ='Perm general'!F12 -> 0 | G12: ='Perm general'!G12 -> 0 | H12: ='Perm general'!H12 -> 0 | I12: ='Perm general'!I12 -> 0 | ... O12: ='Perm general'!O12 -> 0
A13: table | B13: ='Perm general'!B13 -> 0 | C13: ='Perm general'!C13 -> 0 | D13: ='Perm general'!D13 -> 0 | E13: ='Perm general'!E13 -> 0 | F13: ='Perm general'!F13 -> 0 | G13: ='Perm general'!G13 -> 0 | H13: ='Perm general'!H13 -> 0 | I13: ='Perm general'!I13 -> 0 | ... O13: ='Perm general'!O13 -> 0
A14: buvette | B14: ='Perm general'!B14 -> 0 | C14: ='Perm general'!C14 -> 0 | D14: ='Perm general'!D14 -> 0 | E14: ='Perm general'!E14 -> 0 | F14: ='Perm general'!F14 -> 0 | G14: ='Perm general'!G14 -> 0 | H14: ='Perm general'!H14 -> 0 | I14: ='Perm general'!I14 -> 0 | ... O14: ='Perm general'!O14 -> 0
A15: police terrain | B15: ='Perm general'!B15 -> 0 | C15: ='Perm general'!C15 -> 0 | D15: ='Perm general'!D15 -> 0 | E15: ='Perm general'!E15 -> 0 | F15: ='Perm general'!F15 -> 0 | G15: ='Perm general'!H15 -> 0 | H15: ='Perm general'!H15 -> 0 | I15: ='Perm general'!I15 -> 0 | J15: ='Perm general'!J15 -> 0 | K15: ='Perm general'!K15 -> 0 | L15: ='Perm general'!L15 -> 0 | M15: ='Perm general'!M15 -> 0 | N15: ='Perm general'!N15 -> 0 | O15: ='Perm general'!O15 -> 0
A16: arbitre | B16: ='Perm general'!B16 -> 0 | C16: ='Perm general'!C16 -> 0 | D16: ='Perm general'!D16 -> 0 | E16: ='Perm general'!E16 -> 0 | F16: ='Perm general'!F16 -> 0 | G16: ='Perm general'!H16 -> 0 | H16: ='Perm general'!H16 -> 0 | I16: ='Perm general'!I16 -> 0 | J16: ='Perm general'!J16 -> 0 | K16: ='Perm general'!K16 -> 0 | L16: ='Perm general'!L16 -> 0 | M16: ='Perm general'!M16 -> 0 | N16: ='Perm general'!N16 -> 0 | O16: ='Perm general'!O16 -> 0
A17: ='Calendrier Match'!A12 -> Dim 05/11/17 | B17: ='Perm general'!B17 -> 0 | C17: ='Perm general'!C17 -> 0 | D17: ='Perm general'!D17 -> 0 | E17: ='Perm general'!E17 -> 0 | F17: ='Perm general'!F17 -> 0 | G17: ='Perm general'!G17 -> Gradignan | H17: ='Perm general'!H17 -> 0 | I17: ='Perm general'!I17 -> 0 | ... O17: ='Perm general'!O17 -> 0
B18: ='Perm general'!B18 -> 0 | C18: ='Perm general'!C18 -> 0 | D18: ='Perm general'!D18 -> 0 | E18: ='Perm general'!E18 -> 0 | F18: ='Perm general'!F18 -> 0 | G18: ='Perm general'!G18 -> 11h30 | H18: ='Perm general'!H18 -> 0 | I18: ='Perm general'!I18 -> 0 | ... O18: ='Perm general'!O18 -> 0
A19: table | B19: ='Perm general'!B19 -> 0 | C19: ='Perm general'!C19 -> 0 | D19: ='Perm general'!D19 -> 0 | E19: ='Perm general'!E19 -> 0 | F19: ='Perm general'!F19 -> 0 | G19: ='Perm general'!G19 -> 0 | H19: ='Perm general'!H19 -> 0 | I19: ='Perm general'!I19 -> 0 | ... O19: ='Perm general'!O19 -> 0
A20: table | B20: ='Perm general'!B20 -> 0 | C20: ='Perm general'!C20 -> 0 | D20: ='Perm general'!D20 -> 0 | E20: ='Perm general'!E20 -> 0 | F20: ='Perm general'!F20 -> 0 | G20: ='Perm general'!G20 -> 0 | H20: ='Perm general'!H20 -> 0 | I20: ='Perm general'!I20 -> 0 | ... O20: ='Perm general'!O20 -> 0
A21: buvette | B21: ='Perm general'!B21 -> 0 | C21: ='Perm general'!C21 -> 0 | D21: ='Perm general'!D21 -> 0 | E21: ='Perm general'!E21 -> 0 | F21: ='Perm general'!F21 -> 0 | G21: ='Perm general'!G21 -> 0 | H21: ='Perm general'!H21 -> 0 | I21: ='Perm general'!I21 -> 0 | ... O21: ='Perm general'!O21 -> 0
A22: police terrain | B22: ='Perm general'!B22 -> 0 | C22: ='Perm general'!C22 -> 0 | D22: ='Perm general'!D22 -> 0 | E22: ='Perm general'!E22 -> 0 | F22: ='Perm general'!F22 -> 0 | G22: ='Perm general'!H22 -> 0 | H22: ='Perm general'!H22 -> 0 | I22: ='Perm general'!I22 -> 0 | J22: ='Perm general'!J22 -> 0 | K22: ='Perm general'!K22 -> 0 | L22: ='Perm general'!L22 -> 0 | M22: ='Perm general'!M22 -> 0 | N22: ='Perm general'!N22 -> 0 | O22: ='Perm general'!O22 -> 0
A23: arbitre | B23: ='Perm general'!B23 -> 0 | C23: ='Perm general'!C23 -> 0 | D23: ='Perm general'!D23 -> 0 | E23: ='Perm general'!E23 -> 0 | F23: ='Perm general'!F23 -> 0 | G23: ='Perm general'!H23 -> 0 | H23: ='Perm general'!H23 -> 0 | I23: ='Perm general'!I23 -> 0 | J23: ='Perm general'!J23 -> 0 | K23: ='Perm general'!K23 -> 0 | L23: ='Perm general'!L23 -> 0 | M23: ='Perm general'!M23 -> 0 | N23: ='Perm general'!N23 -> 0 | O23: ='Perm general'!O23 -> 0

Sheet Semaine 2
K3: Paris-SG | L3: Match à domicile
K4: Montpellier | L4: Match à l'extérieur
B7: 11F | C7: 11G(1) | D7: 11G(2) | E7: 13F | F7: 13G | G7: 13G(2) | H7: 15F | I7: 15G(1) | J7: 15G(2) | K7: 15G(3) | L7: 18G(1) | M7: 18G(2) | N7: SG(1) | O7: SG(2)
B8: Niveau Bas (poule D) | C8: Niveau Haut (poule B) | D8: Brass.Général (poule F) | E8: Niveau Haut | F8: Niveau Haut (poule C) | G8: Promotion (poule M) | H8: Niveau Haut (poule B) | I8: Niveau Haut (poule B) | J8: Brass.Général (poule L) | K8: Brass.Général (poule K) | L8: Niveau Haut (poule C) | M8: Brass. Général (poule F) | N8: Pré-Régional (poule B) | O8: Brass. Promotion (poule F)
A10: ='Calendrier Match'!A14 -> Sam 11/11/17 | B10: ='Perm general'!B26 -> Lège-CF | C10: ='Perm general'!C26 -> CA Bègles | D10: ='Perm general'!D26 -> Martignas (2) | E10: ='Perm general'!E26 -> 0 | F10: ='Perm general'!F26 -> Cestas | G10: ='Perm general'!G26 -> 0 | H10: ='Perm general'!H26 -> Belin-Beliet | I10: ='Perm general'!I26 -> 0 | ... O10: ='Perm general'!O26 -> Belin-Beliet (2)
B11: ='Perm general'!B27 -> 16h30 | C11: ='Perm general'!C27 -> 14h | D11: ='Perm general'!D27 -> 16h15 | E11: ='Perm general'!E27 -> 0 | F11: ='Perm general'!F27 -> 16h45 | G11: ='Perm general'!G27 -> 0 | H11: ='Perm general'!H27 -> 15h15 | I11: ='Perm general'!I27 -> 0 | ... O11: ='Perm general'!O27 -> 20h
A12: table | B12: ='Perm general'!B28 -> 0 | C12: ='Perm general'!C28 -> 0 | D12: ='Perm general'!D28 -> 0 | E12: ='Perm general'!E28 -> 0 | F12: ='Perm general'!F28 -> 0 | G12: ='Perm general'!G28 -> 0 | H12: ='Perm general'!H28 -> 0 | I12: ='Perm general'!I28 -> 0 | ... O12: ='Perm general'!O28 -> 0
A13: table | B13: ='Perm general'!B29 -> 0 | C13: ='Perm general'!C29 -> 0 | D13: ='Perm general'!D29 -> 0 | E13: ='Perm general'!E29 -> 0 | F13: ='Perm general'!F29 -> 0 | G13: ='Perm general'!G29 -> 0 | H13: ='Perm general'!H29 -> 0 | I13: ='Perm general'!I29 -> 0 | ... O13: ='Perm general'!O29 -> 0
A14: buvette | B14: ='Perm general'!B30 -> 0 | C14: ='Perm general'!C30 -> 0 | D14: ='Perm general'!D30 -> 0 | E14: ='Perm general'!E30 -> 0 | F14: ='Perm general'!F30 -> 0 | G14: ='Perm general'!G30 -> 0 | H14: ='Perm general'!H30 -> 0 | I14: ='Perm general'!I30 -> 0 | ... O14: ='Perm general'!O30 -> 0
A15: police terrain | B15: ='Perm general'!B31 -> 0 | C15: ='Perm general'!C31 -> 0 | D15: ='Perm general'!D31 -> 0 | E15: ='Perm general'!E31 -> 0 | F15: ='Perm general'!F31 -> 0 | G15: ='Perm general'!G31 -> 0 | H15: ='Perm general'!H31 -> 0 | I15: ='Perm general'!I31 -> 0 | ... O15: ='Perm general'!O31 -> 0
A16: arbitre | B16: ='Perm general'!B32 -> 0 | C16: ='Perm general'!C32 -> 0 | D16: ='Perm general'!D32 -> 0 | E16: ='Perm general'!E32 -> 0 | F16: ='Perm general'!F32 -> 0 | G16: ='Perm general'!G32 -> 0 | H16: ='Perm general'!H32 -> 0 | I16: ='Perm general'!I32 -> 0 | ... O16: ='Perm general'!O32 -> 0
A17: ='Calendrier Match'!A16 -> Dim 12/11/17 | B17: ='Perm general'!B33 -> 0 | C17: ='Perm general'!C33 -> 0 | D17: ='Perm general'!D33 -> 0 | E17: ='Perm general'!E33 -> Détections | F17: ='Perm general'!F33 -> 0 | G17: ='Perm general'!G33 -> Détections ? | H17: ='Perm general'!H33 -> 0 | I17: ='Perm general'!I33 -> 0 | ... O17: ='Perm general'!O33 -> 0
B18: ='Perm general'!B34 -> 0 | C18: ='Perm general'!C34 -> 0 | D18: ='Perm general'!D34 -> 0 | E18: ='Perm general'!E34 -> 0 | F18: ='Perm general'!F34 -> 0 | G18: ='Perm general'!G34 -> 0 | H18: ='Perm general'!H34 -> 0 | I18: ='Perm general'!I34 -> 0 | ... O18: ='Perm general'!O34 -> 0
A19: table | B19: ='Perm general'!B35 -> 0 | C19: ='Perm general'!C35 -> 0 | D19: ='Perm general'!D35 -> 0 | E19: ='Perm general'!E35 -> 0 | F19: ='Perm general'!F35 -> 0 | G19: ='Perm general'!G35 -> 0 | H19: ='Perm general'!H35 -> 0 | I19: ='Perm general'!I35 -> 0 | ... O19: ='Perm general'!O35 -> 0
A20: table | B20: ='Perm general'!B36 -> 0 | C20: ='Perm general'!C36 -> 0 | D20: ='Perm general'!D36 -> 0 | E20: ='Perm general'!E36 -> 0 | F20: ='Perm general'!F36 -> 0 | G20: ='Perm general'!G36 -> 0 | H20: ='Perm general'!H36 -> 0 | I20: ='Perm general'!I36 -> 0 | ... O20: ='Perm general'!O36 -> 0
A21: buvette | B21: ='Perm general'!B37 -> 0 | C21: ='Perm general'!C37 -> 0 | D21: ='Perm general'!D37 -> 0 | E21: ='Perm general'!E37 -> 0 | F21: ='Perm general'!F37 -> 0 | G21: ='Perm general'!G37 -> 0 | H21: ='Perm general'!H37 -> 0 | I21: ='Perm general'!I37 -> 0 | ... O21: ='Perm general'!O37 -> 0
A22: police terrain | B22: ='Perm general'!B38 -> 0 | C22: ='Perm general'!C38 -> 0 | D22: ='Perm general'!D38 -> 0 | E22: ='Perm general'!E38 -> 0 | F22: ='Perm general'!F38 -> 0 | G22: ='Perm general'!H38 -> 0 | H22: ='Perm general'!H38 -> 0 | I22: ='Perm general'!I38 -> 0 | J22: ='Perm general'!J38 -> 0 | K22: ='Perm general'!K38 -> 0 | L22: ='Perm general'!L38 -> 0 | M22: ='Perm general'!M38 -> 0 | N22: ='Perm general'!N38 -> 0 | O22: ='Perm general'!O38 -> 0
A23: arbitre | B23: ='Perm general'!B39 -> 0 | C23: ='Perm general'!C39 -> 0 | D23: ='Perm general'!D39 -> 0 | E23: ='Perm general'!E39 -> 0 | F23: ='Perm general'!F39 -> 0 | G23: ='Perm general'!G39 -> 0 | H23: ='Perm general'!H39 -> 0 | I23: ='Perm general'!I39 -> 0 | ... O23: ='Perm general'!O39 -> 0

Sheet Semaine 3
K3: Paris-SG | L3: Match à domicile
K4: Montpellier | L4: Match à l'extérieur
B7: 11F | C7: 11G(1) | D7: 11G(2) | E7: 13F | F7: 13G | G7: 13G(2) | H7: 15F | I7: 15G(1) | J7: 15G(2) | K7: 15G(3) | L7: 18G(1) | M7: 18G(2) | N7: SG(1) | O7: SG(2)
B8: Niveau Bas (poule D) | C8: Niveau Haut (poule B) | D8: Brass.Général (poule F) | E8: Niveau Haut | F8: Niveau Haut (poule C) | G8: Promotion (poule M) | H8: Niveau Haut (poule B) | I8: Niveau Haut (poule B) | J8: Brass.Général (poule L) | K8: Brass.Général (poule K) | L8: Niveau Haut (poule C) | M8: Brass. Général (poule F) | N8: Pré-Régional (poule B) | O8: Brass. Promotion (poule F)
A10: ='Calendrier Match'!A18 -> Sam 18/11/17 | B10: ='Perm general'!B42 -> St-Médard-Ey.(2) | D10: ='Perm general'!D42 -> 0 | E10: ='Perm general'!E42 -> 0 | I10: ='Perm general'!I42 -> Cestas | J10: ='Perm general'!J42 -> 0 | K10: ='Perm general'!K42 -> Le Barp | M10: ='Perm general'!M42 -> Belin-Beliet | N10: ='Perm general'!N42 -> Martignas | O10: ='Perm general'!O42 -> 0
B11: ='Perm general'!B43 -> 14h | C11: ='Perm general'!C43 -> 0 | D11: ='Perm general'!D43 -> 0 | E11: ='Perm general'!E43 -> 0 | F11: ='Perm general'!F43 -> 0 | G11: ='Perm general'!H43 -> 0 | H11: ='Perm general'!H43 -> 0 | I11: ='Perm general'!I43 -> 16h45 | J11: ='Perm general'!J43 -> 0 | K11: ='Perm general'!K43 -> 15h15 | M11: ='Perm general'!M43 -> 18h15 | N11: ='Perm general'!N43 -> 20h15 | O11: ='Perm general'!O43 -> 0
A12: table | B12: ='Perm general'!B44 -> 0 | C12: ='Perm general'!C44 -> 0 | D12: ='Perm general'!D44 -> 0 | E12: ='Perm general'!E44 -> 0 | F12: ='Perm general'!F44 -> 0 | G12: ='Perm general'!H44 -> 0 | H12: ='Perm general'!H44 -> 0 | I12: ='Perm general'!I44 -> 0 | J12: ='Perm general'!J44 -> 0 | K12: ='Perm general'!K44 -> 0 | L12: ='Perm general'!L44 -> 0 | M12: ='Perm general'!M44 -> 0 | N12: ='Perm general'!N44 -> 0 | O12: ='Perm general'!O44 -> 0
A13: table | B13: ='Perm general'!B45 -> 0 | C13: ='Perm general'!C45 -> 0 | D13: ='Perm general'!D45 -> 0 | E13: ='Perm general'!E45 -> 0 | F13: ='Perm general'!F45 -> 0 | G13: ='Perm general'!H45 -> 0 | H13: ='Perm general'!H45 -> 0 | I13: ='Perm general'!I45 -> 0 | J13: ='Perm general'!J45 -> 0 | K13: ='Perm general'!K45 -> 0 | L13: ='Perm general'!L45 -> 0 | M13: ='Perm general'!M45 -> 0 | N13: ='Perm general'!N45 -> 0 | O13: ='Perm general'!O45 -> 0
A14: buvette | B14: ='Perm general'!B46 -> 0 | C14: ='Perm general'!C46 -> 0 | D14: ='Perm general'!D46 -> 0 | E14: ='Perm general'!E46 -> 0 | F14: ='Perm general'!F46 -> 0 | G14: ='Perm general'!H46 -> 0 | H14: ='Perm general'!H46 -> 0 | I14: ='Perm general'!I46 -> 0 | J14: ='Perm general'!J46 -> 0 | K14: ='Perm general'!K46 -> 0 | L14: ='Perm general'!L46 -> 0 | M14: ='Perm general'!M46 -> 0 | N14: ='Perm general'!N46 -> 0 | O14: ='Perm general'!O46 -> 0
A15: police terrain | B15: ='Perm general'!B47 -> 0 | C15: ='Perm general'!C47 -> 0 | D15: ='Perm general'!D47 -> 0 | E15: ='Perm general'!E47 -> 0 | F15: ='Perm general'!F47 -> 0 | G15: ='Perm general'!H47 -> 0 | H15: ='Perm general'!H47 -> 0 | I15: ='Perm general'!I47 -> 0 | J15: ='Perm general'!J47 -> 0 | K15: ='Perm general'!K47 -> 0 | L15: ='Perm general'!L47 -> 0 | M15: ='Perm general'!M47 -> 0 | N15: ='Perm general'!N47 -> 0 | O15: ='Perm general'!O47 -> 0
A16: arbitre | B16: ='Perm general'!B48 -> 0 | C16: ='Perm general'!C48 -> 0 | D16: ='Perm general'!D48 -> 0 | E16: ='Perm general'!E48 -> 0 | F16: ='Perm general'!F48 -> 0 | G16: ='Perm general'!H48 -> 0 | H16: ='Perm general'!H48 -> 0 | I16: ='Perm general'!I48 -> 0 | J16: ='Perm general'!J48 -> 0 | K16: ='Perm general'!K48 -> 0 | L16: ='Perm general'!L48 -> 0 | M16: ='Perm general'!M48 -> 0 | N16: ='Perm general'!N48 -> 0 | O16: ='Perm general'!O48 -> 0
A17: ='Calendrier Match'!A20 -> Dim 19/11/17 | B17: ='Perm general'!B49 -> 0 | C17: ='Perm general'!C49 -> 0
B18: ='Perm general'!B50 -> 0 | C18: ='Perm general'!C50 -> 0
A19: table | B19: ='Perm general'!B51 -> 0 | C19: ='Perm general'!C51 -> 0 | D19: ='Perm general'!D51 -> 0 | E19: ='Perm general'!E51 -> 0 | F19: ='Perm general'!F51 -> 0 | G19: ='Perm general'!H51 -> 0 | H19: ='Perm general'!H51 -> 0 | I19: ='Perm general'!I51 -> 0 | J19: ='Perm general'!J51 -> 0 | K19: ='Perm general'!K51 -> 0 | L19: ='Perm general'!L51 -> 0 | M19: ='Perm general'!M51 -> 0 | N19: ='Perm general'!N51 -> 0 | O19: ='Perm general'!O51 -> 0
A20: table | B20: ='Perm general'!B52 -> 0 | C20: ='Perm general'!C52 -> 0 | D20: ='Perm general'!D52 -> 0 | E20: ='Perm general'!E52 -> 0 | F20: ='Perm general'!F52 -> 0 | G20: ='Perm general'!H52 -> 0 | H20: ='Perm general'!H52 -> 0 | I20: ='Perm general'!I52 -> 0 | J20: ='Perm general'!J52 -> 0 | K20: ='Perm general'!K52 -> 0 | L20: ='Perm general'!L52 -> 0 | M20: ='Perm general'!M52 -> 0 | N20: ='Perm general'!N52 -> 0 | O20: ='Perm general'!O52 -> 0
A21: buvette | B21: ='Perm general'!B53 -> 0 | C21: ='Perm general'!C53 -> 0 | D21: ='Perm general'!D53 -> 0 | E21: ='Perm general'!E53 -> 0 | F21: ='Perm general'!F53 -> 0 | G21: ='Perm general'!H53 -> 0 | H21: ='Perm general'!H53 -> 0 | I21: ='Perm general'!I53 -> 0 | J21: ='Perm general'!J53 -> 0 | K21: ='Perm general'!K53 -> 0 | L21: ='Perm general'!L53 -> 0 | M21: ='Perm general'!M53 -> 0 | N21: ='Perm general'!N53 -> 0 | O21: ='Perm general'!O53 -> 0
A22: police terrain | B22: ='Perm general'!B54 -> 0 | C22: ='Perm general'!C54 -> 0 | D22: ='Perm general'!D54 -> 0 | E22: ='Perm general'!E54 -> 0 | F22: ='Perm general'!F54 -> 0 | G22: ='Perm general'!H54 -> 0 | H22: ='Perm general'!H54 -> 0 | I22: ='Perm general'!I54 -> 0 | J22: ='Perm general'!J54 -> 0 | K22: ='Perm general'!K54 -> 0 | L22: ='Perm general'!L54 -> 0 | M22: ='Perm general'!M54 -> 0 | N22: ='Perm general'!N54 -> 0 | O22: ='Perm general'!O54 -> 0
A23: arbitre | B23: ='Perm general'!B55 -> 0 | C23: ='Perm general'!C55 -> 0 | D23: ='Perm general'!D55 -> 0 | E23: ='Perm general'!E55 -> 0 | F23: ='Perm general'!F55 -> 0 | G23: ='Perm general'!H55 -> 0 | H23: ='Perm general'!H55 -> 0 | I23: ='Perm general'!I55 -> 0 | J23: ='Perm general'!J55 -> 0 | K23: ='Perm general'!K55 -> 0 | L23: ='Perm general'!L55 -> 0 | M23: ='Perm general'!M55 -> 0 | N23: ='Perm general'!N55 -> 0 | O23: ='Perm general'!O55 -> 0

Sheet Semaine 4
K3: Paris-SG | L3: Match à domicile
K4: Montpellier | L4: Match à l'extérieur
B7: 11F | C7: 11G(1) | D7: 11G(2) | E7: 13F | F7: 13G | G7: 13G(2) | H7: 15F | I7: 15G(1) | J7: 15G(2) | K7: 15G(3) | L7: 18G(1) | M7: 18G(2) | N7: SG(1) | O7: SG(2)
B8: Niveau Bas (poule D) | C8: Niveau Haut (poule B) | D8: Brass.Général (poule F) | E8: Niveau Haut | F8: Niveau Haut (poule C) | G8: Promotion (poule M) | H8: Niveau Haut (poule B) | I8: Niveau Haut (poule B) | J8: Brass.Général (poule L) | K8: Brass.Général (poule K) | L8: Niveau Haut (poule C) | M8: Brass. Général (poule F) | N8: Pré-Régional (poule B) | O8: Brass. Promotion (poule F)
A10: ='Calendrier Match'!A22 -> Sam 25/11/17 | B10: ='Perm general'!B58 -> 0 | C10: ='Perm general'!C58 -> 0 | D10: ='Perm general'!D58 -> 0 | E10: ='Perm general'!E58 -> St-Loubès | F10: ='Perm general'!F58 -> Le Barp | G10: ='Perm general'!H58 -> 0 | H10: ='Perm general'!H58 -> 0 | I10: ='Perm general'!I58 -> 0 | J10: ='Perm general'!J58 -> Gradignan | L10: ='Perm general'!L58 -> Villenave (2) | N10: ='Perm general'!N58 -> 0 | O10: ='Perm general'!O58 -> 0
B11: ='Perm general'!B59 -> 0 | C11: ='Perm general'!C59 -> 0 | D11: ='Perm general'!D59 -> 0 | E11: ='Perm general'!E59 -> 14h | F11: ='Perm general'!F59 -> 15h30 | G11: ='Perm general'!H59 -> 0 | H11: ='Perm general'!H59 -> 0 | I11: ='Perm general'!I59 -> 0 | J11: ='Perm general'!J59 -> 18h30 | K11: ='Perm general'!K59 -> 0 | L11: ='Perm general'!L59 -> 17h | N11: ='Perm general'!N59 -> 0 | O11: ='Perm general'!O59 -> 0
A12: table | B12: ='Perm general'!B60 -> 0 | C12: ='Perm general'!C60 -> 0 | D12: ='Perm general'!D60 -> 0 | E12: ='Perm general'!E60 -> 0 | F12: ='Perm general'!F60 -> 0 | G12: ='Perm general'!H60 -> 0 | H12: ='Perm general'!H60 -> 0 | I12: ='Perm general'!I60 -> 0 | J12: ='Perm general'!J60 -> 0 | K12: ='Perm general'!K60 -> 0 | L12: ='Perm general'!L60 -> 0 | M12: ='Perm general'!M60 -> 0 | N12: ='Perm general'!N60 -> 0 | O12: ='Perm general'!O60 -> 0
A13: table | B13: ='Perm general'!B61 -> 0 | C13: ='Perm general'!C61 -> 0 | D13: ='Perm general'!D61 -> 0 | E13: ='Perm general'!E61 -> 0 | F13: ='Perm general'!F61 -> 0 | G13: ='Perm general'!H61 -> 0 | H13: ='Perm general'!H61 -> 0 | I13: ='Perm general'!I61 -> 0 | J13: ='Perm general'!J61 -> 0 | K13: ='Perm general'!K61 -> 0 | L13: ='Perm general'!L61 -> 0 | M13: ='Perm general'!M61 -> 0 | N13: ='Perm general'!N61 -> 0 | O13: ='Perm general'!O61 -> 0
A14: buvette | B14: ='Perm general'!B62 -> 0 | C14: ='Perm general'!C62 -> 0 | D14: ='Perm general'!D62 -> 0 | E14: ='Perm general'!E62 -> 0 | F14: ='Perm general'!F62 -> 0 | G14: ='Perm general'!H62 -> 0 | H14: ='Perm general'!H62 -> 0 | I14: ='Perm general'!I62 -> 0 | J14: ='Perm general'!J62 -> 0 | K14: ='Perm general'!K62 -> 0 | L14: ='Perm general'!L62 -> 0 | M14: ='Perm general'!M62 -> 0 | N14: ='Perm general'!N62 -> 0 | O14: ='Perm general'!O62 -> 0
A15: police terrain | B15: ='Perm general'!B63 -> 0 | C15: ='Perm general'!C63 -> 0 | D15: ='Perm general'!D63 -> 0 | E15: ='Perm general'!E63 -> 0 | F15: ='Perm general'!F63 -> 0 | G15: ='Perm general'!H63 -> 0 | H15: ='Perm general'!H63 -> 0 | I15: ='Perm general'!I63 -> 0 | J15: ='Perm general'!J63 -> 0 | K15: ='Perm general'!K63 -> 0 | L15: ='Perm general'!L63 -> 0 | M15: ='Perm general'!M63 -> 0 | N15: ='Perm general'!N63 -> 0 | O15: ='Perm general'!O63 -> 0
A16: arbitre | B16: ='Perm general'!B64 -> 0 | C16: ='Perm general'!C64 -> 0 | D16: ='Perm general'!D64 -> 0 | E16: ='Perm general'!E64 -> 0 | F16: ='Perm general'!F64 -> 0 | G16: ='Perm general'!H64 -> 0 | H16: ='Perm general'!H64 -> 0 | I16: ='Perm general'!I64 -> 0 | J16: ='Perm general'!J64 -> 0 | K16: ='Perm general'!K64 -> 0 | L16: ='Perm general'!L64 -> 0 | M16: ='Perm general'!M64 -> 0 | N16: ='Perm general'!N64 -> 0 | O16: ='Perm general'!O64 -> 0
A17: ='Calendrier Match'!A24 -> Dim 26/11/17 | B17: ='Perm general'!B65 -> 0 | C17: ='Perm general'!C65 -> 0 | D17: ='Perm general'!D65 -> Gradignan | E17: ='Perm general'!E65 -> 0 | F17: ='Perm general'!F65 -> 0 | G17: ='Perm general'!H65 -> Le Teich | H17: ='Perm general'!H65 -> Le Teich | J17: ='Perm general'!J65 -> 0 | K17: ='Perm general'!K65 -> 0 | L17: ='Perm general'!L65 -> 0 | M17: ='Perm general'!M65 -> 0 | N17: ='Perm general'!N65 -> 0 | O17: ='Perm general'!O65 -> 0
B18: ='Perm general'!B66 -> 0 | C18: ='Perm general'!C66 -> 0 | D18: ='Perm general'!D66 -> 10h15 | E18: ='Perm general'!E66 -> 0 | F18: ='Perm general'!F66 -> 0 | G18: ='Perm general'!H66 -> 11h30 | H18: ='Perm general'!H66 -> 11h30 | J18: ='Perm general'!J66 -> 0 | K18: ='Perm general'!K66 -> 0 | L18: ='Perm general'!L66 -> 0 | M18: ='Perm general'!M66 -> 0 | N18: ='Perm general'!N66 -> 0 | O18: ='Perm general'!O66 -> 0
A19: table | B19: ='Perm general'!B67 -> 0 | C19: ='Perm general'!C67 -> 0 | D19: ='Perm general'!D67 -> 0 | E19: ='Perm general'!E67 -> 0 | F19: ='Perm general'!F67 -> 0 | G19: ='Perm general'!H67 -> 0 | H19: ='Perm general'!H67 -> 0 | I19: ='Perm general'!I67 -> 0 | J19: ='Perm general'!J67 -> 0 | K19: ='Perm general'!K67 -> 0 | L19: ='Perm general'!L67 -> 0 | M19: ='Perm general'!M67 -> 0 | N19: ='Perm general'!N67 -> 0 | O19: ='Perm general'!O67 -> 0
A20: table | B20: ='Perm general'!B68 -> 0 | C20: ='Perm general'!C68 -> 0 | D20: ='Perm general'!D68 -> 0 | E20: ='Perm general'!E68 -> 0 | F20: ='Perm general'!F68 -> 0 | G20: ='Perm general'!H68 -> 0 | H20: ='Perm general'!H68 -> 0 | I20: ='Perm general'!I68 -> 0 | J20: ='Perm general'!J68 -> 0 | K20: ='Perm general'!K68 -> 0 | L20: ='Perm general'!L68 -> 0 | M20: ='Perm general'!M68 -> 0 | N20: ='Perm general'!N68 -> 0 | O20: ='Perm general'!O68 -> 0
A21: buvette | B21: ='Perm general'!B69 -> 0 | C21: ='Perm general'!C69 -> 0 | D21: ='Perm general'!D69 -> 0 | E21: ='Perm general'!E69 -> 0 | F21: ='Perm general'!F69 -> 0 | G21: ='Perm general'!H69 -> 0 | H21: ='Perm general'!H69 -> 0 | I21: ='Perm general'!I69 -> 0 | J21: ='Perm general'!J69 -> 0 | K21: ='Perm general'!K69 -> 0 | L21: ='Perm general'!L69 -> 0 | M21: ='Perm general'!M69 -> 0 | N21: ='Perm general'!N69 -> 0 | O21: ='Perm general'!O69 -> 0
A22: police terrain | B22: ='Perm general'!B70 -> 0 | C22: ='Perm general'!C70 -> 0 | D22: ='Perm general'!D70 -> 0 | E22: ='Perm general'!E70 -> 0 | F22: ='Perm general'!F70 -> 0 | G22: ='Perm general'!H70 -> 0 | H22: ='Perm general'!H70 -> 0 | I22: ='Perm general'!I70 -> 0 | J22: ='Perm general'!J70 -> 0 | K22: ='Perm general'!K70 -> 0 | L22: ='Perm general'!L70 -> 0 | M22: ='Perm general'!M70 -> 0 | N22: ='Perm general'!N70 -> 0 | O22: ='Perm general'!O70 -> 0
A23: arbitre | B23: ='Perm general'!B71 -> 0 | C23: ='Perm general'!C71 -> 0 | D23: ='Perm general'!D71 -> 0 | E23: ='Perm general'!E71 -> 0 | F23: ='Perm general'!F71 -> 0 | G23: ='Perm general'!H71 -> 0 | H23: ='Perm general'!H71 -> 0 | I23: ='Perm general'!I71 -> 0 | J23: ='Perm general'!J71 -> 0 | K23: ='Perm general'!K71 -> 0 | L23: ='Perm general'!L71 -> 0 | M23: ='Perm general'!M71 -> 0 | N23: ='Perm general'!N71 -> 0 | O23: ='Perm general'!O71 -> 0

Sheet Semaine 5
K3: Paris-SG | L3: Match à domicile
K4: Montpellier | L4: Match à l'extérieur
B7: 11F | C7: 11G(1) | D7: 11G(2) | E7: 13F | F7: 13G | G7: 13G(2) | H7: 15F | I7: 15G(1) | J7: 15G(2) | K7: 15G(3) | L7: 18G(1) | M7: 18G(2) | N7: SG(1) | O7: SG(2)
B8: Niveau Bas (poule D) | C8: Niveau Haut (poule B) | D8: Brass.Général (poule F) | E8: Niveau Haut | F8: Niveau Haut (poule C) | G8: Promotion (poule M) | H8: Niveau Haut (poule B) | I8: Niveau Haut (poule B) | J8: Brass.Général (poule L) | K8: Brass.Général (poule K) | L8: Niveau Haut (poule C) | M8: Brass. Général (poule F) | N8: Pré-Régional (poule B) | O8: Brass. Promotion (poule F)
A10: ='Calendrier Match'!A26 -> Sam 02/12/17 | B10: ='Perm general'!B74 -> 0 | C10: ='Perm general'!C74 -> 0 | D10: ='Perm general'!D74 -> 0 | E10: ='Perm general'!E74 -> 0 | F10: ='Perm general'!F74 -> Martignas | G10: ='Perm general'!H74 -> 0 | H10: ='Perm general'!H74 -> 0 | I10: ='Perm general'!I74 -> Villenave | J10: ='Perm general'!J74 -> Audenge | K10: ='Perm general'!K74 -> 0 | L10: ='Perm general'!L74 -> 0 | M10: ='Perm general'!M74 -> Le Teich (2) | N10: ='Perm general'!N74 -> 0 | O10: ='Perm general'!O74 -> 0
B11: ='Perm general'!B75 -> 0 | C11: ='Perm general'!C75 -> 0 | D11: ='Perm general'!D75 -> 0 | E11: ='Perm general'!E75 -> 0 | F11: ='Perm general'!F75 -> 14h | G11: ='Perm general'!H75 -> 0 | H11: ='Perm general'!H75 -> 0 | I11: 15h30 | J11: 17h | K11: ='Perm general'!K75 -> 0 | L11: ='Perm general'!L75 -> 0 | M11: ='Perm general'!M75 -> 18h30 | N11: ='Perm general'!N75 -> 0 | O11: ='Perm general'!O75 -> 0
A12: table | B12: ='Perm general'!B76 -> 0 | C12: ='Perm general'!C76 -> 0 | D12: ='Perm general'!D76 -> 0 | E12: ='Perm general'!E76 -> 0 | F12: ='Perm general'!F76 -> 0 | G12: ='Perm general'!H76 -> 0 | H12: ='Perm general'!H76 -> 0 | I12: ='Perm general'!I76 -> 0 | J12: ='Perm general'!J76 -> 0 | K12: ='Perm general'!K76 -> 0 | L12: ='Perm general'!L76 -> 0 | M12: ='Perm general'!M76 -> 0 | N12: ='Perm general'!N76 -> 0 | O12: ='Perm general'!O76 -> 0
A13: table | B13: ='Perm general'!B77 -> 0 | C13: ='Perm general'!C77 -> 0 | D13: ='Perm general'!D77 -> 0 | E13: ='Perm general'!E77 -> 0 | F13: ='Perm general'!F77 -> 0 | G13: ='Perm general'!H77 -> 0 | H13: ='Perm general'!H77 -> 0 | I13: ='Perm general'!I77 -> 0 | J13: ='Perm general'!J77 -> 0 | K13: ='Perm general'!K77 -> 0 | L13: ='Perm general'!L77 -> 0 | M13: ='Perm general'!M77 -> 0 | N13: ='Perm general'!N77 -> 0 | O13: ='Perm general'!O77 -> 0
A14: buvette | B14: ='Perm general'!B78 -> 0 | C14: ='Perm general'!C78 -> 0 | D14: ='Perm general'!D78 -> 0 | E14: ='Perm general'!E78 -> 0 | F14: ='Perm general'!F78 -> 0 | G14: ='Perm general'!H78 -> 0 | H14: ='Perm general'!H78 -> 0 | I14: ='Perm general'!I78 -> 0 | J14: ='Perm general'!J78 -> 0 | K14: ='Perm general'!K78 -> 0 | L14: ='Perm general'!L78 -> 0 | M14: ='Perm general'!M78 -> 0 | N14: ='Perm general'!N78 -> 0 | O14: ='Perm general'!O78 -> 0
A15: police terrain | B15: ='Perm general'!B79 -> 0 | C15: ='Perm general'!C79 -> 0 | D15: ='Perm general'!D79 -> 0 | E15: ='Perm general'!E79 -> 0 | F15: ='Perm general'!F79 -> 0 | G15: ='Perm general'!H79 -> 0 | H15: ='Perm general'!H79 -> 0 | I15: ='Perm general'!I79 -> 0 | J15: ='Perm general'!J79 -> 0 | K15: ='Perm general'!K79 -> 0 | L15: ='Perm general'!L79 -> 0 | M15: ='Perm general'!M79 -> 0 | N15: ='Perm general'!N79 -> 0 | O15: ='Perm general'!O79 -> 0
A16: arbitre | B16: ='Perm general'!B80 -> 0 | C16: ='Perm general'!C80 -> 0 | D16: ='Perm general'!D80 -> 0 | E16: ='Perm general'!E80 -> 0 | F16: ='Perm general'!F80 -> 0 | G16: ='Perm general'!H80 -> 0 | H16: ='Perm general'!H80 -> 0 | I16: ='Perm general'!I80 -> 0 | J16: ='Perm general'!J80 -> 0 | K16: ='Perm general'!K80 -> 0 | L16: ='Perm general'!L80 -> 0 | M16: ='Perm general'!M80 -> 0 | N16: ='Perm general'!N80 -> 0 | O16: ='Perm general'!O80 -> 0
A17: ='Calendrier Match'!A28 -> Dim 03/12/17 | B17: ='Perm general'!B81 -> 0 | C17: ='Perm general'!C81 -> 0 | D17: ='Perm general'!D81 -> 0 | E17: ='Perm general'!E81 -> 0 | F17: ='Perm general'!F81 -> 0 | G17: ='Perm general'!H81 -> 0 | H17: ='Perm general'!H81 -> 0 | I17: ='Perm general'!I81 -> 0 | J17: ='Perm general'!J81 -> 0 | K17: ='Perm general'!K81 -> 0 | L17: ='Perm general'!L81 -> 0 | M17: ='Perm general'!M81 -> 0 | N17: ='Perm general'!N81 -> Bazas | O17: ='Perm general'!O81 -> Mios-Biganos
B18: ='Perm general'!B82 -> 0 | C18: ='Perm general'!C82 -> 0 | D18: ='Perm general'!D82 -> 0 | E18: ='Perm general'!E82 -> 0 | F18: ='Perm general'!F82 -> 0 | G18: ='Perm general'!H82 -> 0 | H18: ='Perm general'!H82 -> 0 | I18: ='Perm general'!I82 -> 0 | J18: ='Perm general'!J82 -> 0 | K18: ='Perm general'!K82 -> 0 | L18: ='Perm general'!L82 -> 0 | M18: ='Perm general'!M82 -> 0 | N18: ='Perm general'!N82 -> 16h | O18: ='Perm general'!O82 -> 14h
A19: table | B19: ='Perm general'!B83 -> 0 | C19: ='Perm general'!C83 -> 0 | D19: ='Perm general'!D83 -> 0 | E19: ='Perm general'!E83 -> 0 | F19: ='Perm general'!F83 -> 0 | G19: ='Perm general'!H83 -> 0 | H19: ='Perm general'!H83 -> 0 | I19: ='Perm general'!I83 -> 0 | J19: ='Perm general'!J83 -> 0 | K19: ='Perm general'!K83 -> 0 | L19: ='Perm general'!L83 -> 0 | M19: ='Perm general'!M83 -> 0 | N19: ='Perm general'!N83 -> 0 | O19: ='Perm general'!O83 -> 0
A20: table | B20: ='Perm general'!B84 -> 0 | C20: ='Perm general'!C84 -> 0 | D20: ='Perm general'!D84 -> 0 | E20: ='Perm general'!E84 -> 0 | F20: ='Perm general'!F84 -> 0 | G20: ='Perm general'!H84 -> 0 | H20: ='Perm general'!H84 -> 0 | I20: ='Perm general'!I84 -> 0 | J20: ='Perm general'!J84 -> 0 | K20: ='Perm general'!K84 -> 0 | L20: ='Perm general'!L84 -> 0 | M20: ='Perm general'!M84 -> 0 | N20: ='Perm general'!N84 -> 0 | O20: ='Perm general'!O84 -> 0
A21: buvette | B21: ='Perm general'!B85 -> 0 | C21: ='Perm general'!C85 -> 0 | D21: ='Perm general'!D85 -> 0 | E21: ='Perm general'!E85 -> 0 | F21: ='Perm general'!F85 -> 0 | G21: ='Perm general'!H85 -> 0 | H21: ='Perm general'!H85 -> 0 | I21: ='Perm general'!I85 -> 0 | J21: ='Perm general'!J85 -> 0 | K21: ='Perm general'!K85 -> 0 | L21: ='Perm general'!L85 -> 0 | M21: ='Perm general'!M85 -> 0 | N21: ='Perm general'!N85 -> 0 | O21: ='Perm general'!O85 -> 0
A22: police terrain | B22: ='Perm general'!B86 -> 0 | C22: ='Perm general'!C86 -> 0 | D22: ='Perm general'!D86 -> 0 | E22: ='Perm general'!E86 -> 0 | F22: ='Perm general'!F86 -> 0 | G22: ='Perm general'!H86 -> 0 | H22: ='Perm general'!H86 -> 0 | I22: ='Perm general'!I86 -> 0 | J22: ='Perm general'!J86 -> 0 | K22: ='Perm general'!K86 -> 0 | L22: ='Perm general'!L86 -> 0 | M22: ='Perm general'!M86 -> 0 | N22: ='Perm general'!N86 -> 0 | O22: ='Perm general'!O86 -> 0
A23: arbitre | B23: ='Perm general'!B87 -> 0 | C23: ='Perm general'!C87 -> 0 | D23: ='Perm general'!D87 -> 0 | E23: ='Perm general'!E87 -> 0 | F23: ='Perm general'!F87 -> 0 | G23: ='Perm general'!H87 -> 0 | H23: ='Perm general'!H87 -> 0 | I23: ='Perm general'!I87 -> 0 | J23: ='Perm general'!J87 -> 0 | K23: ='Perm general'!K87 -> 0 | L23: ='Perm general'!L87 -> 0 | M23: ='Perm general'!M87 -> 0 | N23: ='Perm general'!N87 -> 0 | O23: ='Perm general'!O87 -> 0

Sheet Semaine 6
K3: Paris-SG | L3: Match à domicile
K4: Montpellier | L4: Match à l'extérieur
B7: 11F | C7: 11G(1) | D7: 11G(2) | E7: 13F | F7: 13G | G7: 13G(2) | H7: 15F | I7: 15G(1) | J7: 15G(2) | K7: 15G(3) | L7: 18G(1) | M7: 18G(2) | N7: SG(1) | O7: SG(2)
B8: Niveau Bas (poule D) | C8: Niveau Haut (poule B) | D8: Brass.Général (poule F) | E8: Niveau Haut | F8: Niveau Haut (poule C) | G8: Promotion (poule M) | H8: Niveau Haut (poule B) | I8: Niveau Haut (poule B) | J8: Brass.Général (poule L) | K8: Brass.Général (poule K) | L8: Niveau Haut (poule C) | M8: Brass. Général (poule F) | N8: Pré-Régional (poule B) | O8: Brass. Promotion (poule F)
A10: ='Calendrier Match'!A30 -> Sam 09/12/17 | B10: ='Perm general'!B90 -> 0 | C10: ='Perm general'!C90 -> 0 | D10: ='Perm general'!D90 -> 0 | E10: ='Perm general'!E90 -> Mios-Biganos | F10: ='Perm general'!F90 -> 0 | G10: ='Perm general'!H90 -> Lège-CF | H10: ='Perm general'!H90 -> Lège-CF | I10: ='Perm general'!I90 -> 0 | J10: ='Perm general'!J90 -> 0 | K10: ='Perm general'!K90 -> Mios-Biganos | L10: ='Perm general'!L90 -> 0 | M10: ='Perm general'!M90 -> Gradignan | N10: ='Perm general'!N90 -> 0 | O10: ='Perm general'!O90 -> 0
B11: ='Perm general'!B91 -> 0 | C11: ='Perm general'!C91 -> 0 | D11: ='Perm general'!D91 -> 0 | E11: ='Perm general'!E91 -> 15h | F11: ='Perm general'!F91 -> 0 | G11: ='Perm general'!H91 -> 13h30 | H11: ='Perm general'!H91 -> 13h30 | I11: ='Perm general'!I91 -> 0 | J11: ='Perm general'!J91 -> 0 | K11: ='Perm general'!K91 -> 16h30 | L11: ='Perm general'!L91 -> 0 | M11: ='Perm general'!M91 -> 18h | N11: ='Perm general'!N91 -> 0 | O11: ='Perm general'!O91 -> 0
A12: table | B12: ='Perm general'!B92 -> 0 | C12: ='Perm general'!C92 -> 0 | D12: ='Perm general'!D92 -> 0 | E12: ='Perm general'!E92 -> 0 | F12: ='Perm general'!F92 -> 0 | G12: ='Perm general'!H92 -> 0 | H12: ='Perm general'!H92 -> 0 | I12: ='Perm general'!I92 -> 0 | J12: ='Perm general'!J92 -> 0 | K12: ='Perm general'!K92 -> 0 | L12: ='Perm general'!L92 -> 0 | M12: ='Perm general'!M92 -> 0 | N12: ='Perm general'!N92 -> 0 | O12: ='Perm general'!O92 -> 0
A13: table | B13: ='Perm general'!B93 -> 0 | C13: ='Perm general'!C93 -> 0 | D13: ='Perm general'!D93 -> 0 | E13: ='Perm general'!E93 -> 0 | F13: ='Perm general'!F93 -> 0 | G13: ='Perm general'!H93 -> 0 | H13: ='Perm general'!H93 -> 0 | I13: ='Perm general'!I93 -> 0 | J13: ='Perm general'!J93 -> 0 | K13: ='Perm general'!K93 -> 0 | L13: ='Perm general'!L93 -> 0 | M13: ='Perm general'!M93 -> 0 | N13: ='Perm general'!N93 -> 0 | O13: ='Perm general'!O93 -> 0
A14: buvette | B14: ='Perm general'!B94 -> 0 | C14: ='Perm general'!C94 -> 0 | D14: ='Perm general'!D94 -> 0 | E14: ='Perm general'!E94 -> 0 | F14: ='Perm general'!F94 -> 0 | G14: ='Perm general'!H94 -> 0 | H14: ='Perm general'!H94 -> 0 | I14: ='Perm general'!I94 -> 0 | J14: ='Perm general'!J94 -> 0 | K14: ='Perm general'!K94 -> 0 | L14: ='Perm general'!L94 -> 0 | M14: ='Perm general'!M94 -> 0 | N14: ='Perm general'!N94 -> 0 | O14: ='Perm general'!O94 -> 0
A15: police terrain | B15: ='Perm general'!B95 -> 0 | C15: ='Perm general'!C95 -> 0 | D15: ='Perm general'!D95 -> 0 | E15: ='Perm general'!E95 -> 0 | F15: ='Perm general'!F95 -> 0 | G15: ='Perm general'!H95 -> 0 | H15: ='Perm general'!H95 -> 0 | I15: ='Perm general'!I95 -> 0 | J15: ='Perm general'!J95 -> 0 | K15: ='Perm general'!K95 -> 0 | L15: ='Perm general'!L95 -> 0 | M15: ='Perm general'!M95 -> 0 | N15: ='Perm general'!N95 -> 0 | O15: ='Perm general'!O95 -> 0
A16: arbitre | B16: ='Perm general'!B96 -> 0 | C16: ='Perm general'!C96 -> 0 | D16: ='Perm general'!D96 -> 0 | E16: ='Perm general'!E96 -> 0 | F16: ='Perm general'!F96 -> 0 | G16: ='Perm general'!H96 -> 0 | H16: ='Perm general'!H96 -> 0 | I16: ='Perm general'!I96 -> 0 | J16: ='Perm general'!J96 -> 0 | K16: ='Perm general'!K96 -> 0 | L16: ='Perm general'!L96 -> 0 | M16: ='Perm general'!M96 -> 0 | N16: ='Perm general'!N96 -> 0 | O16: ='Perm general'!O96 -> 0
A17: ='Calendrier Match'!A32 -> Dim 10/12/17 | B17: ='Perm general'!B97 -> Mios-Biganos | C17: ='Perm general'!C97 -> Le Barp | D17: ='Perm general'!D97 -> 0 | E17: ='Perm general'!E97 -> 0 | F17: ='Perm general'!F97 -> 0 | G17: ='Perm general'!H97 -> 0 | H17: ='Perm general'!H97 -> 0 | I17: ='Perm general'!I97 -> 0 | J17: ='Perm general'!J97 -> 0 | K17: ='Perm general'!K97 -> 0 | L17: ='Perm general'!L97 -> 0 | M17: ='Perm general'!M97 -> 0 | N17: ='Perm general'!N97 -> 0 | O17: ='Perm general'!O97 -> 0
B18: ='Perm general'!B98 -> 10h15 | C18: ='Perm general'!C98 -> 11h30 | D18: ='Perm general'!D98 -> 0 | E18: ='Perm general'!E98 -> 0 | F18: ='Perm general'!F98 -> 0 | G18: ='Perm general'!H98 -> 0 | H18: ='Perm general'!H98 -> 0 | I18: ='Perm general'!I98 -> 0 | J18: ='Perm general'!J98 -> 0 | K18: ='Perm general'!K98 -> 0 | L18: ='Perm general'!L98 -> 0 | M18: ='Perm general'!M98 -> 0 | N18: ='Perm general'!N98 -> 0 | O18: ='Perm general'!O98 -> 0
A19: table | B19: ='Perm general'!B99 -> 0 | C19: ='Perm general'!C99 -> 0 | D19: ='Perm general'!D99 -> 0 | E19: ='Perm general'!E99 -> 0 | F19: ='Perm general'!F99 -> 0 | G19: ='Perm general'!H99 -> 0 | H19: ='Perm general'!H99 -> 0 | I19: ='Perm general'!I99 -> 0 | J19: ='Perm general'!J99 -> 0 | K19: ='Perm general'!K99 -> 0 | L19: ='Perm general'!L99 -> 0 | M19: ='Perm general'!M99 -> 0 | N19: ='Perm general'!N99 -> 0 | O19: ='Perm general'!O99 -> 0
A20: table | B20: ='Perm general'!B100 -> 0 | C20: ='Perm general'!C100 -> 0 | D20: ='Perm general'!D100 -> 0 | E20: ='Perm general'!E100 -> 0 | F20: ='Perm general'!F100 -> 0 | G20: ='Perm general'!H100 -> 0 | H20: ='Perm general'!H100 -> 0 | I20: ='Perm general'!I100 -> 0 | J20: ='Perm general'!J100 -> 0 | K20: ='Perm general'!K100 -> 0 | L20: ='Perm general'!L100 -> 0 | M20: ='Perm general'!M100 -> 0 | N20: ='Perm general'!N100 -> 0 | O20: ='Perm general'!O100 -> 0
A21: buvette | B21: ='Perm general'!B101 -> 0 | C21: ='Perm general'!C101 -> 0 | D21: ='Perm general'!D101 -> 0 | E21: ='Perm general'!E101 -> 0 | F21: ='Perm general'!F101 -> 0 | G21: ='Perm general'!H101 -> 0 | H21: ='Perm general'!H101 -> 0 | I21: ='Perm general'!I101 -> 0 | J21: ='Perm general'!J101 -> 0 | K21: ='Perm general'!K101 -> 0 | L21: ='Perm general'!L101 -> 0 | M21: ='Perm general'!M101 -> 0 | N21: ='Perm general'!N101 -> 0 | O21: ='Perm general'!O101 -> 0
A22: police terrain | B22: ='Perm general'!B102 -> 0 | C22: ='Perm general'!C102 -> 0 | D22: ='Perm general'!D102 -> 0 | E22: ='Perm general'!E102 -> 0 | F22: ='Perm general'!F102 -> 0 | G22: ='Perm general'!H102 -> 0 | H22: ='Perm general'!H102 -> 0 | I22: ='Perm general'!I102 -> 0 | J22: ='Perm general'!J102 -> 0 | K22: ='Perm general'!K102 -> 0 | L22: ='Perm general'!L102 -> 0 | M22: ='Perm general'!M102 -> 0 | N22: ='Perm general'!N102 -> 0 | O22: ='Perm general'!O102 -> 0
A23: arbitre | B23: ='Perm general'!B103 -> 0 | C23: ='Perm general'!C103 -> 0 | D23: ='Perm general'!D103 -> 0 | E23: ='Perm general'!E103 -> 0 | F23: ='Perm general'!F103 -> 0 | G23: ='Perm general'!H103 -> 0 | H23: ='Perm general'!H103 -> 0 | I23: ='Perm general'!I103 -> 0 | J23: ='Perm general'!J103 -> 0 | K23: ='Perm general'!K103 -> 0 | L23: ='Perm general'!L103 -> 0 | M23: ='Perm general'!M103 -> 0 | N23: ='Perm general'!N103 -> 0 | O23: ='Perm general'!O103 -> 0

Sheet Semaine 7
K3: Paris-SG | L3: Match à domicile
K4: Montpellier | L4: Match à l'extérieur
B7: 11F | C7: 11G(1) | D7: 11G(2) | E7: 13F | F7: 13G | G7: 13G(2) | H7: 15F | I7: 15G(1) | J7: 15G(2) | K7: 15G(3) | L7: 18G(1) | M7: 18G(2) | N7: SG(1) | O7: SG(2)
B8: Niveau Bas (poule D) | C8: Niveau Haut (poule B) | D8: Brass.Général (poule F) | E8: Niveau Haut | F8: Niveau Haut (poule C) | G8: Promotion (poule M) | H8: Niveau Haut (poule B) | I8: Niveau Haut (poule B) | J8: Brass.Général (poule L) | K8: Brass.Général (poule K) | L8: Niveau Haut (poule C) | M8: Brass. Général (poule F) | N8: Pré-Régional (poule B) | O8: Brass. Promotion (poule F)
A10: ='Calendrier Match'!A34 -> Sam 16/12/17 Noël du Club | B10: ='Perm general'!B106 -> 0 | C10: ='Perm general'!C106 -> 0 | D10: ='Perm general'!D106 -> Martignas (2) | E10: ='Perm general'!E106 -> 0 | F10: ='Perm general'!F106 -> 0 | G10: ='Perm general'!H106 -> 0 | H10: ='Perm general'!H106 -> 0 | I10: ='Perm general'!I106 -> 0 | J10: ='Perm general'!J106 -> Le Teich(2) | K10: ='Perm general'!K106 -> 0 | L10: ='Perm general'!L106 -> Léognan | M10: ='Perm general'!M106 -> 0 | N10: ='Perm general'!N106 -> Léognan | O10: ='Perm general'!O106 -> Floirac-Cenon
B11: ='Perm general'!B107 -> 0 | C11: ='Perm general'!C107 -> 0 | D11: ='Perm general'!D107 -> 14h | E11: ='Perm general'!E107 -> 0 | F11: ='Perm general'!F107 -> 0 | G11: ='Perm general'!H107 -> 0 | H11: ='Perm general'!H107 -> 0 | I11: ='Perm general'!I107 -> 0 | J11: ='Perm general'!J107 -> 15h15 | K11: ='Perm general'!K107 -> 0 | L11: ='Perm general'!L107 -> 16h45 | M11: ='Perm general'!M107 -> 0 | N11: ='Perm general'!N107 -> 20h30 | O11: ='Perm general'!O107 -> 18h30
A12: table | B12: ='Perm general'!B92 -> 0 | C12: ='Perm general'!C92 -> 0 | D12: ='Perm general'!D92 -> 0 | E12: ='Perm general'!E92 -> 0 | F12: ='Perm general'!F92 -> 0 | G12: ='Perm general'!H92 -> 0 | H12: ='Perm general'!H92 -> 0 | I12: ='Perm general'!I92 -> 0 | J12: ='Perm general'!J92 -> 0 | K12: ='Perm general'!K92 -> 0 | L12: ='Perm general'!L92 -> 0 | M12: ='Perm general'!M92 -> 0 | N12: ='Perm general'!N92 -> 0 | O12: ='Perm general'!O92 -> 0
A13: table | B13: ='Perm general'!B93 -> 0 | C13: ='Perm general'!C93 -> 0 | D13: ='Perm general'!D93 -> 0 | E13: ='Perm general'!E93 -> 0 | F13: ='Perm general'!F93 -> 0 | G13: ='Perm general'!H93 -> 0 | H13: ='Perm general'!H93 -> 0 | I13: ='Perm general'!I93 -> 0 | J13: ='Perm general'!J93 -> 0 | K13: ='Perm general'!K93 -> 0 | L13: ='Perm general'!L93 -> 0 | M13: ='Perm general'!M93 -> 0 | N13: ='Perm general'!N93 -> 0 | O13: ='Perm general'!O93 -> 0
A14: buvette | B14: ='Perm general'!B94 -> 0 | C14: ='Perm general'!C94 -> 0 | D14: ='Perm general'!D94 -> 0 | E14: ='Perm general'!E94 -> 0 | F14: ='Perm general'!F94 -> 0 | G14: ='Perm general'!H94 -> 0 | H14: ='Perm general'!H94 -> 0 | I14: ='Perm general'!I94 -> 0 | J14: ='Perm general'!J94 -> 0 | K14: ='Perm general'!K94 -> 0 | L14: ='Perm general'!L94 -> 0 | M14: ='Perm general'!M94 -> 0 | N14: ='Perm general'!N94 -> 0 | O14: ='Perm general'!O94 -> 0
A15: police terrain | B15: ='Perm general'!B95 -> 0 | C15: ='Perm general'!C95 -> 0 | D15: ='Perm general'!D95 -> 0 | E15: ='Perm general'!E95 -> 0 | F15: ='Perm general'!F95 -> 0 | G15: ='Perm general'!H95 -> 0 | H15: ='Perm general'!H95 -> 0 | I15: ='Perm general'!I95 -> 0 | J15: ='Perm general'!J95 -> 0 | K15: ='Perm general'!K95 -> 0 | L15: ='Perm general'!L95 -> 0 | M15: ='Perm general'!M95 -> 0 | N15: ='Perm general'!N95 -> 0 | O15: ='Perm general'!O95 -> 0
A16: arbitre | B16: ='Perm general'!B96 -> 0 | C16: ='Perm general'!C96 -> 0 | D16: ='Perm general'!D96 -> 0 | E16: ='Perm general'!E96 -> 0 | F16: ='Perm general'!F96 -> 0 | G16: ='Perm general'!H96 -> 0 | H16: ='Perm general'!H96 -> 0 | I16: ='Perm general'!I96 -> 0 | J16: ='Perm general'!J96 -> 0 | K16: ='Perm general'!K96 -> 0 | L16: ='Perm general'!L96 -> 0 | M16: ='Perm general'!M96 -> 0 | N16: ='Perm general'!N96 -> 0 | O16: ='Perm general'!O96 -> 0
A17: ='Calendrier Match'!A36 -> Dim 17/12/17 | B17: ='Perm general'!B113 -> 0 | C17: ='Perm general'!C113 -> 0 | D17: ='Perm general'!D113 -> 0 | E17: ='Perm general'!E113 -> 0 | F17: ='Perm general'!F113 -> 0 | G17: ='Perm general'!H113 -> 0 | H17: ='Perm general'!H113 -> 0 | I17: ='Perm general'!I113 -> 0 | J17: ='Perm general'!J113 -> 0 | K17: ='Perm general'!K113 -> 0 | L17: ='Perm general'!L113 -> 0 | M17: ='Perm general'!M113 -> 0 | N17: ='Perm general'!N113 -> 0 | O17: ='Perm general'!O113 -> 0
B18: ='Perm general'!B114 -> 0 | C18: ='Perm general'!C114 -> 0 | D18: ='Perm general'!D114 -> 0 | E18: ='Perm general'!E114 -> 0 | F18: ='Perm general'!F114 -> 0 | G18: ='Perm general'!H114 -> 0 | H18: ='Perm general'!H114 -> 0 | I18: ='Perm general'!I114 -> 0 | J18: ='Perm general'!J114 -> 0 | K18: ='Perm general'!K114 -> 0 | L18: ='Perm general'!L114 -> 0 | M18: ='Perm general'!M114 -> 0 | N18: ='Perm general'!N114 -> 0 | O18: ='Perm general'!O114 -> 0
A19: table | B19: ='Perm general'!B99 -> 0 | C19: ='Perm general'!C99 -> 0 | D19: ='Perm general'!D99 -> 0 | E19: ='Perm general'!E99 -> 0 | F19: ='Perm general'!F99 -> 0 | G19: ='Perm general'!H99 -> 0 | H19: ='Perm general'!H99 -> 0 | I19: ='Perm general'!I99 -> 0 | J19: ='Perm general'!J99 -> 0 | K19: ='Perm general'!K99 -> 0 | L19: ='Perm general'!L99 -> 0 | M19: ='Perm general'!M99 -> 0 | N19: ='Perm general'!N99 -> 0 | O19: ='Perm general'!O99 -> 0
A20: table | B20: ='Perm general'!B100 -> 0 | C20: ='Perm general'!C100 -> 0 | D20: ='Perm general'!D100 -> 0 | E20: ='Perm general'!E100 -> 0 | F20: ='Perm general'!F100 -> 0 | G20: ='Perm general'!H100 -> 0 | H20: ='Perm general'!H100 -> 0 | I20: ='Perm general'!I100 -> 0 | J20: ='Perm general'!J100 -> 0 | K20: ='Perm general'!K100 -> 0 | L20: ='Perm general'!L100 -> 0 | M20: ='Perm general'!M100 -> 0 | N20: ='Perm general'!N100 -> 0 | O20: ='Perm general'!O100 -> 0
A21: buvette | B21: ='Perm general'!B101 -> 0 | C21: ='Perm general'!C101 -> 0 | D21: ='Perm general'!D101 -> 0 | E21: ='Perm general'!E101 -> 0 | F21: ='Perm general'!F101 -> 0 | G21: ='Perm general'!H101 -> 0 | H21: ='Perm general'!H101 -> 0 | I21: ='Perm general'!I101 -> 0 | J21: ='Perm general'!J101 -> 0 | K21: ='Perm general'!K101 -> 0 | L21: ='Perm general'!L101 -> 0 | M21: ='Perm general'!M101 -> 0 | N21: ='Perm general'!N101 -> 0 | O21: ='Perm general'!O101 -> 0
A22: police terrain | B22: ='Perm general'!B102 -> 0 | C22: ='Perm general'!C102 -> 0 | D22: ='Perm general'!D102 -> 0 | E22: ='Perm general'!E102 -> 0 | F22: ='Perm general'!F102 -> 0 | G22: ='Perm general'!H102 -> 0 | H22: ='Perm general'!H102 -> 0 | I22: ='Perm general'!I102 -> 0 | J22: ='Perm general'!J102 -> 0 | K22: ='Perm general'!K102 -> 0 | L22: ='Perm general'!L102 -> 0 | M22: ='Perm general'!M102 -> 0 | N22: ='Perm general'!N102 -> 0 | O22: ='Perm general'!O102 -> 0
A23: arbitre | B23: ='Perm general'!B103 -> 0 | C23: ='Perm general'!C103 -> 0 | D23: ='Perm general'!D103 -> 0 | E23: ='Perm general'!E103 -> 0 | F23: ='Perm general'!F103 -> 0 | G23: ='Perm general'!H103 -> 0 | H23: ='Perm general'!H103 -> 0 | I23: ='Perm general'!I103 -> 0 | J23: ='Perm general'!J103 -> 0 | K23: ='Perm general'!K103 -> 0 | L23: ='Perm general'!L103 -> 0 | M23: ='Perm general'!M103 -> 0 | N23: ='Perm general'!N103 -> 0 | O23: ='Perm general'!O103 -> 0

Sheet Perm general
K3: Paris-SG | L3: Match à domicile
K4: Montpellier | L4: Match à l'extérieur
B7: 11F | C7: 11G(1) | D7: 11G(2) | E7: 13F | F7: 13G | G7: 13G(2) | H7: 15F | I7: 15G(1) | J7: 15G(2) | K7: 15G(3) | L7: 18G(1) | M7: 18G(2) | N7: SG(1) | O7: SG(2)
B8: Niveau Bas (poule D) | C8: Niveau Haut (poule B) | D8: Brass.Général (poule F) | E8: Niveau Haut | F8: Niveau Haut (poule C) | G8: Promotion (poule M) | H8: Niveau Haut (poule B) | I8: Niveau Haut (poule B) | J8: Brass.Général (poule L) | K8: Brass.Général (poule K) | L8: Niveau Haut (poule C) | M8: Brass. Général (poule F) | N8: Pré-Régional (poule B) | O8: Brass. Promotion (poule F)
A10: ='Calendrier Match'!A10 -> Sam 04/11/17 Haloween | B10: ='Calendrier Match'!B10 -> 0 | C10: ='Calendrier Match'!C10 -> 0 | D10: ='Calendrier Match'!D10 -> 0 | E10: ='Calendrier Match'!E10 -> 0 | F10: ='Calendrier Match'!F10 -> 0 | G10: ='Calendrier Match'!G10 -> 0 | H10: ='Calendrier Match'!H10 -> 0 | ... O10: ='Calendrier Match'!O10 -> 0
B11: ='Calendrier Match'!B11 -> 0 | C11: ='Calendrier Match'!C11 -> 0 | D11: ='Calendrier Match'!D11 -> 0 | E11: ='Calendrier Match'!E11 -> 0 | F11: ='Calendrier Match'!F11 -> 0 | G11: ='Calendrier Match'!G11 -> 0 | H11: ='Calendrier Match'!H11 -> 0 | I11: ='Calendrier Match'!I11 -> 0 | ... O11: ='Calendrier Match'!O11 -> 0
A12: table
A13: table
A14: buvette
A15: police terrain
A16: arbitre
A17: ='Calendrier Match'!A12 -> Dim 05/11/17 | B17: ='Calendrier Match'!B12 -> 0 | C17: ='Calendrier Match'!C12 -> 0 | D17: ='Calendrier Match'!D12 -> 0 | E17: ='Calendrier Match'!E12 -> 0 | F17: ='Calendrier Match'!F12 -> 0 | G17: ='Calendrier Match'!G12 -> Gradignan | H17: ='Calendrier Match'!H12 -> 0 | ... O17: ='Calendrier Match'!O12 -> 0
B18: ='Calendrier Match'!B13 -> 0 | C18: ='Calendrier Match'!C13 -> 0 | D18: ='Calendrier Match'!D13 -> 0 | E18: ='Calendrier Match'!E13 -> 0 | F18: ='Calendrier Match'!F13 -> 0 | G18: ='Calendrier Match'!G13 -> 11h30 | H18: ='Calendrier Match'!H13 -> 0 | I18: ='Calendrier Match'!I13 -> 0 | ... O18: ='Calendrier Match'!O13 -> 0
A19: table
A20: table
A21: buvette
A22: police terrain
A23: arbitre
A26: ='Calendrier Match'!A14 -> Sam 11/11/17 | B26: ='Calendrier Match'!B14 -> Lège-CF | C26: ='Calendrier Match'!C14 -> CA Bègles | D26: ='Calendrier Match'!D14 -> Martignas (2) | E26: ='Calendrier Match'!E14 -> 0 | F26: ='Calendrier Match'!F14 -> Cestas | G26: ='Calendrier Match'!G14 -> 0 | H26: ='Calendrier Match'!H14 -> Belin-Beliet | ... O26: ='Calendrier Match'!O14 -> Belin-Beliet (2)
B27: ='Calendrier Match'!B15 -> 16h30 | C27: ='Calendrier Match'!C15 -> 14h | D27: ='Calendrier Match'!D15 -> 16h15 | E27: ='Calendrier Match'!E15 -> 0 | F27: ='Calendrier Match'!F15 -> 16h45 | G27: ='Calendrier Match'!G15 -> 0 | H27: ='Calendrier Match'!H15 -> 15h15 | I27: ='Calendrier Match'!I15 -> 0 | ... O27: ='Calendrier Match'!O15 -> 20h
A28: table
A29: table
A30: buvette
A31: police terrain
A32: arbitre
A33: ='Calendrier Match'!A16 -> Dim 12/11/17 | B33: ='Calendrier Match'!B16 -> 0 | C33: ='Calendrier Match'!C16 -> 0 | D33: ='Calendrier Match'!D16 -> 0 | E33: ='Calendrier Match'!E16 -> Détections | F33: ='Calendrier Match'!F16 -> 0 | G33: ='Calendrier Match'!G16 -> Détections ? | H33: ='Calendrier Match'!H16 -> 0 | ... O33: ='Calendrier Match'!O16 -> 0
B34: ='Calendrier Match'!B17 -> 0 | C34: ='Calendrier Match'!C17 -> 0 | D34: ='Calendrier Match'!D17 -> 0 | E34: ='Calendrier Match'!E17 -> 0 | F34: ='Calendrier Match'!F17 -> 0 | G34: ='Calendrier Match'!G17 -> 0 | H34: ='Calendrier Match'!H17 -> 0 | I34: ='Calendrier Match'!I17 -> 0 | ... O34: ='Calendrier Match'!O17 -> 0
A35: table
A36: table
A37: buvette
A38: police terrain
A39: arbitre
A42: ='Calendrier Match'!A18 -> Sam 18/11/17 | B42: ='Calendrier Match'!B18 -> St-Médard-Ey.(2) | C42: ='Calendrier Match'!C18 -> ASPOM Bègles | D42: ='Calendrier Match'!D18 -> 0 | E42: ='Calendrier Match'!E18 -> 0 | F42: ='Calendrier Match'!F18 -> Le Teich | G42: ='Calendrier Match'!G18 -> 0 | H42: ='Calendrier Match'!H18 -> Mios-Biganos | ... O42: ='Calendrier Match'!O18 -> 0
B43: ='Calendrier Match'!B19 -> 14h | C43: ='Calendrier Match'!C19 -> 0 | D43: ='Calendrier Match'!D19 -> 0 | E43: ='Calendrier Match'!E19 -> 0 | F43: ='Calendrier Match'!F19 -> 0 | G43: ='Calendrier Match'!G19 -> 0 | H43: ='Calendrier Match'!H19 -> 0 | I43: ='Calendrier Match'!I19 -> 16h45 | ... O43: ='Calendrier Match'!O19 -> 0
A44: table
A45: table
A46: buvette
A47: police terrain
A48: arbitre
A49: ='Calendrier Match'!A20 -> Dim 19/11/17 | B49: ='Calendrier Match'!B20 -> 0 | C49: ='Calendrier Match'!C20 -> 0 | D49: ='Calendrier Match'!D20 -> Pessac (2) | E49: ='Calendrier Match'!E20 -> St-Médard-EJ | F49: ='Calendrier Match'!F20 -> 0 | G49: ='Calendrier Match'!G20 -> Arsac | H49: ='Calendrier Match'!H20 -> 0 | ... O49: ='Calendrier Match'!O20 -> PE2M (3)
B50: ='Calendrier Match'!B21 -> 0 | C50: ='Calendrier Match'!C21 -> 0 | D50: ='Calendrier Match'!D21 -> 10h | E50: ='Calendrier Match'!E21 -> 11h | F50: ='Calendrier Match'!F21 -> 0 | G50: ='Calendrier Match'!G21 -> 11h30 | H50: ='Calendrier Match'!H21 -> 0 | I50: ='Calendrier Match'!I21 -> 0 | ... O50: ='Calendrier Match'!O21 -> 15h
A51: table
A52: table
A53: buvette
A54: police terrain
A55: arbitre
A58: ='Calendrier Match'!A22 -> Sam 25/11/17 | B58: ='Calendrier Match'!B22 -> 0 | C58: ='Calendrier Match'!C22 -> 0 | D58: ='Calendrier Match'!D22 -> 0 | E58: ='Calendrier Match'!E22 -> St-Loubès | F58: ='Calendrier Match'!F22 -> Le Barp | G58: ='Calendrier Match'!G22 -> 0 | H58: ='Calendrier Match'!H22 -> 0 | ... O58: ='Calendrier Match'!O22 -> 0
B59: ='Calendrier Match'!B23 -> 0 | C59: ='Calendrier Match'!C23 -> 0 | D59: ='Calendrier Match'!D23 -> 0 | E59: ='Calendrier Match'!E23 -> 14h | F59: ='Calendrier Match'!F23 -> 15h30 | G59: ='Calendrier Match'!G23 -> 0 | H59: ='Calendrier Match'!H23 -> 0 | I59: ='Calendrier Match'!I23 -> 0 | ... O59: ='Calendrier Match'!O23 -> 0
A60: table
A61: table
A62: buvette
A63: police terrain
A64: arbitre
A65: ='Calendrier Match'!A24 -> Dim 26/11/17 | B65: ='Calendrier Match'!B24 -> 0 | C65: ='Calendrier Match'!C24 -> 0 | D65: ='Calendrier Match'!D24 -> Gradignan | E65: ='Calendrier Match'!E24 -> 0 | F65: ='Calendrier Match'!F24 -> 0 | G65: ='Calendrier Match'!G24 -> 0 | H65: ='Calendrier Match'!H24 -> Le Teich | ... O65: ='Calendrier Match'!O24 -> 0
B66: ='Calendrier Match'!B25 -> 0 | C66: ='Calendrier Match'!C25 -> 0 | D66: ='Calendrier Match'!D25 -> 10h15 | E66: ='Calendrier Match'!E25 -> 0 | F66: ='Calendrier Match'!F25 -> 0 | G66: ='Calendrier Match'!G25 -> 0 | H66: ='Calendrier Match'!H25 -> 11h30 | I66: ='Calendrier Match'!I25 -> 14h | ... O66: ='Calendrier Match'!O25 -> 0
A67: table
A68: table
A69: buvette
A70: police terrain
A71: arbitre
A74: ='Calendrier Match'!A26 -> Sam 02/12/17 | F74: ='Calendrier Match'!F26 -> Martignas | G74: ='Calendrier Match'!G26 -> Martignas | I74: ='Calendrier Match'!I26 -> Villenave | J74: ='Calendrier Match'!J26 -> Audenge | M74: ='Calendrier Match'!M26 -> Le Teich (2)
F75: ='Calendrier Match'!F27 -> 14h | G75: ='Calendrier Match'!G27 -> 14h | I75: 15h30 | J75: 17h | L75: ='Calendrier Match'!L27 -> 0 | M75: ='Calendrier Match'!M27 -> 18h30
A76: table
A77: table
A78: buvette
A79: police terrain
A80: arbitre
A81: ='Calendrier Match'!A28 -> Dim 03/12/17 | B81: ='Calendrier Match'!B28 -> 0 | C81: ='Calendrier Match'!C28 -> 0 | D81: ='Calendrier Match'!D28 -> 0 | E81: ='Calendrier Match'!E28 -> 0 | F81: ='Calendrier Match'!F28 -> 0 | G81: ='Calendrier Match'!G28 -> 0 | H81: ='Calendrier Match'!H28 -> 0 | ... O81: ='Calendrier Match'!O28 -> Mios-Biganos
B82: ='Calendrier Match'!B29 -> 0 | C82: ='Calendrier Match'!C29 -> 0 | D82: ='Calendrier Match'!D29 -> 0 | E82: ='Calendrier Match'!E29 -> 0 | F82: ='Calendrier Match'!F29 -> 0 | G82: ='Calendrier Match'!G29 -> 0 | H82: ='Calendrier Match'!H29 -> 0 | I82: ='Calendrier Match'!I29 -> 0 | ... O82: ='Calendrier Match'!O29 -> 14h
A83: table
A84: table
A85: buvette
A86: police terrain
A87: arbitre
A90: ='Calendrier Match'!A30 -> Sam 09/12/17 | B90: ='Calendrier Match'!B30 -> 0 | E90: ='Calendrier Match'!E30 -> Mios-Biganos | H90: ='Calendrier Match'!H30 -> Lège-CF | K90: ='Calendrier Match'!K30 -> Mios-Biganos | M90: ='Calendrier Match'!M30 -> Gradignan | O90: ='Calendrier Match'!O30 -> 0
B91: ='Calendrier Match'!B31 -> 0 | E91: ='Calendrier Match'!E31 -> 15h | H91: ='Calendrier Match'!H31 -> 13h30 | J91: ='Calendrier Match'!J31 -> 0 | K91: ='Calendrier Match'!K31 -> 16h30 | L91: ='Calendrier Match'!L31 -> 0 | M91: ='Calendrier Match'!M31 -> 18h | N91: ='Calendrier Match'!N31 -> 0 | O91: ='Calendrier Match'!O31 -> 0
A92: table
A93: table
A94: buvette
A95: police terrain
A96: arbitre
A97: ='Calendrier Match'!A32 -> Dim 10/12/17 | B97: ='Calendrier Match'!B32 -> Mios-Biganos | C97: ='Calendrier Match'!C32 -> Le Barp | D97: ='Calendrier Match'!D32 -> 0 | E97: ='Calendrier Match'!E32 -> 0 | F97: ='Calendrier Match'!F32 -> 0 | G97: ='Calendrier Match'!G32 -> 0 | H97: ='Calendrier Match'!H32 -> 0 | ... J97: ='Calendrier Match'!J32 -> 0 | L97: ='Calendrier Match'!L32 -> 0 | O97: ='Calendrier Match'!O32 -> 0
B98: ='Calendrier Match'!B33 -> 10h15 | C98: ='Calendrier Match'!C33 -> 11h30 | D98: ='Calendrier Match'!D33 -> 0 | E98: ='Calendrier Match'!E33 -> 0 | F98: ='Calendrier Match'!F33 -> 0 | G98: ='Calendrier Match'!G33 -> 0 | H98: ='Calendrier Match'!H33 -> 0 | I98: ='Calendrier Match'!I33 -> 0 | J98: ='Calendrier Match'!J33 -> 0 | L98: ='Calendrier Match'!L33 -> 0 | O98: ='Calendrier Match'!O33 -> 0
A99: table
A100: table
A101: buvette
A102: police terrain
A103: arbitre
A106: ='Calendrier Match'!A34 -> Sam 16/12/17 Noël du Club | B106: ='Calendrier Match'!B34 -> 0 | C106: ='Calendrier Match'!C34 -> 0 | D106: ='Calendrier Match'!D34 -> Martignas (2) | F106: ='Calendrier Match'!F34 -> 0 | G106: ='Calendrier Match'!G34 -> 0 | I106: ='Calendrier Match'!I34 -> 0 | J106: ='Calendrier Match'!J34 -> Le Teich(2) | K106: ='Calendrier Match'!K34 -> 0 | L106: ='Calendrier Match'!L34 -> Léognan | N106: ='Calendrier Match'!N34 -> Léognan | O106: ='Calendrier Match'!O34 -> Floirac-Cenon
B107: ='Calendrier Match'!B35 -> 0 | C107: ='Calendrier Match'!C35 -> 0 | D107: ='Calendrier Match'!D35 -> 14h | E107: ='Calendrier Match'!E35 -> 0 | F107: ='Calendrier Match'!F35 -> 0 | G107: ='Calendrier Match'!G35 -> 0 | H107: ='Calendrier Match'!H35 -> 0 | I107: ='Calendrier Match'!I35 -> 0 | ... O107: ='Calendrier Match'!O35 -> 18h30
A108: table
A109: table
A110: buvette
A111: police terrain
A112: arbitre
A113: ='Calendrier Match'!A36 -> Dim 17/12/17 | B113: ='Calendrier Match'!B36 -> 0 | D113: ='Calendrier Match'!D36 -> 0 | E113: ='Calendrier Match'!E36 -> 0 | H113: ='Calendrier Match'!H36 -> 0 | I113: ='Calendrier Match'!I36 -> 0 | J113: ='Calendrier Match'!J36 -> 0 | K113: ='Calendrier Match'!K36 -> 0 | L113: ='Calendrier Match'!L36 -> 0 | M113: ='Calendrier Match'!M36 -> 0 | N113: ='Calendrier Match'!N36 -> 0 | O113: ='Calendrier Match'!O36 -> 0
B114: ='Calendrier Match'!B37 -> 0 | D114: ='Calendrier Match'!D37 -> 0 | E114: ='Calendrier Match'!E37 -> 0 | F114: ='Calendrier Match'!F37 -> 0 | G114: ='Calendrier Match'!G37 -> 0 | H114: ='Calendrier Match'!H37 -> 0 | I114: ='Calendrier Match'!I37 -> 0 | J114: ='Calendrier Match'!J37 -> 0 | K114: ='Calendrier Match'!K37 -> 0 | ... O114: ='Calendrier Match'!O37 -> 0
A115: table
A116: table
A117: buvette
...
