Workbook

Sheet Commandes
A1: Code Article | B1: Désignation | C1: Qty pcs livrés | D1: Qty pcs Non livrés | E1: Sem. | F1: Date de commande | G1: Date maximum de livraison | H1: Temps de préparation (jours) | I1: N° de facture | J1: N° de commande | K1: Magasins H= C= | L1: N° d'envoi postal | M1: Date de livraison (jour d'envoi ou de livraison) | N1: Alerte livraison | O1: Commentaires
A2: =VLOOKUP(B2,Articles!A2:B2,2,FALSE) -> A00704_KF | B2: Standard Mat 5 | E2: =WEEKNUM(F2) -> 0 | N2: =IF(WORKDAY(G2,2)<M2, "Dépassé","On time") -> On time
A3: =VLOOKUP(B3,Articles!A3:B3,2,FALSE) -> #N/A | E3: =WEEKNUM(F3) -> 0 | N3: =IF(WORKDAY(G3,2)<M3, "Dépassé","On time") -> On time
A4: =VLOOKUP(B4,Articles!A4:B4,2,FALSE) -> #N/A | E4: =WEEKNUM(F4) -> 0 | N4: =IF(WORKDAY(G4,2)<M4, "Dépassé","On time") -> On time
A5: =VLOOKUP(B5,Articles!A5:B5,2,FALSE) -> #N/A | E5: =WEEKNUM(F5) -> 0 | N5: =IF(WORKDAY(G5,2)<M5, "Dépassé","On time") -> On time
A6: =VLOOKUP(B6,Articles!A6:B6,2,FALSE) -> #N/A | E6: =WEEKNUM(F6) -> 0 | N6: =IF(WORKDAY(G6,2)<M6, "Dépassé","On time") -> On time
A7: =VLOOKUP(B7,Articles!A7:B7,2,FALSE) -> #N/A | E7: =WEEKNUM(F7) -> 0 | N7: =IF(WORKDAY(G7,2)<M7, "Dépassé","On time") -> On time
A8: =VLOOKUP(B8,Articles!A8:B8,2,FALSE) -> #N/A | E8: =WEEKNUM(F8) -> 0 | N8: =IF(WORKDAY(G8,2)<M8, "Dépassé","On time") -> On time
A9: =VLOOKUP(B9,Articles!A9:B9,2,FALSE) -> #N/A | E9: =WEEKNUM(F9) -> 0 | N9: =IF(WORKDAY(G9,2)<M9, "Dépassé","On time") -> On time
A10: =VLOOKUP(B10,Articles!A10:B10,2,FALSE) -> #N/A | E10: =WEEKNUM(F10) -> 0 | N10: =IF(WORKDAY(G10,2)<M10, "Dépassé","On time") -> On time
A11: =VLOOKUP(B11,Articles!A11:B11,2,FALSE) -> #N/A | E11: =WEEKNUM(F11) -> 0 | N11: =IF(WORKDAY(G11,2)<M11, "Dépassé","On time") -> On time
A12: =VLOOKUP(B12,Articles!A12:B12,2,FALSE) -> #N/A | E12: =WEEKNUM(F12) -> 0 | N12: =IF(WORKDAY(G12,2)<M12, "Dépassé","On time") -> On time
A13: =VLOOKUP(B13,Articles!A13:B13,2,FALSE) -> #N/A | E13: =WEEKNUM(F13) -> 0 | N13: =IF(WORKDAY(G13,2)<M13, "Dépassé","On time") -> On time
A14: =VLOOKUP(B14,Articles!A14:B14,2,FALSE) -> #N/A | E14: =WEEKNUM(F14) -> 0 | N14: =IF(WORKDAY(G14,2)<M14, "Dépassé","On time") -> On time
... A21: =VLOOKUP(B21,Articles!A21:B21,2,FALSE) -> #N/A | E21: =WEEKNUM(F21) -> 0 | N21: =IF(WORKDAY(G21,2)<M21, "Dépassé","On time") -> On time
A22: =VLOOKUP(B22,Articles!A22:B22,2,FALSE) -> #N/A | B22: 2S Mat 30 L | E22: =WEEKNUM(F22) -> 0 | N22: =IF(WORKDAY(G22,2)<M22, "Dépassé","On time") -> On time
A23: =VLOOKUP(B23,Articles!A23:B23,2,FALSE) -> #N/A | E23: =WEEKNUM(F23) -> 0 | N23: =IF(WORKDAY(G23,2)<M23, "Dépassé","On time") -> On time
A24: =VLOOKUP(B24,Articles!A24:B24,2,FALSE) -> #N/A | E24: =WEEKNUM(F24) -> 0 | N24: =IF(WORKDAY(G24,2)<M24, "Dépassé","On time") -> On time
A25: =VLOOKUP(B25,Articles!A25:B25,2,FALSE) -> #N/A | E25: =WEEKNUM(F25) -> 0 | N25: =IF(WORKDAY(G25,2)<M25, "Dépassé","On time") -> On time
A26: =VLOOKUP(B26,Articles!A26:B26,2,FALSE) -> #N/A | E26: =WEEKNUM(F26) -> 0 | N26: =IF(WORKDAY(G26,2)<M26, "Dépassé","On time") -> On time
A27: =VLOOKUP(B27,Articles!A27:B27,2,FALSE) -> #N/A | E27: =WEEKNUM(F27) -> 0 | N27: =IF(WORKDAY(G27,2)<M27, "Dépassé","On time") -> On time
A28: =VLOOKUP(B28,Articles!#REF!,2,FALSE) -> #REF! | E28: =WEEKNUM(F28) -> 0 | N28: =IF(WORKDAY(G28,2)<M28, "Dépassé","On time") -> On time
A29: =VLOOKUP(B29,Articles!#REF!,2,FALSE) -> #REF! | E29: =WEEKNUM(F29) -> 0 | N29: =IF(WORKDAY(G29,2)<M29, "Dépassé","On time") -> On time
A30: =VLOOKUP(B30,Articles!#REF!,2,FALSE) -> #REF! | E30: =WEEKNUM(F30) -> 0 | N30: =IF(WORKDAY(G30,2)<M30, "Dépassé","On time") -> On time
A31: =VLOOKUP(B31,Articles!#REF!,2,FALSE) -> #REF! | E31: =WEEKNUM(F31) -> 0 | N31: =IF(WORKDAY(G31,2)<M31, "Dépassé","On time") -> On time
A32: =VLOOKUP(B32,Articles!#REF!,2,FALSE) -> #REF! | E32: =WEEKNUM(F32) -> 0 | N32: =IF(WORKDAY(G32,2)<M32, "Dépassé","On time") -> On time
A33: =VLOOKUP(B33,Articles!#REF!,2,FALSE) -> #REF! | E33: =WEEKNUM(F33) -> 0 | N33: =IF(WORKDAY(G33,2)<M33, "Dépassé","On time") -> On time
A34: =VLOOKUP(B34,Articles!#REF!,2,FALSE) -> #REF! | E34: =WEEKNUM(F34) -> 0 | N34: =IF(WORKDAY(G34,2)<M34, "Dépassé","On time") -> On time
A35: =VLOOKUP(B35,Articles!#REF!,2,FALSE) -> #REF! | E35: =WEEKNUM(F35) -> 0 | N35: =IF(WORKDAY(G35,2)<M35, "Dépassé","On time") -> On time
A36: =VLOOKUP(B36,Articles!#REF!,2,FALSE) -> #REF! | E36: =WEEKNUM(F36) -> 0 | N36: =IF(WORKDAY(G36,2)<M36, "Dépassé","On time") -> On time
A37: =VLOOKUP(B37,Articles!#REF!,2,FALSE) -> #REF! | E37: =WEEKNUM(F37) -> 0 | N37: =IF(WORKDAY(G37,2)<M37, "Dépassé","On time") -> On time
A38: =VLOOKUP(B38,Articles!#REF!,2,FALSE) -> #REF! | E38: =WEEKNUM(F38) -> 0 | N38: =IF(WORKDAY(G38,2)<M38, "Dépassé","On time") -> On time
A39: =VLOOKUP(B39,Articles!#REF!,2,FALSE) -> #REF! | E39: =WEEKNUM(F39) -> 0 | N39: =IF(WORKDAY(G39,2)<M39, "Dépassé","On time") -> On time
... A282: =VLOOKUP(B282,Articles!#REF!,2,FALSE) -> #REF! | E282: =WEEKNUM(F282) -> 0 | N282: =IF(WORKDAY(G282,2)<M282, "Dépassé","On time") -> On time
A283: =VLOOKUP(B283,Articles!A1:B296,2,FALSE) -> #N/A | E283: =WEEKNUM(F283) -> 0 | N283: =IF(WORKDAY(G283,2)<M283, "Dépassé","On time") -> On time
A284: =VLOOKUP(B284,Articles!A2:B297,2,FALSE) -> #N/A | E284: =WEEKNUM(F284) -> 0 | N284: =IF(WORKDAY(G284,2)<M284, "Dépassé","On time") -> On time
A285: =VLOOKUP(B285,Articles!A2:B298,2,FALSE) -> #N/A | E285: =WEEKNUM(F285) -> 0 | N285: =IF(WORKDAY(G285,2)<M285, "Dépassé","On time") -> On time
A286: =VLOOKUP(B286,Articles!A2:B299,2,FALSE) -> #N/A | E286: =WEEKNUM(F286) -> 0 | N286: =IF(WORKDAY(G286,2)<M286, "Dépassé","On time") -> On time
A287: =VLOOKUP(B287,Articles!A2:B300,2,FALSE) -> #N/A | E287: =WEEKNUM(F287) -> 0 | N287: =IF(WORKDAY(G287,2)<M287, "Dépassé","On time") -> On time
A288: =VLOOKUP(B288,Articles!A2:B301,2,FALSE) -> #N/A | E288: =WEEKNUM(F288) -> 0 | N288: =IF(WORKDAY(G288,2)<M288, "Dépassé","On time") -> On time
...

Sheet Articles
A1: Designation | B1: CodeArt
A2: Standard Mat 5 | B2: A00704_KF
A3: Standard Halb 5 | B3: A00701_KF
A4: Standard Mat 1 | B4: A00704*_KF
A5: Standard Halb 1 | B5: A00701*_KF
A6: Ultra 5 | B6: 420 933 18
A7: Halb 5 | B7: 420 916 03
A8: PRIME 1 | B8: A00705_TD
A9: PRIME 5 | B9: A00705_KF
A10: Mat 30 L | B10: A00006_HB
A11: Seidenmat 30 L | B11: A00002_HB
A12: 2S Mat 30 L | B12: A01061_HB
... A16: Applicateur | B16: 178 000 12

Sheet Stat de ventes
A1: Produits | B1: CodeArt | C1: Janvier | D1: Février | E1: Mars | F1: Avril | G1: Mai | H1: Juin | I1: Juillet | J1: Août | K1: Septembre | L1: Octobre | M1: Novembre | N1: Décembre
A2: Standard Mat 5 | B2: A00704_KF
A3: Standard Halb 5 | B3: A00701_KF
A4: Standard Mat 1 | B4: A00704*_KF
A5: Standard Halb 1 | B5: A00701*_KF
A6: Ultra 5 | B6: 420 933 18
A7: Halb 5 | B7: 420 916 03
A8: PRIME 1 | B8: A00705_TD
A9: PRIME 5 | B9: A00705_KF
A10: Mat 30 L | B10: A00006_HB
A11: Seidenmat 30 L | B11: A00002_HB
A12: 2S Mat 30 L | B12: A01061_HB
A13: 2S Seidenmatt 30 L | B13: A01057_HB
... A16: Applicateur | B16: 178 000 12
