Workbook

Sheet Commandes
A1: Code Article | B1: Désignation | C1: Qty pcs livrés | D1: Qty pcs Non livrés | E1: Sem. | F1: Date de commande | G1: Date maximum de livraison | H1: Temps de préparation (jours) | I1: N° de facture | J1: N° de commande | K1: Magasins H= C= | L1: N° d'envoi postal | M1: Date de livraison (jour d'envoi ou de livraison) | N1: Alerte livraison | O1: Commentaires
A2: =VLOOKUP(B2,Articles!A2:B2,2,FALSE) -> A00704_KF | B2: Standard Mat 5 | E2: =WEEKNUM(F2) -> 0 | N2: =IF(WORKDAY(G2,2)<M2, "Dépassé","On time") -> On time
A3: =VLOOKUP(B3,Articles!A3:B3,2,FALSE) -> #N/A | E3: =WEEKNUM(F3) -> 0 | N3: =IF(WORKDAY(G3,2)<M3, "Dépassé","On time") -> On time
A4: =VLOOKUP(B4,Articles!A4:B4,2,FALSE) -> #N/A | E4: =WEEKNUM(F4) -> 0 | N4: =IF(WORKDAY(G4,2)<M4, "Dépassé","On time") -> On time
A5: =VLOOKUP(B5,Articles!A5:B5,2,FALSE) -> #N/A | E5: =WEEKNUM(F5) -> 0 | N5: =IF(WORKDAY(G5,2)<M5, "Dépassé","On time") -> On time
A6: =VLOOKUP(B6,Articles!A6:B6,2,FALSE) -> #N/A | E6: =WEEKNUM(F6) -> 0 | N6: =IF(WORKDAY(G6,2)<M6, "Dépassé","On time") -> On time
A7: =VLOOKUP(B7,Articles!A7:B7,2,FALSE) -> #N/A | E7: =WEEKNUM(F7) -> 0 | N7: =IF(WORKDAY(G7,2)<M7, "Dépassé","On time") -> On time
A8: =VLOOKUP(B8,Articles!A8:B8,2,FALSE) -> #N/A | E8: =WEEKNUM(F8) -> 0 | N8: =IF(WORKDAY(G8,2)<M8, "Dépassé","On time") -> On time
A9: =VLOOKUP(B9,Articles!A9:B9,2,FALSE) -> #N/A | E9: =WEEKNUM(F9) -> 0 | N9: =IF(WORKDAY(G9,2)<M9, "Dépassé","On time") -> On time
A10: =VLOOKUP(B10,Articles!A10:B10,2,FALSE) -> #N/A | E10: =WEEKNUM(F10) -> 0 | N10: =IF(WORKDAY(G10,2)<M10, "Dépassé","On time") -> On time
A11: =VLOOKUP(B11,Articles!A11:B11,2,FALSE) -> #N/A | E11: =WEEKNUM(F11) -> 0 | N11: =IF(WORKDAY(G11,2)<M11, "Dépassé","On time") -> On time
A12: =VLOOKUP(B12,Articles!A12:B12,2,FALSE) -> #N/A | E12: =WEEKNUM(F12) -> 0 | N12: =IF(WORKDAY(G12,2)<M12, "Dépassé","On time") -> On time
A13: =VLOOKUP(B13,Articles!A13:B13,2,FALSE) -> #N/A | E13: =WEEKNUM(F13) -> 0 | N13: =IF(WORKDAY(G13,2)<M13, "Dépassé","On time") -> On time
A14: =VLOOKUP(B14,Articles!A14:B14,2,FALSE) -> #N/A | E14: =WEEKNUM(F14) -> 0 | N14: =IF(WORKDAY(G14,2)<M14, "Dépassé","On time") -> On time
... A21: =VLOOKUP(B21,Articles!A21:B21,2,FALSE) -> #N/A | E21: =WEEKNUM(F21) -> 0 | N21: =IF(WORKDAY(G21,2)<M21, "Dépassé","On time") -> On time
A22: =VLOOKUP(B22,Articles!A22:B22,2,FALSE) -> #N/A | B22: 2S Mat 30 L | E22: =WEEKNUM(F22) -> 0 | N22: =IF(WORKDAY(G22,2)<M22, "Dépassé","On time") -> On time
A23: =VLOOKUP(B23,Articles!A23:B23,2,FALSE) -> #N/A | E23: =WEEKNUM(F23) -> 0 | N23: =IF(WORKDAY(G23,2)<M23, "Dépassé","On time") -> On time
A24: =VLOOKUP(B24,Articles!A24:B24,2,FALSE) -> #N/A | E24: =WEEKNUM(F24) -> 0 | N24: =IF(WORKDAY(G24,2)<M24, "Dépassé","On time") -> On time
A25: =VLOOKUP(B25,Articles!A25:B25,2,FALSE) -> #N/A | E25: =WEEKNUM(F25) -> 0 | N25: =IF(WORKDAY(G25,2)<M25, "Dépassé","On time") -> On time
A26: =VLOOKUP(B26,Articles!A26:B26,2,FALSE) -> #N/A | E26: =WEEKNUM(F26) -> 0 | N26: =IF(WORKDAY(G26,2)<M26, "Dépassé","On time") -> On time
A27: =VLOOKUP(B27,Articles!A27:B27,2,FALSE) -> #N/A | E27: =WEEKNUM(F27) -> 0 | N27: =IF(WORKDAY(G27,2)<M27, "Dépassé","On time") -> On time
A28: =VLOOKUP(B28,Articles!#REF!,2,FALSE) -> #REF! | E28: =WEEKNUM(F28) -> 0 | N28: =IF(WORKDAY(G28,2)<M28, "Dépassé","On time") -> On time
A29: =VLOOKUP(B29,Articles!#REF!,2,FALSE) -> #REF! | E29: =WEEKNUM(F29) -> 0 | N29: =IF(WORKDAY(G29,2)<M29, "Dépassé","On time") -> On time
A30: =VLOOKUP(B30,Articles!#REF!,2,FALSE) -> #REF! | E30: =WEEKNUM(F30) -> 0 | N30: =IF(WORKDAY(G30,2)<M30, "Dépassé","On time") -> On time
A31: =VLOOKUP(B31,Articles!#REF!,2,FALSE) -> #REF! | E31: =WEEKNUM(F31) -> 0 | N31: =IF(WORKDAY(G31,2)<M31, "Dépassé","On time") -> On time
A32: =VLOOKUP(B32,Articles!#REF!,2,FALSE) -> #REF! | E32: =WEEKNUM(F32) -> 0 | N32: =IF(WORKDAY(G32,2)<M32, "Dépassé","On time") -> On time
A33: =VLOOKUP(B33,Articles!#REF!,2,FALSE) -> #REF! | E33: =WEEKNUM(F33) -> 0 | N33: =IF(WORKDAY(G33,2)<M33, "Dépassé","On time") -> On time
A34: =VLOOKUP(B34,Articles!#REF!,2,FALSE) -> #REF! | E34: =WEEKNUM(F34) -> 0 | N34: =IF(WORKDAY(G34,2)<M34, "Dépassé","On time") -> On time
A35: =VLOOKUP(B35,Articles!#REF!,2,FALSE) -> #REF! | E35: =WEEKNUM(F35) -> 0 | N35: =IF(WORKDAY(G35,2)<M35, "Dépassé","On time") -> On time
A36: =VLOOKUP(B36,Articles!#REF!,2,FALSE) -> #REF! | E36: =WEEKNUM(F36) -> 0 | N36: =IF(WORKDAY(G36,2)<M36, "Dépassé","On time") -> On time
A37: =VLOOKUP(B37,Articles!#REF!,2,FALSE) -> #REF! | E37: =WEEKNUM(F37) -> 0 | N37: =IF(WORKDAY(G37,2)<M37, "Dépassé","On time") -> On time
A38: =VLOOKUP(B38,Articles!#REF!,2,FALSE) -> #REF! | E38: =WEEKNUM(F38) -> 0 | N38: =IF(WORKDAY(G38,2)<M38, "Dépassé","On time") -> On time
A39: =VLOOKUP(B39,Articles!#REF!,2,FALSE) -> #REF! | E39: =WEEKNUM(F39) -> 0 | N39: =IF(WORKDAY(G39,2)<M39, "Dépassé","On time") -> On time
... A282: =VLOOKUP(B282,Articles!#REF!,2,FALSE) -> #REF! | E282: =WEEKNUM(F282) -> 0 | N282: =IF(WORKDAY(G282,2)<M282, "Dépassé","On time") -> On time
A283: =VLOOKUP(B283,Articles!A1:B296,2,FALSE) -> #N/A | E283: =WEEKNUM(F283) -> 0 | N283: =IF(WORKDAY(G283,2)<M283, "Dépassé","On time") -> On time
A284: =VLOOKUP(B284,Articles!A2:B297,2,FALSE) -> #N/A | E284: =WEEKNUM(F284) -> 0 | N284: =IF(WORKDAY(G284,2)<M284, "Dépassé","On time") -> On time
A285: =VLOOKUP(B285,Articles!A2:B298,2,FALSE) -> #N/A | E285: =WEEKNUM(F285) -> 0 | N285: =IF(WORKDAY(G285,2)<M285, "Dépassé","On time") -> On time
A286: =VLOOKUP(B286,Articles!A2:B299,2,FALSE) -> #N/A | E286: =WEEKNUM(F286) -> 0 | N286: =IF(WORKDAY(G286,2)<M286, "Dépassé","On time") -> On time
A287: =VLOOKUP(B287,Articles!A2:B300,2,FALSE) -> #N/A | E287: =WEEKNUM(F287) -> 0 | N287: =IF(WORKDAY(G287,2)<M287, "Dépassé","On time") -> On time
A288: =VLOOKUP(B288,Articles!A2:B301,2,FALSE) -> #N/A | E288: =WEEKNUM(F288) -> 0 | N288: =IF(WORKDAY(G288,2)<M288, "Dépassé","On time") -> On time
A289: =VLOOKUP(B289,Articles!A2:B302,2,FALSE) -> #N/A | E289: =WEEKNUM(F289) -> 0 | N289: =IF(WORKDAY(G289,2)<M289, "Dépassé","On time") -> On time
A290: =VLOOKUP(B290,Articles!A2:B303,2,FALSE) -> #N/A | E290: =WEEKNUM(F290) -> 0 | N290: =IF(WORKDAY(G290,2)<M290, "Dépassé","On time") -> On time
A291: =VLOOKUP(B291,Articles!A2:B304,2,FALSE) -> #N/A | E291: =WEEKNUM(F291) -> 0 | N291: =IF(WORKDAY(G291,2)<M291, "Dépassé","On time") -> On time
A292: =VLOOKUP(B292,Articles!A2:B305,2,FALSE) -> #N/A | E292: =WEEKNUM(F292) -> 0 | N292: =IF(WORKDAY(G292,2)<M292, "Dépassé","On time") -> On time
A293: =VLOOKUP(B293,Articles!A2:B306,2,FALSE) -> #N/A | E293: =WEEKNUM(F293) -> 0 | H293: =MAX(DAYS360(F293,G293),0) -> 0 | N293: =IF(WORKDAY(G293,2)<M293, "Dépassé","On time") -> On time
A294: =VLOOKUP(B294,Articles!A2:B307,2,FALSE) -> #N/A | E294: =WEEKNUM(F294) -> 0 | H294: =MAX(DAYS360(F294,G294),0) -> 0 | N294: =IF(WORKDAY(G294,2)<M294, "Dépassé","On time") -> On time
A295: =VLOOKUP(B295,Articles!A2:B308,2,FALSE) -> #N/A | E295: =WEEKNUM(F295) -> 0 | H295: =MAX(DAYS360(F295,G295),0) -> 0 | N295: =IF(WORKDAY(G295,2)<M295, "Dépassé","On time") -> On time
A296: =VLOOKUP(B296,Articles!A2:B309,2,FALSE) -> #N/A | E296: =WEEKNUM(F296) -> 0 | H296: =MAX(DAYS360(F296,G296),0) -> 0 | N296: =IF(WORKDAY(G296,2)<M296, "Dépassé","On time") -> On time
A297: =VLOOKUP(B297,Articles!A2:B310,2,FALSE) -> #N/A | E297: =WEEKNUM(F297) -> 0 | H297: =MAX(DAYS360(F297,G297),0) -> 0 | N297: =IF(WORKDAY(G297,2)<M297, "Dépassé","On time") -> On time
A298: =VLOOKUP(B298,Articles!A2:B311,2,FALSE) -> #N/A | E298: =WEEKNUM(F298) -> 0 | H298: =MAX(DAYS360(F298,G298),0) -> 0 | N298: =IF(WORKDAY(G298,2)<M298, "Dépassé","On time") -> On time
A299: =VLOOKUP(B299,Articles!A2:B312,2,FALSE) -> #N/A | E299: =WEEKNUM(F299) -> 0 | H299: =MAX(DAYS360(F299,G299),0) -> 0 | N299: =IF(WORKDAY(G299,2)<M299, "Dépassé","On time") -> On time
A300: =VLOOKUP(B300,Articles!A2:B313,2,FALSE) -> #N/A | E300: =WEEKNUM(F300) -> 0 | H300: =MAX(DAYS360(F300,G300),0) -> 0 | N300: =IF(WORKDAY(G300,2)<M300, "Dépassé","On time") -> On time
A301: =VLOOKUP(B301,Articles!A2:B314,2,FALSE) -> #N/A | E301: =WEEKNUM(F301) -> 0 | H301: =MAX(DAYS360(F301,G301),0) -> 0 | N301: =IF(WORKDAY(G301,2)<M301, "Dépassé","On time") -> On time
A302: =VLOOKUP(B302,Articles!A2:B315,2,FALSE) -> #N/A | E302: =WEEKNUM(F302) -> 0 | H302: =MAX(DAYS360(F302,G302),0) -> 0 | N302: =IF(WORKDAY(G302,2)<M302, "Dépassé","On time") -> On time
A303: =VLOOKUP(B303,Articles!A2:B316,2,FALSE) -> #N/A | E303: =WEEKNUM(F303) -> 0 | H303: =MAX(DAYS360(F303,G303),0) -> 0 | N303: =IF(WORKDAY(G303,2)<M303, "Dépassé","On time") -> On time
A304: =VLOOKUP(B304,Articles!A2:B317,2,FALSE) -> #N/A | E304: =WEEKNUM(F304) -> 0 | H304: =MAX(DAYS360(F304,G304),0) -> 0 | N304: =IF(WORKDAY(G304,2)<M304, "Dépassé","On time") -> On time
A305: =VLOOKUP(B305,Articles!A2:B318,2,FALSE) -> #N/A | E305: =WEEKNUM(F305) -> 0 | H305: =MAX(DAYS360(F305,G305),0) -> 0 | N305: =IF(WORKDAY(G305,2)<M305, "Dépassé","On time") -> On time
A306: =VLOOKUP(B306,Articles!A2:B319,2,FALSE) -> #N/A | E306: =WEEKNUM(F306) -> 0 | H306: =MAX(DAYS360(F306,G306),0) -> 0 | N306: =IF(WORKDAY(G306,2)<M306, "Dépassé","On time") -> On time
A307: =VLOOKUP(B307,Articles!A2:B320,2,FALSE) -> #N/A | E307: =WEEKNUM(F307) -> 0 | H307: =MAX(DAYS360(F307,G307),0) -> 0 | N307: =IF(WORKDAY(G307,2)<M307, "Dépassé","On time") -> On time
A308: =VLOOKUP(B308,Articles!A2:B321,2,FALSE) -> #N/A | E308: =WEEKNUM(F308) -> 0 | H308: =MAX(DAYS360(F308,G308),0) -> 0 | N308: =IF(WORKDAY(G308,2)<M308, "Dépassé","On time") -> On time
A309: =VLOOKUP(B309,Articles!A2:B322,2,FALSE) -> #N/A | E309: =WEEKNUM(F309) -> 0 | H309: =MAX(DAYS360(F309,G309),0) -> 0 | N309: =IF(WORKDAY(G309,2)<M309, "Dépassé","On time") -> On time
A310: =VLOOKUP(B310,Articles!A24:B323,2,FALSE) -> #N/A | E310: =WEEKNUM(F310) -> 0 | H310: =MAX(DAYS360(F310,G310),0) -> 0 | N310: =IF(WORKDAY(G310,2)<M310, "Dépassé","On time") -> On time
A311: =VLOOKUP(B311,Articles!A25:B324,2,FALSE) -> #N/A | E311: =WEEKNUM(F311) -> 0 | H311: =MAX(DAYS360(F311,G311),0) -> 0 | N311: =IF(WORKDAY(G311,2)<M311, "Dépassé","On time") -> On time
A312: =VLOOKUP(B312,Articles!A26:B325,2,FALSE) -> #N/A | E312: =WEEKNUM(F312) -> 0 | H312: =MAX(DAYS360(F312,G312),0) -> 0 | N312: =IF(WORKDAY(G312,2)<M312, "Dépassé","On time") -> On time
A313: =VLOOKUP(B313,Articles!A27:B326,2,FALSE) -> #N/A | E313: =WEEKNUM(F313) -> 0 | H313: =MAX(DAYS360(F313,G313),0) -> 0 | N313: =IF(WORKDAY(G313,2)<M313, "Dépassé","On time") -> On time
A314: =VLOOKUP(B314,Articles!A28:B327,2,FALSE) -> #N/A | E314: =WEEKNUM(F314) -> 0 | H314: =MAX(DAYS360(F314,G314),0) -> 0 | N314: =IF(WORKDAY(G314,2)<M314, "Dépassé","On time") -> On time
A315: =VLOOKUP(B315,Articles!A29:B328,2,FALSE) -> #N/A | E315: =WEEKNUM(F315) -> 0 | H315: =MAX(DAYS360(F315,G315),0) -> 0 | N315: =IF(WORKDAY(G315,2)<M315, "Dépassé","On time") -> On time
A316: =VLOOKUP(B316,Articles!A30:B329,2,FALSE) -> #N/A | E316: =WEEKNUM(F316) -> 0 | H316: =MAX(DAYS360(F316,G316),0) -> 0 | N316: =IF(WORKDAY(G316,2)<M316, "Dépassé","On time") -> On time
A317: =VLOOKUP(B317,Articles!A31:B330,2,FALSE) -> #N/A | E317: =WEEKNUM(F317) -> 0 | H317: =MAX(DAYS360(F317,G317),0) -> 0 | N317: =IF(WORKDAY(G317,2)<M317, "Dépassé","On time") -> On time
A318: =VLOOKUP(B318,Articles!A32:B331,2,FALSE) -> #N/A | E318: =WEEKNUM(F318) -> 0 | H318: =MAX(DAYS360(F318,G318),0) -> 0 | N318: =IF(WORKDAY(G318,2)<M318, "Dépassé","On time") -> On time
A319: =VLOOKUP(B319,Articles!A33:B332,2,FALSE) -> #N/A | E319: =WEEKNUM(F319) -> 0 | H319: =MAX(DAYS360(F319,G319),0) -> 0 | N319: =IF(WORKDAY(G319,2)<M319, "Dépassé","On time") -> On time
A320: =VLOOKUP(B320,Articles!A34:B333,2,FALSE) -> #N/A | E320: =WEEKNUM(F320) -> 0 | H320: =MAX(DAYS360(F320,G320),0) -> 0 | N320: =IF(WORKDAY(G320,2)<M320, "Dépassé","On time") -> On time
A321: =VLOOKUP(B321,Articles!A35:B334,2,FALSE) -> #N/A | E321: =WEEKNUM(F321) -> 0 | H321: =MAX(DAYS360(F321,G321),0) -> 0 | N321: =IF(WORKDAY(G321,2)<M321, "Dépassé","On time") -> On time
... A1003: =VLOOKUP(B1003,Articles!A717:B1016,2,FALSE) -> #N/A | E1003: =WEEKNUM(F1003) -> 0 | H1003: =MAX(DAYS360(F1003,G1003),0) -> 0 | N1003: =IF(WORKDAY(G1003,2)<M1003, "Dépassé","On time") -> On time
E1004: =WEEKNUM(F1004) -> 0 | H1004: =MAX(DAYS360(F1004,G1004),0) -> 0 | N1004: =IF(WORKDAY(G1004,2)<M1004, "Dépassé","On time") -> On time
E1005: =WEEKNUM(F1005) -> 0 | H1005: =MAX(DAYS360(F1005,G1005),0) -> 0 | N1005: =IF(WORKDAY(G1005,2)<M1005, "Dépassé","On time") -> On time
E1006: =WEEKNUM(F1006) -> 0 | H1006: =MAX(DAYS360(F1006,G1006),0) -> 0 | N1006: =IF(WORKDAY(G1006,2)<M1006, "Dépassé","On time") -> On time
E1007: =WEEKNUM(F1007) -> 0 | H1007: =MAX(DAYS360(F1007,G1007),0) -> 0 | N1007: =IF(WORKDAY(G1007,2)<M1007, "Dépassé","On time") -> On time
E1008: =WEEKNUM(F1008) -> 0 | H1008: =MAX(DAYS360(F1008,G1008),0) -> 0 | N1008: =IF(WORKDAY(G1008,2)<M1008, "Dépassé","On time") -> On time
E1009: =WEEKNUM(F1009) -> 0 | H1009: =MAX(DAYS360(F1009,G1009),0) -> 0 | N1009: =IF(WORKDAY(G1009,2)<M1009, "Dépassé","On time") -> On time
E1010: =WEEKNUM(F1010) -> 0 | H1010: =MAX(DAYS360(F1010,G1010),0) -> 0 | N1010: =IF(WORKDAY(G1010,2)<M1010, "Dépassé","On time") -> On time
E1011: =WEEKNUM(F1011) -> 0 | H1011: =MAX(DAYS360(F1011,G1011),0) -> 0 | N1011: =IF(WORKDAY(G1011,2)<M1011, "Dépassé","On time") -> On time
E1012: =WEEKNUM(F1012) -> 0 | H1012: =MAX(DAYS360(F1012,G1012),0) -> 0 | N1012: =IF(WORKDAY(G1012,2)<M1012, "Dépassé","On time") -> On time
E1013: =WEEKNUM(F1013) -> 0 | H1013: =MAX(DAYS360(F1013,G1013),0) -> 0 | N1013: =IF(WORKDAY(G1013,2)<M1013, "Dépassé","On time") -> On time
E1014: =WEEKNUM(F1014) -> 0 | H1014: =MAX(DAYS360(F1014,G1014),0) -> 0 | N1014: =IF(WORKDAY(G1014,2)<M1014, "Dépassé","On time") -> On time
E1015: =WEEKNUM(F1015) -> 0 | H1015: =MAX(DAYS360(F1015,G1015),0) -> 0 | N1015: =IF(WORKDAY(G1015,2)<M1015, "Dépassé","On time") -> On time
... E4094: =WEEKNUM(F4094) -> 0 | H4094: =MAX(DAYS360(F4094,G4094),0) -> 0 | N4094: =IF(WORKDAY(G4094,2)<M4094, "Dépassé","On time") -> On time
E4095: =WEEKNUM(F4095) -> 0 | H4095: =MAX(DAYS360(F4095,G4095),0) -> 0
E4096: =WEEKNUM(F4096) -> 0 | H4096: =MAX(DAYS360(F4096,G4096),0) -> 0
E4097: =WEEKNUM(F4097) -> 0 | H4097: =MAX(DAYS360(F4097,G4097),0) -> 0
E4098: =WEEKNUM(F4098) -> 0 | H4098: =MAX(DAYS360(F4098,G4098),0) -> 0
E4099: =WEEKNUM(F4099) -> 0 | H4099: =MAX(DAYS360(F4099,G4099),0) -> 0
E4100: =WEEKNUM(F4100) -> 0 | H4100: =MAX(DAYS360(F4100,G4100),0) -> 0
E4101: =WEEKNUM(F4101) -> 0 | H4101: =MAX(DAYS360(F4101,G4101),0) -> 0
E4102: =WEEKNUM(F4102) -> 0 | H4102: =MAX(DAYS360(F4102,G4102),0) -> 0
E4103: =WEEKNUM(F4103) -> 0 | H4103: =MAX(DAYS360(F4103,G4103),0) -> 0
E4104: =WEEKNUM(F4104) -> 0 | H4104: =MAX(DAYS360(F4104,G4104),0) -> 0
E4105: =WEEKNUM(F4105) -> 0 | H4105: =MAX(DAYS360(F4105,G4105),0) -> 0
E4106: =WEEKNUM(F4106) -> 0 | H4106: =MAX(DAYS360(F4106,G4106),0) -> 0
... E6838: =WEEKNUM(F6838) -> 0 | H6838: =MAX(DAYS360(F6838,G6838),0) -> 0

Sheet Articles
A1: Designation | B1: CodeArt
A2: Standard Mat 5 | B2: A00704_KF
A3: Standard Halb 5 | B3: A00701_KF
A4: Standard Mat 1 | B4: A00704*_KF
A5: Standard Halb 1 | B5: A00701*_KF
A6: Ultra 5 | B6: 420 933 18
A7: Halb 5 | B7: 420 916 03
A8: PRIME 1 | B8: A00705_TD
A9: PRIME 5 | B9: A00705_KF
A10: Mat 30 L | B10: A00006_HB
A11: Seidenmat 30 L | B11: A00002_HB
A12: 2S Mat 30 L | B12: A01061_HB
... A16: Applicateur | B16: 178 000 12

Sheet Stat de ventes
A1: Produits | B1: CodeArt | C1: Janvier | D1: Février | E1: Mars | F1: Avril | G1: Mai | H1: Juin | I1: Juillet | J1: Août | K1: Septembre | L1: Octobre | M1: Novembre | N1: Décembre
A2: Standard Mat 5 | B2: A00704_KF
A3: Standard Halb 5 | B3: A00701_KF
A4: Standard Mat 1 | B4: A00704*_KF
A5: Standard Halb 1 | B5: A00701*_KF
A6: Ultra 5 | B6: 420 933 18
A7: Halb 5 | B7: 420 916 03
A8: PRIME 1 | B8: A00705_TD
A9: PRIME 5 | B9: A00705_KF
A10: Mat 30 L | B10: A00006_HB
A11: Seidenmat 30 L | B11: A00002_HB
A12: 2S Mat 30 L | B12: A01061_HB
A13: 2S Seidenmatt 30 L | B13: A01057_HB
... A16: Applicateur | B16: 178 000 12
