Workbook

Sheet Feuil1
B4: Heure | C4: Type d’enregistrement | D4: Historique du taux de glucose (mg/dL) | E4: Taux de glucose scanné (mg/dL) | F4: Insuline à action rapide (unités) | G4: Insuline à action Mixte (unités) | H4: Insuline à action lente (unités) | K4: Insuline à action rapide (1 unités) Mise à l'échelle | L4: Insuline à action Mixte (1 unités) Mise à l'échelle | M4: Insuline à action lente (1 unités) Mise à l'échelle | S4: Insuline à action rapide (calcul d'échelle) | T4: Insuline à action Mixte (calcul d'échelle) | U4: Insuline à action lente (calcul d'échelle)
B5: 42976.303 | C5: 0 | D5: 172
B6: 42976.314 | C6: 0 | D6: 173
B7: 42976.331 | C7: 1 | E7: 172 | F7: 4 | K7: =PRODUCT(F7,S7) -> #VALUE! | S7: =IF(Feuil1!$F$7>0,Feuil1!S8:S26=Feuil2!$C$4:$C$22) -> #VALUE!
B8: 42976.324 | C8: 0 | D8: 184 | K8: =PRODUCT(F8,S8) -> 0 | T8: =Feuil2!C4 -> 0
B9: 42976.335 | C9: 0 | D9: 192 | K9: =PRODUCT(F9,S9) -> 0 | T9: =Feuil2!C5 -> 0
B10: 42976.345 | C10: 0 | D10: 192 | K10: =PRODUCT(F10,S10) -> 0 | T10: =Feuil2!C6 -> 0
B11: 42976.356 | C11: 0 | D11: 210 | K11: =PRODUCT(F11,S11) -> 0 | T11: =Feuil2!C7 -> 34
B12: 42976.366 | C12: 0 | D12: 254 | K12: =PRODUCT(F12,S12) -> 0 | T12: =Feuil2!C8 -> 0
B13: 42976.376 | C13: 0 | D13: 298 | K13: =PRODUCT(F13,S13) -> 0 | T13: =Feuil2!C9 -> 0
B14: 42976.387 | C14: 0 | D14: 320 | K14: =PRODUCT(F14,S14) -> 0 | T14: =Feuil2!C10 -> 0
B15: 42976.397 | C15: 0 | D15: 312 | K15: =PRODUCT(F15,S15) -> 0 | T15: =Feuil2!C11 -> 0
B16: 42976.408 | C16: 0 | D16: 297 | K16: =PRODUCT(F16,S16) -> 0 | T16: =Feuil2!C12 -> 0
B17: 42976.424 | C17: 1 | E17: 293 | K17: =PRODUCT(F17,S17) -> 0 | T17: =Feuil2!C13 -> 0
B18: 42976.418 | C18: 0 | D18: 290 | K18: =PRODUCT(F18,S18) -> 0 | T18: =Feuil2!C14 -> 0
B19: 42976.428 | C19: 0 | D19: 292 | K19: =PRODUCT(F19,S19) -> 0 | T19: =Feuil2!C15 -> 0
B20: 42976.439 | C20: 0 | D20: 301 | K20: =PRODUCT(F20,S20) -> 0 | T20: =Feuil2!C16 -> 0
B21: 42976.449 | C21: 0 | D21: 309 | K21: =PRODUCT(F21,S21) -> 0 | T21: =Feuil2!C17 -> 0
B22: 42976.46 | C22: 0 | D22: 307 | K22: =PRODUCT(F22,S22) -> 0 | T22: =Feuil2!C18 -> 0
B23: 42976.47 | C23: 0 | D23: 294 | K23: =PRODUCT(F23,S23) -> 0 | T23: =Feuil2!C19 -> 0
B24: 42976.481 | C24: 0 | D24: 279 | K24: =PRODUCT(F24,S24) -> 0 | T24: =Feuil2!C20 -> 0
B25: 42976.501 | C25: 1 | E25: 271 | G25: 6 | K25: =PRODUCT(F25,S25) -> 0 | T25: =Feuil2!C21 -> 0
B26: 42976.491 | C26: 0 | D26: 269 | K26: =PRODUCT(F26,S26) -> 0 | T26: =Feuil2!C22 -> 0
B27: 42976.501 | C27: 0 | D27: 255 | K27: =PRODUCT(F27,S27) -> 0

Sheet Feuil2
A2: Temps | B2: Valeur | C2: Humaine | D2: Insuline à action rapide (1 unités) | E2: Coef multiplicateur | F2: Insuline à action rapide (1 unités) Mise à l'échelle
A3: 0 | B3: 0 | D3: 0 | E3: 1.5 | F3: =PRODUCT(D3,1/E3) -> 0
A4: 0.010416667 | B4: 0.8 | D4: 38 | E4: 1.5 | F4: =PRODUCT(D4,1/E4) -> 25.333333
A5: 0.020833333 | D5: 60 | E5: 1.5 | F5: =PRODUCT(D5,1/E5) -> 40
A6: 0.03125 | D6: 57 | E6: 1.5 | F6: =PRODUCT(D6,1/E6) -> 38
A7: 0.041666667 | C7: 34 | D7: 51 | E7: 1.5 | F7: =PRODUCT(D7,1/E7) -> 34
A8: 0.052083333 | D8: 44 | E8: 1.5 | F8: =PRODUCT(D8,1/E8) -> 29.333333
A9: 0.0625 | D9: 39 | E9: 1.5 | F9: =PRODUCT(D9,1/E9) -> 26
A10: 0.072916667 | D10: 34 | E10: 1.5 | F10: =PRODUCT(D10,1/E10) -> 22.666667
A11: 0.083333333 | D11: 28 | E11: 1.5 | F11: =PRODUCT(D11,1/E11) -> 18.666667
A12: 0.09375 | D12: 24 | E12: 1.5 | F12: =PRODUCT(D12,1/E12) -> 16
A13: 0.10416667 | D13: 19 | E13: 1.5 | F13: =PRODUCT(D13,1/E13) -> 12.666667
A14: 0.11458333 | D14: 15 | E14: 1.5 | F14: =PRODUCT(D14,1/E14) -> 10
A15: 0.125 | D15: 12 | E15: 1.5 | F15: =PRODUCT(D15,1/E15) -> 8
A16: 0.13541667 | D16: 8 | E16: 1.5 | F16: =PRODUCT(D16,1/E16) -> 5.3333333
A17: 0.14583333 | D17: 6 | E17: 1.5 | F17: =PRODUCT(D17,1/E17) -> 4
A18: 0.15625 | D18: 5 | E18: 1.5 | F18: =PRODUCT(D18,1/E18) -> 3.3333333
A19: 0.16666667 | D19: 3 | E19: 1.5 | F19: =PRODUCT(D19,1/E19) -> 2
... A23: 0.20833333 | D23: 0 | E23: 1.5 | F23: =PRODUCT(D23,1/E23) -> 0
