Workbook

Sheet Epreuve 1
B1: Accomplissement épreuve | C1: Implication | D1: Tenue | E1: Attitude | F1: Autonomie | G1: Moyenne | H1: Appréciation | I1: Commentaires
A2: Equipier 1
A3: Equipier 2
A4: Equipier 3 | B4: 4 | C4: 4 | D4: 4 | E4: 5 | F4: 4 | G4: =((B4*'Coefficients et barème'!B2)+(C4*'Coefficients et barème'!C2)+(D4*'Coefficients et barème'!D2)+(E4*'Coefficients et barème'!E2)+(F4*'Coefficients et barème'!F2))/'Coefficients et barème'!G2 -> 4.125
A5: Equipier 4 | B5: 4 | C5: 5 | D5: 5 | E5: 5 | F5: 5 | G5: =((B5*'Coefficients et barème'!B3)+(C5*'Coefficients et barème'!C3)+(D5*'Coefficients et barème'!D3)+(E5*'Coefficients et barème'!E3)+(F5*'Coefficients et barème'!F3))/'Coefficients et barème'!G3 -> 4.6666667
A6: Equipier 5 | B6: 5 | C6: 4 | D6: 5 | E6: 4 | F6: 3 | G6: =((B6*'Coefficients et barème'!B4)+(C6*'Coefficients et barème'!C4)+(D6*'Coefficients et barème'!D4)+(E6*'Coefficients et barème'!E4)+(F6*'Coefficients et barème'!F4))/'Coefficients et barème'!G4 -> #DIV/0!
A7: Equipier 6 | G7: =((B7*'Coefficients et barème'!B4)+(C7*'Coefficients et barème'!C4)+(D7*'Coefficients et barème'!D4)+(E7*'Coefficients et barème'!E4)+(F7*'Coefficients et barème'!F4))/'Coefficients et barème'!G4 -> #DIV/0!
A8: Equipier 7 | B8: 4 | C8: 4 | D8: 4 | E8: 3 | F8: 3 | G8: =((B8*'Coefficients et barème'!B6)+(C8*'Coefficients et barème'!C6)+(D8*'Coefficients et barème'!D6)+(E8*'Coefficients et barème'!E6)+(F8*'Coefficients et barème'!F6))/'Coefficients et barème'!G6 -> #DIV/0!
A9: Equipier 8 | B9: 4 | C9: 4 | D9: 4 | E9: 3 | F9: 3 | G9: =((B9*'Coefficients et barème'!B6)+(C9*'Coefficients et barème'!C6)+(D9*'Coefficients et barème'!D6)+(E9*'Coefficients et barème'!E6)+(F9*'Coefficients et barème'!F6))/'Coefficients et barème'!G6 -> #DIV/0!
A10: Equipier 9 | B10: 4 | C10: 4 | D10: 4 | E10: 4 | F10: 5 | G10: =((B10*'Coefficients et barème'!B8)+(C10*'Coefficients et barème'!C8)+(D10*'Coefficients et barème'!D8)+(E10*'Coefficients et barème'!E8)+(F10*'Coefficients et barème'!F8))/'Coefficients et barème'!G8 -> #DIV/0!
A11: Equipier 10 | B11: 3 | C11: 3 | D11: 3 | E11: 2 | F11: 3 | G11: =((B11*'Coefficients et barème'!B8)+(C11*'Coefficients et barème'!C8)+(D11*'Coefficients et barème'!D8)+(E11*'Coefficients et barème'!E8)+(F11*'Coefficients et barème'!F8))/'Coefficients et barème'!G8 -> #DIV/0!
A12: Equipier 11 | E12: 5 | G12: =((B12*'Coefficients et barème'!B10)+(C12*'Coefficients et barème'!C10)+(D12*'Coefficients et barème'!D10)+(E12*'Coefficients et barème'!E10)+(F12*'Coefficients et barème'!F10))/'Coefficients et barème'!G10 -> #DIV/0!
A13: Equipier 12 | B13: 5 | C13: 4 | D13: 4 | E13: 4 | F13: 4 | G13: =((B13*'Coefficients et barème'!B10)+(C13*'Coefficients et barème'!C10)+(D13*'Coefficients et barème'!D10)+(E13*'Coefficients et barème'!E10)+(F13*'Coefficients et barème'!F10))/'Coefficients et barème'!G10 -> #DIV/0!
A14: Equipier 13 | G14: =((B14*'Coefficients et barème'!B12)+(C14*'Coefficients et barème'!C12)+(D14*'Coefficients et barème'!D12)+(E14*'Coefficients et barème'!E12)+(F14*'Coefficients et barème'!F12))/'Coefficients et barème'!G12 -> #DIV/0!
A15: Equipier 14 | G15: =((B15*'Coefficients et barème'!B12)+(C15*'Coefficients et barème'!C12)+(D15*'Coefficients et barème'!D12)+(E15*'Coefficients et barème'!E12)+(F15*'Coefficients et barème'!F12))/'Coefficients et barème'!G12 -> #DIV/0!
A16: Equipier 15 | G16: =((B16*'Coefficients et barème'!B14)+(C16*'Coefficients et barème'!C14)+(D16*'Coefficients et barème'!D14)+(E16*'Coefficients et barème'!E14)+(F16*'Coefficients et barème'!F14))/'Coefficients et barème'!G14 -> #DIV/0!
A17: Equipier 16 | G17: =((B17*'Coefficients et barème'!B14)+(C17*'Coefficients et barème'!C14)+(D17*'Coefficients et barème'!D14)+(E17*'Coefficients et barème'!E14)+(F17*'Coefficients et barème'!F14))/'Coefficients et barème'!G14 -> #DIV/0!
A18: Equipier 17 | G18: =((B18*'Coefficients et barème'!B16)+(C18*'Coefficients et barème'!C16)+(D18*'Coefficients et barème'!D16)+(E18*'Coefficients et barème'!E16)+(F18*'Coefficients et barème'!F16))/'Coefficients et barème'!G16 -> #DIV/0!
A19: Equipier 18 | G19: =((B19*'Coefficients et barème'!B16)+(C19*'Coefficients et barème'!C16)+(D19*'Coefficients et barème'!D16)+(E19*'Coefficients et barème'!E16)+(F19*'Coefficients et barème'!F16))/'Coefficients et barème'!G16 -> #DIV/0!
A20: Equipier 19 | G20: =((B20*'Coefficients et barème'!B18)+(C20*'Coefficients et barème'!C18)+(D20*'Coefficients et barème'!D18)+(E20*'Coefficients et barème'!E18)+(F20*'Coefficients et barème'!F18))/'Coefficients et barème'!G18 -> #DIV/0!
A21: Equipier 20 | B21: 3 | C21: 2 | D21: 5 | E21: 3 | F21: 4 | G21: =((B21*'Coefficients et barème'!B18)+(C21*'Coefficients et barème'!C18)+(D21*'Coefficients et barème'!D18)+(E21*'Coefficients et barème'!E18)+(F21*'Coefficients et barème'!F18))/'Coefficients et barème'!G18 -> #DIV/0!
A22: Equipier 21 | G22: =((B22*'Coefficients et barème'!B20)+(C22*'Coefficients et barème'!C20)+(D22*'Coefficients et barème'!D20)+(E22*'Coefficients et barème'!E20)+(F22*'Coefficients et barème'!F20))/'Coefficients et barème'!G20 -> #DIV/0!
A23: Equipier 22 | G23: =((B23*'Coefficients et barème'!B20)+(C23*'Coefficients et barème'!C20)+(D23*'Coefficients et barème'!D20)+(E23*'Coefficients et barème'!E20)+(F23*'Coefficients et barème'!F20))/'Coefficients et barème'!G20 -> #DIV/0!
A24: Leader 1 | G24: =((B24*'Coefficients et barème'!B22)+(C24*'Coefficients et barème'!C22)+(D24*'Coefficients et barème'!D22)+(E24*'Coefficients et barème'!E22)+(F24*'Coefficients et barème'!F22))/'Coefficients et barème'!G22 -> #DIV/0!
A25: Leader 2 | G25: =((B25*'Coefficients et barème'!B22)+(C25*'Coefficients et barème'!C22)+(D25*'Coefficients et barème'!D22)+(E25*'Coefficients et barème'!E22)+(F25*'Coefficients et barème'!F22))/'Coefficients et barème'!G22 -> #DIV/0!
A26: Leader 3 | G26: =((B26*'Coefficients et barème'!B24)+(C26*'Coefficients et barème'!C24)+(D26*'Coefficients et barème'!D24)+(E26*'Coefficients et barème'!E24)+(F26*'Coefficients et barème'!F24))/'Coefficients et barème'!G24 -> #DIV/0!
A27: Leader 4 | G27: =((B27*'Coefficients et barème'!B24)+(C27*'Coefficients et barème'!C24)+(D27*'Coefficients et barème'!D24)+(E27*'Coefficients et barème'!E24)+(F27*'Coefficients et barème'!F24))/'Coefficients et barème'!G24 -> #DIV/0!
A28: Leader 5 | G28: =((B28*'Coefficients et barème'!B26)+(C28*'Coefficients et barème'!C26)+(D28*'Coefficients et barème'!D26)+(E28*'Coefficients et barème'!E26)+(F28*'Coefficients et barème'!F26))/'Coefficients et barème'!G26 -> #DIV/0!

Sheet Coefficients et barème
B1: Accomplissement mission | C1: Implication | D1: Tenue | E1: Attitude | F1: Autonomie | G1: TOTAL | I1: Valeur minimale | J1: Valeur maximale | K1: Appréciation à afficher
A2: Equipier | B2: 3 | C2: 2 | D2: 1 | E2: 1 | F2: 1 | G2: =SUM(B2:F2) -> 8 | I2: 0 | J2: 0.99 | K2: Insuffisant
A3: Leader | B3: 3 | C3: 2 | D3: 1 | E3: 1 | F3: 2 | G3: =SUM(B3:F3) -> 9 | I3: 1 | J3: 1.99 | K3: Passable
I4: 2 | J4: 2.99 | K4: Juste
I5: 3 | J5: 3.99 | K5: Bien
I6: 4 | J6: 4.49 | K6: Très bien
I7: 4.5 | J7: 5 | K7: Excellent
