Workbook

Sheet Feuil1
B3: Heure de début | C3: Heure de Fin | D3: Total
A6: FC | B6: 0.29166667 | C6: 0.60416667 | D6: =C6-B6 -> 0.3125
A7: BF | B7: 0.29166667 | C7: 0.60416667 | D7: =C7-B7 -> 0.3125
A8: FJ | B8: 0.29166667 | C8: 0.60416667 | D8: =C8-B8 -> 0.3125
A9: FJ2 | B9: 0.29166667 | C9: 0.60416667 | D9: =C9-B9 -> 0.3125
A10: PB | B10: 0.29166667 | C10: 0.60416667 | D10: =C10-B10 -> 0.3125
A11: VB | B11: 0.29166667 | C11: 0.60416667 | D11: =C11-B11 -> 0.3125
A12: VB2 | B12: 0.29166667 | C12: 0.60416667 | D12: =C12-B12 -> 0.3125
A13: VB3 | B13: 0.29166667 | C13: 0.5 | D13: =C13-B13 -> 0.20833333
A14: VB4 | B14: 0.29166667 | C14: 0.60416667 | D14: =C14-B14 -> 0.3125
A15: S1 | B15: 0.5625 | C15: 0.875 | D15: =C15-B15 -> 0.3125
A16: S2 | B16: 0.5625 | C16: 0.875 | D16: =C16-B16 -> 0.3125
A17: S3 | B17: 0.58333333 | C17: 0.89583333 | D17: =C17-B17 -> 0.3125
... A20: SFJ2 | B20: 0.58333333 | C20: 0.89583333 | D20: =C20-B20 -> 0.3125
A21: N1 | B21: 0.85416667 | C21: 0.27083333 | D21: 0.41666667
A22: N2 | B22: 0.88541667 | C22: 0.30208333 | D22: 0.41666667
A23: PASA | B23: 0.39583333 | C23: 0.72916667 | D23: =C23-B23 -> 0.33333333
A24: ACJ | B24: 0.39583333 | C24: 0.72916667 | D24: =C24-B24 -> 0.33333333
A25: A | B25: 0.41666667 | C25: 0.72916667 | D25: =C25-B25 -> 0.3125
A26: FC+BFmg | B26: 0.33333333 | C26: 0.625 | D26: =C26-B26 -> 0.29166667
A27: PBMG | B27: 0.33333333 | C27: 0.54166667 | D27: =C27-B27 -> 0.20833333
A28: VBMG | B28: 0.33333333 | C28: 0.64583333 | D28: =C28-B28 -> 0.3125
A29: T | B29: 0.33333333 | C29: 0.5625 | D29: =C29-B29 -> 0.22916667
A30: MSERV | B30: 0.33333333 | C30: 0.625 | D30: =C30-B30 -> 0.29166667
A31: Sserv | B31: 0.5625 | C31: 0.875 | D31: =C31-B31 -> 0.3125
A32: S4 | B32: 0.64583333 | C32: 0.875 | D32: =C32-B32 -> 0.22916667
A33: SMG | B33: 0.58333333 | C33: 0.875 | D33: =C33-B33 -> 0.29166667
A34: SMGW | B34: 0.5625 | C34: 0.875 | D34: =C34-B34 -> 0.3125
A35: A/SMG | B35: 0.58333333 | C35: 0.875 | D35: =C35-B35 -> 0.29166667
A36: CW | D36: 0.3125
A37: L | B37: 0.375 | C37: 0.66666667 | D37: =C37-B37 -> 0.29166667
A38: F | D38: 0.29166667
A39: FC+BFmgr | B39: 0.33333333 | C39: 0.625 | D39: =C39-B39 -> 0.29166667
A40: VBrMG | B40: 0.33333333 | C40: 0.625 | D40: =C40-B40 -> 0.29166667
A41: MSERVr | B41: 0.33333333 | C41: 0.625 | D41: =C41-B41 -> 0.29166667
A42: SSERVr | B42: 0.58333333 | C42: 0.875 | D42: =C42-B42 -> 0.29166667
A43: Lr | B43: 0.375 | C43: 0.66666667 | D43: =C43-B43 -> 0.29166667

Sheet Janvier 2018
A1: PLANNING JANVIER 2018
B3: 1 | C3: =B3+1 -> 2 | D3: =C3+1 -> 3 | E3: =D3+1 -> 4 | F3: =E3+1 -> 5 | G3: =F3+1 -> 6 | H3: =G3+1 -> 7 | I3: =H3+1 -> 8 | J3: =I3+1 -> 9 | ... AF3: =AE3+1 -> 31
A4: AS / AMP
A5: 1 | B5: RC | C5: CA | D5: R | E5: VB | F5: S1 | G5: R | H5: R | I5: FC | J5: FC | K5: S3 | L5: S2 | M5: R | N5: S3 | O5: S3 | P5: S1 | Q5: R | R5: PB | S5: ACJ | T5: PB | U5: R | V5: R | W5: VB | X5: VB | Y5: FC | Z5: FC | AA5: R | AB5: VB | AC5: VB | AD5: S1 | AE5: R | AF5: BF | AG5: =SUM(B6:AF6) -> 7 | AH5: =SUM(B7:AF7) -> 6.25 | AI5: FC/BF/FJ/
B6: =IF(B5=Feuil1!$A$15,1)+IF(B5=Feuil1!$A$16,1)+IF(B5=Feuil1!$A$17,1)+IF(B5=Feuil1!$A$18,1)+IF(B5=Feuil1!$A$19,1)+IF(B5=Feuil1!$A$20,1)+IF(B5=Feuil1!$A$31,1)+IF(B5=Feuil1!$A$32,1)+IF(B5=Feuil1!$A$33,1)+IF(B5=Feuil1!$A$34,1) -> 0 | C6: =IF(C5=Feuil1!$A$15,1)+IF(C5=Feuil1!$A$16,1)+IF(C5=Feuil1!$A$17,1)+IF(C5=Feuil1!$A$18,1)+IF(C5=Feuil1!$A$19,1)+IF(C5=Feuil1!$A$20,1)+IF(C5=Feuil1!$A$31,1)+IF(C5=Feuil1!$A$32,1)+IF(C5=Feuil1!$A$33,1)+IF(C5=Feuil1!$A$34,1) -> 0 | D6: =IF(D5=Feuil1!$A$15,1)+IF(D5=Feuil1!$A$16,1)+IF(D5=Feuil1!$A$17,1)+IF(D5=Feuil1!$A$18,1)+IF(D5=Feuil1!$A$19,1)+IF(D5=Feuil1!$A$20,1)+IF(D5=Feuil1!$A$31,1)+IF(D5=Feuil1!$A$32,1)+IF(D5=Feuil1!$A$33,1)+IF(D5=Feuil1!$A$34,1) -> 0 | E6: =IF(E5=Feuil1!$A$15,1)+IF(E5=Feuil1!$A$16,1)+IF(E5=Feuil1!$A$17,1)+IF(E5=Feuil1!$A$18,1)+IF(E5=Feuil1!$A$19,1)+IF(E5=Feuil1!$A$20,1)+IF(E5=Feuil1!$A$31,1)+IF(E5=Feuil1!$A$32,1)+IF(E5=Feuil1!$A$33,1)+IF(E5=Feuil1!$A$34,1) -> 0 | F6: =IF(F5=Feuil1!$A$15,1)+IF(F5=Feuil1!$A$16,1)+IF(F5=Feuil1!$A$17,1)+IF(F5=Feuil1!$A$18,1)+IF(F5=Feuil1!$A$19,1)+IF(F5=Feuil1!$A$20,1)+IF(F5=Feuil1!$A$31,1)+IF(F5=Feuil1!$A$32,1)+IF(F5=Feuil1!$A$33,1)+IF(F5=Feuil1!$A$34,1) -> 1 | G6: =IF(G5=Feuil1!$A$15,1)+IF(G5=Feuil1!$A$16,1)+IF(G5=Feuil1!$A$17,1)+IF(G5=Feuil1!$A$18,1)+IF(G5=Feuil1!$A$19,1)+IF(G5=Feuil1!$A$20,1)+IF(G5=Feuil1!$A$31,1)+IF(G5=Feuil1!$A$32,1)+IF(G5=Feuil1!$A$33,1)+IF(G5=Feuil1!$A$34,1) -> 0 | H6: =IF(H5=Feuil1!$A$15,1)+IF(H5=Feuil1!$A$16,1)+IF(H5=Feuil1!$A$17,1)+IF(H5=Feuil1!$A$18,1)+IF(H5=Feuil1!$A$19,1)+IF(H5=Feuil1!$A$20,1)+IF(H5=Feuil1!$A$31,1)+IF(H5=Feuil1!$A$32,1)+IF(H5=Feuil1!$A$33,1)+IF(H5=Feuil1!$A$34,1) -> 0 | I6: =IF(I5=Feuil1!$A$15,1)+IF(I5=Feuil1!$A$16,1)+IF(I5=Feuil1!$A$17,1)+IF(I5=Feuil1!$A$18,1)+IF(I5=Feuil1!$A$19,1)+IF(I5=Feuil1!$A$20,1)+IF(I5=Feuil1!$A$31,1)+IF(I5=Feuil1!$A$32,1)+IF(I5=Feuil1!$A$33,1)+IF(I5=Feuil1!$A$34,1) -> 0 | ... AF6: =IF(AF5=Feuil1!$A$15,1)+IF(AF5=Feuil1!$A$16,1)+IF(AF5=Feuil1!$A$17,1)+IF(AF5=Feuil1!$A$18,1)+IF(AF5=Feuil1!$A$19,1)+IF(AF5=Feuil1!$A$20,1)+IF(AF5=Feuil1!$A$31,1)+IF(AF5=Feuil1!$A$32,1)+IF(AF5=Feuil1!$A$33,1)+IF(AF5=Feuil1!$A$34,1) -> 0
B7: =IF(B5=Feuil1!$A$6,Feuil1!$D$6,0)+IF(B5=Feuil1!$A$7,Feuil1!$D$7,0)+IF(B5=Feuil1!$A$8,Feuil1!$D$8,0)+IF(B5=Feuil1!$A$9,Feuil1!$D$9,0)+IF(B5=Feuil1!$A$10,Feuil1!$D$10,0)+IF(B5=Feuil1!$A$11,Feuil1!$D$11,0)+IF(B5=Feuil1!$A$12,Feuil1!$D$12,0)+IF(B5=Feuil1!$A$13,Feuil1!$D$13,0)+IF(B5=Feuil1!$A$14,Feuil1!$D$14,0)+IF(B5=Feuil1!$A$15,Feuil1!$D$15,0)+IF(B5=Feuil1!$A$16,Feuil1!$D$16,0)+IF(B5=Feuil1!$A$17,Feuil1!$D$17,0)+IF(B5=Feuil1!$A$18,Feuil1!$D$18,0)+IF(B5=Feuil1!$A$19,Feuil1!$D$19,0)+IF(B5=Feuil1!$A$20,Feuil1!$D$20,0)+IF(B5=Feuil1!$A$21,Feuil1!$D$21,0)+IF(B5=Feuil1!$A$22,Feuil1!$D$22,0)+IF(B5=Feuil1!$A$23,Feuil1!$D$23,0)+IF(B5=Feuil1!$A$24,Feuil1!$D$25,0)+IF(B5=Feuil1!$A$26,Feuil1!$D$26,0)+IF(B5=Feuil1!$A$27,Feuil1!$D$27,0)+IF(B5=Feuil1!$A$28,Feuil1!$D$28,0)+IF(B5=Feuil1!$A$29,Feuil1!$D$29,0)+IF(B5=Feuil1!$A$30,Feuil1!$D$30,0)+IF(B5=Feuil1!$A$31,Feuil1!$D$31,0)+IF(B5=Feuil1!$A$32,Feuil1!$D$32,0)+IF(B5=Feuil1!$A$33,Feuil1!$D$33,0)+IF(B5=Feuil1!$A$34,Feuil1!$D$34,0)+IF(B5=Feuil1!$A$35,Feuil1!$D$35,0)+IF(B5=Feuil1!$A$36,Feuil1!$D$36,0)+IF(B5=Feuil1!$A$37,Feuil1!$D$37,0)+IF(B5=Feuil1!$A$38,Feuil1!$D$38,0)+IF(B5=Feuil1!A25,Feuil1!D25,0) -> 0 | C7: =IF(C5=Feuil1!$A$6,Feuil1!$D$6,0)+IF(C5=Feuil1!$A$7,Feuil1!$D$7,0)+IF(C5=Feuil1!$A$8,Feuil1!$D$8,0)+IF(C5=Feuil1!$A$9,Feuil1!$D$9,0)+IF(C5=Feuil1!$A$10,Feuil1!$D$10,0)+IF(C5=Feuil1!$A$11,Feuil1!$D$11,0)+IF(C5=Feuil1!$A$12,Feuil1!$D$12,0)+IF(C5=Feuil1!$A$13,Feuil1!$D$13,0)+IF(C5=Feuil1!$A$14,Feuil1!$D$14,0)+IF(C5=Feuil1!$A$15,Feuil1!$D$15,0)+IF(C5=Feuil1!$A$16,Feuil1!$D$16,0)+IF(C5=Feuil1!$A$17,Feuil1!$D$17,0)+IF(C5=Feuil1!$A$18,Feuil1!$D$18,0)+IF(C5=Feuil1!$A$19,Feuil1!$D$19,0)+IF(C5=Feuil1!$A$20,Feuil1!$D$20,0)+IF(C5=Feuil1!$A$21,Feuil1!$D$21,0)+IF(C5=Feuil1!$A$22,Feuil1!$D$22,0)+IF(C5=Feuil1!$A$23,Feuil1!$D$23,0)+IF(C5=Feuil1!$A$24,Feuil1!$D$25,0)+IF(C5=Feuil1!$A$26,Feuil1!$D$26,0)+IF(C5=Feuil1!$A$27,Feuil1!$D$27,0)+IF(C5=Feuil1!$A$28,Feuil1!$D$28,0)+IF(C5=Feuil1!$A$29,Feuil1!$D$29,0)+IF(C5=Feuil1!$A$30,Feuil1!$D$30,0)+IF(C5=Feuil1!$A$31,Feuil1!$D$31,0)+IF(C5=Feuil1!$A$32,Feuil1!$D$32,0)+IF(C5=Feuil1!$A$33,Feuil1!$D$33,0)+IF(C5=Feuil1!$A$34,Feuil1!$D$34,0)+IF(C5=Feuil1!$A$35,Feuil1!$D$35,0)+IF(C5=Feuil1!$A$36,Feuil1!$D$36,0)+IF(C5=Feuil1!$A$37,Feuil1!$D$37,0)+IF(C5=Feuil1!$A$38,Feuil1!$D$38,0)+IF(C5=Feuil1!B25,Feuil1!E25,0) -> 0 | D7: =IF(D5=Feuil1!$A$6,Feuil1!$D$6,0)+IF(D5=Feuil1!$A$7,Feuil1!$D$7,0)+IF(D5=Feuil1!$A$8,Feuil1!$D$8,0)+IF(D5=Feuil1!$A$9,Feuil1!$D$9,0)+IF(D5=Feuil1!$A$10,Feuil1!$D$10,0)+IF(D5=Feuil1!$A$11,Feuil1!$D$11,0)+IF(D5=Feuil1!$A$12,Feuil1!$D$12,0)+IF(D5=Feuil1!$A$13,Feuil1!$D$13,0)+IF(D5=Feuil1!$A$14,Feuil1!$D$14,0)+IF(D5=Feuil1!$A$15,Feuil1!$D$15,0)+IF(D5=Feuil1!$A$16,Feuil1!$D$16,0)+IF(D5=Feuil1!$A$17,Feuil1!$D$17,0)+IF(D5=Feuil1!$A$18,Feuil1!$D$18,0)+IF(D5=Feuil1!$A$19,Feuil1!$D$19,0)+IF(D5=Feuil1!$A$20,Feuil1!$D$20,0)+IF(D5=Feuil1!$A$21,Feuil1!$D$21,0)+IF(D5=Feuil1!$A$22,Feuil1!$D$22,0)+IF(D5=Feuil1!$A$23,Feuil1!$D$23,0)+IF(D5=Feuil1!$A$24,Feuil1!$D$25,0)+IF(D5=Feuil1!$A$26,Feuil1!$D$26,0)+IF(D5=Feuil1!$A$27,Feuil1!$D$27,0)+IF(D5=Feuil1!$A$28,Feuil1!$D$28,0)+IF(D5=Feuil1!$A$29,Feuil1!$D$29,0)+IF(D5=Feuil1!$A$30,Feuil1!$D$30,0)+IF(D5=Feuil1!$A$31,Feuil1!$D$31,0)+IF(D5=Feuil1!$A$32,Feuil1!$D$32,0)+IF(D5=Feuil1!$A$33,Feuil1!$D$33,0)+IF(D5=Feuil1!$A$34,Feuil1!$D$34,0)+IF(D5=Feuil1!$A$35,Feuil1!$D$35,0)+IF(D5=Feuil1!$A$36,Feuil1!$D$36,0)+IF(D5=Feuil1!$A$37,Feuil1!$D$37,0)+IF(D5=Feuil1!$A$38,Feuil1!$D$38,0)+IF(D5=Feuil1!C25,Feuil1!F25,0) -> 0 | E7: =IF(E5=Feuil1!$A$6,Feuil1!$D$6,0)+IF(E5=Feuil1!$A$7,Feuil1!$D$7,0)+IF(E5=Feuil1!$A$8,Feuil1!$D$8,0)+IF(E5=Feuil1!$A$9,Feuil1!$D$9,0)+IF(E5=Feuil1!$A$10,Feuil1!$D$10,0)+IF(E5=Feuil1!$A$11,Feuil1!$D$11,0)+IF(E5=Feuil1!$A$12,Feuil1!$D$12,0)+IF(E5=Feuil1!$A$13,Feuil1!$D$13,0)+IF(E5=Feuil1!$A$14,Feuil1!$D$14,0)+IF(E5=Feuil1!$A$15,Feuil1!$D$15,0)+IF(E5=Feuil1!$A$16,Feuil1!$D$16,0)+IF(E5=Feuil1!$A$17,Feuil1!$D$17,0)+IF(E5=Feuil1!$A$18,Feuil1!$D$18,0)+IF(E5=Feuil1!$A$19,Feuil1!$D$19,0)+IF(E5=Feuil1!$A$20,Feuil1!$D$20,0)+IF(E5=Feuil1!$A$21,Feuil1!$D$21,0)+IF(E5=Feuil1!$A$22,Feuil1!$D$22,0)+IF(E5=Feuil1!$A$23,Feuil1!$D$23,0)+IF(E5=Feuil1!$A$24,Feuil1!$D$25,0)+IF(E5=Feuil1!$A$26,Feuil1!$D$26,0)+IF(E5=Feuil1!$A$27,Feuil1!$D$27,0)+IF(E5=Feuil1!$A$28,Feuil1!$D$28,0)+IF(E5=Feuil1!$A$29,Feuil1!$D$29,0)+IF(E5=Feuil1!$A$30,Feuil1!$D$30,0)+IF(E5=Feuil1!$A$31,Feuil1!$D$31,0)+IF(E5=Feuil1!$A$32,Feuil1!$D$32,0)+IF(E5=Feuil1!$A$33,Feuil1!$D$33,0)+IF(E5=Feuil1!$A$34,Feuil1!$D$34,0)+IF(E5=Feuil1!$A$35,Feuil1!$D$35,0)+IF(E5=Feuil1!$A$36,Feuil1!$D$36,0)+IF(E5=Feuil1!$A$37,Feuil1!$D$37,0)+IF(E5=Feuil1!$A$38,Feuil1!$D$38,0)+IF(E5=Feuil1!D25,Feuil1!G25,0) -> 0.3125 | F7: =IF(F5=Feuil1!$A$6,Feuil1!$D$6,0)+IF(F5=Feuil1!$A$7,Feuil1!$D$7,0)+IF(F5=Feuil1!$A$8,Feuil1!$D$8,0)+IF(F5=Feuil1!$A$9,Feuil1!$D$9,0)+IF(F5=Feuil1!$A$10,Feuil1!$D$10,0)+IF(F5=Feuil1!$A$11,Feuil1!$D$11,0)+IF(F5=Feuil1!$A$12,Feuil1!$D$12,0)+IF(F5=Feuil1!$A$13,Feuil1!$D$13,0)+IF(F5=Feuil1!$A$14,Feuil1!$D$14,0)+IF(F5=Feuil1!$A$15,Feuil1!$D$15,0)+IF(F5=Feuil1!$A$16,Feuil1!$D$16,0)+IF(F5=Feuil1!$A$17,Feuil1!$D$17,0)+IF(F5=Feuil1!$A$18,Feuil1!$D$18,0)+IF(F5=Feuil1!$A$19,Feuil1!$D$19,0)+IF(F5=Feuil1!$A$20,Feuil1!$D$20,0)+IF(F5=Feuil1!$A$21,Feuil1!$D$21,0)+IF(F5=Feuil1!$A$22,Feuil1!$D$22,0)+IF(F5=Feuil1!$A$23,Feuil1!$D$23,0)+IF(F5=Feuil1!$A$24,Feuil1!$D$25,0)+IF(F5=Feuil1!$A$26,Feuil1!$D$26,0)+IF(F5=Feuil1!$A$27,Feuil1!$D$27,0)+IF(F5=Feuil1!$A$28,Feuil1!$D$28,0)+IF(F5=Feuil1!$A$29,Feuil1!$D$29,0)+IF(F5=Feuil1!$A$30,Feuil1!$D$30,0)+IF(F5=Feuil1!$A$31,Feuil1!$D$31,0)+IF(F5=Feuil1!$A$32,Feuil1!$D$32,0)+IF(F5=Feuil1!$A$33,Feuil1!$D$33,0)+IF(F5=Feuil1!$A$34,Feuil1!$D$34,0)+IF(F5=Feuil1!$A$35,Feuil1!$D$35,0)+IF(F5=Feuil1!$A$36,Feuil1!$D$36,0)+IF(F5=Feuil1!$A$37,Feuil1!$D$37,0)+IF(F5=Feuil1!$A$38,Feuil1!$D$38,0)+IF(F5=Feuil1!E25,Feuil1!H25,0) -> 0.3125 | G7: =IF(G5=Feuil1!$A$6,Feuil1!$D$6,0)+IF(G5=Feuil1!$A$7,Feuil1!$D$7,0)+IF(G5=Feuil1!$A$8,Feuil1!$D$8,0)+IF(G5=Feuil1!$A$9,Feuil1!$D$9,0)+IF(G5=Feuil1!$A$10,Feuil1!$D$10,0)+IF(G5=Feuil1!$A$11,Feuil1!$D$11,0)+IF(G5=Feuil1!$A$12,Feuil1!$D$12,0)+IF(G5=Feuil1!$A$13,Feuil1!$D$13,0)+IF(G5=Feuil1!$A$14,Feuil1!$D$14,0)+IF(G5=Feuil1!$A$15,Feuil1!$D$15,0)+IF(G5=Feuil1!$A$16,Feuil1!$D$16,0)+IF(G5=Feuil1!$A$17,Feuil1!$D$17,0)+IF(G5=Feuil1!$A$18,Feuil1!$D$18,0)+IF(G5=Feuil1!$A$19,Feuil1!$D$19,0)+IF(G5=Feuil1!$A$20,Feuil1!$D$20,0)+IF(G5=Feuil1!$A$21,Feuil1!$D$21,0)+IF(G5=Feuil1!$A$22,Feuil1!$D$22,0)+IF(G5=Feuil1!$A$23,Feuil1!$D$23,0)+IF(G5=Feuil1!$A$24,Feuil1!$D$25,0)+IF(G5=Feuil1!$A$26,Feuil1!$D$26,0)+IF(G5=Feuil1!$A$27,Feuil1!$D$27,0)+IF(G5=Feuil1!$A$28,Feuil1!$D$28,0)+IF(G5=Feuil1!$A$29,Feuil1!$D$29,0)+IF(G5=Feuil1!$A$30,Feuil1!$D$30,0)+IF(G5=Feuil1!$A$31,Feuil1!$D$31,0)+IF(G5=Feuil1!$A$32,Feuil1!$D$32,0)+IF(G5=Feuil1!$A$33,Feuil1!$D$33,0)+IF(G5=Feuil1!$A$34,Feuil1!$D$34,0)+IF(G5=Feuil1!$A$35,Feuil1!$D$35,0)+IF(G5=Feuil1!$A$36,Feuil1!$D$36,0)+IF(G5=Feuil1!$A$37,Feuil1!$D$37,0)+IF(G5=Feuil1!$A$38,Feuil1!$D$38,0)+IF(G5=Feuil1!F25,Feuil1!I25,0) -> 0 | H7: =IF(H5=Feuil1!$A$6,Feuil1!$D$6,0)+IF(H5=Feuil1!$A$7,Feuil1!$D$7,0)+IF(H5=Feuil1!$A$8,Feuil1!$D$8,0)+IF(H5=Feuil1!$A$9,Feuil1!$D$9,0)+IF(H5=Feuil1!$A$10,Feuil1!$D$10,0)+IF(H5=Feuil1!$A$11,Feuil1!$D$11,0)+IF(H5=Feuil1!$A$12,Feuil1!$D$12,0)+IF(H5=Feuil1!$A$13,Feuil1!$D$13,0)+IF(H5=Feuil1!$A$14,Feuil1!$D$14,0)+IF(H5=Feuil1!$A$15,Feuil1!$D$15,0)+IF(H5=Feuil1!$A$16,Feuil1!$D$16,0)+IF(H5=Feuil1!$A$17,Feuil1!$D$17,0)+IF(H5=Feuil1!$A$18,Feuil1!$D$18,0)+IF(H5=Feuil1!$A$19,Feuil1!$D$19,0)+IF(H5=Feuil1!$A$20,Feuil1!$D$20,0)+IF(H5=Feuil1!$A$21,Feuil1!$D$21,0)+IF(H5=Feuil1!$A$22,Feuil1!$D$22,0)+IF(H5=Feuil1!$A$23,Feuil1!$D$23,0)+IF(H5=Feuil1!$A$24,Feuil1!$D$25,0)+IF(H5=Feuil1!$A$26,Feuil1!$D$26,0)+IF(H5=Feuil1!$A$27,Feuil1!$D$27,0)+IF(H5=Feuil1!$A$28,Feuil1!$D$28,0)+IF(H5=Feuil1!$A$29,Feuil1!$D$29,0)+IF(H5=Feuil1!$A$30,Feuil1!$D$30,0)+IF(H5=Feuil1!$A$31,Feuil1!$D$31,0)+IF(H5=Feuil1!$A$32,Feuil1!$D$32,0)+IF(H5=Feuil1!$A$33,Feuil1!$D$33,0)+IF(H5=Feuil1!$A$34,Feuil1!$D$34,0)+IF(H5=Feuil1!$A$35,Feuil1!$D$35,0)+IF(H5=Feuil1!$A$36,Feuil1!$D$36,0)+IF(H5=Feuil1!$A$37,Feuil1!$D$37,0)+IF(H5=Feuil1!$A$38,Feuil1!$D$38,0)+IF(H5=Feuil1!G25,Feuil1!J25,0) -> 0 | I7: =IF(I5=Feuil1!$A$6,Feuil1!$D$6,0)+IF(I5=Feuil1!$A$7,Feuil1!$D$7,0)+IF(I5=Feuil1!$A$8,Feuil1!$D$8,0)+IF(I5=Feuil1!$A$9,Feuil1!$D$9,0)+IF(I5=Feuil1!$A$10,Feuil1!$D$10,0)+IF(I5=Feuil1!$A$11,Feuil1!$D$11,0)+IF(I5=Feuil1!$A$12,Feuil1!$D$12,0)+IF(I5=Feuil1!$A$13,Feuil1!$D$13,0)+IF(I5=Feuil1!$A$14,Feuil1!$D$14,0)+IF(I5=Feuil1!$A$15,Feuil1!$D$15,0)+IF(I5=Feuil1!$A$16,Feuil1!$D$16,0)+IF(I5=Feuil1!$A$17,Feuil1!$D$17,0)+IF(I5=Feuil1!$A$18,Feuil1!$D$18,0)+IF(I5=Feuil1!$A$19,Feuil1!$D$19,0)+IF(I5=Feuil1!$A$20,Feuil1!$D$20,0)+IF(I5=Feuil1!$A$21,Feuil1!$D$21,0)+IF(I5=Feuil1!$A$22,Feuil1!$D$22,0)+IF(I5=Feuil1!$A$23,Feuil1!$D$23,0)+IF(I5=Feuil1!$A$24,Feuil1!$D$25,0)+IF(I5=Feuil1!$A$26,Feuil1!$D$26,0)+IF(I5=Feuil1!$A$27,Feuil1!$D$27,0)+IF(I5=Feuil1!$A$28,Feuil1!$D$28,0)+IF(I5=Feuil1!$A$29,Feuil1!$D$29,0)+IF(I5=Feuil1!$A$30,Feuil1!$D$30,0)+IF(I5=Feuil1!$A$31,Feuil1!$D$31,0)+IF(I5=Feuil1!$A$32,Feuil1!$D$32,0)+IF(I5=Feuil1!$A$33,Feuil1!$D$33,0)+IF(I5=Feuil1!$A$34,Feuil1!$D$34,0)+IF(I5=Feuil1!$A$35,Feuil1!$D$35,0)+IF(I5=Feuil1!$A$36,Feuil1!$D$36,0)+IF(I5=Feuil1!$A$37,Feuil1!$D$37,0)+IF(I5=Feuil1!$A$38,Feuil1!$D$38,0)+IF(I5=Feuil1!H25,Feuil1!K25,0) -> 0.3125 | ... AF7: =IF(AF5=Feuil1!$A$6,Feuil1!$D$6,0)+IF(AF5=Feuil1!$A$7,Feuil1!$D$7,0)+IF(AF5=Feuil1!$A$8,Feuil1!$D$8,0)+IF(AF5=Feuil1!$A$9,Feuil1!$D$9,0)+IF(AF5=Feuil1!$A$10,Feuil1!$D$10,0)+IF(AF5=Feuil1!$A$11,Feuil1!$D$11,0)+IF(AF5=Feuil1!$A$12,Feuil1!$D$12,0)+IF(AF5=Feuil1!$A$13,Feuil1!$D$13,0)+IF(AF5=Feuil1!$A$14,Feuil1!$D$14,0)+IF(AF5=Feuil1!$A$15,Feuil1!$D$15,0)+IF(AF5=Feuil1!$A$16,Feuil1!$D$16,0)+IF(AF5=Feuil1!$A$17,Feuil1!$D$17,0)+IF(AF5=Feuil1!$A$18,Feuil1!$D$18,0)+IF(AF5=Feuil1!$A$19,Feuil1!$D$19,0)+IF(AF5=Feuil1!$A$20,Feuil1!$D$20,0)+IF(AF5=Feuil1!$A$21,Feuil1!$D$21,0)+IF(AF5=Feuil1!$A$22,Feuil1!$D$22,0)+IF(AF5=Feuil1!$A$23,Feuil1!$D$23,0)+IF(AF5=Feuil1!$A$24,Feuil1!$D$25,0)+IF(AF5=Feuil1!$A$26,Feuil1!$D$26,0)+IF(AF5=Feuil1!$A$27,Feuil1!$D$27,0)+IF(AF5=Feuil1!$A$28,Feuil1!$D$28,0)+IF(AF5=Feuil1!$A$29,Feuil1!$D$29,0)+IF(AF5=Feuil1!$A$30,Feuil1!$D$30,0)+IF(AF5=Feuil1!$A$31,Feuil1!$D$31,0)+IF(AF5=Feuil1!$A$32,Feuil1!$D$32,0)+IF(AF5=Feuil1!$A$33,Feuil1!$D$33,0)+IF(AF5=Feuil1!$A$34,Feuil1!$D$34,0)+IF(AF5=Feuil1!$A$35,Feuil1!$D$35,0)+IF(AF5=Feuil1!$A$36,Feuil1!$D$36,0)+IF(AF5=Feuil1!$A$37,Feuil1!$D$37,0)+IF(AF5=Feuil1!$A$38,Feuil1!$D$38,0)+IF(AF5=Feuil1!AE25,Feuil1!AH25,0) -> 0.3125
A8: =A5+1 -> 2 | B8: FJ | C8: R | D8: TP | E8: R | F8: PASA | G8: SFJ | H8: FJ | I8: PASA | J8: R | K8: TP | L8: PB | M8: RC | N8: R | O8: R | P8: CA | Q8: CA | R8: TP | S8: CA | T8: CA | U8: R | V8: R | W8: RTT | X8: RTT | Y8: TP | Z8: R | AA8: PASA | AB8: FJ | AC8: FJ | AD8: R | AE8: GIR | AF8: TP | AG8: =SUM(B9:AF9) -> 1 | AH8: =SUM(B10:AF10) -> 2.875 | AI8: FJ2/PB/ VB
A9: =A6+1 -> 1 | B9: =IF(B8=Feuil1!$A$15,1)+IF(B8=Feuil1!$A$16,1)+IF(B8=Feuil1!$A$17,1)+IF(B8=Feuil1!$A$18,1)+IF(B8=Feuil1!$A$19,1)+IF(B8=Feuil1!$A$20,1)+IF(B8=Feuil1!$A$31,1)+IF(B8=Feuil1!$A$32,1)+IF(B8=Feuil1!$A$33,1)+IF(B8=Feuil1!$A$34,1) -> 0 | C9: =IF(C8=Feuil1!$A$15,1)+IF(C8=Feuil1!$A$16,1)+IF(C8=Feuil1!$A$17,1)+IF(C8=Feuil1!$A$18,1)+IF(C8=Feuil1!$A$19,1)+IF(C8=Feuil1!$A$20,1)+IF(C8=Feuil1!$A$31,1)+IF(C8=Feuil1!$A$32,1)+IF(C8=Feuil1!$A$33,1)+IF(C8=Feuil1!$A$34,1) -> 0 | D9: =IF(D8=Feuil1!$A$15,1)+IF(D8=Feuil1!$A$16,1)+IF(D8=Feuil1!$A$17,1)+IF(D8=Feuil1!$A$18,1)+IF(D8=Feuil1!$A$19,1)+IF(D8=Feuil1!$A$20,1)+IF(D8=Feuil1!$A$31,1)+IF(D8=Feuil1!$A$32,1)+IF(D8=Feuil1!$A$33,1)+IF(D8=Feuil1!$A$34,1) -> 0 | E9: =IF(E8=Feuil1!$A$15,1)+IF(E8=Feuil1!$A$16,1)+IF(E8=Feuil1!$A$17,1)+IF(E8=Feuil1!$A$18,1)+IF(E8=Feuil1!$A$19,1)+IF(E8=Feuil1!$A$20,1)+IF(E8=Feuil1!$A$31,1)+IF(E8=Feuil1!$A$32,1)+IF(E8=Feuil1!$A$33,1)+IF(E8=Feuil1!$A$34,1) -> 0 | F9: =IF(F8=Feuil1!$A$15,1)+IF(F8=Feuil1!$A$16,1)+IF(F8=Feuil1!$A$17,1)+IF(F8=Feuil1!$A$18,1)+IF(F8=Feuil1!$A$19,1)+IF(F8=Feuil1!$A$20,1)+IF(F8=Feuil1!$A$31,1)+IF(F8=Feuil1!$A$32,1)+IF(F8=Feuil1!$A$33,1)+IF(F8=Feuil1!$A$34,1) -> 0 | G9: =IF(G8=Feuil1!$A$15,1)+IF(G8=Feuil1!$A$16,1)+IF(G8=Feuil1!$A$17,1)+IF(G8=Feuil1!$A$18,1)+IF(G8=Feuil1!$A$19,1)+IF(G8=Feuil1!$A$20,1)+IF(G8=Feuil1!$A$31,1)+IF(G8=Feuil1!$A$32,1)+IF(G8=Feuil1!$A$33,1)+IF(G8=Feuil1!$A$34,1) -> 1 | H9: =IF(H8=Feuil1!$A$15,1)+IF(H8=Feuil1!$A$16,1)+IF(H8=Feuil1!$A$17,1)+IF(H8=Feuil1!$A$18,1)+IF(H8=Feuil1!$A$19,1)+IF(H8=Feuil1!$A$20,1)+IF(H8=Feuil1!$A$31,1)+IF(H8=Feuil1!$A$32,1)+IF(H8=Feuil1!$A$33,1)+IF(H8=Feuil1!$A$34,1) -> 0 | I9: =IF(I8=Feuil1!$A$15,1)+IF(I8=Feuil1!$A$16,1)+IF(I8=Feuil1!$A$17,1)+IF(I8=Feuil1!$A$18,1)+IF(I8=Feuil1!$A$19,1)+IF(I8=Feuil1!$A$20,1)+IF(I8=Feuil1!$A$31,1)+IF(I8=Feuil1!$A$32,1)+IF(I8=Feuil1!$A$33,1)+IF(I8=Feuil1!$A$34,1) -> 0 | ... AF9: =IF(AF8=Feuil1!$A$15,1)+IF(AF8=Feuil1!$A$16,1)+IF(AF8=Feuil1!$A$17,1)+IF(AF8=Feuil1!$A$18,1)+IF(AF8=Feuil1!$A$19,1)+IF(AF8=Feuil1!$A$20,1)+IF(AF8=Feuil1!$A$31,1)+IF(AF8=Feuil1!$A$32,1)+IF(AF8=Feuil1!$A$33,1)+IF(AF8=Feuil1!$A$34,1) -> 0
A10: =A7+1 -> 1 | B10: =IF(B8=Feuil1!$A$6,Feuil1!$D$6,0)+IF(B8=Feuil1!$A$7,Feuil1!$D$7,0)+IF(B8=Feuil1!$A$8,Feuil1!$D$8,0)+IF(B8=Feuil1!$A$9,Feuil1!$D$9,0)+IF(B8=Feuil1!$A$10,Feuil1!$D$10,0)+IF(B8=Feuil1!$A$11,Feuil1!$D$11,0)+IF(B8=Feuil1!$A$12,Feuil1!$D$12,0)+IF(B8=Feuil1!$A$13,Feuil1!$D$13,0)+IF(B8=Feuil1!$A$14,Feuil1!$D$14,0)+IF(B8=Feuil1!$A$15,Feuil1!$D$15,0)+IF(B8=Feuil1!$A$16,Feuil1!$D$16,0)+IF(B8=Feuil1!$A$17,Feuil1!$D$17,0)+IF(B8=Feuil1!$A$18,Feuil1!$D$18,0)+IF(B8=Feuil1!$A$19,Feuil1!$D$19,0)+IF(B8=Feuil1!$A$20,Feuil1!$D$20,0)+IF(B8=Feuil1!$A$21,Feuil1!$D$21,0)+IF(B8=Feuil1!$A$22,Feuil1!$D$22,0)+IF(B8=Feuil1!$A$23,Feuil1!$D$23,0)+IF(B8=Feuil1!$A$24,Feuil1!$D$25,0)+IF(B8=Feuil1!$A$26,Feuil1!$D$26,0)+IF(B8=Feuil1!$A$27,Feuil1!$D$27,0)+IF(B8=Feuil1!$A$28,Feuil1!$D$28,0)+IF(B8=Feuil1!$A$29,Feuil1!$D$29,0)+IF(B8=Feuil1!$A$30,Feuil1!$D$30,0)+IF(B8=Feuil1!$A$31,Feuil1!$D$31,0)+IF(B8=Feuil1!$A$32,Feuil1!$D$32,0)+IF(B8=Feuil1!$A$33,Feuil1!$D$33,0)+IF(B8=Feuil1!$A$34,Feuil1!$D$34,0)+IF(B8=Feuil1!$A$35,Feuil1!$D$35,0)+IF(B8=Feuil1!$A$36,Feuil1!$D$36,0)+IF(B8=Feuil1!$A$37,Feuil1!$D$37,0)+IF(B8=Feuil1!$A$38,Feuil1!$D$38,0)+IF(B8=Feuil1!A28,Feuil1!D28,0) -> 0.3125 | C10: =IF(C8=Feuil1!$A$6,Feuil1!$D$6,0)+IF(C8=Feuil1!$A$7,Feuil1!$D$7,0)+IF(C8=Feuil1!$A$8,Feuil1!$D$8,0)+IF(C8=Feuil1!$A$9,Feuil1!$D$9,0)+IF(C8=Feuil1!$A$10,Feuil1!$D$10,0)+IF(C8=Feuil1!$A$11,Feuil1!$D$11,0)+IF(C8=Feuil1!$A$12,Feuil1!$D$12,0)+IF(C8=Feuil1!$A$13,Feuil1!$D$13,0)+IF(C8=Feuil1!$A$14,Feuil1!$D$14,0)+IF(C8=Feuil1!$A$15,Feuil1!$D$15,0)+IF(C8=Feuil1!$A$16,Feuil1!$D$16,0)+IF(C8=Feuil1!$A$17,Feuil1!$D$17,0)+IF(C8=Feuil1!$A$18,Feuil1!$D$18,0)+IF(C8=Feuil1!$A$19,Feuil1!$D$19,0)+IF(C8=Feuil1!$A$20,Feuil1!$D$20,0)+IF(C8=Feuil1!$A$21,Feuil1!$D$21,0)+IF(C8=Feuil1!$A$22,Feuil1!$D$22,0)+IF(C8=Feuil1!$A$23,Feuil1!$D$23,0)+IF(C8=Feuil1!$A$24,Feuil1!$D$25,0)+IF(C8=Feuil1!$A$26,Feuil1!$D$26,0)+IF(C8=Feuil1!$A$27,Feuil1!$D$27,0)+IF(C8=Feuil1!$A$28,Feuil1!$D$28,0)+IF(C8=Feuil1!$A$29,Feuil1!$D$29,0)+IF(C8=Feuil1!$A$30,Feuil1!$D$30,0)+IF(C8=Feuil1!$A$31,Feuil1!$D$31,0)+IF(C8=Feuil1!$A$32,Feuil1!$D$32,0)+IF(C8=Feuil1!$A$33,Feuil1!$D$33,0)+IF(C8=Feuil1!$A$34,Feuil1!$D$34,0)+IF(C8=Feuil1!$A$35,Feuil1!$D$35,0)+IF(C8=Feuil1!$A$36,Feuil1!$D$36,0)+IF(C8=Feuil1!$A$37,Feuil1!$D$37,0)+IF(C8=Feuil1!$A$38,Feuil1!$D$38,0)+IF(C8=Feuil1!B28,Feuil1!E28,0) -> 0 | D10: =IF(D8=Feuil1!$A$6,Feuil1!$D$6,0)+IF(D8=Feuil1!$A$7,Feuil1!$D$7,0)+IF(D8=Feuil1!$A$8,Feuil1!$D$8,0)+IF(D8=Feuil1!$A$9,Feuil1!$D$9,0)+IF(D8=Feuil1!$A$10,Feuil1!$D$10,0)+IF(D8=Feuil1!$A$11,Feuil1!$D$11,0)+IF(D8=Feuil1!$A$12,Feuil1!$D$12,0)+IF(D8=Feuil1!$A$13,Feuil1!$D$13,0)+IF(D8=Feuil1!$A$14,Feuil1!$D$14,0)+IF(D8=Feuil1!$A$15,Feuil1!$D$15,0)+IF(D8=Feuil1!$A$16,Feuil1!$D$16,0)+IF(D8=Feuil1!$A$17,Feuil1!$D$17,0)+IF(D8=Feuil1!$A$18,Feuil1!$D$18,0)+IF(D8=Feuil1!$A$19,Feuil1!$D$19,0)+IF(D8=Feuil1!$A$20,Feuil1!$D$20,0)+IF(D8=Feuil1!$A$21,Feuil1!$D$21,0)+IF(D8=Feuil1!$A$22,Feuil1!$D$22,0)+IF(D8=Feuil1!$A$23,Feuil1!$D$23,0)+IF(D8=Feuil1!$A$24,Feuil1!$D$25,0)+IF(D8=Feuil1!$A$26,Feuil1!$D$26,0)+IF(D8=Feuil1!$A$27,Feuil1!$D$27,0)+IF(D8=Feuil1!$A$28,Feuil1!$D$28,0)+IF(D8=Feuil1!$A$29,Feuil1!$D$29,0)+IF(D8=Feuil1!$A$30,Feuil1!$D$30,0)+IF(D8=Feuil1!$A$31,Feuil1!$D$31,0)+IF(D8=Feuil1!$A$32,Feuil1!$D$32,0)+IF(D8=Feuil1!$A$33,Feuil1!$D$33,0)+IF(D8=Feuil1!$A$34,Feuil1!$D$34,0)+IF(D8=Feuil1!$A$35,Feuil1!$D$35,0)+IF(D8=Feuil1!$A$36,Feuil1!$D$36,0)+IF(D8=Feuil1!$A$37,Feuil1!$D$37,0)+IF(D8=Feuil1!$A$38,Feuil1!$D$38,0)+IF(D8=Feuil1!C28,Feuil1!F28,0) -> 0 | E10: =IF(E8=Feuil1!$A$6,Feuil1!$D$6,0)+IF(E8=Feuil1!$A$7,Feuil1!$D$7,0)+IF(E8=Feuil1!$A$8,Feuil1!$D$8,0)+IF(E8=Feuil1!$A$9,Feuil1!$D$9,0)+IF(E8=Feuil1!$A$10,Feuil1!$D$10,0)+IF(E8=Feuil1!$A$11,Feuil1!$D$11,0)+IF(E8=Feuil1!$A$12,Feuil1!$D$12,0)+IF(E8=Feuil1!$A$13,Feuil1!$D$13,0)+IF(E8=Feuil1!$A$14,Feuil1!$D$14,0)+IF(E8=Feuil1!$A$15,Feuil1!$D$15,0)+IF(E8=Feuil1!$A$16,Feuil1!$D$16,0)+IF(E8=Feuil1!$A$17,Feuil1!$D$17,0)+IF(E8=Feuil1!$A$18,Feuil1!$D$18,0)+IF(E8=Feuil1!$A$19,Feuil1!$D$19,0)+IF(E8=Feuil1!$A$20,Feuil1!$D$20,0)+IF(E8=Feuil1!$A$21,Feuil1!$D$21,0)+IF(E8=Feuil1!$A$22,Feuil1!$D$22,0)+IF(E8=Feuil1!$A$23,Feuil1!$D$23,0)+IF(E8=Feuil1!$A$24,Feuil1!$D$25,0)+IF(E8=Feuil1!$A$26,Feuil1!$D$26,0)+IF(E8=Feuil1!$A$27,Feuil1!$D$27,0)+IF(E8=Feuil1!$A$28,Feuil1!$D$28,0)+IF(E8=Feuil1!$A$29,Feuil1!$D$29,0)+IF(E8=Feuil1!$A$30,Feuil1!$D$30,0)+IF(E8=Feuil1!$A$31,Feuil1!$D$31,0)+IF(E8=Feuil1!$A$32,Feuil1!$D$32,0)+IF(E8=Feuil1!$A$33,Feuil1!$D$33,0)+IF(E8=Feuil1!$A$34,Feuil1!$D$34,0)+IF(E8=Feuil1!$A$35,Feuil1!$D$35,0)+IF(E8=Feuil1!$A$36,Feuil1!$D$36,0)+IF(E8=Feuil1!$A$37,Feuil1!$D$37,0)+IF(E8=Feuil1!$A$38,Feuil1!$D$38,0)+IF(E8=Feuil1!D28,Feuil1!G28,0) -> 0 | F10: =IF(F8=Feuil1!$A$6,Feuil1!$D$6,0)+IF(F8=Feuil1!$A$7,Feuil1!$D$7,0)+IF(F8=Feuil1!$A$8,Feuil1!$D$8,0)+IF(F8=Feuil1!$A$9,Feuil1!$D$9,0)+IF(F8=Feuil1!$A$10,Feuil1!$D$10,0)+IF(F8=Feuil1!$A$11,Feuil1!$D$11,0)+IF(F8=Feuil1!$A$12,Feuil1!$D$12,0)+IF(F8=Feuil1!$A$13,Feuil1!$D$13,0)+IF(F8=Feuil1!$A$14,Feuil1!$D$14,0)+IF(F8=Feuil1!$A$15,Feuil1!$D$15,0)+IF(F8=Feuil1!$A$16,Feuil1!$D$16,0)+IF(F8=Feuil1!$A$17,Feuil1!$D$17,0)+IF(F8=Feuil1!$A$18,Feuil1!$D$18,0)+IF(F8=Feuil1!$A$19,Feuil1!$D$19,0)+IF(F8=Feuil1!$A$20,Feuil1!$D$20,0)+IF(F8=Feuil1!$A$21,Feuil1!$D$21,0)+IF(F8=Feuil1!$A$22,Feuil1!$D$22,0)+IF(F8=Feuil1!$A$23,Feuil1!$D$23,0)+IF(F8=Feuil1!$A$24,Feuil1!$D$25,0)+IF(F8=Feuil1!$A$26,Feuil1!$D$26,0)+IF(F8=Feuil1!$A$27,Feuil1!$D$27,0)+IF(F8=Feuil1!$A$28,Feuil1!$D$28,0)+IF(F8=Feuil1!$A$29,Feuil1!$D$29,0)+IF(F8=Feuil1!$A$30,Feuil1!$D$30,0)+IF(F8=Feuil1!$A$31,Feuil1!$D$31,0)+IF(F8=Feuil1!$A$32,Feuil1!$D$32,0)+IF(F8=Feuil1!$A$33,Feuil1!$D$33,0)+IF(F8=Feuil1!$A$34,Feuil1!$D$34,0)+IF(F8=Feuil1!$A$35,Feuil1!$D$35,0)+IF(F8=Feuil1!$A$36,Feuil1!$D$36,0)+IF(F8=Feuil1!$A$37,Feuil1!$D$37,0)+IF(F8=Feuil1!$A$38,Feuil1!$D$38,0)+IF(F8=Feuil1!E28,Feuil1!H28,0) -> 0.33333333 | G10: =IF(G8=Feuil1!$A$6,Feuil1!$D$6,0)+IF(G8=Feuil1!$A$7,Feuil1!$D$7,0)+IF(G8=Feuil1!$A$8,Feuil1!$D$8,0)+IF(G8=Feuil1!$A$9,Feuil1!$D$9,0)+IF(G8=Feuil1!$A$10,Feuil1!$D$10,0)+IF(G8=Feuil1!$A$11,Feuil1!$D$11,0)+IF(G8=Feuil1!$A$12,Feuil1!$D$12,0)+IF(G8=Feuil1!$A$13,Feuil1!$D$13,0)+IF(G8=Feuil1!$A$14,Feuil1!$D$14,0)+IF(G8=Feuil1!$A$15,Feuil1!$D$15,0)+IF(G8=Feuil1!$A$16,Feuil1!$D$16,0)+IF(G8=Feuil1!$A$17,Feuil1!$D$17,0)+IF(G8=Feuil1!$A$18,Feuil1!$D$18,0)+IF(G8=Feuil1!$A$19,Feuil1!$D$19,0)+IF(G8=Feuil1!$A$20,Feuil1!$D$20,0)+IF(G8=Feuil1!$A$21,Feuil1!$D$21,0)+IF(G8=Feuil1!$A$22,Feuil1!$D$22,0)+IF(G8=Feuil1!$A$23,Feuil1!$D$23,0)+IF(G8=Feuil1!$A$24,Feuil1!$D$25,0)+IF(G8=Feuil1!$A$26,Feuil1!$D$26,0)+IF(G8=Feuil1!$A$27,Feuil1!$D$27,0)+IF(G8=Feuil1!$A$28,Feuil1!$D$28,0)+IF(G8=Feuil1!$A$29,Feuil1!$D$29,0)+IF(G8=Feuil1!$A$30,Feuil1!$D$30,0)+IF(G8=Feuil1!$A$31,Feuil1!$D$31,0)+IF(G8=Feuil1!$A$32,Feuil1!$D$32,0)+IF(G8=Feuil1!$A$33,Feuil1!$D$33,0)+IF(G8=Feuil1!$A$34,Feuil1!$D$34,0)+IF(G8=Feuil1!$A$35,Feuil1!$D$35,0)+IF(G8=Feuil1!$A$36,Feuil1!$D$36,0)+IF(G8=Feuil1!$A$37,Feuil1!$D$37,0)+IF(G8=Feuil1!$A$38,Feuil1!$D$38,0)+IF(G8=Feuil1!F28,Feuil1!I28,0) -> 0.3125 | H10: =IF(H8=Feuil1!$A$6,Feuil1!$D$6,0)+IF(H8=Feuil1!$A$7,Feuil1!$D$7,0)+IF(H8=Feuil1!$A$8,Feuil1!$D$8,0)+IF(H8=Feuil1!$A$9,Feuil1!$D$9,0)+IF(H8=Feuil1!$A$10,Feuil1!$D$10,0)+IF(H8=Feuil1!$A$11,Feuil1!$D$11,0)+IF(H8=Feuil1!$A$12,Feuil1!$D$12,0)+IF(H8=Feuil1!$A$13,Feuil1!$D$13,0)+IF(H8=Feuil1!$A$14,Feuil1!$D$14,0)+IF(H8=Feuil1!$A$15,Feuil1!$D$15,0)+IF(H8=Feuil1!$A$16,Feuil1!$D$16,0)+IF(H8=Feuil1!$A$17,Feuil1!$D$17,0)+IF(H8=Feuil1!$A$18,Feuil1!$D$18,0)+IF(H8=Feuil1!$A$19,Feuil1!$D$19,0)+IF(H8=Feuil1!$A$20,Feuil1!$D$20,0)+IF(H8=Feuil1!$A$21,Feuil1!$D$21,0)+IF(H8=Feuil1!$A$22,Feuil1!$D$22,0)+IF(H8=Feuil1!$A$23,Feuil1!$D$23,0)+IF(H8=Feuil1!$A$24,Feuil1!$D$25,0)+IF(H8=Feuil1!$A$26,Feuil1!$D$26,0)+IF(H8=Feuil1!$A$27,Feuil1!$D$27,0)+IF(H8=Feuil1!$A$28,Feuil1!$D$28,0)+IF(H8=Feuil1!$A$29,Feuil1!$D$29,0)+IF(H8=Feuil1!$A$30,Feuil1!$D$30,0)+IF(H8=Feuil1!$A$31,Feuil1!$D$31,0)+IF(H8=Feuil1!$A$32,Feuil1!$D$32,0)+IF(H8=Feuil1!$A$33,Feuil1!$D$33,0)+IF(H8=Feuil1!$A$34,Feuil1!$D$34,0)+IF(H8=Feuil1!$A$35,Feuil1!$D$35,0)+IF(H8=Feuil1!$A$36,Feuil1!$D$36,0)+IF(H8=Feuil1!$A$37,Feuil1!$D$37,0)+IF(H8=Feuil1!$A$38,Feuil1!$D$38,0)+IF(H8=Feuil1!G28,Feuil1!J28,0) -> 0.3125 | I10: =IF(I8=Feuil1!$A$6,Feuil1!$D$6,0)+IF(I8=Feuil1!$A$7,Feuil1!$D$7,0)+IF(I8=Feuil1!$A$8,Feuil1!$D$8,0)+IF(I8=Feuil1!$A$9,Feuil1!$D$9,0)+IF(I8=Feuil1!$A$10,Feuil1!$D$10,0)+IF(I8=Feuil1!$A$11,Feuil1!$D$11,0)+IF(I8=Feuil1!$A$12,Feuil1!$D$12,0)+IF(I8=Feuil1!$A$13,Feuil1!$D$13,0)+IF(I8=Feuil1!$A$14,Feuil1!$D$14,0)+IF(I8=Feuil1!$A$15,Feuil1!$D$15,0)+IF(I8=Feuil1!$A$16,Feuil1!$D$16,0)+IF(I8=Feuil1!$A$17,Feuil1!$D$17,0)+IF(I8=Feuil1!$A$18,Feuil1!$D$18,0)+IF(I8=Feuil1!$A$19,Feuil1!$D$19,0)+IF(I8=Feuil1!$A$20,Feuil1!$D$20,0)+IF(I8=Feuil1!$A$21,Feuil1!$D$21,0)+IF(I8=Feuil1!$A$22,Feuil1!$D$22,0)+IF(I8=Feuil1!$A$23,Feuil1!$D$23,0)+IF(I8=Feuil1!$A$24,Feuil1!$D$25,0)+IF(I8=Feuil1!$A$26,Feuil1!$D$26,0)+IF(I8=Feuil1!$A$27,Feuil1!$D$27,0)+IF(I8=Feuil1!$A$28,Feuil1!$D$28,0)+IF(I8=Feuil1!$A$29,Feuil1!$D$29,0)+IF(I8=Feuil1!$A$30,Feuil1!$D$30,0)+IF(I8=Feuil1!$A$31,Feuil1!$D$31,0)+IF(I8=Feuil1!$A$32,Feuil1!$D$32,0)+IF(I8=Feuil1!$A$33,Feuil1!$D$33,0)+IF(I8=Feuil1!$A$34,Feuil1!$D$34,0)+IF(I8=Feuil1!$A$35,Feuil1!$D$35,0)+IF(I8=Feuil1!$A$36,Feuil1!$D$36,0)+IF(I8=Feuil1!$A$37,Feuil1!$D$37,0)+IF(I8=Feuil1!$A$38,Feuil1!$D$38,0)+IF(I8=Feuil1!H28,Feuil1!K28,0) -> 0.33333333 | ... AF10: =IF(AF8=Feuil1!$A$6,Feuil1!$D$6,0)+IF(AF8=Feuil1!$A$7,Feuil1!$D$7,0)+IF(AF8=Feuil1!$A$8,Feuil1!$D$8,0)+IF(AF8=Feuil1!$A$9,Feuil1!$D$9,0)+IF(AF8=Feuil1!$A$10,Feuil1!$D$10,0)+IF(AF8=Feuil1!$A$11,Feuil1!$D$11,0)+IF(AF8=Feuil1!$A$12,Feuil1!$D$12,0)+IF(AF8=Feuil1!$A$13,Feuil1!$D$13,0)+IF(AF8=Feuil1!$A$14,Feuil1!$D$14,0)+IF(AF8=Feuil1!$A$15,Feuil1!$D$15,0)+IF(AF8=Feuil1!$A$16,Feuil1!$D$16,0)+IF(AF8=Feuil1!$A$17,Feuil1!$D$17,0)+IF(AF8=Feuil1!$A$18,Feuil1!$D$18,0)+IF(AF8=Feuil1!$A$19,Feuil1!$D$19,0)+IF(AF8=Feuil1!$A$20,Feuil1!$D$20,0)+IF(AF8=Feuil1!$A$21,Feuil1!$D$21,0)+IF(AF8=Feuil1!$A$22,Feuil1!$D$22,0)+IF(AF8=Feuil1!$A$23,Feuil1!$D$23,0)+IF(AF8=Feuil1!$A$24,Feuil1!$D$25,0)+IF(AF8=Feuil1!$A$26,Feuil1!$D$26,0)+IF(AF8=Feuil1!$A$27,Feuil1!$D$27,0)+IF(AF8=Feuil1!$A$28,Feuil1!$D$28,0)+IF(AF8=Feuil1!$A$29,Feuil1!$D$29,0)+IF(AF8=Feuil1!$A$30,Feuil1!$D$30,0)+IF(AF8=Feuil1!$A$31,Feuil1!$D$31,0)+IF(AF8=Feuil1!$A$32,Feuil1!$D$32,0)+IF(AF8=Feuil1!$A$33,Feuil1!$D$33,0)+IF(AF8=Feuil1!$A$34,Feuil1!$D$34,0)+IF(AF8=Feuil1!$A$35,Feuil1!$D$35,0)+IF(AF8=Feuil1!$A$36,Feuil1!$D$36,0)+IF(AF8=Feuil1!$A$37,Feuil1!$D$37,0)+IF(AF8=Feuil1!$A$38,Feuil1!$D$38,0)+IF(AF8=Feuil1!AE28,Feuil1!AH28,0) -> 0
A11: =A8+1 -> 3 | B11: RC | C11: RC | D11: PB | E11: S3 | F11: R | G11: FC | H11: FC | I11: S3 | J11: R | K11: VB | L11: VB | M11: S2 | N11: R | O11: R | P11: BF | Q11: BF | R11: S3 | S11: R | T11: FC | U11: S2 | V11: S2 | W11: S1 | X11: R | Y11: RC | Z11: RTT | AA11: RTT | AB11: R | AC11: R | AD11: PB | AE11: PB | AF11: PB | AG11: =SUM(B12:AF12) -> 7 | AH11: =SUM(B13:AF13) -> 5.625 | AI11: VB2 : 7H-14H30
A12: =A9+1 -> 2 | B12: =IF(B11=Feuil1!$A$15,1)+IF(B11=Feuil1!$A$16,1)+IF(B11=Feuil1!$A$17,1)+IF(B11=Feuil1!$A$18,1)+IF(B11=Feuil1!$A$19,1)+IF(B11=Feuil1!$A$20,1)+IF(B11=Feuil1!$A$31,1)+IF(B11=Feuil1!$A$32,1)+IF(B11=Feuil1!$A$33,1)+IF(B11=Feuil1!$A$34,1) -> 0 | C12: =IF(C11=Feuil1!$A$15,1)+IF(C11=Feuil1!$A$16,1)+IF(C11=Feuil1!$A$17,1)+IF(C11=Feuil1!$A$18,1)+IF(C11=Feuil1!$A$19,1)+IF(C11=Feuil1!$A$20,1)+IF(C11=Feuil1!$A$31,1)+IF(C11=Feuil1!$A$32,1)+IF(C11=Feuil1!$A$33,1)+IF(C11=Feuil1!$A$34,1) -> 0 | D12: =IF(D11=Feuil1!$A$15,1)+IF(D11=Feuil1!$A$16,1)+IF(D11=Feuil1!$A$17,1)+IF(D11=Feuil1!$A$18,1)+IF(D11=Feuil1!$A$19,1)+IF(D11=Feuil1!$A$20,1)+IF(D11=Feuil1!$A$31,1)+IF(D11=Feuil1!$A$32,1)+IF(D11=Feuil1!$A$33,1)+IF(D11=Feuil1!$A$34,1) -> 0 | E12: =IF(E11=Feuil1!$A$15,1)+IF(E11=Feuil1!$A$16,1)+IF(E11=Feuil1!$A$17,1)+IF(E11=Feuil1!$A$18,1)+IF(E11=Feuil1!$A$19,1)+IF(E11=Feuil1!$A$20,1)+IF(E11=Feuil1!$A$31,1)+IF(E11=Feuil1!$A$32,1)+IF(E11=Feuil1!$A$33,1)+IF(E11=Feuil1!$A$34,1) -> 1 | F12: =IF(F11=Feuil1!$A$15,1)+IF(F11=Feuil1!$A$16,1)+IF(F11=Feuil1!$A$17,1)+IF(F11=Feuil1!$A$18,1)+IF(F11=Feuil1!$A$19,1)+IF(F11=Feuil1!$A$20,1)+IF(F11=Feuil1!$A$31,1)+IF(F11=Feuil1!$A$32,1)+IF(F11=Feuil1!$A$33,1)+IF(F11=Feuil1!$A$34,1) -> 0 | G12: =IF(G11=Feuil1!$A$15,1)+IF(G11=Feuil1!$A$16,1)+IF(G11=Feuil1!$A$17,1)+IF(G11=Feuil1!$A$18,1)+IF(G11=Feuil1!$A$19,1)+IF(G11=Feuil1!$A$20,1)+IF(G11=Feuil1!$A$31,1)+IF(G11=Feuil1!$A$32,1)+IF(G11=Feuil1!$A$33,1)+IF(G11=Feuil1!$A$34,1) -> 0 | H12: =IF(H11=Feuil1!$A$15,1)+IF(H11=Feuil1!$A$16,1)+IF(H11=Feuil1!$A$17,1)+IF(H11=Feuil1!$A$18,1)+IF(H11=Feuil1!$A$19,1)+IF(H11=Feuil1!$A$20,1)+IF(H11=Feuil1!$A$31,1)+IF(H11=Feuil1!$A$32,1)+IF(H11=Feuil1!$A$33,1)+IF(H11=Feuil1!$A$34,1) -> 0 | I12: =IF(I11=Feuil1!$A$15,1)+IF(I11=Feuil1!$A$16,1)+IF(I11=Feuil1!$A$17,1)+IF(I11=Feuil1!$A$18,1)+IF(I11=Feuil1!$A$19,1)+IF(I11=Feuil1!$A$20,1)+IF(I11=Feuil1!$A$31,1)+IF(I11=Feuil1!$A$32,1)+IF(I11=Feuil1!$A$33,1)+IF(I11=Feuil1!$A$34,1) -> 1 | ... AF12: =IF(AF11=Feuil1!$A$15,1)+IF(AF11=Feuil1!$A$16,1)+IF(AF11=Feuil1!$A$17,1)+IF(AF11=Feuil1!$A$18,1)+IF(AF11=Feuil1!$A$19,1)+IF(AF11=Feuil1!$A$20,1)+IF(AF11=Feuil1!$A$31,1)+IF(AF11=Feuil1!$A$32,1)+IF(AF11=Feuil1!$A$33,1)+IF(AF11=Feuil1!$A$34,1) -> 0
A13: =A10+1 -> 2 | B13: =IF(B11=Feuil1!$A$6,Feuil1!$D$6,0)+IF(B11=Feuil1!$A$7,Feuil1!$D$7,0)+IF(B11=Feuil1!$A$8,Feuil1!$D$8,0)+IF(B11=Feuil1!$A$9,Feuil1!$D$9,0)+IF(B11=Feuil1!$A$10,Feuil1!$D$10,0)+IF(B11=Feuil1!$A$11,Feuil1!$D$11,0)+IF(B11=Feuil1!$A$12,Feuil1!$D$12,0)+IF(B11=Feuil1!$A$13,Feuil1!$D$13,0)+IF(B11=Feuil1!$A$14,Feuil1!$D$14,0)+IF(B11=Feuil1!$A$15,Feuil1!$D$15,0)+IF(B11=Feuil1!$A$16,Feuil1!$D$16,0)+IF(B11=Feuil1!$A$17,Feuil1!$D$17,0)+IF(B11=Feuil1!$A$18,Feuil1!$D$18,0)+IF(B11=Feuil1!$A$19,Feuil1!$D$19,0)+IF(B11=Feuil1!$A$20,Feuil1!$D$20,0)+IF(B11=Feuil1!$A$21,Feuil1!$D$21,0)+IF(B11=Feuil1!$A$22,Feuil1!$D$22,0)+IF(B11=Feuil1!$A$23,Feuil1!$D$23,0)+IF(B11=Feuil1!$A$24,Feuil1!$D$25,0)+IF(B11=Feuil1!$A$26,Feuil1!$D$26,0)+IF(B11=Feuil1!$A$27,Feuil1!$D$27,0)+IF(B11=Feuil1!$A$28,Feuil1!$D$28,0)+IF(B11=Feuil1!$A$29,Feuil1!$D$29,0)+IF(B11=Feuil1!$A$30,Feuil1!$D$30,0)+IF(B11=Feuil1!$A$31,Feuil1!$D$31,0)+IF(B11=Feuil1!$A$32,Feuil1!$D$32,0)+IF(B11=Feuil1!$A$33,Feuil1!$D$33,0)+IF(B11=Feuil1!$A$34,Feuil1!$D$34,0)+IF(B11=Feuil1!$A$35,Feuil1!$D$35,0)+IF(B11=Feuil1!$A$36,Feuil1!$D$36,0)+IF(B11=Feuil1!$A$37,Feuil1!$D$37,0)+IF(B11=Feuil1!$A$38,Feuil1!$D$38,0)+IF(B11=Feuil1!A31,Feuil1!D31,0) -> 0 | C13: =IF(C11=Feuil1!$A$6,Feuil1!$D$6,0)+IF(C11=Feuil1!$A$7,Feuil1!$D$7,0)+IF(C11=Feuil1!$A$8,Feuil1!$D$8,0)+IF(C11=Feuil1!$A$9,Feuil1!$D$9,0)+IF(C11=Feuil1!$A$10,Feuil1!$D$10,0)+IF(C11=Feuil1!$A$11,Feuil1!$D$11,0)+IF(C11=Feuil1!$A$12,Feuil1!$D$12,0)+IF(C11=Feuil1!$A$13,Feuil1!$D$13,0)+IF(C11=Feuil1!$A$14,Feuil1!$D$14,0)+IF(C11=Feuil1!$A$15,Feuil1!$D$15,0)+IF(C11=Feuil1!$A$16,Feuil1!$D$16,0)+IF(C11=Feuil1!$A$17,Feuil1!$D$17,0)+IF(C11=Feuil1!$A$18,Feuil1!$D$18,0)+IF(C11=Feuil1!$A$19,Feuil1!$D$19,0)+IF(C11=Feuil1!$A$20,Feuil1!$D$20,0)+IF(C11=Feuil1!$A$21,Feuil1!$D$21,0)+IF(C11=Feuil1!$A$22,Feuil1!$D$22,0)+IF(C11=Feuil1!$A$23,Feuil1!$D$23,0)+IF(C11=Feuil1!$A$24,Feuil1!$D$25,0)+IF(C11=Feuil1!$A$26,Feuil1!$D$26,0)+IF(C11=Feuil1!$A$27,Feuil1!$D$27,0)+IF(C11=Feuil1!$A$28,Feuil1!$D$28,0)+IF(C11=Feuil1!$A$29,Feuil1!$D$29,0)+IF(C11=Feuil1!$A$30,Feuil1!$D$30,0)+IF(C11=Feuil1!$A$31,Feuil1!$D$31,0)+IF(C11=Feuil1!$A$32,Feuil1!$D$32,0)+IF(C11=Feuil1!$A$33,Feuil1!$D$33,0)+IF(C11=Feuil1!$A$34,Feuil1!$D$34,0)+IF(C11=Feuil1!$A$35,Feuil1!$D$35,0)+IF(C11=Feuil1!$A$36,Feuil1!$D$36,0)+IF(C11=Feuil1!$A$37,Feuil1!$D$37,0)+IF(C11=Feuil1!$A$38,Feuil1!$D$38,0)+IF(C11=Feuil1!B31,Feuil1!E31,0) -> 0 | D13: =IF(D11=Feuil1!$A$6,Feuil1!$D$6,0)+IF(D11=Feuil1!$A$7,Feuil1!$D$7,0)+IF(D11=Feuil1!$A$8,Feuil1!$D$8,0)+IF(D11=Feuil1!$A$9,Feuil1!$D$9,0)+IF(D11=Feuil1!$A$10,Feuil1!$D$10,0)+IF(D11=Feuil1!$A$11,Feuil1!$D$11,0)+IF(D11=Feuil1!$A$12,Feuil1!$D$12,0)+IF(D11=Feuil1!$A$13,Feuil1!$D$13,0)+IF(D11=Feuil1!$A$14,Feuil1!$D$14,0)+IF(D11=Feuil1!$A$15,Feuil1!$D$15,0)+IF(D11=Feuil1!$A$16,Feuil1!$D$16,0)+IF(D11=Feuil1!$A$17,Feuil1!$D$17,0)+IF(D11=Feuil1!$A$18,Feuil1!$D$18,0)+IF(D11=Feuil1!$A$19,Feuil1!$D$19,0)+IF(D11=Feuil1!$A$20,Feuil1!$D$20,0)+IF(D11=Feuil1!$A$21,Feuil1!$D$21,0)+IF(D11=Feuil1!$A$22,Feuil1!$D$22,0)+IF(D11=Feuil1!$A$23,Feuil1!$D$23,0)+IF(D11=Feuil1!$A$24,Feuil1!$D$25,0)+IF(D11=Feuil1!$A$26,Feuil1!$D$26,0)+IF(D11=Feuil1!$A$27,Feuil1!$D$27,0)+IF(D11=Feuil1!$A$28,Feuil1!$D$28,0)+IF(D11=Feuil1!$A$29,Feuil1!$D$29,0)+IF(D11=Feuil1!$A$30,Feuil1!$D$30,0)+IF(D11=Feuil1!$A$31,Feuil1!$D$31,0)+IF(D11=Feuil1!$A$32,Feuil1!$D$32,0)+IF(D11=Feuil1!$A$33,Feuil1!$D$33,0)+IF(D11=Feuil1!$A$34,Feuil1!$D$34,0)+IF(D11=Feuil1!$A$35,Feuil1!$D$35,0)+IF(D11=Feuil1!$A$36,Feuil1!$D$36,0)+IF(D11=Feuil1!$A$37,Feuil1!$D$37,0)+IF(D11=Feuil1!$A$38,Feuil1!$D$38,0)+IF(D11=Feuil1!C31,Feuil1!F31,0) -> 0.3125 | E13: =IF(E11=Feuil1!$A$6,Feuil1!$D$6,0)+IF(E11=Feuil1!$A$7,Feuil1!$D$7,0)+IF(E11=Feuil1!$A$8,Feuil1!$D$8,0)+IF(E11=Feuil1!$A$9,Feuil1!$D$9,0)+IF(E11=Feuil1!$A$10,Feuil1!$D$10,0)+IF(E11=Feuil1!$A$11,Feuil1!$D$11,0)+IF(E11=Feuil1!$A$12,Feuil1!$D$12,0)+IF(E11=Feuil1!$A$13,Feuil1!$D$13,0)+IF(E11=Feuil1!$A$14,Feuil1!$D$14,0)+IF(E11=Feuil1!$A$15,Feuil1!$D$15,0)+IF(E11=Feuil1!$A$16,Feuil1!$D$16,0)+IF(E11=Feuil1!$A$17,Feuil1!$D$17,0)+IF(E11=Feuil1!$A$18,Feuil1!$D$18,0)+IF(E11=Feuil1!$A$19,Feuil1!$D$19,0)+IF(E11=Feuil1!$A$20,Feuil1!$D$20,0)+IF(E11=Feuil1!$A$21,Feuil1!$D$21,0)+IF(E11=Feuil1!$A$22,Feuil1!$D$22,0)+IF(E11=Feuil1!$A$23,Feuil1!$D$23,0)+IF(E11=Feuil1!$A$24,Feuil1!$D$25,0)+IF(E11=Feuil1!$A$26,Feuil1!$D$26,0)+IF(E11=Feuil1!$A$27,Feuil1!$D$27,0)+IF(E11=Feuil1!$A$28,Feuil1!$D$28,0)+IF(E11=Feuil1!$A$29,Feuil1!$D$29,0)+IF(E11=Feuil1!$A$30,Feuil1!$D$30,0)+IF(E11=Feuil1!$A$31,Feuil1!$D$31,0)+IF(E11=Feuil1!$A$32,Feuil1!$D$32,0)+IF(E11=Feuil1!$A$33,Feuil1!$D$33,0)+IF(E11=Feuil1!$A$34,Feuil1!$D$34,0)+IF(E11=Feuil1!$A$35,Feuil1!$D$35,0)+IF(E11=Feuil1!$A$36,Feuil1!$D$36,0)+IF(E11=Feuil1!$A$37,Feuil1!$D$37,0)+IF(E11=Feuil1!$A$38,Feuil1!$D$38,0)+IF(E11=Feuil1!D31,Feuil1!G31,0) -> 0.3125 | F13: =IF(F11=Feuil1!$A$6,Feuil1!$D$6,0)+IF(F11=Feuil1!$A$7,Feuil1!$D$7,0)+IF(F11=Feuil1!$A$8,Feuil1!$D$8,0)+IF(F11=Feuil1!$A$9,Feuil1!$D$9,0)+IF(F11=Feuil1!$A$10,Feuil1!$D$10,0)+IF(F11=Feuil1!$A$11,Feuil1!$D$11,0)+IF(F11=Feuil1!$A$12,Feuil1!$D$12,0)+IF(F11=Feuil1!$A$13,Feuil1!$D$13,0)+IF(F11=Feuil1!$A$14,Feuil1!$D$14,0)+IF(F11=Feuil1!$A$15,Feuil1!$D$15,0)+IF(F11=Feuil1!$A$16,Feuil1!$D$16,0)+IF(F11=Feuil1!$A$17,Feuil1!$D$17,0)+IF(F11=Feuil1!$A$18,Feuil1!$D$18,0)+IF(F11=Feuil1!$A$19,Feuil1!$D$19,0)+IF(F11=Feuil1!$A$20,Feuil1!$D$20,0)+IF(F11=Feuil1!$A$21,Feuil1!$D$21,0)+IF(F11=Feuil1!$A$22,Feuil1!$D$22,0)+IF(F11=Feuil1!$A$23,Feuil1!$D$23,0)+IF(F11=Feuil1!$A$24,Feuil1!$D$25,0)+IF(F11=Feuil1!$A$26,Feuil1!$D$26,0)+IF(F11=Feuil1!$A$27,Feuil1!$D$27,0)+IF(F11=Feuil1!$A$28,Feuil1!$D$28,0)+IF(F11=Feuil1!$A$29,Feuil1!$D$29,0)+IF(F11=Feuil1!$A$30,Feuil1!$D$30,0)+IF(F11=Feuil1!$A$31,Feuil1!$D$31,0)+IF(F11=Feuil1!$A$32,Feuil1!$D$32,0)+IF(F11=Feuil1!$A$33,Feuil1!$D$33,0)+IF(F11=Feuil1!$A$34,Feuil1!$D$34,0)+IF(F11=Feuil1!$A$35,Feuil1!$D$35,0)+IF(F11=Feuil1!$A$36,Feuil1!$D$36,0)+IF(F11=Feuil1!$A$37,Feuil1!$D$37,0)+IF(F11=Feuil1!$A$38,Feuil1!$D$38,0)+IF(F11=Feuil1!E31,Feuil1!H31,0) -> 0 | G13: =IF(G11=Feuil1!$A$6,Feuil1!$D$6,0)+IF(G11=Feuil1!$A$7,Feuil1!$D$7,0)+IF(G11=Feuil1!$A$8,Feuil1!$D$8,0)+IF(G11=Feuil1!$A$9,Feuil1!$D$9,0)+IF(G11=Feuil1!$A$10,Feuil1!$D$10,0)+IF(G11=Feuil1!$A$11,Feuil1!$D$11,0)+IF(G11=Feuil1!$A$12,Feuil1!$D$12,0)+IF(G11=Feuil1!$A$13,Feuil1!$D$13,0)+IF(G11=Feuil1!$A$14,Feuil1!$D$14,0)+IF(G11=Feuil1!$A$15,Feuil1!$D$15,0)+IF(G11=Feuil1!$A$16,Feuil1!$D$16,0)+IF(G11=Feuil1!$A$17,Feuil1!$D$17,0)+IF(G11=Feuil1!$A$18,Feuil1!$D$18,0)+IF(G11=Feuil1!$A$19,Feuil1!$D$19,0)+IF(G11=Feuil1!$A$20,Feuil1!$D$20,0)+IF(G11=Feuil1!$A$21,Feuil1!$D$21,0)+IF(G11=Feuil1!$A$22,Feuil1!$D$22,0)+IF(G11=Feuil1!$A$23,Feuil1!$D$23,0)+IF(G11=Feuil1!$A$24,Feuil1!$D$25,0)+IF(G11=Feuil1!$A$26,Feuil1!$D$26,0)+IF(G11=Feuil1!$A$27,Feuil1!$D$27,0)+IF(G11=Feuil1!$A$28,Feuil1!$D$28,0)+IF(G11=Feuil1!$A$29,Feuil1!$D$29,0)+IF(G11=Feuil1!$A$30,Feuil1!$D$30,0)+IF(G11=Feuil1!$A$31,Feuil1!$D$31,0)+IF(G11=Feuil1!$A$32,Feuil1!$D$32,0)+IF(G11=Feuil1!$A$33,Feuil1!$D$33,0)+IF(G11=Feuil1!$A$34,Feuil1!$D$34,0)+IF(G11=Feuil1!$A$35,Feuil1!$D$35,0)+IF(G11=Feuil1!$A$36,Feuil1!$D$36,0)+IF(G11=Feuil1!$A$37,Feuil1!$D$37,0)+IF(G11=Feuil1!$A$38,Feuil1!$D$38,0)+IF(G11=Feuil1!F31,Feuil1!I31,0) -> 0.3125 | H13: =IF(H11=Feuil1!$A$6,Feuil1!$D$6,0)+IF(H11=Feuil1!$A$7,Feuil1!$D$7,0)+IF(H11=Feuil1!$A$8,Feuil1!$D$8,0)+IF(H11=Feuil1!$A$9,Feuil1!$D$9,0)+IF(H11=Feuil1!$A$10,Feuil1!$D$10,0)+IF(H11=Feuil1!$A$11,Feuil1!$D$11,0)+IF(H11=Feuil1!$A$12,Feuil1!$D$12,0)+IF(H11=Feuil1!$A$13,Feuil1!$D$13,0)+IF(H11=Feuil1!$A$14,Feuil1!$D$14,0)+IF(H11=Feuil1!$A$15,Feuil1!$D$15,0)+IF(H11=Feuil1!$A$16,Feuil1!$D$16,0)+IF(H11=Feuil1!$A$17,Feuil1!$D$17,0)+IF(H11=Feuil1!$A$18,Feuil1!$D$18,0)+IF(H11=Feuil1!$A$19,Feuil1!$D$19,0)+IF(H11=Feuil1!$A$20,Feuil1!$D$20,0)+IF(H11=Feuil1!$A$21,Feuil1!$D$21,0)+IF(H11=Feuil1!$A$22,Feuil1!$D$22,0)+IF(H11=Feuil1!$A$23,Feuil1!$D$23,0)+IF(H11=Feuil1!$A$24,Feuil1!$D$25,0)+IF(H11=Feuil1!$A$26,Feuil1!$D$26,0)+IF(H11=Feuil1!$A$27,Feuil1!$D$27,0)+IF(H11=Feuil1!$A$28,Feuil1!$D$28,0)+IF(H11=Feuil1!$A$29,Feuil1!$D$29,0)+IF(H11=Feuil1!$A$30,Feuil1!$D$30,0)+IF(H11=Feuil1!$A$31,Feuil1!$D$31,0)+IF(H11=Feuil1!$A$32,Feuil1!$D$32,0)+IF(H11=Feuil1!$A$33,Feuil1!$D$33,0)+IF(H11=Feuil1!$A$34,Feuil1!$D$34,0)+IF(H11=Feuil1!$A$35,Feuil1!$D$35,0)+IF(H11=Feuil1!$A$36,Feuil1!$D$36,0)+IF(H11=Feuil1!$A$37,Feuil1!$D$37,0)+IF(H11=Feuil1!$A$38,Feuil1!$D$38,0)+IF(H11=Feuil1!G31,Feuil1!J31,0) -> 0.3125 | I13: =IF(I11=Feuil1!$A$6,Feuil1!$D$6,0)+IF(I11=Feuil1!$A$7,Feuil1!$D$7,0)+IF(I11=Feuil1!$A$8,Feuil1!$D$8,0)+IF(I11=Feuil1!$A$9,Feuil1!$D$9,0)+IF(I11=Feuil1!$A$10,Feuil1!$D$10,0)+IF(I11=Feuil1!$A$11,Feuil1!$D$11,0)+IF(I11=Feuil1!$A$12,Feuil1!$D$12,0)+IF(I11=Feuil1!$A$13,Feuil1!$D$13,0)+IF(I11=Feuil1!$A$14,Feuil1!$D$14,0)+IF(I11=Feuil1!$A$15,Feuil1!$D$15,0)+IF(I11=Feuil1!$A$16,Feuil1!$D$16,0)+IF(I11=Feuil1!$A$17,Feuil1!$D$17,0)+IF(I11=Feuil1!$A$18,Feuil1!$D$18,0)+IF(I11=Feuil1!$A$19,Feuil1!$D$19,0)+IF(I11=Feuil1!$A$20,Feuil1!$D$20,0)+IF(I11=Feuil1!$A$21,Feuil1!$D$21,0)+IF(I11=Feuil1!$A$22,Feuil1!$D$22,0)+IF(I11=Feuil1!$A$23,Feuil1!$D$23,0)+IF(I11=Feuil1!$A$24,Feuil1!$D$25,0)+IF(I11=Feuil1!$A$26,Feuil1!$D$26,0)+IF(I11=Feuil1!$A$27,Feuil1!$D$27,0)+IF(I11=Feuil1!$A$28,Feuil1!$D$28,0)+IF(I11=Feuil1!$A$29,Feuil1!$D$29,0)+IF(I11=Feuil1!$A$30,Feuil1!$D$30,0)+IF(I11=Feuil1!$A$31,Feuil1!$D$31,0)+IF(I11=Feuil1!$A$32,Feuil1!$D$32,0)+IF(I11=Feuil1!$A$33,Feuil1!$D$33,0)+IF(I11=Feuil1!$A$34,Feuil1!$D$34,0)+IF(I11=Feuil1!$A$35,Feuil1!$D$35,0)+IF(I11=Feuil1!$A$36,Feuil1!$D$36,0)+IF(I11=Feuil1!$A$37,Feuil1!$D$37,0)+IF(I11=Feuil1!$A$38,Feuil1!$D$38,0)+IF(I11=Feuil1!H31,Feuil1!K31,0) -> 0.3125 | ... AF13: =IF(AF11=Feuil1!$A$6,Feuil1!$D$6,0)+IF(AF11=Feuil1!$A$7,Feuil1!$D$7,0)+IF(AF11=Feuil1!$A$8,Feuil1!$D$8,0)+IF(AF11=Feuil1!$A$9,Feuil1!$D$9,0)+IF(AF11=Feuil1!$A$10,Feuil1!$D$10,0)+IF(AF11=Feuil1!$A$11,Feuil1!$D$11,0)+IF(AF11=Feuil1!$A$12,Feuil1!$D$12,0)+IF(AF11=Feuil1!$A$13,Feuil1!$D$13,0)+IF(AF11=Feuil1!$A$14,Feuil1!$D$14,0)+IF(AF11=Feuil1!$A$15,Feuil1!$D$15,0)+IF(AF11=Feuil1!$A$16,Feuil1!$D$16,0)+IF(AF11=Feuil1!$A$17,Feuil1!$D$17,0)+IF(AF11=Feuil1!$A$18,Feuil1!$D$18,0)+IF(AF11=Feuil1!$A$19,Feuil1!$D$19,0)+IF(AF11=Feuil1!$A$20,Feuil1!$D$20,0)+IF(AF11=Feuil1!$A$21,Feuil1!$D$21,0)+IF(AF11=Feuil1!$A$22,Feuil1!$D$22,0)+IF(AF11=Feuil1!$A$23,Feuil1!$D$23,0)+IF(AF11=Feuil1!$A$24,Feuil1!$D$25,0)+IF(AF11=Feuil1!$A$26,Feuil1!$D$26,0)+IF(AF11=Feuil1!$A$27,Feuil1!$D$27,0)+IF(AF11=Feuil1!$A$28,Feuil1!$D$28,0)+IF(AF11=Feuil1!$A$29,Feuil1!$D$29,0)+IF(AF11=Feuil1!$A$30,Feuil1!$D$30,0)+IF(AF11=Feuil1!$A$31,Feuil1!$D$31,0)+IF(AF11=Feuil1!$A$32,Feuil1!$D$32,0)+IF(AF11=Feuil1!$A$33,Feuil1!$D$33,0)+IF(AF11=Feuil1!$A$34,Feuil1!$D$34,0)+IF(AF11=Feuil1!$A$35,Feuil1!$D$35,0)+IF(AF11=Feuil1!$A$36,Feuil1!$D$36,0)+IF(AF11=Feuil1!$A$37,Feuil1!$D$37,0)+IF(AF11=Feuil1!$A$38,Feuil1!$D$38,0)+IF(AF11=Feuil1!AE31,Feuil1!AH31,0) -> 0.3125
A14: =A11+1 -> 4 | B14: RC | C14: RTT | D14: FJ2 | E14: R | F14: PB | G14: S2 | H14: S2 | I14: S1 | J14: R | K14: PB | L14: BF | M14: BF | N14: R | O14: R | P14: RTT | Q14: VB | R14: ACJ | S14: FJ2 | T14: R | U14: VB | V14: VB | W14: S3 | X14: R | Y14: ACJ | Z14: PB | AA14: S3 | AB14: R | AC14: R | AD14: FC | AE14: FC | AF14: S3 | AG14: =SUM(B15:AF15) -> 6 | AH14: =SUM(B16:AF16) -> 6.25 | AI14: S1 / S2 : 13H30 - 21H
A15: =A12+1 -> 3 | B15: =IF(B14=Feuil1!$A$15,1)+IF(B14=Feuil1!$A$16,1)+IF(B14=Feuil1!$A$17,1)+IF(B14=Feuil1!$A$18,1)+IF(B14=Feuil1!$A$19,1)+IF(B14=Feuil1!$A$20,1)+IF(B14=Feuil1!$A$31,1)+IF(B14=Feuil1!$A$32,1)+IF(B14=Feuil1!$A$33,1)+IF(B14=Feuil1!$A$34,1) -> 0 | C15: =IF(C14=Feuil1!$A$15,1)+IF(C14=Feuil1!$A$16,1)+IF(C14=Feuil1!$A$17,1)+IF(C14=Feuil1!$A$18,1)+IF(C14=Feuil1!$A$19,1)+IF(C14=Feuil1!$A$20,1)+IF(C14=Feuil1!$A$31,1)+IF(C14=Feuil1!$A$32,1)+IF(C14=Feuil1!$A$33,1)+IF(C14=Feuil1!$A$34,1) -> 0 | D15: =IF(D14=Feuil1!$A$15,1)+IF(D14=Feuil1!$A$16,1)+IF(D14=Feuil1!$A$17,1)+IF(D14=Feuil1!$A$18,1)+IF(D14=Feuil1!$A$19,1)+IF(D14=Feuil1!$A$20,1)+IF(D14=Feuil1!$A$31,1)+IF(D14=Feuil1!$A$32,1)+IF(D14=Feuil1!$A$33,1)+IF(D14=Feuil1!$A$34,1) -> 0 | E15: =IF(E14=Feuil1!$A$15,1)+IF(E14=Feuil1!$A$16,1)+IF(E14=Feuil1!$A$17,1)+IF(E14=Feuil1!$A$18,1)+IF(E14=Feuil1!$A$19,1)+IF(E14=Feuil1!$A$20,1)+IF(E14=Feuil1!$A$31,1)+IF(E14=Feuil1!$A$32,1)+IF(E14=Feuil1!$A$33,1)+IF(E14=Feuil1!$A$34,1) -> 0 | F15: =IF(F14=Feuil1!$A$15,1)+IF(F14=Feuil1!$A$16,1)+IF(F14=Feuil1!$A$17,1)+IF(F14=Feuil1!$A$18,1)+IF(F14=Feuil1!$A$19,1)+IF(F14=Feuil1!$A$20,1)+IF(F14=Feuil1!$A$31,1)+IF(F14=Feuil1!$A$32,1)+IF(F14=Feuil1!$A$33,1)+IF(F14=Feuil1!$A$34,1) -> 0 | G15: =IF(G14=Feuil1!$A$15,1)+IF(G14=Feuil1!$A$16,1)+IF(G14=Feuil1!$A$17,1)+IF(G14=Feuil1!$A$18,1)+IF(G14=Feuil1!$A$19,1)+IF(G14=Feuil1!$A$20,1)+IF(G14=Feuil1!$A$31,1)+IF(G14=Feuil1!$A$32,1)+IF(G14=Feuil1!$A$33,1)+IF(G14=Feuil1!$A$34,1) -> 1 | H15: =IF(H14=Feuil1!$A$15,1)+IF(H14=Feuil1!$A$16,1)+IF(H14=Feuil1!$A$17,1)+IF(H14=Feuil1!$A$18,1)+IF(H14=Feuil1!$A$19,1)+IF(H14=Feuil1!$A$20,1)+IF(H14=Feuil1!$A$31,1)+IF(H14=Feuil1!$A$32,1)+IF(H14=Feuil1!$A$33,1)+IF(H14=Feuil1!$A$34,1) -> 1 | I15: =IF(I14=Feuil1!$A$15,1)+IF(I14=Feuil1!$A$16,1)+IF(I14=Feuil1!$A$17,1)+IF(I14=Feuil1!$A$18,1)+IF(I14=Feuil1!$A$19,1)+IF(I14=Feuil1!$A$20,1)+IF(I14=Feuil1!$A$31,1)+IF(I14=Feuil1!$A$32,1)+IF(I14=Feuil1!$A$33,1)+IF(I14=Feuil1!$A$34,1) -> 1 | ... AF15: =IF(AF14=Feuil1!$A$15,1)+IF(AF14=Feuil1!$A$16,1)+IF(AF14=Feuil1!$A$17,1)+IF(AF14=Feuil1!$A$18,1)+IF(AF14=Feuil1!$A$19,1)+IF(AF14=Feuil1!$A$20,1)+IF(AF14=Feuil1!$A$31,1)+IF(AF14=Feuil1!$A$32,1)+IF(AF14=Feuil1!$A$33,1)+IF(AF14=Feuil1!$A$34,1) -> 1
A16: =A13+1 -> 3 | B16: =IF(B14=Feuil1!$A$6,Feuil1!$D$6,0)+IF(B14=Feuil1!$A$7,Feuil1!$D$7,0)+IF(B14=Feuil1!$A$8,Feuil1!$D$8,0)+IF(B14=Feuil1!$A$9,Feuil1!$D$9,0)+IF(B14=Feuil1!$A$10,Feuil1!$D$10,0)+IF(B14=Feuil1!$A$11,Feuil1!$D$11,0)+IF(B14=Feuil1!$A$12,Feuil1!$D$12,0)+IF(B14=Feuil1!$A$13,Feuil1!$D$13,0)+IF(B14=Feuil1!$A$14,Feuil1!$D$14,0)+IF(B14=Feuil1!$A$15,Feuil1!$D$15,0)+IF(B14=Feuil1!$A$16,Feuil1!$D$16,0)+IF(B14=Feuil1!$A$17,Feuil1!$D$17,0)+IF(B14=Feuil1!$A$18,Feuil1!$D$18,0)+IF(B14=Feuil1!$A$19,Feuil1!$D$19,0)+IF(B14=Feuil1!$A$20,Feuil1!$D$20,0)+IF(B14=Feuil1!$A$21,Feuil1!$D$21,0)+IF(B14=Feuil1!$A$22,Feuil1!$D$22,0)+IF(B14=Feuil1!$A$23,Feuil1!$D$23,0)+IF(B14=Feuil1!$A$24,Feuil1!$D$25,0)+IF(B14=Feuil1!$A$26,Feuil1!$D$26,0)+IF(B14=Feuil1!$A$27,Feuil1!$D$27,0)+IF(B14=Feuil1!$A$28,Feuil1!$D$28,0)+IF(B14=Feuil1!$A$29,Feuil1!$D$29,0)+IF(B14=Feuil1!$A$30,Feuil1!$D$30,0)+IF(B14=Feuil1!$A$31,Feuil1!$D$31,0)+IF(B14=Feuil1!$A$32,Feuil1!$D$32,0)+IF(B14=Feuil1!$A$33,Feuil1!$D$33,0)+IF(B14=Feuil1!$A$34,Feuil1!$D$34,0)+IF(B14=Feuil1!$A$35,Feuil1!$D$35,0)+IF(B14=Feuil1!$A$36,Feuil1!$D$36,0)+IF(B14=Feuil1!$A$37,Feuil1!$D$37,0)+IF(B14=Feuil1!$A$38,Feuil1!$D$38,0)+IF(B14=Feuil1!A34,Feuil1!D34,0) -> 0 | C16: =IF(C14=Feuil1!$A$6,Feuil1!$D$6,0)+IF(C14=Feuil1!$A$7,Feuil1!$D$7,0)+IF(C14=Feuil1!$A$8,Feuil1!$D$8,0)+IF(C14=Feuil1!$A$9,Feuil1!$D$9,0)+IF(C14=Feuil1!$A$10,Feuil1!$D$10,0)+IF(C14=Feuil1!$A$11,Feuil1!$D$11,0)+IF(C14=Feuil1!$A$12,Feuil1!$D$12,0)+IF(C14=Feuil1!$A$13,Feuil1!$D$13,0)+IF(C14=Feuil1!$A$14,Feuil1!$D$14,0)+IF(C14=Feuil1!$A$15,Feuil1!$D$15,0)+IF(C14=Feuil1!$A$16,Feuil1!$D$16,0)+IF(C14=Feuil1!$A$17,Feuil1!$D$17,0)+IF(C14=Feuil1!$A$18,Feuil1!$D$18,0)+IF(C14=Feuil1!$A$19,Feuil1!$D$19,0)+IF(C14=Feuil1!$A$20,Feuil1!$D$20,0)+IF(C14=Feuil1!$A$21,Feuil1!$D$21,0)+IF(C14=Feuil1!$A$22,Feuil1!$D$22,0)+IF(C14=Feuil1!$A$23,Feuil1!$D$23,0)+IF(C14=Feuil1!$A$24,Feuil1!$D$25,0)+IF(C14=Feuil1!$A$26,Feuil1!$D$26,0)+IF(C14=Feuil1!$A$27,Feuil1!$D$27,0)+IF(C14=Feuil1!$A$28,Feuil1!$D$28,0)+IF(C14=Feuil1!$A$29,Feuil1!$D$29,0)+IF(C14=Feuil1!$A$30,Feuil1!$D$30,0)+IF(C14=Feuil1!$A$31,Feuil1!$D$31,0)+IF(C14=Feuil1!$A$32,Feuil1!$D$32,0)+IF(C14=Feuil1!$A$33,Feuil1!$D$33,0)+IF(C14=Feuil1!$A$34,Feuil1!$D$34,0)+IF(C14=Feuil1!$A$35,Feuil1!$D$35,0)+IF(C14=Feuil1!$A$36,Feuil1!$D$36,0)+IF(C14=Feuil1!$A$37,Feuil1!$D$37,0)+IF(C14=Feuil1!$A$38,Feuil1!$D$38,0)+IF(C14=Feuil1!B34,Feuil1!E34,0) -> 0 | D16: =IF(D14=Feuil1!$A$6,Feuil1!$D$6,0)+IF(D14=Feuil1!$A$7,Feuil1!$D$7,0)+IF(D14=Feuil1!$A$8,Feuil1!$D$8,0)+IF(D14=Feuil1!$A$9,Feuil1!$D$9,0)+IF(D14=Feuil1!$A$10,Feuil1!$D$10,0)+IF(D14=Feuil1!$A$11,Feuil1!$D$11,0)+IF(D14=Feuil1!$A$12,Feuil1!$D$12,0)+IF(D14=Feuil1!$A$13,Feuil1!$D$13,0)+IF(D14=Feuil1!$A$14,Feuil1!$D$14,0)+IF(D14=Feuil1!$A$15,Feuil1!$D$15,0)+IF(D14=Feuil1!$A$16,Feuil1!$D$16,0)+IF(D14=Feuil1!$A$17,Feuil1!$D$17,0)+IF(D14=Feuil1!$A$18,Feuil1!$D$18,0)+IF(D14=Feuil1!$A$19,Feuil1!$D$19,0)+IF(D14=Feuil1!$A$20,Feuil1!$D$20,0)+IF(D14=Feuil1!$A$21,Feuil1!$D$21,0)+IF(D14=Feuil1!$A$22,Feuil1!$D$22,0)+IF(D14=Feuil1!$A$23,Feuil1!$D$23,0)+IF(D14=Feuil1!$A$24,Feuil1!$D$25,0)+IF(D14=Feuil1!$A$26,Feuil1!$D$26,0)+IF(D14=Feuil1!$A$27,Feuil1!$D$27,0)+IF(D14=Feuil1!$A$28,Feuil1!$D$28,0)+IF(D14=Feuil1!$A$29,Feuil1!$D$29,0)+IF(D14=Feuil1!$A$30,Feuil1!$D$30,0)+IF(D14=Feuil1!$A$31,Feuil1!$D$31,0)+IF(D14=Feuil1!$A$32,Feuil1!$D$32,0)+IF(D14=Feuil1!$A$33,Feuil1!$D$33,0)+IF(D14=Feuil1!$A$34,Feuil1!$D$34,0)+IF(D14=Feuil1!$A$35,Feuil1!$D$35,0)+IF(D14=Feuil1!$A$36,Feuil1!$D$36,0)+IF(D14=Feuil1!$A$37,Feuil1!$D$37,0)+IF(D14=Feuil1!$A$38,Feuil1!$D$38,0)+IF(D14=Feuil1!C34,Feuil1!F34,0) -> 0.3125 | E16: =IF(E14=Feuil1!$A$6,Feuil1!$D$6,0)+IF(E14=Feuil1!$A$7,Feuil1!$D$7,0)+IF(E14=Feuil1!$A$8,Feuil1!$D$8,0)+IF(E14=Feuil1!$A$9,Feuil1!$D$9,0)+IF(E14=Feuil1!$A$10,Feuil1!$D$10,0)+IF(E14=Feuil1!$A$11,Feuil1!$D$11,0)+IF(E14=Feuil1!$A$12,Feuil1!$D$12,0)+IF(E14=Feuil1!$A$13,Feuil1!$D$13,0)+IF(E14=Feuil1!$A$14,Feuil1!$D$14,0)+IF(E14=Feuil1!$A$15,Feuil1!$D$15,0)+IF(E14=Feuil1!$A$16,Feuil1!$D$16,0)+IF(E14=Feuil1!$A$17,Feuil1!$D$17,0)+IF(E14=Feuil1!$A$18,Feuil1!$D$18,0)+IF(E14=Feuil1!$A$19,Feuil1!$D$19,0)+IF(E14=Feuil1!$A$20,Feuil1!$D$20,0)+IF(E14=Feuil1!$A$21,Feuil1!$D$21,0)+IF(E14=Feuil1!$A$22,Feuil1!$D$22,0)+IF(E14=Feuil1!$A$23,Feuil1!$D$23,0)+IF(E14=Feuil1!$A$24,Feuil1!$D$25,0)+IF(E14=Feuil1!$A$26,Feuil1!$D$26,0)+IF(E14=Feuil1!$A$27,Feuil1!$D$27,0)+IF(E14=Feuil1!$A$28,Feuil1!$D$28,0)+IF(E14=Feuil1!$A$29,Feuil1!$D$29,0)+IF(E14=Feuil1!$A$30,Feuil1!$D$30,0)+IF(E14=Feuil1!$A$31,Feuil1!$D$31,0)+IF(E14=Feuil1!$A$32,Feuil1!$D$32,0)+IF(E14=Feuil1!$A$33,Feuil1!$D$33,0)+IF(E14=Feuil1!$A$34,Feuil1!$D$34,0)+IF(E14=Feuil1!$A$35,Feuil1!$D$35,0)+IF(E14=Feuil1!$A$36,Feuil1!$D$36,0)+IF(E14=Feuil1!$A$37,Feuil1!$D$37,0)+IF(E14=Feuil1!$A$38,Feuil1!$D$38,0)+IF(E14=Feuil1!D34,Feuil1!G34,0) -> 0 | F16: =IF(F14=Feuil1!$A$6,Feuil1!$D$6,0)+IF(F14=Feuil1!$A$7,Feuil1!$D$7,0)+IF(F14=Feuil1!$A$8,Feuil1!$D$8,0)+IF(F14=Feuil1!$A$9,Feuil1!$D$9,0)+IF(F14=Feuil1!$A$10,Feuil1!$D$10,0)+IF(F14=Feuil1!$A$11,Feuil1!$D$11,0)+IF(F14=Feuil1!$A$12,Feuil1!$D$12,0)+IF(F14=Feuil1!$A$13,Feuil1!$D$13,0)+IF(F14=Feuil1!$A$14,Feuil1!$D$14,0)+IF(F14=Feuil1!$A$15,Feuil1!$D$15,0)+IF(F14=Feuil1!$A$16,Feuil1!$D$16,0)+IF(F14=Feuil1!$A$17,Feuil1!$D$17,0)+IF(F14=Feuil1!$A$18,Feuil1!$D$18,0)+IF(F14=Feuil1!$A$19,Feuil1!$D$19,0)+IF(F14=Feuil1!$A$20,Feuil1!$D$20,0)+IF(F14=Feuil1!$A$21,Feuil1!$D$21,0)+IF(F14=Feuil1!$A$22,Feuil1!$D$22,0)+IF(F14=Feuil1!$A$23,Feuil1!$D$23,0)+IF(F14=Feuil1!$A$24,Feuil1!$D$25,0)+IF(F14=Feuil1!$A$26,Feuil1!$D$26,0)+IF(F14=Feuil1!$A$27,Feuil1!$D$27,0)+IF(F14=Feuil1!$A$28,Feuil1!$D$28,0)+IF(F14=Feuil1!$A$29,Feuil1!$D$29,0)+IF(F14=Feuil1!$A$30,Feuil1!$D$30,0)+IF(F14=Feuil1!$A$31,Feuil1!$D$31,0)+IF(F14=Feuil1!$A$32,Feuil1!$D$32,0)+IF(F14=Feuil1!$A$33,Feuil1!$D$33,0)+IF(F14=Feuil1!$A$34,Feuil1!$D$34,0)+IF(F14=Feuil1!$A$35,Feuil1!$D$35,0)+IF(F14=Feuil1!$A$36,Feuil1!$D$36,0)+IF(F14=Feuil1!$A$37,Feuil1!$D$37,0)+IF(F14=Feuil1!$A$38,Feuil1!$D$38,0)+IF(F14=Feuil1!E34,Feuil1!H34,0) -> 0.3125 | G16: =IF(G14=Feuil1!$A$6,Feuil1!$D$6,0)+IF(G14=Feuil1!$A$7,Feuil1!$D$7,0)+IF(G14=Feuil1!$A$8,Feuil1!$D$8,0)+IF(G14=Feuil1!$A$9,Feuil1!$D$9,0)+IF(G14=Feuil1!$A$10,Feuil1!$D$10,0)+IF(G14=Feuil1!$A$11,Feuil1!$D$11,0)+IF(G14=Feuil1!$A$12,Feuil1!$D$12,0)+IF(G14=Feuil1!$A$13,Feuil1!$D$13,0)+IF(G14=Feuil1!$A$14,Feuil1!$D$14,0)+IF(G14=Feuil1!$A$15,Feuil1!$D$15,0)+IF(G14=Feuil1!$A$16,Feuil1!$D$16,0)+IF(G14=Feuil1!$A$17,Feuil1!$D$17,0)+IF(G14=Feuil1!$A$18,Feuil1!$D$18,0)+IF(G14=Feuil1!$A$19,Feuil1!$D$19,0)+IF(G14=Feuil1!$A$20,Feuil1!$D$20,0)+IF(G14=Feuil1!$A$21,Feuil1!$D$21,0)+IF(G14=Feuil1!$A$22,Feuil1!$D$22,0)+IF(G14=Feuil1!$A$23,Feuil1!$D$23,0)+IF(G14=Feuil1!$A$24,Feuil1!$D$25,0)+IF(G14=Feuil1!$A$26,Feuil1!$D$26,0)+IF(G14=Feuil1!$A$27,Feuil1!$D$27,0)+IF(G14=Feuil1!$A$28,Feuil1!$D$28,0)+IF(G14=Feuil1!$A$29,Feuil1!$D$29,0)+IF(G14=Feuil1!$A$30,Feuil1!$D$30,0)+IF(G14=Feuil1!$A$31,Feuil1!$D$31,0)+IF(G14=Feuil1!$A$32,Feuil1!$D$32,0)+IF(G14=Feuil1!$A$33,Feuil1!$D$33,0)+IF(G14=Feuil1!$A$34,Feuil1!$D$34,0)+IF(G14=Feuil1!$A$35,Feuil1!$D$35,0)+IF(G14=Feuil1!$A$36,Feuil1!$D$36,0)+IF(G14=Feuil1!$A$37,Feuil1!$D$37,0)+IF(G14=Feuil1!$A$38,Feuil1!$D$38,0)+IF(G14=Feuil1!F34,Feuil1!I34,0) -> 0.3125 | H16: =IF(H14=Feuil1!$A$6,Feuil1!$D$6,0)+IF(H14=Feuil1!$A$7,Feuil1!$D$7,0)+IF(H14=Feuil1!$A$8,Feuil1!$D$8,0)+IF(H14=Feuil1!$A$9,Feuil1!$D$9,0)+IF(H14=Feuil1!$A$10,Feuil1!$D$10,0)+IF(H14=Feuil1!$A$11,Feuil1!$D$11,0)+IF(H14=Feuil1!$A$12,Feuil1!$D$12,0)+IF(H14=Feuil1!$A$13,Feuil1!$D$13,0)+IF(H14=Feuil1!$A$14,Feuil1!$D$14,0)+IF(H14=Feuil1!$A$15,Feuil1!$D$15,0)+IF(H14=Feuil1!$A$16,Feuil1!$D$16,0)+IF(H14=Feuil1!$A$17,Feuil1!$D$17,0)+IF(H14=Feuil1!$A$18,Feuil1!$D$18,0)+IF(H14=Feuil1!$A$19,Feuil1!$D$19,0)+IF(H14=Feuil1!$A$20,Feuil1!$D$20,0)+IF(H14=Feuil1!$A$21,Feuil1!$D$21,0)+IF(H14=Feuil1!$A$22,Feuil1!$D$22,0)+IF(H14=Feuil1!$A$23,Feuil1!$D$23,0)+IF(H14=Feuil1!$A$24,Feuil1!$D$25,0)+IF(H14=Feuil1!$A$26,Feuil1!$D$26,0)+IF(H14=Feuil1!$A$27,Feuil1!$D$27,0)+IF(H14=Feuil1!$A$28,Feuil1!$D$28,0)+IF(H14=Feuil1!$A$29,Feuil1!$D$29,0)+IF(H14=Feuil1!$A$30,Feuil1!$D$30,0)+IF(H14=Feuil1!$A$31,Feuil1!$D$31,0)+IF(H14=Feuil1!$A$32,Feuil1!$D$32,0)+IF(H14=Feuil1!$A$33,Feuil1!$D$33,0)+IF(H14=Feuil1!$A$34,Feuil1!$D$34,0)+IF(H14=Feuil1!$A$35,Feuil1!$D$35,0)+IF(H14=Feuil1!$A$36,Feuil1!$D$36,0)+IF(H14=Feuil1!$A$37,Feuil1!$D$37,0)+IF(H14=Feuil1!$A$38,Feuil1!$D$38,0)+IF(H14=Feuil1!G34,Feuil1!J34,0) -> 0.3125 | I16: =IF(I14=Feuil1!$A$6,Feuil1!$D$6,0)+IF(I14=Feuil1!$A$7,Feuil1!$D$7,0)+IF(I14=Feuil1!$A$8,Feuil1!$D$8,0)+IF(I14=Feuil1!$A$9,Feuil1!$D$9,0)+IF(I14=Feuil1!$A$10,Feuil1!$D$10,0)+IF(I14=Feuil1!$A$11,Feuil1!$D$11,0)+IF(I14=Feuil1!$A$12,Feuil1!$D$12,0)+IF(I14=Feuil1!$A$13,Feuil1!$D$13,0)+IF(I14=Feuil1!$A$14,Feuil1!$D$14,0)+IF(I14=Feuil1!$A$15,Feuil1!$D$15,0)+IF(I14=Feuil1!$A$16,Feuil1!$D$16,0)+IF(I14=Feuil1!$A$17,Feuil1!$D$17,0)+IF(I14=Feuil1!$A$18,Feuil1!$D$18,0)+IF(I14=Feuil1!$A$19,Feuil1!$D$19,0)+IF(I14=Feuil1!$A$20,Feuil1!$D$20,0)+IF(I14=Feuil1!$A$21,Feuil1!$D$21,0)+IF(I14=Feuil1!$A$22,Feuil1!$D$22,0)+IF(I14=Feuil1!$A$23,Feuil1!$D$23,0)+IF(I14=Feuil1!$A$24,Feuil1!$D$25,0)+IF(I14=Feuil1!$A$26,Feuil1!$D$26,0)+IF(I14=Feuil1!$A$27,Feuil1!$D$27,0)+IF(I14=Feuil1!$A$28,Feuil1!$D$28,0)+IF(I14=Feuil1!$A$29,Feuil1!$D$29,0)+IF(I14=Feuil1!$A$30,Feuil1!$D$30,0)+IF(I14=Feuil1!$A$31,Feuil1!$D$31,0)+IF(I14=Feuil1!$A$32,Feuil1!$D$32,0)+IF(I14=Feuil1!$A$33,Feuil1!$D$33,0)+IF(I14=Feuil1!$A$34,Feuil1!$D$34,0)+IF(I14=Feuil1!$A$35,Feuil1!$D$35,0)+IF(I14=Feuil1!$A$36,Feuil1!$D$36,0)+IF(I14=Feuil1!$A$37,Feuil1!$D$37,0)+IF(I14=Feuil1!$A$38,Feuil1!$D$38,0)+IF(I14=Feuil1!H34,Feuil1!K34,0) -> 0.3125 | ... AF16: =IF(AF14=Feuil1!$A$6,Feuil1!$D$6,0)+IF(AF14=Feuil1!$A$7,Feuil1!$D$7,0)+IF(AF14=Feuil1!$A$8,Feuil1!$D$8,0)+IF(AF14=Feuil1!$A$9,Feuil1!$D$9,0)+IF(AF14=Feuil1!$A$10,Feuil1!$D$10,0)+IF(AF14=Feuil1!$A$11,Feuil1!$D$11,0)+IF(AF14=Feuil1!$A$12,Feuil1!$D$12,0)+IF(AF14=Feuil1!$A$13,Feuil1!$D$13,0)+IF(AF14=Feuil1!$A$14,Feuil1!$D$14,0)+IF(AF14=Feuil1!$A$15,Feuil1!$D$15,0)+IF(AF14=Feuil1!$A$16,Feuil1!$D$16,0)+IF(AF14=Feuil1!$A$17,Feuil1!$D$17,0)+IF(AF14=Feuil1!$A$18,Feuil1!$D$18,0)+IF(AF14=Feuil1!$A$19,Feuil1!$D$19,0)+IF(AF14=Feuil1!$A$20,Feuil1!$D$20,0)+IF(AF14=Feuil1!$A$21,Feuil1!$D$21,0)+IF(AF14=Feuil1!$A$22,Feuil1!$D$22,0)+IF(AF14=Feuil1!$A$23,Feuil1!$D$23,0)+IF(AF14=Feuil1!$A$24,Feuil1!$D$25,0)+IF(AF14=Feuil1!$A$26,Feuil1!$D$26,0)+IF(AF14=Feuil1!$A$27,Feuil1!$D$27,0)+IF(AF14=Feuil1!$A$28,Feuil1!$D$28,0)+IF(AF14=Feuil1!$A$29,Feuil1!$D$29,0)+IF(AF14=Feuil1!$A$30,Feuil1!$D$30,0)+IF(AF14=Feuil1!$A$31,Feuil1!$D$31,0)+IF(AF14=Feuil1!$A$32,Feuil1!$D$32,0)+IF(AF14=Feuil1!$A$33,Feuil1!$D$33,0)+IF(AF14=Feuil1!$A$34,Feuil1!$D$34,0)+IF(AF14=Feuil1!$A$35,Feuil1!$D$35,0)+IF(AF14=Feuil1!$A$36,Feuil1!$D$36,0)+IF(AF14=Feuil1!$A$37,Feuil1!$D$37,0)+IF(AF14=Feuil1!$A$38,Feuil1!$D$38,0)+IF(AF14=Feuil1!AE34,Feuil1!AH34,0) -> 0.3125
A17: =A14+1 -> 5 | B17: VB | C17: FJ | D17: S3 | E17: S2 | F17: R | G17: VB | H17: VB | I17: PATHOS | J17: PB | K17: R | L17: FC | M17: FC | N17: R | O17: R | P17: SFJ | Q17: S3 | R17: PATHOS | S17: R | T17: VB | U17: S3 | V17: S3 | W17: R | X17: VB3+ | Y17: VB | Z17: SFJ | AA17: RTT | AB17: R | AC17: R | AD17: RTT | AE17: BF | AF17: S1 | AG17: =SUM(B18:AF18) -> 8 | AH17: =SUM(B19:AF19) -> 5.625 | AI17: SFJ / SFJ2 / S3
A18: =A15+1 -> 4 | B18: =IF(B17=Feuil1!$A$15,1)+IF(B17=Feuil1!$A$16,1)+IF(B17=Feuil1!$A$17,1)+IF(B17=Feuil1!$A$18,1)+IF(B17=Feuil1!$A$19,1)+IF(B17=Feuil1!$A$20,1)+IF(B17=Feuil1!$A$31,1)+IF(B17=Feuil1!$A$32,1)+IF(B17=Feuil1!$A$33,1)+IF(B17=Feuil1!$A$34,1) -> 0 | C18: =IF(C17=Feuil1!$A$15,1)+IF(C17=Feuil1!$A$16,1)+IF(C17=Feuil1!$A$17,1)+IF(C17=Feuil1!$A$18,1)+IF(C17=Feuil1!$A$19,1)+IF(C17=Feuil1!$A$20,1)+IF(C17=Feuil1!$A$31,1)+IF(C17=Feuil1!$A$32,1)+IF(C17=Feuil1!$A$33,1)+IF(C17=Feuil1!$A$34,1) -> 0 | D18: =IF(D17=Feuil1!$A$15,1)+IF(D17=Feuil1!$A$16,1)+IF(D17=Feuil1!$A$17,1)+IF(D17=Feuil1!$A$18,1)+IF(D17=Feuil1!$A$19,1)+IF(D17=Feuil1!$A$20,1)+IF(D17=Feuil1!$A$31,1)+IF(D17=Feuil1!$A$32,1)+IF(D17=Feuil1!$A$33,1)+IF(D17=Feuil1!$A$34,1) -> 1 | E18: =IF(E17=Feuil1!$A$15,1)+IF(E17=Feuil1!$A$16,1)+IF(E17=Feuil1!$A$17,1)+IF(E17=Feuil1!$A$18,1)+IF(E17=Feuil1!$A$19,1)+IF(E17=Feuil1!$A$20,1)+IF(E17=Feuil1!$A$31,1)+IF(E17=Feuil1!$A$32,1)+IF(E17=Feuil1!$A$33,1)+IF(E17=Feuil1!$A$34,1) -> 1 | F18: =IF(F17=Feuil1!$A$15,1)+IF(F17=Feuil1!$A$16,1)+IF(F17=Feuil1!$A$17,1)+IF(F17=Feuil1!$A$18,1)+IF(F17=Feuil1!$A$19,1)+IF(F17=Feuil1!$A$20,1)+IF(F17=Feuil1!$A$31,1)+IF(F17=Feuil1!$A$32,1)+IF(F17=Feuil1!$A$33,1)+IF(F17=Feuil1!$A$34,1) -> 0 | G18: =IF(G17=Feuil1!$A$15,1)+IF(G17=Feuil1!$A$16,1)+IF(G17=Feuil1!$A$17,1)+IF(G17=Feuil1!$A$18,1)+IF(G17=Feuil1!$A$19,1)+IF(G17=Feuil1!$A$20,1)+IF(G17=Feuil1!$A$31,1)+IF(G17=Feuil1!$A$32,1)+IF(G17=Feuil1!$A$33,1)+IF(G17=Feuil1!$A$34,1) -> 0 | H18: =IF(H17=Feuil1!$A$15,1)+IF(H17=Feuil1!$A$16,1)+IF(H17=Feuil1!$A$17,1)+IF(H17=Feuil1!$A$18,1)+IF(H17=Feuil1!$A$19,1)+IF(H17=Feuil1!$A$20,1)+IF(H17=Feuil1!$A$31,1)+IF(H17=Feuil1!$A$32,1)+IF(H17=Feuil1!$A$33,1)+IF(H17=Feuil1!$A$34,1) -> 0 | I18: =IF(I17=Feuil1!$A$15,1)+IF(I17=Feuil1!$A$16,1)+IF(I17=Feuil1!$A$17,1)+IF(I17=Feuil1!$A$18,1)+IF(I17=Feuil1!$A$19,1)+IF(I17=Feuil1!$A$20,1)+IF(I17=Feuil1!$A$31,1)+IF(I17=Feuil1!$A$32,1)+IF(I17=Feuil1!$A$33,1)+IF(I17=Feuil1!$A$34,1) -> 0 | ... AF18: =IF(AF17=Feuil1!$A$15,1)+IF(AF17=Feuil1!$A$16,1)+IF(AF17=Feuil1!$A$17,1)+IF(AF17=Feuil1!$A$18,1)+IF(AF17=Feuil1!$A$19,1)+IF(AF17=Feuil1!$A$20,1)+IF(AF17=Feuil1!$A$31,1)+IF(AF17=Feuil1!$A$32,1)+IF(AF17=Feuil1!$A$33,1)+IF(AF17=Feuil1!$A$34,1) -> 1
A19: =A16+1 -> 4 | B19: =IF(B17=Feuil1!$A$6,Feuil1!$D$6,0)+IF(B17=Feuil1!$A$7,Feuil1!$D$7,0)+IF(B17=Feuil1!$A$8,Feuil1!$D$8,0)+IF(B17=Feuil1!$A$9,Feuil1!$D$9,0)+IF(B17=Feuil1!$A$10,Feuil1!$D$10,0)+IF(B17=Feuil1!$A$11,Feuil1!$D$11,0)+IF(B17=Feuil1!$A$12,Feuil1!$D$12,0)+IF(B17=Feuil1!$A$13,Feuil1!$D$13,0)+IF(B17=Feuil1!$A$14,Feuil1!$D$14,0)+IF(B17=Feuil1!$A$15,Feuil1!$D$15,0)+IF(B17=Feuil1!$A$16,Feuil1!$D$16,0)+IF(B17=Feuil1!$A$17,Feuil1!$D$17,0)+IF(B17=Feuil1!$A$18,Feuil1!$D$18,0)+IF(B17=Feuil1!$A$19,Feuil1!$D$19,0)+IF(B17=Feuil1!$A$20,Feuil1!$D$20,0)+IF(B17=Feuil1!$A$21,Feuil1!$D$21,0)+IF(B17=Feuil1!$A$22,Feuil1!$D$22,0)+IF(B17=Feuil1!$A$23,Feuil1!$D$23,0)+IF(B17=Feuil1!$A$24,Feuil1!$D$25,0)+IF(B17=Feuil1!$A$26,Feuil1!$D$26,0)+IF(B17=Feuil1!$A$27,Feuil1!$D$27,0)+IF(B17=Feuil1!$A$28,Feuil1!$D$28,0)+IF(B17=Feuil1!$A$29,Feuil1!$D$29,0)+IF(B17=Feuil1!$A$30,Feuil1!$D$30,0)+IF(B17=Feuil1!$A$31,Feuil1!$D$31,0)+IF(B17=Feuil1!$A$32,Feuil1!$D$32,0)+IF(B17=Feuil1!$A$33,Feuil1!$D$33,0)+IF(B17=Feuil1!$A$34,Feuil1!$D$34,0)+IF(B17=Feuil1!$A$35,Feuil1!$D$35,0)+IF(B17=Feuil1!$A$36,Feuil1!$D$36,0)+IF(B17=Feuil1!$A$37,Feuil1!$D$37,0)+IF(B17=Feuil1!$A$38,Feuil1!$D$38,0)+IF(B17=Feuil1!A37,Feuil1!D37,0) -> 0.3125 | C19: =IF(C17=Feuil1!$A$6,Feuil1!$D$6,0)+IF(C17=Feuil1!$A$7,Feuil1!$D$7,0)+IF(C17=Feuil1!$A$8,Feuil1!$D$8,0)+IF(C17=Feuil1!$A$9,Feuil1!$D$9,0)+IF(C17=Feuil1!$A$10,Feuil1!$D$10,0)+IF(C17=Feuil1!$A$11,Feuil1!$D$11,0)+IF(C17=Feuil1!$A$12,Feuil1!$D$12,0)+IF(C17=Feuil1!$A$13,Feuil1!$D$13,0)+IF(C17=Feuil1!$A$14,Feuil1!$D$14,0)+IF(C17=Feuil1!$A$15,Feuil1!$D$15,0)+IF(C17=Feuil1!$A$16,Feuil1!$D$16,0)+IF(C17=Feuil1!$A$17,Feuil1!$D$17,0)+IF(C17=Feuil1!$A$18,Feuil1!$D$18,0)+IF(C17=Feuil1!$A$19,Feuil1!$D$19,0)+IF(C17=Feuil1!$A$20,Feuil1!$D$20,0)+IF(C17=Feuil1!$A$21,Feuil1!$D$21,0)+IF(C17=Feuil1!$A$22,Feuil1!$D$22,0)+IF(C17=Feuil1!$A$23,Feuil1!$D$23,0)+IF(C17=Feuil1!$A$24,Feuil1!$D$25,0)+IF(C17=Feuil1!$A$26,Feuil1!$D$26,0)+IF(C17=Feuil1!$A$27,Feuil1!$D$27,0)+IF(C17=Feuil1!$A$28,Feuil1!$D$28,0)+IF(C17=Feuil1!$A$29,Feuil1!$D$29,0)+IF(C17=Feuil1!$A$30,Feuil1!$D$30,0)+IF(C17=Feuil1!$A$31,Feuil1!$D$31,0)+IF(C17=Feuil1!$A$32,Feuil1!$D$32,0)+IF(C17=Feuil1!$A$33,Feuil1!$D$33,0)+IF(C17=Feuil1!$A$34,Feuil1!$D$34,0)+IF(C17=Feuil1!$A$35,Feuil1!$D$35,0)+IF(C17=Feuil1!$A$36,Feuil1!$D$36,0)+IF(C17=Feuil1!$A$37,Feuil1!$D$37,0)+IF(C17=Feuil1!$A$38,Feuil1!$D$38,0)+IF(C17=Feuil1!B37,Feuil1!E37,0) -> 0.3125 | D19: =IF(D17=Feuil1!$A$6,Feuil1!$D$6,0)+IF(D17=Feuil1!$A$7,Feuil1!$D$7,0)+IF(D17=Feuil1!$A$8,Feuil1!$D$8,0)+IF(D17=Feuil1!$A$9,Feuil1!$D$9,0)+IF(D17=Feuil1!$A$10,Feuil1!$D$10,0)+IF(D17=Feuil1!$A$11,Feuil1!$D$11,0)+IF(D17=Feuil1!$A$12,Feuil1!$D$12,0)+IF(D17=Feuil1!$A$13,Feuil1!$D$13,0)+IF(D17=Feuil1!$A$14,Feuil1!$D$14,0)+IF(D17=Feuil1!$A$15,Feuil1!$D$15,0)+IF(D17=Feuil1!$A$16,Feuil1!$D$16,0)+IF(D17=Feuil1!$A$17,Feuil1!$D$17,0)+IF(D17=Feuil1!$A$18,Feuil1!$D$18,0)+IF(D17=Feuil1!$A$19,Feuil1!$D$19,0)+IF(D17=Feuil1!$A$20,Feuil1!$D$20,0)+IF(D17=Feuil1!$A$21,Feuil1!$D$21,0)+IF(D17=Feuil1!$A$22,Feuil1!$D$22,0)+IF(D17=Feuil1!$A$23,Feuil1!$D$23,0)+IF(D17=Feuil1!$A$24,Feuil1!$D$25,0)+IF(D17=Feuil1!$A$26,Feuil1!$D$26,0)+IF(D17=Feuil1!$A$27,Feuil1!$D$27,0)+IF(D17=Feuil1!$A$28,Feuil1!$D$28,0)+IF(D17=Feuil1!$A$29,Feuil1!$D$29,0)+IF(D17=Feuil1!$A$30,Feuil1!$D$30,0)+IF(D17=Feuil1!$A$31,Feuil1!$D$31,0)+IF(D17=Feuil1!$A$32,Feuil1!$D$32,0)+IF(D17=Feuil1!$A$33,Feuil1!$D$33,0)+IF(D17=Feuil1!$A$34,Feuil1!$D$34,0)+IF(D17=Feuil1!$A$35,Feuil1!$D$35,0)+IF(D17=Feuil1!$A$36,Feuil1!$D$36,0)+IF(D17=Feuil1!$A$37,Feuil1!$D$37,0)+IF(D17=Feuil1!$A$38,Feuil1!$D$38,0)+IF(D17=Feuil1!C37,Feuil1!F37,0) -> 0.3125 | E19: =IF(E17=Feuil1!$A$6,Feuil1!$D$6,0)+IF(E17=Feuil1!$A$7,Feuil1!$D$7,0)+IF(E17=Feuil1!$A$8,Feuil1!$D$8,0)+IF(E17=Feuil1!$A$9,Feuil1!$D$9,0)+IF(E17=Feuil1!$A$10,Feuil1!$D$10,0)+IF(E17=Feuil1!$A$11,Feuil1!$D$11,0)+IF(E17=Feuil1!$A$12,Feuil1!$D$12,0)+IF(E17=Feuil1!$A$13,Feuil1!$D$13,0)+IF(E17=Feuil1!$A$14,Feuil1!$D$14,0)+IF(E17=Feuil1!$A$15,Feuil1!$D$15,0)+IF(E17=Feuil1!$A$16,Feuil1!$D$16,0)+IF(E17=Feuil1!$A$17,Feuil1!$D$17,0)+IF(E17=Feuil1!$A$18,Feuil1!$D$18,0)+IF(E17=Feuil1!$A$19,Feuil1!$D$19,0)+IF(E17=Feuil1!$A$20,Feuil1!$D$20,0)+IF(E17=Feuil1!$A$21,Feuil1!$D$21,0)+IF(E17=Feuil1!$A$22,Feuil1!$D$22,0)+IF(E17=Feuil1!$A$23,Feuil1!$D$23,0)+IF(E17=Feuil1!$A$24,Feuil1!$D$25,0)+IF(E17=Feuil1!$A$26,Feuil1!$D$26,0)+IF(E17=Feuil1!$A$27,Feuil1!$D$27,0)+IF(E17=Feuil1!$A$28,Feuil1!$D$28,0)+IF(E17=Feuil1!$A$29,Feuil1!$D$29,0)+IF(E17=Feuil1!$A$30,Feuil1!$D$30,0)+IF(E17=Feuil1!$A$31,Feuil1!$D$31,0)+IF(E17=Feuil1!$A$32,Feuil1!$D$32,0)+IF(E17=Feuil1!$A$33,Feuil1!$D$33,0)+IF(E17=Feuil1!$A$34,Feuil1!$D$34,0)+IF(E17=Feuil1!$A$35,Feuil1!$D$35,0)+IF(E17=Feuil1!$A$36,Feuil1!$D$36,0)+IF(E17=Feuil1!$A$37,Feuil1!$D$37,0)+IF(E17=Feuil1!$A$38,Feuil1!$D$38,0)+IF(E17=Feuil1!D37,Feuil1!G37,0) -> 0.3125 | F19: =IF(F17=Feuil1!$A$6,Feuil1!$D$6,0)+IF(F17=Feuil1!$A$7,Feuil1!$D$7,0)+IF(F17=Feuil1!$A$8,Feuil1!$D$8,0)+IF(F17=Feuil1!$A$9,Feuil1!$D$9,0)+IF(F17=Feuil1!$A$10,Feuil1!$D$10,0)+IF(F17=Feuil1!$A$11,Feuil1!$D$11,0)+IF(F17=Feuil1!$A$12,Feuil1!$D$12,0)+IF(F17=Feuil1!$A$13,Feuil1!$D$13,0)+IF(F17=Feuil1!$A$14,Feuil1!$D$14,0)+IF(F17=Feuil1!$A$15,Feuil1!$D$15,0)+IF(F17=Feuil1!$A$16,Feuil1!$D$16,0)+IF(F17=Feuil1!$A$17,Feuil1!$D$17,0)+IF(F17=Feuil1!$A$18,Feuil1!$D$18,0)+IF(F17=Feuil1!$A$19,Feuil1!$D$19,0)+IF(F17=Feuil1!$A$20,Feuil1!$D$20,0)+IF(F17=Feuil1!$A$21,Feuil1!$D$21,0)+IF(F17=Feuil1!$A$22,Feuil1!$D$22,0)+IF(F17=Feuil1!$A$23,Feuil1!$D$23,0)+IF(F17=Feuil1!$A$24,Feuil1!$D$25,0)+IF(F17=Feuil1!$A$26,Feuil1!$D$26,0)+IF(F17=Feuil1!$A$27,Feuil1!$D$27,0)+IF(F17=Feuil1!$A$28,Feuil1!$D$28,0)+IF(F17=Feuil1!$A$29,Feuil1!$D$29,0)+IF(F17=Feuil1!$A$30,Feuil1!$D$30,0)+IF(F17=Feuil1!$A$31,Feuil1!$D$31,0)+IF(F17=Feuil1!$A$32,Feuil1!$D$32,0)+IF(F17=Feuil1!$A$33,Feuil1!$D$33,0)+IF(F17=Feuil1!$A$34,Feuil1!$D$34,0)+IF(F17=Feuil1!$A$35,Feuil1!$D$35,0)+IF(F17=Feuil1!$A$36,Feuil1!$D$36,0)+IF(F17=Feuil1!$A$37,Feuil1!$D$37,0)+IF(F17=Feuil1!$A$38,Feuil1!$D$38,0)+IF(F17=Feuil1!E37,Feuil1!H37,0) -> 0 | G19: =IF(G17=Feuil1!$A$6,Feuil1!$D$6,0)+IF(G17=Feuil1!$A$7,Feuil1!$D$7,0)+IF(G17=Feuil1!$A$8,Feuil1!$D$8,0)+IF(G17=Feuil1!$A$9,Feuil1!$D$9,0)+IF(G17=Feuil1!$A$10,Feuil1!$D$10,0)+IF(G17=Feuil1!$A$11,Feuil1!$D$11,0)+IF(G17=Feuil1!$A$12,Feuil1!$D$12,0)+IF(G17=Feuil1!$A$13,Feuil1!$D$13,0)+IF(G17=Feuil1!$A$14,Feuil1!$D$14,0)+IF(G17=Feuil1!$A$15,Feuil1!$D$15,0)+IF(G17=Feuil1!$A$16,Feuil1!$D$16,0)+IF(G17=Feuil1!$A$17,Feuil1!$D$17,0)+IF(G17=Feuil1!$A$18,Feuil1!$D$18,0)+IF(G17=Feuil1!$A$19,Feuil1!$D$19,0)+IF(G17=Feuil1!$A$20,Feuil1!$D$20,0)+IF(G17=Feuil1!$A$21,Feuil1!$D$21,0)+IF(G17=Feuil1!$A$22,Feuil1!$D$22,0)+IF(G17=Feuil1!$A$23,Feuil1!$D$23,0)+IF(G17=Feuil1!$A$24,Feuil1!$D$25,0)+IF(G17=Feuil1!$A$26,Feuil1!$D$26,0)+IF(G17=Feuil1!$A$27,Feuil1!$D$27,0)+IF(G17=Feuil1!$A$28,Feuil1!$D$28,0)+IF(G17=Feuil1!$A$29,Feuil1!$D$29,0)+IF(G17=Feuil1!$A$30,Feuil1!$D$30,0)+IF(G17=Feuil1!$A$31,Feuil1!$D$31,0)+IF(G17=Feuil1!$A$32,Feuil1!$D$32,0)+IF(G17=Feuil1!$A$33,Feuil1!$D$33,0)+IF(G17=Feuil1!$A$34,Feuil1!$D$34,0)+IF(G17=Feuil1!$A$35,Feuil1!$D$35,0)+IF(G17=Feuil1!$A$36,Feuil1!$D$36,0)+IF(G17=Feuil1!$A$37,Feuil1!$D$37,0)+IF(G17=Feuil1!$A$38,Feuil1!$D$38,0)+IF(G17=Feuil1!F37,Feuil1!I37,0) -> 0.3125 | H19: =IF(H17=Feuil1!$A$6,Feuil1!$D$6,0)+IF(H17=Feuil1!$A$7,Feuil1!$D$7,0)+IF(H17=Feuil1!$A$8,Feuil1!$D$8,0)+IF(H17=Feuil1!$A$9,Feuil1!$D$9,0)+IF(H17=Feuil1!$A$10,Feuil1!$D$10,0)+IF(H17=Feuil1!$A$11,Feuil1!$D$11,0)+IF(H17=Feuil1!$A$12,Feuil1!$D$12,0)+IF(H17=Feuil1!$A$13,Feuil1!$D$13,0)+IF(H17=Feuil1!$A$14,Feuil1!$D$14,0)+IF(H17=Feuil1!$A$15,Feuil1!$D$15,0)+IF(H17=Feuil1!$A$16,Feuil1!$D$16,0)+IF(H17=Feuil1!$A$17,Feuil1!$D$17,0)+IF(H17=Feuil1!$A$18,Feuil1!$D$18,0)+IF(H17=Feuil1!$A$19,Feuil1!$D$19,0)+IF(H17=Feuil1!$A$20,Feuil1!$D$20,0)+IF(H17=Feuil1!$A$21,Feuil1!$D$21,0)+IF(H17=Feuil1!$A$22,Feuil1!$D$22,0)+IF(H17=Feuil1!$A$23,Feuil1!$D$23,0)+IF(H17=Feuil1!$A$24,Feuil1!$D$25,0)+IF(H17=Feuil1!$A$26,Feuil1!$D$26,0)+IF(H17=Feuil1!$A$27,Feuil1!$D$27,0)+IF(H17=Feuil1!$A$28,Feuil1!$D$28,0)+IF(H17=Feuil1!$A$29,Feuil1!$D$29,0)+IF(H17=Feuil1!$A$30,Feuil1!$D$30,0)+IF(H17=Feuil1!$A$31,Feuil1!$D$31,0)+IF(H17=Feuil1!$A$32,Feuil1!$D$32,0)+IF(H17=Feuil1!$A$33,Feuil1!$D$33,0)+IF(H17=Feuil1!$A$34,Feuil1!$D$34,0)+IF(H17=Feuil1!$A$35,Feuil1!$D$35,0)+IF(H17=Feuil1!$A$36,Feuil1!$D$36,0)+IF(H17=Feuil1!$A$37,Feuil1!$D$37,0)+IF(H17=Feuil1!$A$38,Feuil1!$D$38,0)+IF(H17=Feuil1!G37,Feuil1!J37,0) -> 0.3125 | I19: =IF(I17=Feuil1!$A$6,Feuil1!$D$6,0)+IF(I17=Feuil1!$A$7,Feuil1!$D$7,0)+IF(I17=Feuil1!$A$8,Feuil1!$D$8,0)+IF(I17=Feuil1!$A$9,Feuil1!$D$9,0)+IF(I17=Feuil1!$A$10,Feuil1!$D$10,0)+IF(I17=Feuil1!$A$11,Feuil1!$D$11,0)+IF(I17=Feuil1!$A$12,Feuil1!$D$12,0)+IF(I17=Feuil1!$A$13,Feuil1!$D$13,0)+IF(I17=Feuil1!$A$14,Feuil1!$D$14,0)+IF(I17=Feuil1!$A$15,Feuil1!$D$15,0)+IF(I17=Feuil1!$A$16,Feuil1!$D$16,0)+IF(I17=Feuil1!$A$17,Feuil1!$D$17,0)+IF(I17=Feuil1!$A$18,Feuil1!$D$18,0)+IF(I17=Feuil1!$A$19,Feuil1!$D$19,0)+IF(I17=Feuil1!$A$20,Feuil1!$D$20,0)+IF(I17=Feuil1!$A$21,Feuil1!$D$21,0)+IF(I17=Feuil1!$A$22,Feuil1!$D$22,0)+IF(I17=Feuil1!$A$23,Feuil1!$D$23,0)+IF(I17=Feuil1!$A$24,Feuil1!$D$25,0)+IF(I17=Feuil1!$A$26,Feuil1!$D$26,0)+IF(I17=Feuil1!$A$27,Feuil1!$D$27,0)+IF(I17=Feuil1!$A$28,Feuil1!$D$28,0)+IF(I17=Feuil1!$A$29,Feuil1!$D$29,0)+IF(I17=Feuil1!$A$30,Feuil1!$D$30,0)+IF(I17=Feuil1!$A$31,Feuil1!$D$31,0)+IF(I17=Feuil1!$A$32,Feuil1!$D$32,0)+IF(I17=Feuil1!$A$33,Feuil1!$D$33,0)+IF(I17=Feuil1!$A$34,Feuil1!$D$34,0)+IF(I17=Feuil1!$A$35,Feuil1!$D$35,0)+IF(I17=Feuil1!$A$36,Feuil1!$D$36,0)+IF(I17=Feuil1!$A$37,Feuil1!$D$37,0)+IF(I17=Feuil1!$A$38,Feuil1!$D$38,0)+IF(I17=Feuil1!H37,Feuil1!K37,0) -> 0 | ... AF19: =IF(AF17=Feuil1!$A$6,Feuil1!$D$6,0)+IF(AF17=Feuil1!$A$7,Feuil1!$D$7,0)+IF(AF17=Feuil1!$A$8,Feuil1!$D$8,0)+IF(AF17=Feuil1!$A$9,Feuil1!$D$9,0)+IF(AF17=Feuil1!$A$10,Feuil1!$D$10,0)+IF(AF17=Feuil1!$A$11,Feuil1!$D$11,0)+IF(AF17=Feuil1!$A$12,Feuil1!$D$12,0)+IF(AF17=Feuil1!$A$13,Feuil1!$D$13,0)+IF(AF17=Feuil1!$A$14,Feuil1!$D$14,0)+IF(AF17=Feuil1!$A$15,Feuil1!$D$15,0)+IF(AF17=Feuil1!$A$16,Feuil1!$D$16,0)+IF(AF17=Feuil1!$A$17,Feuil1!$D$17,0)+IF(AF17=Feuil1!$A$18,Feuil1!$D$18,0)+IF(AF17=Feuil1!$A$19,Feuil1!$D$19,0)+IF(AF17=Feuil1!$A$20,Feuil1!$D$20,0)+IF(AF17=Feuil1!$A$21,Feuil1!$D$21,0)+IF(AF17=Feuil1!$A$22,Feuil1!$D$22,0)+IF(AF17=Feuil1!$A$23,Feuil1!$D$23,0)+IF(AF17=Feuil1!$A$24,Feuil1!$D$25,0)+IF(AF17=Feuil1!$A$26,Feuil1!$D$26,0)+IF(AF17=Feuil1!$A$27,Feuil1!$D$27,0)+IF(AF17=Feuil1!$A$28,Feuil1!$D$28,0)+IF(AF17=Feuil1!$A$29,Feuil1!$D$29,0)+IF(AF17=Feuil1!$A$30,Feuil1!$D$30,0)+IF(AF17=Feuil1!$A$31,Feuil1!$D$31,0)+IF(AF17=Feuil1!$A$32,Feuil1!$D$32,0)+IF(AF17=Feuil1!$A$33,Feuil1!$D$33,0)+IF(AF17=Feuil1!$A$34,Feuil1!$D$34,0)+IF(AF17=Feuil1!$A$35,Feuil1!$D$35,0)+IF(AF17=Feuil1!$A$36,Feuil1!$D$36,0)+IF(AF17=Feuil1!$A$37,Feuil1!$D$37,0)+IF(AF17=Feuil1!$A$38,Feuil1!$D$38,0)+IF(AF17=Feuil1!AE37,Feuil1!AH37,0) -> 0.3125
A20: =A17+1 -> 6 | B20: PB | C20: R | D20: RC | E20: PB | F20: FC | G20: R | H20: R | I20: R | J20: R | K20: FC | L20: R | M20: RC | N20: S6 | O20: S6 | P20: R | Q20: PB | R20: RC | S20: PB | T20: RC | U20: R | V20: R | W20: PB | X20: PB | Y20: PB | Z20: R | AA20: S6 | AB20: R | AC20: R | AD20: S6 | AE20: R | AF20: FC | AG20: =SUM(B21:AF21) -> 4 | AH20: =SUM(B22:AF22) -> 4.2916667 | AI20: 14H - 21H30
A21: =A18+1 -> 5 | B21: =IF(B20=Feuil1!$A$15,1)+IF(B20=Feuil1!$A$16,1)+IF(B20=Feuil1!$A$17,1)+IF(B20=Feuil1!$A$18,1)+IF(B20=Feuil1!$A$19,1)+IF(B20=Feuil1!$A$20,1)+IF(B20=Feuil1!$A$31,1)+IF(B20=Feuil1!$A$32,1)+IF(B20=Feuil1!$A$33,1)+IF(B20=Feuil1!$A$34,1) -> 0 | C21: =IF(C20=Feuil1!$A$15,1)+IF(C20=Feuil1!$A$16,1)+IF(C20=Feuil1!$A$17,1)+IF(C20=Feuil1!$A$18,1)+IF(C20=Feuil1!$A$19,1)+IF(C20=Feuil1!$A$20,1)+IF(C20=Feuil1!$A$31,1)+IF(C20=Feuil1!$A$32,1)+IF(C20=Feuil1!$A$33,1)+IF(C20=Feuil1!$A$34,1) -> 0 | D21: =IF(D20=Feuil1!$A$15,1)+IF(D20=Feuil1!$A$16,1)+IF(D20=Feuil1!$A$17,1)+IF(D20=Feuil1!$A$18,1)+IF(D20=Feuil1!$A$19,1)+IF(D20=Feuil1!$A$20,1)+IF(D20=Feuil1!$A$31,1)+IF(D20=Feuil1!$A$32,1)+IF(D20=Feuil1!$A$33,1)+IF(D20=Feuil1!$A$34,1) -> 0 | E21: =IF(E20=Feuil1!$A$15,1)+IF(E20=Feuil1!$A$16,1)+IF(E20=Feuil1!$A$17,1)+IF(E20=Feuil1!$A$18,1)+IF(E20=Feuil1!$A$19,1)+IF(E20=Feuil1!$A$20,1)+IF(E20=Feuil1!$A$31,1)+IF(E20=Feuil1!$A$32,1)+IF(E20=Feuil1!$A$33,1)+IF(E20=Feuil1!$A$34,1) -> 0 | F21: =IF(F20=Feuil1!$A$15,1)+IF(F20=Feuil1!$A$16,1)+IF(F20=Feuil1!$A$17,1)+IF(F20=Feuil1!$A$18,1)+IF(F20=Feuil1!$A$19,1)+IF(F20=Feuil1!$A$20,1)+IF(F20=Feuil1!$A$31,1)+IF(F20=Feuil1!$A$32,1)+IF(F20=Feuil1!$A$33,1)+IF(F20=Feuil1!$A$34,1) -> 0 | G21: =IF(G20=Feuil1!$A$15,1)+IF(G20=Feuil1!$A$16,1)+IF(G20=Feuil1!$A$17,1)+IF(G20=Feuil1!$A$18,1)+IF(G20=Feuil1!$A$19,1)+IF(G20=Feuil1!$A$20,1)+IF(G20=Feuil1!$A$31,1)+IF(G20=Feuil1!$A$32,1)+IF(G20=Feuil1!$A$33,1)+IF(G20=Feuil1!$A$34,1) -> 0 | H21: =IF(H20=Feuil1!$A$15,1)+IF(H20=Feuil1!$A$16,1)+IF(H20=Feuil1!$A$17,1)+IF(H20=Feuil1!$A$18,1)+IF(H20=Feuil1!$A$19,1)+IF(H20=Feuil1!$A$20,1)+IF(H20=Feuil1!$A$31,1)+IF(H20=Feuil1!$A$32,1)+IF(H20=Feuil1!$A$33,1)+IF(H20=Feuil1!$A$34,1) -> 0 | I21: =IF(I20=Feuil1!$A$15,1)+IF(I20=Feuil1!$A$16,1)+IF(I20=Feuil1!$A$17,1)+IF(I20=Feuil1!$A$18,1)+IF(I20=Feuil1!$A$19,1)+IF(I20=Feuil1!$A$20,1)+IF(I20=Feuil1!$A$31,1)+IF(I20=Feuil1!$A$32,1)+IF(I20=Feuil1!$A$33,1)+IF(I20=Feuil1!$A$34,1) -> 0 | ... AF21: =IF(AF20=Feuil1!$A$15,1)+IF(AF20=Feuil1!$A$16,1)+IF(AF20=Feuil1!$A$17,1)+IF(AF20=Feuil1!$A$18,1)+IF(AF20=Feuil1!$A$19,1)+IF(AF20=Feuil1!$A$20,1)+IF(AF20=Feuil1!$A$31,1)+IF(AF20=Feuil1!$A$32,1)+IF(AF20=Feuil1!$A$33,1)+IF(AF20=Feuil1!$A$34,1) -> 0
A22: =A19+1 -> 5 | B22: =IF(B20=Feuil1!$A$6,Feuil1!$D$6,0)+IF(B20=Feuil1!$A$7,Feuil1!$D$7,0)+IF(B20=Feuil1!$A$8,Feuil1!$D$8,0)+IF(B20=Feuil1!$A$9,Feuil1!$D$9,0)+IF(B20=Feuil1!$A$10,Feuil1!$D$10,0)+IF(B20=Feuil1!$A$11,Feuil1!$D$11,0)+IF(B20=Feuil1!$A$12,Feuil1!$D$12,0)+IF(B20=Feuil1!$A$13,Feuil1!$D$13,0)+IF(B20=Feuil1!$A$14,Feuil1!$D$14,0)+IF(B20=Feuil1!$A$15,Feuil1!$D$15,0)+IF(B20=Feuil1!$A$16,Feuil1!$D$16,0)+IF(B20=Feuil1!$A$17,Feuil1!$D$17,0)+IF(B20=Feuil1!$A$18,Feuil1!$D$18,0)+IF(B20=Feuil1!$A$19,Feuil1!$D$19,0)+IF(B20=Feuil1!$A$20,Feuil1!$D$20,0)+IF(B20=Feuil1!$A$21,Feuil1!$D$21,0)+IF(B20=Feuil1!$A$22,Feuil1!$D$22,0)+IF(B20=Feuil1!$A$23,Feuil1!$D$23,0)+IF(B20=Feuil1!$A$24,Feuil1!$D$25,0)+IF(B20=Feuil1!$A$26,Feuil1!$D$26,0)+IF(B20=Feuil1!$A$27,Feuil1!$D$27,0)+IF(B20=Feuil1!$A$28,Feuil1!$D$28,0)+IF(B20=Feuil1!$A$29,Feuil1!$D$29,0)+IF(B20=Feuil1!$A$30,Feuil1!$D$30,0)+IF(B20=Feuil1!$A$31,Feuil1!$D$31,0)+IF(B20=Feuil1!$A$32,Feuil1!$D$32,0)+IF(B20=Feuil1!$A$33,Feuil1!$D$33,0)+IF(B20=Feuil1!$A$34,Feuil1!$D$34,0)+IF(B20=Feuil1!$A$35,Feuil1!$D$35,0)+IF(B20=Feuil1!$A$36,Feuil1!$D$36,0)+IF(B20=Feuil1!$A$37,Feuil1!$D$37,0)+IF(B20=Feuil1!$A$38,Feuil1!$D$38,0)+IF(B20=Feuil1!A40,Feuil1!D40,0) -> 0.3125 | C22: =IF(C20=Feuil1!$A$6,Feuil1!$D$6,0)+IF(C20=Feuil1!$A$7,Feuil1!$D$7,0)+IF(C20=Feuil1!$A$8,Feuil1!$D$8,0)+IF(C20=Feuil1!$A$9,Feuil1!$D$9,0)+IF(C20=Feuil1!$A$10,Feuil1!$D$10,0)+IF(C20=Feuil1!$A$11,Feuil1!$D$11,0)+IF(C20=Feuil1!$A$12,Feuil1!$D$12,0)+IF(C20=Feuil1!$A$13,Feuil1!$D$13,0)+IF(C20=Feuil1!$A$14,Feuil1!$D$14,0)+IF(C20=Feuil1!$A$15,Feuil1!$D$15,0)+IF(C20=Feuil1!$A$16,Feuil1!$D$16,0)+IF(C20=Feuil1!$A$17,Feuil1!$D$17,0)+IF(C20=Feuil1!$A$18,Feuil1!$D$18,0)+IF(C20=Feuil1!$A$19,Feuil1!$D$19,0)+IF(C20=Feuil1!$A$20,Feuil1!$D$20,0)+IF(C20=Feuil1!$A$21,Feuil1!$D$21,0)+IF(C20=Feuil1!$A$22,Feuil1!$D$22,0)+IF(C20=Feuil1!$A$23,Feuil1!$D$23,0)+IF(C20=Feuil1!$A$24,Feuil1!$D$25,0)+IF(C20=Feuil1!$A$26,Feuil1!$D$26,0)+IF(C20=Feuil1!$A$27,Feuil1!$D$27,0)+IF(C20=Feuil1!$A$28,Feuil1!$D$28,0)+IF(C20=Feuil1!$A$29,Feuil1!$D$29,0)+IF(C20=Feuil1!$A$30,Feuil1!$D$30,0)+IF(C20=Feuil1!$A$31,Feuil1!$D$31,0)+IF(C20=Feuil1!$A$32,Feuil1!$D$32,0)+IF(C20=Feuil1!$A$33,Feuil1!$D$33,0)+IF(C20=Feuil1!$A$34,Feuil1!$D$34,0)+IF(C20=Feuil1!$A$35,Feuil1!$D$35,0)+IF(C20=Feuil1!$A$36,Feuil1!$D$36,0)+IF(C20=Feuil1!$A$37,Feuil1!$D$37,0)+IF(C20=Feuil1!$A$38,Feuil1!$D$38,0)+IF(C20=Feuil1!B40,Feuil1!E40,0) -> 0 | D22: =IF(D20=Feuil1!$A$6,Feuil1!$D$6,0)+IF(D20=Feuil1!$A$7,Feuil1!$D$7,0)+IF(D20=Feuil1!$A$8,Feuil1!$D$8,0)+IF(D20=Feuil1!$A$9,Feuil1!$D$9,0)+IF(D20=Feuil1!$A$10,Feuil1!$D$10,0)+IF(D20=Feuil1!$A$11,Feuil1!$D$11,0)+IF(D20=Feuil1!$A$12,Feuil1!$D$12,0)+IF(D20=Feuil1!$A$13,Feuil1!$D$13,0)+IF(D20=Feuil1!$A$14,Feuil1!$D$14,0)+IF(D20=Feuil1!$A$15,Feuil1!$D$15,0)+IF(D20=Feuil1!$A$16,Feuil1!$D$16,0)+IF(D20=Feuil1!$A$17,Feuil1!$D$17,0)+IF(D20=Feuil1!$A$18,Feuil1!$D$18,0)+IF(D20=Feuil1!$A$19,Feuil1!$D$19,0)+IF(D20=Feuil1!$A$20,Feuil1!$D$20,0)+IF(D20=Feuil1!$A$21,Feuil1!$D$21,0)+IF(D20=Feuil1!$A$22,Feuil1!$D$22,0)+IF(D20=Feuil1!$A$23,Feuil1!$D$23,0)+IF(D20=Feuil1!$A$24,Feuil1!$D$25,0)+IF(D20=Feuil1!$A$26,Feuil1!$D$26,0)+IF(D20=Feuil1!$A$27,Feuil1!$D$27,0)+IF(D20=Feuil1!$A$28,Feuil1!$D$28,0)+IF(D20=Feuil1!$A$29,Feuil1!$D$29,0)+IF(D20=Feuil1!$A$30,Feuil1!$D$30,0)+IF(D20=Feuil1!$A$31,Feuil1!$D$31,0)+IF(D20=Feuil1!$A$32,Feuil1!$D$32,0)+IF(D20=Feuil1!$A$33,Feuil1!$D$33,0)+IF(D20=Feuil1!$A$34,Feuil1!$D$34,0)+IF(D20=Feuil1!$A$35,Feuil1!$D$35,0)+IF(D20=Feuil1!$A$36,Feuil1!$D$36,0)+IF(D20=Feuil1!$A$37,Feuil1!$D$37,0)+IF(D20=Feuil1!$A$38,Feuil1!$D$38,0)+IF(D20=Feuil1!C40,Feuil1!F40,0) -> 0 | E22: =IF(E20=Feuil1!$A$6,Feuil1!$D$6,0)+IF(E20=Feuil1!$A$7,Feuil1!$D$7,0)+IF(E20=Feuil1!$A$8,Feuil1!$D$8,0)+IF(E20=Feuil1!$A$9,Feuil1!$D$9,0)+IF(E20=Feuil1!$A$10,Feuil1!$D$10,0)+IF(E20=Feuil1!$A$11,Feuil1!$D$11,0)+IF(E20=Feuil1!$A$12,Feuil1!$D$12,0)+IF(E20=Feuil1!$A$13,Feuil1!$D$13,0)+IF(E20=Feuil1!$A$14,Feuil1!$D$14,0)+IF(E20=Feuil1!$A$15,Feuil1!$D$15,0)+IF(E20=Feuil1!$A$16,Feuil1!$D$16,0)+IF(E20=Feuil1!$A$17,Feuil1!$D$17,0)+IF(E20=Feuil1!$A$18,Feuil1!$D$18,0)+IF(E20=Feuil1!$A$19,Feuil1!$D$19,0)+IF(E20=Feuil1!$A$20,Feuil1!$D$20,0)+IF(E20=Feuil1!$A$21,Feuil1!$D$21,0)+IF(E20=Feuil1!$A$22,Feuil1!$D$22,0)+IF(E20=Feuil1!$A$23,Feuil1!$D$23,0)+IF(E20=Feuil1!$A$24,Feuil1!$D$25,0)+IF(E20=Feuil1!$A$26,Feuil1!$D$26,0)+IF(E20=Feuil1!$A$27,Feuil1!$D$27,0)+IF(E20=Feuil1!$A$28,Feuil1!$D$28,0)+IF(E20=Feuil1!$A$29,Feuil1!$D$29,0)+IF(E20=Feuil1!$A$30,Feuil1!$D$30,0)+IF(E20=Feuil1!$A$31,Feuil1!$D$31,0)+IF(E20=Feuil1!$A$32,Feuil1!$D$32,0)+IF(E20=Feuil1!$A$33,Feuil1!$D$33,0)+IF(E20=Feuil1!$A$34,Feuil1!$D$34,0)+IF(E20=Feuil1!$A$35,Feuil1!$D$35,0)+IF(E20=Feuil1!$A$36,Feuil1!$D$36,0)+IF(E20=Feuil1!$A$37,Feuil1!$D$37,0)+IF(E20=Feuil1!$A$38,Feuil1!$D$38,0)+IF(E20=Feuil1!D40,Feuil1!G40,0) -> 0.3125 | F22: =IF(F20=Feuil1!$A$6,Feuil1!$D$6,0)+IF(F20=Feuil1!$A$7,Feuil1!$D$7,0)+IF(F20=Feuil1!$A$8,Feuil1!$D$8,0)+IF(F20=Feuil1!$A$9,Feuil1!$D$9,0)+IF(F20=Feuil1!$A$10,Feuil1!$D$10,0)+IF(F20=Feuil1!$A$11,Feuil1!$D$11,0)+IF(F20=Feuil1!$A$12,Feuil1!$D$12,0)+IF(F20=Feuil1!$A$13,Feuil1!$D$13,0)+IF(F20=Feuil1!$A$14,Feuil1!$D$14,0)+IF(F20=Feuil1!$A$15,Feuil1!$D$15,0)+IF(F20=Feuil1!$A$16,Feuil1!$D$16,0)+IF(F20=Feuil1!$A$17,Feuil1!$D$17,0)+IF(F20=Feuil1!$A$18,Feuil1!$D$18,0)+IF(F20=Feuil1!$A$19,Feuil1!$D$19,0)+IF(F20=Feuil1!$A$20,Feuil1!$D$20,0)+IF(F20=Feuil1!$A$21,Feuil1!$D$21,0)+IF(F20=Feuil1!$A$22,Feuil1!$D$22,0)+IF(F20=Feuil1!$A$23,Feuil1!$D$23,0)+IF(F20=Feuil1!$A$24,Feuil1!$D$25,0)+IF(F20=Feuil1!$A$26,Feuil1!$D$26,0)+IF(F20=Feuil1!$A$27,Feuil1!$D$27,0)+IF(F20=Feuil1!$A$28,Feuil1!$D$28,0)+IF(F20=Feuil1!$A$29,Feuil1!$D$29,0)+IF(F20=Feuil1!$A$30,Feuil1!$D$30,0)+IF(F20=Feuil1!$A$31,Feuil1!$D$31,0)+IF(F20=Feuil1!$A$32,Feuil1!$D$32,0)+IF(F20=Feuil1!$A$33,Feuil1!$D$33,0)+IF(F20=Feuil1!$A$34,Feuil1!$D$34,0)+IF(F20=Feuil1!$A$35,Feuil1!$D$35,0)+IF(F20=Feuil1!$A$36,Feuil1!$D$36,0)+IF(F20=Feuil1!$A$37,Feuil1!$D$37,0)+IF(F20=Feuil1!$A$38,Feuil1!$D$38,0)+IF(F20=Feuil1!E40,Feuil1!H40,0) -> 0.3125 | G22: =IF(G20=Feuil1!$A$6,Feuil1!$D$6,0)+IF(G20=Feuil1!$A$7,Feuil1!$D$7,0)+IF(G20=Feuil1!$A$8,Feuil1!$D$8,0)+IF(G20=Feuil1!$A$9,Feuil1!$D$9,0)+IF(G20=Feuil1!$A$10,Feuil1!$D$10,0)+IF(G20=Feuil1!$A$11,Feuil1!$D$11,0)+IF(G20=Feuil1!$A$12,Feuil1!$D$12,0)+IF(G20=Feuil1!$A$13,Feuil1!$D$13,0)+IF(G20=Feuil1!$A$14,Feuil1!$D$14,0)+IF(G20=Feuil1!$A$15,Feuil1!$D$15,0)+IF(G20=Feuil1!$A$16,Feuil1!$D$16,0)+IF(G20=Feuil1!$A$17,Feuil1!$D$17,0)+IF(G20=Feuil1!$A$18,Feuil1!$D$18,0)+IF(G20=Feuil1!$A$19,Feuil1!$D$19,0)+IF(G20=Feuil1!$A$20,Feuil1!$D$20,0)+IF(G20=Feuil1!$A$21,Feuil1!$D$21,0)+IF(G20=Feuil1!$A$22,Feuil1!$D$22,0)+IF(G20=Feuil1!$A$23,Feuil1!$D$23,0)+IF(G20=Feuil1!$A$24,Feuil1!$D$25,0)+IF(G20=Feuil1!$A$26,Feuil1!$D$26,0)+IF(G20=Feuil1!$A$27,Feuil1!$D$27,0)+IF(G20=Feuil1!$A$28,Feuil1!$D$28,0)+IF(G20=Feuil1!$A$29,Feuil1!$D$29,0)+IF(G20=Feuil1!$A$30,Feuil1!$D$30,0)+IF(G20=Feuil1!$A$31,Feuil1!$D$31,0)+IF(G20=Feuil1!$A$32,Feuil1!$D$32,0)+IF(G20=Feuil1!$A$33,Feuil1!$D$33,0)+IF(G20=Feuil1!$A$34,Feuil1!$D$34,0)+IF(G20=Feuil1!$A$35,Feuil1!$D$35,0)+IF(G20=Feuil1!$A$36,Feuil1!$D$36,0)+IF(G20=Feuil1!$A$37,Feuil1!$D$37,0)+IF(G20=Feuil1!$A$38,Feuil1!$D$38,0)+IF(G20=Feuil1!F40,Feuil1!I40,0) -> 0 | H22: =IF(H20=Feuil1!$A$6,Feuil1!$D$6,0)+IF(H20=Feuil1!$A$7,Feuil1!$D$7,0)+IF(H20=Feuil1!$A$8,Feuil1!$D$8,0)+IF(H20=Feuil1!$A$9,Feuil1!$D$9,0)+IF(H20=Feuil1!$A$10,Feuil1!$D$10,0)+IF(H20=Feuil1!$A$11,Feuil1!$D$11,0)+IF(H20=Feuil1!$A$12,Feuil1!$D$12,0)+IF(H20=Feuil1!$A$13,Feuil1!$D$13,0)+IF(H20=Feuil1!$A$14,Feuil1!$D$14,0)+IF(H20=Feuil1!$A$15,Feuil1!$D$15,0)+IF(H20=Feuil1!$A$16,Feuil1!$D$16,0)+IF(H20=Feuil1!$A$17,Feuil1!$D$17,0)+IF(H20=Feuil1!$A$18,Feuil1!$D$18,0)+IF(H20=Feuil1!$A$19,Feuil1!$D$19,0)+IF(H20=Feuil1!$A$20,Feuil1!$D$20,0)+IF(H20=Feuil1!$A$21,Feuil1!$D$21,0)+IF(H20=Feuil1!$A$22,Feuil1!$D$22,0)+IF(H20=Feuil1!$A$23,Feuil1!$D$23,0)+IF(H20=Feuil1!$A$24,Feuil1!$D$25,0)+IF(H20=Feuil1!$A$26,Feuil1!$D$26,0)+IF(H20=Feuil1!$A$27,Feuil1!$D$27,0)+IF(H20=Feuil1!$A$28,Feuil1!$D$28,0)+IF(H20=Feuil1!$A$29,Feuil1!$D$29,0)+IF(H20=Feuil1!$A$30,Feuil1!$D$30,0)+IF(H20=Feuil1!$A$31,Feuil1!$D$31,0)+IF(H20=Feuil1!$A$32,Feuil1!$D$32,0)+IF(H20=Feuil1!$A$33,Feuil1!$D$33,0)+IF(H20=Feuil1!$A$34,Feuil1!$D$34,0)+IF(H20=Feuil1!$A$35,Feuil1!$D$35,0)+IF(H20=Feuil1!$A$36,Feuil1!$D$36,0)+IF(H20=Feuil1!$A$37,Feuil1!$D$37,0)+IF(H20=Feuil1!$A$38,Feuil1!$D$38,0)+IF(H20=Feuil1!G40,Feuil1!J40,0) -> 0 | I22: =IF(I20=Feuil1!$A$6,Feuil1!$D$6,0)+IF(I20=Feuil1!$A$7,Feuil1!$D$7,0)+IF(I20=Feuil1!$A$8,Feuil1!$D$8,0)+IF(I20=Feuil1!$A$9,Feuil1!$D$9,0)+IF(I20=Feuil1!$A$10,Feuil1!$D$10,0)+IF(I20=Feuil1!$A$11,Feuil1!$D$11,0)+IF(I20=Feuil1!$A$12,Feuil1!$D$12,0)+IF(I20=Feuil1!$A$13,Feuil1!$D$13,0)+IF(I20=Feuil1!$A$14,Feuil1!$D$14,0)+IF(I20=Feuil1!$A$15,Feuil1!$D$15,0)+IF(I20=Feuil1!$A$16,Feuil1!$D$16,0)+IF(I20=Feuil1!$A$17,Feuil1!$D$17,0)+IF(I20=Feuil1!$A$18,Feuil1!$D$18,0)+IF(I20=Feuil1!$A$19,Feuil1!$D$19,0)+IF(I20=Feuil1!$A$20,Feuil1!$D$20,0)+IF(I20=Feuil1!$A$21,Feuil1!$D$21,0)+IF(I20=Feuil1!$A$22,Feuil1!$D$22,0)+IF(I20=Feuil1!$A$23,Feuil1!$D$23,0)+IF(I20=Feuil1!$A$24,Feuil1!$D$25,0)+IF(I20=Feuil1!$A$26,Feuil1!$D$26,0)+IF(I20=Feuil1!$A$27,Feuil1!$D$27,0)+IF(I20=Feuil1!$A$28,Feuil1!$D$28,0)+IF(I20=Feuil1!$A$29,Feuil1!$D$29,0)+IF(I20=Feuil1!$A$30,Feuil1!$D$30,0)+IF(I20=Feuil1!$A$31,Feuil1!$D$31,0)+IF(I20=Feuil1!$A$32,Feuil1!$D$32,0)+IF(I20=Feuil1!$A$33,Feuil1!$D$33,0)+IF(I20=Feuil1!$A$34,Feuil1!$D$34,0)+IF(I20=Feuil1!$A$35,Feuil1!$D$35,0)+IF(I20=Feuil1!$A$36,Feuil1!$D$36,0)+IF(I20=Feuil1!$A$37,Feuil1!$D$37,0)+IF(I20=Feuil1!$A$38,Feuil1!$D$38,0)+IF(I20=Feuil1!H40,Feuil1!K40,0) -> 0 | ... AF22: =IF(AF20=Feuil1!$A$6,Feuil1!$D$6,0)+IF(AF20=Feuil1!$A$7,Feuil1!$D$7,0)+IF(AF20=Feuil1!$A$8,Feuil1!$D$8,0)+IF(AF20=Feuil1!$A$9,Feuil1!$D$9,0)+IF(AF20=Feuil1!$A$10,Feuil1!$D$10,0)+IF(AF20=Feuil1!$A$11,Feuil1!$D$11,0)+IF(AF20=Feuil1!$A$12,Feuil1!$D$12,0)+IF(AF20=Feuil1!$A$13,Feuil1!$D$13,0)+IF(AF20=Feuil1!$A$14,Feuil1!$D$14,0)+IF(AF20=Feuil1!$A$15,Feuil1!$D$15,0)+IF(AF20=Feuil1!$A$16,Feuil1!$D$16,0)+IF(AF20=Feuil1!$A$17,Feuil1!$D$17,0)+IF(AF20=Feuil1!$A$18,Feuil1!$D$18,0)+IF(AF20=Feuil1!$A$19,Feuil1!$D$19,0)+IF(AF20=Feuil1!$A$20,Feuil1!$D$20,0)+IF(AF20=Feuil1!$A$21,Feuil1!$D$21,0)+IF(AF20=Feuil1!$A$22,Feuil1!$D$22,0)+IF(AF20=Feuil1!$A$23,Feuil1!$D$23,0)+IF(AF20=Feuil1!$A$24,Feuil1!$D$25,0)+IF(AF20=Feuil1!$A$26,Feuil1!$D$26,0)+IF(AF20=Feuil1!$A$27,Feuil1!$D$27,0)+IF(AF20=Feuil1!$A$28,Feuil1!$D$28,0)+IF(AF20=Feuil1!$A$29,Feuil1!$D$29,0)+IF(AF20=Feuil1!$A$30,Feuil1!$D$30,0)+IF(AF20=Feuil1!$A$31,Feuil1!$D$31,0)+IF(AF20=Feuil1!$A$32,Feuil1!$D$32,0)+IF(AF20=Feuil1!$A$33,Feuil1!$D$33,0)+IF(AF20=Feuil1!$A$34,Feuil1!$D$34,0)+IF(AF20=Feuil1!$A$35,Feuil1!$D$35,0)+IF(AF20=Feuil1!$A$36,Feuil1!$D$36,0)+IF(AF20=Feuil1!$A$37,Feuil1!$D$37,0)+IF(AF20=Feuil1!$A$38,Feuil1!$D$38,0)+IF(AF20=Feuil1!AE40,Feuil1!AH40,0) -> 0.3125
A23: =A20+1 -> 7 | B23: RC | C23: RC | D23: FC | E23: R | F23: S3 | G23: R | H23: R | I23: VB | J23: VB | K23: S1 | L23: R | M23: PB | N23: S1 | O23: S1 | P23: R | Q23: FC | R23: FC | S23: FC | T23: RTT | U23: R | V23: R | W23: FC | X23: S3 | Y23: S2 | Z23: R | AA23: FC | AB23: PB | AC23: PB | AD23: R | AE23: GIR | AF23: RTT | AG23: =SUM(B24:AF24) -> 6 | AH23: =SUM(B25:AF25) -> 5.3125 | AI23: S6 : 14H - 21H
A24: =A21+1 -> 6 | B24: =IF(B23=Feuil1!$A$15,1)+IF(B23=Feuil1!$A$16,1)+IF(B23=Feuil1!$A$17,1)+IF(B23=Feuil1!$A$18,1)+IF(B23=Feuil1!$A$19,1)+IF(B23=Feuil1!$A$20,1)+IF(B23=Feuil1!$A$31,1)+IF(B23=Feuil1!$A$32,1)+IF(B23=Feuil1!$A$33,1)+IF(B23=Feuil1!$A$34,1) -> 0 | C24: =IF(C23=Feuil1!$A$15,1)+IF(C23=Feuil1!$A$16,1)+IF(C23=Feuil1!$A$17,1)+IF(C23=Feuil1!$A$18,1)+IF(C23=Feuil1!$A$19,1)+IF(C23=Feuil1!$A$20,1)+IF(C23=Feuil1!$A$31,1)+IF(C23=Feuil1!$A$32,1)+IF(C23=Feuil1!$A$33,1)+IF(C23=Feuil1!$A$34,1) -> 0 | D24: =IF(D23=Feuil1!$A$15,1)+IF(D23=Feuil1!$A$16,1)+IF(D23=Feuil1!$A$17,1)+IF(D23=Feuil1!$A$18,1)+IF(D23=Feuil1!$A$19,1)+IF(D23=Feuil1!$A$20,1)+IF(D23=Feuil1!$A$31,1)+IF(D23=Feuil1!$A$32,1)+IF(D23=Feuil1!$A$33,1)+IF(D23=Feuil1!$A$34,1) -> 0 | E24: =IF(E23=Feuil1!$A$15,1)+IF(E23=Feuil1!$A$16,1)+IF(E23=Feuil1!$A$17,1)+IF(E23=Feuil1!$A$18,1)+IF(E23=Feuil1!$A$19,1)+IF(E23=Feuil1!$A$20,1)+IF(E23=Feuil1!$A$31,1)+IF(E23=Feuil1!$A$32,1)+IF(E23=Feuil1!$A$33,1)+IF(E23=Feuil1!$A$34,1) -> 0 | F24: =IF(F23=Feuil1!$A$15,1)+IF(F23=Feuil1!$A$16,1)+IF(F23=Feuil1!$A$17,1)+IF(F23=Feuil1!$A$18,1)+IF(F23=Feuil1!$A$19,1)+IF(F23=Feuil1!$A$20,1)+IF(F23=Feuil1!$A$31,1)+IF(F23=Feuil1!$A$32,1)+IF(F23=Feuil1!$A$33,1)+IF(F23=Feuil1!$A$34,1) -> 1 | G24: =IF(G23=Feuil1!$A$15,1)+IF(G23=Feuil1!$A$16,1)+IF(G23=Feuil1!$A$17,1)+IF(G23=Feuil1!$A$18,1)+IF(G23=Feuil1!$A$19,1)+IF(G23=Feuil1!$A$20,1)+IF(G23=Feuil1!$A$31,1)+IF(G23=Feuil1!$A$32,1)+IF(G23=Feuil1!$A$33,1)+IF(G23=Feuil1!$A$34,1) -> 0 | H24: =IF(H23=Feuil1!$A$15,1)+IF(H23=Feuil1!$A$16,1)+IF(H23=Feuil1!$A$17,1)+IF(H23=Feuil1!$A$18,1)+IF(H23=Feuil1!$A$19,1)+IF(H23=Feuil1!$A$20,1)+IF(H23=Feuil1!$A$31,1)+IF(H23=Feuil1!$A$32,1)+IF(H23=Feuil1!$A$33,1)+IF(H23=Feuil1!$A$34,1) -> 0 | I24: =IF(I23=Feuil1!$A$15,1)+IF(I23=Feuil1!$A$16,1)+IF(I23=Feuil1!$A$17,1)+IF(I23=Feuil1!$A$18,1)+IF(I23=Feuil1!$A$19,1)+IF(I23=Feuil1!$A$20,1)+IF(I23=Feuil1!$A$31,1)+IF(I23=Feuil1!$A$32,1)+IF(I23=Feuil1!$A$33,1)+IF(I23=Feuil1!$A$34,1) -> 0 | ... AF24: =IF(AF23=Feuil1!$A$15,1)+IF(AF23=Feuil1!$A$16,1)+IF(AF23=Feuil1!$A$17,1)+IF(AF23=Feuil1!$A$18,1)+IF(AF23=Feuil1!$A$19,1)+IF(AF23=Feuil1!$A$20,1)+IF(AF23=Feuil1!$A$31,1)+IF(AF23=Feuil1!$A$32,1)+IF(AF23=Feuil1!$A$33,1)+IF(AF23=Feuil1!$A$34,1) -> 0
A25: =A22+1 -> 6 | B25: =IF(B23=Feuil1!$A$6,Feuil1!$D$6,0)+IF(B23=Feuil1!$A$7,Feuil1!$D$7,0)+IF(B23=Feuil1!$A$8,Feuil1!$D$8,0)+IF(B23=Feuil1!$A$9,Feuil1!$D$9,0)+IF(B23=Feuil1!$A$10,Feuil1!$D$10,0)+IF(B23=Feuil1!$A$11,Feuil1!$D$11,0)+IF(B23=Feuil1!$A$12,Feuil1!$D$12,0)+IF(B23=Feuil1!$A$13,Feuil1!$D$13,0)+IF(B23=Feuil1!$A$14,Feuil1!$D$14,0)+IF(B23=Feuil1!$A$15,Feuil1!$D$15,0)+IF(B23=Feuil1!$A$16,Feuil1!$D$16,0)+IF(B23=Feuil1!$A$17,Feuil1!$D$17,0)+IF(B23=Feuil1!$A$18,Feuil1!$D$18,0)+IF(B23=Feuil1!$A$19,Feuil1!$D$19,0)+IF(B23=Feuil1!$A$20,Feuil1!$D$20,0)+IF(B23=Feuil1!$A$21,Feuil1!$D$21,0)+IF(B23=Feuil1!$A$22,Feuil1!$D$22,0)+IF(B23=Feuil1!$A$23,Feuil1!$D$23,0)+IF(B23=Feuil1!$A$24,Feuil1!$D$25,0)+IF(B23=Feuil1!$A$26,Feuil1!$D$26,0)+IF(B23=Feuil1!$A$27,Feuil1!$D$27,0)+IF(B23=Feuil1!$A$28,Feuil1!$D$28,0)+IF(B23=Feuil1!$A$29,Feuil1!$D$29,0)+IF(B23=Feuil1!$A$30,Feuil1!$D$30,0)+IF(B23=Feuil1!$A$31,Feuil1!$D$31,0)+IF(B23=Feuil1!$A$32,Feuil1!$D$32,0)+IF(B23=Feuil1!$A$33,Feuil1!$D$33,0)+IF(B23=Feuil1!$A$34,Feuil1!$D$34,0)+IF(B23=Feuil1!$A$35,Feuil1!$D$35,0)+IF(B23=Feuil1!$A$36,Feuil1!$D$36,0)+IF(B23=Feuil1!$A$37,Feuil1!$D$37,0)+IF(B23=Feuil1!$A$38,Feuil1!$D$38,0)+IF(B23=Feuil1!A43,Feuil1!D43,0) -> 0 | C25: =IF(C23=Feuil1!$A$6,Feuil1!$D$6,0)+IF(C23=Feuil1!$A$7,Feuil1!$D$7,0)+IF(C23=Feuil1!$A$8,Feuil1!$D$8,0)+IF(C23=Feuil1!$A$9,Feuil1!$D$9,0)+IF(C23=Feuil1!$A$10,Feuil1!$D$10,0)+IF(C23=Feuil1!$A$11,Feuil1!$D$11,0)+IF(C23=Feuil1!$A$12,Feuil1!$D$12,0)+IF(C23=Feuil1!$A$13,Feuil1!$D$13,0)+IF(C23=Feuil1!$A$14,Feuil1!$D$14,0)+IF(C23=Feuil1!$A$15,Feuil1!$D$15,0)+IF(C23=Feuil1!$A$16,Feuil1!$D$16,0)+IF(C23=Feuil1!$A$17,Feuil1!$D$17,0)+IF(C23=Feuil1!$A$18,Feuil1!$D$18,0)+IF(C23=Feuil1!$A$19,Feuil1!$D$19,0)+IF(C23=Feuil1!$A$20,Feuil1!$D$20,0)+IF(C23=Feuil1!$A$21,Feuil1!$D$21,0)+IF(C23=Feuil1!$A$22,Feuil1!$D$22,0)+IF(C23=Feuil1!$A$23,Feuil1!$D$23,0)+IF(C23=Feuil1!$A$24,Feuil1!$D$25,0)+IF(C23=Feuil1!$A$26,Feuil1!$D$26,0)+IF(C23=Feuil1!$A$27,Feuil1!$D$27,0)+IF(C23=Feuil1!$A$28,Feuil1!$D$28,0)+IF(C23=Feuil1!$A$29,Feuil1!$D$29,0)+IF(C23=Feuil1!$A$30,Feuil1!$D$30,0)+IF(C23=Feuil1!$A$31,Feuil1!$D$31,0)+IF(C23=Feuil1!$A$32,Feuil1!$D$32,0)+IF(C23=Feuil1!$A$33,Feuil1!$D$33,0)+IF(C23=Feuil1!$A$34,Feuil1!$D$34,0)+IF(C23=Feuil1!$A$35,Feuil1!$D$35,0)+IF(C23=Feuil1!$A$36,Feuil1!$D$36,0)+IF(C23=Feuil1!$A$37,Feuil1!$D$37,0)+IF(C23=Feuil1!$A$38,Feuil1!$D$38,0)+IF(C23=Feuil1!B43,Feuil1!E43,0) -> 0 | D25: =IF(D23=Feuil1!$A$6,Feuil1!$D$6,0)+IF(D23=Feuil1!$A$7,Feuil1!$D$7,0)+IF(D23=Feuil1!$A$8,Feuil1!$D$8,0)+IF(D23=Feuil1!$A$9,Feuil1!$D$9,0)+IF(D23=Feuil1!$A$10,Feuil1!$D$10,0)+IF(D23=Feuil1!$A$11,Feuil1!$D$11,0)+IF(D23=Feuil1!$A$12,Feuil1!$D$12,0)+IF(D23=Feuil1!$A$13,Feuil1!$D$13,0)+IF(D23=Feuil1!$A$14,Feuil1!$D$14,0)+IF(D23=Feuil1!$A$15,Feuil1!$D$15,0)+IF(D23=Feuil1!$A$16,Feuil1!$D$16,0)+IF(D23=Feuil1!$A$17,Feuil1!$D$17,0)+IF(D23=Feuil1!$A$18,Feuil1!$D$18,0)+IF(D23=Feuil1!$A$19,Feuil1!$D$19,0)+IF(D23=Feuil1!$A$20,Feuil1!$D$20,0)+IF(D23=Feuil1!$A$21,Feuil1!$D$21,0)+IF(D23=Feuil1!$A$22,Feuil1!$D$22,0)+IF(D23=Feuil1!$A$23,Feuil1!$D$23,0)+IF(D23=Feuil1!$A$24,Feuil1!$D$25,0)+IF(D23=Feuil1!$A$26,Feuil1!$D$26,0)+IF(D23=Feuil1!$A$27,Feuil1!$D$27,0)+IF(D23=Feuil1!$A$28,Feuil1!$D$28,0)+IF(D23=Feuil1!$A$29,Feuil1!$D$29,0)+IF(D23=Feuil1!$A$30,Feuil1!$D$30,0)+IF(D23=Feuil1!$A$31,Feuil1!$D$31,0)+IF(D23=Feuil1!$A$32,Feuil1!$D$32,0)+IF(D23=Feuil1!$A$33,Feuil1!$D$33,0)+IF(D23=Feuil1!$A$34,Feuil1!$D$34,0)+IF(D23=Feuil1!$A$35,Feuil1!$D$35,0)+IF(D23=Feuil1!$A$36,Feuil1!$D$36,0)+IF(D23=Feuil1!$A$37,Feuil1!$D$37,0)+IF(D23=Feuil1!$A$38,Feuil1!$D$38,0)+IF(D23=Feuil1!C43,Feuil1!F43,0) -> 0.3125 | E25: =IF(E23=Feuil1!$A$6,Feuil1!$D$6,0)+IF(E23=Feuil1!$A$7,Feuil1!$D$7,0)+IF(E23=Feuil1!$A$8,Feuil1!$D$8,0)+IF(E23=Feuil1!$A$9,Feuil1!$D$9,0)+IF(E23=Feuil1!$A$10,Feuil1!$D$10,0)+IF(E23=Feuil1!$A$11,Feuil1!$D$11,0)+IF(E23=Feuil1!$A$12,Feuil1!$D$12,0)+IF(E23=Feuil1!$A$13,Feuil1!$D$13,0)+IF(E23=Feuil1!$A$14,Feuil1!$D$14,0)+IF(E23=Feuil1!$A$15,Feuil1!$D$15,0)+IF(E23=Feuil1!$A$16,Feuil1!$D$16,0)+IF(E23=Feuil1!$A$17,Feuil1!$D$17,0)+IF(E23=Feuil1!$A$18,Feuil1!$D$18,0)+IF(E23=Feuil1!$A$19,Feuil1!$D$19,0)+IF(E23=Feuil1!$A$20,Feuil1!$D$20,0)+IF(E23=Feuil1!$A$21,Feuil1!$D$21,0)+IF(E23=Feuil1!$A$22,Feuil1!$D$22,0)+IF(E23=Feuil1!$A$23,Feuil1!$D$23,0)+IF(E23=Feuil1!$A$24,Feuil1!$D$25,0)+IF(E23=Feuil1!$A$26,Feuil1!$D$26,0)+IF(E23=Feuil1!$A$27,Feuil1!$D$27,0)+IF(E23=Feuil1!$A$28,Feuil1!$D$28,0)+IF(E23=Feuil1!$A$29,Feuil1!$D$29,0)+IF(E23=Feuil1!$A$30,Feuil1!$D$30,0)+IF(E23=Feuil1!$A$31,Feuil1!$D$31,0)+IF(E23=Feuil1!$A$32,Feuil1!$D$32,0)+IF(E23=Feuil1!$A$33,Feuil1!$D$33,0)+IF(E23=Feuil1!$A$34,Feuil1!$D$34,0)+IF(E23=Feuil1!$A$35,Feuil1!$D$35,0)+IF(E23=Feuil1!$A$36,Feuil1!$D$36,0)+IF(E23=Feuil1!$A$37,Feuil1!$D$37,0)+IF(E23=Feuil1!$A$38,Feuil1!$D$38,0)+IF(E23=Feuil1!D43,Feuil1!G43,0) -> 0 | F25: =IF(F23=Feuil1!$A$6,Feuil1!$D$6,0)+IF(F23=Feuil1!$A$7,Feuil1!$D$7,0)+IF(F23=Feuil1!$A$8,Feuil1!$D$8,0)+IF(F23=Feuil1!$A$9,Feuil1!$D$9,0)+IF(F23=Feuil1!$A$10,Feuil1!$D$10,0)+IF(F23=Feuil1!$A$11,Feuil1!$D$11,0)+IF(F23=Feuil1!$A$12,Feuil1!$D$12,0)+IF(F23=Feuil1!$A$13,Feuil1!$D$13,0)+IF(F23=Feuil1!$A$14,Feuil1!$D$14,0)+IF(F23=Feuil1!$A$15,Feuil1!$D$15,0)+IF(F23=Feuil1!$A$16,Feuil1!$D$16,0)+IF(F23=Feuil1!$A$17,Feuil1!$D$17,0)+IF(F23=Feuil1!$A$18,Feuil1!$D$18,0)+IF(F23=Feuil1!$A$19,Feuil1!$D$19,0)+IF(F23=Feuil1!$A$20,Feuil1!$D$20,0)+IF(F23=Feuil1!$A$21,Feuil1!$D$21,0)+IF(F23=Feuil1!$A$22,Feuil1!$D$22,0)+IF(F23=Feuil1!$A$23,Feuil1!$D$23,0)+IF(F23=Feuil1!$A$24,Feuil1!$D$25,0)+IF(F23=Feuil1!$A$26,Feuil1!$D$26,0)+IF(F23=Feuil1!$A$27,Feuil1!$D$27,0)+IF(F23=Feuil1!$A$28,Feuil1!$D$28,0)+IF(F23=Feuil1!$A$29,Feuil1!$D$29,0)+IF(F23=Feuil1!$A$30,Feuil1!$D$30,0)+IF(F23=Feuil1!$A$31,Feuil1!$D$31,0)+IF(F23=Feuil1!$A$32,Feuil1!$D$32,0)+IF(F23=Feuil1!$A$33,Feuil1!$D$33,0)+IF(F23=Feuil1!$A$34,Feuil1!$D$34,0)+IF(F23=Feuil1!$A$35,Feuil1!$D$35,0)+IF(F23=Feuil1!$A$36,Feuil1!$D$36,0)+IF(F23=Feuil1!$A$37,Feuil1!$D$37,0)+IF(F23=Feuil1!$A$38,Feuil1!$D$38,0)+IF(F23=Feuil1!E43,Feuil1!H43,0) -> 0.3125 | G25: =IF(G23=Feuil1!$A$6,Feuil1!$D$6,0)+IF(G23=Feuil1!$A$7,Feuil1!$D$7,0)+IF(G23=Feuil1!$A$8,Feuil1!$D$8,0)+IF(G23=Feuil1!$A$9,Feuil1!$D$9,0)+IF(G23=Feuil1!$A$10,Feuil1!$D$10,0)+IF(G23=Feuil1!$A$11,Feuil1!$D$11,0)+IF(G23=Feuil1!$A$12,Feuil1!$D$12,0)+IF(G23=Feuil1!$A$13,Feuil1!$D$13,0)+IF(G23=Feuil1!$A$14,Feuil1!$D$14,0)+IF(G23=Feuil1!$A$15,Feuil1!$D$15,0)+IF(G23=Feuil1!$A$16,Feuil1!$D$16,0)+IF(G23=Feuil1!$A$17,Feuil1!$D$17,0)+IF(G23=Feuil1!$A$18,Feuil1!$D$18,0)+IF(G23=Feuil1!$A$19,Feuil1!$D$19,0)+IF(G23=Feuil1!$A$20,Feuil1!$D$20,0)+IF(G23=Feuil1!$A$21,Feuil1!$D$21,0)+IF(G23=Feuil1!$A$22,Feuil1!$D$22,0)+IF(G23=Feuil1!$A$23,Feuil1!$D$23,0)+IF(G23=Feuil1!$A$24,Feuil1!$D$25,0)+IF(G23=Feuil1!$A$26,Feuil1!$D$26,0)+IF(G23=Feuil1!$A$27,Feuil1!$D$27,0)+IF(G23=Feuil1!$A$28,Feuil1!$D$28,0)+IF(G23=Feuil1!$A$29,Feuil1!$D$29,0)+IF(G23=Feuil1!$A$30,Feuil1!$D$30,0)+IF(G23=Feuil1!$A$31,Feuil1!$D$31,0)+IF(G23=Feuil1!$A$32,Feuil1!$D$32,0)+IF(G23=Feuil1!$A$33,Feuil1!$D$33,0)+IF(G23=Feuil1!$A$34,Feuil1!$D$34,0)+IF(G23=Feuil1!$A$35,Feuil1!$D$35,0)+IF(G23=Feuil1!$A$36,Feuil1!$D$36,0)+IF(G23=Feuil1!$A$37,Feuil1!$D$37,0)+IF(G23=Feuil1!$A$38,Feuil1!$D$38,0)+IF(G23=Feuil1!F43,Feuil1!I43,0) -> 0 | H25: =IF(H23=Feuil1!$A$6,Feuil1!$D$6,0)+IF(H23=Feuil1!$A$7,Feuil1!$D$7,0)+IF(H23=Feuil1!$A$8,Feuil1!$D$8,0)+IF(H23=Feuil1!$A$9,Feuil1!$D$9,0)+IF(H23=Feuil1!$A$10,Feuil1!$D$10,0)+IF(H23=Feuil1!$A$11,Feuil1!$D$11,0)+IF(H23=Feuil1!$A$12,Feuil1!$D$12,0)+IF(H23=Feuil1!$A$13,Feuil1!$D$13,0)+IF(H23=Feuil1!$A$14,Feuil1!$D$14,0)+IF(H23=Feuil1!$A$15,Feuil1!$D$15,0)+IF(H23=Feuil1!$A$16,Feuil1!$D$16,0)+IF(H23=Feuil1!$A$17,Feuil1!$D$17,0)+IF(H23=Feuil1!$A$18,Feuil1!$D$18,0)+IF(H23=Feuil1!$A$19,Feuil1!$D$19,0)+IF(H23=Feuil1!$A$20,Feuil1!$D$20,0)+IF(H23=Feuil1!$A$21,Feuil1!$D$21,0)+IF(H23=Feuil1!$A$22,Feuil1!$D$22,0)+IF(H23=Feuil1!$A$23,Feuil1!$D$23,0)+IF(H23=Feuil1!$A$24,Feuil1!$D$25,0)+IF(H23=Feuil1!$A$26,Feuil1!$D$26,0)+IF(H23=Feuil1!$A$27,Feuil1!$D$27,0)+IF(H23=Feuil1!$A$28,Feuil1!$D$28,0)+IF(H23=Feuil1!$A$29,Feuil1!$D$29,0)+IF(H23=Feuil1!$A$30,Feuil1!$D$30,0)+IF(H23=Feuil1!$A$31,Feuil1!$D$31,0)+IF(H23=Feuil1!$A$32,Feuil1!$D$32,0)+IF(H23=Feuil1!$A$33,Feuil1!$D$33,0)+IF(H23=Feuil1!$A$34,Feuil1!$D$34,0)+IF(H23=Feuil1!$A$35,Feuil1!$D$35,0)+IF(H23=Feuil1!$A$36,Feuil1!$D$36,0)+IF(H23=Feuil1!$A$37,Feuil1!$D$37,0)+IF(H23=Feuil1!$A$38,Feuil1!$D$38,0)+IF(H23=Feuil1!G43,Feuil1!J43,0) -> 0 | I25: =IF(I23=Feuil1!$A$6,Feuil1!$D$6,0)+IF(I23=Feuil1!$A$7,Feuil1!$D$7,0)+IF(I23=Feuil1!$A$8,Feuil1!$D$8,0)+IF(I23=Feuil1!$A$9,Feuil1!$D$9,0)+IF(I23=Feuil1!$A$10,Feuil1!$D$10,0)+IF(I23=Feuil1!$A$11,Feuil1!$D$11,0)+IF(I23=Feuil1!$A$12,Feuil1!$D$12,0)+IF(I23=Feuil1!$A$13,Feuil1!$D$13,0)+IF(I23=Feuil1!$A$14,Feuil1!$D$14,0)+IF(I23=Feuil1!$A$15,Feuil1!$D$15,0)+IF(I23=Feuil1!$A$16,Feuil1!$D$16,0)+IF(I23=Feuil1!$A$17,Feuil1!$D$17,0)+IF(I23=Feuil1!$A$18,Feuil1!$D$18,0)+IF(I23=Feuil1!$A$19,Feuil1!$D$19,0)+IF(I23=Feuil1!$A$20,Feuil1!$D$20,0)+IF(I23=Feuil1!$A$21,Feuil1!$D$21,0)+IF(I23=Feuil1!$A$22,Feuil1!$D$22,0)+IF(I23=Feuil1!$A$23,Feuil1!$D$23,0)+IF(I23=Feuil1!$A$24,Feuil1!$D$25,0)+IF(I23=Feuil1!$A$26,Feuil1!$D$26,0)+IF(I23=Feuil1!$A$27,Feuil1!$D$27,0)+IF(I23=Feuil1!$A$28,Feuil1!$D$28,0)+IF(I23=Feuil1!$A$29,Feuil1!$D$29,0)+IF(I23=Feuil1!$A$30,Feuil1!$D$30,0)+IF(I23=Feuil1!$A$31,Feuil1!$D$31,0)+IF(I23=Feuil1!$A$32,Feuil1!$D$32,0)+IF(I23=Feuil1!$A$33,Feuil1!$D$33,0)+IF(I23=Feuil1!$A$34,Feuil1!$D$34,0)+IF(I23=Feuil1!$A$35,Feuil1!$D$35,0)+IF(I23=Feuil1!$A$36,Feuil1!$D$36,0)+IF(I23=Feuil1!$A$37,Feuil1!$D$37,0)+IF(I23=Feuil1!$A$38,Feuil1!$D$38,0)+IF(I23=Feuil1!H43,Feuil1!K43,0) -> 0.3125 | ... AF25: =IF(AF23=Feuil1!$A$6,Feuil1!$D$6,0)+IF(AF23=Feuil1!$A$7,Feuil1!$D$7,0)+IF(AF23=Feuil1!$A$8,Feuil1!$D$8,0)+IF(AF23=Feuil1!$A$9,Feuil1!$D$9,0)+IF(AF23=Feuil1!$A$10,Feuil1!$D$10,0)+IF(AF23=Feuil1!$A$11,Feuil1!$D$11,0)+IF(AF23=Feuil1!$A$12,Feuil1!$D$12,0)+IF(AF23=Feuil1!$A$13,Feuil1!$D$13,0)+IF(AF23=Feuil1!$A$14,Feuil1!$D$14,0)+IF(AF23=Feuil1!$A$15,Feuil1!$D$15,0)+IF(AF23=Feuil1!$A$16,Feuil1!$D$16,0)+IF(AF23=Feuil1!$A$17,Feuil1!$D$17,0)+IF(AF23=Feuil1!$A$18,Feuil1!$D$18,0)+IF(AF23=Feuil1!$A$19,Feuil1!$D$19,0)+IF(AF23=Feuil1!$A$20,Feuil1!$D$20,0)+IF(AF23=Feuil1!$A$21,Feuil1!$D$21,0)+IF(AF23=Feuil1!$A$22,Feuil1!$D$22,0)+IF(AF23=Feuil1!$A$23,Feuil1!$D$23,0)+IF(AF23=Feuil1!$A$24,Feuil1!$D$25,0)+IF(AF23=Feuil1!$A$26,Feuil1!$D$26,0)+IF(AF23=Feuil1!$A$27,Feuil1!$D$27,0)+IF(AF23=Feuil1!$A$28,Feuil1!$D$28,0)+IF(AF23=Feuil1!$A$29,Feuil1!$D$29,0)+IF(AF23=Feuil1!$A$30,Feuil1!$D$30,0)+IF(AF23=Feuil1!$A$31,Feuil1!$D$31,0)+IF(AF23=Feuil1!$A$32,Feuil1!$D$32,0)+IF(AF23=Feuil1!$A$33,Feuil1!$D$33,0)+IF(AF23=Feuil1!$A$34,Feuil1!$D$34,0)+IF(AF23=Feuil1!$A$35,Feuil1!$D$35,0)+IF(AF23=Feuil1!$A$36,Feuil1!$D$36,0)+IF(AF23=Feuil1!$A$37,Feuil1!$D$37,0)+IF(AF23=Feuil1!$A$38,Feuil1!$D$38,0)+IF(AF23=Feuil1!AE43,Feuil1!AH43,0) -> 0
A26: =A23+1 -> 8 | B26: AM | C26: AM | D26: AM | E26: AM | F26: AM | G26: AM | H26: AM | I26: AM | J26: AM | K26: AM | L26: AM | M26: AM | N26: AM | O26: AM | P26: AM | Q26: AM | R26: AM | S26: AM | T26: AM | U26: AM | V26: AM | W26: AM | X26: AM | Y26: AM | Z26: AM | AA26: AM | AB26: AM | AC26: AM | AD26: AM | AE26: AM | AF26: AM | AG26: =SUM(B27:AF27) -> 0 | AH26: =SUM(B28:AF28) -> 0
A27: =A24+1 -> 7 | B27: =IF(B26=Feuil1!$A$15,1)+IF(B26=Feuil1!$A$16,1)+IF(B26=Feuil1!$A$17,1)+IF(B26=Feuil1!$A$18,1)+IF(B26=Feuil1!$A$19,1)+IF(B26=Feuil1!$A$20,1)+IF(B26=Feuil1!$A$31,1)+IF(B26=Feuil1!$A$32,1)+IF(B26=Feuil1!$A$33,1)+IF(B26=Feuil1!$A$34,1) -> 0 | C27: =IF(C26=Feuil1!$A$15,1)+IF(C26=Feuil1!$A$16,1)+IF(C26=Feuil1!$A$17,1)+IF(C26=Feuil1!$A$18,1)+IF(C26=Feuil1!$A$19,1)+IF(C26=Feuil1!$A$20,1)+IF(C26=Feuil1!$A$31,1)+IF(C26=Feuil1!$A$32,1)+IF(C26=Feuil1!$A$33,1)+IF(C26=Feuil1!$A$34,1) -> 0 | D27: =IF(D26=Feuil1!$A$15,1)+IF(D26=Feuil1!$A$16,1)+IF(D26=Feuil1!$A$17,1)+IF(D26=Feuil1!$A$18,1)+IF(D26=Feuil1!$A$19,1)+IF(D26=Feuil1!$A$20,1)+IF(D26=Feuil1!$A$31,1)+IF(D26=Feuil1!$A$32,1)+IF(D26=Feuil1!$A$33,1)+IF(D26=Feuil1!$A$34,1) -> 0 | E27: =IF(E26=Feuil1!$A$15,1)+IF(E26=Feuil1!$A$16,1)+IF(E26=Feuil1!$A$17,1)+IF(E26=Feuil1!$A$18,1)+IF(E26=Feuil1!$A$19,1)+IF(E26=Feuil1!$A$20,1)+IF(E26=Feuil1!$A$31,1)+IF(E26=Feuil1!$A$32,1)+IF(E26=Feuil1!$A$33,1)+IF(E26=Feuil1!$A$34,1) -> 0 | F27: =IF(F26=Feuil1!$A$15,1)+IF(F26=Feuil1!$A$16,1)+IF(F26=Feuil1!$A$17,1)+IF(F26=Feuil1!$A$18,1)+IF(F26=Feuil1!$A$19,1)+IF(F26=Feuil1!$A$20,1)+IF(F26=Feuil1!$A$31,1)+IF(F26=Feuil1!$A$32,1)+IF(F26=Feuil1!$A$33,1)+IF(F26=Feuil1!$A$34,1) -> 0 | G27: =IF(G26=Feuil1!$A$15,1)+IF(G26=Feuil1!$A$16,1)+IF(G26=Feuil1!$A$17,1)+IF(G26=Feuil1!$A$18,1)+IF(G26=Feuil1!$A$19,1)+IF(G26=Feuil1!$A$20,1)+IF(G26=Feuil1!$A$31,1)+IF(G26=Feuil1!$A$32,1)+IF(G26=Feuil1!$A$33,1)+IF(G26=Feuil1!$A$34,1) -> 0 | H27: =IF(H26=Feuil1!$A$15,1)+IF(H26=Feuil1!$A$16,1)+IF(H26=Feuil1!$A$17,1)+IF(H26=Feuil1!$A$18,1)+IF(H26=Feuil1!$A$19,1)+IF(H26=Feuil1!$A$20,1)+IF(H26=Feuil1!$A$31,1)+IF(H26=Feuil1!$A$32,1)+IF(H26=Feuil1!$A$33,1)+IF(H26=Feuil1!$A$34,1) -> 0 | I27: =IF(I26=Feuil1!$A$15,1)+IF(I26=Feuil1!$A$16,1)+IF(I26=Feuil1!$A$17,1)+IF(I26=Feuil1!$A$18,1)+IF(I26=Feuil1!$A$19,1)+IF(I26=Feuil1!$A$20,1)+IF(I26=Feuil1!$A$31,1)+IF(I26=Feuil1!$A$32,1)+IF(I26=Feuil1!$A$33,1)+IF(I26=Feuil1!$A$34,1) -> 0 | ... AF27: =IF(AF26=Feuil1!$A$15,1)+IF(AF26=Feuil1!$A$16,1)+IF(AF26=Feuil1!$A$17,1)+IF(AF26=Feuil1!$A$18,1)+IF(AF26=Feuil1!$A$19,1)+IF(AF26=Feuil1!$A$20,1)+IF(AF26=Feuil1!$A$31,1)+IF(AF26=Feuil1!$A$32,1)+IF(AF26=Feuil1!$A$33,1)+IF(AF26=Feuil1!$A$34,1) -> 0
A28: =A25+1 -> 7 | B28: =IF(B26=Feuil1!$A$6,Feuil1!$D$6,0)+IF(B26=Feuil1!$A$7,Feuil1!$D$7,0)+IF(B26=Feuil1!$A$8,Feuil1!$D$8,0)+IF(B26=Feuil1!$A$9,Feuil1!$D$9,0)+IF(B26=Feuil1!$A$10,Feuil1!$D$10,0)+IF(B26=Feuil1!$A$11,Feuil1!$D$11,0)+IF(B26=Feuil1!$A$12,Feuil1!$D$12,0)+IF(B26=Feuil1!$A$13,Feuil1!$D$13,0)+IF(B26=Feuil1!$A$14,Feuil1!$D$14,0)+IF(B26=Feuil1!$A$15,Feuil1!$D$15,0)+IF(B26=Feuil1!$A$16,Feuil1!$D$16,0)+IF(B26=Feuil1!$A$17,Feuil1!$D$17,0)+IF(B26=Feuil1!$A$18,Feuil1!$D$18,0)+IF(B26=Feuil1!$A$19,Feuil1!$D$19,0)+IF(B26=Feuil1!$A$20,Feuil1!$D$20,0)+IF(B26=Feuil1!$A$21,Feuil1!$D$21,0)+IF(B26=Feuil1!$A$22,Feuil1!$D$22,0)+IF(B26=Feuil1!$A$23,Feuil1!$D$23,0)+IF(B26=Feuil1!$A$24,Feuil1!$D$25,0)+IF(B26=Feuil1!$A$26,Feuil1!$D$26,0)+IF(B26=Feuil1!$A$27,Feuil1!$D$27,0)+IF(B26=Feuil1!$A$28,Feuil1!$D$28,0)+IF(B26=Feuil1!$A$29,Feuil1!$D$29,0)+IF(B26=Feuil1!$A$30,Feuil1!$D$30,0)+IF(B26=Feuil1!$A$31,Feuil1!$D$31,0)+IF(B26=Feuil1!$A$32,Feuil1!$D$32,0)+IF(B26=Feuil1!$A$33,Feuil1!$D$33,0)+IF(B26=Feuil1!$A$34,Feuil1!$D$34,0)+IF(B26=Feuil1!$A$35,Feuil1!$D$35,0)+IF(B26=Feuil1!$A$36,Feuil1!$D$36,0)+IF(B26=Feuil1!$A$37,Feuil1!$D$37,0)+IF(B26=Feuil1!$A$38,Feuil1!$D$38,0)+IF(B26=Feuil1!A46,Feuil1!D46,0) -> 0 | C28: =IF(C26=Feuil1!$A$6,Feuil1!$D$6,0)+IF(C26=Feuil1!$A$7,Feuil1!$D$7,0)+IF(C26=Feuil1!$A$8,Feuil1!$D$8,0)+IF(C26=Feuil1!$A$9,Feuil1!$D$9,0)+IF(C26=Feuil1!$A$10,Feuil1!$D$10,0)+IF(C26=Feuil1!$A$11,Feuil1!$D$11,0)+IF(C26=Feuil1!$A$12,Feuil1!$D$12,0)+IF(C26=Feuil1!$A$13,Feuil1!$D$13,0)+IF(C26=Feuil1!$A$14,Feuil1!$D$14,0)+IF(C26=Feuil1!$A$15,Feuil1!$D$15,0)+IF(C26=Feuil1!$A$16,Feuil1!$D$16,0)+IF(C26=Feuil1!$A$17,Feuil1!$D$17,0)+IF(C26=Feuil1!$A$18,Feuil1!$D$18,0)+IF(C26=Feuil1!$A$19,Feuil1!$D$19,0)+IF(C26=Feuil1!$A$20,Feuil1!$D$20,0)+IF(C26=Feuil1!$A$21,Feuil1!$D$21,0)+IF(C26=Feuil1!$A$22,Feuil1!$D$22,0)+IF(C26=Feuil1!$A$23,Feuil1!$D$23,0)+IF(C26=Feuil1!$A$24,Feuil1!$D$25,0)+IF(C26=Feuil1!$A$26,Feuil1!$D$26,0)+IF(C26=Feuil1!$A$27,Feuil1!$D$27,0)+IF(C26=Feuil1!$A$28,Feuil1!$D$28,0)+IF(C26=Feuil1!$A$29,Feuil1!$D$29,0)+IF(C26=Feuil1!$A$30,Feuil1!$D$30,0)+IF(C26=Feuil1!$A$31,Feuil1!$D$31,0)+IF(C26=Feuil1!$A$32,Feuil1!$D$32,0)+IF(C26=Feuil1!$A$33,Feuil1!$D$33,0)+IF(C26=Feuil1!$A$34,Feuil1!$D$34,0)+IF(C26=Feuil1!$A$35,Feuil1!$D$35,0)+IF(C26=Feuil1!$A$36,Feuil1!$D$36,0)+IF(C26=Feuil1!$A$37,Feuil1!$D$37,0)+IF(C26=Feuil1!$A$38,Feuil1!$D$38,0)+IF(C26=Feuil1!B46,Feuil1!E46,0) -> 0 | D28: =IF(D26=Feuil1!$A$6,Feuil1!$D$6,0)+IF(D26=Feuil1!$A$7,Feuil1!$D$7,0)+IF(D26=Feuil1!$A$8,Feuil1!$D$8,0)+IF(D26=Feuil1!$A$9,Feuil1!$D$9,0)+IF(D26=Feuil1!$A$10,Feuil1!$D$10,0)+IF(D26=Feuil1!$A$11,Feuil1!$D$11,0)+IF(D26=Feuil1!$A$12,Feuil1!$D$12,0)+IF(D26=Feuil1!$A$13,Feuil1!$D$13,0)+IF(D26=Feuil1!$A$14,Feuil1!$D$14,0)+IF(D26=Feuil1!$A$15,Feuil1!$D$15,0)+IF(D26=Feuil1!$A$16,Feuil1!$D$16,0)+IF(D26=Feuil1!$A$17,Feuil1!$D$17,0)+IF(D26=Feuil1!$A$18,Feuil1!$D$18,0)+IF(D26=Feuil1!$A$19,Feuil1!$D$19,0)+IF(D26=Feuil1!$A$20,Feuil1!$D$20,0)+IF(D26=Feuil1!$A$21,Feuil1!$D$21,0)+IF(D26=Feuil1!$A$22,Feuil1!$D$22,0)+IF(D26=Feuil1!$A$23,Feuil1!$D$23,0)+IF(D26=Feuil1!$A$24,Feuil1!$D$25,0)+IF(D26=Feuil1!$A$26,Feuil1!$D$26,0)+IF(D26=Feuil1!$A$27,Feuil1!$D$27,0)+IF(D26=Feuil1!$A$28,Feuil1!$D$28,0)+IF(D26=Feuil1!$A$29,Feuil1!$D$29,0)+IF(D26=Feuil1!$A$30,Feuil1!$D$30,0)+IF(D26=Feuil1!$A$31,Feuil1!$D$31,0)+IF(D26=Feuil1!$A$32,Feuil1!$D$32,0)+IF(D26=Feuil1!$A$33,Feuil1!$D$33,0)+IF(D26=Feuil1!$A$34,Feuil1!$D$34,0)+IF(D26=Feuil1!$A$35,Feuil1!$D$35,0)+IF(D26=Feuil1!$A$36,Feuil1!$D$36,0)+IF(D26=Feuil1!$A$37,Feuil1!$D$37,0)+IF(D26=Feuil1!$A$38,Feuil1!$D$38,0)+IF(D26=Feuil1!C46,Feuil1!F46,0) -> 0 | E28: =IF(E26=Feuil1!$A$6,Feuil1!$D$6,0)+IF(E26=Feuil1!$A$7,Feuil1!$D$7,0)+IF(E26=Feuil1!$A$8,Feuil1!$D$8,0)+IF(E26=Feuil1!$A$9,Feuil1!$D$9,0)+IF(E26=Feuil1!$A$10,Feuil1!$D$10,0)+IF(E26=Feuil1!$A$11,Feuil1!$D$11,0)+IF(E26=Feuil1!$A$12,Feuil1!$D$12,0)+IF(E26=Feuil1!$A$13,Feuil1!$D$13,0)+IF(E26=Feuil1!$A$14,Feuil1!$D$14,0)+IF(E26=Feuil1!$A$15,Feuil1!$D$15,0)+IF(E26=Feuil1!$A$16,Feuil1!$D$16,0)+IF(E26=Feuil1!$A$17,Feuil1!$D$17,0)+IF(E26=Feuil1!$A$18,Feuil1!$D$18,0)+IF(E26=Feuil1!$A$19,Feuil1!$D$19,0)+IF(E26=Feuil1!$A$20,Feuil1!$D$20,0)+IF(E26=Feuil1!$A$21,Feuil1!$D$21,0)+IF(E26=Feuil1!$A$22,Feuil1!$D$22,0)+IF(E26=Feuil1!$A$23,Feuil1!$D$23,0)+IF(E26=Feuil1!$A$24,Feuil1!$D$25,0)+IF(E26=Feuil1!$A$26,Feuil1!$D$26,0)+IF(E26=Feuil1!$A$27,Feuil1!$D$27,0)+IF(E26=Feuil1!$A$28,Feuil1!$D$28,0)+IF(E26=Feuil1!$A$29,Feuil1!$D$29,0)+IF(E26=Feuil1!$A$30,Feuil1!$D$30,0)+IF(E26=Feuil1!$A$31,Feuil1!$D$31,0)+IF(E26=Feuil1!$A$32,Feuil1!$D$32,0)+IF(E26=Feuil1!$A$33,Feuil1!$D$33,0)+IF(E26=Feuil1!$A$34,Feuil1!$D$34,0)+IF(E26=Feuil1!$A$35,Feuil1!$D$35,0)+IF(E26=Feuil1!$A$36,Feuil1!$D$36,0)+IF(E26=Feuil1!$A$37,Feuil1!$D$37,0)+IF(E26=Feuil1!$A$38,Feuil1!$D$38,0)+IF(E26=Feuil1!D46,Feuil1!G46,0) -> 0 | F28: =IF(F26=Feuil1!$A$6,Feuil1!$D$6,0)+IF(F26=Feuil1!$A$7,Feuil1!$D$7,0)+IF(F26=Feuil1!$A$8,Feuil1!$D$8,0)+IF(F26=Feuil1!$A$9,Feuil1!$D$9,0)+IF(F26=Feuil1!$A$10,Feuil1!$D$10,0)+IF(F26=Feuil1!$A$11,Feuil1!$D$11,0)+IF(F26=Feuil1!$A$12,Feuil1!$D$12,0)+IF(F26=Feuil1!$A$13,Feuil1!$D$13,0)+IF(F26=Feuil1!$A$14,Feuil1!$D$14,0)+IF(F26=Feuil1!$A$15,Feuil1!$D$15,0)+IF(F26=Feuil1!$A$16,Feuil1!$D$16,0)+IF(F26=Feuil1!$A$17,Feuil1!$D$17,0)+IF(F26=Feuil1!$A$18,Feuil1!$D$18,0)+IF(F26=Feuil1!$A$19,Feuil1!$D$19,0)+IF(F26=Feuil1!$A$20,Feuil1!$D$20,0)+IF(F26=Feuil1!$A$21,Feuil1!$D$21,0)+IF(F26=Feuil1!$A$22,Feuil1!$D$22,0)+IF(F26=Feuil1!$A$23,Feuil1!$D$23,0)+IF(F26=Feuil1!$A$24,Feuil1!$D$25,0)+IF(F26=Feuil1!$A$26,Feuil1!$D$26,0)+IF(F26=Feuil1!$A$27,Feuil1!$D$27,0)+IF(F26=Feuil1!$A$28,Feuil1!$D$28,0)+IF(F26=Feuil1!$A$29,Feuil1!$D$29,0)+IF(F26=Feuil1!$A$30,Feuil1!$D$30,0)+IF(F26=Feuil1!$A$31,Feuil1!$D$31,0)+IF(F26=Feuil1!$A$32,Feuil1!$D$32,0)+IF(F26=Feuil1!$A$33,Feuil1!$D$33,0)+IF(F26=Feuil1!$A$34,Feuil1!$D$34,0)+IF(F26=Feuil1!$A$35,Feuil1!$D$35,0)+IF(F26=Feuil1!$A$36,Feuil1!$D$36,0)+IF(F26=Feuil1!$A$37,Feuil1!$D$37,0)+IF(F26=Feuil1!$A$38,Feuil1!$D$38,0)+IF(F26=Feuil1!E46,Feuil1!H46,0) -> 0 | G28: =IF(G26=Feuil1!$A$6,Feuil1!$D$6,0)+IF(G26=Feuil1!$A$7,Feuil1!$D$7,0)+IF(G26=Feuil1!$A$8,Feuil1!$D$8,0)+IF(G26=Feuil1!$A$9,Feuil1!$D$9,0)+IF(G26=Feuil1!$A$10,Feuil1!$D$10,0)+IF(G26=Feuil1!$A$11,Feuil1!$D$11,0)+IF(G26=Feuil1!$A$12,Feuil1!$D$12,0)+IF(G26=Feuil1!$A$13,Feuil1!$D$13,0)+IF(G26=Feuil1!$A$14,Feuil1!$D$14,0)+IF(G26=Feuil1!$A$15,Feuil1!$D$15,0)+IF(G26=Feuil1!$A$16,Feuil1!$D$16,0)+IF(G26=Feuil1!$A$17,Feuil1!$D$17,0)+IF(G26=Feuil1!$A$18,Feuil1!$D$18,0)+IF(G26=Feuil1!$A$19,Feuil1!$D$19,0)+IF(G26=Feuil1!$A$20,Feuil1!$D$20,0)+IF(G26=Feuil1!$A$21,Feuil1!$D$21,0)+IF(G26=Feuil1!$A$22,Feuil1!$D$22,0)+IF(G26=Feuil1!$A$23,Feuil1!$D$23,0)+IF(G26=Feuil1!$A$24,Feuil1!$D$25,0)+IF(G26=Feuil1!$A$26,Feuil1!$D$26,0)+IF(G26=Feuil1!$A$27,Feuil1!$D$27,0)+IF(G26=Feuil1!$A$28,Feuil1!$D$28,0)+IF(G26=Feuil1!$A$29,Feuil1!$D$29,0)+IF(G26=Feuil1!$A$30,Feuil1!$D$30,0)+IF(G26=Feuil1!$A$31,Feuil1!$D$31,0)+IF(G26=Feuil1!$A$32,Feuil1!$D$32,0)+IF(G26=Feuil1!$A$33,Feuil1!$D$33,0)+IF(G26=Feuil1!$A$34,Feuil1!$D$34,0)+IF(G26=Feuil1!$A$35,Feuil1!$D$35,0)+IF(G26=Feuil1!$A$36,Feuil1!$D$36,0)+IF(G26=Feuil1!$A$37,Feuil1!$D$37,0)+IF(G26=Feuil1!$A$38,Feuil1!$D$38,0)+IF(G26=Feuil1!F46,Feuil1!I46,0) -> 0 | H28: =IF(H26=Feuil1!$A$6,Feuil1!$D$6,0)+IF(H26=Feuil1!$A$7,Feuil1!$D$7,0)+IF(H26=Feuil1!$A$8,Feuil1!$D$8,0)+IF(H26=Feuil1!$A$9,Feuil1!$D$9,0)+IF(H26=Feuil1!$A$10,Feuil1!$D$10,0)+IF(H26=Feuil1!$A$11,Feuil1!$D$11,0)+IF(H26=Feuil1!$A$12,Feuil1!$D$12,0)+IF(H26=Feuil1!$A$13,Feuil1!$D$13,0)+IF(H26=Feuil1!$A$14,Feuil1!$D$14,0)+IF(H26=Feuil1!$A$15,Feuil1!$D$15,0)+IF(H26=Feuil1!$A$16,Feuil1!$D$16,0)+IF(H26=Feuil1!$A$17,Feuil1!$D$17,0)+IF(H26=Feuil1!$A$18,Feuil1!$D$18,0)+IF(H26=Feuil1!$A$19,Feuil1!$D$19,0)+IF(H26=Feuil1!$A$20,Feuil1!$D$20,0)+IF(H26=Feuil1!$A$21,Feuil1!$D$21,0)+IF(H26=Feuil1!$A$22,Feuil1!$D$22,0)+IF(H26=Feuil1!$A$23,Feuil1!$D$23,0)+IF(H26=Feuil1!$A$24,Feuil1!$D$25,0)+IF(H26=Feuil1!$A$26,Feuil1!$D$26,0)+IF(H26=Feuil1!$A$27,Feuil1!$D$27,0)+IF(H26=Feuil1!$A$28,Feuil1!$D$28,0)+IF(H26=Feuil1!$A$29,Feuil1!$D$29,0)+IF(H26=Feuil1!$A$30,Feuil1!$D$30,0)+IF(H26=Feuil1!$A$31,Feuil1!$D$31,0)+IF(H26=Feuil1!$A$32,Feuil1!$D$32,0)+IF(H26=Feuil1!$A$33,Feuil1!$D$33,0)+IF(H26=Feuil1!$A$34,Feuil1!$D$34,0)+IF(H26=Feuil1!$A$35,Feuil1!$D$35,0)+IF(H26=Feuil1!$A$36,Feuil1!$D$36,0)+IF(H26=Feuil1!$A$37,Feuil1!$D$37,0)+IF(H26=Feuil1!$A$38,Feuil1!$D$38,0)+IF(H26=Feuil1!G46,Feuil1!J46,0) -> 0 | I28: =IF(I26=Feuil1!$A$6,Feuil1!$D$6,0)+IF(I26=Feuil1!$A$7,Feuil1!$D$7,0)+IF(I26=Feuil1!$A$8,Feuil1!$D$8,0)+IF(I26=Feuil1!$A$9,Feuil1!$D$9,0)+IF(I26=Feuil1!$A$10,Feuil1!$D$10,0)+IF(I26=Feuil1!$A$11,Feuil1!$D$11,0)+IF(I26=Feuil1!$A$12,Feuil1!$D$12,0)+IF(I26=Feuil1!$A$13,Feuil1!$D$13,0)+IF(I26=Feuil1!$A$14,Feuil1!$D$14,0)+IF(I26=Feuil1!$A$15,Feuil1!$D$15,0)+IF(I26=Feuil1!$A$16,Feuil1!$D$16,0)+IF(I26=Feuil1!$A$17,Feuil1!$D$17,0)+IF(I26=Feuil1!$A$18,Feuil1!$D$18,0)+IF(I26=Feuil1!$A$19,Feuil1!$D$19,0)+IF(I26=Feuil1!$A$20,Feuil1!$D$20,0)+IF(I26=Feuil1!$A$21,Feuil1!$D$21,0)+IF(I26=Feuil1!$A$22,Feuil1!$D$22,0)+IF(I26=Feuil1!$A$23,Feuil1!$D$23,0)+IF(I26=Feuil1!$A$24,Feuil1!$D$25,0)+IF(I26=Feuil1!$A$26,Feuil1!$D$26,0)+IF(I26=Feuil1!$A$27,Feuil1!$D$27,0)+IF(I26=Feuil1!$A$28,Feuil1!$D$28,0)+IF(I26=Feuil1!$A$29,Feuil1!$D$29,0)+IF(I26=Feuil1!$A$30,Feuil1!$D$30,0)+IF(I26=Feuil1!$A$31,Feuil1!$D$31,0)+IF(I26=Feuil1!$A$32,Feuil1!$D$32,0)+IF(I26=Feuil1!$A$33,Feuil1!$D$33,0)+IF(I26=Feuil1!$A$34,Feuil1!$D$34,0)+IF(I26=Feuil1!$A$35,Feuil1!$D$35,0)+IF(I26=Feuil1!$A$36,Feuil1!$D$36,0)+IF(I26=Feuil1!$A$37,Feuil1!$D$37,0)+IF(I26=Feuil1!$A$38,Feuil1!$D$38,0)+IF(I26=Feuil1!H46,Feuil1!K46,0) -> 0 | ... AF28: =IF(AF26=Feuil1!$A$6,Feuil1!$D$6,0)+IF(AF26=Feuil1!$A$7,Feuil1!$D$7,0)+IF(AF26=Feuil1!$A$8,Feuil1!$D$8,0)+IF(AF26=Feuil1!$A$9,Feuil1!$D$9,0)+IF(AF26=Feuil1!$A$10,Feuil1!$D$10,0)+IF(AF26=Feuil1!$A$11,Feuil1!$D$11,0)+IF(AF26=Feuil1!$A$12,Feuil1!$D$12,0)+IF(AF26=Feuil1!$A$13,Feuil1!$D$13,0)+IF(AF26=Feuil1!$A$14,Feuil1!$D$14,0)+IF(AF26=Feuil1!$A$15,Feuil1!$D$15,0)+IF(AF26=Feuil1!$A$16,Feuil1!$D$16,0)+IF(AF26=Feuil1!$A$17,Feuil1!$D$17,0)+IF(AF26=Feuil1!$A$18,Feuil1!$D$18,0)+IF(AF26=Feuil1!$A$19,Feuil1!$D$19,0)+IF(AF26=Feuil1!$A$20,Feuil1!$D$20,0)+IF(AF26=Feuil1!$A$21,Feuil1!$D$21,0)+IF(AF26=Feuil1!$A$22,Feuil1!$D$22,0)+IF(AF26=Feuil1!$A$23,Feuil1!$D$23,0)+IF(AF26=Feuil1!$A$24,Feuil1!$D$25,0)+IF(AF26=Feuil1!$A$26,Feuil1!$D$26,0)+IF(AF26=Feuil1!$A$27,Feuil1!$D$27,0)+IF(AF26=Feuil1!$A$28,Feuil1!$D$28,0)+IF(AF26=Feuil1!$A$29,Feuil1!$D$29,0)+IF(AF26=Feuil1!$A$30,Feuil1!$D$30,0)+IF(AF26=Feuil1!$A$31,Feuil1!$D$31,0)+IF(AF26=Feuil1!$A$32,Feuil1!$D$32,0)+IF(AF26=Feuil1!$A$33,Feuil1!$D$33,0)+IF(AF26=Feuil1!$A$34,Feuil1!$D$34,0)+IF(AF26=Feuil1!$A$35,Feuil1!$D$35,0)+IF(AF26=Feuil1!$A$36,Feuil1!$D$36,0)+IF(AF26=Feuil1!$A$37,Feuil1!$D$37,0)+IF(AF26=Feuil1!$A$38,Feuil1!$D$38,0)+IF(AF26=Feuil1!AE46,Feuil1!AH46,0) -> 0
A29: =A26+1 -> 9 | B29: SFJ | C29: S2 | D29: R | E29: R | F29: CA | G29: R | H29: R | I29: CA | J29: CA | K29: CA | L29: CA | M29: R | N29: PB | O29: SFJ | P29: R | Q29: VB3 | R29: FJ | S29: FJ | T29: FJ | U29: R | V29: R | W29: FJ | X29: FJ | Y29: BF | Z29: R | AA29: S1 | AB29: S3 | AC29: S3 | AD29: R | AE29: S3 | AF29: RH5h | AG29: =SUM(B30:AF30) -> 7 | AH29: =SUM(B31:AF31) -> 4.5833333 | AI29: fc+bfMG / VBMG
A30: =A27+1 -> 8 | B30: =IF(B29=Feuil1!$A$15,1)+IF(B29=Feuil1!$A$16,1)+IF(B29=Feuil1!$A$17,1)+IF(B29=Feuil1!$A$18,1)+IF(B29=Feuil1!$A$19,1)+IF(B29=Feuil1!$A$20,1)+IF(B29=Feuil1!$A$31,1)+IF(B29=Feuil1!$A$32,1)+IF(B29=Feuil1!$A$33,1)+IF(B29=Feuil1!$A$34,1) -> 1 | C30: =IF(C29=Feuil1!$A$15,1)+IF(C29=Feuil1!$A$16,1)+IF(C29=Feuil1!$A$17,1)+IF(C29=Feuil1!$A$18,1)+IF(C29=Feuil1!$A$19,1)+IF(C29=Feuil1!$A$20,1)+IF(C29=Feuil1!$A$31,1)+IF(C29=Feuil1!$A$32,1)+IF(C29=Feuil1!$A$33,1)+IF(C29=Feuil1!$A$34,1) -> 1 | D30: =IF(D29=Feuil1!$A$15,1)+IF(D29=Feuil1!$A$16,1)+IF(D29=Feuil1!$A$17,1)+IF(D29=Feuil1!$A$18,1)+IF(D29=Feuil1!$A$19,1)+IF(D29=Feuil1!$A$20,1)+IF(D29=Feuil1!$A$31,1)+IF(D29=Feuil1!$A$32,1)+IF(D29=Feuil1!$A$33,1)+IF(D29=Feuil1!$A$34,1) -> 0 | E30: =IF(E29=Feuil1!$A$15,1)+IF(E29=Feuil1!$A$16,1)+IF(E29=Feuil1!$A$17,1)+IF(E29=Feuil1!$A$18,1)+IF(E29=Feuil1!$A$19,1)+IF(E29=Feuil1!$A$20,1)+IF(E29=Feuil1!$A$31,1)+IF(E29=Feuil1!$A$32,1)+IF(E29=Feuil1!$A$33,1)+IF(E29=Feuil1!$A$34,1) -> 0 | F30: =IF(F29=Feuil1!$A$15,1)+IF(F29=Feuil1!$A$16,1)+IF(F29=Feuil1!$A$17,1)+IF(F29=Feuil1!$A$18,1)+IF(F29=Feuil1!$A$19,1)+IF(F29=Feuil1!$A$20,1)+IF(F29=Feuil1!$A$31,1)+IF(F29=Feuil1!$A$32,1)+IF(F29=Feuil1!$A$33,1)+IF(F29=Feuil1!$A$34,1) -> 0 | G30: =IF(G29=Feuil1!$A$15,1)+IF(G29=Feuil1!$A$16,1)+IF(G29=Feuil1!$A$17,1)+IF(G29=Feuil1!$A$18,1)+IF(G29=Feuil1!$A$19,1)+IF(G29=Feuil1!$A$20,1)+IF(G29=Feuil1!$A$31,1)+IF(G29=Feuil1!$A$32,1)+IF(G29=Feuil1!$A$33,1)+IF(G29=Feuil1!$A$34,1) -> 0 | H30: =IF(H29=Feuil1!$A$15,1)+IF(H29=Feuil1!$A$16,1)+IF(H29=Feuil1!$A$17,1)+IF(H29=Feuil1!$A$18,1)+IF(H29=Feuil1!$A$19,1)+IF(H29=Feuil1!$A$20,1)+IF(H29=Feuil1!$A$31,1)+IF(H29=Feuil1!$A$32,1)+IF(H29=Feuil1!$A$33,1)+IF(H29=Feuil1!$A$34,1) -> 0 | I30: =IF(I29=Feuil1!$A$15,1)+IF(I29=Feuil1!$A$16,1)+IF(I29=Feuil1!$A$17,1)+IF(I29=Feuil1!$A$18,1)+IF(I29=Feuil1!$A$19,1)+IF(I29=Feuil1!$A$20,1)+IF(I29=Feuil1!$A$31,1)+IF(I29=Feuil1!$A$32,1)+IF(I29=Feuil1!$A$33,1)+IF(I29=Feuil1!$A$34,1) -> 0 | ... AF30: =IF(AF29=Feuil1!$A$15,1)+IF(AF29=Feuil1!$A$16,1)+IF(AF29=Feuil1!$A$17,1)+IF(AF29=Feuil1!$A$18,1)+IF(AF29=Feuil1!$A$19,1)+IF(AF29=Feuil1!$A$20,1)+IF(AF29=Feuil1!$A$31,1)+IF(AF29=Feuil1!$A$32,1)+IF(AF29=Feuil1!$A$33,1)+IF(AF29=Feuil1!$A$34,1) -> 0
A31: =A28+1 -> 8 | B31: =IF(B29=Feuil1!$A$6,Feuil1!$D$6,0)+IF(B29=Feuil1!$A$7,Feuil1!$D$7,0)+IF(B29=Feuil1!$A$8,Feuil1!$D$8,0)+IF(B29=Feuil1!$A$9,Feuil1!$D$9,0)+IF(B29=Feuil1!$A$10,Feuil1!$D$10,0)+IF(B29=Feuil1!$A$11,Feuil1!$D$11,0)+IF(B29=Feuil1!$A$12,Feuil1!$D$12,0)+IF(B29=Feuil1!$A$13,Feuil1!$D$13,0)+IF(B29=Feuil1!$A$14,Feuil1!$D$14,0)+IF(B29=Feuil1!$A$15,Feuil1!$D$15,0)+IF(B29=Feuil1!$A$16,Feuil1!$D$16,0)+IF(B29=Feuil1!$A$17,Feuil1!$D$17,0)+IF(B29=Feuil1!$A$18,Feuil1!$D$18,0)+IF(B29=Feuil1!$A$19,Feuil1!$D$19,0)+IF(B29=Feuil1!$A$20,Feuil1!$D$20,0)+IF(B29=Feuil1!$A$21,Feuil1!$D$21,0)+IF(B29=Feuil1!$A$22,Feuil1!$D$22,0)+IF(B29=Feuil1!$A$23,Feuil1!$D$23,0)+IF(B29=Feuil1!$A$24,Feuil1!$D$25,0)+IF(B29=Feuil1!$A$26,Feuil1!$D$26,0)+IF(B29=Feuil1!$A$27,Feuil1!$D$27,0)+IF(B29=Feuil1!$A$28,Feuil1!$D$28,0)+IF(B29=Feuil1!$A$29,Feuil1!$D$29,0)+IF(B29=Feuil1!$A$30,Feuil1!$D$30,0)+IF(B29=Feuil1!$A$31,Feuil1!$D$31,0)+IF(B29=Feuil1!$A$32,Feuil1!$D$32,0)+IF(B29=Feuil1!$A$33,Feuil1!$D$33,0)+IF(B29=Feuil1!$A$34,Feuil1!$D$34,0)+IF(B29=Feuil1!$A$35,Feuil1!$D$35,0)+IF(B29=Feuil1!$A$36,Feuil1!$D$36,0)+IF(B29=Feuil1!$A$37,Feuil1!$D$37,0)+IF(B29=Feuil1!$A$38,Feuil1!$D$38,0)+IF(B29=Feuil1!A49,Feuil1!D49,0) -> 0.3125 | C31: =IF(C29=Feuil1!$A$6,Feuil1!$D$6,0)+IF(C29=Feuil1!$A$7,Feuil1!$D$7,0)+IF(C29=Feuil1!$A$8,Feuil1!$D$8,0)+IF(C29=Feuil1!$A$9,Feuil1!$D$9,0)+IF(C29=Feuil1!$A$10,Feuil1!$D$10,0)+IF(C29=Feuil1!$A$11,Feuil1!$D$11,0)+IF(C29=Feuil1!$A$12,Feuil1!$D$12,0)+IF(C29=Feuil1!$A$13,Feuil1!$D$13,0)+IF(C29=Feuil1!$A$14,Feuil1!$D$14,0)+IF(C29=Feuil1!$A$15,Feuil1!$D$15,0)+IF(C29=Feuil1!$A$16,Feuil1!$D$16,0)+IF(C29=Feuil1!$A$17,Feuil1!$D$17,0)+IF(C29=Feuil1!$A$18,Feuil1!$D$18,0)+IF(C29=Feuil1!$A$19,Feuil1!$D$19,0)+IF(C29=Feuil1!$A$20,Feuil1!$D$20,0)+IF(C29=Feuil1!$A$21,Feuil1!$D$21,0)+IF(C29=Feuil1!$A$22,Feuil1!$D$22,0)+IF(C29=Feuil1!$A$23,Feuil1!$D$23,0)+IF(C29=Feuil1!$A$24,Feuil1!$D$25,0)+IF(C29=Feuil1!$A$26,Feuil1!$D$26,0)+IF(C29=Feuil1!$A$27,Feuil1!$D$27,0)+IF(C29=Feuil1!$A$28,Feuil1!$D$28,0)+IF(C29=Feuil1!$A$29,Feuil1!$D$29,0)+IF(C29=Feuil1!$A$30,Feuil1!$D$30,0)+IF(C29=Feuil1!$A$31,Feuil1!$D$31,0)+IF(C29=Feuil1!$A$32,Feuil1!$D$32,0)+IF(C29=Feuil1!$A$33,Feuil1!$D$33,0)+IF(C29=Feuil1!$A$34,Feuil1!$D$34,0)+IF(C29=Feuil1!$A$35,Feuil1!$D$35,0)+IF(C29=Feuil1!$A$36,Feuil1!$D$36,0)+IF(C29=Feuil1!$A$37,Feuil1!$D$37,0)+IF(C29=Feuil1!$A$38,Feuil1!$D$38,0)+IF(C29=Feuil1!B49,Feuil1!E49,0) -> 0.3125 | D31: =IF(D29=Feuil1!$A$6,Feuil1!$D$6,0)+IF(D29=Feuil1!$A$7,Feuil1!$D$7,0)+IF(D29=Feuil1!$A$8,Feuil1!$D$8,0)+IF(D29=Feuil1!$A$9,Feuil1!$D$9,0)+IF(D29=Feuil1!$A$10,Feuil1!$D$10,0)+IF(D29=Feuil1!$A$11,Feuil1!$D$11,0)+IF(D29=Feuil1!$A$12,Feuil1!$D$12,0)+IF(D29=Feuil1!$A$13,Feuil1!$D$13,0)+IF(D29=Feuil1!$A$14,Feuil1!$D$14,0)+IF(D29=Feuil1!$A$15,Feuil1!$D$15,0)+IF(D29=Feuil1!$A$16,Feuil1!$D$16,0)+IF(D29=Feuil1!$A$17,Feuil1!$D$17,0)+IF(D29=Feuil1!$A$18,Feuil1!$D$18,0)+IF(D29=Feuil1!$A$19,Feuil1!$D$19,0)+IF(D29=Feuil1!$A$20,Feuil1!$D$20,0)+IF(D29=Feuil1!$A$21,Feuil1!$D$21,0)+IF(D29=Feuil1!$A$22,Feuil1!$D$22,0)+IF(D29=Feuil1!$A$23,Feuil1!$D$23,0)+IF(D29=Feuil1!$A$24,Feuil1!$D$25,0)+IF(D29=Feuil1!$A$26,Feuil1!$D$26,0)+IF(D29=Feuil1!$A$27,Feuil1!$D$27,0)+IF(D29=Feuil1!$A$28,Feuil1!$D$28,0)+IF(D29=Feuil1!$A$29,Feuil1!$D$29,0)+IF(D29=Feuil1!$A$30,Feuil1!$D$30,0)+IF(D29=Feuil1!$A$31,Feuil1!$D$31,0)+IF(D29=Feuil1!$A$32,Feuil1!$D$32,0)+IF(D29=Feuil1!$A$33,Feuil1!$D$33,0)+IF(D29=Feuil1!$A$34,Feuil1!$D$34,0)+IF(D29=Feuil1!$A$35,Feuil1!$D$35,0)+IF(D29=Feuil1!$A$36,Feuil1!$D$36,0)+IF(D29=Feuil1!$A$37,Feuil1!$D$37,0)+IF(D29=Feuil1!$A$38,Feuil1!$D$38,0)+IF(D29=Feuil1!C49,Feuil1!F49,0) -> 0 | E31: =IF(E29=Feuil1!$A$6,Feuil1!$D$6,0)+IF(E29=Feuil1!$A$7,Feuil1!$D$7,0)+IF(E29=Feuil1!$A$8,Feuil1!$D$8,0)+IF(E29=Feuil1!$A$9,Feuil1!$D$9,0)+IF(E29=Feuil1!$A$10,Feuil1!$D$10,0)+IF(E29=Feuil1!$A$11,Feuil1!$D$11,0)+IF(E29=Feuil1!$A$12,Feuil1!$D$12,0)+IF(E29=Feuil1!$A$13,Feuil1!$D$13,0)+IF(E29=Feuil1!$A$14,Feuil1!$D$14,0)+IF(E29=Feuil1!$A$15,Feuil1!$D$15,0)+IF(E29=Feuil1!$A$16,Feuil1!$D$16,0)+IF(E29=Feuil1!$A$17,Feuil1!$D$17,0)+IF(E29=Feuil1!$A$18,Feuil1!$D$18,0)+IF(E29=Feuil1!$A$19,Feuil1!$D$19,0)+IF(E29=Feuil1!$A$20,Feuil1!$D$20,0)+IF(E29=Feuil1!$A$21,Feuil1!$D$21,0)+IF(E29=Feuil1!$A$22,Feuil1!$D$22,0)+IF(E29=Feuil1!$A$23,Feuil1!$D$23,0)+IF(E29=Feuil1!$A$24,Feuil1!$D$25,0)+IF(E29=Feuil1!$A$26,Feuil1!$D$26,0)+IF(E29=Feuil1!$A$27,Feuil1!$D$27,0)+IF(E29=Feuil1!$A$28,Feuil1!$D$28,0)+IF(E29=Feuil1!$A$29,Feuil1!$D$29,0)+IF(E29=Feuil1!$A$30,Feuil1!$D$30,0)+IF(E29=Feuil1!$A$31,Feuil1!$D$31,0)+IF(E29=Feuil1!$A$32,Feuil1!$D$32,0)+IF(E29=Feuil1!$A$33,Feuil1!$D$33,0)+IF(E29=Feuil1!$A$34,Feuil1!$D$34,0)+IF(E29=Feuil1!$A$35,Feuil1!$D$35,0)+IF(E29=Feuil1!$A$36,Feuil1!$D$36,0)+IF(E29=Feuil1!$A$37,Feuil1!$D$37,0)+IF(E29=Feuil1!$A$38,Feuil1!$D$38,0)+IF(E29=Feuil1!D49,Feuil1!G49,0) -> 0 | F31: =IF(F29=Feuil1!$A$6,Feuil1!$D$6,0)+IF(F29=Feuil1!$A$7,Feuil1!$D$7,0)+IF(F29=Feuil1!$A$8,Feuil1!$D$8,0)+IF(F29=Feuil1!$A$9,Feuil1!$D$9,0)+IF(F29=Feuil1!$A$10,Feuil1!$D$10,0)+IF(F29=Feuil1!$A$11,Feuil1!$D$11,0)+IF(F29=Feuil1!$A$12,Feuil1!$D$12,0)+IF(F29=Feuil1!$A$13,Feuil1!$D$13,0)+IF(F29=Feuil1!$A$14,Feuil1!$D$14,0)+IF(F29=Feuil1!$A$15,Feuil1!$D$15,0)+IF(F29=Feuil1!$A$16,Feuil1!$D$16,0)+IF(F29=Feuil1!$A$17,Feuil1!$D$17,0)+IF(F29=Feuil1!$A$18,Feuil1!$D$18,0)+IF(F29=Feuil1!$A$19,Feuil1!$D$19,0)+IF(F29=Feuil1!$A$20,Feuil1!$D$20,0)+IF(F29=Feuil1!$A$21,Feuil1!$D$21,0)+IF(F29=Feuil1!$A$22,Feuil1!$D$22,0)+IF(F29=Feuil1!$A$23,Feuil1!$D$23,0)+IF(F29=Feuil1!$A$24,Feuil1!$D$25,0)+IF(F29=Feuil1!$A$26,Feuil1!$D$26,0)+IF(F29=Feuil1!$A$27,Feuil1!$D$27,0)+IF(F29=Feuil1!$A$28,Feuil1!$D$28,0)+IF(F29=Feuil1!$A$29,Feuil1!$D$29,0)+IF(F29=Feuil1!$A$30,Feuil1!$D$30,0)+IF(F29=Feuil1!$A$31,Feuil1!$D$31,0)+IF(F29=Feuil1!$A$32,Feuil1!$D$32,0)+IF(F29=Feuil1!$A$33,Feuil1!$D$33,0)+IF(F29=Feuil1!$A$34,Feuil1!$D$34,0)+IF(F29=Feuil1!$A$35,Feuil1!$D$35,0)+IF(F29=Feuil1!$A$36,Feuil1!$D$36,0)+IF(F29=Feuil1!$A$37,Feuil1!$D$37,0)+IF(F29=Feuil1!$A$38,Feuil1!$D$38,0)+IF(F29=Feuil1!E49,Feuil1!H49,0) -> 0 | G31: =IF(G29=Feuil1!$A$6,Feuil1!$D$6,0)+IF(G29=Feuil1!$A$7,Feuil1!$D$7,0)+IF(G29=Feuil1!$A$8,Feuil1!$D$8,0)+IF(G29=Feuil1!$A$9,Feuil1!$D$9,0)+IF(G29=Feuil1!$A$10,Feuil1!$D$10,0)+IF(G29=Feuil1!$A$11,Feuil1!$D$11,0)+IF(G29=Feuil1!$A$12,Feuil1!$D$12,0)+IF(G29=Feuil1!$A$13,Feuil1!$D$13,0)+IF(G29=Feuil1!$A$14,Feuil1!$D$14,0)+IF(G29=Feuil1!$A$15,Feuil1!$D$15,0)+IF(G29=Feuil1!$A$16,Feuil1!$D$16,0)+IF(G29=Feuil1!$A$17,Feuil1!$D$17,0)+IF(G29=Feuil1!$A$18,Feuil1!$D$18,0)+IF(G29=Feuil1!$A$19,Feuil1!$D$19,0)+IF(G29=Feuil1!$A$20,Feuil1!$D$20,0)+IF(G29=Feuil1!$A$21,Feuil1!$D$21,0)+IF(G29=Feuil1!$A$22,Feuil1!$D$22,0)+IF(G29=Feuil1!$A$23,Feuil1!$D$23,0)+IF(G29=Feuil1!$A$24,Feuil1!$D$25,0)+IF(G29=Feuil1!$A$26,Feuil1!$D$26,0)+IF(G29=Feuil1!$A$27,Feuil1!$D$27,0)+IF(G29=Feuil1!$A$28,Feuil1!$D$28,0)+IF(G29=Feuil1!$A$29,Feuil1!$D$29,0)+IF(G29=Feuil1!$A$30,Feuil1!$D$30,0)+IF(G29=Feuil1!$A$31,Feuil1!$D$31,0)+IF(G29=Feuil1!$A$32,Feuil1!$D$32,0)+IF(G29=Feuil1!$A$33,Feuil1!$D$33,0)+IF(G29=Feuil1!$A$34,Feuil1!$D$34,0)+IF(G29=Feuil1!$A$35,Feuil1!$D$35,0)+IF(G29=Feuil1!$A$36,Feuil1!$D$36,0)+IF(G29=Feuil1!$A$37,Feuil1!$D$37,0)+IF(G29=Feuil1!$A$38,Feuil1!$D$38,0)+IF(G29=Feuil1!F49,Feuil1!I49,0) -> 0 | H31: =IF(H29=Feuil1!$A$6,Feuil1!$D$6,0)+IF(H29=Feuil1!$A$7,Feuil1!$D$7,0)+IF(H29=Feuil1!$A$8,Feuil1!$D$8,0)+IF(H29=Feuil1!$A$9,Feuil1!$D$9,0)+IF(H29=Feuil1!$A$10,Feuil1!$D$10,0)+IF(H29=Feuil1!$A$11,Feuil1!$D$11,0)+IF(H29=Feuil1!$A$12,Feuil1!$D$12,0)+IF(H29=Feuil1!$A$13,Feuil1!$D$13,0)+IF(H29=Feuil1!$A$14,Feuil1!$D$14,0)+IF(H29=Feuil1!$A$15,Feuil1!$D$15,0)+IF(H29=Feuil1!$A$16,Feuil1!$D$16,0)+IF(H29=Feuil1!$A$17,Feuil1!$D$17,0)+IF(H29=Feuil1!$A$18,Feuil1!$D$18,0)+IF(H29=Feuil1!$A$19,Feuil1!$D$19,0)+IF(H29=Feuil1!$A$20,Feuil1!$D$20,0)+IF(H29=Feuil1!$A$21,Feuil1!$D$21,0)+IF(H29=Feuil1!$A$22,Feuil1!$D$22,0)+IF(H29=Feuil1!$A$23,Feuil1!$D$23,0)+IF(H29=Feuil1!$A$24,Feuil1!$D$25,0)+IF(H29=Feuil1!$A$26,Feuil1!$D$26,0)+IF(H29=Feuil1!$A$27,Feuil1!$D$27,0)+IF(H29=Feuil1!$A$28,Feuil1!$D$28,0)+IF(H29=Feuil1!$A$29,Feuil1!$D$29,0)+IF(H29=Feuil1!$A$30,Feuil1!$D$30,0)+IF(H29=Feuil1!$A$31,Feuil1!$D$31,0)+IF(H29=Feuil1!$A$32,Feuil1!$D$32,0)+IF(H29=Feuil1!$A$33,Feuil1!$D$33,0)+IF(H29=Feuil1!$A$34,Feuil1!$D$34,0)+IF(H29=Feuil1!$A$35,Feuil1!$D$35,0)+IF(H29=Feuil1!$A$36,Feuil1!$D$36,0)+IF(H29=Feuil1!$A$37,Feuil1!$D$37,0)+IF(H29=Feuil1!$A$38,Feuil1!$D$38,0)+IF(H29=Feuil1!G49,Feuil1!J49,0) -> 0 | I31: =IF(I29=Feuil1!$A$6,Feuil1!$D$6,0)+IF(I29=Feuil1!$A$7,Feuil1!$D$7,0)+IF(I29=Feuil1!$A$8,Feuil1!$D$8,0)+IF(I29=Feuil1!$A$9,Feuil1!$D$9,0)+IF(I29=Feuil1!$A$10,Feuil1!$D$10,0)+IF(I29=Feuil1!$A$11,Feuil1!$D$11,0)+IF(I29=Feuil1!$A$12,Feuil1!$D$12,0)+IF(I29=Feuil1!$A$13,Feuil1!$D$13,0)+IF(I29=Feuil1!$A$14,Feuil1!$D$14,0)+IF(I29=Feuil1!$A$15,Feuil1!$D$15,0)+IF(I29=Feuil1!$A$16,Feuil1!$D$16,0)+IF(I29=Feuil1!$A$17,Feuil1!$D$17,0)+IF(I29=Feuil1!$A$18,Feuil1!$D$18,0)+IF(I29=Feuil1!$A$19,Feuil1!$D$19,0)+IF(I29=Feuil1!$A$20,Feuil1!$D$20,0)+IF(I29=Feuil1!$A$21,Feuil1!$D$21,0)+IF(I29=Feuil1!$A$22,Feuil1!$D$22,0)+IF(I29=Feuil1!$A$23,Feuil1!$D$23,0)+IF(I29=Feuil1!$A$24,Feuil1!$D$25,0)+IF(I29=Feuil1!$A$26,Feuil1!$D$26,0)+IF(I29=Feuil1!$A$27,Feuil1!$D$27,0)+IF(I29=Feuil1!$A$28,Feuil1!$D$28,0)+IF(I29=Feuil1!$A$29,Feuil1!$D$29,0)+IF(I29=Feuil1!$A$30,Feuil1!$D$30,0)+IF(I29=Feuil1!$A$31,Feuil1!$D$31,0)+IF(I29=Feuil1!$A$32,Feuil1!$D$32,0)+IF(I29=Feuil1!$A$33,Feuil1!$D$33,0)+IF(I29=Feuil1!$A$34,Feuil1!$D$34,0)+IF(I29=Feuil1!$A$35,Feuil1!$D$35,0)+IF(I29=Feuil1!$A$36,Feuil1!$D$36,0)+IF(I29=Feuil1!$A$37,Feuil1!$D$37,0)+IF(I29=Feuil1!$A$38,Feuil1!$D$38,0)+IF(I29=Feuil1!H49,Feuil1!K49,0) -> 0 | ... AF31: =IF(AF29=Feuil1!$A$6,Feuil1!$D$6,0)+IF(AF29=Feuil1!$A$7,Feuil1!$D$7,0)+IF(AF29=Feuil1!$A$8,Feuil1!$D$8,0)+IF(AF29=Feuil1!$A$9,Feuil1!$D$9,0)+IF(AF29=Feuil1!$A$10,Feuil1!$D$10,0)+IF(AF29=Feuil1!$A$11,Feuil1!$D$11,0)+IF(AF29=Feuil1!$A$12,Feuil1!$D$12,0)+IF(AF29=Feuil1!$A$13,Feuil1!$D$13,0)+IF(AF29=Feuil1!$A$14,Feuil1!$D$14,0)+IF(AF29=Feuil1!$A$15,Feuil1!$D$15,0)+IF(AF29=Feuil1!$A$16,Feuil1!$D$16,0)+IF(AF29=Feuil1!$A$17,Feuil1!$D$17,0)+IF(AF29=Feuil1!$A$18,Feuil1!$D$18,0)+IF(AF29=Feuil1!$A$19,Feuil1!$D$19,0)+IF(AF29=Feuil1!$A$20,Feuil1!$D$20,0)+IF(AF29=Feuil1!$A$21,Feuil1!$D$21,0)+IF(AF29=Feuil1!$A$22,Feuil1!$D$22,0)+IF(AF29=Feuil1!$A$23,Feuil1!$D$23,0)+IF(AF29=Feuil1!$A$24,Feuil1!$D$25,0)+IF(AF29=Feuil1!$A$26,Feuil1!$D$26,0)+IF(AF29=Feuil1!$A$27,Feuil1!$D$27,0)+IF(AF29=Feuil1!$A$28,Feuil1!$D$28,0)+IF(AF29=Feuil1!$A$29,Feuil1!$D$29,0)+IF(AF29=Feuil1!$A$30,Feuil1!$D$30,0)+IF(AF29=Feuil1!$A$31,Feuil1!$D$31,0)+IF(AF29=Feuil1!$A$32,Feuil1!$D$32,0)+IF(AF29=Feuil1!$A$33,Feuil1!$D$33,0)+IF(AF29=Feuil1!$A$34,Feuil1!$D$34,0)+IF(AF29=Feuil1!$A$35,Feuil1!$D$35,0)+IF(AF29=Feuil1!$A$36,Feuil1!$D$36,0)+IF(AF29=Feuil1!$A$37,Feuil1!$D$37,0)+IF(AF29=Feuil1!$A$38,Feuil1!$D$38,0)+IF(AF29=Feuil1!AE49,Feuil1!AH49,0) -> 0
A32: =A29+1 -> 10 | B32: RC | C32: BF | D32: BF | E32: R | F32: VB | G32: R | H32: R | I32: BF | J32: BF | K32: VB2 | L32: VB2 | M32: R | N32: FC | O32: FC | P32: S3 | Q32: R | R32: BF | S32: S3 | T32: S1 | U32: R | V32: R | W32: RC | X32: CA | Y32: CA | Z32: RTT | AA32: R | AB32: FC | AC32: FC | AD32: S3 | AE32: R | AF32: VB2 | AG32: =SUM(B33:AF33) -> 4 | AH32: =SUM(B34:AF34) -> 5.3125 | AI32: 8H - 15H30
A33: =A30+1 -> 9 | B33: =IF(B32=Feuil1!$A$15,1)+IF(B32=Feuil1!$A$16,1)+IF(B32=Feuil1!$A$17,1)+IF(B32=Feuil1!$A$18,1)+IF(B32=Feuil1!$A$19,1)+IF(B32=Feuil1!$A$20,1)+IF(B32=Feuil1!$A$31,1)+IF(B32=Feuil1!$A$32,1)+IF(B32=Feuil1!$A$33,1)+IF(B32=Feuil1!$A$34,1) -> 0 | C33: =IF(C32=Feuil1!$A$15,1)+IF(C32=Feuil1!$A$16,1)+IF(C32=Feuil1!$A$17,1)+IF(C32=Feuil1!$A$18,1)+IF(C32=Feuil1!$A$19,1)+IF(C32=Feuil1!$A$20,1)+IF(C32=Feuil1!$A$31,1)+IF(C32=Feuil1!$A$32,1)+IF(C32=Feuil1!$A$33,1)+IF(C32=Feuil1!$A$34,1) -> 0 | D33: =IF(D32=Feuil1!$A$15,1)+IF(D32=Feuil1!$A$16,1)+IF(D32=Feuil1!$A$17,1)+IF(D32=Feuil1!$A$18,1)+IF(D32=Feuil1!$A$19,1)+IF(D32=Feuil1!$A$20,1)+IF(D32=Feuil1!$A$31,1)+IF(D32=Feuil1!$A$32,1)+IF(D32=Feuil1!$A$33,1)+IF(D32=Feuil1!$A$34,1) -> 0 | E33: =IF(E32=Feuil1!$A$15,1)+IF(E32=Feuil1!$A$16,1)+IF(E32=Feuil1!$A$17,1)+IF(E32=Feuil1!$A$18,1)+IF(E32=Feuil1!$A$19,1)+IF(E32=Feuil1!$A$20,1)+IF(E32=Feuil1!$A$31,1)+IF(E32=Feuil1!$A$32,1)+IF(E32=Feuil1!$A$33,1)+IF(E32=Feuil1!$A$34,1) -> 0 | F33: =IF(F32=Feuil1!$A$15,1)+IF(F32=Feuil1!$A$16,1)+IF(F32=Feuil1!$A$17,1)+IF(F32=Feuil1!$A$18,1)+IF(F32=Feuil1!$A$19,1)+IF(F32=Feuil1!$A$20,1)+IF(F32=Feuil1!$A$31,1)+IF(F32=Feuil1!$A$32,1)+IF(F32=Feuil1!$A$33,1)+IF(F32=Feuil1!$A$34,1) -> 0 | G33: =IF(G32=Feuil1!$A$15,1)+IF(G32=Feuil1!$A$16,1)+IF(G32=Feuil1!$A$17,1)+IF(G32=Feuil1!$A$18,1)+IF(G32=Feuil1!$A$19,1)+IF(G32=Feuil1!$A$20,1)+IF(G32=Feuil1!$A$31,1)+IF(G32=Feuil1!$A$32,1)+IF(G32=Feuil1!$A$33,1)+IF(G32=Feuil1!$A$34,1) -> 0 | H33: =IF(H32=Feuil1!$A$15,1)+IF(H32=Feuil1!$A$16,1)+IF(H32=Feuil1!$A$17,1)+IF(H32=Feuil1!$A$18,1)+IF(H32=Feuil1!$A$19,1)+IF(H32=Feuil1!$A$20,1)+IF(H32=Feuil1!$A$31,1)+IF(H32=Feuil1!$A$32,1)+IF(H32=Feuil1!$A$33,1)+IF(H32=Feuil1!$A$34,1) -> 0 | I33: =IF(I32=Feuil1!$A$15,1)+IF(I32=Feuil1!$A$16,1)+IF(I32=Feuil1!$A$17,1)+IF(I32=Feuil1!$A$18,1)+IF(I32=Feuil1!$A$19,1)+IF(I32=Feuil1!$A$20,1)+IF(I32=Feuil1!$A$31,1)+IF(I32=Feuil1!$A$32,1)+IF(I32=Feuil1!$A$33,1)+IF(I32=Feuil1!$A$34,1) -> 0 | ... AF33: =IF(AF32=Feuil1!$A$15,1)+IF(AF32=Feuil1!$A$16,1)+IF(AF32=Feuil1!$A$17,1)+IF(AF32=Feuil1!$A$18,1)+IF(AF32=Feuil1!$A$19,1)+IF(AF32=Feuil1!$A$20,1)+IF(AF32=Feuil1!$A$31,1)+IF(AF32=Feuil1!$A$32,1)+IF(AF32=Feuil1!$A$33,1)+IF(AF32=Feuil1!$A$34,1) -> 0
A34: =A31+1 -> 9 | B34: =IF(B32=Feuil1!$A$6,Feuil1!$D$6,0)+IF(B32=Feuil1!$A$7,Feuil1!$D$7,0)+IF(B32=Feuil1!$A$8,Feuil1!$D$8,0)+IF(B32=Feuil1!$A$9,Feuil1!$D$9,0)+IF(B32=Feuil1!$A$10,Feuil1!$D$10,0)+IF(B32=Feuil1!$A$11,Feuil1!$D$11,0)+IF(B32=Feuil1!$A$12,Feuil1!$D$12,0)+IF(B32=Feuil1!$A$13,Feuil1!$D$13,0)+IF(B32=Feuil1!$A$14,Feuil1!$D$14,0)+IF(B32=Feuil1!$A$15,Feuil1!$D$15,0)+IF(B32=Feuil1!$A$16,Feuil1!$D$16,0)+IF(B32=Feuil1!$A$17,Feuil1!$D$17,0)+IF(B32=Feuil1!$A$18,Feuil1!$D$18,0)+IF(B32=Feuil1!$A$19,Feuil1!$D$19,0)+IF(B32=Feuil1!$A$20,Feuil1!$D$20,0)+IF(B32=Feuil1!$A$21,Feuil1!$D$21,0)+IF(B32=Feuil1!$A$22,Feuil1!$D$22,0)+IF(B32=Feuil1!$A$23,Feuil1!$D$23,0)+IF(B32=Feuil1!$A$24,Feuil1!$D$25,0)+IF(B32=Feuil1!$A$26,Feuil1!$D$26,0)+IF(B32=Feuil1!$A$27,Feuil1!$D$27,0)+IF(B32=Feuil1!$A$28,Feuil1!$D$28,0)+IF(B32=Feuil1!$A$29,Feuil1!$D$29,0)+IF(B32=Feuil1!$A$30,Feuil1!$D$30,0)+IF(B32=Feuil1!$A$31,Feuil1!$D$31,0)+IF(B32=Feuil1!$A$32,Feuil1!$D$32,0)+IF(B32=Feuil1!$A$33,Feuil1!$D$33,0)+IF(B32=Feuil1!$A$34,Feuil1!$D$34,0)+IF(B32=Feuil1!$A$35,Feuil1!$D$35,0)+IF(B32=Feuil1!$A$36,Feuil1!$D$36,0)+IF(B32=Feuil1!$A$37,Feuil1!$D$37,0)+IF(B32=Feuil1!$A$38,Feuil1!$D$38,0)+IF(B32=Feuil1!A52,Feuil1!D52,0) -> 0 | C34: =IF(C32=Feuil1!$A$6,Feuil1!$D$6,0)+IF(C32=Feuil1!$A$7,Feuil1!$D$7,0)+IF(C32=Feuil1!$A$8,Feuil1!$D$8,0)+IF(C32=Feuil1!$A$9,Feuil1!$D$9,0)+IF(C32=Feuil1!$A$10,Feuil1!$D$10,0)+IF(C32=Feuil1!$A$11,Feuil1!$D$11,0)+IF(C32=Feuil1!$A$12,Feuil1!$D$12,0)+IF(C32=Feuil1!$A$13,Feuil1!$D$13,0)+IF(C32=Feuil1!$A$14,Feuil1!$D$14,0)+IF(C32=Feuil1!$A$15,Feuil1!$D$15,0)+IF(C32=Feuil1!$A$16,Feuil1!$D$16,0)+IF(C32=Feuil1!$A$17,Feuil1!$D$17,0)+IF(C32=Feuil1!$A$18,Feuil1!$D$18,0)+IF(C32=Feuil1!$A$19,Feuil1!$D$19,0)+IF(C32=Feuil1!$A$20,Feuil1!$D$20,0)+IF(C32=Feuil1!$A$21,Feuil1!$D$21,0)+IF(C32=Feuil1!$A$22,Feuil1!$D$22,0)+IF(C32=Feuil1!$A$23,Feuil1!$D$23,0)+IF(C32=Feuil1!$A$24,Feuil1!$D$25,0)+IF(C32=Feuil1!$A$26,Feuil1!$D$26,0)+IF(C32=Feuil1!$A$27,Feuil1!$D$27,0)+IF(C32=Feuil1!$A$28,Feuil1!$D$28,0)+IF(C32=Feuil1!$A$29,Feuil1!$D$29,0)+IF(C32=Feuil1!$A$30,Feuil1!$D$30,0)+IF(C32=Feuil1!$A$31,Feuil1!$D$31,0)+IF(C32=Feuil1!$A$32,Feuil1!$D$32,0)+IF(C32=Feuil1!$A$33,Feuil1!$D$33,0)+IF(C32=Feuil1!$A$34,Feuil1!$D$34,0)+IF(C32=Feuil1!$A$35,Feuil1!$D$35,0)+IF(C32=Feuil1!$A$36,Feuil1!$D$36,0)+IF(C32=Feuil1!$A$37,Feuil1!$D$37,0)+IF(C32=Feuil1!$A$38,Feuil1!$D$38,0)+IF(C32=Feuil1!B52,Feuil1!E52,0) -> 0.3125 | D34: =IF(D32=Feuil1!$A$6,Feuil1!$D$6,0)+IF(D32=Feuil1!$A$7,Feuil1!$D$7,0)+IF(D32=Feuil1!$A$8,Feuil1!$D$8,0)+IF(D32=Feuil1!$A$9,Feuil1!$D$9,0)+IF(D32=Feuil1!$A$10,Feuil1!$D$10,0)+IF(D32=Feuil1!$A$11,Feuil1!$D$11,0)+IF(D32=Feuil1!$A$12,Feuil1!$D$12,0)+IF(D32=Feuil1!$A$13,Feuil1!$D$13,0)+IF(D32=Feuil1!$A$14,Feuil1!$D$14,0)+IF(D32=Feuil1!$A$15,Feuil1!$D$15,0)+IF(D32=Feuil1!$A$16,Feuil1!$D$16,0)+IF(D32=Feuil1!$A$17,Feuil1!$D$17,0)+IF(D32=Feuil1!$A$18,Feuil1!$D$18,0)+IF(D32=Feuil1!$A$19,Feuil1!$D$19,0)+IF(D32=Feuil1!$A$20,Feuil1!$D$20,0)+IF(D32=Feuil1!$A$21,Feuil1!$D$21,0)+IF(D32=Feuil1!$A$22,Feuil1!$D$22,0)+IF(D32=Feuil1!$A$23,Feuil1!$D$23,0)+IF(D32=Feuil1!$A$24,Feuil1!$D$25,0)+IF(D32=Feuil1!$A$26,Feuil1!$D$26,0)+IF(D32=Feuil1!$A$27,Feuil1!$D$27,0)+IF(D32=Feuil1!$A$28,Feuil1!$D$28,0)+IF(D32=Feuil1!$A$29,Feuil1!$D$29,0)+IF(D32=Feuil1!$A$30,Feuil1!$D$30,0)+IF(D32=Feuil1!$A$31,Feuil1!$D$31,0)+IF(D32=Feuil1!$A$32,Feuil1!$D$32,0)+IF(D32=Feuil1!$A$33,Feuil1!$D$33,0)+IF(D32=Feuil1!$A$34,Feuil1!$D$34,0)+IF(D32=Feuil1!$A$35,Feuil1!$D$35,0)+IF(D32=Feuil1!$A$36,Feuil1!$D$36,0)+IF(D32=Feuil1!$A$37,Feuil1!$D$37,0)+IF(D32=Feuil1!$A$38,Feuil1!$D$38,0)+IF(D32=Feuil1!C52,Feuil1!F52,0) -> 0.3125 | E34: =IF(E32=Feuil1!$A$6,Feuil1!$D$6,0)+IF(E32=Feuil1!$A$7,Feuil1!$D$7,0)+IF(E32=Feuil1!$A$8,Feuil1!$D$8,0)+IF(E32=Feuil1!$A$9,Feuil1!$D$9,0)+IF(E32=Feuil1!$A$10,Feuil1!$D$10,0)+IF(E32=Feuil1!$A$11,Feuil1!$D$11,0)+IF(E32=Feuil1!$A$12,Feuil1!$D$12,0)+IF(E32=Feuil1!$A$13,Feuil1!$D$13,0)+IF(E32=Feuil1!$A$14,Feuil1!$D$14,0)+IF(E32=Feuil1!$A$15,Feuil1!$D$15,0)+IF(E32=Feuil1!$A$16,Feuil1!$D$16,0)+IF(E32=Feuil1!$A$17,Feuil1!$D$17,0)+IF(E32=Feuil1!$A$18,Feuil1!$D$18,0)+IF(E32=Feuil1!$A$19,Feuil1!$D$19,0)+IF(E32=Feuil1!$A$20,Feuil1!$D$20,0)+IF(E32=Feuil1!$A$21,Feuil1!$D$21,0)+IF(E32=Feuil1!$A$22,Feuil1!$D$22,0)+IF(E32=Feuil1!$A$23,Feuil1!$D$23,0)+IF(E32=Feuil1!$A$24,Feuil1!$D$25,0)+IF(E32=Feuil1!$A$26,Feuil1!$D$26,0)+IF(E32=Feuil1!$A$27,Feuil1!$D$27,0)+IF(E32=Feuil1!$A$28,Feuil1!$D$28,0)+IF(E32=Feuil1!$A$29,Feuil1!$D$29,0)+IF(E32=Feuil1!$A$30,Feuil1!$D$30,0)+IF(E32=Feuil1!$A$31,Feuil1!$D$31,0)+IF(E32=Feuil1!$A$32,Feuil1!$D$32,0)+IF(E32=Feuil1!$A$33,Feuil1!$D$33,0)+IF(E32=Feuil1!$A$34,Feuil1!$D$34,0)+IF(E32=Feuil1!$A$35,Feuil1!$D$35,0)+IF(E32=Feuil1!$A$36,Feuil1!$D$36,0)+IF(E32=Feuil1!$A$37,Feuil1!$D$37,0)+IF(E32=Feuil1!$A$38,Feuil1!$D$38,0)+IF(E32=Feuil1!D52,Feuil1!G52,0) -> 0 | F34: =IF(F32=Feuil1!$A$6,Feuil1!$D$6,0)+IF(F32=Feuil1!$A$7,Feuil1!$D$7,0)+IF(F32=Feuil1!$A$8,Feuil1!$D$8,0)+IF(F32=Feuil1!$A$9,Feuil1!$D$9,0)+IF(F32=Feuil1!$A$10,Feuil1!$D$10,0)+IF(F32=Feuil1!$A$11,Feuil1!$D$11,0)+IF(F32=Feuil1!$A$12,Feuil1!$D$12,0)+IF(F32=Feuil1!$A$13,Feuil1!$D$13,0)+IF(F32=Feuil1!$A$14,Feuil1!$D$14,0)+IF(F32=Feuil1!$A$15,Feuil1!$D$15,0)+IF(F32=Feuil1!$A$16,Feuil1!$D$16,0)+IF(F32=Feuil1!$A$17,Feuil1!$D$17,0)+IF(F32=Feuil1!$A$18,Feuil1!$D$18,0)+IF(F32=Feuil1!$A$19,Feuil1!$D$19,0)+IF(F32=Feuil1!$A$20,Feuil1!$D$20,0)+IF(F32=Feuil1!$A$21,Feuil1!$D$21,0)+IF(F32=Feuil1!$A$22,Feuil1!$D$22,0)+IF(F32=Feuil1!$A$23,Feuil1!$D$23,0)+IF(F32=Feuil1!$A$24,Feuil1!$D$25,0)+IF(F32=Feuil1!$A$26,Feuil1!$D$26,0)+IF(F32=Feuil1!$A$27,Feuil1!$D$27,0)+IF(F32=Feuil1!$A$28,Feuil1!$D$28,0)+IF(F32=Feuil1!$A$29,Feuil1!$D$29,0)+IF(F32=Feuil1!$A$30,Feuil1!$D$30,0)+IF(F32=Feuil1!$A$31,Feuil1!$D$31,0)+IF(F32=Feuil1!$A$32,Feuil1!$D$32,0)+IF(F32=Feuil1!$A$33,Feuil1!$D$33,0)+IF(F32=Feuil1!$A$34,Feuil1!$D$34,0)+IF(F32=Feuil1!$A$35,Feuil1!$D$35,0)+IF(F32=Feuil1!$A$36,Feuil1!$D$36,0)+IF(F32=Feuil1!$A$37,Feuil1!$D$37,0)+IF(F32=Feuil1!$A$38,Feuil1!$D$38,0)+IF(F32=Feuil1!E52,Feuil1!H52,0) -> 0.3125 | G34: =IF(G32=Feuil1!$A$6,Feuil1!$D$6,0)+IF(G32=Feuil1!$A$7,Feuil1!$D$7,0)+IF(G32=Feuil1!$A$8,Feuil1!$D$8,0)+IF(G32=Feuil1!$A$9,Feuil1!$D$9,0)+IF(G32=Feuil1!$A$10,Feuil1!$D$10,0)+IF(G32=Feuil1!$A$11,Feuil1!$D$11,0)+IF(G32=Feuil1!$A$12,Feuil1!$D$12,0)+IF(G32=Feuil1!$A$13,Feuil1!$D$13,0)+IF(G32=Feuil1!$A$14,Feuil1!$D$14,0)+IF(G32=Feuil1!$A$15,Feuil1!$D$15,0)+IF(G32=Feuil1!$A$16,Feuil1!$D$16,0)+IF(G32=Feuil1!$A$17,Feuil1!$D$17,0)+IF(G32=Feuil1!$A$18,Feuil1!$D$18,0)+IF(G32=Feuil1!$A$19,Feuil1!$D$19,0)+IF(G32=Feuil1!$A$20,Feuil1!$D$20,0)+IF(G32=Feuil1!$A$21,Feuil1!$D$21,0)+IF(G32=Feuil1!$A$22,Feuil1!$D$22,0)+IF(G32=Feuil1!$A$23,Feuil1!$D$23,0)+IF(G32=Feuil1!$A$24,Feuil1!$D$25,0)+IF(G32=Feuil1!$A$26,Feuil1!$D$26,0)+IF(G32=Feuil1!$A$27,Feuil1!$D$27,0)+IF(G32=Feuil1!$A$28,Feuil1!$D$28,0)+IF(G32=Feuil1!$A$29,Feuil1!$D$29,0)+IF(G32=Feuil1!$A$30,Feuil1!$D$30,0)+IF(G32=Feuil1!$A$31,Feuil1!$D$31,0)+IF(G32=Feuil1!$A$32,Feuil1!$D$32,0)+IF(G32=Feuil1!$A$33,Feuil1!$D$33,0)+IF(G32=Feuil1!$A$34,Feuil1!$D$34,0)+IF(G32=Feuil1!$A$35,Feuil1!$D$35,0)+IF(G32=Feuil1!$A$36,Feuil1!$D$36,0)+IF(G32=Feuil1!$A$37,Feuil1!$D$37,0)+IF(G32=Feuil1!$A$38,Feuil1!$D$38,0)+IF(G32=Feuil1!F52,Feuil1!I52,0) -> 0 | H34: =IF(H32=Feuil1!$A$6,Feuil1!$D$6,0)+IF(H32=Feuil1!$A$7,Feuil1!$D$7,0)+IF(H32=Feuil1!$A$8,Feuil1!$D$8,0)+IF(H32=Feuil1!$A$9,Feuil1!$D$9,0)+IF(H32=Feuil1!$A$10,Feuil1!$D$10,0)+IF(H32=Feuil1!$A$11,Feuil1!$D$11,0)+IF(H32=Feuil1!$A$12,Feuil1!$D$12,0)+IF(H32=Feuil1!$A$13,Feuil1!$D$13,0)+IF(H32=Feuil1!$A$14,Feuil1!$D$14,0)+IF(H32=Feuil1!$A$15,Feuil1!$D$15,0)+IF(H32=Feuil1!$A$16,Feuil1!$D$16,0)+IF(H32=Feuil1!$A$17,Feuil1!$D$17,0)+IF(H32=Feuil1!$A$18,Feuil1!$D$18,0)+IF(H32=Feuil1!$A$19,Feuil1!$D$19,0)+IF(H32=Feuil1!$A$20,Feuil1!$D$20,0)+IF(H32=Feuil1!$A$21,Feuil1!$D$21,0)+IF(H32=Feuil1!$A$22,Feuil1!$D$22,0)+IF(H32=Feuil1!$A$23,Feuil1!$D$23,0)+IF(H32=Feuil1!$A$24,Feuil1!$D$25,0)+IF(H32=Feuil1!$A$26,Feuil1!$D$26,0)+IF(H32=Feuil1!$A$27,Feuil1!$D$27,0)+IF(H32=Feuil1!$A$28,Feuil1!$D$28,0)+IF(H32=Feuil1!$A$29,Feuil1!$D$29,0)+IF(H32=Feuil1!$A$30,Feuil1!$D$30,0)+IF(H32=Feuil1!$A$31,Feuil1!$D$31,0)+IF(H32=Feuil1!$A$32,Feuil1!$D$32,0)+IF(H32=Feuil1!$A$33,Feuil1!$D$33,0)+IF(H32=Feuil1!$A$34,Feuil1!$D$34,0)+IF(H32=Feuil1!$A$35,Feuil1!$D$35,0)+IF(H32=Feuil1!$A$36,Feuil1!$D$36,0)+IF(H32=Feuil1!$A$37,Feuil1!$D$37,0)+IF(H32=Feuil1!$A$38,Feuil1!$D$38,0)+IF(H32=Feuil1!G52,Feuil1!J52,0) -> 0 | I34: =IF(I32=Feuil1!$A$6,Feuil1!$D$6,0)+IF(I32=Feuil1!$A$7,Feuil1!$D$7,0)+IF(I32=Feuil1!$A$8,Feuil1!$D$8,0)+IF(I32=Feuil1!$A$9,Feuil1!$D$9,0)+IF(I32=Feuil1!$A$10,Feuil1!$D$10,0)+IF(I32=Feuil1!$A$11,Feuil1!$D$11,0)+IF(I32=Feuil1!$A$12,Feuil1!$D$12,0)+IF(I32=Feuil1!$A$13,Feuil1!$D$13,0)+IF(I32=Feuil1!$A$14,Feuil1!$D$14,0)+IF(I32=Feuil1!$A$15,Feuil1!$D$15,0)+IF(I32=Feuil1!$A$16,Feuil1!$D$16,0)+IF(I32=Feuil1!$A$17,Feuil1!$D$17,0)+IF(I32=Feuil1!$A$18,Feuil1!$D$18,0)+IF(I32=Feuil1!$A$19,Feuil1!$D$19,0)+IF(I32=Feuil1!$A$20,Feuil1!$D$20,0)+IF(I32=Feuil1!$A$21,Feuil1!$D$21,0)+IF(I32=Feuil1!$A$22,Feuil1!$D$22,0)+IF(I32=Feuil1!$A$23,Feuil1!$D$23,0)+IF(I32=Feuil1!$A$24,Feuil1!$D$25,0)+IF(I32=Feuil1!$A$26,Feuil1!$D$26,0)+IF(I32=Feuil1!$A$27,Feuil1!$D$27,0)+IF(I32=Feuil1!$A$28,Feuil1!$D$28,0)+IF(I32=Feuil1!$A$29,Feuil1!$D$29,0)+IF(I32=Feuil1!$A$30,Feuil1!$D$30,0)+IF(I32=Feuil1!$A$31,Feuil1!$D$31,0)+IF(I32=Feuil1!$A$32,Feuil1!$D$32,0)+IF(I32=Feuil1!$A$33,Feuil1!$D$33,0)+IF(I32=Feuil1!$A$34,Feuil1!$D$34,0)+IF(I32=Feuil1!$A$35,Feuil1!$D$35,0)+IF(I32=Feuil1!$A$36,Feuil1!$D$36,0)+IF(I32=Feuil1!$A$37,Feuil1!$D$37,0)+IF(I32=Feuil1!$A$38,Feuil1!$D$38,0)+IF(I32=Feuil1!H52,Feuil1!K52,0) -> 0.3125 | ... AF34: =IF(AF32=Feuil1!$A$6,Feuil1!$D$6,0)+IF(AF32=Feuil1!$A$7,Feuil1!$D$7,0)+IF(AF32=Feuil1!$A$8,Feuil1!$D$8,0)+IF(AF32=Feuil1!$A$9,Feuil1!$D$9,0)+IF(AF32=Feuil1!$A$10,Feuil1!$D$10,0)+IF(AF32=Feuil1!$A$11,Feuil1!$D$11,0)+IF(AF32=Feuil1!$A$12,Feuil1!$D$12,0)+IF(AF32=Feuil1!$A$13,Feuil1!$D$13,0)+IF(AF32=Feuil1!$A$14,Feuil1!$D$14,0)+IF(AF32=Feuil1!$A$15,Feuil1!$D$15,0)+IF(AF32=Feuil1!$A$16,Feuil1!$D$16,0)+IF(AF32=Feuil1!$A$17,Feuil1!$D$17,0)+IF(AF32=Feuil1!$A$18,Feuil1!$D$18,0)+IF(AF32=Feuil1!$A$19,Feuil1!$D$19,0)+IF(AF32=Feuil1!$A$20,Feuil1!$D$20,0)+IF(AF32=Feuil1!$A$21,Feuil1!$D$21,0)+IF(AF32=Feuil1!$A$22,Feuil1!$D$22,0)+IF(AF32=Feuil1!$A$23,Feuil1!$D$23,0)+IF(AF32=Feuil1!$A$24,Feuil1!$D$25,0)+IF(AF32=Feuil1!$A$26,Feuil1!$D$26,0)+IF(AF32=Feuil1!$A$27,Feuil1!$D$27,0)+IF(AF32=Feuil1!$A$28,Feuil1!$D$28,0)+IF(AF32=Feuil1!$A$29,Feuil1!$D$29,0)+IF(AF32=Feuil1!$A$30,Feuil1!$D$30,0)+IF(AF32=Feuil1!$A$31,Feuil1!$D$31,0)+IF(AF32=Feuil1!$A$32,Feuil1!$D$32,0)+IF(AF32=Feuil1!$A$33,Feuil1!$D$33,0)+IF(AF32=Feuil1!$A$34,Feuil1!$D$34,0)+IF(AF32=Feuil1!$A$35,Feuil1!$D$35,0)+IF(AF32=Feuil1!$A$36,Feuil1!$D$36,0)+IF(AF32=Feuil1!$A$37,Feuil1!$D$37,0)+IF(AF32=Feuil1!$A$38,Feuil1!$D$38,0)+IF(AF32=Feuil1!AE52,Feuil1!AH52,0) -> 0.3125
A35: =A32+1 -> 11 | B35: S3 | C35: SFJ | D35: FJ | E35: FJ | F35: R | G35: FJ | H35: SFJ | I35: R | J35: FORM | K35: FORM | L35: FORM | M35: FJ | N35: R | O35: R | P35: N2 | Q35: N2 | R35: R | S35: R | T35: N2 | U35: N2 | V35: N2 | W35: R | X35: R | Y35: FJ | Z35: BF | AA35: SFJ | AB35: R | AC35: R | AD35: CA | AE35: PASA | AF35: FJ | AG35: =SUM(B36:AF36) -> 4 | AH35: =SUM(B37:AF37) -> 5.8541667 | AI35: PBMG : 8H - 13H
A36: =A33+1 -> 10 | B36: =IF(B35=Feuil1!$A$15,1)+IF(B35=Feuil1!$A$16,1)+IF(B35=Feuil1!$A$17,1)+IF(B35=Feuil1!$A$18,1)+IF(B35=Feuil1!$A$19,1)+IF(B35=Feuil1!$A$20,1)+IF(B35=Feuil1!$A$31,1)+IF(B35=Feuil1!$A$32,1)+IF(B35=Feuil1!$A$33,1)+IF(B35=Feuil1!$A$34,1) -> 1 | C36: =IF(C35=Feuil1!$A$15,1)+IF(C35=Feuil1!$A$16,1)+IF(C35=Feuil1!$A$17,1)+IF(C35=Feuil1!$A$18,1)+IF(C35=Feuil1!$A$19,1)+IF(C35=Feuil1!$A$20,1)+IF(C35=Feuil1!$A$31,1)+IF(C35=Feuil1!$A$32,1)+IF(C35=Feuil1!$A$33,1)+IF(C35=Feuil1!$A$34,1) -> 1 | D36: =IF(D35=Feuil1!$A$15,1)+IF(D35=Feuil1!$A$16,1)+IF(D35=Feuil1!$A$17,1)+IF(D35=Feuil1!$A$18,1)+IF(D35=Feuil1!$A$19,1)+IF(D35=Feuil1!$A$20,1)+IF(D35=Feuil1!$A$31,1)+IF(D35=Feuil1!$A$32,1)+IF(D35=Feuil1!$A$33,1)+IF(D35=Feuil1!$A$34,1) -> 0 | E36: =IF(E35=Feuil1!$A$15,1)+IF(E35=Feuil1!$A$16,1)+IF(E35=Feuil1!$A$17,1)+IF(E35=Feuil1!$A$18,1)+IF(E35=Feuil1!$A$19,1)+IF(E35=Feuil1!$A$20,1)+IF(E35=Feuil1!$A$31,1)+IF(E35=Feuil1!$A$32,1)+IF(E35=Feuil1!$A$33,1)+IF(E35=Feuil1!$A$34,1) -> 0 | F36: =IF(F35=Feuil1!$A$15,1)+IF(F35=Feuil1!$A$16,1)+IF(F35=Feuil1!$A$17,1)+IF(F35=Feuil1!$A$18,1)+IF(F35=Feuil1!$A$19,1)+IF(F35=Feuil1!$A$20,1)+IF(F35=Feuil1!$A$31,1)+IF(F35=Feuil1!$A$32,1)+IF(F35=Feuil1!$A$33,1)+IF(F35=Feuil1!$A$34,1) -> 0 | G36: =IF(G35=Feuil1!$A$15,1)+IF(G35=Feuil1!$A$16,1)+IF(G35=Feuil1!$A$17,1)+IF(G35=Feuil1!$A$18,1)+IF(G35=Feuil1!$A$19,1)+IF(G35=Feuil1!$A$20,1)+IF(G35=Feuil1!$A$31,1)+IF(G35=Feuil1!$A$32,1)+IF(G35=Feuil1!$A$33,1)+IF(G35=Feuil1!$A$34,1) -> 0 | H36: =IF(H35=Feuil1!$A$15,1)+IF(H35=Feuil1!$A$16,1)+IF(H35=Feuil1!$A$17,1)+IF(H35=Feuil1!$A$18,1)+IF(H35=Feuil1!$A$19,1)+IF(H35=Feuil1!$A$20,1)+IF(H35=Feuil1!$A$31,1)+IF(H35=Feuil1!$A$32,1)+IF(H35=Feuil1!$A$33,1)+IF(H35=Feuil1!$A$34,1) -> 1 | I36: =IF(I35=Feuil1!$A$15,1)+IF(I35=Feuil1!$A$16,1)+IF(I35=Feuil1!$A$17,1)+IF(I35=Feuil1!$A$18,1)+IF(I35=Feuil1!$A$19,1)+IF(I35=Feuil1!$A$20,1)+IF(I35=Feuil1!$A$31,1)+IF(I35=Feuil1!$A$32,1)+IF(I35=Feuil1!$A$33,1)+IF(I35=Feuil1!$A$34,1) -> 0 | ... AF36: =IF(AF35=Feuil1!$A$15,1)+IF(AF35=Feuil1!$A$16,1)+IF(AF35=Feuil1!$A$17,1)+IF(AF35=Feuil1!$A$18,1)+IF(AF35=Feuil1!$A$19,1)+IF(AF35=Feuil1!$A$20,1)+IF(AF35=Feuil1!$A$31,1)+IF(AF35=Feuil1!$A$32,1)+IF(AF35=Feuil1!$A$33,1)+IF(AF35=Feuil1!$A$34,1) -> 0
A37: =A34+1 -> 10 | B37: =IF(B35=Feuil1!$A$6,Feuil1!$D$6,0)+IF(B35=Feuil1!$A$7,Feuil1!$D$7,0)+IF(B35=Feuil1!$A$8,Feuil1!$D$8,0)+IF(B35=Feuil1!$A$9,Feuil1!$D$9,0)+IF(B35=Feuil1!$A$10,Feuil1!$D$10,0)+IF(B35=Feuil1!$A$11,Feuil1!$D$11,0)+IF(B35=Feuil1!$A$12,Feuil1!$D$12,0)+IF(B35=Feuil1!$A$13,Feuil1!$D$13,0)+IF(B35=Feuil1!$A$14,Feuil1!$D$14,0)+IF(B35=Feuil1!$A$15,Feuil1!$D$15,0)+IF(B35=Feuil1!$A$16,Feuil1!$D$16,0)+IF(B35=Feuil1!$A$17,Feuil1!$D$17,0)+IF(B35=Feuil1!$A$18,Feuil1!$D$18,0)+IF(B35=Feuil1!$A$19,Feuil1!$D$19,0)+IF(B35=Feuil1!$A$20,Feuil1!$D$20,0)+IF(B35=Feuil1!$A$21,Feuil1!$D$21,0)+IF(B35=Feuil1!$A$22,Feuil1!$D$22,0)+IF(B35=Feuil1!$A$23,Feuil1!$D$23,0)+IF(B35=Feuil1!$A$24,Feuil1!$D$25,0)+IF(B35=Feuil1!$A$26,Feuil1!$D$26,0)+IF(B35=Feuil1!$A$27,Feuil1!$D$27,0)+IF(B35=Feuil1!$A$28,Feuil1!$D$28,0)+IF(B35=Feuil1!$A$29,Feuil1!$D$29,0)+IF(B35=Feuil1!$A$30,Feuil1!$D$30,0)+IF(B35=Feuil1!$A$31,Feuil1!$D$31,0)+IF(B35=Feuil1!$A$32,Feuil1!$D$32,0)+IF(B35=Feuil1!$A$33,Feuil1!$D$33,0)+IF(B35=Feuil1!$A$34,Feuil1!$D$34,0)+IF(B35=Feuil1!$A$35,Feuil1!$D$35,0)+IF(B35=Feuil1!$A$36,Feuil1!$D$36,0)+IF(B35=Feuil1!$A$37,Feuil1!$D$37,0)+IF(B35=Feuil1!$A$38,Feuil1!$D$38,0)+IF(B35=Feuil1!A55,Feuil1!D55,0) -> 0.3125 | C37: =IF(C35=Feuil1!$A$6,Feuil1!$D$6,0)+IF(C35=Feuil1!$A$7,Feuil1!$D$7,0)+IF(C35=Feuil1!$A$8,Feuil1!$D$8,0)+IF(C35=Feuil1!$A$9,Feuil1!$D$9,0)+IF(C35=Feuil1!$A$10,Feuil1!$D$10,0)+IF(C35=Feuil1!$A$11,Feuil1!$D$11,0)+IF(C35=Feuil1!$A$12,Feuil1!$D$12,0)+IF(C35=Feuil1!$A$13,Feuil1!$D$13,0)+IF(C35=Feuil1!$A$14,Feuil1!$D$14,0)+IF(C35=Feuil1!$A$15,Feuil1!$D$15,0)+IF(C35=Feuil1!$A$16,Feuil1!$D$16,0)+IF(C35=Feuil1!$A$17,Feuil1!$D$17,0)+IF(C35=Feuil1!$A$18,Feuil1!$D$18,0)+IF(C35=Feuil1!$A$19,Feuil1!$D$19,0)+IF(C35=Feuil1!$A$20,Feuil1!$D$20,0)+IF(C35=Feuil1!$A$21,Feuil1!$D$21,0)+IF(C35=Feuil1!$A$22,Feuil1!$D$22,0)+IF(C35=Feuil1!$A$23,Feuil1!$D$23,0)+IF(C35=Feuil1!$A$24,Feuil1!$D$25,0)+IF(C35=Feuil1!$A$26,Feuil1!$D$26,0)+IF(C35=Feuil1!$A$27,Feuil1!$D$27,0)+IF(C35=Feuil1!$A$28,Feuil1!$D$28,0)+IF(C35=Feuil1!$A$29,Feuil1!$D$29,0)+IF(C35=Feuil1!$A$30,Feuil1!$D$30,0)+IF(C35=Feuil1!$A$31,Feuil1!$D$31,0)+IF(C35=Feuil1!$A$32,Feuil1!$D$32,0)+IF(C35=Feuil1!$A$33,Feuil1!$D$33,0)+IF(C35=Feuil1!$A$34,Feuil1!$D$34,0)+IF(C35=Feuil1!$A$35,Feuil1!$D$35,0)+IF(C35=Feuil1!$A$36,Feuil1!$D$36,0)+IF(C35=Feuil1!$A$37,Feuil1!$D$37,0)+IF(C35=Feuil1!$A$38,Feuil1!$D$38,0)+IF(C35=Feuil1!B55,Feuil1!E55,0) -> 0.3125 | D37: =IF(D35=Feuil1!$A$6,Feuil1!$D$6,0)+IF(D35=Feuil1!$A$7,Feuil1!$D$7,0)+IF(D35=Feuil1!$A$8,Feuil1!$D$8,0)+IF(D35=Feuil1!$A$9,Feuil1!$D$9,0)+IF(D35=Feuil1!$A$10,Feuil1!$D$10,0)+IF(D35=Feuil1!$A$11,Feuil1!$D$11,0)+IF(D35=Feuil1!$A$12,Feuil1!$D$12,0)+IF(D35=Feuil1!$A$13,Feuil1!$D$13,0)+IF(D35=Feuil1!$A$14,Feuil1!$D$14,0)+IF(D35=Feuil1!$A$15,Feuil1!$D$15,0)+IF(D35=Feuil1!$A$16,Feuil1!$D$16,0)+IF(D35=Feuil1!$A$17,Feuil1!$D$17,0)+IF(D35=Feuil1!$A$18,Feuil1!$D$18,0)+IF(D35=Feuil1!$A$19,Feuil1!$D$19,0)+IF(D35=Feuil1!$A$20,Feuil1!$D$20,0)+IF(D35=Feuil1!$A$21,Feuil1!$D$21,0)+IF(D35=Feuil1!$A$22,Feuil1!$D$22,0)+IF(D35=Feuil1!$A$23,Feuil1!$D$23,0)+IF(D35=Feuil1!$A$24,Feuil1!$D$25,0)+IF(D35=Feuil1!$A$26,Feuil1!$D$26,0)+IF(D35=Feuil1!$A$27,Feuil1!$D$27,0)+IF(D35=Feuil1!$A$28,Feuil1!$D$28,0)+IF(D35=Feuil1!$A$29,Feuil1!$D$29,0)+IF(D35=Feuil1!$A$30,Feuil1!$D$30,0)+IF(D35=Feuil1!$A$31,Feuil1!$D$31,0)+IF(D35=Feuil1!$A$32,Feuil1!$D$32,0)+IF(D35=Feuil1!$A$33,Feuil1!$D$33,0)+IF(D35=Feuil1!$A$34,Feuil1!$D$34,0)+IF(D35=Feuil1!$A$35,Feuil1!$D$35,0)+IF(D35=Feuil1!$A$36,Feuil1!$D$36,0)+IF(D35=Feuil1!$A$37,Feuil1!$D$37,0)+IF(D35=Feuil1!$A$38,Feuil1!$D$38,0)+IF(D35=Feuil1!C55,Feuil1!F55,0) -> 0.3125 | E37: =IF(E35=Feuil1!$A$6,Feuil1!$D$6,0)+IF(E35=Feuil1!$A$7,Feuil1!$D$7,0)+IF(E35=Feuil1!$A$8,Feuil1!$D$8,0)+IF(E35=Feuil1!$A$9,Feuil1!$D$9,0)+IF(E35=Feuil1!$A$10,Feuil1!$D$10,0)+IF(E35=Feuil1!$A$11,Feuil1!$D$11,0)+IF(E35=Feuil1!$A$12,Feuil1!$D$12,0)+IF(E35=Feuil1!$A$13,Feuil1!$D$13,0)+IF(E35=Feuil1!$A$14,Feuil1!$D$14,0)+IF(E35=Feuil1!$A$15,Feuil1!$D$15,0)+IF(E35=Feuil1!$A$16,Feuil1!$D$16,0)+IF(E35=Feuil1!$A$17,Feuil1!$D$17,0)+IF(E35=Feuil1!$A$18,Feuil1!$D$18,0)+IF(E35=Feuil1!$A$19,Feuil1!$D$19,0)+IF(E35=Feuil1!$A$20,Feuil1!$D$20,0)+IF(E35=Feuil1!$A$21,Feuil1!$D$21,0)+IF(E35=Feuil1!$A$22,Feuil1!$D$22,0)+IF(E35=Feuil1!$A$23,Feuil1!$D$23,0)+IF(E35=Feuil1!$A$24,Feuil1!$D$25,0)+IF(E35=Feuil1!$A$26,Feuil1!$D$26,0)+IF(E35=Feuil1!$A$27,Feuil1!$D$27,0)+IF(E35=Feuil1!$A$28,Feuil1!$D$28,0)+IF(E35=Feuil1!$A$29,Feuil1!$D$29,0)+IF(E35=Feuil1!$A$30,Feuil1!$D$30,0)+IF(E35=Feuil1!$A$31,Feuil1!$D$31,0)+IF(E35=Feuil1!$A$32,Feuil1!$D$32,0)+IF(E35=Feuil1!$A$33,Feuil1!$D$33,0)+IF(E35=Feuil1!$A$34,Feuil1!$D$34,0)+IF(E35=Feuil1!$A$35,Feuil1!$D$35,0)+IF(E35=Feuil1!$A$36,Feuil1!$D$36,0)+IF(E35=Feuil1!$A$37,Feuil1!$D$37,0)+IF(E35=Feuil1!$A$38,Feuil1!$D$38,0)+IF(E35=Feuil1!D55,Feuil1!G55,0) -> 0.3125 | F37: =IF(F35=Feuil1!$A$6,Feuil1!$D$6,0)+IF(F35=Feuil1!$A$7,Feuil1!$D$7,0)+IF(F35=Feuil1!$A$8,Feuil1!$D$8,0)+IF(F35=Feuil1!$A$9,Feuil1!$D$9,0)+IF(F35=Feuil1!$A$10,Feuil1!$D$10,0)+IF(F35=Feuil1!$A$11,Feuil1!$D$11,0)+IF(F35=Feuil1!$A$12,Feuil1!$D$12,0)+IF(F35=Feuil1!$A$13,Feuil1!$D$13,0)+IF(F35=Feuil1!$A$14,Feuil1!$D$14,0)+IF(F35=Feuil1!$A$15,Feuil1!$D$15,0)+IF(F35=Feuil1!$A$16,Feuil1!$D$16,0)+IF(F35=Feuil1!$A$17,Feuil1!$D$17,0)+IF(F35=Feuil1!$A$18,Feuil1!$D$18,0)+IF(F35=Feuil1!$A$19,Feuil1!$D$19,0)+IF(F35=Feuil1!$A$20,Feuil1!$D$20,0)+IF(F35=Feuil1!$A$21,Feuil1!$D$21,0)+IF(F35=Feuil1!$A$22,Feuil1!$D$22,0)+IF(F35=Feuil1!$A$23,Feuil1!$D$23,0)+IF(F35=Feuil1!$A$24,Feuil1!$D$25,0)+IF(F35=Feuil1!$A$26,Feuil1!$D$26,0)+IF(F35=Feuil1!$A$27,Feuil1!$D$27,0)+IF(F35=Feuil1!$A$28,Feuil1!$D$28,0)+IF(F35=Feuil1!$A$29,Feuil1!$D$29,0)+IF(F35=Feuil1!$A$30,Feuil1!$D$30,0)+IF(F35=Feuil1!$A$31,Feuil1!$D$31,0)+IF(F35=Feuil1!$A$32,Feuil1!$D$32,0)+IF(F35=Feuil1!$A$33,Feuil1!$D$33,0)+IF(F35=Feuil1!$A$34,Feuil1!$D$34,0)+IF(F35=Feuil1!$A$35,Feuil1!$D$35,0)+IF(F35=Feuil1!$A$36,Feuil1!$D$36,0)+IF(F35=Feuil1!$A$37,Feuil1!$D$37,0)+IF(F35=Feuil1!$A$38,Feuil1!$D$38,0)+IF(F35=Feuil1!E55,Feuil1!H55,0) -> 0 | G37: =IF(G35=Feuil1!$A$6,Feuil1!$D$6,0)+IF(G35=Feuil1!$A$7,Feuil1!$D$7,0)+IF(G35=Feuil1!$A$8,Feuil1!$D$8,0)+IF(G35=Feuil1!$A$9,Feuil1!$D$9,0)+IF(G35=Feuil1!$A$10,Feuil1!$D$10,0)+IF(G35=Feuil1!$A$11,Feuil1!$D$11,0)+IF(G35=Feuil1!$A$12,Feuil1!$D$12,0)+IF(G35=Feuil1!$A$13,Feuil1!$D$13,0)+IF(G35=Feuil1!$A$14,Feuil1!$D$14,0)+IF(G35=Feuil1!$A$15,Feuil1!$D$15,0)+IF(G35=Feuil1!$A$16,Feuil1!$D$16,0)+IF(G35=Feuil1!$A$17,Feuil1!$D$17,0)+IF(G35=Feuil1!$A$18,Feuil1!$D$18,0)+IF(G35=Feuil1!$A$19,Feuil1!$D$19,0)+IF(G35=Feuil1!$A$20,Feuil1!$D$20,0)+IF(G35=Feuil1!$A$21,Feuil1!$D$21,0)+IF(G35=Feuil1!$A$22,Feuil1!$D$22,0)+IF(G35=Feuil1!$A$23,Feuil1!$D$23,0)+IF(G35=Feuil1!$A$24,Feuil1!$D$25,0)+IF(G35=Feuil1!$A$26,Feuil1!$D$26,0)+IF(G35=Feuil1!$A$27,Feuil1!$D$27,0)+IF(G35=Feuil1!$A$28,Feuil1!$D$28,0)+IF(G35=Feuil1!$A$29,Feuil1!$D$29,0)+IF(G35=Feuil1!$A$30,Feuil1!$D$30,0)+IF(G35=Feuil1!$A$31,Feuil1!$D$31,0)+IF(G35=Feuil1!$A$32,Feuil1!$D$32,0)+IF(G35=Feuil1!$A$33,Feuil1!$D$33,0)+IF(G35=Feuil1!$A$34,Feuil1!$D$34,0)+IF(G35=Feuil1!$A$35,Feuil1!$D$35,0)+IF(G35=Feuil1!$A$36,Feuil1!$D$36,0)+IF(G35=Feuil1!$A$37,Feuil1!$D$37,0)+IF(G35=Feuil1!$A$38,Feuil1!$D$38,0)+IF(G35=Feuil1!F55,Feuil1!I55,0) -> 0.3125 | H37: =IF(H35=Feuil1!$A$6,Feuil1!$D$6,0)+IF(H35=Feuil1!$A$7,Feuil1!$D$7,0)+IF(H35=Feuil1!$A$8,Feuil1!$D$8,0)+IF(H35=Feuil1!$A$9,Feuil1!$D$9,0)+IF(H35=Feuil1!$A$10,Feuil1!$D$10,0)+IF(H35=Feuil1!$A$11,Feuil1!$D$11,0)+IF(H35=Feuil1!$A$12,Feuil1!$D$12,0)+IF(H35=Feuil1!$A$13,Feuil1!$D$13,0)+IF(H35=Feuil1!$A$14,Feuil1!$D$14,0)+IF(H35=Feuil1!$A$15,Feuil1!$D$15,0)+IF(H35=Feuil1!$A$16,Feuil1!$D$16,0)+IF(H35=Feuil1!$A$17,Feuil1!$D$17,0)+IF(H35=Feuil1!$A$18,Feuil1!$D$18,0)+IF(H35=Feuil1!$A$19,Feuil1!$D$19,0)+IF(H35=Feuil1!$A$20,Feuil1!$D$20,0)+IF(H35=Feuil1!$A$21,Feuil1!$D$21,0)+IF(H35=Feuil1!$A$22,Feuil1!$D$22,0)+IF(H35=Feuil1!$A$23,Feuil1!$D$23,0)+IF(H35=Feuil1!$A$24,Feuil1!$D$25,0)+IF(H35=Feuil1!$A$26,Feuil1!$D$26,0)+IF(H35=Feuil1!$A$27,Feuil1!$D$27,0)+IF(H35=Feuil1!$A$28,Feuil1!$D$28,0)+IF(H35=Feuil1!$A$29,Feuil1!$D$29,0)+IF(H35=Feuil1!$A$30,Feuil1!$D$30,0)+IF(H35=Feuil1!$A$31,Feuil1!$D$31,0)+IF(H35=Feuil1!$A$32,Feuil1!$D$32,0)+IF(H35=Feuil1!$A$33,Feuil1!$D$33,0)+IF(H35=Feuil1!$A$34,Feuil1!$D$34,0)+IF(H35=Feuil1!$A$35,Feuil1!$D$35,0)+IF(H35=Feuil1!$A$36,Feuil1!$D$36,0)+IF(H35=Feuil1!$A$37,Feuil1!$D$37,0)+IF(H35=Feuil1!$A$38,Feuil1!$D$38,0)+IF(H35=Feuil1!G55,Feuil1!J55,0) -> 0.3125 | I37: =IF(I35=Feuil1!$A$6,Feuil1!$D$6,0)+IF(I35=Feuil1!$A$7,Feuil1!$D$7,0)+IF(I35=Feuil1!$A$8,Feuil1!$D$8,0)+IF(I35=Feuil1!$A$9,Feuil1!$D$9,0)+IF(I35=Feuil1!$A$10,Feuil1!$D$10,0)+IF(I35=Feuil1!$A$11,Feuil1!$D$11,0)+IF(I35=Feuil1!$A$12,Feuil1!$D$12,0)+IF(I35=Feuil1!$A$13,Feuil1!$D$13,0)+IF(I35=Feuil1!$A$14,Feuil1!$D$14,0)+IF(I35=Feuil1!$A$15,Feuil1!$D$15,0)+IF(I35=Feuil1!$A$16,Feuil1!$D$16,0)+IF(I35=Feuil1!$A$17,Feuil1!$D$17,0)+IF(I35=Feuil1!$A$18,Feuil1!$D$18,0)+IF(I35=Feuil1!$A$19,Feuil1!$D$19,0)+IF(I35=Feuil1!$A$20,Feuil1!$D$20,0)+IF(I35=Feuil1!$A$21,Feuil1!$D$21,0)+IF(I35=Feuil1!$A$22,Feuil1!$D$22,0)+IF(I35=Feuil1!$A$23,Feuil1!$D$23,0)+IF(I35=Feuil1!$A$24,Feuil1!$D$25,0)+IF(I35=Feuil1!$A$26,Feuil1!$D$26,0)+IF(I35=Feuil1!$A$27,Feuil1!$D$27,0)+IF(I35=Feuil1!$A$28,Feuil1!$D$28,0)+IF(I35=Feuil1!$A$29,Feuil1!$D$29,0)+IF(I35=Feuil1!$A$30,Feuil1!$D$30,0)+IF(I35=Feuil1!$A$31,Feuil1!$D$31,0)+IF(I35=Feuil1!$A$32,Feuil1!$D$32,0)+IF(I35=Feuil1!$A$33,Feuil1!$D$33,0)+IF(I35=Feuil1!$A$34,Feuil1!$D$34,0)+IF(I35=Feuil1!$A$35,Feuil1!$D$35,0)+IF(I35=Feuil1!$A$36,Feuil1!$D$36,0)+IF(I35=Feuil1!$A$37,Feuil1!$D$37,0)+IF(I35=Feuil1!$A$38,Feuil1!$D$38,0)+IF(I35=Feuil1!H55,Feuil1!K55,0) -> 0 | ... AF37: =IF(AF35=Feuil1!$A$6,Feuil1!$D$6,0)+IF(AF35=Feuil1!$A$7,Feuil1!$D$7,0)+IF(AF35=Feuil1!$A$8,Feuil1!$D$8,0)+IF(AF35=Feuil1!$A$9,Feuil1!$D$9,0)+IF(AF35=Feuil1!$A$10,Feuil1!$D$10,0)+IF(AF35=Feuil1!$A$11,Feuil1!$D$11,0)+IF(AF35=Feuil1!$A$12,Feuil1!$D$12,0)+IF(AF35=Feuil1!$A$13,Feuil1!$D$13,0)+IF(AF35=Feuil1!$A$14,Feuil1!$D$14,0)+IF(AF35=Feuil1!$A$15,Feuil1!$D$15,0)+IF(AF35=Feuil1!$A$16,Feuil1!$D$16,0)+IF(AF35=Feuil1!$A$17,Feuil1!$D$17,0)+IF(AF35=Feuil1!$A$18,Feuil1!$D$18,0)+IF(AF35=Feuil1!$A$19,Feuil1!$D$19,0)+IF(AF35=Feuil1!$A$20,Feuil1!$D$20,0)+IF(AF35=Feuil1!$A$21,Feuil1!$D$21,0)+IF(AF35=Feuil1!$A$22,Feuil1!$D$22,0)+IF(AF35=Feuil1!$A$23,Feuil1!$D$23,0)+IF(AF35=Feuil1!$A$24,Feuil1!$D$25,0)+IF(AF35=Feuil1!$A$26,Feuil1!$D$26,0)+IF(AF35=Feuil1!$A$27,Feuil1!$D$27,0)+IF(AF35=Feuil1!$A$28,Feuil1!$D$28,0)+IF(AF35=Feuil1!$A$29,Feuil1!$D$29,0)+IF(AF35=Feuil1!$A$30,Feuil1!$D$30,0)+IF(AF35=Feuil1!$A$31,Feuil1!$D$31,0)+IF(AF35=Feuil1!$A$32,Feuil1!$D$32,0)+IF(AF35=Feuil1!$A$33,Feuil1!$D$33,0)+IF(AF35=Feuil1!$A$34,Feuil1!$D$34,0)+IF(AF35=Feuil1!$A$35,Feuil1!$D$35,0)+IF(AF35=Feuil1!$A$36,Feuil1!$D$36,0)+IF(AF35=Feuil1!$A$37,Feuil1!$D$37,0)+IF(AF35=Feuil1!$A$38,Feuil1!$D$38,0)+IF(AF35=Feuil1!AE55,Feuil1!AH55,0) -> 0.3125
A38: =A35+1 -> 12 | B38: FC | C38: VB3 | D38: R | E38: VB3 | F38: S2 | G38: R | H38: R | I38: CA | J38: CA | K38: RTT | L38: R | M38: RTT | N38: RTT | O38: RTT | P38: R | Q38: RTT | R38: RTT | S38: RTT | T38: RTT | U38: R | V38: R | W38: BF | X38: PASA | Y38: SFJ | Z38: S3 | AA38: R | AB38: BF | AC38: BF | AD38: PASA | AE38: R | AF38: RTT | AG38: =SUM(B39:AF39) -> 3 | AH38: =SUM(B40:AF40) -> 3.2708333 | AI38: SMG : 14H - 21H
A39: =A36+1 -> 11 | B39: =IF(B38=Feuil1!$A$15,1)+IF(B38=Feuil1!$A$16,1)+IF(B38=Feuil1!$A$17,1)+IF(B38=Feuil1!$A$18,1)+IF(B38=Feuil1!$A$19,1)+IF(B38=Feuil1!$A$20,1)+IF(B38=Feuil1!$A$31,1)+IF(B38=Feuil1!$A$32,1)+IF(B38=Feuil1!$A$33,1)+IF(B38=Feuil1!$A$34,1) -> 0 | C39: =IF(C38=Feuil1!$A$15,1)+IF(C38=Feuil1!$A$16,1)+IF(C38=Feuil1!$A$17,1)+IF(C38=Feuil1!$A$18,1)+IF(C38=Feuil1!$A$19,1)+IF(C38=Feuil1!$A$20,1)+IF(C38=Feuil1!$A$31,1)+IF(C38=Feuil1!$A$32,1)+IF(C38=Feuil1!$A$33,1)+IF(C38=Feuil1!$A$34,1) -> 0 | D39: =IF(D38=Feuil1!$A$15,1)+IF(D38=Feuil1!$A$16,1)+IF(D38=Feuil1!$A$17,1)+IF(D38=Feuil1!$A$18,1)+IF(D38=Feuil1!$A$19,1)+IF(D38=Feuil1!$A$20,1)+IF(D38=Feuil1!$A$31,1)+IF(D38=Feuil1!$A$32,1)+IF(D38=Feuil1!$A$33,1)+IF(D38=Feuil1!$A$34,1) -> 0 | E39: =IF(E38=Feuil1!$A$15,1)+IF(E38=Feuil1!$A$16,1)+IF(E38=Feuil1!$A$17,1)+IF(E38=Feuil1!$A$18,1)+IF(E38=Feuil1!$A$19,1)+IF(E38=Feuil1!$A$20,1)+IF(E38=Feuil1!$A$31,1)+IF(E38=Feuil1!$A$32,1)+IF(E38=Feuil1!$A$33,1)+IF(E38=Feuil1!$A$34,1) -> 0 | F39: =IF(F38=Feuil1!$A$15,1)+IF(F38=Feuil1!$A$16,1)+IF(F38=Feuil1!$A$17,1)+IF(F38=Feuil1!$A$18,1)+IF(F38=Feuil1!$A$19,1)+IF(F38=Feuil1!$A$20,1)+IF(F38=Feuil1!$A$31,1)+IF(F38=Feuil1!$A$32,1)+IF(F38=Feuil1!$A$33,1)+IF(F38=Feuil1!$A$34,1) -> 1 | G39: =IF(G38=Feuil1!$A$15,1)+IF(G38=Feuil1!$A$16,1)+IF(G38=Feuil1!$A$17,1)+IF(G38=Feuil1!$A$18,1)+IF(G38=Feuil1!$A$19,1)+IF(G38=Feuil1!$A$20,1)+IF(G38=Feuil1!$A$31,1)+IF(G38=Feuil1!$A$32,1)+IF(G38=Feuil1!$A$33,1)+IF(G38=Feuil1!$A$34,1) -> 0 | H39: =IF(H38=Feuil1!$A$15,1)+IF(H38=Feuil1!$A$16,1)+IF(H38=Feuil1!$A$17,1)+IF(H38=Feuil1!$A$18,1)+IF(H38=Feuil1!$A$19,1)+IF(H38=Feuil1!$A$20,1)+IF(H38=Feuil1!$A$31,1)+IF(H38=Feuil1!$A$32,1)+IF(H38=Feuil1!$A$33,1)+IF(H38=Feuil1!$A$34,1) -> 0 | I39: =IF(I38=Feuil1!$A$15,1)+IF(I38=Feuil1!$A$16,1)+IF(I38=Feuil1!$A$17,1)+IF(I38=Feuil1!$A$18,1)+IF(I38=Feuil1!$A$19,1)+IF(I38=Feuil1!$A$20,1)+IF(I38=Feuil1!$A$31,1)+IF(I38=Feuil1!$A$32,1)+IF(I38=Feuil1!$A$33,1)+IF(I38=Feuil1!$A$34,1) -> 0 | ... AF39: =IF(AF38=Feuil1!$A$15,1)+IF(AF38=Feuil1!$A$16,1)+IF(AF38=Feuil1!$A$17,1)+IF(AF38=Feuil1!$A$18,1)+IF(AF38=Feuil1!$A$19,1)+IF(AF38=Feuil1!$A$20,1)+IF(AF38=Feuil1!$A$31,1)+IF(AF38=Feuil1!$A$32,1)+IF(AF38=Feuil1!$A$33,1)+IF(AF38=Feuil1!$A$34,1) -> 0
A40: =A37+1 -> 11 | B40: =IF(B38=Feuil1!$A$6,Feuil1!$D$6,0)+IF(B38=Feuil1!$A$7,Feuil1!$D$7,0)+IF(B38=Feuil1!$A$8,Feuil1!$D$8,0)+IF(B38=Feuil1!$A$9,Feuil1!$D$9,0)+IF(B38=Feuil1!$A$10,Feuil1!$D$10,0)+IF(B38=Feuil1!$A$11,Feuil1!$D$11,0)+IF(B38=Feuil1!$A$12,Feuil1!$D$12,0)+IF(B38=Feuil1!$A$13,Feuil1!$D$13,0)+IF(B38=Feuil1!$A$14,Feuil1!$D$14,0)+IF(B38=Feuil1!$A$15,Feuil1!$D$15,0)+IF(B38=Feuil1!$A$16,Feuil1!$D$16,0)+IF(B38=Feuil1!$A$17,Feuil1!$D$17,0)+IF(B38=Feuil1!$A$18,Feuil1!$D$18,0)+IF(B38=Feuil1!$A$19,Feuil1!$D$19,0)+IF(B38=Feuil1!$A$20,Feuil1!$D$20,0)+IF(B38=Feuil1!$A$21,Feuil1!$D$21,0)+IF(B38=Feuil1!$A$22,Feuil1!$D$22,0)+IF(B38=Feuil1!$A$23,Feuil1!$D$23,0)+IF(B38=Feuil1!$A$24,Feuil1!$D$25,0)+IF(B38=Feuil1!$A$26,Feuil1!$D$26,0)+IF(B38=Feuil1!$A$27,Feuil1!$D$27,0)+IF(B38=Feuil1!$A$28,Feuil1!$D$28,0)+IF(B38=Feuil1!$A$29,Feuil1!$D$29,0)+IF(B38=Feuil1!$A$30,Feuil1!$D$30,0)+IF(B38=Feuil1!$A$31,Feuil1!$D$31,0)+IF(B38=Feuil1!$A$32,Feuil1!$D$32,0)+IF(B38=Feuil1!$A$33,Feuil1!$D$33,0)+IF(B38=Feuil1!$A$34,Feuil1!$D$34,0)+IF(B38=Feuil1!$A$35,Feuil1!$D$35,0)+IF(B38=Feuil1!$A$36,Feuil1!$D$36,0)+IF(B38=Feuil1!$A$37,Feuil1!$D$37,0)+IF(B38=Feuil1!$A$38,Feuil1!$D$38,0)+IF(B38=Feuil1!A58,Feuil1!D58,0) -> 0.3125 | C40: =IF(C38=Feuil1!$A$6,Feuil1!$D$6,0)+IF(C38=Feuil1!$A$7,Feuil1!$D$7,0)+IF(C38=Feuil1!$A$8,Feuil1!$D$8,0)+IF(C38=Feuil1!$A$9,Feuil1!$D$9,0)+IF(C38=Feuil1!$A$10,Feuil1!$D$10,0)+IF(C38=Feuil1!$A$11,Feuil1!$D$11,0)+IF(C38=Feuil1!$A$12,Feuil1!$D$12,0)+IF(C38=Feuil1!$A$13,Feuil1!$D$13,0)+IF(C38=Feuil1!$A$14,Feuil1!$D$14,0)+IF(C38=Feuil1!$A$15,Feuil1!$D$15,0)+IF(C38=Feuil1!$A$16,Feuil1!$D$16,0)+IF(C38=Feuil1!$A$17,Feuil1!$D$17,0)+IF(C38=Feuil1!$A$18,Feuil1!$D$18,0)+IF(C38=Feuil1!$A$19,Feuil1!$D$19,0)+IF(C38=Feuil1!$A$20,Feuil1!$D$20,0)+IF(C38=Feuil1!$A$21,Feuil1!$D$21,0)+IF(C38=Feuil1!$A$22,Feuil1!$D$22,0)+IF(C38=Feuil1!$A$23,Feuil1!$D$23,0)+IF(C38=Feuil1!$A$24,Feuil1!$D$25,0)+IF(C38=Feuil1!$A$26,Feuil1!$D$26,0)+IF(C38=Feuil1!$A$27,Feuil1!$D$27,0)+IF(C38=Feuil1!$A$28,Feuil1!$D$28,0)+IF(C38=Feuil1!$A$29,Feuil1!$D$29,0)+IF(C38=Feuil1!$A$30,Feuil1!$D$30,0)+IF(C38=Feuil1!$A$31,Feuil1!$D$31,0)+IF(C38=Feuil1!$A$32,Feuil1!$D$32,0)+IF(C38=Feuil1!$A$33,Feuil1!$D$33,0)+IF(C38=Feuil1!$A$34,Feuil1!$D$34,0)+IF(C38=Feuil1!$A$35,Feuil1!$D$35,0)+IF(C38=Feuil1!$A$36,Feuil1!$D$36,0)+IF(C38=Feuil1!$A$37,Feuil1!$D$37,0)+IF(C38=Feuil1!$A$38,Feuil1!$D$38,0)+IF(C38=Feuil1!B58,Feuil1!E58,0) -> 0.20833333 | D40: =IF(D38=Feuil1!$A$6,Feuil1!$D$6,0)+IF(D38=Feuil1!$A$7,Feuil1!$D$7,0)+IF(D38=Feuil1!$A$8,Feuil1!$D$8,0)+IF(D38=Feuil1!$A$9,Feuil1!$D$9,0)+IF(D38=Feuil1!$A$10,Feuil1!$D$10,0)+IF(D38=Feuil1!$A$11,Feuil1!$D$11,0)+IF(D38=Feuil1!$A$12,Feuil1!$D$12,0)+IF(D38=Feuil1!$A$13,Feuil1!$D$13,0)+IF(D38=Feuil1!$A$14,Feuil1!$D$14,0)+IF(D38=Feuil1!$A$15,Feuil1!$D$15,0)+IF(D38=Feuil1!$A$16,Feuil1!$D$16,0)+IF(D38=Feuil1!$A$17,Feuil1!$D$17,0)+IF(D38=Feuil1!$A$18,Feuil1!$D$18,0)+IF(D38=Feuil1!$A$19,Feuil1!$D$19,0)+IF(D38=Feuil1!$A$20,Feuil1!$D$20,0)+IF(D38=Feuil1!$A$21,Feuil1!$D$21,0)+IF(D38=Feuil1!$A$22,Feuil1!$D$22,0)+IF(D38=Feuil1!$A$23,Feuil1!$D$23,0)+IF(D38=Feuil1!$A$24,Feuil1!$D$25,0)+IF(D38=Feuil1!$A$26,Feuil1!$D$26,0)+IF(D38=Feuil1!$A$27,Feuil1!$D$27,0)+IF(D38=Feuil1!$A$28,Feuil1!$D$28,0)+IF(D38=Feuil1!$A$29,Feuil1!$D$29,0)+IF(D38=Feuil1!$A$30,Feuil1!$D$30,0)+IF(D38=Feuil1!$A$31,Feuil1!$D$31,0)+IF(D38=Feuil1!$A$32,Feuil1!$D$32,0)+IF(D38=Feuil1!$A$33,Feuil1!$D$33,0)+IF(D38=Feuil1!$A$34,Feuil1!$D$34,0)+IF(D38=Feuil1!$A$35,Feuil1!$D$35,0)+IF(D38=Feuil1!$A$36,Feuil1!$D$36,0)+IF(D38=Feuil1!$A$37,Feuil1!$D$37,0)+IF(D38=Feuil1!$A$38,Feuil1!$D$38,0)+IF(D38=Feuil1!C58,Feuil1!F58,0) -> 0 | E40: =IF(E38=Feuil1!$A$6,Feuil1!$D$6,0)+IF(E38=Feuil1!$A$7,Feuil1!$D$7,0)+IF(E38=Feuil1!$A$8,Feuil1!$D$8,0)+IF(E38=Feuil1!$A$9,Feuil1!$D$9,0)+IF(E38=Feuil1!$A$10,Feuil1!$D$10,0)+IF(E38=Feuil1!$A$11,Feuil1!$D$11,0)+IF(E38=Feuil1!$A$12,Feuil1!$D$12,0)+IF(E38=Feuil1!$A$13,Feuil1!$D$13,0)+IF(E38=Feuil1!$A$14,Feuil1!$D$14,0)+IF(E38=Feuil1!$A$15,Feuil1!$D$15,0)+IF(E38=Feuil1!$A$16,Feuil1!$D$16,0)+IF(E38=Feuil1!$A$17,Feuil1!$D$17,0)+IF(E38=Feuil1!$A$18,Feuil1!$D$18,0)+IF(E38=Feuil1!$A$19,Feuil1!$D$19,0)+IF(E38=Feuil1!$A$20,Feuil1!$D$20,0)+IF(E38=Feuil1!$A$21,Feuil1!$D$21,0)+IF(E38=Feuil1!$A$22,Feuil1!$D$22,0)+IF(E38=Feuil1!$A$23,Feuil1!$D$23,0)+IF(E38=Feuil1!$A$24,Feuil1!$D$25,0)+IF(E38=Feuil1!$A$26,Feuil1!$D$26,0)+IF(E38=Feuil1!$A$27,Feuil1!$D$27,0)+IF(E38=Feuil1!$A$28,Feuil1!$D$28,0)+IF(E38=Feuil1!$A$29,Feuil1!$D$29,0)+IF(E38=Feuil1!$A$30,Feuil1!$D$30,0)+IF(E38=Feuil1!$A$31,Feuil1!$D$31,0)+IF(E38=Feuil1!$A$32,Feuil1!$D$32,0)+IF(E38=Feuil1!$A$33,Feuil1!$D$33,0)+IF(E38=Feuil1!$A$34,Feuil1!$D$34,0)+IF(E38=Feuil1!$A$35,Feuil1!$D$35,0)+IF(E38=Feuil1!$A$36,Feuil1!$D$36,0)+IF(E38=Feuil1!$A$37,Feuil1!$D$37,0)+IF(E38=Feuil1!$A$38,Feuil1!$D$38,0)+IF(E38=Feuil1!D58,Feuil1!G58,0) -> 0.20833333 | F40: =IF(F38=Feuil1!$A$6,Feuil1!$D$6,0)+IF(F38=Feuil1!$A$7,Feuil1!$D$7,0)+IF(F38=Feuil1!$A$8,Feuil1!$D$8,0)+IF(F38=Feuil1!$A$9,Feuil1!$D$9,0)+IF(F38=Feuil1!$A$10,Feuil1!$D$10,0)+IF(F38=Feuil1!$A$11,Feuil1!$D$11,0)+IF(F38=Feuil1!$A$12,Feuil1!$D$12,0)+IF(F38=Feuil1!$A$13,Feuil1!$D$13,0)+IF(F38=Feuil1!$A$14,Feuil1!$D$14,0)+IF(F38=Feuil1!$A$15,Feuil1!$D$15,0)+IF(F38=Feuil1!$A$16,Feuil1!$D$16,0)+IF(F38=Feuil1!$A$17,Feuil1!$D$17,0)+IF(F38=Feuil1!$A$18,Feuil1!$D$18,0)+IF(F38=Feuil1!$A$19,Feuil1!$D$19,0)+IF(F38=Feuil1!$A$20,Feuil1!$D$20,0)+IF(F38=Feuil1!$A$21,Feuil1!$D$21,0)+IF(F38=Feuil1!$A$22,Feuil1!$D$22,0)+IF(F38=Feuil1!$A$23,Feuil1!$D$23,0)+IF(F38=Feuil1!$A$24,Feuil1!$D$25,0)+IF(F38=Feuil1!$A$26,Feuil1!$D$26,0)+IF(F38=Feuil1!$A$27,Feuil1!$D$27,0)+IF(F38=Feuil1!$A$28,Feuil1!$D$28,0)+IF(F38=Feuil1!$A$29,Feuil1!$D$29,0)+IF(F38=Feuil1!$A$30,Feuil1!$D$30,0)+IF(F38=Feuil1!$A$31,Feuil1!$D$31,0)+IF(F38=Feuil1!$A$32,Feuil1!$D$32,0)+IF(F38=Feuil1!$A$33,Feuil1!$D$33,0)+IF(F38=Feuil1!$A$34,Feuil1!$D$34,0)+IF(F38=Feuil1!$A$35,Feuil1!$D$35,0)+IF(F38=Feuil1!$A$36,Feuil1!$D$36,0)+IF(F38=Feuil1!$A$37,Feuil1!$D$37,0)+IF(F38=Feuil1!$A$38,Feuil1!$D$38,0)+IF(F38=Feuil1!E58,Feuil1!H58,0) -> 0.3125 | G40: =IF(G38=Feuil1!$A$6,Feuil1!$D$6,0)+IF(G38=Feuil1!$A$7,Feuil1!$D$7,0)+IF(G38=Feuil1!$A$8,Feuil1!$D$8,0)+IF(G38=Feuil1!$A$9,Feuil1!$D$9,0)+IF(G38=Feuil1!$A$10,Feuil1!$D$10,0)+IF(G38=Feuil1!$A$11,Feuil1!$D$11,0)+IF(G38=Feuil1!$A$12,Feuil1!$D$12,0)+IF(G38=Feuil1!$A$13,Feuil1!$D$13,0)+IF(G38=Feuil1!$A$14,Feuil1!$D$14,0)+IF(G38=Feuil1!$A$15,Feuil1!$D$15,0)+IF(G38=Feuil1!$A$16,Feuil1!$D$16,0)+IF(G38=Feuil1!$A$17,Feuil1!$D$17,0)+IF(G38=Feuil1!$A$18,Feuil1!$D$18,0)+IF(G38=Feuil1!$A$19,Feuil1!$D$19,0)+IF(G38=Feuil1!$A$20,Feuil1!$D$20,0)+IF(G38=Feuil1!$A$21,Feuil1!$D$21,0)+IF(G38=Feuil1!$A$22,Feuil1!$D$22,0)+IF(G38=Feuil1!$A$23,Feuil1!$D$23,0)+IF(G38=Feuil1!$A$24,Feuil1!$D$25,0)+IF(G38=Feuil1!$A$26,Feuil1!$D$26,0)+IF(G38=Feuil1!$A$27,Feuil1!$D$27,0)+IF(G38=Feuil1!$A$28,Feuil1!$D$28,0)+IF(G38=Feuil1!$A$29,Feuil1!$D$29,0)+IF(G38=Feuil1!$A$30,Feuil1!$D$30,0)+IF(G38=Feuil1!$A$31,Feuil1!$D$31,0)+IF(G38=Feuil1!$A$32,Feuil1!$D$32,0)+IF(G38=Feuil1!$A$33,Feuil1!$D$33,0)+IF(G38=Feuil1!$A$34,Feuil1!$D$34,0)+IF(G38=Feuil1!$A$35,Feuil1!$D$35,0)+IF(G38=Feuil1!$A$36,Feuil1!$D$36,0)+IF(G38=Feuil1!$A$37,Feuil1!$D$37,0)+IF(G38=Feuil1!$A$38,Feuil1!$D$38,0)+IF(G38=Feuil1!F58,Feuil1!I58,0) -> 0 | H40: =IF(H38=Feuil1!$A$6,Feuil1!$D$6,0)+IF(H38=Feuil1!$A$7,Feuil1!$D$7,0)+IF(H38=Feuil1!$A$8,Feuil1!$D$8,0)+IF(H38=Feuil1!$A$9,Feuil1!$D$9,0)+IF(H38=Feuil1!$A$10,Feuil1!$D$10,0)+IF(H38=Feuil1!$A$11,Feuil1!$D$11,0)+IF(H38=Feuil1!$A$12,Feuil1!$D$12,0)+IF(H38=Feuil1!$A$13,Feuil1!$D$13,0)+IF(H38=Feuil1!$A$14,Feuil1!$D$14,0)+IF(H38=Feuil1!$A$15,Feuil1!$D$15,0)+IF(H38=Feuil1!$A$16,Feuil1!$D$16,0)+IF(H38=Feuil1!$A$17,Feuil1!$D$17,0)+IF(H38=Feuil1!$A$18,Feuil1!$D$18,0)+IF(H38=Feuil1!$A$19,Feuil1!$D$19,0)+IF(H38=Feuil1!$A$20,Feuil1!$D$20,0)+IF(H38=Feuil1!$A$21,Feuil1!$D$21,0)+IF(H38=Feuil1!$A$22,Feuil1!$D$22,0)+IF(H38=Feuil1!$A$23,Feuil1!$D$23,0)+IF(H38=Feuil1!$A$24,Feuil1!$D$25,0)+IF(H38=Feuil1!$A$26,Feuil1!$D$26,0)+IF(H38=Feuil1!$A$27,Feuil1!$D$27,0)+IF(H38=Feuil1!$A$28,Feuil1!$D$28,0)+IF(H38=Feuil1!$A$29,Feuil1!$D$29,0)+IF(H38=Feuil1!$A$30,Feuil1!$D$30,0)+IF(H38=Feuil1!$A$31,Feuil1!$D$31,0)+IF(H38=Feuil1!$A$32,Feuil1!$D$32,0)+IF(H38=Feuil1!$A$33,Feuil1!$D$33,0)+IF(H38=Feuil1!$A$34,Feuil1!$D$34,0)+IF(H38=Feuil1!$A$35,Feuil1!$D$35,0)+IF(H38=Feuil1!$A$36,Feuil1!$D$36,0)+IF(H38=Feuil1!$A$37,Feuil1!$D$37,0)+IF(H38=Feuil1!$A$38,Feuil1!$D$38,0)+IF(H38=Feuil1!G58,Feuil1!J58,0) -> 0 | I40: =IF(I38=Feuil1!$A$6,Feuil1!$D$6,0)+IF(I38=Feuil1!$A$7,Feuil1!$D$7,0)+IF(I38=Feuil1!$A$8,Feuil1!$D$8,0)+IF(I38=Feuil1!$A$9,Feuil1!$D$9,0)+IF(I38=Feuil1!$A$10,Feuil1!$D$10,0)+IF(I38=Feuil1!$A$11,Feuil1!$D$11,0)+IF(I38=Feuil1!$A$12,Feuil1!$D$12,0)+IF(I38=Feuil1!$A$13,Feuil1!$D$13,0)+IF(I38=Feuil1!$A$14,Feuil1!$D$14,0)+IF(I38=Feuil1!$A$15,Feuil1!$D$15,0)+IF(I38=Feuil1!$A$16,Feuil1!$D$16,0)+IF(I38=Feuil1!$A$17,Feuil1!$D$17,0)+IF(I38=Feuil1!$A$18,Feuil1!$D$18,0)+IF(I38=Feuil1!$A$19,Feuil1!$D$19,0)+IF(I38=Feuil1!$A$20,Feuil1!$D$20,0)+IF(I38=Feuil1!$A$21,Feuil1!$D$21,0)+IF(I38=Feuil1!$A$22,Feuil1!$D$22,0)+IF(I38=Feuil1!$A$23,Feuil1!$D$23,0)+IF(I38=Feuil1!$A$24,Feuil1!$D$25,0)+IF(I38=Feuil1!$A$26,Feuil1!$D$26,0)+IF(I38=Feuil1!$A$27,Feuil1!$D$27,0)+IF(I38=Feuil1!$A$28,Feuil1!$D$28,0)+IF(I38=Feuil1!$A$29,Feuil1!$D$29,0)+IF(I38=Feuil1!$A$30,Feuil1!$D$30,0)+IF(I38=Feuil1!$A$31,Feuil1!$D$31,0)+IF(I38=Feuil1!$A$32,Feuil1!$D$32,0)+IF(I38=Feuil1!$A$33,Feuil1!$D$33,0)+IF(I38=Feuil1!$A$34,Feuil1!$D$34,0)+IF(I38=Feuil1!$A$35,Feuil1!$D$35,0)+IF(I38=Feuil1!$A$36,Feuil1!$D$36,0)+IF(I38=Feuil1!$A$37,Feuil1!$D$37,0)+IF(I38=Feuil1!$A$38,Feuil1!$D$38,0)+IF(I38=Feuil1!H58,Feuil1!K58,0) -> 0 | ... AF40: =IF(AF38=Feuil1!$A$6,Feuil1!$D$6,0)+IF(AF38=Feuil1!$A$7,Feuil1!$D$7,0)+IF(AF38=Feuil1!$A$8,Feuil1!$D$8,0)+IF(AF38=Feuil1!$A$9,Feuil1!$D$9,0)+IF(AF38=Feuil1!$A$10,Feuil1!$D$10,0)+IF(AF38=Feuil1!$A$11,Feuil1!$D$11,0)+IF(AF38=Feuil1!$A$12,Feuil1!$D$12,0)+IF(AF38=Feuil1!$A$13,Feuil1!$D$13,0)+IF(AF38=Feuil1!$A$14,Feuil1!$D$14,0)+IF(AF38=Feuil1!$A$15,Feuil1!$D$15,0)+IF(AF38=Feuil1!$A$16,Feuil1!$D$16,0)+IF(AF38=Feuil1!$A$17,Feuil1!$D$17,0)+IF(AF38=Feuil1!$A$18,Feuil1!$D$18,0)+IF(AF38=Feuil1!$A$19,Feuil1!$D$19,0)+IF(AF38=Feuil1!$A$20,Feuil1!$D$20,0)+IF(AF38=Feuil1!$A$21,Feuil1!$D$21,0)+IF(AF38=Feuil1!$A$22,Feuil1!$D$22,0)+IF(AF38=Feuil1!$A$23,Feuil1!$D$23,0)+IF(AF38=Feuil1!$A$24,Feuil1!$D$25,0)+IF(AF38=Feuil1!$A$26,Feuil1!$D$26,0)+IF(AF38=Feuil1!$A$27,Feuil1!$D$27,0)+IF(AF38=Feuil1!$A$28,Feuil1!$D$28,0)+IF(AF38=Feuil1!$A$29,Feuil1!$D$29,0)+IF(AF38=Feuil1!$A$30,Feuil1!$D$30,0)+IF(AF38=Feuil1!$A$31,Feuil1!$D$31,0)+IF(AF38=Feuil1!$A$32,Feuil1!$D$32,0)+IF(AF38=Feuil1!$A$33,Feuil1!$D$33,0)+IF(AF38=Feuil1!$A$34,Feuil1!$D$34,0)+IF(AF38=Feuil1!$A$35,Feuil1!$D$35,0)+IF(AF38=Feuil1!$A$36,Feuil1!$D$36,0)+IF(AF38=Feuil1!$A$37,Feuil1!$D$37,0)+IF(AF38=Feuil1!$A$38,Feuil1!$D$38,0)+IF(AF38=Feuil1!AE58,Feuil1!AH58,0) -> 0
A41: =A38+1 -> 13 | B41: RC | C41: S3 | J41: S3 | N41: SFJ | O41: PB | Q41: RC | Y41: CA | AA41: BF | AB41: R | AC41: R | AG41: =SUM(B42:AF42) -> 3 | AH41: =SUM(B43:AF43) -> 1.5625
A42: =A39+1 -> 12 | B42: =IF(B41=Feuil1!$A$15,1)+IF(B41=Feuil1!$A$16,1)+IF(B41=Feuil1!$A$17,1)+IF(B41=Feuil1!$A$18,1)+IF(B41=Feuil1!$A$19,1)+IF(B41=Feuil1!$A$20,1)+IF(B41=Feuil1!$A$31,1)+IF(B41=Feuil1!$A$32,1)+IF(B41=Feuil1!$A$33,1)+IF(B41=Feuil1!$A$34,1) -> 0 | C42: =IF(C41=Feuil1!$A$15,1)+IF(C41=Feuil1!$A$16,1)+IF(C41=Feuil1!$A$17,1)+IF(C41=Feuil1!$A$18,1)+IF(C41=Feuil1!$A$19,1)+IF(C41=Feuil1!$A$20,1)+IF(C41=Feuil1!$A$31,1)+IF(C41=Feuil1!$A$32,1)+IF(C41=Feuil1!$A$33,1)+IF(C41=Feuil1!$A$34,1) -> 1 | D42: =IF(D41=Feuil1!$A$15,1)+IF(D41=Feuil1!$A$16,1)+IF(D41=Feuil1!$A$17,1)+IF(D41=Feuil1!$A$18,1)+IF(D41=Feuil1!$A$19,1)+IF(D41=Feuil1!$A$20,1)+IF(D41=Feuil1!$A$31,1)+IF(D41=Feuil1!$A$32,1)+IF(D41=Feuil1!$A$33,1)+IF(D41=Feuil1!$A$34,1) -> 0 | E42: =IF(E41=Feuil1!$A$15,1)+IF(E41=Feuil1!$A$16,1)+IF(E41=Feuil1!$A$17,1)+IF(E41=Feuil1!$A$18,1)+IF(E41=Feuil1!$A$19,1)+IF(E41=Feuil1!$A$20,1)+IF(E41=Feuil1!$A$31,1)+IF(E41=Feuil1!$A$32,1)+IF(E41=Feuil1!$A$33,1)+IF(E41=Feuil1!$A$34,1) -> 0 | F42: =IF(F41=Feuil1!$A$15,1)+IF(F41=Feuil1!$A$16,1)+IF(F41=Feuil1!$A$17,1)+IF(F41=Feuil1!$A$18,1)+IF(F41=Feuil1!$A$19,1)+IF(F41=Feuil1!$A$20,1)+IF(F41=Feuil1!$A$31,1)+IF(F41=Feuil1!$A$32,1)+IF(F41=Feuil1!$A$33,1)+IF(F41=Feuil1!$A$34,1) -> 0 | G42: =IF(G41=Feuil1!$A$15,1)+IF(G41=Feuil1!$A$16,1)+IF(G41=Feuil1!$A$17,1)+IF(G41=Feuil1!$A$18,1)+IF(G41=Feuil1!$A$19,1)+IF(G41=Feuil1!$A$20,1)+IF(G41=Feuil1!$A$31,1)+IF(G41=Feuil1!$A$32,1)+IF(G41=Feuil1!$A$33,1)+IF(G41=Feuil1!$A$34,1) -> 0 | H42: =IF(H41=Feuil1!$A$15,1)+IF(H41=Feuil1!$A$16,1)+IF(H41=Feuil1!$A$17,1)+IF(H41=Feuil1!$A$18,1)+IF(H41=Feuil1!$A$19,1)+IF(H41=Feuil1!$A$20,1)+IF(H41=Feuil1!$A$31,1)+IF(H41=Feuil1!$A$32,1)+IF(H41=Feuil1!$A$33,1)+IF(H41=Feuil1!$A$34,1) -> 0 | I42: =IF(I41=Feuil1!$A$15,1)+IF(I41=Feuil1!$A$16,1)+IF(I41=Feuil1!$A$17,1)+IF(I41=Feuil1!$A$18,1)+IF(I41=Feuil1!$A$19,1)+IF(I41=Feuil1!$A$20,1)+IF(I41=Feuil1!$A$31,1)+IF(I41=Feuil1!$A$32,1)+IF(I41=Feuil1!$A$33,1)+IF(I41=Feuil1!$A$34,1) -> 0 | ... AF42: =IF(AF41=Feuil1!$A$15,1)+IF(AF41=Feuil1!$A$16,1)+IF(AF41=Feuil1!$A$17,1)+IF(AF41=Feuil1!$A$18,1)+IF(AF41=Feuil1!$A$19,1)+IF(AF41=Feuil1!$A$20,1)+IF(AF41=Feuil1!$A$31,1)+IF(AF41=Feuil1!$A$32,1)+IF(AF41=Feuil1!$A$33,1)+IF(AF41=Feuil1!$A$34,1) -> 0
A43: =A40+1 -> 12 | B43: =IF(B41=Feuil1!$A$6,Feuil1!$D$6,0)+IF(B41=Feuil1!$A$7,Feuil1!$D$7,0)+IF(B41=Feuil1!$A$8,Feuil1!$D$8,0)+IF(B41=Feuil1!$A$9,Feuil1!$D$9,0)+IF(B41=Feuil1!$A$10,Feuil1!$D$10,0)+IF(B41=Feuil1!$A$11,Feuil1!$D$11,0)+IF(B41=Feuil1!$A$12,Feuil1!$D$12,0)+IF(B41=Feuil1!$A$13,Feuil1!$D$13,0)+IF(B41=Feuil1!$A$14,Feuil1!$D$14,0)+IF(B41=Feuil1!$A$15,Feuil1!$D$15,0)+IF(B41=Feuil1!$A$16,Feuil1!$D$16,0)+IF(B41=Feuil1!$A$17,Feuil1!$D$17,0)+IF(B41=Feuil1!$A$18,Feuil1!$D$18,0)+IF(B41=Feuil1!$A$19,Feuil1!$D$19,0)+IF(B41=Feuil1!$A$20,Feuil1!$D$20,0)+IF(B41=Feuil1!$A$21,Feuil1!$D$21,0)+IF(B41=Feuil1!$A$22,Feuil1!$D$22,0)+IF(B41=Feuil1!$A$23,Feuil1!$D$23,0)+IF(B41=Feuil1!$A$24,Feuil1!$D$25,0)+IF(B41=Feuil1!$A$26,Feuil1!$D$26,0)+IF(B41=Feuil1!$A$27,Feuil1!$D$27,0)+IF(B41=Feuil1!$A$28,Feuil1!$D$28,0)+IF(B41=Feuil1!$A$29,Feuil1!$D$29,0)+IF(B41=Feuil1!$A$30,Feuil1!$D$30,0)+IF(B41=Feuil1!$A$31,Feuil1!$D$31,0)+IF(B41=Feuil1!$A$32,Feuil1!$D$32,0)+IF(B41=Feuil1!$A$33,Feuil1!$D$33,0)+IF(B41=Feuil1!$A$34,Feuil1!$D$34,0)+IF(B41=Feuil1!$A$35,Feuil1!$D$35,0)+IF(B41=Feuil1!$A$36,Feuil1!$D$36,0)+IF(B41=Feuil1!$A$37,Feuil1!$D$37,0)+IF(B41=Feuil1!$A$38,Feuil1!$D$38,0)+IF(B41=Feuil1!A61,Feuil1!D61,0) -> 0 | C43: =IF(C41=Feuil1!$A$6,Feuil1!$D$6,0)+IF(C41=Feuil1!$A$7,Feuil1!$D$7,0)+IF(C41=Feuil1!$A$8,Feuil1!$D$8,0)+IF(C41=Feuil1!$A$9,Feuil1!$D$9,0)+IF(C41=Feuil1!$A$10,Feuil1!$D$10,0)+IF(C41=Feuil1!$A$11,Feuil1!$D$11,0)+IF(C41=Feuil1!$A$12,Feuil1!$D$12,0)+IF(C41=Feuil1!$A$13,Feuil1!$D$13,0)+IF(C41=Feuil1!$A$14,Feuil1!$D$14,0)+IF(C41=Feuil1!$A$15,Feuil1!$D$15,0)+IF(C41=Feuil1!$A$16,Feuil1!$D$16,0)+IF(C41=Feuil1!$A$17,Feuil1!$D$17,0)+IF(C41=Feuil1!$A$18,Feuil1!$D$18,0)+IF(C41=Feuil1!$A$19,Feuil1!$D$19,0)+IF(C41=Feuil1!$A$20,Feuil1!$D$20,0)+IF(C41=Feuil1!$A$21,Feuil1!$D$21,0)+IF(C41=Feuil1!$A$22,Feuil1!$D$22,0)+IF(C41=Feuil1!$A$23,Feuil1!$D$23,0)+IF(C41=Feuil1!$A$24,Feuil1!$D$25,0)+IF(C41=Feuil1!$A$26,Feuil1!$D$26,0)+IF(C41=Feuil1!$A$27,Feuil1!$D$27,0)+IF(C41=Feuil1!$A$28,Feuil1!$D$28,0)+IF(C41=Feuil1!$A$29,Feuil1!$D$29,0)+IF(C41=Feuil1!$A$30,Feuil1!$D$30,0)+IF(C41=Feuil1!$A$31,Feuil1!$D$31,0)+IF(C41=Feuil1!$A$32,Feuil1!$D$32,0)+IF(C41=Feuil1!$A$33,Feuil1!$D$33,0)+IF(C41=Feuil1!$A$34,Feuil1!$D$34,0)+IF(C41=Feuil1!$A$35,Feuil1!$D$35,0)+IF(C41=Feuil1!$A$36,Feuil1!$D$36,0)+IF(C41=Feuil1!$A$37,Feuil1!$D$37,0)+IF(C41=Feuil1!$A$38,Feuil1!$D$38,0)+IF(C41=Feuil1!B61,Feuil1!E61,0) -> 0.3125 | D43: =IF(D41=Feuil1!$A$6,Feuil1!$D$6,0)+IF(D41=Feuil1!$A$7,Feuil1!$D$7,0)+IF(D41=Feuil1!$A$8,Feuil1!$D$8,0)+IF(D41=Feuil1!$A$9,Feuil1!$D$9,0)+IF(D41=Feuil1!$A$10,Feuil1!$D$10,0)+IF(D41=Feuil1!$A$11,Feuil1!$D$11,0)+IF(D41=Feuil1!$A$12,Feuil1!$D$12,0)+IF(D41=Feuil1!$A$13,Feuil1!$D$13,0)+IF(D41=Feuil1!$A$14,Feuil1!$D$14,0)+IF(D41=Feuil1!$A$15,Feuil1!$D$15,0)+IF(D41=Feuil1!$A$16,Feuil1!$D$16,0)+IF(D41=Feuil1!$A$17,Feuil1!$D$17,0)+IF(D41=Feuil1!$A$18,Feuil1!$D$18,0)+IF(D41=Feuil1!$A$19,Feuil1!$D$19,0)+IF(D41=Feuil1!$A$20,Feuil1!$D$20,0)+IF(D41=Feuil1!$A$21,Feuil1!$D$21,0)+IF(D41=Feuil1!$A$22,Feuil1!$D$22,0)+IF(D41=Feuil1!$A$23,Feuil1!$D$23,0)+IF(D41=Feuil1!$A$24,Feuil1!$D$25,0)+IF(D41=Feuil1!$A$26,Feuil1!$D$26,0)+IF(D41=Feuil1!$A$27,Feuil1!$D$27,0)+IF(D41=Feuil1!$A$28,Feuil1!$D$28,0)+IF(D41=Feuil1!$A$29,Feuil1!$D$29,0)+IF(D41=Feuil1!$A$30,Feuil1!$D$30,0)+IF(D41=Feuil1!$A$31,Feuil1!$D$31,0)+IF(D41=Feuil1!$A$32,Feuil1!$D$32,0)+IF(D41=Feuil1!$A$33,Feuil1!$D$33,0)+IF(D41=Feuil1!$A$34,Feuil1!$D$34,0)+IF(D41=Feuil1!$A$35,Feuil1!$D$35,0)+IF(D41=Feuil1!$A$36,Feuil1!$D$36,0)+IF(D41=Feuil1!$A$37,Feuil1!$D$37,0)+IF(D41=Feuil1!$A$38,Feuil1!$D$38,0)+IF(D41=Feuil1!C61,Feuil1!F61,0) -> 0 | E43: =IF(E41=Feuil1!$A$6,Feuil1!$D$6,0)+IF(E41=Feuil1!$A$7,Feuil1!$D$7,0)+IF(E41=Feuil1!$A$8,Feuil1!$D$8,0)+IF(E41=Feuil1!$A$9,Feuil1!$D$9,0)+IF(E41=Feuil1!$A$10,Feuil1!$D$10,0)+IF(E41=Feuil1!$A$11,Feuil1!$D$11,0)+IF(E41=Feuil1!$A$12,Feuil1!$D$12,0)+IF(E41=Feuil1!$A$13,Feuil1!$D$13,0)+IF(E41=Feuil1!$A$14,Feuil1!$D$14,0)+IF(E41=Feuil1!$A$15,Feuil1!$D$15,0)+IF(E41=Feuil1!$A$16,Feuil1!$D$16,0)+IF(E41=Feuil1!$A$17,Feuil1!$D$17,0)+IF(E41=Feuil1!$A$18,Feuil1!$D$18,0)+IF(E41=Feuil1!$A$19,Feuil1!$D$19,0)+IF(E41=Feuil1!$A$20,Feuil1!$D$20,0)+IF(E41=Feuil1!$A$21,Feuil1!$D$21,0)+IF(E41=Feuil1!$A$22,Feuil1!$D$22,0)+IF(E41=Feuil1!$A$23,Feuil1!$D$23,0)+IF(E41=Feuil1!$A$24,Feuil1!$D$25,0)+IF(E41=Feuil1!$A$26,Feuil1!$D$26,0)+IF(E41=Feuil1!$A$27,Feuil1!$D$27,0)+IF(E41=Feuil1!$A$28,Feuil1!$D$28,0)+IF(E41=Feuil1!$A$29,Feuil1!$D$29,0)+IF(E41=Feuil1!$A$30,Feuil1!$D$30,0)+IF(E41=Feuil1!$A$31,Feuil1!$D$31,0)+IF(E41=Feuil1!$A$32,Feuil1!$D$32,0)+IF(E41=Feuil1!$A$33,Feuil1!$D$33,0)+IF(E41=Feuil1!$A$34,Feuil1!$D$34,0)+IF(E41=Feuil1!$A$35,Feuil1!$D$35,0)+IF(E41=Feuil1!$A$36,Feuil1!$D$36,0)+IF(E41=Feuil1!$A$37,Feuil1!$D$37,0)+IF(E41=Feuil1!$A$38,Feuil1!$D$38,0)+IF(E41=Feuil1!D61,Feuil1!G61,0) -> 0 | F43: =IF(F41=Feuil1!$A$6,Feuil1!$D$6,0)+IF(F41=Feuil1!$A$7,Feuil1!$D$7,0)+IF(F41=Feuil1!$A$8,Feuil1!$D$8,0)+IF(F41=Feuil1!$A$9,Feuil1!$D$9,0)+IF(F41=Feuil1!$A$10,Feuil1!$D$10,0)+IF(F41=Feuil1!$A$11,Feuil1!$D$11,0)+IF(F41=Feuil1!$A$12,Feuil1!$D$12,0)+IF(F41=Feuil1!$A$13,Feuil1!$D$13,0)+IF(F41=Feuil1!$A$14,Feuil1!$D$14,0)+IF(F41=Feuil1!$A$15,Feuil1!$D$15,0)+IF(F41=Feuil1!$A$16,Feuil1!$D$16,0)+IF(F41=Feuil1!$A$17,Feuil1!$D$17,0)+IF(F41=Feuil1!$A$18,Feuil1!$D$18,0)+IF(F41=Feuil1!$A$19,Feuil1!$D$19,0)+IF(F41=Feuil1!$A$20,Feuil1!$D$20,0)+IF(F41=Feuil1!$A$21,Feuil1!$D$21,0)+IF(F41=Feuil1!$A$22,Feuil1!$D$22,0)+IF(F41=Feuil1!$A$23,Feuil1!$D$23,0)+IF(F41=Feuil1!$A$24,Feuil1!$D$25,0)+IF(F41=Feuil1!$A$26,Feuil1!$D$26,0)+IF(F41=Feuil1!$A$27,Feuil1!$D$27,0)+IF(F41=Feuil1!$A$28,Feuil1!$D$28,0)+IF(F41=Feuil1!$A$29,Feuil1!$D$29,0)+IF(F41=Feuil1!$A$30,Feuil1!$D$30,0)+IF(F41=Feuil1!$A$31,Feuil1!$D$31,0)+IF(F41=Feuil1!$A$32,Feuil1!$D$32,0)+IF(F41=Feuil1!$A$33,Feuil1!$D$33,0)+IF(F41=Feuil1!$A$34,Feuil1!$D$34,0)+IF(F41=Feuil1!$A$35,Feuil1!$D$35,0)+IF(F41=Feuil1!$A$36,Feuil1!$D$36,0)+IF(F41=Feuil1!$A$37,Feuil1!$D$37,0)+IF(F41=Feuil1!$A$38,Feuil1!$D$38,0)+IF(F41=Feuil1!E61,Feuil1!H61,0) -> 0 | G43: =IF(G41=Feuil1!$A$6,Feuil1!$D$6,0)+IF(G41=Feuil1!$A$7,Feuil1!$D$7,0)+IF(G41=Feuil1!$A$8,Feuil1!$D$8,0)+IF(G41=Feuil1!$A$9,Feuil1!$D$9,0)+IF(G41=Feuil1!$A$10,Feuil1!$D$10,0)+IF(G41=Feuil1!$A$11,Feuil1!$D$11,0)+IF(G41=Feuil1!$A$12,Feuil1!$D$12,0)+IF(G41=Feuil1!$A$13,Feuil1!$D$13,0)+IF(G41=Feuil1!$A$14,Feuil1!$D$14,0)+IF(G41=Feuil1!$A$15,Feuil1!$D$15,0)+IF(G41=Feuil1!$A$16,Feuil1!$D$16,0)+IF(G41=Feuil1!$A$17,Feuil1!$D$17,0)+IF(G41=Feuil1!$A$18,Feuil1!$D$18,0)+IF(G41=Feuil1!$A$19,Feuil1!$D$19,0)+IF(G41=Feuil1!$A$20,Feuil1!$D$20,0)+IF(G41=Feuil1!$A$21,Feuil1!$D$21,0)+IF(G41=Feuil1!$A$22,Feuil1!$D$22,0)+IF(G41=Feuil1!$A$23,Feuil1!$D$23,0)+IF(G41=Feuil1!$A$24,Feuil1!$D$25,0)+IF(G41=Feuil1!$A$26,Feuil1!$D$26,0)+IF(G41=Feuil1!$A$27,Feuil1!$D$27,0)+IF(G41=Feuil1!$A$28,Feuil1!$D$28,0)+IF(G41=Feuil1!$A$29,Feuil1!$D$29,0)+IF(G41=Feuil1!$A$30,Feuil1!$D$30,0)+IF(G41=Feuil1!$A$31,Feuil1!$D$31,0)+IF(G41=Feuil1!$A$32,Feuil1!$D$32,0)+IF(G41=Feuil1!$A$33,Feuil1!$D$33,0)+IF(G41=Feuil1!$A$34,Feuil1!$D$34,0)+IF(G41=Feuil1!$A$35,Feuil1!$D$35,0)+IF(G41=Feuil1!$A$36,Feuil1!$D$36,0)+IF(G41=Feuil1!$A$37,Feuil1!$D$37,0)+IF(G41=Feuil1!$A$38,Feuil1!$D$38,0)+IF(G41=Feuil1!F61,Feuil1!I61,0) -> 0 | H43: =IF(H41=Feuil1!$A$6,Feuil1!$D$6,0)+IF(H41=Feuil1!$A$7,Feuil1!$D$7,0)+IF(H41=Feuil1!$A$8,Feuil1!$D$8,0)+IF(H41=Feuil1!$A$9,Feuil1!$D$9,0)+IF(H41=Feuil1!$A$10,Feuil1!$D$10,0)+IF(H41=Feuil1!$A$11,Feuil1!$D$11,0)+IF(H41=Feuil1!$A$12,Feuil1!$D$12,0)+IF(H41=Feuil1!$A$13,Feuil1!$D$13,0)+IF(H41=Feuil1!$A$14,Feuil1!$D$14,0)+IF(H41=Feuil1!$A$15,Feuil1!$D$15,0)+IF(H41=Feuil1!$A$16,Feuil1!$D$16,0)+IF(H41=Feuil1!$A$17,Feuil1!$D$17,0)+IF(H41=Feuil1!$A$18,Feuil1!$D$18,0)+IF(H41=Feuil1!$A$19,Feuil1!$D$19,0)+IF(H41=Feuil1!$A$20,Feuil1!$D$20,0)+IF(H41=Feuil1!$A$21,Feuil1!$D$21,0)+IF(H41=Feuil1!$A$22,Feuil1!$D$22,0)+IF(H41=Feuil1!$A$23,Feuil1!$D$23,0)+IF(H41=Feuil1!$A$24,Feuil1!$D$25,0)+IF(H41=Feuil1!$A$26,Feuil1!$D$26,0)+IF(H41=Feuil1!$A$27,Feuil1!$D$27,0)+IF(H41=Feuil1!$A$28,Feuil1!$D$28,0)+IF(H41=Feuil1!$A$29,Feuil1!$D$29,0)+IF(H41=Feuil1!$A$30,Feuil1!$D$30,0)+IF(H41=Feuil1!$A$31,Feuil1!$D$31,0)+IF(H41=Feuil1!$A$32,Feuil1!$D$32,0)+IF(H41=Feuil1!$A$33,Feuil1!$D$33,0)+IF(H41=Feuil1!$A$34,Feuil1!$D$34,0)+IF(H41=Feuil1!$A$35,Feuil1!$D$35,0)+IF(H41=Feuil1!$A$36,Feuil1!$D$36,0)+IF(H41=Feuil1!$A$37,Feuil1!$D$37,0)+IF(H41=Feuil1!$A$38,Feuil1!$D$38,0)+IF(H41=Feuil1!G61,Feuil1!J61,0) -> 0 | I43: =IF(I41=Feuil1!$A$6,Feuil1!$D$6,0)+IF(I41=Feuil1!$A$7,Feuil1!$D$7,0)+IF(I41=Feuil1!$A$8,Feuil1!$D$8,0)+IF(I41=Feuil1!$A$9,Feuil1!$D$9,0)+IF(I41=Feuil1!$A$10,Feuil1!$D$10,0)+IF(I41=Feuil1!$A$11,Feuil1!$D$11,0)+IF(I41=Feuil1!$A$12,Feuil1!$D$12,0)+IF(I41=Feuil1!$A$13,Feuil1!$D$13,0)+IF(I41=Feuil1!$A$14,Feuil1!$D$14,0)+IF(I41=Feuil1!$A$15,Feuil1!$D$15,0)+IF(I41=Feuil1!$A$16,Feuil1!$D$16,0)+IF(I41=Feuil1!$A$17,Feuil1!$D$17,0)+IF(I41=Feuil1!$A$18,Feuil1!$D$18,0)+IF(I41=Feuil1!$A$19,Feuil1!$D$19,0)+IF(I41=Feuil1!$A$20,Feuil1!$D$20,0)+IF(I41=Feuil1!$A$21,Feuil1!$D$21,0)+IF(I41=Feuil1!$A$22,Feuil1!$D$22,0)+IF(I41=Feuil1!$A$23,Feuil1!$D$23,0)+IF(I41=Feuil1!$A$24,Feuil1!$D$25,0)+IF(I41=Feuil1!$A$26,Feuil1!$D$26,0)+IF(I41=Feuil1!$A$27,Feuil1!$D$27,0)+IF(I41=Feuil1!$A$28,Feuil1!$D$28,0)+IF(I41=Feuil1!$A$29,Feuil1!$D$29,0)+IF(I41=Feuil1!$A$30,Feuil1!$D$30,0)+IF(I41=Feuil1!$A$31,Feuil1!$D$31,0)+IF(I41=Feuil1!$A$32,Feuil1!$D$32,0)+IF(I41=Feuil1!$A$33,Feuil1!$D$33,0)+IF(I41=Feuil1!$A$34,Feuil1!$D$34,0)+IF(I41=Feuil1!$A$35,Feuil1!$D$35,0)+IF(I41=Feuil1!$A$36,Feuil1!$D$36,0)+IF(I41=Feuil1!$A$37,Feuil1!$D$37,0)+IF(I41=Feuil1!$A$38,Feuil1!$D$38,0)+IF(I41=Feuil1!H61,Feuil1!K61,0) -> 0 | ... AF43: =IF(AF41=Feuil1!$A$6,Feuil1!$D$6,0)+IF(AF41=Feuil1!$A$7,Feuil1!$D$7,0)+IF(AF41=Feuil1!$A$8,Feuil1!$D$8,0)+IF(AF41=Feuil1!$A$9,Feuil1!$D$9,0)+IF(AF41=Feuil1!$A$10,Feuil1!$D$10,0)+IF(AF41=Feuil1!$A$11,Feuil1!$D$11,0)+IF(AF41=Feuil1!$A$12,Feuil1!$D$12,0)+IF(AF41=Feuil1!$A$13,Feuil1!$D$13,0)+IF(AF41=Feuil1!$A$14,Feuil1!$D$14,0)+IF(AF41=Feuil1!$A$15,Feuil1!$D$15,0)+IF(AF41=Feuil1!$A$16,Feuil1!$D$16,0)+IF(AF41=Feuil1!$A$17,Feuil1!$D$17,0)+IF(AF41=Feuil1!$A$18,Feuil1!$D$18,0)+IF(AF41=Feuil1!$A$19,Feuil1!$D$19,0)+IF(AF41=Feuil1!$A$20,Feuil1!$D$20,0)+IF(AF41=Feuil1!$A$21,Feuil1!$D$21,0)+IF(AF41=Feuil1!$A$22,Feuil1!$D$22,0)+IF(AF41=Feuil1!$A$23,Feuil1!$D$23,0)+IF(AF41=Feuil1!$A$24,Feuil1!$D$25,0)+IF(AF41=Feuil1!$A$26,Feuil1!$D$26,0)+IF(AF41=Feuil1!$A$27,Feuil1!$D$27,0)+IF(AF41=Feuil1!$A$28,Feuil1!$D$28,0)+IF(AF41=Feuil1!$A$29,Feuil1!$D$29,0)+IF(AF41=Feuil1!$A$30,Feuil1!$D$30,0)+IF(AF41=Feuil1!$A$31,Feuil1!$D$31,0)+IF(AF41=Feuil1!$A$32,Feuil1!$D$32,0)+IF(AF41=Feuil1!$A$33,Feuil1!$D$33,0)+IF(AF41=Feuil1!$A$34,Feuil1!$D$34,0)+IF(AF41=Feuil1!$A$35,Feuil1!$D$35,0)+IF(AF41=Feuil1!$A$36,Feuil1!$D$36,0)+IF(AF41=Feuil1!$A$37,Feuil1!$D$37,0)+IF(AF41=Feuil1!$A$38,Feuil1!$D$38,0)+IF(AF41=Feuil1!AE61,Feuil1!AH61,0) -> 0
A44: =A41+1 -> 14 | B44: S1 | C44: RC | D44: TP | E44: R | F44: FJ | G44: S3 | H44: S3 | I44: R | J44: PASA | K44: TP | L44: FJ | M44: SFJ | N44: R | O44: R | P44: RTT | Q44: RTT | R44: TP | S44: R | T44: RTT | U44: FJ | V44: FJ | W44: SFJ | X44: R | Y44: TP | Z44: PASA | AA44: PB | AB44: R | AC44: R | AD44: RC | AE44: RC | AF44: TP | AG44: =SUM(B45:AF45) -> 5 | AH44: =SUM(B46:AF46) -> 3.7916667 | AI44: T : 8H - 13H30
A45: =A42+1 -> 13 | B45: =IF(B44=Feuil1!$A$15,1)+IF(B44=Feuil1!$A$16,1)+IF(B44=Feuil1!$A$17,1)+IF(B44=Feuil1!$A$18,1)+IF(B44=Feuil1!$A$19,1)+IF(B44=Feuil1!$A$20,1)+IF(B44=Feuil1!$A$31,1)+IF(B44=Feuil1!$A$32,1)+IF(B44=Feuil1!$A$33,1)+IF(B44=Feuil1!$A$34,1) -> 1 | C45: =IF(C44=Feuil1!$A$15,1)+IF(C44=Feuil1!$A$16,1)+IF(C44=Feuil1!$A$17,1)+IF(C44=Feuil1!$A$18,1)+IF(C44=Feuil1!$A$19,1)+IF(C44=Feuil1!$A$20,1)+IF(C44=Feuil1!$A$31,1)+IF(C44=Feuil1!$A$32,1)+IF(C44=Feuil1!$A$33,1)+IF(C44=Feuil1!$A$34,1) -> 0 | D45: =IF(D44=Feuil1!$A$15,1)+IF(D44=Feuil1!$A$16,1)+IF(D44=Feuil1!$A$17,1)+IF(D44=Feuil1!$A$18,1)+IF(D44=Feuil1!$A$19,1)+IF(D44=Feuil1!$A$20,1)+IF(D44=Feuil1!$A$31,1)+IF(D44=Feuil1!$A$32,1)+IF(D44=Feuil1!$A$33,1)+IF(D44=Feuil1!$A$34,1) -> 0 | E45: =IF(E44=Feuil1!$A$15,1)+IF(E44=Feuil1!$A$16,1)+IF(E44=Feuil1!$A$17,1)+IF(E44=Feuil1!$A$18,1)+IF(E44=Feuil1!$A$19,1)+IF(E44=Feuil1!$A$20,1)+IF(E44=Feuil1!$A$31,1)+IF(E44=Feuil1!$A$32,1)+IF(E44=Feuil1!$A$33,1)+IF(E44=Feuil1!$A$34,1) -> 0 | F45: =IF(F44=Feuil1!$A$15,1)+IF(F44=Feuil1!$A$16,1)+IF(F44=Feuil1!$A$17,1)+IF(F44=Feuil1!$A$18,1)+IF(F44=Feuil1!$A$19,1)+IF(F44=Feuil1!$A$20,1)+IF(F44=Feuil1!$A$31,1)+IF(F44=Feuil1!$A$32,1)+IF(F44=Feuil1!$A$33,1)+IF(F44=Feuil1!$A$34,1) -> 0 | G45: =IF(G44=Feuil1!$A$15,1)+IF(G44=Feuil1!$A$16,1)+IF(G44=Feuil1!$A$17,1)+IF(G44=Feuil1!$A$18,1)+IF(G44=Feuil1!$A$19,1)+IF(G44=Feuil1!$A$20,1)+IF(G44=Feuil1!$A$31,1)+IF(G44=Feuil1!$A$32,1)+IF(G44=Feuil1!$A$33,1)+IF(G44=Feuil1!$A$34,1) -> 1 | H45: =IF(H44=Feuil1!$A$15,1)+IF(H44=Feuil1!$A$16,1)+IF(H44=Feuil1!$A$17,1)+IF(H44=Feuil1!$A$18,1)+IF(H44=Feuil1!$A$19,1)+IF(H44=Feuil1!$A$20,1)+IF(H44=Feuil1!$A$31,1)+IF(H44=Feuil1!$A$32,1)+IF(H44=Feuil1!$A$33,1)+IF(H44=Feuil1!$A$34,1) -> 1 | I45: =IF(I44=Feuil1!$A$15,1)+IF(I44=Feuil1!$A$16,1)+IF(I44=Feuil1!$A$17,1)+IF(I44=Feuil1!$A$18,1)+IF(I44=Feuil1!$A$19,1)+IF(I44=Feuil1!$A$20,1)+IF(I44=Feuil1!$A$31,1)+IF(I44=Feuil1!$A$32,1)+IF(I44=Feuil1!$A$33,1)+IF(I44=Feuil1!$A$34,1) -> 0 | ... AF45: =IF(AF44=Feuil1!$A$15,1)+IF(AF44=Feuil1!$A$16,1)+IF(AF44=Feuil1!$A$17,1)+IF(AF44=Feuil1!$A$18,1)+IF(AF44=Feuil1!$A$19,1)+IF(AF44=Feuil1!$A$20,1)+IF(AF44=Feuil1!$A$31,1)+IF(AF44=Feuil1!$A$32,1)+IF(AF44=Feuil1!$A$33,1)+IF(AF44=Feuil1!$A$34,1) -> 0
A46: =A43+1 -> 13 | B46: =IF(B44=Feuil1!$A$6,Feuil1!$D$6,0)+IF(B44=Feuil1!$A$7,Feuil1!$D$7,0)+IF(B44=Feuil1!$A$8,Feuil1!$D$8,0)+IF(B44=Feuil1!$A$9,Feuil1!$D$9,0)+IF(B44=Feuil1!$A$10,Feuil1!$D$10,0)+IF(B44=Feuil1!$A$11,Feuil1!$D$11,0)+IF(B44=Feuil1!$A$12,Feuil1!$D$12,0)+IF(B44=Feuil1!$A$13,Feuil1!$D$13,0)+IF(B44=Feuil1!$A$14,Feuil1!$D$14,0)+IF(B44=Feuil1!$A$15,Feuil1!$D$15,0)+IF(B44=Feuil1!$A$16,Feuil1!$D$16,0)+IF(B44=Feuil1!$A$17,Feuil1!$D$17,0)+IF(B44=Feuil1!$A$18,Feuil1!$D$18,0)+IF(B44=Feuil1!$A$19,Feuil1!$D$19,0)+IF(B44=Feuil1!$A$20,Feuil1!$D$20,0)+IF(B44=Feuil1!$A$21,Feuil1!$D$21,0)+IF(B44=Feuil1!$A$22,Feuil1!$D$22,0)+IF(B44=Feuil1!$A$23,Feuil1!$D$23,0)+IF(B44=Feuil1!$A$24,Feuil1!$D$25,0)+IF(B44=Feuil1!$A$26,Feuil1!$D$26,0)+IF(B44=Feuil1!$A$27,Feuil1!$D$27,0)+IF(B44=Feuil1!$A$28,Feuil1!$D$28,0)+IF(B44=Feuil1!$A$29,Feuil1!$D$29,0)+IF(B44=Feuil1!$A$30,Feuil1!$D$30,0)+IF(B44=Feuil1!$A$31,Feuil1!$D$31,0)+IF(B44=Feuil1!$A$32,Feuil1!$D$32,0)+IF(B44=Feuil1!$A$33,Feuil1!$D$33,0)+IF(B44=Feuil1!$A$34,Feuil1!$D$34,0)+IF(B44=Feuil1!$A$35,Feuil1!$D$35,0)+IF(B44=Feuil1!$A$36,Feuil1!$D$36,0)+IF(B44=Feuil1!$A$37,Feuil1!$D$37,0)+IF(B44=Feuil1!$A$38,Feuil1!$D$38,0)+IF(B44=Feuil1!A64,Feuil1!D64,0) -> 0.3125 | C46: =IF(C44=Feuil1!$A$6,Feuil1!$D$6,0)+IF(C44=Feuil1!$A$7,Feuil1!$D$7,0)+IF(C44=Feuil1!$A$8,Feuil1!$D$8,0)+IF(C44=Feuil1!$A$9,Feuil1!$D$9,0)+IF(C44=Feuil1!$A$10,Feuil1!$D$10,0)+IF(C44=Feuil1!$A$11,Feuil1!$D$11,0)+IF(C44=Feuil1!$A$12,Feuil1!$D$12,0)+IF(C44=Feuil1!$A$13,Feuil1!$D$13,0)+IF(C44=Feuil1!$A$14,Feuil1!$D$14,0)+IF(C44=Feuil1!$A$15,Feuil1!$D$15,0)+IF(C44=Feuil1!$A$16,Feuil1!$D$16,0)+IF(C44=Feuil1!$A$17,Feuil1!$D$17,0)+IF(C44=Feuil1!$A$18,Feuil1!$D$18,0)+IF(C44=Feuil1!$A$19,Feuil1!$D$19,0)+IF(C44=Feuil1!$A$20,Feuil1!$D$20,0)+IF(C44=Feuil1!$A$21,Feuil1!$D$21,0)+IF(C44=Feuil1!$A$22,Feuil1!$D$22,0)+IF(C44=Feuil1!$A$23,Feuil1!$D$23,0)+IF(C44=Feuil1!$A$24,Feuil1!$D$25,0)+IF(C44=Feuil1!$A$26,Feuil1!$D$26,0)+IF(C44=Feuil1!$A$27,Feuil1!$D$27,0)+IF(C44=Feuil1!$A$28,Feuil1!$D$28,0)+IF(C44=Feuil1!$A$29,Feuil1!$D$29,0)+IF(C44=Feuil1!$A$30,Feuil1!$D$30,0)+IF(C44=Feuil1!$A$31,Feuil1!$D$31,0)+IF(C44=Feuil1!$A$32,Feuil1!$D$32,0)+IF(C44=Feuil1!$A$33,Feuil1!$D$33,0)+IF(C44=Feuil1!$A$34,Feuil1!$D$34,0)+IF(C44=Feuil1!$A$35,Feuil1!$D$35,0)+IF(C44=Feuil1!$A$36,Feuil1!$D$36,0)+IF(C44=Feuil1!$A$37,Feuil1!$D$37,0)+IF(C44=Feuil1!$A$38,Feuil1!$D$38,0)+IF(C44=Feuil1!B64,Feuil1!E64,0) -> 0 | D46: =IF(D44=Feuil1!$A$6,Feuil1!$D$6,0)+IF(D44=Feuil1!$A$7,Feuil1!$D$7,0)+IF(D44=Feuil1!$A$8,Feuil1!$D$8,0)+IF(D44=Feuil1!$A$9,Feuil1!$D$9,0)+IF(D44=Feuil1!$A$10,Feuil1!$D$10,0)+IF(D44=Feuil1!$A$11,Feuil1!$D$11,0)+IF(D44=Feuil1!$A$12,Feuil1!$D$12,0)+IF(D44=Feuil1!$A$13,Feuil1!$D$13,0)+IF(D44=Feuil1!$A$14,Feuil1!$D$14,0)+IF(D44=Feuil1!$A$15,Feuil1!$D$15,0)+IF(D44=Feuil1!$A$16,Feuil1!$D$16,0)+IF(D44=Feuil1!$A$17,Feuil1!$D$17,0)+IF(D44=Feuil1!$A$18,Feuil1!$D$18,0)+IF(D44=Feuil1!$A$19,Feuil1!$D$19,0)+IF(D44=Feuil1!$A$20,Feuil1!$D$20,0)+IF(D44=Feuil1!$A$21,Feuil1!$D$21,0)+IF(D44=Feuil1!$A$22,Feuil1!$D$22,0)+IF(D44=Feuil1!$A$23,Feuil1!$D$23,0)+IF(D44=Feuil1!$A$24,Feuil1!$D$25,0)+IF(D44=Feuil1!$A$26,Feuil1!$D$26,0)+IF(D44=Feuil1!$A$27,Feuil1!$D$27,0)+IF(D44=Feuil1!$A$28,Feuil1!$D$28,0)+IF(D44=Feuil1!$A$29,Feuil1!$D$29,0)+IF(D44=Feuil1!$A$30,Feuil1!$D$30,0)+IF(D44=Feuil1!$A$31,Feuil1!$D$31,0)+IF(D44=Feuil1!$A$32,Feuil1!$D$32,0)+IF(D44=Feuil1!$A$33,Feuil1!$D$33,0)+IF(D44=Feuil1!$A$34,Feuil1!$D$34,0)+IF(D44=Feuil1!$A$35,Feuil1!$D$35,0)+IF(D44=Feuil1!$A$36,Feuil1!$D$36,0)+IF(D44=Feuil1!$A$37,Feuil1!$D$37,0)+IF(D44=Feuil1!$A$38,Feuil1!$D$38,0)+IF(D44=Feuil1!C64,Feuil1!F64,0) -> 0 | E46: =IF(E44=Feuil1!$A$6,Feuil1!$D$6,0)+IF(E44=Feuil1!$A$7,Feuil1!$D$7,0)+IF(E44=Feuil1!$A$8,Feuil1!$D$8,0)+IF(E44=Feuil1!$A$9,Feuil1!$D$9,0)+IF(E44=Feuil1!$A$10,Feuil1!$D$10,0)+IF(E44=Feuil1!$A$11,Feuil1!$D$11,0)+IF(E44=Feuil1!$A$12,Feuil1!$D$12,0)+IF(E44=Feuil1!$A$13,Feuil1!$D$13,0)+IF(E44=Feuil1!$A$14,Feuil1!$D$14,0)+IF(E44=Feuil1!$A$15,Feuil1!$D$15,0)+IF(E44=Feuil1!$A$16,Feuil1!$D$16,0)+IF(E44=Feuil1!$A$17,Feuil1!$D$17,0)+IF(E44=Feuil1!$A$18,Feuil1!$D$18,0)+IF(E44=Feuil1!$A$19,Feuil1!$D$19,0)+IF(E44=Feuil1!$A$20,Feuil1!$D$20,0)+IF(E44=Feuil1!$A$21,Feuil1!$D$21,0)+IF(E44=Feuil1!$A$22,Feuil1!$D$22,0)+IF(E44=Feuil1!$A$23,Feuil1!$D$23,0)+IF(E44=Feuil1!$A$24,Feuil1!$D$25,0)+IF(E44=Feuil1!$A$26,Feuil1!$D$26,0)+IF(E44=Feuil1!$A$27,Feuil1!$D$27,0)+IF(E44=Feuil1!$A$28,Feuil1!$D$28,0)+IF(E44=Feuil1!$A$29,Feuil1!$D$29,0)+IF(E44=Feuil1!$A$30,Feuil1!$D$30,0)+IF(E44=Feuil1!$A$31,Feuil1!$D$31,0)+IF(E44=Feuil1!$A$32,Feuil1!$D$32,0)+IF(E44=Feuil1!$A$33,Feuil1!$D$33,0)+IF(E44=Feuil1!$A$34,Feuil1!$D$34,0)+IF(E44=Feuil1!$A$35,Feuil1!$D$35,0)+IF(E44=Feuil1!$A$36,Feuil1!$D$36,0)+IF(E44=Feuil1!$A$37,Feuil1!$D$37,0)+IF(E44=Feuil1!$A$38,Feuil1!$D$38,0)+IF(E44=Feuil1!D64,Feuil1!G64,0) -> 0 | F46: =IF(F44=Feuil1!$A$6,Feuil1!$D$6,0)+IF(F44=Feuil1!$A$7,Feuil1!$D$7,0)+IF(F44=Feuil1!$A$8,Feuil1!$D$8,0)+IF(F44=Feuil1!$A$9,Feuil1!$D$9,0)+IF(F44=Feuil1!$A$10,Feuil1!$D$10,0)+IF(F44=Feuil1!$A$11,Feuil1!$D$11,0)+IF(F44=Feuil1!$A$12,Feuil1!$D$12,0)+IF(F44=Feuil1!$A$13,Feuil1!$D$13,0)+IF(F44=Feuil1!$A$14,Feuil1!$D$14,0)+IF(F44=Feuil1!$A$15,Feuil1!$D$15,0)+IF(F44=Feuil1!$A$16,Feuil1!$D$16,0)+IF(F44=Feuil1!$A$17,Feuil1!$D$17,0)+IF(F44=Feuil1!$A$18,Feuil1!$D$18,0)+IF(F44=Feuil1!$A$19,Feuil1!$D$19,0)+IF(F44=Feuil1!$A$20,Feuil1!$D$20,0)+IF(F44=Feuil1!$A$21,Feuil1!$D$21,0)+IF(F44=Feuil1!$A$22,Feuil1!$D$22,0)+IF(F44=Feuil1!$A$23,Feuil1!$D$23,0)+IF(F44=Feuil1!$A$24,Feuil1!$D$25,0)+IF(F44=Feuil1!$A$26,Feuil1!$D$26,0)+IF(F44=Feuil1!$A$27,Feuil1!$D$27,0)+IF(F44=Feuil1!$A$28,Feuil1!$D$28,0)+IF(F44=Feuil1!$A$29,Feuil1!$D$29,0)+IF(F44=Feuil1!$A$30,Feuil1!$D$30,0)+IF(F44=Feuil1!$A$31,Feuil1!$D$31,0)+IF(F44=Feuil1!$A$32,Feuil1!$D$32,0)+IF(F44=Feuil1!$A$33,Feuil1!$D$33,0)+IF(F44=Feuil1!$A$34,Feuil1!$D$34,0)+IF(F44=Feuil1!$A$35,Feuil1!$D$35,0)+IF(F44=Feuil1!$A$36,Feuil1!$D$36,0)+IF(F44=Feuil1!$A$37,Feuil1!$D$37,0)+IF(F44=Feuil1!$A$38,Feuil1!$D$38,0)+IF(F44=Feuil1!E64,Feuil1!H64,0) -> 0.3125 | G46: =IF(G44=Feuil1!$A$6,Feuil1!$D$6,0)+IF(G44=Feuil1!$A$7,Feuil1!$D$7,0)+IF(G44=Feuil1!$A$8,Feuil1!$D$8,0)+IF(G44=Feuil1!$A$9,Feuil1!$D$9,0)+IF(G44=Feuil1!$A$10,Feuil1!$D$10,0)+IF(G44=Feuil1!$A$11,Feuil1!$D$11,0)+IF(G44=Feuil1!$A$12,Feuil1!$D$12,0)+IF(G44=Feuil1!$A$13,Feuil1!$D$13,0)+IF(G44=Feuil1!$A$14,Feuil1!$D$14,0)+IF(G44=Feuil1!$A$15,Feuil1!$D$15,0)+IF(G44=Feuil1!$A$16,Feuil1!$D$16,0)+IF(G44=Feuil1!$A$17,Feuil1!$D$17,0)+IF(G44=Feuil1!$A$18,Feuil1!$D$18,0)+IF(G44=Feuil1!$A$19,Feuil1!$D$19,0)+IF(G44=Feuil1!$A$20,Feuil1!$D$20,0)+IF(G44=Feuil1!$A$21,Feuil1!$D$21,0)+IF(G44=Feuil1!$A$22,Feuil1!$D$22,0)+IF(G44=Feuil1!$A$23,Feuil1!$D$23,0)+IF(G44=Feuil1!$A$24,Feuil1!$D$25,0)+IF(G44=Feuil1!$A$26,Feuil1!$D$26,0)+IF(G44=Feuil1!$A$27,Feuil1!$D$27,0)+IF(G44=Feuil1!$A$28,Feuil1!$D$28,0)+IF(G44=Feuil1!$A$29,Feuil1!$D$29,0)+IF(G44=Feuil1!$A$30,Feuil1!$D$30,0)+IF(G44=Feuil1!$A$31,Feuil1!$D$31,0)+IF(G44=Feuil1!$A$32,Feuil1!$D$32,0)+IF(G44=Feuil1!$A$33,Feuil1!$D$33,0)+IF(G44=Feuil1!$A$34,Feuil1!$D$34,0)+IF(G44=Feuil1!$A$35,Feuil1!$D$35,0)+IF(G44=Feuil1!$A$36,Feuil1!$D$36,0)+IF(G44=Feuil1!$A$37,Feuil1!$D$37,0)+IF(G44=Feuil1!$A$38,Feuil1!$D$38,0)+IF(G44=Feuil1!F64,Feuil1!I64,0) -> 0.3125 | H46: =IF(H44=Feuil1!$A$6,Feuil1!$D$6,0)+IF(H44=Feuil1!$A$7,Feuil1!$D$7,0)+IF(H44=Feuil1!$A$8,Feuil1!$D$8,0)+IF(H44=Feuil1!$A$9,Feuil1!$D$9,0)+IF(H44=Feuil1!$A$10,Feuil1!$D$10,0)+IF(H44=Feuil1!$A$11,Feuil1!$D$11,0)+IF(H44=Feuil1!$A$12,Feuil1!$D$12,0)+IF(H44=Feuil1!$A$13,Feuil1!$D$13,0)+IF(H44=Feuil1!$A$14,Feuil1!$D$14,0)+IF(H44=Feuil1!$A$15,Feuil1!$D$15,0)+IF(H44=Feuil1!$A$16,Feuil1!$D$16,0)+IF(H44=Feuil1!$A$17,Feuil1!$D$17,0)+IF(H44=Feuil1!$A$18,Feuil1!$D$18,0)+IF(H44=Feuil1!$A$19,Feuil1!$D$19,0)+IF(H44=Feuil1!$A$20,Feuil1!$D$20,0)+IF(H44=Feuil1!$A$21,Feuil1!$D$21,0)+IF(H44=Feuil1!$A$22,Feuil1!$D$22,0)+IF(H44=Feuil1!$A$23,Feuil1!$D$23,0)+IF(H44=Feuil1!$A$24,Feuil1!$D$25,0)+IF(H44=Feuil1!$A$26,Feuil1!$D$26,0)+IF(H44=Feuil1!$A$27,Feuil1!$D$27,0)+IF(H44=Feuil1!$A$28,Feuil1!$D$28,0)+IF(H44=Feuil1!$A$29,Feuil1!$D$29,0)+IF(H44=Feuil1!$A$30,Feuil1!$D$30,0)+IF(H44=Feuil1!$A$31,Feuil1!$D$31,0)+IF(H44=Feuil1!$A$32,Feuil1!$D$32,0)+IF(H44=Feuil1!$A$33,Feuil1!$D$33,0)+IF(H44=Feuil1!$A$34,Feuil1!$D$34,0)+IF(H44=Feuil1!$A$35,Feuil1!$D$35,0)+IF(H44=Feuil1!$A$36,Feuil1!$D$36,0)+IF(H44=Feuil1!$A$37,Feuil1!$D$37,0)+IF(H44=Feuil1!$A$38,Feuil1!$D$38,0)+IF(H44=Feuil1!G64,Feuil1!J64,0) -> 0.3125 | I46: =IF(I44=Feuil1!$A$6,Feuil1!$D$6,0)+IF(I44=Feuil1!$A$7,Feuil1!$D$7,0)+IF(I44=Feuil1!$A$8,Feuil1!$D$8,0)+IF(I44=Feuil1!$A$9,Feuil1!$D$9,0)+IF(I44=Feuil1!$A$10,Feuil1!$D$10,0)+IF(I44=Feuil1!$A$11,Feuil1!$D$11,0)+IF(I44=Feuil1!$A$12,Feuil1!$D$12,0)+IF(I44=Feuil1!$A$13,Feuil1!$D$13,0)+IF(I44=Feuil1!$A$14,Feuil1!$D$14,0)+IF(I44=Feuil1!$A$15,Feuil1!$D$15,0)+IF(I44=Feuil1!$A$16,Feuil1!$D$16,0)+IF(I44=Feuil1!$A$17,Feuil1!$D$17,0)+IF(I44=Feuil1!$A$18,Feuil1!$D$18,0)+IF(I44=Feuil1!$A$19,Feuil1!$D$19,0)+IF(I44=Feuil1!$A$20,Feuil1!$D$20,0)+IF(I44=Feuil1!$A$21,Feuil1!$D$21,0)+IF(I44=Feuil1!$A$22,Feuil1!$D$22,0)+IF(I44=Feuil1!$A$23,Feuil1!$D$23,0)+IF(I44=Feuil1!$A$24,Feuil1!$D$25,0)+IF(I44=Feuil1!$A$26,Feuil1!$D$26,0)+IF(I44=Feuil1!$A$27,Feuil1!$D$27,0)+IF(I44=Feuil1!$A$28,Feuil1!$D$28,0)+IF(I44=Feuil1!$A$29,Feuil1!$D$29,0)+IF(I44=Feuil1!$A$30,Feuil1!$D$30,0)+IF(I44=Feuil1!$A$31,Feuil1!$D$31,0)+IF(I44=Feuil1!$A$32,Feuil1!$D$32,0)+IF(I44=Feuil1!$A$33,Feuil1!$D$33,0)+IF(I44=Feuil1!$A$34,Feuil1!$D$34,0)+IF(I44=Feuil1!$A$35,Feuil1!$D$35,0)+IF(I44=Feuil1!$A$36,Feuil1!$D$36,0)+IF(I44=Feuil1!$A$37,Feuil1!$D$37,0)+IF(I44=Feuil1!$A$38,Feuil1!$D$38,0)+IF(I44=Feuil1!H64,Feuil1!K64,0) -> 0 | ... AF46: =IF(AF44=Feuil1!$A$6,Feuil1!$D$6,0)+IF(AF44=Feuil1!$A$7,Feuil1!$D$7,0)+IF(AF44=Feuil1!$A$8,Feuil1!$D$8,0)+IF(AF44=Feuil1!$A$9,Feuil1!$D$9,0)+IF(AF44=Feuil1!$A$10,Feuil1!$D$10,0)+IF(AF44=Feuil1!$A$11,Feuil1!$D$11,0)+IF(AF44=Feuil1!$A$12,Feuil1!$D$12,0)+IF(AF44=Feuil1!$A$13,Feuil1!$D$13,0)+IF(AF44=Feuil1!$A$14,Feuil1!$D$14,0)+IF(AF44=Feuil1!$A$15,Feuil1!$D$15,0)+IF(AF44=Feuil1!$A$16,Feuil1!$D$16,0)+IF(AF44=Feuil1!$A$17,Feuil1!$D$17,0)+IF(AF44=Feuil1!$A$18,Feuil1!$D$18,0)+IF(AF44=Feuil1!$A$19,Feuil1!$D$19,0)+IF(AF44=Feuil1!$A$20,Feuil1!$D$20,0)+IF(AF44=Feuil1!$A$21,Feuil1!$D$21,0)+IF(AF44=Feuil1!$A$22,Feuil1!$D$22,0)+IF(AF44=Feuil1!$A$23,Feuil1!$D$23,0)+IF(AF44=Feuil1!$A$24,Feuil1!$D$25,0)+IF(AF44=Feuil1!$A$26,Feuil1!$D$26,0)+IF(AF44=Feuil1!$A$27,Feuil1!$D$27,0)+IF(AF44=Feuil1!$A$28,Feuil1!$D$28,0)+IF(AF44=Feuil1!$A$29,Feuil1!$D$29,0)+IF(AF44=Feuil1!$A$30,Feuil1!$D$30,0)+IF(AF44=Feuil1!$A$31,Feuil1!$D$31,0)+IF(AF44=Feuil1!$A$32,Feuil1!$D$32,0)+IF(AF44=Feuil1!$A$33,Feuil1!$D$33,0)+IF(AF44=Feuil1!$A$34,Feuil1!$D$34,0)+IF(AF44=Feuil1!$A$35,Feuil1!$D$35,0)+IF(AF44=Feuil1!$A$36,Feuil1!$D$36,0)+IF(AF44=Feuil1!$A$37,Feuil1!$D$37,0)+IF(AF44=Feuil1!$A$38,Feuil1!$D$38,0)+IF(AF44=Feuil1!AE64,Feuil1!AH64,0) -> 0
A47: =A44+1 -> 15 | B47: RC | C47: RC | D47: ACJ | E47: BF | F47: VB2 | G47: R | H47: R | I47: FJ | J47: FJ | K47: ACJ | L47: S1 | M47: R | N47: FJ | O47: FJ | P47: R | Q47: RTT | R47: RTT | S47: RTT | T47: RTT | U47: R | V47: R | W47: RTT | X47: RTT | Y47: RTT | Z47: RTT | AA47: R | AB47: SFJ | AC47: SFJ | AD47: R | AE47: SFJ | AF47: ACJ | AG47: =SUM(B48:AF48) -> 4 | AH47: =SUM(B49:AF49) -> 4.0625 | AI47: M : 8H - 15H30
A48: =A45+1 -> 14 | B48: =IF(B47=Feuil1!$A$15,1)+IF(B47=Feuil1!$A$16,1)+IF(B47=Feuil1!$A$17,1)+IF(B47=Feuil1!$A$18,1)+IF(B47=Feuil1!$A$19,1)+IF(B47=Feuil1!$A$20,1)+IF(B47=Feuil1!$A$31,1)+IF(B47=Feuil1!$A$32,1)+IF(B47=Feuil1!$A$33,1)+IF(B47=Feuil1!$A$34,1) -> 0 | C48: =IF(C47=Feuil1!$A$15,1)+IF(C47=Feuil1!$A$16,1)+IF(C47=Feuil1!$A$17,1)+IF(C47=Feuil1!$A$18,1)+IF(C47=Feuil1!$A$19,1)+IF(C47=Feuil1!$A$20,1)+IF(C47=Feuil1!$A$31,1)+IF(C47=Feuil1!$A$32,1)+IF(C47=Feuil1!$A$33,1)+IF(C47=Feuil1!$A$34,1) -> 0 | D48: =IF(D47=Feuil1!$A$15,1)+IF(D47=Feuil1!$A$16,1)+IF(D47=Feuil1!$A$17,1)+IF(D47=Feuil1!$A$18,1)+IF(D47=Feuil1!$A$19,1)+IF(D47=Feuil1!$A$20,1)+IF(D47=Feuil1!$A$31,1)+IF(D47=Feuil1!$A$32,1)+IF(D47=Feuil1!$A$33,1)+IF(D47=Feuil1!$A$34,1) -> 0 | E48: =IF(E47=Feuil1!$A$15,1)+IF(E47=Feuil1!$A$16,1)+IF(E47=Feuil1!$A$17,1)+IF(E47=Feuil1!$A$18,1)+IF(E47=Feuil1!$A$19,1)+IF(E47=Feuil1!$A$20,1)+IF(E47=Feuil1!$A$31,1)+IF(E47=Feuil1!$A$32,1)+IF(E47=Feuil1!$A$33,1)+IF(E47=Feuil1!$A$34,1) -> 0 | F48: =IF(F47=Feuil1!$A$15,1)+IF(F47=Feuil1!$A$16,1)+IF(F47=Feuil1!$A$17,1)+IF(F47=Feuil1!$A$18,1)+IF(F47=Feuil1!$A$19,1)+IF(F47=Feuil1!$A$20,1)+IF(F47=Feuil1!$A$31,1)+IF(F47=Feuil1!$A$32,1)+IF(F47=Feuil1!$A$33,1)+IF(F47=Feuil1!$A$34,1) -> 0 | G48: =IF(G47=Feuil1!$A$15,1)+IF(G47=Feuil1!$A$16,1)+IF(G47=Feuil1!$A$17,1)+IF(G47=Feuil1!$A$18,1)+IF(G47=Feuil1!$A$19,1)+IF(G47=Feuil1!$A$20,1)+IF(G47=Feuil1!$A$31,1)+IF(G47=Feuil1!$A$32,1)+IF(G47=Feuil1!$A$33,1)+IF(G47=Feuil1!$A$34,1) -> 0 | H48: =IF(H47=Feuil1!$A$15,1)+IF(H47=Feuil1!$A$16,1)+IF(H47=Feuil1!$A$17,1)+IF(H47=Feuil1!$A$18,1)+IF(H47=Feuil1!$A$19,1)+IF(H47=Feuil1!$A$20,1)+IF(H47=Feuil1!$A$31,1)+IF(H47=Feuil1!$A$32,1)+IF(H47=Feuil1!$A$33,1)+IF(H47=Feuil1!$A$34,1) -> 0 | I48: =IF(I47=Feuil1!$A$15,1)+IF(I47=Feuil1!$A$16,1)+IF(I47=Feuil1!$A$17,1)+IF(I47=Feuil1!$A$18,1)+IF(I47=Feuil1!$A$19,1)+IF(I47=Feuil1!$A$20,1)+IF(I47=Feuil1!$A$31,1)+IF(I47=Feuil1!$A$32,1)+IF(I47=Feuil1!$A$33,1)+IF(I47=Feuil1!$A$34,1) -> 0 | ... AF48: =IF(AF47=Feuil1!$A$15,1)+IF(AF47=Feuil1!$A$16,1)+IF(AF47=Feuil1!$A$17,1)+IF(AF47=Feuil1!$A$18,1)+IF(AF47=Feuil1!$A$19,1)+IF(AF47=Feuil1!$A$20,1)+IF(AF47=Feuil1!$A$31,1)+IF(AF47=Feuil1!$A$32,1)+IF(AF47=Feuil1!$A$33,1)+IF(AF47=Feuil1!$A$34,1) -> 0
