Workbook

Sheet Feuil1
B3: Heure de début | C3: Heure de Fin | D3: Total
A6: FC | B6: 0.29166667 | C6: 0.60416667 | D6: =C6-B6 -> 0.3125
A7: BF | B7: 0.29166667 | C7: 0.60416667 | D7: =C7-B7 -> 0.3125
A8: FJ | B8: 0.29166667 | C8: 0.60416667 | D8: =C8-B8 -> 0.3125
A9: FJ2 | B9: 0.29166667 | C9: 0.60416667 | D9: =C9-B9 -> 0.3125
A10: PB | B10: 0.29166667 | C10: 0.60416667 | D10: =C10-B10 -> 0.3125
A11: VB | B11: 0.29166667 | C11: 0.60416667 | D11: =C11-B11 -> 0.3125
A12: VB2 | B12: 0.29166667 | C12: 0.60416667 | D12: =C12-B12 -> 0.3125
A13: VB3 | B13: 0.29166667 | C13: 0.5 | D13: =C13-B13 -> 0.20833333
A14: VB4 | B14: 0.29166667 | C14: 0.60416667 | D14: =C14-B14 -> 0.3125
A15: S1 | B15: 0.5625 | C15: 0.875 | D15: =C15-B15 -> 0.3125
A16: S2 | B16: 0.5625 | C16: 0.875 | D16: =C16-B16 -> 0.3125
A17: S3 | B17: 0.58333333 | C17: 0.89583333 | D17: =C17-B17 -> 0.3125
... A20: SFJ2 | B20: 0.58333333 | C20: 0.89583333 | D20: =C20-B20 -> 0.3125
A21: N1 | B21: 0.85416667 | C21: 0.27083333 | D21: 0.41666667
A22: N2 | B22: 0.88541667 | C22: 0.30208333 | D22: 0.41666667
A23: PASA | B23: 0.39583333 | C23: 0.72916667 | D23: =C23-B23 -> 0.33333333
A24: ACJ | B24: 0.39583333 | C24: 0.72916667 | D24: =C24-B24 -> 0.33333333
A25: A | B25: 0.41666667 | C25: 0.72916667 | D25: =C25-B25 -> 0.3125
A26: FC+BFmg | B26: 0.33333333 | C26: 0.625 | D26: =C26-B26 -> 0.29166667
A27: PBMG | B27: 0.33333333 | C27: 0.54166667 | D27: =C27-B27 -> 0.20833333
A28: VBMG | B28: 0.33333333 | C28: 0.64583333 | D28: =C28-B28 -> 0.3125
A29: T | B29: 0.33333333 | C29: 0.5625 | D29: =C29-B29 -> 0.22916667
A30: MSERV | B30: 0.33333333 | C30: 0.625 | D30: =C30-B30 -> 0.29166667
A31: Sserv | B31: 0.5625 | C31: 0.875 | D31: =C31-B31 -> 0.3125
A32: S4 | B32: 0.64583333 | C32: 0.875 | D32: =C32-B32 -> 0.22916667
A33: SMG | B33: 0.58333333 | C33: 0.875 | D33: =C33-B33 -> 0.29166667
A34: SMGW | B34: 0.5625 | C34: 0.875 | D34: =C34-B34 -> 0.3125
A35: A/SMG | B35: 0.58333333 | C35: 0.875 | D35: =C35-B35 -> 0.29166667
A36: CW | D36: 0.3125
A37: L | B37: 0.375 | C37: 0.66666667 | D37: =C37-B37 -> 0.29166667
A38: F | D38: 0.29166667
A39: FC+BFmgr | B39: 0.33333333 | C39: 0.625 | D39: =C39-B39 -> 0.29166667
A40: VBrMG | B40: 0.33333333 | C40: 0.625 | D40: =C40-B40 -> 0.29166667
A41: MSERVr | B41: 0.33333333 | C41: 0.625 | D41: =C41-B41 -> 0.29166667
A42: SSERVr | B42: 0.58333333 | C42: 0.875 | D42: =C42-B42 -> 0.29166667
A43: Lr | B43: 0.375 | C43: 0.66666667 | D43: =C43-B43 -> 0.29166667

Sheet Janvier 2018
A1: PLANNING JANVIER 2018
B3: 1 | C3: =B3+1 -> 2 | D3: =C3+1 -> 3 | E3: =D3+1 -> 4 | F3: =E3+1 -> 5 | G3: =F3+1 -> 6 | H3: =G3+1 -> 7 | I3: =H3+1 -> 8 | J3: =I3+1 -> 9 | ... AF3: =AE3+1 -> 31
A4: AS / AMP
A5: 1 | B5: RC | C5: CA | D5: R | E5: VB | F5: S1 | G5: R | H5: R | I5: FC | J5: FC | K5: S3 | L5: S2 | M5: R | N5: S3 | O5: S3 | P5: S1 | Q5: R | R5: PB | S5: ACJ | T5: PB | U5: R | V5: R | W5: VB | X5: VB | Y5: FC | Z5: FC | AA5: R | AB5: VB | AC5: VB | AD5: S1 | AE5: R | AF5: BF | AG5: =SUM(B6:AF6) -> 7 | AH5: =SUM(B7:AF7) -> 6.25 | AI5: FC/BF/FJ/
B6: =IF(B5=Feuil1!$A$15,1)+IF(B5=Feuil1!$A$16,1)+IF(B5=Feuil1!$A$17,1)+IF(B5=Feuil1!$A$18,1)+IF(B5=Feuil1!$A$19,1)+IF(B5=Feuil1!$A$20,1)+IF(B5=Feuil1!$A$31,1)+IF(B5=Feuil1!$A$32,1)+IF(B5=Feuil1!$A$33,1)+IF(B5=Feuil1!$A$34,1) -> 0 | C6: =IF(C5=Feuil1!$A$15,1)+IF(C5=Feuil1!$A$16,1)+IF(C5=Feuil1!$A$17,1)+IF(C5=Feuil1!$A$18,1)+IF(C5=Feuil1!$A$19,1)+IF(C5=Feuil1!$A$20,1)+IF(C5=Feuil1!$A$31,1)+IF(C5=Feuil1!$A$32,1)+IF(C5=Feuil1!$A$33,1)+IF(C5=Feuil1!$A$34,1) -> 0 | D6: =IF(D5=Feuil1!$A$15,1)+IF(D5=Feuil1!$A$16,1)+IF(D5=Feuil1!$A$17,1)+IF(D5=Feuil1!$A$18,1)+IF(D5=Feuil1!$A$19,1)+IF(D5=Feuil1!$A$20,1)+IF(D5=Feuil1!$A$31,1)+IF(D5=Feuil1!$A$32,1)+IF(D5=Feuil1!$A$33,1)+IF(D5=Feuil1!$A$34,1) -> 0 | E6: =IF(E5=Feuil1!$A$15,1)+IF(E5=Feuil1!$A$16,1)+IF(E5=Feuil1!$A$17,1)+IF(E5=Feuil1!$A$18,1)+IF(E5=Feuil1!$A$19,1)+IF(E5=Feuil1!$A$20,1)+IF(E5=Feuil1!$A$31,1)+IF(E5=Feuil1!$A$32,1)+IF(E5=Feuil1!$A$33,1)+IF(E5=Feuil1!$A$34,1) -> 0 | F6: =IF(F5=Feuil1!$A$15,1)+IF(F5=Feuil1!$A$16,1)+IF(F5=Feuil1!$A$17,1)+IF(F5=Feuil1!$A$18,1)+IF(F5=Feuil1!$A$19,1)+IF(F5=Feuil1!$A$20,1)+IF(F5=Feuil1!$A$31,1)+IF(F5=Feuil1!$A$32,1)+IF(F5=Feuil1!$A$33,1)+IF(F5=Feuil1!$A$34,1) -> 1 | G6: =IF(G5=Feuil1!$A$15,1)+IF(G5=Feuil1!$A$16,1)+IF(G5=Feuil1!$A$17,1)+IF(G5=Feuil1!$A$18,1)+IF(G5=Feuil1!$A$19,1)+IF(G5=Feuil1!$A$20,1)+IF(G5=Feuil1!$A$31,1)+IF(G5=Feuil1!$A$32,1)+IF(G5=Feuil1!$A$33,1)+IF(G5=Feuil1!$A$34,1) -> 0 | H6: =IF(H5=Feuil1!$A$15,1)+IF(H5=Feuil1!$A$16,1)+IF(H5=Feuil1!$A$17,1)+IF(H5=Feuil1!$A$18,1)+IF(H5=Feuil1!$A$19,1)+IF(H5=Feuil1!$A$20,1)+IF(H5=Feuil1!$A$31,1)+IF(H5=Feuil1!$A$32,1)+IF(H5=Feuil1!$A$33,1)+IF(H5=Feuil1!$A$34,1) -> 0 | I6: =IF(I5=Feuil1!$A$15,1)+IF(I5=Feuil1!$A$16,1)+IF(I5=Feuil1!$A$17,1)+IF(I5=Feuil1!$A$18,1)+IF(I5=Feuil1!$A$19,1)+IF(I5=Feuil1!$A$20,1)+IF(I5=Feuil1!$A$31,1)+IF(I5=Feuil1!$A$32,1)+IF(I5=Feuil1!$A$33,1)+IF(I5=Feuil1!$A$34,1) -> 0 | ... AF6: =IF(AF5=Feuil1!$A$15,1)+IF(AF5=Feuil1!$A$16,1)+IF(AF5=Feuil1!$A$17,1)+IF(AF5=Feuil1!$A$18,1)+IF(AF5=Feuil1!$A$19,1)+IF(AF5=Feuil1!$A$20,1)+IF(AF5=Feuil1!$A$31,1)+IF(AF5=Feuil1!$A$32,1)+IF(AF5=Feuil1!$A$33,1)+IF(AF5=Feuil1!$A$34,1) -> 0
B7: =IF(B5=Feuil1!$A$6,Feuil1!$D$6,0)+IF(B5=Feuil1!$A$7,Feuil1!$D$7,0)+IF(B5=Feuil1!$A$8,Feuil1!$D$8,0)+IF(B5=Feuil1!$A$9,Feuil1!$D$9,0)+IF(B5=Feuil1!$A$10,Feuil1!$D$10,0)+IF(B5=Feuil1!$A$11,Feuil1!$D$11,0)+IF(B5=Feuil1!$A$12,Feuil1!$D$12,0)+IF(B5=Feuil1!$A$13,Feuil1!$D$13,0)+IF(B5=Feuil1!$A$14,Feuil1!$D$14,0)+IF(B5=Feuil1!$A$15,Feuil1!$D$15,0)+IF(B5=Feuil1!$A$16,Feuil1!$D$16,0)+IF(B5=Feuil1!$A$17,Feuil1!$D$17,0)+IF(B5=Feuil1!$A$18,Feuil1!$D$18,0)+IF(B5=Feuil1!$A$19,Feuil1!$D$19,0)+IF(B5=Feuil1!$A$20,Feuil1!$D$20,0)+IF(B5=Feuil1!$A$21,Feuil1!$D$21,0)+IF(B5=Feuil1!$A$22,Feuil1!$D$22,0)+IF(B5=Feuil1!$A$23,Feuil1!$D$23,0)+IF(B5=Feuil1!$A$24,Feuil1!$D$25,0)+IF(B5=Feuil1!$A$26,Feuil1!$D$26,0)+IF(B5=Feuil1!$A$27,Feuil1!$D$27,0)+IF(B5=Feuil1!$A$28,Feuil1!$D$28,0)+IF(B5=Feuil1!$A$29,Feuil1!$D$29,0)+IF(B5=Feuil1!$A$30,Feuil1!$D$30,0)+IF(B5=Feuil1!$A$31,Feuil1!$D$31,0)+IF(B5=Feuil1!$A$32,Feuil1!$D$32,0)+IF(B5=Feuil1!$A$33,Feuil1!$D$33,0)+IF(B5=Feuil1!$A$34,Feuil1!$D$34,0)+IF(B5=Feuil1!$A$35,Feuil1!$D$35,0)+IF(B5=Feuil1!$A$36,Feuil1!$D$36,0)+IF(B5=Feuil1!$A$37,Feuil1!$D$37,0)+IF(B5=Feuil1!$A$38,Feuil1!$D$38,0)+IF(B5=Feuil1!A25,Feuil1!D25,0) -> 0 | C7: =IF(C5=Feuil1!$A$6,Feuil1!$D$6,0)+IF(C5=Feuil1!$A$7,Feuil1!$D$7,0)+IF(C5=Feuil1!$A$8,Feuil1!$D$8,0)+IF(C5=Feuil1!$A$9,Feuil1!$D$9,0)+IF(C5=Feuil1!$A$10,Feuil1!$D$10,0)+IF(C5=Feuil1!$A$11,Feuil1!$D$11,0)+IF(C5=Feuil1!$A$12,Feuil1!$D$12,0)+IF(C5=Feuil1!$A$13,Feuil1!$D$13,0)+IF(C5=Feuil1!$A$14,Feuil1!$D$14,0)+IF(C5=Feuil1!$A$15,Feuil1!$D$15,0)+IF(C5=Feuil1!$A$16,Feuil1!$D$16,0)+IF(C5=Feuil1!$A$17,Feuil1!$D$17,0)+IF(C5=Feuil1!$A$18,Feuil1!$D$18,0)+IF(C5=Feuil1!$A$19,Feuil1!$D$19,0)+IF(C5=Feuil1!$A$20,Feuil1!$D$20,0)+IF(C5=Feuil1!$A$21,Feuil1!$D$21,0)+IF(C5=Feuil1!$A$22,Feuil1!$D$22,0)+IF(C5=Feuil1!$A$23,Feuil1!$D$23,0)+IF(C5=Feuil1!$A$24,Feuil1!$D$25,0)+IF(C5=Feuil1!$A$26,Feuil1!$D$26,0)+IF(C5=Feuil1!$A$27,Feuil1!$D$27,0)+IF(C5=Feuil1!$A$28,Feuil1!$D$28,0)+IF(C5=Feuil1!$A$29,Feuil1!$D$29,0)+IF(C5=Feuil1!$A$30,Feuil1!$D$30,0)+IF(C5=Feuil1!$A$31,Feuil1!$D$31,0)+IF(C5=Feuil1!$A$32,Feuil1!$D$32,0)+IF(C5=Feuil1!$A$33,Feuil1!$D$33,0)+IF(C5=Feuil1!$A$34,Feuil1!$D$34,0)+IF(C5=Feuil1!$A$35,Feuil1!$D$35,0)+IF(C5=Feuil1!$A$36,Feuil1!$D$36,0)+IF(C5=Feuil1!$A$37,Feuil1!$D$37,0)+IF(C5=Feuil1!$A$38,Feuil1!$D$38,0)+IF(C5=Feuil1!B25,Feuil1!E25,0) -> 0 | D7: =IF(D5=Feuil1!$A$6,Feuil1!$D$6,0)+IF(D5=Feuil1!$A$7,Feuil1!$D$7,0)+IF(D5=Feuil1!$A$8,Feuil1!$D$8,0)+IF(D5=Feuil1!$A$9,Feuil1!$D$9,0)+IF(D5=Feuil1!$A$10,Feuil1!$D$10,0)+IF(D5=Feuil1!$A$11,Feuil1!$D$11,0)+IF(D5=Feuil1!$A$12,Feuil1!$D$12,0)+IF(D5=Feuil1!$A$13,Feuil1!$D$13,0)+IF(D5=Feuil1!$A$14,Feuil1!$D$14,0)+IF(D5=Feuil1!$A$15,Feuil1!$D$15,0)+IF(D5=Feuil1!$A$16,Feuil1!$D$16,0)+IF(D5=Feuil1!$A$17,Feuil1!$D$17,0)+IF(D5=Feuil1!$A$18,Feuil1!$D$18,0)+IF(D5=Feuil1!$A$19,Feuil1!$D$19,0)+IF(D5=Feuil1!$A$20,Feuil1!$D$20,0)+IF(D5=Feuil1!$A$21,Feuil1!$D$21,0)+IF(D5=Feuil1!$A$22,Feuil1!$D$22,0)+IF(D5=Feuil1!$A$23,Feuil1!$D$23,0)+IF(D5=Feuil1!$A$24,Feuil1!$D$25,0)+IF(D5=Feuil1!$A$26,Feuil1!$D$26,0)+IF(D5=Feuil1!$A$27,Feuil1!$D$27,0)+IF(D5=Feuil1!$A$28,Feuil1!$D$28,0)+IF(D5=Feuil1!$A$29,Feuil1!$D$29,0)+IF(D5=Feuil1!$A$30,Feuil1!$D$30,0)+IF(D5=Feuil1!$A$31,Feuil1!$D$31,0)+IF(D5=Feuil1!$A$32,Feuil1!$D$32,0)+IF(D5=Feuil1!$A$33,Feuil1!$D$33,0)+IF(D5=Feuil1!$A$34,Feuil1!$D$34,0)+IF(D5=Feuil1!$A$35,Feuil1!$D$35,0)+IF(D5=Feuil1!$A$36,Feuil1!$D$36,0)+IF(D5=Feuil1!$A$37,Feuil1!$D$37,0)+IF(D5=Feuil1!$A$38,Feuil1!$D$38,0)+IF(D5=Feuil1!C25,Feuil1!F25,0) -> 0 | E7: =IF(E5=Feuil1!$A$6,Feuil1!$D$6,0)+IF(E5=Feuil1!$A$7,Feuil1!$D$7,0)+IF(E5=Feuil1!$A$8,Feuil1!$D$8,0)+IF(E5=Feuil1!$A$9,Feuil1!$D$9,0)+IF(E5=Feuil1!$A$10,Feuil1!$D$10,0)+IF(E5=Feuil1!$A$11,Feuil1!$D$11,0)+IF(E5=Feuil1!$A$12,Feuil1!$D$12,0)+IF(E5=Feuil1!$A$13,Feuil1!$D$13,0)+IF(E5=Feuil1!$A$14,Feuil1!$D$14,0)+IF(E5=Feuil1!$A$15,Feuil1!$D$15,0)+IF(E5=Feuil1!$A$16,Feuil1!$D$16,0)+IF(E5=Feuil1!$A$17,Feuil1!$D$17,0)+IF(E5=Feuil1!$A$18,Feuil1!$D$18,0)+IF(E5=Feuil1!$A$19,Feuil1!$D$19,0)+IF(E5=Feuil1!$A$20,Feuil1!$D$20,0)+IF(E5=Feuil1!$A$21,Feuil1!$D$21,0)+IF(E5=Feuil1!$A$22,Feuil1!$D$22,0)+IF(E5=Feuil1!$A$23,Feuil1!$D$23,0)+IF(E5=Feuil1!$A$24,Feuil1!$D$25,0)+IF(E5=Feuil1!$A$26,Feuil1!$D$26,0)+IF(E5=Feuil1!$A$27,Feuil1!$D$27,0)+IF(E5=Feuil1!$A$28,Feuil1!$D$28,0)+IF(E5=Feuil1!$A$29,Feuil1!$D$29,0)+IF(E5=Feuil1!$A$30,Feuil1!$D$30,0)+IF(E5=Feuil1!$A$31,Feuil1!$D$31,0)+IF(E5=Feuil1!$A$32,Feuil1!$D$32,0)+IF(E5=Feuil1!$A$33,Feuil1!$D$33,0)+IF(E5=Feuil1!$A$34,Feuil1!$D$34,0)+IF(E5=Feuil1!$A$35,Feuil1!$D$35,0)+IF(E5=Feuil1!$A$36,Feuil1!$D$36,0)+IF(E5=Feuil1!$A$37,Feuil1!$D$37,0)+IF(E5=Feuil1!$A$38,Feuil1!$D$38,0)+IF(E5=Feuil1!D25,Feuil1!G25,0) -> 0.3125 | F7: =IF(F5=Feuil1!$A$6,Feuil1!$D$6,0)+IF(F5=Feuil1!$A$7,Feuil1!$D$7,0)+IF(F5=Feuil1!$A$8,Feuil1!$D$8,0)+IF(F5=Feuil1!$A$9,Feuil1!$D$9,0)+IF(F5=Feuil1!$A$10,Feuil1!$D$10,0)+IF(F5=Feuil1!$A$11,Feuil1!$D$11,0)+IF(F5=Feuil1!$A$12,Feuil1!$D$12,0)+IF(F5=Feuil1!$A$13,Feuil1!$D$13,0)+IF(F5=Feuil1!$A$14,Feuil1!$D$14,0)+IF(F5=Feuil1!$A$15,Feuil1!$D$15,0)+IF(F5=Feuil1!$A$16,Feuil1!$D$16,0)+IF(F5=Feuil1!$A$17,Feuil1!$D$17,0)+IF(F5=Feuil1!$A$18,Feuil1!$D$18,0)+IF(F5=Feuil1!$A$19,Feuil1!$D$19,0)+IF(F5=Feuil1!$A$20,Feuil1!$D$20,0)+IF(F5=Feuil1!$A$21,Feuil1!$D$21,0)+IF(F5=Feuil1!$A$22,Feuil1!$D$22,0)+IF(F5=Feuil1!$A$23,Feuil1!$D$23,0)+IF(F5=Feuil1!$A$24,Feuil1!$D$25,0)+IF(F5=Feuil1!$A$26,Feuil1!$D$26,0)+IF(F5=Feuil1!$A$27,Feuil1!$D$27,0)+IF(F5=Feuil1!$A$28,Feuil1!$D$28,0)+IF(F5=Feuil1!$A$29,Feuil1!$D$29,0)+IF(F5=Feuil1!$A$30,Feuil1!$D$30,0)+IF(F5=Feuil1!$A$31,Feuil1!$D$31,0)+IF(F5=Feuil1!$A$32,Feuil1!$D$32,0)+IF(F5=Feuil1!$A$33,Feuil1!$D$33,0)+IF(F5=Feuil1!$A$34,Feuil1!$D$34,0)+IF(F5=Feuil1!$A$35,Feuil1!$D$35,0)+IF(F5=Feuil1!$A$36,Feuil1!$D$36,0)+IF(F5=Feuil1!$A$37,Feuil1!$D$37,0)+IF(F5=Feuil1!$A$38,Feuil1!$D$38,0)+IF(F5=Feuil1!E25,Feuil1!H25,0) -> 0.3125 | G7: =IF(G5=Feuil1!$A$6,Feuil1!$D$6,0)+IF(G5=Feuil1!$A$7,Feuil1!$D$7,0)+IF(G5=Feuil1!$A$8,Feuil1!$D$8,0)+IF(G5=Feuil1!$A$9,Feuil1!$D$9,0)+IF(G5=Feuil1!$A$10,Feuil1!$D$10,0)+IF(G5=Feuil1!$A$11,Feuil1!$D$11,0)+IF(G5=Feuil1!$A$12,Feuil1!$D$12,0)+IF(G5=Feuil1!$A$13,Feuil1!$D$13,0)+IF(G5=Feuil1!$A$14,Feuil1!$D$14,0)+IF(G5=Feuil1!$A$15,Feuil1!$D$15,0)+IF(G5=Feuil1!$A$16,Feuil1!$D$16,0)+IF(G5=Feuil1!$A$17,Feuil1!$D$17,0)+IF(G5=Feuil1!$A$18,Feuil1!$D$18,0)+IF(G5=Feuil1!$A$19,Feuil1!$D$19,0)+IF(G5=Feuil1!$A$20,Feuil1!$D$20,0)+IF(G5=Feuil1!$A$21,Feuil1!$D$21,0)+IF(G5=Feuil1!$A$22,Feuil1!$D$22,0)+IF(G5=Feuil1!$A$23,Feuil1!$D$23,0)+IF(G5=Feuil1!$A$24,Feuil1!$D$25,0)+IF(G5=Feuil1!$A$26,Feuil1!$D$26,0)+IF(G5=Feuil1!$A$27,Feuil1!$D$27,0)+IF(G5=Feuil1!$A$28,Feuil1!$D$28,0)+IF(G5=Feuil1!$A$29,Feuil1!$D$29,0)+IF(G5=Feuil1!$A$30,Feuil1!$D$30,0)+IF(G5=Feuil1!$A$31,Feuil1!$D$31,0)+IF(G5=Feuil1!$A$32,Feuil1!$D$32,0)+IF(G5=Feuil1!$A$33,Feuil1!$D$33,0)+IF(G5=Feuil1!$A$34,Feuil1!$D$34,0)+IF(G5=Feuil1!$A$35,Feuil1!$D$35,0)+IF(G5=Feuil1!$A$36,Feuil1!$D$36,0)+IF(G5=Feuil1!$A$37,Feuil1!$D$37,0)+IF(G5=Feuil1!$A$38,Feuil1!$D$38,0)+IF(G5=Feuil1!F25,Feuil1!I25,0) -> 0 | H7: =IF(H5=Feuil1!$A$6,Feuil1!$D$6,0)+IF(H5=Feuil1!$A$7,Feuil1!$D$7,0)+IF(H5=Feuil1!$A$8,Feuil1!$D$8,0)+IF(H5=Feuil1!$A$9,Feuil1!$D$9,0)+IF(H5=Feuil1!$A$10,Feuil1!$D$10,0)+IF(H5=Feuil1!$A$11,Feuil1!$D$11,0)+IF(H5=Feuil1!$A$12,Feuil1!$D$12,0)+IF(H5=Feuil1!$A$13,Feuil1!$D$13,0)+IF(H5=Feuil1!$A$14,Feuil1!$D$14,0)+IF(H5=Feuil1!$A$15,Feuil1!$D$15,0)+IF(H5=Feuil1!$A$16,Feuil1!$D$16,0)+IF(H5=Feuil1!$A$17,Feuil1!$D$17,0)+IF(H5=Feuil1!$A$18,Feuil1!$D$18,0)+IF(H5=Feuil1!$A$19,Feuil1!$D$19,0)+IF(H5=Feuil1!$A$20,Feuil1!$D$20,0)+IF(H5=Feuil1!$A$21,Feuil1!$D$21,0)+IF(H5=Feuil1!$A$22,Feuil1!$D$22,0)+IF(H5=Feuil1!$A$23,Feuil1!$D$23,0)+IF(H5=Feuil1!$A$24,Feuil1!$D$25,0)+IF(H5=Feuil1!$A$26,Feuil1!$D$26,0)+IF(H5=Feuil1!$A$27,Feuil1!$D$27,0)+IF(H5=Feuil1!$A$28,Feuil1!$D$28,0)+IF(H5=Feuil1!$A$29,Feuil1!$D$29,0)+IF(H5=Feuil1!$A$30,Feuil1!$D$30,0)+IF(H5=Feuil1!$A$31,Feuil1!$D$31,0)+IF(H5=Feuil1!$A$32,Feuil1!$D$32,0)+IF(H5=Feuil1!$A$33,Feuil1!$D$33,0)+IF(H5=Feuil1!$A$34,Feuil1!$D$34,0)+IF(H5=Feuil1!$A$35,Feuil1!$D$35,0)+IF(H5=Feuil1!$A$36,Feuil1!$D$36,0)+IF(H5=Feuil1!$A$37,Feuil1!$D$37,0)+IF(H5=Feuil1!$A$38,Feuil1!$D$38,0)+IF(H5=Feuil1!G25,Feuil1!J25,0) -> 0 | I7: =IF(I5=Feuil1!$A$6,Feuil1!$D$6,0)+IF(I5=Feuil1!$A$7,Feuil1!$D$7,0)+IF(I5=Feuil1!$A$8,Feuil1!$D$8,0)+IF(I5=Feuil1!$A$9,Feuil1!$D$9,0)+IF(I5=Feuil1!$A$10,Feuil1!$D$10,0)+IF(I5=Feuil1!$A$11,Feuil1!$D$11,0)+IF(I5=Feuil1!$A$12,Feuil1!$D$12,0)+IF(I5=Feuil1!$A$13,Feuil1!$D$13,0)+IF(I5=Feuil1!$A$14,Feuil1!$D$14,0)+IF(I5=Feuil1!$A$15,Feuil1!$D$15,0)+IF(I5=Feuil1!$A$16,Feuil1!$D$16,0)+IF(I5=Feuil1!$A$17,Feuil1!$D$17,0)+IF(I5=Feuil1!$A$18,Feuil1!$D$18,0)+IF(I5=Feuil1!$A$19,Feuil1!$D$19,0)+IF(I5=Feuil1!$A$20,Feuil1!$D$20,0)+IF(I5=Feuil1!$A$21,Feuil1!$D$21,0)+IF(I5=Feuil1!$A$22,Feuil1!$D$22,0)+IF(I5=Feuil1!$A$23,Feuil1!$D$23,0)+IF(I5=Feuil1!$A$24,Feuil1!$D$25,0)+IF(I5=Feuil1!$A$26,Feuil1!$D$26,0)+IF(I5=Feuil1!$A$27,Feuil1!$D$27,0)+IF(I5=Feuil1!$A$28,Feuil1!$D$28,0)+IF(I5=Feuil1!$A$29,Feuil1!$D$29,0)+IF(I5=Feuil1!$A$30,Feuil1!$D$30,0)+IF(I5=Feuil1!$A$31,Feuil1!$D$31,0)+IF(I5=Feuil1!$A$32,Feuil1!$D$32,0)+IF(I5=Feuil1!$A$33,Feuil1!$D$33,0)+IF(I5=Feuil1!$A$34,Feuil1!$D$34,0)+IF(I5=Feuil1!$A$35,Feuil1!$D$35,0)+IF(I5=Feuil1!$A$36,Feuil1!$D$36,0)+IF(I5=Feuil1!$A$37,Feuil1!$D$37,0)+IF(I5=Feuil1!$A$38,Feuil1!$D$38,0)+IF(I5=Feuil1!H25,Feuil1!K25,0) -> 0.3125 | ... AF7: =IF(AF5=Feuil1!$A$6,Feuil1!$D$6,0)+IF(AF5=Feuil1!$A$7,Feuil1!$D$7,0)+IF(AF5=Feuil1!$A$8,Feuil1!$D$8,0)+IF(AF5=Feuil1!$A$9,Feuil1!$D$9,0)+IF(AF5=Feuil1!$A$10,Feuil1!$D$10,0)+IF(AF5=Feuil1!$A$11,Feuil1!$D$11,0)+IF(AF5=Feuil1!$A$12,Feuil1!$D$12,0)+IF(AF5=Feuil1!$A$13,Feuil1!$D$13,0)+IF(AF5=Feuil1!$A$14,Feuil1!$D$14,0)+IF(AF5=Feuil1!$A$15,Feuil1!$D$15,0)+IF(AF5=Feuil1!$A$16,Feuil1!$D$16,0)+IF(AF5=Feuil1!$A$17,Feuil1!$D$17,0)+IF(AF5=Feuil1!$A$18,Feuil1!$D$18,0)+IF(AF5=Feuil1!$A$19,Feuil1!$D$19,0)+IF(AF5=Feuil1!$A$20,Feuil1!$D$20,0)+IF(AF5=Feuil1!$A$21,Feuil1!$D$21,0)+IF(AF5=Feuil1!$A$22,Feuil1!$D$22,0)+IF(AF5=Feuil1!$A$23,Feuil1!$D$23,0)+IF(AF5=Feuil1!$A$24,Feuil1!$D$25,0)+IF(AF5=Feuil1!$A$26,Feuil1!$D$26,0)+IF(AF5=Feuil1!$A$27,Feuil1!$D$27,0)+IF(AF5=Feuil1!$A$28,Feuil1!$D$28,0)+IF(AF5=Feuil1!$A$29,Feuil1!$D$29,0)+IF(AF5=Feuil1!$A$30,Feuil1!$D$30,0)+IF(AF5=Feuil1!$A$31,Feuil1!$D$31,0)+IF(AF5=Feuil1!$A$32,Feuil1!$D$32,0)+IF(AF5=Feuil1!$A$33,Feuil1!$D$33,0)+IF(AF5=Feuil1!$A$34,Feuil1!$D$34,0)+IF(AF5=Feuil1!$A$35,Feuil1!$D$35,0)+IF(AF5=Feuil1!$A$36,Feuil1!$D$36,0)+IF(AF5=Feuil1!$A$37,Feuil1!$D$37,0)+IF(AF5=Feuil1!$A$38,Feuil1!$D$38,0)+IF(AF5=Feuil1!AE25,Feuil1!AH25,0) -> 0.3125
A8: =A5+1 -> 2 | B8: FJ | C8: R | D8: TP | E8: R | F8: PASA | G8: SFJ | H8: FJ | I8: PASA | J8: R | K8: TP | L8: PB | M8: RC | N8: R | O8: R | P8: CA | Q8: CA | R8: TP | S8: CA | T8: CA | U8: R | V8: R | W8: RTT | X8: RTT | Y8: TP | Z8: R | AA8: PASA | AB8: FJ | AC8: FJ | AD8: R | AE8: GIR | AF8: TP | AG8: =SUM(B9:AF9) -> 1 | AH8: =SUM(B10:AF10) -> 2.875 | AI8: FJ2/PB/ VB
A9: =A6+1 -> 1 | B9: =IF(B8=Feuil1!$A$15,1)+IF(B8=Feuil1!$A$16,1)+IF(B8=Feuil1!$A$17,1)+IF(B8=Feuil1!$A$18,1)+IF(B8=Feuil1!$A$19,1)+IF(B8=Feuil1!$A$20,1)+IF(B8=Feuil1!$A$31,1)+IF(B8=Feuil1!$A$32,1)+IF(B8=Feuil1!$A$33,1)+IF(B8=Feuil1!$A$34,1) -> 0 | C9: =IF(C8=Feuil1!$A$15,1)+IF(C8=Feuil1!$A$16,1)+IF(C8=Feuil1!$A$17,1)+IF(C8=Feuil1!$A$18,1)+IF(C8=Feuil1!$A$19,1)+IF(C8=Feuil1!$A$20,1)+IF(C8=Feuil1!$A$31,1)+IF(C8=Feuil1!$A$32,1)+IF(C8=Feuil1!$A$33,1)+IF(C8=Feuil1!$A$34,1) -> 0 | D9: =IF(D8=Feuil1!$A$15,1)+IF(D8=Feuil1!$A$16,1)+IF(D8=Feuil1!$A$17,1)+IF(D8=Feuil1!$A$18,1)+IF(D8=Feuil1!$A$19,1)+IF(D8=Feuil1!$A$20,1)+IF(D8=Feuil1!$A$31,1)+IF(D8=Feuil1!$A$32,1)+IF(D8=Feuil1!$A$33,1)+IF(D8=Feuil1!$A$34,1) -> 0 | E9: =IF(E8=Feuil1!$A$15,1)+IF(E8=Feuil1!$A$16,1)+IF(E8=Feuil1!$A$17,1)+IF(E8=Feuil1!$A$18,1)+IF(E8=Feuil1!$A$19,1)+IF(E8=Feuil1!$A$20,1)+IF(E8=Feuil1!$A$31,1)+IF(E8=Feuil1!$A$32,1)+IF(E8=Feuil1!$A$33,1)+IF(E8=Feuil1!$A$34,1) -> 0 | F9: =IF(F8=Feuil1!$A$15,1)+IF(F8=Feuil1!$A$16,1)+IF(F8=Feuil1!$A$17,1)+IF(F8=Feuil1!$A$18,1)+IF(F8=Feuil1!$A$19,1)+IF(F8=Feuil1!$A$20,1)+IF(F8=Feuil1!$A$31,1)+IF(F8=Feuil1!$A$32,1)+IF(F8=Feuil1!$A$33,1)+IF(F8=Feuil1!$A$34,1) -> 0 | G9: =IF(G8=Feuil1!$A$15,1)+IF(G8=Feuil1!$A$16,1)+IF(G8=Feuil1!$A$17,1)+IF(G8=Feuil1!$A$18,1)+IF(G8=Feuil1!$A$19,1)+IF(G8=Feuil1!$A$20,1)+IF(G8=Feuil1!$A$31,1)+IF(G8=Feuil1!$A$32,1)+IF(G8=Feuil1!$A$33,1)+IF(G8=Feuil1!$A$34,1) -> 1 | H9: =IF(H8=Feuil1!$A$15,1)+IF(H8=Feuil1!$A$16,1)+IF(H8=Feuil1!$A$17,1)+IF(H8=Feuil1!$A$18,1)+IF(H8=Feuil1!$A$19,1)+IF(H8=Feuil1!$A$20,1)+IF(H8=Feuil1!$A$31,1)+IF(H8=Feuil1!$A$32,1)+IF(H8=Feuil1!$A$33,1)+IF(H8=Feuil1!$A$34,1) -> 0 | I9: =IF(I8=Feuil1!$A$15,1)+IF(I8=Feuil1!$A$16,1)+IF(I8=Feuil1!$A$17,1)+IF(I8=Feuil1!$A$18,1)+IF(I8=Feuil1!$A$19,1)+IF(I8=Feuil1!$A$20,1)+IF(I8=Feuil1!$A$31,1)+IF(I8=Feuil1!$A$32,1)+IF(I8=Feuil1!$A$33,1)+IF(I8=Feuil1!$A$34,1) -> 0 | ... AF9: =IF(AF8=Feuil1!$A$15,1)+IF(AF8=Feuil1!$A$16,1)+IF(AF8=Feuil1!$A$17,1)+IF(AF8=Feuil1!$A$18,1)+IF(AF8=Feuil1!$A$19,1)+IF(AF8=Feuil1!$A$20,1)+IF(AF8=Feuil1!$A$31,1)+IF(AF8=Feuil1!$A$32,1)+IF(AF8=Feuil1!$A$33,1)+IF(AF8=Feuil1!$A$34,1) -> 0
A10: =A7+1 -> 1 | B10: =IF(B8=Feuil1!$A$6,Feuil1!$D$6,0)+IF(B8=Feuil1!$A$7,Feuil1!$D$7,0)+IF(B8=Feuil1!$A$8,Feuil1!$D$8,0)+IF(B8=Feuil1!$A$9,Feuil1!$D$9,0)+IF(B8=Feuil1!$A$10,Feuil1!$D$10,0)+IF(B8=Feuil1!$A$11,Feuil1!$D$11,0)+IF(B8=Feuil1!$A$12,Feuil1!$D$12,0)+IF(B8=Feuil1!$A$13,Feuil1!$D$13,0)+IF(B8=Feuil1!$A$14,Feuil1!$D$14,0)+IF(B8=Feuil1!$A$15,Feuil1!$D$15,0)+IF(B8=Feuil1!$A$16,Feuil1!$D$16,0)+IF(B8=Feuil1!$A$17,Feuil1!$D$17,0)+IF(B8=Feuil1!$A$18,Feuil1!$D$18,0)+IF(B8=Feuil1!$A$19,Feuil1!$D$19,0)+IF(B8=Feuil1!$A$20,Feuil1!$D$20,0)+IF(B8=Feuil1!$A$21,Feuil1!$D$21,0)+IF(B8=Feuil1!$A$22,Feuil1!$D$22,0)+IF(B8=Feuil1!$A$23,Feuil1!$D$23,0)+IF(B8=Feuil1!$A$24,Feuil1!$D$25,0)+IF(B8=Feuil1!$A$26,Feuil1!$D$26,0)+IF(B8=Feuil1!$A$27,Feuil1!$D$27,0)+IF(B8=Feuil1!$A$28,Feuil1!$D$28,0)+IF(B8=Feuil1!$A$29,Feuil1!$D$29,0)+IF(B8=Feuil1!$A$30,Feuil1!$D$30,0)+IF(B8=Feuil1!$A$31,Feuil1!$D$31,0)+IF(B8=Feuil1!$A$32,Feuil1!$D$32,0)+IF(B8=Feuil1!$A$33,Feuil1!$D$33,0)+IF(B8=Feuil1!$A$34,Feuil1!$D$34,0)+IF(B8=Feuil1!$A$35,Feuil1!$D$35,0)+IF(B8=Feuil1!$A$36,Feuil1!$D$36,0)+IF(B8=Feuil1!$A$37,Feuil1!$D$37,0)+IF(B8=Feuil1!$A$38,Feuil1!$D$38,0)+IF(B8=Feuil1!A28,Feuil1!D28,0) -> 0.3125 | C10: =IF(C8=Feuil1!$A$6,Feuil1!$D$6,0)+IF(C8=Feuil1!$A$7,Feuil1!$D$7,0)+IF(C8=Feuil1!$A$8,Feuil1!$D$8,0)+IF(C8=Feuil1!$A$9,Feuil1!$D$9,0)+IF(C8=Feuil1!$A$10,Feuil1!$D$10,0)+IF(C8=Feuil1!$A$11,Feuil1!$D$11,0)+IF(C8=Feuil1!$A$12,Feuil1!$D$12,0)+IF(C8=Feuil1!$A$13,Feuil1!$D$13,0)+IF(C8=Feuil1!$A$14,Feuil1!$D$14,0)+IF(C8=Feuil1!$A$15,Feuil1!$D$15,0)+IF(C8=Feuil1!$A$16,Feuil1!$D$16,0)+IF(C8=Feuil1!$A$17,Feuil1!$D$17,0)+IF(C8=Feuil1!$A$18,Feuil1!$D$18,0)+IF(C8=Feuil1!$A$19,Feuil1!$D$19,0)+IF(C8=Feuil1!$A$20,Feuil1!$D$20,0)+IF(C8=Feuil1!$A$21,Feuil1!$D$21,0)+IF(C8=Feuil1!$A$22,Feuil1!$D$22,0)+IF(C8=Feuil1!$A$23,Feuil1!$D$23,0)+IF(C8=Feuil1!$A$24,Feuil1!$D$25,0)+IF(C8=Feuil1!$A$26,Feuil1!$D$26,0)+IF(C8=Feuil1!$A$27,Feuil1!$D$27,0)+IF(C8=Feuil1!$A$28,Feuil1!$D$28,0)+IF(C8=Feuil1!$A$29,Feuil1!$D$29,0)+IF(C8=Feuil1!$A$30,Feuil1!$D$30,0)+IF(C8=Feuil1!$A$31,Feuil1!$D$31,0)+IF(C8=Feuil1!$A$32,Feuil1!$D$32,0)+IF(C8=Feuil1!$A$33,Feuil1!$D$33,0)+IF(C8=Feuil1!$A$34,Feuil1!$D$34,0)+IF(C8=Feuil1!$A$35,Feuil1!$D$35,0)+IF(C8=Feuil1!$A$36,Feuil1!$D$36,0)+IF(C8=Feuil1!$A$37,Feuil1!$D$37,0)+IF(C8=Feuil1!$A$38,Feuil1!$D$38,0)+IF(C8=Feuil1!B28,Feuil1!E28,0) -> 0 | D10: =IF(D8=Feuil1!$A$6,Feuil1!$D$6,0)+IF(D8=Feuil1!$A$7,Feuil1!$D$7,0)+IF(D8=Feuil1!$A$8,Feuil1!$D$8,0)+IF(D8=Feuil1!$A$9,Feuil1!$D$9,0)+IF(D8=Feuil1!$A$10,Feuil1!$D$10,0)+IF(D8=Feuil1!$A$11,Feuil1!$D$11,0)+IF(D8=Feuil1!$A$12,Feuil1!$D$12,0)+IF(D8=Feuil1!$A$13,Feuil1!$D$13,0)+IF(D8=Feuil1!$A$14,Feuil1!$D$14,0)+IF(D8=Feuil1!$A$15,Feuil1!$D$15,0)+IF(D8=Feuil1!$A$16,Feuil1!$D$16,0)+IF(D8=Feuil1!$A$17,Feuil1!$D$17,0)+IF(D8=Feuil1!$A$18,Feuil1!$D$18,0)+IF(D8=Feuil1!$A$19,Feuil1!$D$19,0)+IF(D8=Feuil1!$A$20,Feuil1!$D$20,0)+IF(D8=Feuil1!$A$21,Feuil1!$D$21,0)+IF(D8=Feuil1!$A$22,Feuil1!$D$22,0)+IF(D8=Feuil1!$A$23,Feuil1!$D$23,0)+IF(D8=Feuil1!$A$24,Feuil1!$D$25,0)+IF(D8=Feuil1!$A$26,Feuil1!$D$26,0)+IF(D8=Feuil1!$A$27,Feuil1!$D$27,0)+IF(D8=Feuil1!$A$28,Feuil1!$D$28,0)+IF(D8=Feuil1!$A$29,Feuil1!$D$29,0)+IF(D8=Feuil1!$A$30,Feuil1!$D$30,0)+IF(D8=Feuil1!$A$31,Feuil1!$D$31,0)+IF(D8=Feuil1!$A$32,Feuil1!$D$32,0)+IF(D8=Feuil1!$A$33,Feuil1!$D$33,0)+IF(D8=Feuil1!$A$34,Feuil1!$D$34,0)+IF(D8=Feuil1!$A$35,Feuil1!$D$35,0)+IF(D8=Feuil1!$A$36,Feuil1!$D$36,0)+IF(D8=Feuil1!$A$37,Feuil1!$D$37,0)+IF(D8=Feuil1!$A$38,Feuil1!$D$38,0)+IF(D8=Feuil1!C28,Feuil1!F28,0) -> 0 | E10: =IF(E8=Feuil1!$A$6,Feuil1!$D$6,0)+IF(E8=Feuil1!$A$7,Feuil1!$D$7,0)+IF(E8=Feuil1!$A$8,Feuil1!$D$8,0)+IF(E8=Feuil1!$A$9,Feuil1!$D$9,0)+IF(E8=Feuil1!$A$10,Feuil1!$D$10,0)+IF(E8=Feuil1!$A$11,Feuil1!$D$11,0)+IF(E8=Feuil1!$A$12,Feuil1!$D$12,0)+IF(E8=Feuil1!$A$13,Feuil1!$D$13,0)+IF(E8=Feuil1!$A$14,Feuil1!$D$14,0)+IF(E8=Feuil1!$A$15,Feuil1!$D$15,0)+IF(E8=Feuil1!$A$16,Feuil1!$D$16,0)+IF(E8=Feuil1!$A$17,Feuil1!$D$17,0)+IF(E8=Feuil1!$A$18,Feuil1!$D$18,0)+IF(E8=Feuil1!$A$19,Feuil1!$D$19,0)+IF(E8=Feuil1!$A$20,Feuil1!$D$20,0)+IF(E8=Feuil1!$A$21,Feuil1!$D$21,0)+IF(E8=Feuil1!$A$22,Feuil1!$D$22,0)+IF(E8=Feuil1!$A$23,Feuil1!$D$23,0)+IF(E8=Feuil1!$A$24,Feuil1!$D$25,0)+IF(E8=Feuil1!$A$26,Feuil1!$D$26,0)+IF(E8=Feuil1!$A$27,Feuil1!$D$27,0)+IF(E8=Feuil1!$A$28,Feuil1!$D$28,0)+IF(E8=Feuil1!$A$29,Feuil1!$D$29,0)+IF(E8=Feuil1!$A$30,Feuil1!$D$30,0)+IF(E8=Feuil1!$A$31,Feuil1!$D$31,0)+IF(E8=Feuil1!$A$32,Feuil1!$D$32,0)+IF(E8=Feuil1!$A$33,Feuil1!$D$33,0)+IF(E8=Feuil1!$A$34,Feuil1!$D$34,0)+IF(E8=Feuil1!$A$35,Feuil1!$D$35,0)+IF(E8=Feuil1!$A$36,Feuil1!$D$36,0)+IF(E8=Feuil1!$A$37,Feuil1!$D$37,0)+IF(E8=Feuil1!$A$38,Feuil1!$D$38,0)+IF(E8=Feuil1!D28,Feuil1!G28,0) -> 0 | F10: =IF(F8=Feuil1!$A$6,Feuil1!$D$6,0)+IF(F8=Feuil1!$A$7,Feuil1!$D$7,0)+IF(F8=Feuil1!$A$8,Feuil1!$D$8,0)+IF(F8=Feuil1!$A$9,Feuil1!$D$9,0)+IF(F8=Feuil1!$A$10,Feuil1!$D$10,0)+IF(F8=Feuil1!$A$11,Feuil1!$D$11,0)+IF(F8=Feuil1!$A$12,Feuil1!$D$12,0)+IF(F8=Feuil1!$A$13,Feuil1!$D$13,0)+IF(F8=Feuil1!$A$14,Feuil1!$D$14,0)+IF(F8=Feuil1!$A$15,Feuil1!$D$15,0)+IF(F8=Feuil1!$A$16,Feuil1!$D$16,0)+IF(F8=Feuil1!$A$17,Feuil1!$D$17,0)+IF(F8=Feuil1!$A$18,Feuil1!$D$18,0)+IF(F8=Feuil1!$A$19,Feuil1!$D$19,0)+IF(F8=Feuil1!$A$20,Feuil1!$D$20,0)+IF(F8=Feuil1!$A$21,Feuil1!$D$21,0)+IF(F8=Feuil1!$A$22,Feuil1!$D$22,0)+IF(F8=Feuil1!$A$23,Feuil1!$D$23,0)+IF(F8=Feuil1!$A$24,Feuil1!$D$25,0)+IF(F8=Feuil1!$A$26,Feuil1!$D$26,0)+IF(F8=Feuil1!$A$27,Feuil1!$D$27,0)+IF(F8=Feuil1!$A$28,Feuil1!$D$28,0)+IF(F8=Feuil1!$A$29,Feuil1!$D$29,0)+IF(F8=Feuil1!$A$30,Feuil1!$D$30,0)+IF(F8=Feuil1!$A$31,Feuil1!$D$31,0)+IF(F8=Feuil1!$A$32,Feuil1!$D$32,0)+IF(F8=Feuil1!$A$33,Feuil1!$D$33,0)+IF(F8=Feuil1!$A$34,Feuil1!$D$34,0)+IF(F8=Feuil1!$A$35,Feuil1!$D$35,0)+IF(F8=Feuil1!$A$36,Feuil1!$D$36,0)+IF(F8=Feuil1!$A$37,Feuil1!$D$37,0)+IF(F8=Feuil1!$A$38,Feuil1!$D$38,0)+IF(F8=Feuil1!E28,Feuil1!H28,0) -> 0.33333333 | G10: =IF(G8=Feuil1!$A$6,Feuil1!$D$6,0)+IF(G8=Feuil1!$A$7,Feuil1!$D$7,0)+IF(G8=Feuil1!$A$8,Feuil1!$D$8,0)+IF(G8=Feuil1!$A$9,Feuil1!$D$9,0)+IF(G8=Feuil1!$A$10,Feuil1!$D$10,0)+IF(G8=Feuil1!$A$11,Feuil1!$D$11,0)+IF(G8=Feuil1!$A$12,Feuil1!$D$12,0)+IF(G8=Feuil1!$A$13,Feuil1!$D$13,0)+IF(G8=Feuil1!$A$14,Feuil1!$D$14,0)+IF(G8=Feuil1!$A$15,Feuil1!$D$15,0)+IF(G8=Feuil1!$A$16,Feuil1!$D$16,0)+IF(G8=Feuil1!$A$17,Feuil1!$D$17,0)+IF(G8=Feuil1!$A$18,Feuil1!$D$18,0)+IF(G8=Feuil1!$A$19,Feuil1!$D$19,0)+IF(G8=Feuil1!$A$20,Feuil1!$D$20,0)+IF(G8=Feuil1!$A$21,Feuil1!$D$21,0)+IF(G8=Feuil1!$A$22,Feuil1!$D$22,0)+IF(G8=Feuil1!$A$23,Feuil1!$D$23,0)+IF(G8=Feuil1!$A$24,Feuil1!$D$25,0)+IF(G8=Feuil1!$A$26,Feuil1!$D$26,0)+IF(G8=Feuil1!$A$27,Feuil1!$D$27,0)+IF(G8=Feuil1!$A$28,Feuil1!$D$28,0)+IF(G8=Feuil1!$A$29,Feuil1!$D$29,0)+IF(G8=Feuil1!$A$30,Feuil1!$D$30,0)+IF(G8=Feuil1!$A$31,Feuil1!$D$31,0)+IF(G8=Feuil1!$A$32,Feuil1!$D$32,0)+IF(G8=Feuil1!$A$33,Feuil1!$D$33,0)+IF(G8=Feuil1!$A$34,Feuil1!$D$34,0)+IF(G8=Feuil1!$A$35,Feuil1!$D$35,0)+IF(G8=Feuil1!$A$36,Feuil1!$D$36,0)+IF(G8=Feuil1!$A$37,Feuil1!$D$37,0)+IF(G8=Feuil1!$A$38,Feuil1!$D$38,0)+IF(G8=Feuil1!F28,Feuil1!I28,0) -> 0.3125 | H10: =IF(H8=Feuil1!$A$6,Feuil1!$D$6,0)+IF(H8=Feuil1!$A$7,Feuil1!$D$7,0)+IF(H8=Feuil1!$A$8,Feuil1!$D$8,0)+IF(H8=Feuil1!$A$9,Feuil1!$D$9,0)+IF(H8=Feuil1!$A$10,Feuil1!$D$10,0)+IF(H8=Feuil1!$A$11,Feuil1!$D$11,0)+IF(H8=Feuil1!$A$12,Feuil1!$D$12,0)+IF(H8=Feuil1!$A$13,Feuil1!$D$13,0)+IF(H8=Feuil1!$A$14,Feuil1!$D$14,0)+IF(H8=Feuil1!$A$15,Feuil1!$D$15,0)+IF(H8=Feuil1!$A$16,Feuil1!$D$16,0)+IF(H8=Feuil1!$A$17,Feuil1!$D$17,0)+IF(H8=Feuil1!$A$18,Feuil1!$D$18,0)+IF(H8=Feuil1!$A$19,Feuil1!$D$19,0)+IF(H8=Feuil1!$A$20,Feuil1!$D$20,0)+IF(H8=Feuil1!$A$21,Feuil1!$D$21,0)+IF(H8=Feuil1!$A$22,Feuil1!$D$22,0)+IF(H8=Feuil1!$A$23,Feuil1!$D$23,0)+IF(H8=Feuil1!$A$24,Feuil1!$D$25,0)+IF(H8=Feuil1!$A$26,Feuil1!$D$26,0)+IF(H8=Feuil1!$A$27,Feuil1!$D$27,0)+IF(H8=Feuil1!$A$28,Feuil1!$D$28,0)+IF(H8=Feuil1!$A$29,Feuil1!$D$29,0)+IF(H8=Feuil1!$A$30,Feuil1!$D$30,0)+IF(H8=Feuil1!$A$31,Feuil1!$D$31,0)+IF(H8=Feuil1!$A$32,Feuil1!$D$32,0)+IF(H8=Feuil1!$A$33,Feuil1!$D$33,0)+IF(H8=Feuil1!$A$34,Feuil1!$D$34,0)+IF(H8=Feuil1!$A$35,Feuil1!$D$35,0)+IF(H8=Feuil1!$A$36,Feuil1!$D$36,0)+IF(H8=Feuil1!$A$37,Feuil1!$D$37,0)+IF(H8=Feuil1!$A$38,Feuil1!$D$38,0)+IF(H8=Feuil1!G28,Feuil1!J28,0) -> 0.3125 | I10: =IF(I8=Feuil1!$A$6,Feuil1!$D$6,0)+IF(I8=Feuil1!$A$7,Feuil1!$D$7,0)+IF(I8=Feuil1!$A$8,Feuil1!$D$8,0)+IF(I8=Feuil1!$A$9,Feuil1!$D$9,0)+IF(I8=Feuil1!$A$10,Feuil1!$D$10,0)+IF(I8=Feuil1!$A$11,Feuil1!$D$11,0)+IF(I8=Feuil1!$A$12,Feuil1!$D$12,0)+IF(I8=Feuil1!$A$13,Feuil1!$D$13,0)+IF(I8=Feuil1!$A$14,Feuil1!$D$14,0)+IF(I8=Feuil1!$A$15,Feuil1!$D$15,0)+IF(I8=Feuil1!$A$16,Feuil1!$D$16,0)+IF(I8=Feuil1!$A$17,Feuil1!$D$17,0)+IF(I8=Feuil1!$A$18,Feuil1!$D$18,0)+IF(I8=Feuil1!$A$19,Feuil1!$D$19,0)+IF(I8=Feuil1!$A$20,Feuil1!$D$20,0)+IF(I8=Feuil1!$A$21,Feuil1!$D$21,0)+IF(I8=Feuil1!$A$22,Feuil1!$D$22,0)+IF(I8=Feuil1!$A$23,Feuil1!$D$23,0)+IF(I8=Feuil1!$A$24,Feuil1!$D$25,0)+IF(I8=Feuil1!$A$26,Feuil1!$D$26,0)+IF(I8=Feuil1!$A$27,Feuil1!$D$27,0)+IF(I8=Feuil1!$A$28,Feuil1!$D$28,0)+IF(I8=Feuil1!$A$29,Feuil1!$D$29,0)+IF(I8=Feuil1!$A$30,Feuil1!$D$30,0)+IF(I8=Feuil1!$A$31,Feuil1!$D$31,0)+IF(I8=Feuil1!$A$32,Feuil1!$D$32,0)+IF(I8=Feuil1!$A$33,Feuil1!$D$33,0)+IF(I8=Feuil1!$A$34,Feuil1!$D$34,0)+IF(I8=Feuil1!$A$35,Feuil1!$D$35,0)+IF(I8=Feuil1!$A$36,Feuil1!$D$36,0)+IF(I8=Feuil1!$A$37,Feuil1!$D$37,0)+IF(I8=Feuil1!$A$38,Feuil1!$D$38,0)+IF(I8=Feuil1!H28,Feuil1!K28,0) -> 0.33333333 | ... AF10: =IF(AF8=Feuil1!$A$6,Feuil1!$D$6,0)+IF(AF8=Feuil1!$A$7,Feuil1!$D$7,0)+IF(AF8=Feuil1!$A$8,Feuil1!$D$8,0)+IF(AF8=Feuil1!$A$9,Feuil1!$D$9,0)+IF(AF8=Feuil1!$A$10,Feuil1!$D$10,0)+IF(AF8=Feuil1!$A$11,Feuil1!$D$11,0)+IF(AF8=Feuil1!$A$12,Feuil1!$D$12,0)+IF(AF8=Feuil1!$A$13,Feuil1!$D$13,0)+IF(AF8=Feuil1!$A$14,Feuil1!$D$14,0)+IF(AF8=Feuil1!$A$15,Feuil1!$D$15,0)+IF(AF8=Feuil1!$A$16,Feuil1!$D$16,0)+IF(AF8=Feuil1!$A$17,Feuil1!$D$17,0)+IF(AF8=Feuil1!$A$18,Feuil1!$D$18,0)+IF(AF8=Feuil1!$A$19,Feuil1!$D$19,0)+IF(AF8=Feuil1!$A$20,Feuil1!$D$20,0)+IF(AF8=Feuil1!$A$21,Feuil1!$D$21,0)+IF(AF8=Feuil1!$A$22,Feuil1!$D$22,0)+IF(AF8=Feuil1!$A$23,Feuil1!$D$23,0)+IF(AF8=Feuil1!$A$24,Feuil1!$D$25,0)+IF(AF8=Feuil1!$A$26,Feuil1!$D$26,0)+IF(AF8=Feuil1!$A$27,Feuil1!$D$27,0)+IF(AF8=Feuil1!$A$28,Feuil1!$D$28,0)+IF(AF8=Feuil1!$A$29,Feuil1!$D$29,0)+IF(AF8=Feuil1!$A$30,Feuil1!$D$30,0)+IF(AF8=Feuil1!$A$31,Feuil1!$D$31,0)+IF(AF8=Feuil1!$A$32,Feuil1!$D$32,0)+IF(AF8=Feuil1!$A$33,Feuil1!$D$33,0)+IF(AF8=Feuil1!$A$34,Feuil1!$D$34,0)+IF(AF8=Feuil1!$A$35,Feuil1!$D$35,0)+IF(AF8=Feuil1!$A$36,Feuil1!$D$36,0)+IF(AF8=Feuil1!$A$37,Feuil1!$D$37,0)+IF(AF8=Feuil1!$A$38,Feuil1!$D$38,0)+IF(AF8=Feuil1!AE28,Feuil1!AH28,0) -> 0
A11: =A8+1 -> 3 | B11: RC | C11: RC | D11: PB | E11: S3 | F11: R | G11: FC | H11: FC | I11: S3 | J11: R | K11: VB | L11: VB | M11: S2 | N11: R | O11: R | P11: BF | Q11: BF | R11: S3 | S11: R | T11: FC | U11: S2 | V11: S2 | W11: S1 | X11: R | Y11: RC | Z11: RTT | AA11: RTT | AB11: R | AC11: R | AD11: PB | AE11: PB | AF11: PB | AG11: =SUM(B12:AF12) -> 7 | AH11: =SUM(B13:AF13) -> 5.625 | AI11: VB2 : 7H-14H30
A12: =A9+1 -> 2 | B12: =IF(B11=Feuil1!$A$15,1)+IF(B11=Feuil1!$A$16,1)+IF(B11=Feuil1!$A$17,1)+IF(B11=Feuil1!$A$18,1)+IF(B11=Feuil1!$A$19,1)+IF(B11=Feuil1!$A$20,1)+IF(B11=Feuil1!$A$31,1)+IF(B11=Feuil1!$A$32,1)+IF(B11=Feuil1!$A$33,1)+IF(B11=Feuil1!$A$34,1) -> 0 | C12: =IF(C11=Feuil1!$A$15,1)+IF(C11=Feuil1!$A$16,1)+IF(C11=Feuil1!$A$17,1)+IF(C11=Feuil1!$A$18,1)+IF(C11=Feuil1!$A$19,1)+IF(C11=Feuil1!$A$20,1)+IF(C11=Feuil1!$A$31,1)+IF(C11=Feuil1!$A$32,1)+IF(C11=Feuil1!$A$33,1)+IF(C11=Feuil1!$A$34,1) -> 0 | D12: =IF(D11=Feuil1!$A$15,1)+IF(D11=Feuil1!$A$16,1)+IF(D11=Feuil1!$A$17,1)+IF(D11=Feuil1!$A$18,1)+IF(D11=Feuil1!$A$19,1)+IF(D11=Feuil1!$A$20,1)+IF(D11=Feuil1!$A$31,1)+IF(D11=Feuil1!$A$32,1)+IF(D11=Feuil1!$A$33,1)+IF(D11=Feuil1!$A$34,1) -> 0 | E12: =IF(E11=Feuil1!$A$15,1)+IF(E11=Feuil1!$A$16,1)+IF(E11=Feuil1!$A$17,1)+IF(E11=Feuil1!$A$18,1)+IF(E11=Feuil1!$A$19,1)+IF(E11=Feuil1!$A$20,1)+IF(E11=Feuil1!$A$31,1)+IF(E11=Feuil1!$A$32,1)+IF(E11=Feuil1!$A$33,1)+IF(E11=Feuil1!$A$34,1) -> 1 | F12: =IF(F11=Feuil1!$A$15,1)+IF(F11=Feuil1!$A$16,1)+IF(F11=Feuil1!$A$17,1)+IF(F11=Feuil1!$A$18,1)+IF(F11=Feuil1!$A$19,1)+IF(F11=Feuil1!$A$20,1)+IF(F11=Feuil1!$A$31,1)+IF(F11=Feuil1!$A$32,1)+IF(F11=Feuil1!$A$33,1)+IF(F11=Feuil1!$A$34,1) -> 0 | G12: =IF(G11=Feuil1!$A$15,1)+IF(G11=Feuil1!$A$16,1)+IF(G11=Feuil1!$A$17,1)+IF(G11=Feuil1!$A$18,1)+IF(G11=Feuil1!$A$19,1)+IF(G11=Feuil1!$A$20,1)+IF(G11=Feuil1!$A$31,1)+IF(G11=Feuil1!$A$32,1)+IF(G11=Feuil1!$A$33,1)+IF(G11=Feuil1!$A$34,1) -> 0 | H12: =IF(H11=Feuil1!$A$15,1)+IF(H11=Feuil1!$A$16,1)+IF(H11=Feuil1!$A$17,1)+IF(H11=Feuil1!$A$18,1)+IF(H11=Feuil1!$A$19,1)+IF(H11=Feuil1!$A$20,1)+IF(H11=Feuil1!$A$31,1)+IF(H11=Feuil1!$A$32,1)+IF(H11=Feuil1!$A$33,1)+IF(H11=Feuil1!$A$34,1) -> 0 | I12: =IF(I11=Feuil1!$A$15,1)+IF(I11=Feuil1!$A$16,1)+IF(I11=Feuil1!$A$17,1)+IF(I11=Feuil1!$A$18,1)+IF(I11=Feuil1!$A$19,1)+IF(I11=Feuil1!$A$20,1)+IF(I11=Feuil1!$A$31,1)+IF(I11=Feuil1!$A$32,1)+IF(I11=Feuil1!$A$33,1)+IF(I11=Feuil1!$A$34,1) -> 1 | ... AF12: =IF(AF11=Feuil1!$A$15,1)+IF(AF11=Feuil1!$A$16,1)+IF(AF11=Feuil1!$A$17,1)+IF(AF11=Feuil1!$A$18,1)+IF(AF11=Feuil1!$A$19,1)+IF(AF11=Feuil1!$A$20,1)+IF(AF11=Feuil1!$A$31,1)+IF(AF11=Feuil1!$A$32,1)+IF(AF11=Feuil1!$A$33,1)+IF(AF11=Feuil1!$A$34,1) -> 0
A13: =A10+1 -> 2 | B13: =IF(B11=Feuil1!$A$6,Feuil1!$D$6,0)+IF(B11=Feuil1!$A$7,Feuil1!$D$7,0)+IF(B11=Feuil1!$A$8,Feuil1!$D$8,0)+IF(B11=Feuil1!$A$9,Feuil1!$D$9,0)+IF(B11=Feuil1!$A$10,Feuil1!$D$10,0)+IF(B11=Feuil1!$A$11,Feuil1!$D$11,0)+IF(B11=Feuil1!$A$12,Feuil1!$D$12,0)+IF(B11=Feuil1!$A$13,Feuil1!$D$13,0)+IF(B11=Feuil1!$A$14,Feuil1!$D$14,0)+IF(B11=Feuil1!$A$15,Feuil1!$D$15,0)+IF(B11=Feuil1!$A$16,Feuil1!$D$16,0)+IF(B11=Feuil1!$A$17,Feuil1!$D$17,0)+IF(B11=Feuil1!$A$18,Feuil1!$D$18,0)+IF(B11=Feuil1!$A$19,Feuil1!$D$19,0)+IF(B11=Feuil1!$A$20,Feuil1!$D$20,0)+IF(B11=Feuil1!$A$21,Feuil1!$D$21,0)+IF(B11=Feuil1!$A$22,Feuil1!$D$22,0)+IF(B11=Feuil1!$A$23,Feuil1!$D$23,0)+IF(B11=Feuil1!$A$24,Feuil1!$D$25,0)+IF(B11=Feuil1!$A$26,Feuil1!$D$26,0)+IF(B11=Feuil1!$A$27,Feuil1!$D$27,0)+IF(B11=Feuil1!$A$28,Feuil1!$D$28,0)+IF(B11=Feuil1!$A$29,Feuil1!$D$29,0)+IF(B11=Feuil1!$A$30,Feuil1!$D$30,0)+IF(B11=Feuil1!$A$31,Feuil1!$D$31,0)+IF(B11=Feuil1!$A$32,Feuil1!$D$32,0)+IF(B11=Feuil1!$A$33,Feuil1!$D$33,0)+IF(B11=Feuil1!$A$34,Feuil1!$D$34,0)+IF(B11=Feuil1!$A$35,Feuil1!$D$35,0)+IF(B11=Feuil1!$A$36,Feuil1!$D$36,0)+IF(B11=Feuil1!$A$37,Feuil1!$D$37,0)+IF(B11=Feuil1!$A$38,Feuil1!$D$38,0)+IF(B11=Feuil1!A31,Feuil1!D31,0) -> 0 | C13: =IF(C11=Feuil1!$A$6,Feuil1!$D$6,0)+IF(C11=Feuil1!$A$7,Feuil1!$D$7,0)+IF(C11=Feuil1!$A$8,Feuil1!$D$8,0)+IF(C11=Feuil1!$A$9,Feuil1!$D$9,0)+IF(C11=Feuil1!$A$10,Feuil1!$D$10,0)+IF(C11=Feuil1!$A$11,Feuil1!$D$11,0)+IF(C11=Feuil1!$A$12,Feuil1!$D$12,0)+IF(C11=Feuil1!$A$13,Feuil1!$D$13,0)+IF(C11=Feuil1!$A$14,Feuil1!$D$14,0)+IF(C11=Feuil1!$A$15,Feuil1!$D$15,0)+IF(C11=Feuil1!$A$16,Feuil1!$D$16,0)+IF(C11=Feuil1!$A$17,Feuil1!$D$17,0)+IF(C11=Feuil1!$A$18,Feuil1!$D$18,0)+IF(C11=Feuil1!$A$19,Feuil1!$D$19,0)+IF(C11=Feuil1!$A$20,Feuil1!$D$20,0)+IF(C11=Feuil1!$A$21,Feuil1!$D$21,0)+IF(C11=Feuil1!$A$22,Feuil1!$D$22,0)+IF(C11=Feuil1!$A$23,Feuil1!$D$23,0)+IF(C11=Feuil1!$A$24,Feuil1!$D$25,0)+IF(C11=Feuil1!$A$26,Feuil1!$D$26,0)+IF(C11=Feuil1!$A$27,Feuil1!$D$27,0)+IF(C11=Feuil1!$A$28,Feuil1!$D$28,0)+IF(C11=Feuil1!$A$29,Feuil1!$D$29,0)+IF(C11=Feuil1!$A$30,Feuil1!$D$30,0)+IF(C11=Feuil1!$A$31,Feuil1!$D$31,0)+IF(C11=Feuil1!$A$32,Feuil1!$D$32,0)+IF(C11=Feuil1!$A$33,Feuil1!$D$33,0)+IF(C11=Feuil1!$A$34,Feuil1!$D$34,0)+IF(C11=Feuil1!$A$35,Feuil1!$D$35,0)+IF(C11=Feuil1!$A$36,Feuil1!$D$36,0)+IF(C11=Feuil1!$A$37,Feuil1!$D$37,0)+IF(C11=Feuil1!$A$38,Feuil1!$D$38,0)+IF(C11=Feuil1!B31,Feuil1!E31,0) -> 0 | D13: =IF(D11=Feuil1!$A$6,Feuil1!$D$6,0)+IF(D11=Feuil1!$A$7,Feuil1!$D$7,0)+IF(D11=Feuil1!$A$8,Feuil1!$D$8,0)+IF(D11=Feuil1!$A$9,Feuil1!$D$9,0)+IF(D11=Feuil1!$A$10,Feuil1!$D$10,0)+IF(D11=Feuil1!$A$11,Feuil1!$D$11,0)+IF(D11=Feuil1!$A$12,Feuil1!$D$12,0)+IF(D11=Feuil1!$A$13,Feuil1!$D$13,0)+IF(D11=Feuil1!$A$14,Feuil1!$D$14,0)+IF(D11=Feuil1!$A$15,Feuil1!$D$15,0)+IF(D11=Feuil1!$A$16,Feuil1!$D$16,0)+IF(D11=Feuil1!$A$17,Feuil1!$D$17,0)+IF(D11=Feuil1!$A$18,Feuil1!$D$18,0)+IF(D11=Feuil1!$A$19,Feuil1!$D$19,0)+IF(D11=Feuil1!$A$20,Feuil1!$D$20,0)+IF(D11=Feuil1!$A$21,Feuil1!$D$21,0)+IF(D11=Feuil1!$A$22,Feuil1!$D$22,0)+IF(D11=Feuil1!$A$23,Feuil1!$D$23,0)+IF(D11=Feuil1!$A$24,Feuil1!$D$25,0)+IF(D11=Feuil1!$A$26,Feuil1!$D$26,0)+IF(D11=Feuil1!$A$27,Feuil1!$D$27,0)+IF(D11=Feuil1!$A$28,Feuil1!$D$28,0)+IF(D11=Feuil1!$A$29,Feuil1!$D$29,0)+IF(D11=Feuil1!$A$30,Feuil1!$D$30,0)+IF(D11=Feuil1!$A$31,Feuil1!$D$31,0)+IF(D11=Feuil1!$A$32,Feuil1!$D$32,0)+IF(D11=Feuil1!$A$33,Feuil1!$D$33,0)+IF(D11=Feuil1!$A$34,Feuil1!$D$34,0)+IF(D11=Feuil1!$A$35,Feuil1!$D$35,0)+IF(D11=Feuil1!$A$36,Feuil1!$D$36,0)+IF(D11=Feuil1!$A$37,Feuil1!$D$37,0)+IF(D11=Feuil1!$A$38,Feuil1!$D$38,0)+IF(D11=Feuil1!C31,Feuil1!F31,0) -> 0.3125 | E13: =IF(E11=Feuil1!$A$6,Feuil1!$D$6,0)+IF(E11=Feuil1!$A$7,Feuil1!$D$7,0)+IF(E11=Feuil1!$A$8,Feuil1!$D$8,0)+IF(E11=Feuil1!$A$9,Feuil1!$D$9,0)+IF(E11=Feuil1!$A$10,Feuil1!$D$10,0)+IF(E11=Feuil1!$A$11,Feuil1!$D$11,0)+IF(E11=Feuil1!$A$12,Feuil1!$D$12,0)+IF(E11=Feuil1!$A$13,Feuil1!$D$13,0)+IF(E11=Feuil1!$A$14,Feuil1!$D$14,0)+IF(E11=Feuil1!$A$15,Feuil1!$D$15,0)+IF(E11=Feuil1!$A$16,Feuil1!$D$16,0)+IF(E11=Feuil1!$A$17,Feuil1!$D$17,0)+IF(E11=Feuil1!$A$18,Feuil1!$D$18,0)+IF(E11=Feuil1!$A$19,Feuil1!$D$19,0)+IF(E11=Feuil1!$A$20,Feuil1!$D$20,0)+IF(E11=Feuil1!$A$21,Feuil1!$D$21,0)+IF(E11=Feuil1!$A$22,Feuil1!$D$22,0)+IF(E11=Feuil1!$A$23,Feuil1!$D$23,0)+IF(E11=Feuil1!$A$24,Feuil1!$D$25,0)+IF(E11=Feuil1!$A$26,Feuil1!$D$26,0)+IF(E11=Feuil1!$A$27,Feuil1!$D$27,0)+IF(E11=Feuil1!$A$28,Feuil1!$D$28,0)+IF(E11=Feuil1!$A$29,Feuil1!$D$29,0)+IF(E11=Feuil1!$A$30,Feuil1!$D$30,0)+IF(E11=Feuil1!$A$31,Feuil1!$D$31,0)+IF(E11=Feuil1!$A$32,Feuil1!$D$32,0)+IF(E11=Feuil1!$A$33,Feuil1!$D$33,0)+IF(E11=Feuil1!$A$34,Feuil1!$D$34,0)+IF(E11=Feuil1!$A$35,Feuil1!$D$35,0)+IF(E11=Feuil1!$A$36,Feuil1!$D$36,0)+IF(E11=Feuil1!$A$37,Feuil1!$D$37,0)+IF(E11=Feuil1!$A$38,Feuil1!$D$38,0)+IF(E11=Feuil1!D31,Feuil1!G31,0) -> 0.3125 | F13: =IF(F11=Feuil1!$A$6,Feuil1!$D$6,0)+IF(F11=Feuil1!$A$7,Feuil1!$D$7,0)+IF(F11=Feuil1!$A$8,Feuil1!$D$8,0)+IF(F11=Feuil1!$A$9,Feuil1!$D$9,0)+IF(F11=Feuil1!$A$10,Feuil1!$D$10,0)+IF(F11=Feuil1!$A$11,Feuil1!$D$11,0)+IF(F11=Feuil1!$A$12,Feuil1!$D$12,0)+IF(F11=Feuil1!$A$13,Feuil1!$D$13,0)+IF(F11=Feuil1!$A$14,Feuil1!$D$14,0)+IF(F11=Feuil1!$A$15,Feuil1!$D$15,0)+IF(F11=Feuil1!$A$16,Feuil1!$D$16,0)+IF(F11=Feuil1!$A$17,Feuil1!$D$17,0)+IF(F11=Feuil1!$A$18,Feuil1!$D$18,0)+IF(F11=Feuil1!$A$19,Feuil1!$D$19,0)+IF(F11=Feuil1!$A$20,Feuil1!$D$20,0)+IF(F11=Feuil1!$A$21,Feuil1!$D$21,0)+IF(F11=Feuil1!$A$22,Feuil1!$D$22,0)+IF(F11=Feuil1!$A$23,Feuil1!$D$23,0)+IF(F11=Feuil1!$A$24,Feuil1!$D$25,0)+IF(F11=Feuil1!$A$26,Feuil1!$D$26,0)+IF(F11=Feuil1!$A$27,Feuil1!$D$27,0)+IF(F11=Feuil1!$A$28,Feuil1!$D$28,0)+IF(F11=Feuil1!$A$29,Feuil1!$D$29,0)+IF(F11=Feuil1!$A$30,Feuil1!$D$30,0)+IF(F11=Feuil1!$A$31,Feuil1!$D$31,0)+IF(F11=Feuil1!$A$32,Feuil1!$D$32,0)+IF(F11=Feuil1!$A$33,Feuil1!$D$33,0)+IF(F11=Feuil1!$A$34,Feuil1!$D$34,0)+IF(F11=Feuil1!$A$35,Feuil1!$D$35,0)+IF(F11=Feuil1!$A$36,Feuil1!$D$36,0)+IF(F11=Feuil1!$A$37,Feuil1!$D$37,0)+IF(F11=Feuil1!$A$38,Feuil1!$D$38,0)+IF(F11=Feuil1!E31,Feuil1!H31,0) -> 0 | G13: =IF(G11=Feuil1!$A$6,Feuil1!$D$6,0)+IF(G11=Feuil1!$A$7,Feuil1!$D$7,0)+IF(G11=Feuil1!$A$8,Feuil1!$D$8,0)+IF(G11=Feuil1!$A$9,Feuil1!$D$9,0)+IF(G11=Feuil1!$A$10,Feuil1!$D$10,0)+IF(G11=Feuil1!$A$11,Feuil1!$D$11,0)+IF(G11=Feuil1!$A$12,Feuil1!$D$12,0)+IF(G11=Feuil1!$A$13,Feuil1!$D$13,0)+IF(G11=Feuil1!$A$14,Feuil1!$D$14,0)+IF(G11=Feuil1!$A$15,Feuil1!$D$15,0)+IF(G11=Feuil1!$A$16,Feuil1!$D$16,0)+IF(G11=Feuil1!$A$17,Feuil1!$D$17,0)+IF(G11=Feuil1!$A$18,Feuil1!$D$18,0)+IF(G11=Feuil1!$A$19,Feuil1!$D$19,0)+IF(G11=Feuil1!$A$20,Feuil1!$D$20,0)+IF(G11=Feuil1!$A$21,Feuil1!$D$21,0)+IF(G11=Feuil1!$A$22,Feuil1!$D$22,0)+IF(G11=Feuil1!$A$23,Feuil1!$D$23,0)+IF(G11=Feuil1!$A$24,Feuil1!$D$25,0)+IF(G11=Feuil1!$A$26,Feuil1!$D$26,0)+IF(G11=Feuil1!$A$27,Feuil1!$D$27,0)+IF(G11=Feuil1!$A$28,Feuil1!$D$28,0)+IF(G11=Feuil1!$A$29,Feuil1!$D$29,0)+IF(G11=Feuil1!$A$30,Feuil1!$D$30,0)+IF(G11=Feuil1!$A$31,Feuil1!$D$31,0)+IF(G11=Feuil1!$A$32,Feuil1!$D$32,0)+IF(G11=Feuil1!$A$33,Feuil1!$D$33,0)+IF(G11=Feuil1!$A$34,Feuil1!$D$34,0)+IF(G11=Feuil1!$A$35,Feuil1!$D$35,0)+IF(G11=Feuil1!$A$36,Feuil1!$D$36,0)+IF(G11=Feuil1!$A$37,Feuil1!$D$37,0)+IF(G11=Feuil1!$A$38,Feuil1!$D$38,0)+IF(G11=Feuil1!F31,Feuil1!I31,0) -> 0.3125 | H13: =IF(H11=Feuil1!$A$6,Feuil1!$D$6,0)+IF(H11=Feuil1!$A$7,Feuil1!$D$7,0)+IF(H11=Feuil1!$A$8,Feuil1!$D$8,0)+IF(H11=Feuil1!$A$9,Feuil1!$D$9,0)+IF(H11=Feuil1!$A$10,Feuil1!$D$10,0)+IF(H11=Feuil1!$A$11,Feuil1!$D$11,0)+IF(H11=Feuil1!$A$12,Feuil1!$D$12,0)+IF(H11=Feuil1!$A$13,Feuil1!$D$13,0)+IF(H11=Feuil1!$A$14,Feuil1!$D$14,0)+IF(H11=Feuil1!$A$15,Feuil1!$D$15,0)+IF(H11=Feuil1!$A$16,Feuil1!$D$16,0)+IF(H11=Feuil1!$A$17,Feuil1!$D$17,0)+IF(H11=Feuil1!$A$18,Feuil1!$D$18,0)+IF(H11=Feuil1!$A$19,Feuil1!$D$19,0)+IF(H11=Feuil1!$A$20,Feuil1!$D$20,0)+IF(H11=Feuil1!$A$21,Feuil1!$D$21,0)+IF(H11=Feuil1!$A$22,Feuil1!$D$22,0)+IF(H11=Feuil1!$A$23,Feuil1!$D$23,0)+IF(H11=Feuil1!$A$24,Feuil1!$D$25,0)+IF(H11=Feuil1!$A$26,Feuil1!$D$26,0)+IF(H11=Feuil1!$A$27,Feuil1!$D$27,0)+IF(H11=Feuil1!$A$28,Feuil1!$D$28,0)+IF(H11=Feuil1!$A$29,Feuil1!$D$29,0)+IF(H11=Feuil1!$A$30,Feuil1!$D$30,0)+IF(H11=Feuil1!$A$31,Feuil1!$D$31,0)+IF(H11=Feuil1!$A$32,Feuil1!$D$32,0)+IF(H11=Feuil1!$A$33,Feuil1!$D$33,0)+IF(H11=Feuil1!$A$34,Feuil1!$D$34,0)+IF(H11=Feuil1!$A$35,Feuil1!$D$35,0)+IF(H11=Feuil1!$A$36,Feuil1!$D$36,0)+IF(H11=Feuil1!$A$37,Feuil1!$D$37,0)+IF(H11=Feuil1!$A$38,Feuil1!$D$38,0)+IF(H11=Feuil1!G31,Feuil1!J31,0) -> 0.3125 | I13: =IF(I11=Feuil1!$A$6,Feuil1!$D$6,0)+IF(I11=Feuil1!$A$7,Feuil1!$D$7,0)+IF(I11=Feuil1!$A$8,Feuil1!$D$8,0)+IF(I11=Feuil1!$A$9,Feuil1!$D$9,0)+IF(I11=Feuil1!$A$10,Feuil1!$D$10,0)+IF(I11=Feuil1!$A$11,Feuil1!$D$11,0)+IF(I11=Feuil1!$A$12,Feuil1!$D$12,0)+IF(I11=Feuil1!$A$13,Feuil1!$D$13,0)+IF(I11=Feuil1!$A$14,Feuil1!$D$14,0)+IF(I11=Feuil1!$A$15,Feuil1!$D$15,0)+IF(I11=Feuil1!$A$16,Feuil1!$D$16,0)+IF(I11=Feuil1!$A$17,Feuil1!$D$17,0)+IF(I11=Feuil1!$A$18,Feuil1!$D$18,0)+IF(I11=Feuil1!$A$19,Feuil1!$D$19,0)+IF(I11=Feuil1!$A$20,Feuil1!$D$20,0)+IF(I11=Feuil1!$A$21,Feuil1!$D$21,0)+IF(I11=Feuil1!$A$22,Feuil1!$D$22,0)+IF(I11=Feuil1!$A$23,Feuil1!$D$23,0)+IF(I11=Feuil1!$A$24,Feuil1!$D$25,0)+IF(I11=Feuil1!$A$26,Feuil1!$D$26,0)+IF(I11=Feuil1!$A$27,Feuil1!$D$27,0)+IF(I11=Feuil1!$A$28,Feuil1!$D$28,0)+IF(I11=Feuil1!$A$29,Feuil1!$D$29,0)+IF(I11=Feuil1!$A$30,Feuil1!$D$30,0)+IF(I11=Feuil1!$A$31,Feuil1!$D$31,0)+IF(I11=Feuil1!$A$32,Feuil1!$D$32,0)+IF(I11=Feuil1!$A$33,Feuil1!$D$33,0)+IF(I11=Feuil1!$A$34,Feuil1!$D$34,0)+IF(I11=Feuil1!$A$35,Feuil1!$D$35,0)+IF(I11=Feuil1!$A$36,Feuil1!$D$36,0)+IF(I11=Feuil1!$A$37,Feuil1!$D$37,0)+IF(I11=Feuil1!$A$38,Feuil1!$D$38,0)+IF(I11=Feuil1!H31,Feuil1!K31,0) -> 0.3125 | ... AF13: =IF(AF11=Feuil1!$A$6,Feuil1!$D$6,0)+IF(AF11=Feuil1!$A$7,Feuil1!$D$7,0)+IF(AF11=Feuil1!$A$8,Feuil1!$D$8,0)+IF(AF11=Feuil1!$A$9,Feuil1!$D$9,0)+IF(AF11=Feuil1!$A$10,Feuil1!$D$10,0)+IF(AF11=Feuil1!$A$11,Feuil1!$D$11,0)+IF(AF11=Feuil1!$A$12,Feuil1!$D$12,0)+IF(AF11=Feuil1!$A$13,Feuil1!$D$13,0)+IF(AF11=Feuil1!$A$14,Feuil1!$D$14,0)+IF(AF11=Feuil1!$A$15,Feuil1!$D$15,0)+IF(AF11=Feuil1!$A$16,Feuil1!$D$16,0)+IF(AF11=Feuil1!$A$17,Feuil1!$D$17,0)+IF(AF11=Feuil1!$A$18,Feuil1!$D$18,0)+IF(AF11=Feuil1!$A$19,Feuil1!$D$19,0)+IF(AF11=Feuil1!$A$20,Feuil1!$D$20,0)+IF(AF11=Feuil1!$A$21,Feuil1!$D$21,0)+IF(AF11=Feuil1!$A$22,Feuil1!$D$22,0)+IF(AF11=Feuil1!$A$23,Feuil1!$D$23,0)+IF(AF11=Feuil1!$A$24,Feuil1!$D$25,0)+IF(AF11=Feuil1!$A$26,Feuil1!$D$26,0)+IF(AF11=Feuil1!$A$27,Feuil1!$D$27,0)+IF(AF11=Feuil1!$A$28,Feuil1!$D$28,0)+IF(AF11=Feuil1!$A$29,Feuil1!$D$29,0)+IF(AF11=Feuil1!$A$30,Feuil1!$D$30,0)+IF(AF11=Feuil1!$A$31,Feuil1!$D$31,0)+IF(AF11=Feuil1!$A$32,Feuil1!$D$32,0)+IF(AF11=Feuil1!$A$33,Feuil1!$D$33,0)+IF(AF11=Feuil1!$A$34,Feuil1!$D$34,0)+IF(AF11=Feuil1!$A$35,Feuil1!$D$35,0)+IF(AF11=Feuil1!$A$36,Feuil1!$D$36,0)+IF(AF11=Feuil1!$A$37,Feuil1!$D$37,0)+IF(AF11=Feuil1!$A$38,Feuil1!$D$38,0)+IF(AF11=Feuil1!AE31,Feuil1!AH31,0) -> 0.3125
A14: =A11+1 -> 4 | B14: RC | C14: RTT | D14: FJ2 | E14: R | F14: PB | G14: S2 | H14: S2 | I14: S1 | J14: R | K14: PB | L14: BF | M14: BF | N14: R | O14: R | P14: RTT | Q14: VB | R14: ACJ | S14: FJ2 | T14: R | U14: VB | V14: VB | W14: S3 | X14: R | Y14: ACJ | Z14: PB | AA14: S3 | AB14: R | AC14: R | AD14: FC | AE14: FC | AF14: S3 | AG14: =SUM(B15:AF15) -> 6 | AH14: =SUM(B16:AF16) -> 6.25 | AI14: S1 / S2 : 13H30 - 21H
A15: =A12+1 -> 3 | B15: =IF(B14=Feuil1!$A$15,1)+IF(B14=Feuil1!$A$16,1)+IF(B14=Feuil1!$A$17,1)+IF(B14=Feuil1!$A$18,1)+IF(B14=Feuil1!$A$19,1)+IF(B14=Feuil1!$A$20,1)+IF(B14=Feuil1!$A$31,1)+IF(B14=Feuil1!$A$32,1)+IF(B14=Feuil1!$A$33,1)+IF(B14=Feuil1!$A$34,1) -> 0 | C15: =IF(C14=Feuil1!$A$15,1)+IF(C14=Feuil1!$A$16,1)+IF(C14=Feuil1!$A$17,1)+IF(C14=Feuil1!$A$18,1)+IF(C14=Feuil1!$A$19,1)+IF(C14=Feuil1!$A$20,1)+IF(C14=Feuil1!$A$31,1)+IF(C14=Feuil1!$A$32,1)+IF(C14=Feuil1!$A$33,1)+IF(C14=Feuil1!$A$34,1) -> 0 | D15: =IF(D14=Feuil1!$A$15,1)+IF(D14=Feuil1!$A$16,1)+IF(D14=Feuil1!$A$17,1)+IF(D14=Feuil1!$A$18,1)+IF(D14=Feuil1!$A$19,1)+IF(D14=Feuil1!$A$20,1)+IF(D14=Feuil1!$A$31,1)+IF(D14=Feuil1!$A$32,1)+IF(D14=Feuil1!$A$33,1)+IF(D14=Feuil1!$A$34,1) -> 0 | E15: =IF(E14=Feuil1!$A$15,1)+IF(E14=Feuil1!$A$16,1)+IF(E14=Feuil1!$A$17,1)+IF(E14=Feuil1!$A$18,1)+IF(E14=Feuil1!$A$19,1)+IF(E14=Feuil1!$A$20,1)+IF(E14=Feuil1!$A$31,1)+IF(E14=Feuil1!$A$32,1)+IF(E14=Feuil1!$A$33,1)+IF(E14=Feuil1!$A$34,1) -> 0 | F15: =IF(F14=Feuil1!$A$15,1)+IF(F14=Feuil1!$A$16,1)+IF(F14=Feuil1!$A$17,1)+IF(F14=Feuil1!$A$18,1)+IF(F14=Feuil1!$A$19,1)+IF(F14=Feuil1!$A$20,1)+IF(F14=Feuil1!$A$31,1)+IF(F14=Feuil1!$A$32,1)+IF(F14=Feuil1!$A$33,1)+IF(F14=Feuil1!$A$34,1) -> 0 | G15: =IF(G14=Feuil1!$A$15,1)+IF(G14=Feuil1!$A$16,1)+IF(G14=Feuil1!$A$17,1)+IF(G14=Feuil1!$A$18,1)+IF(G14=Feuil1!$A$19,1)+IF(G14=Feuil1!$A$20,1)+IF(G14=Feuil1!$A$31,1)+IF(G14=Feuil1!$A$32,1)+IF(G14=Feuil1!$A$33,1)+IF(G14=Feuil1!$A$34,1) -> 1 | H15: =IF(H14=Feuil1!$A$15,1)+IF(H14=Feuil1!$A$16,1)+IF(H14=Feuil1!$A$17,1)+IF(H14=Feuil1!$A$18,1)+IF(H14=Feuil1!$A$19,1)+IF(H14=Feuil1!$A$20,1)+IF(H14=Feuil1!$A$31,1)+IF(H14=Feuil1!$A$32,1)+IF(H14=Feuil1!$A$33,1)+IF(H14=Feuil1!$A$34,1) -> 1 | I15: =IF(I14=Feuil1!$A$15,1)+IF(I14=Feuil1!$A$16,1)+IF(I14=Feuil1!$A$17,1)+IF(I14=Feuil1!$A$18,1)+IF(I14=Feuil1!$A$19,1)+IF(I14=Feuil1!$A$20,1)+IF(I14=Feuil1!$A$31,1)+IF(I14=Feuil1!$A$32,1)+IF(I14=Feuil1!$A$33,1)+IF(I14=Feuil1!$A$34,1) -> 1 | ... AF15: =IF(AF14=Feuil1!$A$15,1)+IF(AF14=Feuil1!$A$16,1)+IF(AF14=Feuil1!$A$17,1)+IF(AF14=Feuil1!$A$18,1)+IF(AF14=Feuil1!$A$19,1)+IF(AF14=Feuil1!$A$20,1)+IF(AF14=Feuil1!$A$31,1)+IF(AF14=Feuil1!$A$32,1)+IF(AF14=Feuil1!$A$33,1)+IF(AF14=Feuil1!$A$34,1) -> 1
A16: =A13+1 -> 3 | B16: =IF(B14=Feuil1!$A$6,Feuil1!$D$6,0)+IF(B14=Feuil1!$A$7,Feuil1!$D$7,0)+IF(B14=Feuil1!$A$8,Feuil1!$D$8,0)+IF(B14=Feuil1!$A$9,Feuil1!$D$9,0)+IF(B14=Feuil1!$A$10,Feuil1!$D$10,0)+IF(B14=Feuil1!$A$11,Feuil1!$D$11,0)+IF(B14=Feuil1!$A$12,Feuil1!$D$12,0)+IF(B14=Feuil1!$A$13,Feuil1!$D$13,0)+IF(B14=Feuil1!$A$14,Feuil1!$D$14,0)+IF(B14=Feuil1!$A$15,Feuil1!$D$15,0)+IF(B14=Feuil1!$A$16,Feuil1!$D$16,0)+IF(B14=Feuil1!$A$17,Feuil1!$D$17,0)+IF(B14=Feuil1!$A$18,Feuil1!$D$18,0)+IF(B14=Feuil1!$A$19,Feuil1!$D$19,0)+IF(B14=Feuil1!$A$20,Feuil1!$D$20,0)+IF(B14=Feuil1!$A$21,Feuil1!$D$21,0)+IF(B14=Feuil1!$A$22,Feuil1!$D$22,0)+IF(B14=Feuil1!$A$23,Feuil1!$D$23,0)+IF(B14=Feuil1!$A$24,Feuil1!$D$25,0)+IF(B14=Feuil1!$A$26,Feuil1!$D$26,0)+IF(B14=Feuil1!$A$27,Feuil1!$D$27,0)+IF(B14=Feuil1!$A$28,Feuil1!$D$28,0)+IF(B14=Feuil1!$A$29,Feuil1!$D$29,0)+IF(B14=Feuil1!$A$30,Feuil1!$D$30,0)+IF(B14=Feuil1!$A$31,Feuil1!$D$31,0)+IF(B14=Feuil1!$A$32,Feuil1!$D$32,0)+IF(B14=Feuil1!$A$33,Feuil1!$D$33,0)+IF(B14=Feuil1!$A$34,Feuil1!$D$34,0)+IF(B14=Feuil1!$A$35,Feuil1!$D$35,0)+IF(B14=Feuil1!$A$36,Feuil1!$D$36,0)+IF(B14=Feuil1!$A$37,Feuil1!$D$37,0)+IF(B14=Feuil1!$A$38,Feuil1!$D$38,0)+IF(B14=Feuil1!A34,Feuil1!D34,0) -> 0 | C16: =IF(C14=Feuil1!$A$6,Feuil1!$D$6,0)+IF(C14=Feuil1!$A$7,Feuil1!$D$7,0)+IF(C14=Feuil1!$A$8,Feuil1!$D$8,0)+IF(C14=Feuil1!$A$9,Feuil1!$D$9,0)+IF(C14=Feuil1!$A$10,Feuil1!$D$10,0)+IF(C14=Feuil1!$A$11,Feuil1!$D$11,0)+IF(C14=Feuil1!$A$12,Feuil1!$D$12,0)+IF(C14=Feuil1!$A$13,Feuil1!$D$13,0)+IF(C14=Feuil1!$A$14,Feuil1!$D$14,0)+IF(C14=Feuil1!$A$15,Feuil1!$D$15,0)+IF(C14=Feuil1!$A$16,Feuil1!$D$16,0)+IF(C14=Feuil1!$A$17,Feuil1!$D$17,0)+IF(C14=Feuil1!$A$18,Feuil1!$D$18,0)+IF(C14=Feuil1!$A$19,Feuil1!$D$19,0)+IF(C14=Feuil1!$A$20,Feuil1!$D$20,0)+IF(C14=Feuil1!$A$21,Feuil1!$D$21,0)+IF(C14=Feuil1!$A$22,Feuil1!$D$22,0)+IF(C14=Feuil1!$A$23,Feuil1!$D$23,0)+IF(C14=Feuil1!$A$24,Feuil1!$D$25,0)+IF(C14=Feuil1!$A$26,Feuil1!$D$26,0)+IF(C14=Feuil1!$A$27,Feuil1!$D$27,0)+IF(C14=Feuil1!$A$28,Feuil1!$D$28,0)+IF(C14=Feuil1!$A$29,Feuil1!$D$29,0)+IF(C14=Feuil1!$A$30,Feuil1!$D$30,0)+IF(C14=Feuil1!$A$31,Feuil1!$D$31,0)+IF(C14=Feuil1!$A$32,Feuil1!$D$32,0)+IF(C14=Feuil1!$A$33,Feuil1!$D$33,0)+IF(C14=Feuil1!$A$34,Feuil1!$D$34,0)+IF(C14=Feuil1!$A$35,Feuil1!$D$35,0)+IF(C14=Feuil1!$A$36,Feuil1!$D$36,0)+IF(C14=Feuil1!$A$37,Feuil1!$D$37,0)+IF(C14=Feuil1!$A$38,Feuil1!$D$38,0)+IF(C14=Feuil1!B34,Feuil1!E34,0) -> 0 | D16: =IF(D14=Feuil1!$A$6,Feuil1!$D$6,0)+IF(D14=Feuil1!$A$7,Feuil1!$D$7,0)+IF(D14=Feuil1!$A$8,Feuil1!$D$8,0)+IF(D14=Feuil1!$A$9,Feuil1!$D$9,0)+IF(D14=Feuil1!$A$10,Feuil1!$D$10,0)+IF(D14=Feuil1!$A$11,Feuil1!$D$11,0)+IF(D14=Feuil1!$A$12,Feuil1!$D$12,0)+IF(D14=Feuil1!$A$13,Feuil1!$D$13,0)+IF(D14=Feuil1!$A$14,Feuil1!$D$14,0)+IF(D14=Feuil1!$A$15,Feuil1!$D$15,0)+IF(D14=Feuil1!$A$16,Feuil1!$D$16,0)+IF(D14=Feuil1!$A$17,Feuil1!$D$17,0)+IF(D14=Feuil1!$A$18,Feuil1!$D$18,0)+IF(D14=Feuil1!$A$19,Feuil1!$D$19,0)+IF(D14=Feuil1!$A$20,Feuil1!$D$20,0)+IF(D14=Feuil1!$A$21,Feuil1!$D$21,0)+IF(D14=Feuil1!$A$22,Feuil1!$D$22,0)+IF(D14=Feuil1!$A$23,Feuil1!$D$23,0)+IF(D14=Feuil1!$A$24,Feuil1!$D$25,0)+IF(D14=Feuil1!$A$26,Feuil1!$D$26,0)+IF(D14=Feuil1!$A$27,Feuil1!$D$27,0)+IF(D14=Feuil1!$A$28,Feuil1!$D$28,0)+IF(D14=Feuil1!$A$29,Feuil1!$D$29,0)+IF(D14=Feuil1!$A$30,Feuil1!$D$30,0)+IF(D14=Feuil1!$A$31,Feuil1!$D$31,0)+IF(D14=Feuil1!$A$32,Feuil1!$D$32,0)+IF(D14=Feuil1!$A$33,Feuil1!$D$33,0)+IF(D14=Feuil1!$A$34,Feuil1!$D$34,0)+IF(D14=Feuil1!$A$35,Feuil1!$D$35,0)+IF(D14=Feuil1!$A$36,Feuil1!$D$36,0)+IF(D14=Feuil1!$A$37,Feuil1!$D$37,0)+IF(D14=Feuil1!$A$38,Feuil1!$D$38,0)+IF(D14=Feuil1!C34,Feuil1!F34,0) -> 0.3125 | E16: =IF(E14=Feuil1!$A$6,Feuil1!$D$6,0)+IF(E14=Feuil1!$A$7,Feuil1!$D$7,0)+IF(E14=Feuil1!$A$8,Feuil1!$D$8,0)+IF(E14=Feuil1!$A$9,Feuil1!$D$9,0)+IF(E14=Feuil1!$A$10,Feuil1!$D$10,0)+IF(E14=Feuil1!$A$11,Feuil1!$D$11,0)+IF(E14=Feuil1!$A$12,Feuil1!$D$12,0)+IF(E14=Feuil1!$A$13,Feuil1!$D$13,0)+IF(E14=Feuil1!$A$14,Feuil1!$D$14,0)+IF(E14=Feuil1!$A$15,Feuil1!$D$15,0)+IF(E14=Feuil1!$A$16,Feuil1!$D$16,0)+IF(E14=Feuil1!$A$17,Feuil1!$D$17,0)+IF(E14=Feuil1!$A$18,Feuil1!$D$18,0)+IF(E14=Feuil1!$A$19,Feuil1!$D$19,0)+IF(E14=Feuil1!$A$20,Feuil1!$D$20,0)+IF(E14=Feuil1!$A$21,Feuil1!$D$21,0)+IF(E14=Feuil1!$A$22,Feuil1!$D$22,0)+IF(E14=Feuil1!$A$23,Feuil1!$D$23,0)+IF(E14=Feuil1!$A$24,Feuil1!$D$25,0)+IF(E14=Feuil1!$A$26,Feuil1!$D$26,0)+IF(E14=Feuil1!$A$27,Feuil1!$D$27,0)+IF(E14=Feuil1!$A$28,Feuil1!$D$28,0)+IF(E14=Feuil1!$A$29,Feuil1!$D$29,0)+IF(E14=Feuil1!$A$30,Feuil1!$D$30,0)+IF(E14=Feuil1!$A$31,Feuil1!$D$31,0)+IF(E14=Feuil1!$A$32,Feuil1!$D$32,0)+IF(E14=Feuil1!$A$33,Feuil1!$D$33,0)+IF(E14=Feuil1!$A$34,Feuil1!$D$34,0)+IF(E14=Feuil1!$A$35,Feuil1!$D$35,0)+IF(E14=Feuil1!$A$36,Feuil1!$D$36,0)+IF(E14=Feuil1!$A$37,Feuil1!$D$37,0)+IF(E14=Feuil1!$A$38,Feuil1!$D$38,0)+IF(E14=Feuil1!D34,Feuil1!G34,0) -> 0 | F16: =IF(F14=Feuil1!$A$6,Feuil1!$D$6,0)+IF(F14=Feuil1!$A$7,Feuil1!$D$7,0)+IF(F14=Feuil1!$A$8,Feuil1!$D$8,0)+IF(F14=Feuil1!$A$9,Feuil1!$D$9,0)+IF(F14=Feuil1!$A$10,Feuil1!$D$10,0)+IF(F14=Feuil1!$A$11,Feuil1!$D$11,0)+IF(F14=Feuil1!$A$12,Feuil1!$D$12,0)+IF(F14=Feuil1!$A$13,Feuil1!$D$13,0)+IF(F14=Feuil1!$A$14,Feuil1!$D$14,0)+IF(F14=Feuil1!$A$15,Feuil1!$D$15,0)+IF(F14=Feuil1!$A$16,Feuil1!$D$16,0)+IF(F14=Feuil1!$A$17,Feuil1!$D$17,0)+IF(F14=Feuil1!$A$18,Feuil1!$D$18,0)+IF(F14=Feuil1!$A$19,Feuil1!$D$19,0)+IF(F14=Feuil1!$A$20,Feuil1!$D$20,0)+IF(F14=Feuil1!$A$21,Feuil1!$D$21,0)+IF(F14=Feuil1!$A$22,Feuil1!$D$22,0)+IF(F14=Feuil1!$A$23,Feuil1!$D$23,0)+IF(F14=Feuil1!$A$24,Feuil1!$D$25,0)+IF(F14=Feuil1!$A$26,Feuil1!$D$26,0)+IF(F14=Feuil1!$A$27,Feuil1!$D$27,0)+IF(F14=Feuil1!$A$28,Feuil1!$D$28,0)+IF(F14=Feuil1!$A$29,Feuil1!$D$29,0)+IF(F14=Feuil1!$A$30,Feuil1!$D$30,0)+IF(F14=Feuil1!$A$31,Feuil1!$D$31,0)+IF(F14=Feuil1!$A$32,Feuil1!$D$32,0)+IF(F14=Feuil1!$A$33,Feuil1!$D$33,0)+IF(F14=Feuil1!$A$34,Feuil1!$D$34,0)+IF(F14=Feuil1!$A$35,Feuil1!$D$35,0)+IF(F14=Feuil1!$A$36,Feuil1!$D$36,0)+IF(F14=Feuil1!$A$37,Feuil1!$D$37,0)+IF(F14=Feuil1!$A$38,Feuil1!$D$38,0)+IF(F14=Feuil1!E34,Feuil1!H34,0) -> 0.3125 | G16: =IF(G14=Feuil1!$A$6,Feuil1!$D$6,0)+IF(G14=Feuil1!$A$7,Feuil1!$D$7,0)+IF(G14=Feuil1!$A$8,Feuil1!$D$8,0)+IF(G14=Feuil1!$A$9,Feuil1!$D$9,0)+IF(G14=Feuil1!$A$10,Feuil1!$D$10,0)+IF(G14=Feuil1!$A$11,Feuil1!$D$11,0)+IF(G14=Feuil1!$A$12,Feuil1!$D$12,0)+IF(G14=Feuil1!$A$13,Feuil1!$D$13,0)+IF(G14=Feuil1!$A$14,Feuil1!$D$14,0)+IF(G14=Feuil1!$A$15,Feuil1!$D$15,0)+IF(G14=Feuil1!$A$16,Feuil1!$D$16,0)+IF(G14=Feuil1!$A$17,Feuil1!$D$17,0)+IF(G14=Feuil1!$A$18,Feuil1!$D$18,0)+IF(G14=Feuil1!$A$19,Feuil1!$D$19,0)+IF(G14=Feuil1!$A$20,Feuil1!$D$20,0)+IF(G14=Feuil1!$A$21,Feuil1!$D$21,0)+IF(G14=Feuil1!$A$22,Feuil1!$D$22,0)+IF(G14=Feuil1!$A$23,Feuil1!$D$23,0)+IF(G14=Feuil1!$A$24,Feuil1!$D$25,0)+IF(G14=Feuil1!$A$26,Feuil1!$D$26,0)+IF(G14=Feuil1!$A$27,Feuil1!$D$27,0)+IF(G14=Feuil1!$A$28,Feuil1!$D$28,0)+IF(G14=Feuil1!$A$29,Feuil1!$D$29,0)+IF(G14=Feuil1!$A$30,Feuil1!$D$30,0)+IF(G14=Feuil1!$A$31,Feuil1!$D$31,0)+IF(G14=Feuil1!$A$32,Feuil1!$D$32,0)+IF(G14=Feuil1!$A$33,Feuil1!$D$33,0)+IF(G14=Feuil1!$A$34,Feuil1!$D$34,0)+IF(G14=Feuil1!$A$35,Feuil1!$D$35,0)+IF(G14=Feuil1!$A$36,Feuil1!$D$36,0)+IF(G14=Feuil1!$A$37,Feuil1!$D$37,0)+IF(G14=Feuil1!$A$38,Feuil1!$D$38,0)+IF(G14=Feuil1!F34,Feuil1!I34,0) -> 0.3125 | H16: =IF(H14=Feuil1!$A$6,Feuil1!$D$6,0)+IF(H14=Feuil1!$A$7,Feuil1!$D$7,0)+IF(H14=Feuil1!$A$8,Feuil1!$D$8,0)+IF(H14=Feuil1!$A$9,Feuil1!$D$9,0)+IF(H14=Feuil1!$A$10,Feuil1!$D$10,0)+IF(H14=Feuil1!$A$11,Feuil1!$D$11,0)+IF(H14=Feuil1!$A$12,Feuil1!$D$12,0)+IF(H14=Feuil1!$A$13,Feuil1!$D$13,0)+IF(H14=Feuil1!$A$14,Feuil1!$D$14,0)+IF(H14=Feuil1!$A$15,Feuil1!$D$15,0)+IF(H14=Feuil1!$A$16,Feuil1!$D$16,0)+IF(H14=Feuil1!$A$17,Feuil1!$D$17,0)+IF(H14=Feuil1!$A$18,Feuil1!$D$18,0)+IF(H14=Feuil1!$A$19,Feuil1!$D$19,0)+IF(H14=Feuil1!$A$20,Feuil1!$D$20,0)+IF(H14=Feuil1!$A$21,Feuil1!$D$21,0)+IF(H14=Feuil1!$A$22,Feuil1!$D$22,0)+IF(H14=Feuil1!$A$23,Feuil1!$D$23,0)+IF(H14=Feuil1!$A$24,Feuil1!$D$25,0)+IF(H14=Feuil1!$A$26,Feuil1!$D$26,0)+IF(H14=Feuil1!$A$27,Feuil1!$D$27,0)+IF(H14=Feuil1!$A$28,Feuil1!$D$28,0)+IF(H14=Feuil1!$A$29,Feuil1!$D$29,0)+IF(H14=Feuil1!$A$30,Feuil1!$D$30,0)+IF(H14=Feuil1!$A$31,Feuil1!$D$31,0)+IF(H14=Feuil1!$A$32,Feuil1!$D$32,0)+IF(H14=Feuil1!$A$33,Feuil1!$D$33,0)+IF(H14=Feuil1!$A$34,Feuil1!$D$34,0)+IF(H14=Feuil1!$A$35,Feuil1!$D$35,0)+IF(H14=Feuil1!$A$36,Feuil1!$D$36,0)+IF(H14=Feuil1!$A$37,Feuil1!$D$37,0)+IF(H14=Feuil1!$A$38,Feuil1!$D$38,0)+IF(H14=Feuil1!G34,Feuil1!J34,0) -> 0.3125 | I16: =IF(I14=Feuil1!$A$6,Feuil1!$D$6,0)+IF(I14=Feuil1!$A$7,Feuil1!$D$7,0)+IF(I14=Feuil1!$A$8,Feuil1!$D$8,0)+IF(I14=Feuil1!$A$9,Feuil1!$D$9,0)+IF(I14=Feuil1!$A$10,Feuil1!$D$10,0)+IF(I14=Feuil1!$A$11,Feuil1!$D$11,0)+IF(I14=Feuil1!$A$12,Feuil1!$D$12,0)+IF(I14=Feuil1!$A$13,Feuil1!$D$13,0)+IF(I14=Feuil1!$A$14,Feuil1!$D$14,0)+IF(I14=Feuil1!$A$15,Feuil1!$D$15,0)+IF(I14=Feuil1!$A$16,Feuil1!$D$16,0)+IF(I14=Feuil1!$A$17,Feuil1!$D$17,0)+IF(I14=Feuil1!$A$18,Feuil1!$D$18,0)+IF(I14=Feuil1!$A$19,Feuil1!$D$19,0)+IF(I14=Feuil1!$A$20,Feuil1!$D$20,0)+IF(I14=Feuil1!$A$21,Feuil1!$D$21,0)+IF(I14=Feuil1!$A$22,Feuil1!$D$22,0)+IF(I14=Feuil1!$A$23,Feuil1!$D$23,0)+IF(I14=Feuil1!$A$24,Feuil1!$D$25,0)+IF(I14=Feuil1!$A$26,Feuil1!$D$26,0)+IF(I14=Feuil1!$A$27,Feuil1!$D$27,0)+IF(I14=Feuil1!$A$28,Feuil1!$D$28,0)+IF(I14=Feuil1!$A$29,Feuil1!$D$29,0)+IF(I14=Feuil1!$A$30,Feuil1!$D$30,0)+IF(I14=Feuil1!$A$31,Feuil1!$D$31,0)+IF(I14=Feuil1!$A$32,Feuil1!$D$32,0)+IF(I14=Feuil1!$A$33,Feuil1!$D$33,0)+IF(I14=Feuil1!$A$34,Feuil1!$D$34,0)+IF(I14=Feuil1!$A$35,Feuil1!$D$35,0)+IF(I14=Feuil1!$A$36,Feuil1!$D$36,0)+IF(I14=Feuil1!$A$37,Feuil1!$D$37,0)+IF(I14=Feuil1!$A$38,Feuil1!$D$38,0)+IF(I14=Feuil1!H34,Feuil1!K34,0) -> 0.3125 | ... AF16: =IF(AF14=Feuil1!$A$6,Feuil1!$D$6,0)+IF(AF14=Feuil1!$A$7,Feuil1!$D$7,0)+IF(AF14=Feuil1!$A$8,Feuil1!$D$8,0)+IF(AF14=Feuil1!$A$9,Feuil1!$D$9,0)+IF(AF14=Feuil1!$A$10,Feuil1!$D$10,0)+IF(AF14=Feuil1!$A$11,Feuil1!$D$11,0)+IF(AF14=Feuil1!$A$12,Feuil1!$D$12,0)+IF(AF14=Feuil1!$A$13,Feuil1!$D$13,0)+IF(AF14=Feuil1!$A$14,Feuil1!$D$14,0)+IF(AF14=Feuil1!$A$15,Feuil1!$D$15,0)+IF(AF14=Feuil1!$A$16,Feuil1!$D$16,0)+IF(AF14=Feuil1!$A$17,Feuil1!$D$17,0)+IF(AF14=Feuil1!$A$18,Feuil1!$D$18,0)+IF(AF14=Feuil1!$A$19,Feuil1!$D$19,0)+IF(AF14=Feuil1!$A$20,Feuil1!$D$20,0)+IF(AF14=Feuil1!$A$21,Feuil1!$D$21,0)+IF(AF14=Feuil1!$A$22,Feuil1!$D$22,0)+IF(AF14=Feuil1!$A$23,Feuil1!$D$23,0)+IF(AF14=Feuil1!$A$24,Feuil1!$D$25,0)+IF(AF14=Feuil1!$A$26,Feuil1!$D$26,0)+IF(AF14=Feuil1!$A$27,Feuil1!$D$27,0)+IF(AF14=Feuil1!$A$28,Feuil1!$D$28,0)+IF(AF14=Feuil1!$A$29,Feuil1!$D$29,0)+IF(AF14=Feuil1!$A$30,Feuil1!$D$30,0)+IF(AF14=Feuil1!$A$31,Feuil1!$D$31,0)+IF(AF14=Feuil1!$A$32,Feuil1!$D$32,0)+IF(AF14=Feuil1!$A$33,Feuil1!$D$33,0)+IF(AF14=Feuil1!$A$34,Feuil1!$D$34,0)+IF(AF14=Feuil1!$A$35,Feuil1!$D$35,0)+IF(AF14=Feuil1!$A$36,Feuil1!$D$36,0)+IF(AF14=Feuil1!$A$37,Feuil1!$D$37,0)+IF(AF14=Feuil1!$A$38,Feuil1!$D$38,0)+IF(AF14=Feuil1!AE34,Feuil1!AH34,0) -> 0.3125
A17: =A14+1 -> 5 | B17: VB | C17: FJ | D17: S3 | E17: S2 | F17: R | G17: VB | H17: VB | I17: PATHOS | J17: PB | K17: R | L17: FC | M17: FC | N17: R | O17: R | P17: SFJ | Q17: S3 | R17: PATHOS | S17: R | T17: VB | U17: S3 | V17: S3 | W17: R | X17: VB3+ | Y17: VB | Z17: SFJ | AA17: RTT | AB17: R | AC17: R | AD17: RTT | AE17: BF | AF17: S1 | AG17: =SUM(B18:AF18) -> 8 | AH17: =SUM(B19:AF19) -> 5.625 | AI17: SFJ / SFJ2 / S3
A18: =A15+1 -> 4 | B18: =IF(B17=Feuil1!$A$15,1)+IF(B17=Feuil1!$A$16,1)+IF(B17=Feuil1!$A$17,1)+IF(B17=Feuil1!$A$18,1)+IF(B17=Feuil1!$A$19,1)+IF(B17=Feuil1!$A$20,1)+IF(B17=Feuil1!$A$31,1)+IF(B17=Feuil1!$A$32,1)+IF(B17=Feuil1!$A$33,1)+IF(B17=Feuil1!$A$34,1) -> 0 | C18: =IF(C17=Feuil1!$A$15,1)+IF(C17=Feuil1!$A$16,1)+IF(C17=Feuil1!$A$17,1)+IF(C17=Feuil1!$A$18,1)+IF(C17=Feuil1!$A$19,1)+IF(C17=Feuil1!$A$20,1)+IF(C17=Feuil1!$A$31,1)+IF(C17=Feuil1!$A$32,1)+IF(C17=Feuil1!$A$33,1)+IF(C17=Feuil1!$A$34,1) -> 0 | D18: =IF(D17=Feuil1!$A$15,1)+IF(D17=Feuil1!$A$16,1)+IF(D17=Feuil1!$A$17,1)+IF(D17=Feuil1!$A$18,1)+IF(D17=Feuil1!$A$19,1)+IF(D17=Feuil1!$A$20,1)+IF(D17=Feuil1!$A$31,1)+IF(D17=Feuil1!$A$32,1)+IF(D17=Feuil1!$A$33,1)+IF(D17=Feuil1!$A$34,1) -> 1 | E18: =IF(E17=Feuil1!$A$15,1)+IF(E17=Feuil1!$A$16,1)+IF(E17=Feuil1!$A$17,1)+IF(E17=Feuil1!$A$18,1)+IF(E17=Feuil1!$A$19,1)+IF(E17=Feuil1!$A$20,1)+IF(E17=Feuil1!$A$31,1)+IF(E17=Feuil1!$A$32,1)+IF(E17=Feuil1!$A$33,1)+IF(E17=Feuil1!$A$34,1) -> 1 | F18: =IF(F17=Feuil1!$A$15,1)+IF(F17=Feuil1!$A$16,1)+IF(F17=Feuil1!$A$17,1)+IF(F17=Feuil1!$A$18,1)+IF(F17=Feuil1!$A$19,1)+IF(F17=Feuil1!$A$20,1)+IF(F17=Feuil1!$A$31,1)+IF(F17=Feuil1!$A$32,1)+IF(F17=Feuil1!$A$33,1)+IF(F17=Feuil1!$A$34,1) -> 0 | G18: =IF(G17=Feuil1!$A$15,1)+IF(G17=Feuil1!$A$16,1)+IF(G17=Feuil1!$A$17,1)+IF(G17=Feuil1!$A$18,1)+IF(G17=Feuil1!$A$19,1)+IF(G17=Feuil1!$A$20,1)+IF(G17=Feuil1!$A$31,1)+IF(G17=Feuil1!$A$32,1)+IF(G17=Feuil1!$A$33,1)+IF(G17=Feuil1!$A$34,1) -> 0 | H18: =IF(H17=Feuil1!$A$15,1)+IF(H17=Feuil1!$A$16,1)+IF(H17=Feuil1!$A$17,1)+IF(H17=Feuil1!$A$18,1)+IF(H17=Feuil1!$A$19,1)+IF(H17=Feuil1!$A$20,1)+IF(H17=Feuil1!$A$31,1)+IF(H17=Feuil1!$A$32,1)+IF(H17=Feuil1!$A$33,1)+IF(H17=Feuil1!$A$34,1) -> 0 | I18: =IF(I17=Feuil1!$A$15,1)+IF(I17=Feuil1!$A$16,1)+IF(I17=Feuil1!$A$17,1)+IF(I17=Feuil1!$A$18,1)+IF(I17=Feuil1!$A$19,1)+IF(I17=Feuil1!$A$20,1)+IF(I17=Feuil1!$A$31,1)+IF(I17=Feuil1!$A$32,1)+IF(I17=Feuil1!$A$33,1)+IF(I17=Feuil1!$A$34,1) -> 0 | ... AF18: =IF(AF17=Feuil1!$A$15,1)+IF(AF17=Feuil1!$A$16,1)+IF(AF17=Feuil1!$A$17,1)+IF(AF17=Feuil1!$A$18,1)+IF(AF17=Feuil1!$A$19,1)+IF(AF17=Feuil1!$A$20,1)+IF(AF17=Feuil1!$A$31,1)+IF(AF17=Feuil1!$A$32,1)+IF(AF17=Feuil1!$A$33,1)+IF(AF17=Feuil1!$A$34,1) -> 1
