Workbook
Name Categorie: INDIRECT("LD!A2:A"&LD!#REF!,1)

Sheet Rapport
A1: SÉLECTION | B1: NOM DU PRODUIT | C1: =A3 -> SOUS-CATÉGORIE | D1: REFERENCE | E1: CODE-BARRES | F1: QTE | G1: STATUT | H1: EMPLACEMENT | I1: Valeur | J1: =IF(K1>0,"",Inventaires!A1) -> 17 | K1: =Inventaires!B1 -> 0
A2: 0900 Rhume et toux | B2: =IF(AND($K$1=0,ROW()-1<=$J$1),INDIRECT("Inventaires!D"&SMALL(Inventaires!$A$3:$A$2500,ROW()-1),1),IF(AND(ROW()-1<=$K$1,$K$1>0),INDIRECT("Inventaires!D"&SMALL(Inventaires!$B$3:$B$2500,ROW()-1),1),"")) -> Helixia toux enfant 100ml | C2: =IF(AND($K$1=0,ROW()-1<=$J$1),INDIRECT("Inventaires!I"&SMALL(Inventaires!$A$3:$A$2500,ROW()-1),1),IF(AND(ROW()-1<=$K$1,$K$1>0),INDIRECT("Inventaires!I"&SMALL(Inventaires!$B$3:$B$2500,ROW()-1),1),"")) -> 0910 RHUME TOUX LIQUIDES | D2: =IF(AND($K$1=0,ROW()-1<=$J$1),INDIRECT("Inventaires!C"&SMALL(Inventaires!$A$3:$A$2500,ROW()-1),1),IF(AND(ROW()-1<=$K$1,$K$1>0),INDIRECT("Inventaires!C"&SMALL(Inventaires!$B$3:$B$2500,ROW()-1),1),"")) -> 026-616 | E2: =IF(AND($K$1=0,ROW()-1<=$J$1),INDIRECT("Inventaires!Q"&SMALL(Inventaires!$A$3:$A$2500,ROW()-1),1),IF(AND(ROW()-1<=$K$1,$K$1>0),INDIRECT("Inventaires!Q"&SMALL(Inventaires!$B$3:$B$2500,ROW()-1),1),"")) -> 625972013430 | F2: =IF(AND($K$1=0,ROW()-1<=$J$1),INDIRECT("Inventaires!J"&SMALL(Inventaires!$A$3:$A$2500,ROW()-1),1),IF(AND(ROW()-1<=$K$1,$K$1>0),INDIRECT("Inventaires!J"&SMALL(Inventaires!$B$3:$B$2500,ROW()-1),1),"")) -> 18 | G2: =IF(AND($K$1=0,ROW()-1<=$J$1),INDIRECT("Inventaires!K"&SMALL(Inventaires!$A$3:$A$2500,ROW()-1),1),IF(AND(ROW()-1<=$K$1,$K$1>0),INDIRECT("Inventaires!K"&SMALL(Inventaires!$B$3:$B$2500,ROW()-1),1),"")) -> 0 | H2: =IF(AND($K$1=0,ROW()-1<=$J$1),INDIRECT("Inventaires!O"&SMALL(Inventaires!$A$3:$A$2500,ROW()-1),1),IF(AND(ROW()-1<=$K$1,$K$1>0),INDIRECT("Inventaires!O"&SMALL(Inventaires!$B$3:$B$2500,ROW()-1),1),"")) -> 0 | I2: =IF(AND($K$1=0,ROW()-1<=$J$1),INDIRECT("Inventaires!M"&SMALL(Inventaires!$A$3:$A$2500,ROW()-1),1),IF(AND(ROW()-1<=$K$1,$K$1>0),INDIRECT("Inventaires!M"&SMALL(Inventaires!$B$3:$B$2500,ROW()-1),1),"")) -> 93.96 | K2: =IF(ROW()-1<=$K$1,ROW()-1,"")
A3: SOUS-CATÉGORIE | B3: =IF(AND($K$1=0,ROW()-1<=$J$1),INDIRECT("Inventaires!D"&SMALL(Inventaires!$A$3:$A$2500,ROW()-1),1),IF(AND(ROW()-1<=$K$1,$K$1>0),INDIRECT("Inventaires!D"&SMALL(Inventaires!$B$3:$B$2500,ROW()-1),1),"")) -> Helixia Toux adulte 100ml | C3: =IF(AND($K$1=0,ROW()-1<=$J$1),INDIRECT("Inventaires!I"&SMALL(Inventaires!$A$3:$A$2500,ROW()-1),1),IF(AND(ROW()-1<=$K$1,$K$1>0),INDIRECT("Inventaires!I"&SMALL(Inventaires!$B$3:$B$2500,ROW()-1),1),"")) -> 0910 RHUME TOUX LIQUIDES | D3: =IF(AND($K$1=0,ROW()-1<=$J$1),INDIRECT("Inventaires!C"&SMALL(Inventaires!$A$3:$A$2500,ROW()-1),1),IF(AND(ROW()-1<=$K$1,$K$1>0),INDIRECT("Inventaires!C"&SMALL(Inventaires!$B$3:$B$2500,ROW()-1),1),"")) -> 026-619 | E3: =IF(AND($K$1=0,ROW()-1<=$J$1),INDIRECT("Inventaires!Q"&SMALL(Inventaires!$A$3:$A$2500,ROW()-1),1),IF(AND(ROW()-1<=$K$1,$K$1>0),INDIRECT("Inventaires!Q"&SMALL(Inventaires!$B$3:$B$2500,ROW()-1),1),"")) -> 625972013324 | F3: =IF(AND($K$1=0,ROW()-1<=$J$1),INDIRECT("Inventaires!J"&SMALL(Inventaires!$A$3:$A$2500,ROW()-1),1),IF(AND(ROW()-1<=$K$1,$K$1>0),INDIRECT("Inventaires!J"&SMALL(Inventaires!$B$3:$B$2500,ROW()-1),1),"")) -> 17 | G3: =IF(AND($K$1=0,ROW()-1<=$J$1),INDIRECT("Inventaires!K"&SMALL(Inventaires!$A$3:$A$2500,ROW()-1),1),IF(AND(ROW()-1<=$K$1,$K$1>0),INDIRECT("Inventaires!K"&SMALL(Inventaires!$B$3:$B$2500,ROW()-1),1),"")) -> 0 | H3: =IF(AND($K$1=0,ROW()-1<=$J$1),INDIRECT("Inventaires!O"&SMALL(Inventaires!$A$3:$A$2500,ROW()-1),1),IF(AND(ROW()-1<=$K$1,$K$1>0),INDIRECT("Inventaires!O"&SMALL(Inventaires!$B$3:$B$2500,ROW()-1),1),"")) -> 0 | I3: =IF(AND($K$1=0,ROW()-1<=$J$1),INDIRECT("Inventaires!M"&SMALL(Inventaires!$A$3:$A$2500,ROW()-1),1),IF(AND(ROW()-1<=$K$1,$K$1>0),INDIRECT("Inventaires!M"&SMALL(Inventaires!$B$3:$B$2500,ROW()-1),1),"")) -> 88.74 | K3: =IF(ROW()-1<=$K$1,ROW()-1,"")
B4: =IF(AND($K$1=0,ROW()-1<=$J$1),INDIRECT("Inventaires!D"&SMALL(Inventaires!$A$3:$A$2500,ROW()-1),1),IF(AND(ROW()-1<=$K$1,$K$1>0),INDIRECT("Inventaires!D"&SMALL(Inventaires!$B$3:$B$2500,ROW()-1),1),"")) -> Helixia Toux enfants 200ml | C4: =IF(AND($K$1=0,ROW()-1<=$J$1),INDIRECT("Inventaires!I"&SMALL(Inventaires!$A$3:$A$2500,ROW()-1),1),IF(AND(ROW()-1<=$K$1,$K$1>0),INDIRECT("Inventaires!I"&SMALL(Inventaires!$B$3:$B$2500,ROW()-1),1),"")) -> 0910 RHUME TOUX LIQUIDES | D4: =IF(AND($K$1=0,ROW()-1<=$J$1),INDIRECT("Inventaires!C"&SMALL(Inventaires!$A$3:$A$2500,ROW()-1),1),IF(AND(ROW()-1<=$K$1,$K$1>0),INDIRECT("Inventaires!C"&SMALL(Inventaires!$B$3:$B$2500,ROW()-1),1),"")) -> 038-870 | E4: =IF(AND($K$1=0,ROW()-1<=$J$1),INDIRECT("Inventaires!Q"&SMALL(Inventaires!$A$3:$A$2500,ROW()-1),1),IF(AND(ROW()-1<=$K$1,$K$1>0),INDIRECT("Inventaires!Q"&SMALL(Inventaires!$B$3:$B$2500,ROW()-1),1),"")) -> 625972019289 | F4: =IF(AND($K$1=0,ROW()-1<=$J$1),INDIRECT("Inventaires!J"&SMALL(Inventaires!$A$3:$A$2500,ROW()-1),1),IF(AND(ROW()-1<=$K$1,$K$1>0),INDIRECT("Inventaires!J"&SMALL(Inventaires!$B$3:$B$2500,ROW()-1),1),"")) -> 10 | G4: =IF(AND($K$1=0,ROW()-1<=$J$1),INDIRECT("Inventaires!K"&SMALL(Inventaires!$A$3:$A$2500,ROW()-1),1),IF(AND(ROW()-1<=$K$1,$K$1>0),INDIRECT("Inventaires!K"&SMALL(Inventaires!$B$3:$B$2500,ROW()-1),1),"")) -> 0 | H4: =IF(AND($K$1=0,ROW()-1<=$J$1),INDIRECT("Inventaires!O"&SMALL(Inventaires!$A$3:$A$2500,ROW()-1),1),IF(AND(ROW()-1<=$K$1,$K$1>0),INDIRECT("Inventaires!O"&SMALL(Inventaires!$B$3:$B$2500,ROW()-1),1),"")) -> 0 | I4: =IF(AND($K$1=0,ROW()-1<=$J$1),INDIRECT("Inventaires!M"&SMALL(Inventaires!$A$3:$A$2500,ROW()-1),1),IF(AND(ROW()-1<=$K$1,$K$1>0),INDIRECT("Inventaires!M"&SMALL(Inventaires!$B$3:$B$2500,ROW()-1),1),"")) -> 70.8 | K4: =IF(ROW()-1<=$K$1,ROW()-1,"")
A5: TOTAL PAR SÉLECTION: | B5: =IF(AND($K$1=0,ROW()-1<=$J$1),INDIRECT("Inventaires!D"&SMALL(Inventaires!$A$3:$A$2500,ROW()-1),1),IF(AND(ROW()-1<=$K$1,$K$1>0),INDIRECT("Inventaires!D"&SMALL(Inventaires!$B$3:$B$2500,ROW()-1),1),"")) -> Helixia toux adulte 200ml | C5: =IF(AND($K$1=0,ROW()-1<=$J$1),INDIRECT("Inventaires!I"&SMALL(Inventaires!$A$3:$A$2500,ROW()-1),1),IF(AND(ROW()-1<=$K$1,$K$1>0),INDIRECT("Inventaires!I"&SMALL(Inventaires!$B$3:$B$2500,ROW()-1),1),"")) -> 0910 RHUME TOUX LIQUIDES | D5: =IF(AND($K$1=0,ROW()-1<=$J$1),INDIRECT("Inventaires!C"&SMALL(Inventaires!$A$3:$A$2500,ROW()-1),1),IF(AND(ROW()-1<=$K$1,$K$1>0),INDIRECT("Inventaires!C"&SMALL(Inventaires!$B$3:$B$2500,ROW()-1),1),"")) -> 038-873 | E5: =IF(AND($K$1=0,ROW()-1<=$J$1),INDIRECT("Inventaires!Q"&SMALL(Inventaires!$A$3:$A$2500,ROW()-1),1),IF(AND(ROW()-1<=$K$1,$K$1>0),INDIRECT("Inventaires!Q"&SMALL(Inventaires!$B$3:$B$2500,ROW()-1),1),"")) -> 625972019272 | F5: =IF(AND($K$1=0,ROW()-1<=$J$1),INDIRECT("Inventaires!J"&SMALL(Inventaires!$A$3:$A$2500,ROW()-1),1),IF(AND(ROW()-1<=$K$1,$K$1>0),INDIRECT("Inventaires!J"&SMALL(Inventaires!$B$3:$B$2500,ROW()-1),1),"")) -> 10 | G5: =IF(AND($K$1=0,ROW()-1<=$J$1),INDIRECT("Inventaires!K"&SMALL(Inventaires!$A$3:$A$2500,ROW()-1),1),IF(AND(ROW()-1<=$K$1,$K$1>0),INDIRECT("Inventaires!K"&SMALL(Inventaires!$B$3:$B$2500,ROW()-1),1),"")) -> 0 | H5: =IF(AND($K$1=0,ROW()-1<=$J$1),INDIRECT("Inventaires!O"&SMALL(Inventaires!$A$3:$A$2500,ROW()-1),1),IF(AND(ROW()-1<=$K$1,$K$1>0),INDIRECT("Inventaires!O"&SMALL(Inventaires!$B$3:$B$2500,ROW()-1),1),"")) -> 0 | I5: =IF(AND($K$1=0,ROW()-1<=$J$1),INDIRECT("Inventaires!M"&SMALL(Inventaires!$A$3:$A$2500,ROW()-1),1),IF(AND(ROW()-1<=$K$1,$K$1>0),INDIRECT("Inventaires!M"&SMALL(Inventaires!$B$3:$B$2500,ROW()-1),1),"")) -> 71.2 | K5: =IF(ROW()-1<=$K$1,ROW()-1,"")
A6: =SUM(I:I) -> 636.85 | B6: =IF(AND($K$1=0,ROW()-1<=$J$1),INDIRECT("Inventaires!D"&SMALL(Inventaires!$A$3:$A$2500,ROW()-1),1),IF(AND(ROW()-1<=$K$1,$K$1>0),INDIRECT("Inventaires!D"&SMALL(Inventaires!$B$3:$B$2500,ROW()-1),1),"")) -> Atoma Pastille Menthole Eucalyptus Citron | C6: =IF(AND($K$1=0,ROW()-1<=$J$1),INDIRECT("Inventaires!I"&SMALL(Inventaires!$A$3:$A$2500,ROW()-1),1),IF(AND(ROW()-1<=$K$1,$K$1>0),INDIRECT("Inventaires!I"&SMALL(Inventaires!$B$3:$B$2500,ROW()-1),1),"")) -> 0920 RHUME TOUX PASTILLES | D6: =IF(AND($K$1=0,ROW()-1<=$J$1),INDIRECT("Inventaires!C"&SMALL(Inventaires!$A$3:$A$2500,ROW()-1),1),IF(AND(ROW()-1<=$K$1,$K$1>0),INDIRECT("Inventaires!C"&SMALL(Inventaires!$B$3:$B$2500,ROW()-1),1),"")) -> 050-296 | E6: =IF(AND($K$1=0,ROW()-1<=$J$1),INDIRECT("Inventaires!Q"&SMALL(Inventaires!$A$3:$A$2500,ROW()-1),1),IF(AND(ROW()-1<=$K$1,$K$1>0),INDIRECT("Inventaires!Q"&SMALL(Inventaires!$B$3:$B$2500,ROW()-1),1),"")) -> 777747101313 | F6: =IF(AND($K$1=0,ROW()-1<=$J$1),INDIRECT("Inventaires!J"&SMALL(Inventaires!$A$3:$A$2500,ROW()-1),1),IF(AND(ROW()-1<=$K$1,$K$1>0),INDIRECT("Inventaires!J"&SMALL(Inventaires!$B$3:$B$2500,ROW()-1),1),"")) -> 36 | G6: =IF(AND($K$1=0,ROW()-1<=$J$1),INDIRECT("Inventaires!K"&SMALL(Inventaires!$A$3:$A$2500,ROW()-1),1),IF(AND(ROW()-1<=$K$1,$K$1>0),INDIRECT("Inventaires!K"&SMALL(Inventaires!$B$3:$B$2500,ROW()-1),1),"")) -> 0 | H6: =IF(AND($K$1=0,ROW()-1<=$J$1),INDIRECT("Inventaires!O"&SMALL(Inventaires!$A$3:$A$2500,ROW()-1),1),IF(AND(ROW()-1<=$K$1,$K$1>0),INDIRECT("Inventaires!O"&SMALL(Inventaires!$B$3:$B$2500,ROW()-1),1),"")) -> 0 | I6: =IF(AND($K$1=0,ROW()-1<=$J$1),INDIRECT("Inventaires!M"&SMALL(Inventaires!$A$3:$A$2500,ROW()-1),1),IF(AND(ROW()-1<=$K$1,$K$1>0),INDIRECT("Inventaires!M"&SMALL(Inventaires!$B$3:$B$2500,ROW()-1),1),"")) -> 40.32 | K6: =IF(ROW()-1<=$K$1,ROW()-1,"")
A7: NOMBRE D'ITEMS PAR SÉLECTION | B7: =IF(AND($K$1=0,ROW()-1<=$J$1),INDIRECT("Inventaires!D"&SMALL(Inventaires!$A$3:$A$2500,ROW()-1),1),IF(AND(ROW()-1<=$K$1,$K$1>0),INDIRECT("Inventaires!D"&SMALL(Inventaires!$B$3:$B$2500,ROW()-1),1),"")) -> Neilmed Sinues Rinse 50u | C7: =IF(AND($K$1=0,ROW()-1<=$J$1),INDIRECT("Inventaires!I"&SMALL(Inventaires!$A$3:$A$2500,ROW()-1),1),IF(AND(ROW()-1<=$K$1,$K$1>0),INDIRECT("Inventaires!I"&SMALL(Inventaires!$B$3:$B$2500,ROW()-1),1),"")) -> 0950 RHUME TOUX GOUTTES VAP.NASAUX | D7: =IF(AND($K$1=0,ROW()-1<=$J$1),INDIRECT("Inventaires!C"&SMALL(Inventaires!$A$3:$A$2500,ROW()-1),1),IF(AND(ROW()-1<=$K$1,$K$1>0),INDIRECT("Inventaires!C"&SMALL(Inventaires!$B$3:$B$2500,ROW()-1),1),"")) -> 645-598 | E7: =IF(AND($K$1=0,ROW()-1<=$J$1),INDIRECT("Inventaires!Q"&SMALL(Inventaires!$A$3:$A$2500,ROW()-1),1),IF(AND(ROW()-1<=$K$1,$K$1>0),INDIRECT("Inventaires!Q"&SMALL(Inventaires!$B$3:$B$2500,ROW()-1),1),"")) -> 705928001008 | F7: =IF(AND($K$1=0,ROW()-1<=$J$1),INDIRECT("Inventaires!J"&SMALL(Inventaires!$A$3:$A$2500,ROW()-1),1),IF(AND(ROW()-1<=$K$1,$K$1>0),INDIRECT("Inventaires!J"&SMALL(Inventaires!$B$3:$B$2500,ROW()-1),1),"")) -> 23 | G7: =IF(AND($K$1=0,ROW()-1<=$J$1),INDIRECT("Inventaires!K"&SMALL(Inventaires!$A$3:$A$2500,ROW()-1),1),IF(AND(ROW()-1<=$K$1,$K$1>0),INDIRECT("Inventaires!K"&SMALL(Inventaires!$B$3:$B$2500,ROW()-1),1),"")) -> 0 | H7: =IF(AND($K$1=0,ROW()-1<=$J$1),INDIRECT("Inventaires!O"&SMALL(Inventaires!$A$3:$A$2500,ROW()-1),1),IF(AND(ROW()-1<=$K$1,$K$1>0),INDIRECT("Inventaires!O"&SMALL(Inventaires!$B$3:$B$2500,ROW()-1),1),"")) -> ND | I7: =IF(AND($K$1=0,ROW()-1<=$J$1),INDIRECT("Inventaires!M"&SMALL(Inventaires!$A$3:$A$2500,ROW()-1),1),IF(AND(ROW()-1<=$K$1,$K$1>0),INDIRECT("Inventaires!M"&SMALL(Inventaires!$B$3:$B$2500,ROW()-1),1),"")) -> 206.31 | K7: =IF(ROW()-1<=$K$1,ROW()-1,"")
A8: =_xlfn.IFS(K1=0,J1,J1>0,K1) -> 17 | B8: =IF(AND($K$1=0,ROW()-1<=$J$1),INDIRECT("Inventaires!D"&SMALL(Inventaires!$A$3:$A$2500,ROW()-1),1),IF(AND(ROW()-1<=$K$1,$K$1>0),INDIRECT("Inventaires!D"&SMALL(Inventaires!$B$3:$B$2500,ROW()-1),1),"")) -> Sucons au miel Labonté Rose | C8: =IF(AND($K$1=0,ROW()-1<=$J$1),INDIRECT("Inventaires!I"&SMALL(Inventaires!$A$3:$A$2500,ROW()-1),1),IF(AND(ROW()-1<=$K$1,$K$1>0),INDIRECT("Inventaires!I"&SMALL(Inventaires!$B$3:$B$2500,ROW()-1),1),"")) -> 0 | D8: =IF(AND($K$1=0,ROW()-1<=$J$1),INDIRECT("Inventaires!C"&SMALL(Inventaires!$A$3:$A$2500,ROW()-1),1),IF(AND(ROW()-1<=$K$1,$K$1>0),INDIRECT("Inventaires!C"&SMALL(Inventaires!$B$3:$B$2500,ROW()-1),1),"")) -> 006-067 | E8: =IF(AND($K$1=0,ROW()-1<=$J$1),INDIRECT("Inventaires!Q"&SMALL(Inventaires!$A$3:$A$2500,ROW()-1),1),IF(AND(ROW()-1<=$K$1,$K$1>0),INDIRECT("Inventaires!Q"&SMALL(Inventaires!$B$3:$B$2500,ROW()-1),1),"")) -> 626665006067 | F8: =IF(AND($K$1=0,ROW()-1<=$J$1),INDIRECT("Inventaires!J"&SMALL(Inventaires!$A$3:$A$2500,ROW()-1),1),IF(AND(ROW()-1<=$K$1,$K$1>0),INDIRECT("Inventaires!J"&SMALL(Inventaires!$B$3:$B$2500,ROW()-1),1),"")) -> 0 | G8: =IF(AND($K$1=0,ROW()-1<=$J$1),INDIRECT("Inventaires!K"&SMALL(Inventaires!$A$3:$A$2500,ROW()-1),1),IF(AND(ROW()-1<=$K$1,$K$1>0),INDIRECT("Inventaires!K"&SMALL(Inventaires!$B$3:$B$2500,ROW()-1),1),"")) -> RUPTURE | H8: =IF(AND($K$1=0,ROW()-1<=$J$1),INDIRECT("Inventaires!O"&SMALL(Inventaires!$A$3:$A$2500,ROW()-1),1),IF(AND(ROW()-1<=$K$1,$K$1>0),INDIRECT("Inventaires!O"&SMALL(Inventaires!$B$3:$B$2500,ROW()-1),1),"")) -> 0 | I8: =IF(AND($K$1=0,ROW()-1<=$J$1),INDIRECT("Inventaires!M"&SMALL(Inventaires!$A$3:$A$2500,ROW()-1),1),IF(AND(ROW()-1<=$K$1,$K$1>0),INDIRECT("Inventaires!M"&SMALL(Inventaires!$B$3:$B$2500,ROW()-1),1),"")) -> 0 | K8: =IF(ROW()-1<=$K$1,ROW()-1,"")
A9: TOTAL EN INVENTAIRE: | B9: =IF(AND($K$1=0,ROW()-1<=$J$1),INDIRECT("Inventaires!D"&SMALL(Inventaires!$A$3:$A$2500,ROW()-1),1),IF(AND(ROW()-1<=$K$1,$K$1>0),INDIRECT("Inventaires!D"&SMALL(Inventaires!$B$3:$B$2500,ROW()-1),1),"")) -> Pastilles au miel Labonté | C9: =IF(AND($K$1=0,ROW()-1<=$J$1),INDIRECT("Inventaires!I"&SMALL(Inventaires!$A$3:$A$2500,ROW()-1),1),IF(AND(ROW()-1<=$K$1,$K$1>0),INDIRECT("Inventaires!I"&SMALL(Inventaires!$B$3:$B$2500,ROW()-1),1),"")) -> 0 | D9: =IF(AND($K$1=0,ROW()-1<=$J$1),INDIRECT("Inventaires!C"&SMALL(Inventaires!$A$3:$A$2500,ROW()-1),1),IF(AND(ROW()-1<=$K$1,$K$1>0),INDIRECT("Inventaires!C"&SMALL(Inventaires!$B$3:$B$2500,ROW()-1),1),"")) -> 006-159 | E9: =IF(AND($K$1=0,ROW()-1<=$J$1),INDIRECT("Inventaires!Q"&SMALL(Inventaires!$A$3:$A$2500,ROW()-1),1),IF(AND(ROW()-1<=$K$1,$K$1>0),INDIRECT("Inventaires!Q"&SMALL(Inventaires!$B$3:$B$2500,ROW()-1),1),"")) -> 626665006159 | F9: =IF(AND($K$1=0,ROW()-1<=$J$1),INDIRECT("Inventaires!J"&SMALL(Inventaires!$A$3:$A$2500,ROW()-1),1),IF(AND(ROW()-1<=$K$1,$K$1>0),INDIRECT("Inventaires!J"&SMALL(Inventaires!$B$3:$B$2500,ROW()-1),1),"")) -> 0 | G9: =IF(AND($K$1=0,ROW()-1<=$J$1),INDIRECT("Inventaires!K"&SMALL(Inventaires!$A$3:$A$2500,ROW()-1),1),IF(AND(ROW()-1<=$K$1,$K$1>0),INDIRECT("Inventaires!K"&SMALL(Inventaires!$B$3:$B$2500,ROW()-1),1),"")) -> RUPTURE | H9: =IF(AND($K$1=0,ROW()-1<=$J$1),INDIRECT("Inventaires!O"&SMALL(Inventaires!$A$3:$A$2500,ROW()-1),1),IF(AND(ROW()-1<=$K$1,$K$1>0),INDIRECT("Inventaires!O"&SMALL(Inventaires!$B$3:$B$2500,ROW()-1),1),"")) -> 0 | I9: =IF(AND($K$1=0,ROW()-1<=$J$1),INDIRECT("Inventaires!M"&SMALL(Inventaires!$A$3:$A$2500,ROW()-1),1),IF(AND(ROW()-1<=$K$1,$K$1>0),INDIRECT("Inventaires!M"&SMALL(Inventaires!$B$3:$B$2500,ROW()-1),1),"")) -> 0 | K9: =IF(ROW()-1<=$K$1,ROW()-1,"")
A10: =SUM(Inventaires!M:M) -> 7434.446 | B10: =IF(AND($K$1=0,ROW()-1<=$J$1),INDIRECT("Inventaires!D"&SMALL(Inventaires!$A$3:$A$2500,ROW()-1),1),IF(AND(ROW()-1<=$K$1,$K$1>0),INDIRECT("Inventaires!D"&SMALL(Inventaires!$B$3:$B$2500,ROW()-1),1),"")) -> Pastilles au miel Labonté Orange | C10: =IF(AND($K$1=0,ROW()-1<=$J$1),INDIRECT("Inventaires!I"&SMALL(Inventaires!$A$3:$A$2500,ROW()-1),1),IF(AND(ROW()-1<=$K$1,$K$1>0),INDIRECT("Inventaires!I"&SMALL(Inventaires!$B$3:$B$2500,ROW()-1),1),"")) -> 0 | D10: =IF(AND($K$1=0,ROW()-1<=$J$1),INDIRECT("Inventaires!C"&SMALL(Inventaires!$A$3:$A$2500,ROW()-1),1),IF(AND(ROW()-1<=$K$1,$K$1>0),INDIRECT("Inventaires!C"&SMALL(Inventaires!$B$3:$B$2500,ROW()-1),1),"")) -> 006-166 | E10: =IF(AND($K$1=0,ROW()-1<=$J$1),INDIRECT("Inventaires!Q"&SMALL(Inventaires!$A$3:$A$2500,ROW()-1),1),IF(AND(ROW()-1<=$K$1,$K$1>0),INDIRECT("Inventaires!Q"&SMALL(Inventaires!$B$3:$B$2500,ROW()-1),1),"")) -> 626665006166 | F10: =IF(AND($K$1=0,ROW()-1<=$J$1),INDIRECT("Inventaires!J"&SMALL(Inventaires!$A$3:$A$2500,ROW()-1),1),IF(AND(ROW()-1<=$K$1,$K$1>0),INDIRECT("Inventaires!J"&SMALL(Inventaires!$B$3:$B$2500,ROW()-1),1),"")) -> 0 | G10: =IF(AND($K$1=0,ROW()-1<=$J$1),INDIRECT("Inventaires!K"&SMALL(Inventaires!$A$3:$A$2500,ROW()-1),1),IF(AND(ROW()-1<=$K$1,$K$1>0),INDIRECT("Inventaires!K"&SMALL(Inventaires!$B$3:$B$2500,ROW()-1),1),"")) -> RUPTURE | H10: =IF(AND($K$1=0,ROW()-1<=$J$1),INDIRECT("Inventaires!O"&SMALL(Inventaires!$A$3:$A$2500,ROW()-1),1),IF(AND(ROW()-1<=$K$1,$K$1>0),INDIRECT("Inventaires!O"&SMALL(Inventaires!$B$3:$B$2500,ROW()-1),1),"")) -> 0 | I10: =IF(AND($K$1=0,ROW()-1<=$J$1),INDIRECT("Inventaires!M"&SMALL(Inventaires!$A$3:$A$2500,ROW()-1),1),IF(AND(ROW()-1<=$K$1,$K$1>0),INDIRECT("Inventaires!M"&SMALL(Inventaires!$B$3:$B$2500,ROW()-1),1),"")) -> 0 | K10: =IF(ROW()-1<=$K$1,ROW()-1,"")
A11: NOMBRE D'ITEMS EN INVENTAIRE | B11: =IF(AND($K$1=0,ROW()-1<=$J$1),INDIRECT("Inventaires!D"&SMALL(Inventaires!$A$3:$A$2500,ROW()-1),1),IF(AND(ROW()-1<=$K$1,$K$1>0),INDIRECT("Inventaires!D"&SMALL(Inventaires!$B$3:$B$2500,ROW()-1),1),"")) -> Pastilles au miel labonté Vert | C11: =IF(AND($K$1=0,ROW()-1<=$J$1),INDIRECT("Inventaires!I"&SMALL(Inventaires!$A$3:$A$2500,ROW()-1),1),IF(AND(ROW()-1<=$K$1,$K$1>0),INDIRECT("Inventaires!I"&SMALL(Inventaires!$B$3:$B$2500,ROW()-1),1),"")) -> 0 | D11: =IF(AND($K$1=0,ROW()-1<=$J$1),INDIRECT("Inventaires!C"&SMALL(Inventaires!$A$3:$A$2500,ROW()-1),1),IF(AND(ROW()-1<=$K$1,$K$1>0),INDIRECT("Inventaires!C"&SMALL(Inventaires!$B$3:$B$2500,ROW()-1),1),"")) -> 006-173 | E11: =IF(AND($K$1=0,ROW()-1<=$J$1),INDIRECT("Inventaires!Q"&SMALL(Inventaires!$A$3:$A$2500,ROW()-1),1),IF(AND(ROW()-1<=$K$1,$K$1>0),INDIRECT("Inventaires!Q"&SMALL(Inventaires!$B$3:$B$2500,ROW()-1),1),"")) -> 626665006173 | F11: =IF(AND($K$1=0,ROW()-1<=$J$1),INDIRECT("Inventaires!J"&SMALL(Inventaires!$A$3:$A$2500,ROW()-1),1),IF(AND(ROW()-1<=$K$1,$K$1>0),INDIRECT("Inventaires!J"&SMALL(Inventaires!$B$3:$B$2500,ROW()-1),1),"")) -> 0 | G11: =IF(AND($K$1=0,ROW()-1<=$J$1),INDIRECT("Inventaires!K"&SMALL(Inventaires!$A$3:$A$2500,ROW()-1),1),IF(AND(ROW()-1<=$K$1,$K$1>0),INDIRECT("Inventaires!K"&SMALL(Inventaires!$B$3:$B$2500,ROW()-1),1),"")) -> RUPTURE | H11: =IF(AND($K$1=0,ROW()-1<=$J$1),INDIRECT("Inventaires!O"&SMALL(Inventaires!$A$3:$A$2500,ROW()-1),1),IF(AND(ROW()-1<=$K$1,$K$1>0),INDIRECT("Inventaires!O"&SMALL(Inventaires!$B$3:$B$2500,ROW()-1),1),"")) -> 0 | I11: =IF(AND($K$1=0,ROW()-1<=$J$1),INDIRECT("Inventaires!M"&SMALL(Inventaires!$A$3:$A$2500,ROW()-1),1),IF(AND(ROW()-1<=$K$1,$K$1>0),INDIRECT("Inventaires!M"&SMALL(Inventaires!$B$3:$B$2500,ROW()-1),1),"")) -> 0 | K11: =IF(ROW()-1<=$K$1,ROW()-1,"")
A12: =SUM(Inventaires!J:J) -> 11248 | B12: =IF(AND($K$1=0,ROW()-1<=$J$1),INDIRECT("Inventaires!D"&SMALL(Inventaires!$A$3:$A$2500,ROW()-1),1),IF(AND(ROW()-1<=$K$1,$K$1>0),INDIRECT("Inventaires!D"&SMALL(Inventaires!$B$3:$B$2500,ROW()-1),1),"")) -> Pastilles au miel labonté Bleu | C12: =IF(AND($K$1=0,ROW()-1<=$J$1),INDIRECT("Inventaires!I"&SMALL(Inventaires!$A$3:$A$2500,ROW()-1),1),IF(AND(ROW()-1<=$K$1,$K$1>0),INDIRECT("Inventaires!I"&SMALL(Inventaires!$B$3:$B$2500,ROW()-1),1),"")) -> 0 | D12: =IF(AND($K$1=0,ROW()-1<=$J$1),INDIRECT("Inventaires!C"&SMALL(Inventaires!$A$3:$A$2500,ROW()-1),1),IF(AND(ROW()-1<=$K$1,$K$1>0),INDIRECT("Inventaires!C"&SMALL(Inventaires!$B$3:$B$2500,ROW()-1),1),"")) -> 006-180 | E12: =IF(AND($K$1=0,ROW()-1<=$J$1),INDIRECT("Inventaires!Q"&SMALL(Inventaires!$A$3:$A$2500,ROW()-1),1),IF(AND(ROW()-1<=$K$1,$K$1>0),INDIRECT("Inventaires!Q"&SMALL(Inventaires!$B$3:$B$2500,ROW()-1),1),"")) -> 626665006180 | F12: =IF(AND($K$1=0,ROW()-1<=$J$1),INDIRECT("Inventaires!J"&SMALL(Inventaires!$A$3:$A$2500,ROW()-1),1),IF(AND(ROW()-1<=$K$1,$K$1>0),INDIRECT("Inventaires!J"&SMALL(Inventaires!$B$3:$B$2500,ROW()-1),1),"")) -> 0 | G12: =IF(AND($K$1=0,ROW()-1<=$J$1),INDIRECT("Inventaires!K"&SMALL(Inventaires!$A$3:$A$2500,ROW()-1),1),IF(AND(ROW()-1<=$K$1,$K$1>0),INDIRECT("Inventaires!K"&SMALL(Inventaires!$B$3:$B$2500,ROW()-1),1),"")) -> RUPTURE | H12: =IF(AND($K$1=0,ROW()-1<=$J$1),INDIRECT("Inventaires!O"&SMALL(Inventaires!$A$3:$A$2500,ROW()-1),1),IF(AND(ROW()-1<=$K$1,$K$1>0),INDIRECT("Inventaires!O"&SMALL(Inventaires!$B$3:$B$2500,ROW()-1),1),"")) -> 0 | I12: =IF(AND($K$1=0,ROW()-1<=$J$1),INDIRECT("Inventaires!M"&SMALL(Inventaires!$A$3:$A$2500,ROW()-1),1),IF(AND(ROW()-1<=$K$1,$K$1>0),INDIRECT("Inventaires!M"&SMALL(Inventaires!$B$3:$B$2500,ROW()-1),1),"")) -> 0 | K12: =IF(ROW()-1<=$K$1,ROW()-1,"")
A13: ITEMS EN RUPTURE PAR SÉLECTION | B13: =IF(AND($K$1=0,ROW()-1<=$J$1),INDIRECT("Inventaires!D"&SMALL(Inventaires!$A$3:$A$2500,ROW()-1),1),IF(AND(ROW()-1<=$K$1,$K$1>0),INDIRECT("Inventaires!D"&SMALL(Inventaires!$B$3:$B$2500,ROW()-1),1),"")) -> Pastilles au miel labonté rouge | C13: =IF(AND($K$1=0,ROW()-1<=$J$1),INDIRECT("Inventaires!I"&SMALL(Inventaires!$A$3:$A$2500,ROW()-1),1),IF(AND(ROW()-1<=$K$1,$K$1>0),INDIRECT("Inventaires!I"&SMALL(Inventaires!$B$3:$B$2500,ROW()-1),1),"")) -> 0 | D13: =IF(AND($K$1=0,ROW()-1<=$J$1),INDIRECT("Inventaires!C"&SMALL(Inventaires!$A$3:$A$2500,ROW()-1),1),IF(AND(ROW()-1<=$K$1,$K$1>0),INDIRECT("Inventaires!C"&SMALL(Inventaires!$B$3:$B$2500,ROW()-1),1),"")) -> 006-265 | E13: =IF(AND($K$1=0,ROW()-1<=$J$1),INDIRECT("Inventaires!Q"&SMALL(Inventaires!$A$3:$A$2500,ROW()-1),1),IF(AND(ROW()-1<=$K$1,$K$1>0),INDIRECT("Inventaires!Q"&SMALL(Inventaires!$B$3:$B$2500,ROW()-1),1),"")) -> 626665006265 | F13: =IF(AND($K$1=0,ROW()-1<=$J$1),INDIRECT("Inventaires!J"&SMALL(Inventaires!$A$3:$A$2500,ROW()-1),1),IF(AND(ROW()-1<=$K$1,$K$1>0),INDIRECT("Inventaires!J"&SMALL(Inventaires!$B$3:$B$2500,ROW()-1),1),"")) -> 0 | G13: =IF(AND($K$1=0,ROW()-1<=$J$1),INDIRECT("Inventaires!K"&SMALL(Inventaires!$A$3:$A$2500,ROW()-1),1),IF(AND(ROW()-1<=$K$1,$K$1>0),INDIRECT("Inventaires!K"&SMALL(Inventaires!$B$3:$B$2500,ROW()-1),1),"")) -> RUPTURE | H13: =IF(AND($K$1=0,ROW()-1<=$J$1),INDIRECT("Inventaires!O"&SMALL(Inventaires!$A$3:$A$2500,ROW()-1),1),IF(AND(ROW()-1<=$K$1,$K$1>0),INDIRECT("Inventaires!O"&SMALL(Inventaires!$B$3:$B$2500,ROW()-1),1),"")) -> 0 | I13: =IF(AND($K$1=0,ROW()-1<=$J$1),INDIRECT("Inventaires!M"&SMALL(Inventaires!$A$3:$A$2500,ROW()-1),1),IF(AND(ROW()-1<=$K$1,$K$1>0),INDIRECT("Inventaires!M"&SMALL(Inventaires!$B$3:$B$2500,ROW()-1),1),"")) -> 0 | K13: =IF(ROW()-1<=$K$1,ROW()-1,"")
A14: =LD!P8 -> 9 | B14: =IF(AND($K$1=0,ROW()-1<=$J$1),INDIRECT("Inventaires!D"&SMALL(Inventaires!$A$3:$A$2500,ROW()-1),1),IF(AND(ROW()-1<=$K$1,$K$1>0),INDIRECT("Inventaires!D"&SMALL(Inventaires!$B$3:$B$2500,ROW()-1),1),"")) -> Atoma LORATADINE 10MG comp 10 | C14: =IF(AND($K$1=0,ROW()-1<=$J$1),INDIRECT("Inventaires!I"&SMALL(Inventaires!$A$3:$A$2500,ROW()-1),1),IF(AND(ROW()-1<=$K$1,$K$1>0),INDIRECT("Inventaires!I"&SMALL(Inventaires!$B$3:$B$2500,ROW()-1),1),"")) -> 0 | D14: =IF(AND($K$1=0,ROW()-1<=$J$1),INDIRECT("Inventaires!C"&SMALL(Inventaires!$A$3:$A$2500,ROW()-1),1),IF(AND(ROW()-1<=$K$1,$K$1>0),INDIRECT("Inventaires!C"&SMALL(Inventaires!$B$3:$B$2500,ROW()-1),1),"")) -> 049-230 | E14: =IF(AND($K$1=0,ROW()-1<=$J$1),INDIRECT("Inventaires!Q"&SMALL(Inventaires!$A$3:$A$2500,ROW()-1),1),IF(AND(ROW()-1<=$K$1,$K$1>0),INDIRECT("Inventaires!Q"&SMALL(Inventaires!$B$3:$B$2500,ROW()-1),1),"")) -> 777747101092 | F14: =IF(AND($K$1=0,ROW()-1<=$J$1),INDIRECT("Inventaires!J"&SMALL(Inventaires!$A$3:$A$2500,ROW()-1),1),IF(AND(ROW()-1<=$K$1,$K$1>0),INDIRECT("Inventaires!J"&SMALL(Inventaires!$B$3:$B$2500,ROW()-1),1),"")) -> 0 | G14: =IF(AND($K$1=0,ROW()-1<=$J$1),INDIRECT("Inventaires!K"&SMALL(Inventaires!$A$3:$A$2500,ROW()-1),1),IF(AND(ROW()-1<=$K$1,$K$1>0),INDIRECT("Inventaires!K"&SMALL(Inventaires!$B$3:$B$2500,ROW()-1),1),"")) -> RUPTURE | H14: =IF(AND($K$1=0,ROW()-1<=$J$1),INDIRECT("Inventaires!O"&SMALL(Inventaires!$A$3:$A$2500,ROW()-1),1),IF(AND(ROW()-1<=$K$1,$K$1>0),INDIRECT("Inventaires!O"&SMALL(Inventaires!$B$3:$B$2500,ROW()-1),1),"")) -> 0 | I14: =IF(AND($K$1=0,ROW()-1<=$J$1),INDIRECT("Inventaires!M"&SMALL(Inventaires!$A$3:$A$2500,ROW()-1),1),IF(AND(ROW()-1<=$K$1,$K$1>0),INDIRECT("Inventaires!M"&SMALL(Inventaires!$B$3:$B$2500,ROW()-1),1),"")) -> 0 | K14: =IF(ROW()-1<=$K$1,ROW()-1,"")
A15: ITEMS EN RUPTURE | B15: =IF(AND($K$1=0,ROW()-1<=$J$1),INDIRECT("Inventaires!D"&SMALL(Inventaires!$A$3:$A$2500,ROW()-1),1),IF(AND(ROW()-1<=$K$1,$K$1>0),INDIRECT("Inventaires!D"&SMALL(Inventaires!$B$3:$B$2500,ROW()-1),1),"")) -> Atoma pastille Cerise Menthol Eucalyptus | C15: =IF(AND($K$1=0,ROW()-1<=$J$1),INDIRECT("Inventaires!I"&SMALL(Inventaires!$A$3:$A$2500,ROW()-1),1),IF(AND(ROW()-1<=$K$1,$K$1>0),INDIRECT("Inventaires!I"&SMALL(Inventaires!$B$3:$B$2500,ROW()-1),1),"")) -> 0 | D15: =IF(AND($K$1=0,ROW()-1<=$J$1),INDIRECT("Inventaires!C"&SMALL(Inventaires!$A$3:$A$2500,ROW()-1),1),IF(AND(ROW()-1<=$K$1,$K$1>0),INDIRECT("Inventaires!C"&SMALL(Inventaires!$B$3:$B$2500,ROW()-1),1),"")) -> 050-295 | E15: =IF(AND($K$1=0,ROW()-1<=$J$1),INDIRECT("Inventaires!Q"&SMALL(Inventaires!$A$3:$A$2500,ROW()-1),1),IF(AND(ROW()-1<=$K$1,$K$1>0),INDIRECT("Inventaires!Q"&SMALL(Inventaires!$B$3:$B$2500,ROW()-1),1),"")) -> 777747101290 | F15: =IF(AND($K$1=0,ROW()-1<=$J$1),INDIRECT("Inventaires!J"&SMALL(Inventaires!$A$3:$A$2500,ROW()-1),1),IF(AND(ROW()-1<=$K$1,$K$1>0),INDIRECT("Inventaires!J"&SMALL(Inventaires!$B$3:$B$2500,ROW()-1),1),"")) -> 52 | G15: =IF(AND($K$1=0,ROW()-1<=$J$1),INDIRECT("Inventaires!K"&SMALL(Inventaires!$A$3:$A$2500,ROW()-1),1),IF(AND(ROW()-1<=$K$1,$K$1>0),INDIRECT("Inventaires!K"&SMALL(Inventaires!$B$3:$B$2500,ROW()-1),1),"")) -> 0 | H15: =IF(AND($K$1=0,ROW()-1<=$J$1),INDIRECT("Inventaires!O"&SMALL(Inventaires!$A$3:$A$2500,ROW()-1),1),IF(AND(ROW()-1<=$K$1,$K$1>0),INDIRECT("Inventaires!O"&SMALL(Inventaires!$B$3:$B$2500,ROW()-1),1),"")) -> 0 | I15: =IF(AND($K$1=0,ROW()-1<=$J$1),INDIRECT("Inventaires!M"&SMALL(Inventaires!$A$3:$A$2500,ROW()-1),1),IF(AND(ROW()-1<=$K$1,$K$1>0),INDIRECT("Inventaires!M"&SMALL(Inventaires!$B$3:$B$2500,ROW()-1),1),"")) -> 65.52 | K15: =IF(ROW()-1<=$K$1,ROW()-1,"")
A16: =COUNT(Rupture!A:A) -> 149 | B16: =IF(AND($K$1=0,ROW()-1<=$J$1),INDIRECT("Inventaires!D"&SMALL(Inventaires!$A$3:$A$2500,ROW()-1),1),IF(AND(ROW()-1<=$K$1,$K$1>0),INDIRECT("Inventaires!D"&SMALL(Inventaires!$B$3:$B$2500,ROW()-1),1),"")) -> Atoma SIR ALLRG ENF DP 100ml | C16: =IF(AND($K$1=0,ROW()-1<=$J$1),INDIRECT("Inventaires!I"&SMALL(Inventaires!$A$3:$A$2500,ROW()-1),1),IF(AND(ROW()-1<=$K$1,$K$1>0),INDIRECT("Inventaires!I"&SMALL(Inventaires!$B$3:$B$2500,ROW()-1),1),"")) -> 0 | D16: =IF(AND($K$1=0,ROW()-1<=$J$1),INDIRECT("Inventaires!C"&SMALL(Inventaires!$A$3:$A$2500,ROW()-1),1),IF(AND(ROW()-1<=$K$1,$K$1>0),INDIRECT("Inventaires!C"&SMALL(Inventaires!$B$3:$B$2500,ROW()-1),1),"")) -> 054-352 | E16: =IF(AND($K$1=0,ROW()-1<=$J$1),INDIRECT("Inventaires!Q"&SMALL(Inventaires!$A$3:$A$2500,ROW()-1),1),IF(AND(ROW()-1<=$K$1,$K$1>0),INDIRECT("Inventaires!Q"&SMALL(Inventaires!$B$3:$B$2500,ROW()-1),1),"")) -> 777747104260 | F16: =IF(AND($K$1=0,ROW()-1<=$J$1),INDIRECT("Inventaires!J"&SMALL(Inventaires!$A$3:$A$2500,ROW()-1),1),IF(AND(ROW()-1<=$K$1,$K$1>0),INDIRECT("Inventaires!J"&SMALL(Inventaires!$B$3:$B$2500,ROW()-1),1),"")) -> 0 | G16: =IF(AND($K$1=0,ROW()-1<=$J$1),INDIRECT("Inventaires!K"&SMALL(Inventaires!$A$3:$A$2500,ROW()-1),1),IF(AND(ROW()-1<=$K$1,$K$1>0),INDIRECT("Inventaires!K"&SMALL(Inventaires!$B$3:$B$2500,ROW()-1),1),"")) -> RUPTURE | H16: =IF(AND($K$1=0,ROW()-1<=$J$1),INDIRECT("Inventaires!O"&SMALL(Inventaires!$A$3:$A$2500,ROW()-1),1),IF(AND(ROW()-1<=$K$1,$K$1>0),INDIRECT("Inventaires!O"&SMALL(Inventaires!$B$3:$B$2500,ROW()-1),1),"")) -> 0 | I16: =IF(AND($K$1=0,ROW()-1<=$J$1),INDIRECT("Inventaires!M"&SMALL(Inventaires!$A$3:$A$2500,ROW()-1),1),IF(AND(ROW()-1<=$K$1,$K$1>0),INDIRECT("Inventaires!M"&SMALL(Inventaires!$B$3:$B$2500,ROW()-1),1),"")) -> 0 | K16: =IF(ROW()-1<=$K$1,ROW()-1,"")
B17: =IF(AND($K$1=0,ROW()-1<=$J$1),INDIRECT("Inventaires!D"&SMALL(Inventaires!$A$3:$A$2500,ROW()-1),1),IF(AND(ROW()-1<=$K$1,$K$1>0),INDIRECT("Inventaires!D"&SMALL(Inventaires!$B$3:$B$2500,ROW()-1),1),"")) -> Benadryl ENF GOMME BAL 100ml | C17: =IF(AND($K$1=0,ROW()-1<=$J$1),INDIRECT("Inventaires!I"&SMALL(Inventaires!$A$3:$A$2500,ROW()-1),1),IF(AND(ROW()-1<=$K$1,$K$1>0),INDIRECT("Inventaires!I"&SMALL(Inventaires!$B$3:$B$2500,ROW()-1),1),"")) -> 0 | D17: =IF(AND($K$1=0,ROW()-1<=$J$1),INDIRECT("Inventaires!C"&SMALL(Inventaires!$A$3:$A$2500,ROW()-1),1),IF(AND(ROW()-1<=$K$1,$K$1>0),INDIRECT("Inventaires!C"&SMALL(Inventaires!$B$3:$B$2500,ROW()-1),1),"")) -> 194-076 | E17: =IF(AND($K$1=0,ROW()-1<=$J$1),INDIRECT("Inventaires!Q"&SMALL(Inventaires!$A$3:$A$2500,ROW()-1),1),IF(AND(ROW()-1<=$K$1,$K$1>0),INDIRECT("Inventaires!Q"&SMALL(Inventaires!$B$3:$B$2500,ROW()-1),1),"")) -> 60093265809 | F17: =IF(AND($K$1=0,ROW()-1<=$J$1),INDIRECT("Inventaires!J"&SMALL(Inventaires!$A$3:$A$2500,ROW()-1),1),IF(AND(ROW()-1<=$K$1,$K$1>0),INDIRECT("Inventaires!J"&SMALL(Inventaires!$B$3:$B$2500,ROW()-1),1),"")) -> 0 | G17: =IF(AND($K$1=0,ROW()-1<=$J$1),INDIRECT("Inventaires!K"&SMALL(Inventaires!$A$3:$A$2500,ROW()-1),1),IF(AND(ROW()-1<=$K$1,$K$1>0),INDIRECT("Inventaires!K"&SMALL(Inventaires!$B$3:$B$2500,ROW()-1),1),"")) -> RUPTURE | H17: =IF(AND($K$1=0,ROW()-1<=$J$1),INDIRECT("Inventaires!O"&SMALL(Inventaires!$A$3:$A$2500,ROW()-1),1),IF(AND(ROW()-1<=$K$1,$K$1>0),INDIRECT("Inventaires!O"&SMALL(Inventaires!$B$3:$B$2500,ROW()-1),1),"")) -> 0 | I17: =IF(AND($K$1=0,ROW()-1<=$J$1),INDIRECT("Inventaires!M"&SMALL(Inventaires!$A$3:$A$2500,ROW()-1),1),IF(AND(ROW()-1<=$K$1,$K$1>0),INDIRECT("Inventaires!M"&SMALL(Inventaires!$B$3:$B$2500,ROW()-1),1),"")) -> 0 | K17: =IF(ROW()-1<=$K$1,ROW()-1,"")
B18: =IF(AND($K$1=0,ROW()-1<=$J$1),INDIRECT("Inventaires!D"&SMALL(Inventaires!$A$3:$A$2500,ROW()-1),1),IF(AND(ROW()-1<=$K$1,$K$1>0),INDIRECT("Inventaires!D"&SMALL(Inventaires!$B$3:$B$2500,ROW()-1),1),"")) -> Neilmed Sinus Rince 100u recharge | C18: =IF(AND($K$1=0,ROW()-1<=$J$1),INDIRECT("Inventaires!I"&SMALL(Inventaires!$A$3:$A$2500,ROW()-1),1),IF(AND(ROW()-1<=$K$1,$K$1>0),INDIRECT("Inventaires!I"&SMALL(Inventaires!$B$3:$B$2500,ROW()-1),1),"")) -> 0 | D18: =IF(AND($K$1=0,ROW()-1<=$J$1),INDIRECT("Inventaires!C"&SMALL(Inventaires!$A$3:$A$2500,ROW()-1),1),IF(AND(ROW()-1<=$K$1,$K$1>0),INDIRECT("Inventaires!C"&SMALL(Inventaires!$B$3:$B$2500,ROW()-1),1),"")) -> 417-667 | E18: =IF(AND($K$1=0,ROW()-1<=$J$1),INDIRECT("Inventaires!Q"&SMALL(Inventaires!$A$3:$A$2500,ROW()-1),1),IF(AND(ROW()-1<=$K$1,$K$1>0),INDIRECT("Inventaires!Q"&SMALL(Inventaires!$B$3:$B$2500,ROW()-1),1),"")) -> 705928002005 | F18: =IF(AND($K$1=0,ROW()-1<=$J$1),INDIRECT("Inventaires!J"&SMALL(Inventaires!$A$3:$A$2500,ROW()-1),1),IF(AND(ROW()-1<=$K$1,$K$1>0),INDIRECT("Inventaires!J"&SMALL(Inventaires!$B$3:$B$2500,ROW()-1),1),"")) -> 14 | G18: =IF(AND($K$1=0,ROW()-1<=$J$1),INDIRECT("Inventaires!K"&SMALL(Inventaires!$A$3:$A$2500,ROW()-1),1),IF(AND(ROW()-1<=$K$1,$K$1>0),INDIRECT("Inventaires!K"&SMALL(Inventaires!$B$3:$B$2500,ROW()-1),1),"")) -> 0 | H18: =IF(AND($K$1=0,ROW()-1<=$J$1),INDIRECT("Inventaires!O"&SMALL(Inventaires!$A$3:$A$2500,ROW()-1),1),IF(AND(ROW()-1<=$K$1,$K$1>0),INDIRECT("Inventaires!O"&SMALL(Inventaires!$B$3:$B$2500,ROW()-1),1),"")) -> ND | I18: =IF(AND($K$1=0,ROW()-1<=$J$1),INDIRECT("Inventaires!M"&SMALL(Inventaires!$A$3:$A$2500,ROW()-1),1),IF(AND(ROW()-1<=$K$1,$K$1>0),INDIRECT("Inventaires!M"&SMALL(Inventaires!$B$3:$B$2500,ROW()-1),1),"")) -> 0 | K18: =IF(ROW()-1<=$K$1,ROW()-1,"")
B19: =IF(AND($K$1=0,ROW()-1<=$J$1),INDIRECT("Inventaires!D"&SMALL(Inventaires!$A$3:$A$2500,ROW()-1),1),IF(AND(ROW()-1<=$K$1,$K$1>0),INDIRECT("Inventaires!D"&SMALL(Inventaires!$B$3:$B$2500,ROW()-1),1),"")) | C19: =IF(AND($K$1=0,ROW()-1<=$J$1),INDIRECT("Inventaires!I"&SMALL(Inventaires!$A$3:$A$2500,ROW()-1),1),IF(AND(ROW()-1<=$K$1,$K$1>0),INDIRECT("Inventaires!I"&SMALL(Inventaires!$B$3:$B$2500,ROW()-1),1),"")) | D19: =IF(AND($K$1=0,ROW()-1<=$J$1),INDIRECT("Inventaires!C"&SMALL(Inventaires!$A$3:$A$2500,ROW()-1),1),IF(AND(ROW()-1<=$K$1,$K$1>0),INDIRECT("Inventaires!C"&SMALL(Inventaires!$B$3:$B$2500,ROW()-1),1),"")) | E19: =IF(AND($K$1=0,ROW()-1<=$J$1),INDIRECT("Inventaires!Q"&SMALL(Inventaires!$A$3:$A$2500,ROW()-1),1),IF(AND(ROW()-1<=$K$1,$K$1>0),INDIRECT("Inventaires!Q"&SMALL(Inventaires!$B$3:$B$2500,ROW()-1),1),"")) | F19: =IF(AND($K$1=0,ROW()-1<=$J$1),INDIRECT("Inventaires!J"&SMALL(Inventaires!$A$3:$A$2500,ROW()-1),1),IF(AND(ROW()-1<=$K$1,$K$1>0),INDIRECT("Inventaires!J"&SMALL(Inventaires!$B$3:$B$2500,ROW()-1),1),"")) | G19: =IF(AND($K$1=0,ROW()-1<=$J$1),INDIRECT("Inventaires!K"&SMALL(Inventaires!$A$3:$A$2500,ROW()-1),1),IF(AND(ROW()-1<=$K$1,$K$1>0),INDIRECT("Inventaires!K"&SMALL(Inventaires!$B$3:$B$2500,ROW()-1),1),"")) | H19: =IF(AND($K$1=0,ROW()-1<=$J$1),INDIRECT("Inventaires!O"&SMALL(Inventaires!$A$3:$A$2500,ROW()-1),1),IF(AND(ROW()-1<=$K$1,$K$1>0),INDIRECT("Inventaires!O"&SMALL(Inventaires!$B$3:$B$2500,ROW()-1),1),"")) | I19: =IF(AND($K$1=0,ROW()-1<=$J$1),INDIRECT("Inventaires!M"&SMALL(Inventaires!$A$3:$A$2500,ROW()-1),1),IF(AND(ROW()-1<=$K$1,$K$1>0),INDIRECT("Inventaires!M"&SMALL(Inventaires!$B$3:$B$2500,ROW()-1),1),"")) | K19: =IF(ROW()-1<=$K$1,ROW()-1,"")
B20: =IF(AND($K$1=0,ROW()-1<=$J$1),INDIRECT("Inventaires!D"&SMALL(Inventaires!$A$3:$A$2500,ROW()-1),1),IF(AND(ROW()-1<=$K$1,$K$1>0),INDIRECT("Inventaires!D"&SMALL(Inventaires!$B$3:$B$2500,ROW()-1),1),"")) | C20: =IF(AND($K$1=0,ROW()-1<=$J$1),INDIRECT("Inventaires!I"&SMALL(Inventaires!$A$3:$A$2500,ROW()-1),1),IF(AND(ROW()-1<=$K$1,$K$1>0),INDIRECT("Inventaires!I"&SMALL(Inventaires!$B$3:$B$2500,ROW()-1),1),"")) | D20: =IF(AND($K$1=0,ROW()-1<=$J$1),INDIRECT("Inventaires!C"&SMALL(Inventaires!$A$3:$A$2500,ROW()-1),1),IF(AND(ROW()-1<=$K$1,$K$1>0),INDIRECT("Inventaires!C"&SMALL(Inventaires!$B$3:$B$2500,ROW()-1),1),"")) | E20: =IF(AND($K$1=0,ROW()-1<=$J$1),INDIRECT("Inventaires!Q"&SMALL(Inventaires!$A$3:$A$2500,ROW()-1),1),IF(AND(ROW()-1<=$K$1,$K$1>0),INDIRECT("Inventaires!Q"&SMALL(Inventaires!$B$3:$B$2500,ROW()-1),1),"")) | F20: =IF(AND($K$1=0,ROW()-1<=$J$1),INDIRECT("Inventaires!J"&SMALL(Inventaires!$A$3:$A$2500,ROW()-1),1),IF(AND(ROW()-1<=$K$1,$K$1>0),INDIRECT("Inventaires!J"&SMALL(Inventaires!$B$3:$B$2500,ROW()-1),1),"")) | G20: =IF(AND($K$1=0,ROW()-1<=$J$1),INDIRECT("Inventaires!K"&SMALL(Inventaires!$A$3:$A$2500,ROW()-1),1),IF(AND(ROW()-1<=$K$1,$K$1>0),INDIRECT("Inventaires!K"&SMALL(Inventaires!$B$3:$B$2500,ROW()-1),1),"")) | H20: =IF(AND($K$1=0,ROW()-1<=$J$1),INDIRECT("Inventaires!O"&SMALL(Inventaires!$A$3:$A$2500,ROW()-1),1),IF(AND(ROW()-1<=$K$1,$K$1>0),INDIRECT("Inventaires!O"&SMALL(Inventaires!$B$3:$B$2500,ROW()-1),1),"")) | I20: =IF(AND($K$1=0,ROW()-1<=$J$1),INDIRECT("Inventaires!M"&SMALL(Inventaires!$A$3:$A$2500,ROW()-1),1),IF(AND(ROW()-1<=$K$1,$K$1>0),INDIRECT("Inventaires!M"&SMALL(Inventaires!$B$3:$B$2500,ROW()-1),1),"")) | K20: =IF(ROW()-1<=$K$1,ROW()-1,"")
B21: =IF(AND($K$1=0,ROW()-1<=$J$1),INDIRECT("Inventaires!D"&SMALL(Inventaires!$A$3:$A$2500,ROW()-1),1),IF(AND(ROW()-1<=$K$1,$K$1>0),INDIRECT("Inventaires!D"&SMALL(Inventaires!$B$3:$B$2500,ROW()-1),1),"")) | C21: =IF(AND($K$1=0,ROW()-1<=$J$1),INDIRECT("Inventaires!I"&SMALL(Inventaires!$A$3:$A$2500,ROW()-1),1),IF(AND(ROW()-1<=$K$1,$K$1>0),INDIRECT("Inventaires!I"&SMALL(Inventaires!$B$3:$B$2500,ROW()-1),1),"")) | D21: =IF(AND($K$1=0,ROW()-1<=$J$1),INDIRECT("Inventaires!C"&SMALL(Inventaires!$A$3:$A$2500,ROW()-1),1),IF(AND(ROW()-1<=$K$1,$K$1>0),INDIRECT("Inventaires!C"&SMALL(Inventaires!$B$3:$B$2500,ROW()-1),1),"")) | E21: =IF(AND($K$1=0,ROW()-1<=$J$1),INDIRECT("Inventaires!Q"&SMALL(Inventaires!$A$3:$A$2500,ROW()-1),1),IF(AND(ROW()-1<=$K$1,$K$1>0),INDIRECT("Inventaires!Q"&SMALL(Inventaires!$B$3:$B$2500,ROW()-1),1),"")) | F21: =IF(AND($K$1=0,ROW()-1<=$J$1),INDIRECT("Inventaires!J"&SMALL(Inventaires!$A$3:$A$2500,ROW()-1),1),IF(AND(ROW()-1<=$K$1,$K$1>0),INDIRECT("Inventaires!J"&SMALL(Inventaires!$B$3:$B$2500,ROW()-1),1),"")) | G21: =IF(AND($K$1=0,ROW()-1<=$J$1),INDIRECT("Inventaires!K"&SMALL(Inventaires!$A$3:$A$2500,ROW()-1),1),IF(AND(ROW()-1<=$K$1,$K$1>0),INDIRECT("Inventaires!K"&SMALL(Inventaires!$B$3:$B$2500,ROW()-1),1),"")) | H21: =IF(AND($K$1=0,ROW()-1<=$J$1),INDIRECT("Inventaires!O"&SMALL(Inventaires!$A$3:$A$2500,ROW()-1),1),IF(AND(ROW()-1<=$K$1,$K$1>0),INDIRECT("Inventaires!O"&SMALL(Inventaires!$B$3:$B$2500,ROW()-1),1),"")) | I21: =IF(AND($K$1=0,ROW()-1<=$J$1),INDIRECT("Inventaires!M"&SMALL(Inventaires!$A$3:$A$2500,ROW()-1),1),IF(AND(ROW()-1<=$K$1,$K$1>0),INDIRECT("Inventaires!M"&SMALL(Inventaires!$B$3:$B$2500,ROW()-1),1),"")) | K21: =IF(ROW()-1<=$K$1,ROW()-1,"")
B22: =IF(AND($K$1=0,ROW()-1<=$J$1),INDIRECT("Inventaires!D"&SMALL(Inventaires!$A$3:$A$2500,ROW()-1),1),IF(AND(ROW()-1<=$K$1,$K$1>0),INDIRECT("Inventaires!D"&SMALL(Inventaires!$B$3:$B$2500,ROW()-1),1),"")) | C22: =IF(AND($K$1=0,ROW()-1<=$J$1),INDIRECT("Inventaires!I"&SMALL(Inventaires!$A$3:$A$2500,ROW()-1),1),IF(AND(ROW()-1<=$K$1,$K$1>0),INDIRECT("Inventaires!I"&SMALL(Inventaires!$B$3:$B$2500,ROW()-1),1),"")) | D22: =IF(AND($K$1=0,ROW()-1<=$J$1),INDIRECT("Inventaires!C"&SMALL(Inventaires!$A$3:$A$2500,ROW()-1),1),IF(AND(ROW()-1<=$K$1,$K$1>0),INDIRECT("Inventaires!C"&SMALL(Inventaires!$B$3:$B$2500,ROW()-1),1),"")) | E22: =IF(AND($K$1=0,ROW()-1<=$J$1),INDIRECT("Inventaires!Q"&SMALL(Inventaires!$A$3:$A$2500,ROW()-1),1),IF(AND(ROW()-1<=$K$1,$K$1>0),INDIRECT("Inventaires!Q"&SMALL(Inventaires!$B$3:$B$2500,ROW()-1),1),"")) | F22: =IF(AND($K$1=0,ROW()-1<=$J$1),INDIRECT("Inventaires!J"&SMALL(Inventaires!$A$3:$A$2500,ROW()-1),1),IF(AND(ROW()-1<=$K$1,$K$1>0),INDIRECT("Inventaires!J"&SMALL(Inventaires!$B$3:$B$2500,ROW()-1),1),"")) | G22: =IF(AND($K$1=0,ROW()-1<=$J$1),INDIRECT("Inventaires!K"&SMALL(Inventaires!$A$3:$A$2500,ROW()-1),1),IF(AND(ROW()-1<=$K$1,$K$1>0),INDIRECT("Inventaires!K"&SMALL(Inventaires!$B$3:$B$2500,ROW()-1),1),"")) | H22: =IF(AND($K$1=0,ROW()-1<=$J$1),INDIRECT("Inventaires!O"&SMALL(Inventaires!$A$3:$A$2500,ROW()-1),1),IF(AND(ROW()-1<=$K$1,$K$1>0),INDIRECT("Inventaires!O"&SMALL(Inventaires!$B$3:$B$2500,ROW()-1),1),"")) | I22: =IF(AND($K$1=0,ROW()-1<=$J$1),INDIRECT("Inventaires!M"&SMALL(Inventaires!$A$3:$A$2500,ROW()-1),1),IF(AND(ROW()-1<=$K$1,$K$1>0),INDIRECT("Inventaires!M"&SMALL(Inventaires!$B$3:$B$2500,ROW()-1),1),"")) | K22: =IF(ROW()-1<=$K$1,ROW()-1,"")
B23: =IF(AND($K$1=0,ROW()-1<=$J$1),INDIRECT("Inventaires!D"&SMALL(Inventaires!$A$3:$A$2500,ROW()-1),1),IF(AND(ROW()-1<=$K$1,$K$1>0),INDIRECT("Inventaires!D"&SMALL(Inventaires!$B$3:$B$2500,ROW()-1),1),"")) | C23: =IF(AND($K$1=0,ROW()-1<=$J$1),INDIRECT("Inventaires!I"&SMALL(Inventaires!$A$3:$A$2500,ROW()-1),1),IF(AND(ROW()-1<=$K$1,$K$1>0),INDIRECT("Inventaires!I"&SMALL(Inventaires!$B$3:$B$2500,ROW()-1),1),"")) | D23: =IF(AND($K$1=0,ROW()-1<=$J$1),INDIRECT("Inventaires!C"&SMALL(Inventaires!$A$3:$A$2500,ROW()-1),1),IF(AND(ROW()-1<=$K$1,$K$1>0),INDIRECT("Inventaires!C"&SMALL(Inventaires!$B$3:$B$2500,ROW()-1),1),"")) | E23: =IF(AND($K$1=0,ROW()-1<=$J$1),INDIRECT("Inventaires!Q"&SMALL(Inventaires!$A$3:$A$2500,ROW()-1),1),IF(AND(ROW()-1<=$K$1,$K$1>0),INDIRECT("Inventaires!Q"&SMALL(Inventaires!$B$3:$B$2500,ROW()-1),1),"")) | F23: =IF(AND($K$1=0,ROW()-1<=$J$1),INDIRECT("Inventaires!J"&SMALL(Inventaires!$A$3:$A$2500,ROW()-1),1),IF(AND(ROW()-1<=$K$1,$K$1>0),INDIRECT("Inventaires!J"&SMALL(Inventaires!$B$3:$B$2500,ROW()-1),1),"")) | G23: =IF(AND($K$1=0,ROW()-1<=$J$1),INDIRECT("Inventaires!K"&SMALL(Inventaires!$A$3:$A$2500,ROW()-1),1),IF(AND(ROW()-1<=$K$1,$K$1>0),INDIRECT("Inventaires!K"&SMALL(Inventaires!$B$3:$B$2500,ROW()-1),1),"")) | H23: =IF(AND($K$1=0,ROW()-1<=$J$1),INDIRECT("Inventaires!O"&SMALL(Inventaires!$A$3:$A$2500,ROW()-1),1),IF(AND(ROW()-1<=$K$1,$K$1>0),INDIRECT("Inventaires!O"&SMALL(Inventaires!$B$3:$B$2500,ROW()-1),1),"")) | I23: =IF(AND($K$1=0,ROW()-1<=$J$1),INDIRECT("Inventaires!M"&SMALL(Inventaires!$A$3:$A$2500,ROW()-1),1),IF(AND(ROW()-1<=$K$1,$K$1>0),INDIRECT("Inventaires!M"&SMALL(Inventaires!$B$3:$B$2500,ROW()-1),1),"")) | K23: =IF(ROW()-1<=$K$1,ROW()-1,"")
B24: =IF(AND($K$1=0,ROW()-1<=$J$1),INDIRECT("Inventaires!D"&SMALL(Inventaires!$A$3:$A$2500,ROW()-1),1),IF(AND(ROW()-1<=$K$1,$K$1>0),INDIRECT("Inventaires!D"&SMALL(Inventaires!$B$3:$B$2500,ROW()-1),1),"")) | C24: =IF(AND($K$1=0,ROW()-1<=$J$1),INDIRECT("Inventaires!I"&SMALL(Inventaires!$A$3:$A$2500,ROW()-1),1),IF(AND(ROW()-1<=$K$1,$K$1>0),INDIRECT("Inventaires!I"&SMALL(Inventaires!$B$3:$B$2500,ROW()-1),1),"")) | D24: =IF(AND($K$1=0,ROW()-1<=$J$1),INDIRECT("Inventaires!C"&SMALL(Inventaires!$A$3:$A$2500,ROW()-1),1),IF(AND(ROW()-1<=$K$1,$K$1>0),INDIRECT("Inventaires!C"&SMALL(Inventaires!$B$3:$B$2500,ROW()-1),1),"")) | E24: =IF(AND($K$1=0,ROW()-1<=$J$1),INDIRECT("Inventaires!Q"&SMALL(Inventaires!$A$3:$A$2500,ROW()-1),1),IF(AND(ROW()-1<=$K$1,$K$1>0),INDIRECT("Inventaires!Q"&SMALL(Inventaires!$B$3:$B$2500,ROW()-1),1),"")) | F24: =IF(AND($K$1=0,ROW()-1<=$J$1),INDIRECT("Inventaires!J"&SMALL(Inventaires!$A$3:$A$2500,ROW()-1),1),IF(AND(ROW()-1<=$K$1,$K$1>0),INDIRECT("Inventaires!J"&SMALL(Inventaires!$B$3:$B$2500,ROW()-1),1),"")) | G24: =IF(AND($K$1=0,ROW()-1<=$J$1),INDIRECT("Inventaires!K"&SMALL(Inventaires!$A$3:$A$2500,ROW()-1),1),IF(AND(ROW()-1<=$K$1,$K$1>0),INDIRECT("Inventaires!K"&SMALL(Inventaires!$B$3:$B$2500,ROW()-1),1),"")) | H24: =IF(AND($K$1=0,ROW()-1<=$J$1),INDIRECT("Inventaires!O"&SMALL(Inventaires!$A$3:$A$2500,ROW()-1),1),IF(AND(ROW()-1<=$K$1,$K$1>0),INDIRECT("Inventaires!O"&SMALL(Inventaires!$B$3:$B$2500,ROW()-1),1),"")) | I24: =IF(AND($K$1=0,ROW()-1<=$J$1),INDIRECT("Inventaires!M"&SMALL(Inventaires!$A$3:$A$2500,ROW()-1),1),IF(AND(ROW()-1<=$K$1,$K$1>0),INDIRECT("Inventaires!M"&SMALL(Inventaires!$B$3:$B$2500,ROW()-1),1),"")) | K24: =IF(ROW()-1<=$K$1,ROW()-1,"")
B25: =IF(AND($K$1=0,ROW()-1<=$J$1),INDIRECT("Inventaires!D"&SMALL(Inventaires!$A$3:$A$2500,ROW()-1),1),IF(AND(ROW()-1<=$K$1,$K$1>0),INDIRECT("Inventaires!D"&SMALL(Inventaires!$B$3:$B$2500,ROW()-1),1),"")) | C25: =IF(AND($K$1=0,ROW()-1<=$J$1),INDIRECT("Inventaires!I"&SMALL(Inventaires!$A$3:$A$2500,ROW()-1),1),IF(AND(ROW()-1<=$K$1,$K$1>0),INDIRECT("Inventaires!I"&SMALL(Inventaires!$B$3:$B$2500,ROW()-1),1),"")) | D25: =IF(AND($K$1=0,ROW()-1<=$J$1),INDIRECT("Inventaires!C"&SMALL(Inventaires!$A$3:$A$2500,ROW()-1),1),IF(AND(ROW()-1<=$K$1,$K$1>0),INDIRECT("Inventaires!C"&SMALL(Inventaires!$B$3:$B$2500,ROW()-1),1),"")) | E25: =IF(AND($K$1=0,ROW()-1<=$J$1),INDIRECT("Inventaires!Q"&SMALL(Inventaires!$A$3:$A$2500,ROW()-1),1),IF(AND(ROW()-1<=$K$1,$K$1>0),INDIRECT("Inventaires!Q"&SMALL(Inventaires!$B$3:$B$2500,ROW()-1),1),"")) | F25: =IF(AND($K$1=0,ROW()-1<=$J$1),INDIRECT("Inventaires!J"&SMALL(Inventaires!$A$3:$A$2500,ROW()-1),1),IF(AND(ROW()-1<=$K$1,$K$1>0),INDIRECT("Inventaires!J"&SMALL(Inventaires!$B$3:$B$2500,ROW()-1),1),"")) | G25: =IF(AND($K$1=0,ROW()-1<=$J$1),INDIRECT("Inventaires!K"&SMALL(Inventaires!$A$3:$A$2500,ROW()-1),1),IF(AND(ROW()-1<=$K$1,$K$1>0),INDIRECT("Inventaires!K"&SMALL(Inventaires!$B$3:$B$2500,ROW()-1),1),"")) | H25: =IF(AND($K$1=0,ROW()-1<=$J$1),INDIRECT("Inventaires!O"&SMALL(Inventaires!$A$3:$A$2500,ROW()-1),1),IF(AND(ROW()-1<=$K$1,$K$1>0),INDIRECT("Inventaires!O"&SMALL(Inventaires!$B$3:$B$2500,ROW()-1),1),"")) | I25: =IF(AND($K$1=0,ROW()-1<=$J$1),INDIRECT("Inventaires!M"&SMALL(Inventaires!$A$3:$A$2500,ROW()-1),1),IF(AND(ROW()-1<=$K$1,$K$1>0),INDIRECT("Inventaires!M"&SMALL(Inventaires!$B$3:$B$2500,ROW()-1),1),"")) | K25: =IF(ROW()-1<=$K$1,ROW()-1,"")
B26: =IF(AND($K$1=0,ROW()-1<=$J$1),INDIRECT("Inventaires!D"&SMALL(Inventaires!$A$3:$A$2500,ROW()-1),1),IF(AND(ROW()-1<=$K$1,$K$1>0),INDIRECT("Inventaires!D"&SMALL(Inventaires!$B$3:$B$2500,ROW()-1),1),"")) | C26: =IF(AND($K$1=0,ROW()-1<=$J$1),INDIRECT("Inventaires!I"&SMALL(Inventaires!$A$3:$A$2500,ROW()-1),1),IF(AND(ROW()-1<=$K$1,$K$1>0),INDIRECT("Inventaires!I"&SMALL(Inventaires!$B$3:$B$2500,ROW()-1),1),"")) | D26: =IF(AND($K$1=0,ROW()-1<=$J$1),INDIRECT("Inventaires!C"&SMALL(Inventaires!$A$3:$A$2500,ROW()-1),1),IF(AND(ROW()-1<=$K$1,$K$1>0),INDIRECT("Inventaires!C"&SMALL(Inventaires!$B$3:$B$2500,ROW()-1),1),"")) | E26: =IF(AND($K$1=0,ROW()-1<=$J$1),INDIRECT("Inventaires!Q"&SMALL(Inventaires!$A$3:$A$2500,ROW()-1),1),IF(AND(ROW()-1<=$K$1,$K$1>0),INDIRECT("Inventaires!Q"&SMALL(Inventaires!$B$3:$B$2500,ROW()-1),1),"")) | F26: =IF(AND($K$1=0,ROW()-1<=$J$1),INDIRECT("Inventaires!J"&SMALL(Inventaires!$A$3:$A$2500,ROW()-1),1),IF(AND(ROW()-1<=$K$1,$K$1>0),INDIRECT("Inventaires!J"&SMALL(Inventaires!$B$3:$B$2500,ROW()-1),1),"")) | G26: =IF(AND($K$1=0,ROW()-1<=$J$1),INDIRECT("Inventaires!K"&SMALL(Inventaires!$A$3:$A$2500,ROW()-1),1),IF(AND(ROW()-1<=$K$1,$K$1>0),INDIRECT("Inventaires!K"&SMALL(Inventaires!$B$3:$B$2500,ROW()-1),1),"")) | H26: =IF(AND($K$1=0,ROW()-1<=$J$1),INDIRECT("Inventaires!O"&SMALL(Inventaires!$A$3:$A$2500,ROW()-1),1),IF(AND(ROW()-1<=$K$1,$K$1>0),INDIRECT("Inventaires!O"&SMALL(Inventaires!$B$3:$B$2500,ROW()-1),1),"")) | I26: =IF(AND($K$1=0,ROW()-1<=$J$1),INDIRECT("Inventaires!M"&SMALL(Inventaires!$A$3:$A$2500,ROW()-1),1),IF(AND(ROW()-1<=$K$1,$K$1>0),INDIRECT("Inventaires!M"&SMALL(Inventaires!$B$3:$B$2500,ROW()-1),1),"")) | K26: =IF(ROW()-1<=$K$1,ROW()-1,"")
B27: =IF(AND($K$1=0,ROW()-1<=$J$1),INDIRECT("Inventaires!D"&SMALL(Inventaires!$A$3:$A$2500,ROW()-1),1),IF(AND(ROW()-1<=$K$1,$K$1>0),INDIRECT("Inventaires!D"&SMALL(Inventaires!$B$3:$B$2500,ROW()-1),1),"")) | C27: =IF(AND($K$1=0,ROW()-1<=$J$1),INDIRECT("Inventaires!I"&SMALL(Inventaires!$A$3:$A$2500,ROW()-1),1),IF(AND(ROW()-1<=$K$1,$K$1>0),INDIRECT("Inventaires!I"&SMALL(Inventaires!$B$3:$B$2500,ROW()-1),1),"")) | D27: =IF(AND($K$1=0,ROW()-1<=$J$1),INDIRECT("Inventaires!C"&SMALL(Inventaires!$A$3:$A$2500,ROW()-1),1),IF(AND(ROW()-1<=$K$1,$K$1>0),INDIRECT("Inventaires!C"&SMALL(Inventaires!$B$3:$B$2500,ROW()-1),1),"")) | E27: =IF(AND($K$1=0,ROW()-1<=$J$1),INDIRECT("Inventaires!Q"&SMALL(Inventaires!$A$3:$A$2500,ROW()-1),1),IF(AND(ROW()-1<=$K$1,$K$1>0),INDIRECT("Inventaires!Q"&SMALL(Inventaires!$B$3:$B$2500,ROW()-1),1),"")) | F27: =IF(AND($K$1=0,ROW()-1<=$J$1),INDIRECT("Inventaires!J"&SMALL(Inventaires!$A$3:$A$2500,ROW()-1),1),IF(AND(ROW()-1<=$K$1,$K$1>0),INDIRECT("Inventaires!J"&SMALL(Inventaires!$B$3:$B$2500,ROW()-1),1),"")) | G27: =IF(AND($K$1=0,ROW()-1<=$J$1),INDIRECT("Inventaires!K"&SMALL(Inventaires!$A$3:$A$2500,ROW()-1),1),IF(AND(ROW()-1<=$K$1,$K$1>0),INDIRECT("Inventaires!K"&SMALL(Inventaires!$B$3:$B$2500,ROW()-1),1),"")) | H27: =IF(AND($K$1=0,ROW()-1<=$J$1),INDIRECT("Inventaires!O"&SMALL(Inventaires!$A$3:$A$2500,ROW()-1),1),IF(AND(ROW()-1<=$K$1,$K$1>0),INDIRECT("Inventaires!O"&SMALL(Inventaires!$B$3:$B$2500,ROW()-1),1),"")) | I27: =IF(AND($K$1=0,ROW()-1<=$J$1),INDIRECT("Inventaires!M"&SMALL(Inventaires!$A$3:$A$2500,ROW()-1),1),IF(AND(ROW()-1<=$K$1,$K$1>0),INDIRECT("Inventaires!M"&SMALL(Inventaires!$B$3:$B$2500,ROW()-1),1),"")) | K27: =IF(ROW()-1<=$K$1,ROW()-1,"")
B28: =IF(AND($K$1=0,ROW()-1<=$J$1),INDIRECT("Inventaires!D"&SMALL(Inventaires!$A$3:$A$2500,ROW()-1),1),IF(AND(ROW()-1<=$K$1,$K$1>0),INDIRECT("Inventaires!D"&SMALL(Inventaires!$B$3:$B$2500,ROW()-1),1),"")) | C28: =IF(AND($K$1=0,ROW()-1<=$J$1),INDIRECT("Inventaires!I"&SMALL(Inventaires!$A$3:$A$2500,ROW()-1),1),IF(AND(ROW()-1<=$K$1,$K$1>0),INDIRECT("Inventaires!I"&SMALL(Inventaires!$B$3:$B$2500,ROW()-1),1),"")) | D28: =IF(AND($K$1=0,ROW()-1<=$J$1),INDIRECT("Inventaires!C"&SMALL(Inventaires!$A$3:$A$2500,ROW()-1),1),IF(AND(ROW()-1<=$K$1,$K$1>0),INDIRECT("Inventaires!C"&SMALL(Inventaires!$B$3:$B$2500,ROW()-1),1),"")) | E28: =IF(AND($K$1=0,ROW()-1<=$J$1),INDIRECT("Inventaires!Q"&SMALL(Inventaires!$A$3:$A$2500,ROW()-1),1),IF(AND(ROW()-1<=$K$1,$K$1>0),INDIRECT("Inventaires!Q"&SMALL(Inventaires!$B$3:$B$2500,ROW()-1),1),"")) | F28: =IF(AND($K$1=0,ROW()-1<=$J$1),INDIRECT("Inventaires!J"&SMALL(Inventaires!$A$3:$A$2500,ROW()-1),1),IF(AND(ROW()-1<=$K$1,$K$1>0),INDIRECT("Inventaires!J"&SMALL(Inventaires!$B$3:$B$2500,ROW()-1),1),"")) | G28: =IF(AND($K$1=0,ROW()-1<=$J$1),INDIRECT("Inventaires!K"&SMALL(Inventaires!$A$3:$A$2500,ROW()-1),1),IF(AND(ROW()-1<=$K$1,$K$1>0),INDIRECT("Inventaires!K"&SMALL(Inventaires!$B$3:$B$2500,ROW()-1),1),"")) | H28: =IF(AND($K$1=0,ROW()-1<=$J$1),INDIRECT("Inventaires!O"&SMALL(Inventaires!$A$3:$A$2500,ROW()-1),1),IF(AND(ROW()-1<=$K$1,$K$1>0),INDIRECT("Inventaires!O"&SMALL(Inventaires!$B$3:$B$2500,ROW()-1),1),"")) | I28: =IF(AND($K$1=0,ROW()-1<=$J$1),INDIRECT("Inventaires!M"&SMALL(Inventaires!$A$3:$A$2500,ROW()-1),1),IF(AND(ROW()-1<=$K$1,$K$1>0),INDIRECT("Inventaires!M"&SMALL(Inventaires!$B$3:$B$2500,ROW()-1),1),"")) | K28: =IF(ROW()-1<=$K$1,ROW()-1,"")
... B401: =IF(AND($K$1=0,ROW()-1<=$J$1),INDIRECT("Inventaires!D"&SMALL(Inventaires!$A$3:$A$2500,ROW()-1),1),IF(AND(ROW()-1<=$K$1,$K$1>0),INDIRECT("Inventaires!D"&SMALL(Inventaires!$B$3:$B$2500,ROW()-1),1),"")) | C401: =IF(AND($K$1=0,ROW()-1<=$J$1),INDIRECT("Inventaires!I"&SMALL(Inventaires!$A$3:$A$2500,ROW()-1),1),IF(AND(ROW()-1<=$K$1,$K$1>0),INDIRECT("Inventaires!I"&SMALL(Inventaires!$B$3:$B$2500,ROW()-1),1),"")) | D401: =IF(AND($K$1=0,ROW()-1<=$J$1),INDIRECT("Inventaires!C"&SMALL(Inventaires!$A$3:$A$2500,ROW()-1),1),IF(AND(ROW()-1<=$K$1,$K$1>0),INDIRECT("Inventaires!C"&SMALL(Inventaires!$B$3:$B$2500,ROW()-1),1),"")) | E401: =IF(AND($K$1=0,ROW()-1<=$J$1),INDIRECT("Inventaires!Q"&SMALL(Inventaires!$A$3:$A$2500,ROW()-1),1),IF(AND(ROW()-1<=$K$1,$K$1>0),INDIRECT("Inventaires!Q"&SMALL(Inventaires!$B$3:$B$2500,ROW()-1),1),"")) | F401: =IF(AND($K$1=0,ROW()-1<=$J$1),INDIRECT("Inventaires!J"&SMALL(Inventaires!$A$3:$A$2500,ROW()-1),1),IF(AND(ROW()-1<=$K$1,$K$1>0),INDIRECT("Inventaires!J"&SMALL(Inventaires!$B$3:$B$2500,ROW()-1),1),"")) | G401: =IF(AND($K$1=0,ROW()-1<=$J$1),INDIRECT("Inventaires!K"&SMALL(Inventaires!$A$3:$A$2500,ROW()-1),1),IF(AND(ROW()-1<=$K$1,$K$1>0),INDIRECT("Inventaires!K"&SMALL(Inventaires!$B$3:$B$2500,ROW()-1),1),"")) | H401: =IF(AND($K$1=0,ROW()-1<=$J$1),INDIRECT("Inventaires!O"&SMALL(Inventaires!$A$3:$A$2500,ROW()-1),1),IF(AND(ROW()-1<=$K$1,$K$1>0),INDIRECT("Inventaires!O"&SMALL(Inventaires!$B$3:$B$2500,ROW()-1),1),"")) | I401: =IF(AND($K$1=0,ROW()-1<=$J$1),INDIRECT("Inventaires!M"&SMALL(Inventaires!$A$3:$A$2500,ROW()-1),1),IF(AND(ROW()-1<=$K$1,$K$1>0),INDIRECT("Inventaires!M"&SMALL(Inventaires!$B$3:$B$2500,ROW()-1),1),"")) | K401: =IF(ROW()-1<=$K$1,ROW()-1,"")
B402: =IF(AND($K$1=0,ROW()-1<=$J$1),INDIRECT("Inventaires!D"&SMALL(Inventaires!$A$3:$A$2500,ROW()-1),1),IF(AND(ROW()-1<=$K$1,$K$1>0),INDIRECT("Inventaires!D"&SMALL(Inventaires!$B$3:$B$2500,ROW()-1),1),"")) | C402: =IF(AND($K$1=0,ROW()-1<=$J$1),INDIRECT("Inventaires!I"&SMALL(Inventaires!$A$3:$A$2500,ROW()-1),1),IF(AND(ROW()-1<=$K$1,$K$1>0),INDIRECT("Inventaires!I"&SMALL(Inventaires!$B$3:$B$2500,ROW()-1),1),"")) | D402: =IF(AND($K$1=0,ROW()-1<=$J$1),INDIRECT("Inventaires!C"&SMALL(Inventaires!$A$3:$A$2500,ROW()-1),1),IF(AND(ROW()-1<=$K$1,$K$1>0),INDIRECT("Inventaires!C"&SMALL(Inventaires!$B$3:$B$2500,ROW()-1),1),"")) | E402: =IF(AND($K$1=0,ROW()-1<=$J$1),INDIRECT("Inventaires!Q"&SMALL(Inventaires!$A$3:$A$2500,ROW()-1),1),IF(AND(ROW()-1<=$K$1,$K$1>0),INDIRECT("Inventaires!Q"&SMALL(Inventaires!$B$3:$B$2500,ROW()-1),1),"")) | F402: =IF(AND($K$1=0,ROW()-1<=$J$1),INDIRECT("Inventaires!J"&SMALL(Inventaires!$A$3:$A$2500,ROW()-1),1),IF(AND(ROW()-1<=$K$1,$K$1>0),INDIRECT("Inventaires!J"&SMALL(Inventaires!$B$3:$B$2500,ROW()-1),1),"")) | G402: =IF(AND($K$1=0,ROW()-1<=$J$1),INDIRECT("Inventaires!K"&SMALL(Inventaires!$A$3:$A$2500,ROW()-1),1),IF(AND(ROW()-1<=$K$1,$K$1>0),INDIRECT("Inventaires!K"&SMALL(Inventaires!$B$3:$B$2500,ROW()-1),1),"")) | H402: =IF(AND($K$1=0,ROW()-1<=$J$1),INDIRECT("Inventaires!O"&SMALL(Inventaires!$A$3:$A$2500,ROW()-1),1),IF(AND(ROW()-1<=$K$1,$K$1>0),INDIRECT("Inventaires!O"&SMALL(Inventaires!$B$3:$B$2500,ROW()-1),1),"")) | I402: =IF(AND($K$1=0,ROW()-1<=$J$1),INDIRECT("Inventaires!M"&SMALL(Inventaires!$A$3:$A$2500,ROW()-1),1),IF(AND(ROW()-1<=$K$1,$K$1>0),INDIRECT("Inventaires!M"&SMALL(Inventaires!$B$3:$B$2500,ROW()-1),1),""))
B403: =IF(AND($K$1=0,ROW()-1<=$J$1),INDIRECT("Inventaires!D"&SMALL(Inventaires!$A$3:$A$2500,ROW()-1),1),IF(AND(ROW()-1<=$K$1,$K$1>0),INDIRECT("Inventaires!D"&SMALL(Inventaires!$B$3:$B$2500,ROW()-1),1),"")) | C403: =IF(AND($K$1=0,ROW()-1<=$J$1),INDIRECT("Inventaires!I"&SMALL(Inventaires!$A$3:$A$2500,ROW()-1),1),IF(AND(ROW()-1<=$K$1,$K$1>0),INDIRECT("Inventaires!I"&SMALL(Inventaires!$B$3:$B$2500,ROW()-1),1),"")) | D403: =IF(AND($K$1=0,ROW()-1<=$J$1),INDIRECT("Inventaires!C"&SMALL(Inventaires!$A$3:$A$2500,ROW()-1),1),IF(AND(ROW()-1<=$K$1,$K$1>0),INDIRECT("Inventaires!C"&SMALL(Inventaires!$B$3:$B$2500,ROW()-1),1),"")) | E403: =IF(AND($K$1=0,ROW()-1<=$J$1),INDIRECT("Inventaires!Q"&SMALL(Inventaires!$A$3:$A$2500,ROW()-1),1),IF(AND(ROW()-1<=$K$1,$K$1>0),INDIRECT("Inventaires!Q"&SMALL(Inventaires!$B$3:$B$2500,ROW()-1),1),"")) | F403: =IF(AND($K$1=0,ROW()-1<=$J$1),INDIRECT("Inventaires!J"&SMALL(Inventaires!$A$3:$A$2500,ROW()-1),1),IF(AND(ROW()-1<=$K$1,$K$1>0),INDIRECT("Inventaires!J"&SMALL(Inventaires!$B$3:$B$2500,ROW()-1),1),"")) | G403: =IF(AND($K$1=0,ROW()-1<=$J$1),INDIRECT("Inventaires!K"&SMALL(Inventaires!$A$3:$A$2500,ROW()-1),1),IF(AND(ROW()-1<=$K$1,$K$1>0),INDIRECT("Inventaires!K"&SMALL(Inventaires!$B$3:$B$2500,ROW()-1),1),"")) | H403: =IF(AND($K$1=0,ROW()-1<=$J$1),INDIRECT("Inventaires!O"&SMALL(Inventaires!$A$3:$A$2500,ROW()-1),1),IF(AND(ROW()-1<=$K$1,$K$1>0),INDIRECT("Inventaires!O"&SMALL(Inventaires!$B$3:$B$2500,ROW()-1),1),"")) | I403: =IF(AND($K$1=0,ROW()-1<=$J$1),INDIRECT("Inventaires!M"&SMALL(Inventaires!$A$3:$A$2500,ROW()-1),1),IF(AND(ROW()-1<=$K$1,$K$1>0),INDIRECT("Inventaires!M"&SMALL(Inventaires!$B$3:$B$2500,ROW()-1),1),""))
B404: =IF(AND($K$1=0,ROW()-1<=$J$1),INDIRECT("Inventaires!D"&SMALL(Inventaires!$A$3:$A$2500,ROW()-1),1),IF(AND(ROW()-1<=$K$1,$K$1>0),INDIRECT("Inventaires!D"&SMALL(Inventaires!$B$3:$B$2500,ROW()-1),1),"")) | C404: =IF(AND($K$1=0,ROW()-1<=$J$1),INDIRECT("Inventaires!I"&SMALL(Inventaires!$A$3:$A$2500,ROW()-1),1),IF(AND(ROW()-1<=$K$1,$K$1>0),INDIRECT("Inventaires!I"&SMALL(Inventaires!$B$3:$B$2500,ROW()-1),1),"")) | D404: =IF(AND($K$1=0,ROW()-1<=$J$1),INDIRECT("Inventaires!C"&SMALL(Inventaires!$A$3:$A$2500,ROW()-1),1),IF(AND(ROW()-1<=$K$1,$K$1>0),INDIRECT("Inventaires!C"&SMALL(Inventaires!$B$3:$B$2500,ROW()-1),1),"")) | E404: =IF(AND($K$1=0,ROW()-1<=$J$1),INDIRECT("Inventaires!Q"&SMALL(Inventaires!$A$3:$A$2500,ROW()-1),1),IF(AND(ROW()-1<=$K$1,$K$1>0),INDIRECT("Inventaires!Q"&SMALL(Inventaires!$B$3:$B$2500,ROW()-1),1),"")) | F404: =IF(AND($K$1=0,ROW()-1<=$J$1),INDIRECT("Inventaires!J"&SMALL(Inventaires!$A$3:$A$2500,ROW()-1),1),IF(AND(ROW()-1<=$K$1,$K$1>0),INDIRECT("Inventaires!J"&SMALL(Inventaires!$B$3:$B$2500,ROW()-1),1),"")) | G404: =IF(AND($K$1=0,ROW()-1<=$J$1),INDIRECT("Inventaires!K"&SMALL(Inventaires!$A$3:$A$2500,ROW()-1),1),IF(AND(ROW()-1<=$K$1,$K$1>0),INDIRECT("Inventaires!K"&SMALL(Inventaires!$B$3:$B$2500,ROW()-1),1),"")) | H404: =IF(AND($K$1=0,ROW()-1<=$J$1),INDIRECT("Inventaires!O"&SMALL(Inventaires!$A$3:$A$2500,ROW()-1),1),IF(AND(ROW()-1<=$K$1,$K$1>0),INDIRECT("Inventaires!O"&SMALL(Inventaires!$B$3:$B$2500,ROW()-1),1),"")) | I404: =IF(AND($K$1=0,ROW()-1<=$J$1),INDIRECT("Inventaires!M"&SMALL(Inventaires!$A$3:$A$2500,ROW()-1),1),IF(AND(ROW()-1<=$K$1,$K$1>0),INDIRECT("Inventaires!M"&SMALL(Inventaires!$B$3:$B$2500,ROW()-1),1),""))
B405: =IF(AND($K$1=0,ROW()-1<=$J$1),INDIRECT("Inventaires!D"&SMALL(Inventaires!$A$3:$A$2500,ROW()-1),1),IF(AND(ROW()-1<=$K$1,$K$1>0),INDIRECT("Inventaires!D"&SMALL(Inventaires!$B$3:$B$2500,ROW()-1),1),"")) | C405: =IF(AND($K$1=0,ROW()-1<=$J$1),INDIRECT("Inventaires!I"&SMALL(Inventaires!$A$3:$A$2500,ROW()-1),1),IF(AND(ROW()-1<=$K$1,$K$1>0),INDIRECT("Inventaires!I"&SMALL(Inventaires!$B$3:$B$2500,ROW()-1),1),"")) | D405: =IF(AND($K$1=0,ROW()-1<=$J$1),INDIRECT("Inventaires!C"&SMALL(Inventaires!$A$3:$A$2500,ROW()-1),1),IF(AND(ROW()-1<=$K$1,$K$1>0),INDIRECT("Inventaires!C"&SMALL(Inventaires!$B$3:$B$2500,ROW()-1),1),"")) | E405: =IF(AND($K$1=0,ROW()-1<=$J$1),INDIRECT("Inventaires!Q"&SMALL(Inventaires!$A$3:$A$2500,ROW()-1),1),IF(AND(ROW()-1<=$K$1,$K$1>0),INDIRECT("Inventaires!Q"&SMALL(Inventaires!$B$3:$B$2500,ROW()-1),1),"")) | F405: =IF(AND($K$1=0,ROW()-1<=$J$1),INDIRECT("Inventaires!J"&SMALL(Inventaires!$A$3:$A$2500,ROW()-1),1),IF(AND(ROW()-1<=$K$1,$K$1>0),INDIRECT("Inventaires!J"&SMALL(Inventaires!$B$3:$B$2500,ROW()-1),1),"")) | G405: =IF(AND($K$1=0,ROW()-1<=$J$1),INDIRECT("Inventaires!K"&SMALL(Inventaires!$A$3:$A$2500,ROW()-1),1),IF(AND(ROW()-1<=$K$1,$K$1>0),INDIRECT("Inventaires!K"&SMALL(Inventaires!$B$3:$B$2500,ROW()-1),1),"")) | H405: =IF(AND($K$1=0,ROW()-1<=$J$1),INDIRECT("Inventaires!O"&SMALL(Inventaires!$A$3:$A$2500,ROW()-1),1),IF(AND(ROW()-1<=$K$1,$K$1>0),INDIRECT("Inventaires!O"&SMALL(Inventaires!$B$3:$B$2500,ROW()-1),1),"")) | I405: =IF(AND($K$1=0,ROW()-1<=$J$1),INDIRECT("Inventaires!M"&SMALL(Inventaires!$A$3:$A$2500,ROW()-1),1),IF(AND(ROW()-1<=$K$1,$K$1>0),INDIRECT("Inventaires!M"&SMALL(Inventaires!$B$3:$B$2500,ROW()-1),1),""))
B406: =IF(AND($K$1=0,ROW()-1<=$J$1),INDIRECT("Inventaires!D"&SMALL(Inventaires!$A$3:$A$2500,ROW()-1),1),IF(AND(ROW()-1<=$K$1,$K$1>0),INDIRECT("Inventaires!D"&SMALL(Inventaires!$B$3:$B$2500,ROW()-1),1),"")) | C406: =IF(AND($K$1=0,ROW()-1<=$J$1),INDIRECT("Inventaires!I"&SMALL(Inventaires!$A$3:$A$2500,ROW()-1),1),IF(AND(ROW()-1<=$K$1,$K$1>0),INDIRECT("Inventaires!I"&SMALL(Inventaires!$B$3:$B$2500,ROW()-1),1),"")) | D406: =IF(AND($K$1=0,ROW()-1<=$J$1),INDIRECT("Inventaires!C"&SMALL(Inventaires!$A$3:$A$2500,ROW()-1),1),IF(AND(ROW()-1<=$K$1,$K$1>0),INDIRECT("Inventaires!C"&SMALL(Inventaires!$B$3:$B$2500,ROW()-1),1),"")) | E406: =IF(AND($K$1=0,ROW()-1<=$J$1),INDIRECT("Inventaires!Q"&SMALL(Inventaires!$A$3:$A$2500,ROW()-1),1),IF(AND(ROW()-1<=$K$1,$K$1>0),INDIRECT("Inventaires!Q"&SMALL(Inventaires!$B$3:$B$2500,ROW()-1),1),"")) | F406: =IF(AND($K$1=0,ROW()-1<=$J$1),INDIRECT("Inventaires!J"&SMALL(Inventaires!$A$3:$A$2500,ROW()-1),1),IF(AND(ROW()-1<=$K$1,$K$1>0),INDIRECT("Inventaires!J"&SMALL(Inventaires!$B$3:$B$2500,ROW()-1),1),"")) | G406: =IF(AND($K$1=0,ROW()-1<=$J$1),INDIRECT("Inventaires!K"&SMALL(Inventaires!$A$3:$A$2500,ROW()-1),1),IF(AND(ROW()-1<=$K$1,$K$1>0),INDIRECT("Inventaires!K"&SMALL(Inventaires!$B$3:$B$2500,ROW()-1),1),"")) | H406: =IF(AND($K$1=0,ROW()-1<=$J$1),INDIRECT("Inventaires!O"&SMALL(Inventaires!$A$3:$A$2500,ROW()-1),1),IF(AND(ROW()-1<=$K$1,$K$1>0),INDIRECT("Inventaires!O"&SMALL(Inventaires!$B$3:$B$2500,ROW()-1),1),"")) | I406: =IF(AND($K$1=0,ROW()-1<=$J$1),INDIRECT("Inventaires!M"&SMALL(Inventaires!$A$3:$A$2500,ROW()-1),1),IF(AND(ROW()-1<=$K$1,$K$1>0),INDIRECT("Inventaires!M"&SMALL(Inventaires!$B$3:$B$2500,ROW()-1),1),""))
B407: =IF(AND($K$1=0,ROW()-1<=$J$1),INDIRECT("Inventaires!D"&SMALL(Inventaires!$A$3:$A$2500,ROW()-1),1),IF(AND(ROW()-1<=$K$1,$K$1>0),INDIRECT("Inventaires!D"&SMALL(Inventaires!$B$3:$B$2500,ROW()-1),1),"")) | C407: =IF(AND($K$1=0,ROW()-1<=$J$1),INDIRECT("Inventaires!I"&SMALL(Inventaires!$A$3:$A$2500,ROW()-1),1),IF(AND(ROW()-1<=$K$1,$K$1>0),INDIRECT("Inventaires!I"&SMALL(Inventaires!$B$3:$B$2500,ROW()-1),1),"")) | D407: =IF(AND($K$1=0,ROW()-1<=$J$1),INDIRECT("Inventaires!C"&SMALL(Inventaires!$A$3:$A$2500,ROW()-1),1),IF(AND(ROW()-1<=$K$1,$K$1>0),INDIRECT("Inventaires!C"&SMALL(Inventaires!$B$3:$B$2500,ROW()-1),1),"")) | E407: =IF(AND($K$1=0,ROW()-1<=$J$1),INDIRECT("Inventaires!Q"&SMALL(Inventaires!$A$3:$A$2500,ROW()-1),1),IF(AND(ROW()-1<=$K$1,$K$1>0),INDIRECT("Inventaires!Q"&SMALL(Inventaires!$B$3:$B$2500,ROW()-1),1),"")) | F407: =IF(AND($K$1=0,ROW()-1<=$J$1),INDIRECT("Inventaires!J"&SMALL(Inventaires!$A$3:$A$2500,ROW()-1),1),IF(AND(ROW()-1<=$K$1,$K$1>0),INDIRECT("Inventaires!J"&SMALL(Inventaires!$B$3:$B$2500,ROW()-1),1),"")) | G407: =IF(AND($K$1=0,ROW()-1<=$J$1),INDIRECT("Inventaires!K"&SMALL(Inventaires!$A$3:$A$2500,ROW()-1),1),IF(AND(ROW()-1<=$K$1,$K$1>0),INDIRECT("Inventaires!K"&SMALL(Inventaires!$B$3:$B$2500,ROW()-1),1),"")) | H407: =IF(AND($K$1=0,ROW()-1<=$J$1),INDIRECT("Inventaires!O"&SMALL(Inventaires!$A$3:$A$2500,ROW()-1),1),IF(AND(ROW()-1<=$K$1,$K$1>0),INDIRECT("Inventaires!O"&SMALL(Inventaires!$B$3:$B$2500,ROW()-1),1),"")) | I407: =IF(AND($K$1=0,ROW()-1<=$J$1),INDIRECT("Inventaires!M"&SMALL(Inventaires!$A$3:$A$2500,ROW()-1),1),IF(AND(ROW()-1<=$K$1,$K$1>0),INDIRECT("Inventaires!M"&SMALL(Inventaires!$B$3:$B$2500,ROW()-1),1),""))
B408: =IF(AND($K$1=0,ROW()-1<=$J$1),INDIRECT("Inventaires!D"&SMALL(Inventaires!$A$3:$A$2500,ROW()-1),1),IF(AND(ROW()-1<=$K$1,$K$1>0),INDIRECT("Inventaires!D"&SMALL(Inventaires!$B$3:$B$2500,ROW()-1),1),"")) | C408: =IF(AND($K$1=0,ROW()-1<=$J$1),INDIRECT("Inventaires!I"&SMALL(Inventaires!$A$3:$A$2500,ROW()-1),1),IF(AND(ROW()-1<=$K$1,$K$1>0),INDIRECT("Inventaires!I"&SMALL(Inventaires!$B$3:$B$2500,ROW()-1),1),"")) | D408: =IF(AND($K$1=0,ROW()-1<=$J$1),INDIRECT("Inventaires!C"&SMALL(Inventaires!$A$3:$A$2500,ROW()-1),1),IF(AND(ROW()-1<=$K$1,$K$1>0),INDIRECT("Inventaires!C"&SMALL(Inventaires!$B$3:$B$2500,ROW()-1),1),"")) | E408: =IF(AND($K$1=0,ROW()-1<=$J$1),INDIRECT("Inventaires!Q"&SMALL(Inventaires!$A$3:$A$2500,ROW()-1),1),IF(AND(ROW()-1<=$K$1,$K$1>0),INDIRECT("Inventaires!Q"&SMALL(Inventaires!$B$3:$B$2500,ROW()-1),1),"")) | F408: =IF(AND($K$1=0,ROW()-1<=$J$1),INDIRECT("Inventaires!J"&SMALL(Inventaires!$A$3:$A$2500,ROW()-1),1),IF(AND(ROW()-1<=$K$1,$K$1>0),INDIRECT("Inventaires!J"&SMALL(Inventaires!$B$3:$B$2500,ROW()-1),1),"")) | G408: =IF(AND($K$1=0,ROW()-1<=$J$1),INDIRECT("Inventaires!K"&SMALL(Inventaires!$A$3:$A$2500,ROW()-1),1),IF(AND(ROW()-1<=$K$1,$K$1>0),INDIRECT("Inventaires!K"&SMALL(Inventaires!$B$3:$B$2500,ROW()-1),1),"")) | H408: =IF(AND($K$1=0,ROW()-1<=$J$1),INDIRECT("Inventaires!O"&SMALL(Inventaires!$A$3:$A$2500,ROW()-1),1),IF(AND(ROW()-1<=$K$1,$K$1>0),INDIRECT("Inventaires!O"&SMALL(Inventaires!$B$3:$B$2500,ROW()-1),1),"")) | I408: =IF(AND($K$1=0,ROW()-1<=$J$1),INDIRECT("Inventaires!M"&SMALL(Inventaires!$A$3:$A$2500,ROW()-1),1),IF(AND(ROW()-1<=$K$1,$K$1>0),INDIRECT("Inventaires!M"&SMALL(Inventaires!$B$3:$B$2500,ROW()-1),1),""))
B409: =IF(AND($K$1=0,ROW()-1<=$J$1),INDIRECT("Inventaires!D"&SMALL(Inventaires!$A$3:$A$2500,ROW()-1),1),IF(AND(ROW()-1<=$K$1,$K$1>0),INDIRECT("Inventaires!D"&SMALL(Inventaires!$B$3:$B$2500,ROW()-1),1),"")) | C409: =IF(AND($K$1=0,ROW()-1<=$J$1),INDIRECT("Inventaires!I"&SMALL(Inventaires!$A$3:$A$2500,ROW()-1),1),IF(AND(ROW()-1<=$K$1,$K$1>0),INDIRECT("Inventaires!I"&SMALL(Inventaires!$B$3:$B$2500,ROW()-1),1),"")) | D409: =IF(AND($K$1=0,ROW()-1<=$J$1),INDIRECT("Inventaires!C"&SMALL(Inventaires!$A$3:$A$2500,ROW()-1),1),IF(AND(ROW()-1<=$K$1,$K$1>0),INDIRECT("Inventaires!C"&SMALL(Inventaires!$B$3:$B$2500,ROW()-1),1),"")) | E409: =IF(AND($K$1=0,ROW()-1<=$J$1),INDIRECT("Inventaires!Q"&SMALL(Inventaires!$A$3:$A$2500,ROW()-1),1),IF(AND(ROW()-1<=$K$1,$K$1>0),INDIRECT("Inventaires!Q"&SMALL(Inventaires!$B$3:$B$2500,ROW()-1),1),"")) | F409: =IF(AND($K$1=0,ROW()-1<=$J$1),INDIRECT("Inventaires!J"&SMALL(Inventaires!$A$3:$A$2500,ROW()-1),1),IF(AND(ROW()-1<=$K$1,$K$1>0),INDIRECT("Inventaires!J"&SMALL(Inventaires!$B$3:$B$2500,ROW()-1),1),"")) | G409: =IF(AND($K$1=0,ROW()-1<=$J$1),INDIRECT("Inventaires!K"&SMALL(Inventaires!$A$3:$A$2500,ROW()-1),1),IF(AND(ROW()-1<=$K$1,$K$1>0),INDIRECT("Inventaires!K"&SMALL(Inventaires!$B$3:$B$2500,ROW()-1),1),"")) | H409: =IF(AND($K$1=0,ROW()-1<=$J$1),INDIRECT("Inventaires!O"&SMALL(Inventaires!$A$3:$A$2500,ROW()-1),1),IF(AND(ROW()-1<=$K$1,$K$1>0),INDIRECT("Inventaires!O"&SMALL(Inventaires!$B$3:$B$2500,ROW()-1),1),"")) | I409: =IF(AND($K$1=0,ROW()-1<=$J$1),INDIRECT("Inventaires!M"&SMALL(Inventaires!$A$3:$A$2500,ROW()-1),1),IF(AND(ROW()-1<=$K$1,$K$1>0),INDIRECT("Inventaires!M"&SMALL(Inventaires!$B$3:$B$2500,ROW()-1),1),""))
B410: =IF(AND($K$1=0,ROW()-1<=$J$1),INDIRECT("Inventaires!D"&SMALL(Inventaires!$A$3:$A$2500,ROW()-1),1),IF(AND(ROW()-1<=$K$1,$K$1>0),INDIRECT("Inventaires!D"&SMALL(Inventaires!$B$3:$B$2500,ROW()-1),1),"")) | C410: =IF(AND($K$1=0,ROW()-1<=$J$1),INDIRECT("Inventaires!I"&SMALL(Inventaires!$A$3:$A$2500,ROW()-1),1),IF(AND(ROW()-1<=$K$1,$K$1>0),INDIRECT("Inventaires!I"&SMALL(Inventaires!$B$3:$B$2500,ROW()-1),1),"")) | D410: =IF(AND($K$1=0,ROW()-1<=$J$1),INDIRECT("Inventaires!C"&SMALL(Inventaires!$A$3:$A$2500,ROW()-1),1),IF(AND(ROW()-1<=$K$1,$K$1>0),INDIRECT("Inventaires!C"&SMALL(Inventaires!$B$3:$B$2500,ROW()-1),1),"")) | E410: =IF(AND($K$1=0,ROW()-1<=$J$1),INDIRECT("Inventaires!Q"&SMALL(Inventaires!$A$3:$A$2500,ROW()-1),1),IF(AND(ROW()-1<=$K$1,$K$1>0),INDIRECT("Inventaires!Q"&SMALL(Inventaires!$B$3:$B$2500,ROW()-1),1),"")) | F410: =IF(AND($K$1=0,ROW()-1<=$J$1),INDIRECT("Inventaires!J"&SMALL(Inventaires!$A$3:$A$2500,ROW()-1),1),IF(AND(ROW()-1<=$K$1,$K$1>0),INDIRECT("Inventaires!J"&SMALL(Inventaires!$B$3:$B$2500,ROW()-1),1),"")) | G410: =IF(AND($K$1=0,ROW()-1<=$J$1),INDIRECT("Inventaires!K"&SMALL(Inventaires!$A$3:$A$2500,ROW()-1),1),IF(AND(ROW()-1<=$K$1,$K$1>0),INDIRECT("Inventaires!K"&SMALL(Inventaires!$B$3:$B$2500,ROW()-1),1),"")) | H410: =IF(AND($K$1=0,ROW()-1<=$J$1),INDIRECT("Inventaires!O"&SMALL(Inventaires!$A$3:$A$2500,ROW()-1),1),IF(AND(ROW()-1<=$K$1,$K$1>0),INDIRECT("Inventaires!O"&SMALL(Inventaires!$B$3:$B$2500,ROW()-1),1),"")) | I410: =IF(AND($K$1=0,ROW()-1<=$J$1),INDIRECT("Inventaires!M"&SMALL(Inventaires!$A$3:$A$2500,ROW()-1),1),IF(AND(ROW()-1<=$K$1,$K$1>0),INDIRECT("Inventaires!M"&SMALL(Inventaires!$B$3:$B$2500,ROW()-1),1),""))
B411: =IF(AND($K$1=0,ROW()-1<=$J$1),INDIRECT("Inventaires!D"&SMALL(Inventaires!$A$3:$A$2500,ROW()-1),1),IF(AND(ROW()-1<=$K$1,$K$1>0),INDIRECT("Inventaires!D"&SMALL(Inventaires!$B$3:$B$2500,ROW()-1),1),"")) | C411: =IF(AND($K$1=0,ROW()-1<=$J$1),INDIRECT("Inventaires!I"&SMALL(Inventaires!$A$3:$A$2500,ROW()-1),1),IF(AND(ROW()-1<=$K$1,$K$1>0),INDIRECT("Inventaires!I"&SMALL(Inventaires!$B$3:$B$2500,ROW()-1),1),"")) | D411: =IF(AND($K$1=0,ROW()-1<=$J$1),INDIRECT("Inventaires!C"&SMALL(Inventaires!$A$3:$A$2500,ROW()-1),1),IF(AND(ROW()-1<=$K$1,$K$1>0),INDIRECT("Inventaires!C"&SMALL(Inventaires!$B$3:$B$2500,ROW()-1),1),"")) | E411: =IF(AND($K$1=0,ROW()-1<=$J$1),INDIRECT("Inventaires!Q"&SMALL(Inventaires!$A$3:$A$2500,ROW()-1),1),IF(AND(ROW()-1<=$K$1,$K$1>0),INDIRECT("Inventaires!Q"&SMALL(Inventaires!$B$3:$B$2500,ROW()-1),1),"")) | F411: =IF(AND($K$1=0,ROW()-1<=$J$1),INDIRECT("Inventaires!J"&SMALL(Inventaires!$A$3:$A$2500,ROW()-1),1),IF(AND(ROW()-1<=$K$1,$K$1>0),INDIRECT("Inventaires!J"&SMALL(Inventaires!$B$3:$B$2500,ROW()-1),1),"")) | G411: =IF(AND($K$1=0,ROW()-1<=$J$1),INDIRECT("Inventaires!K"&SMALL(Inventaires!$A$3:$A$2500,ROW()-1),1),IF(AND(ROW()-1<=$K$1,$K$1>0),INDIRECT("Inventaires!K"&SMALL(Inventaires!$B$3:$B$2500,ROW()-1),1),"")) | H411: =IF(AND($K$1=0,ROW()-1<=$J$1),INDIRECT("Inventaires!O"&SMALL(Inventaires!$A$3:$A$2500,ROW()-1),1),IF(AND(ROW()-1<=$K$1,$K$1>0),INDIRECT("Inventaires!O"&SMALL(Inventaires!$B$3:$B$2500,ROW()-1),1),"")) | I411: =IF(AND($K$1=0,ROW()-1<=$J$1),INDIRECT("Inventaires!M"&SMALL(Inventaires!$A$3:$A$2500,ROW()-1),1),IF(AND(ROW()-1<=$K$1,$K$1>0),INDIRECT("Inventaires!M"&SMALL(Inventaires!$B$3:$B$2500,ROW()-1),1),""))
B412: =IF(AND($K$1=0,ROW()-1<=$J$1),INDIRECT("Inventaires!D"&SMALL(Inventaires!$A$3:$A$2500,ROW()-1),1),IF(AND(ROW()-1<=$K$1,$K$1>0),INDIRECT("Inventaires!D"&SMALL(Inventaires!$B$3:$B$2500,ROW()-1),1),"")) | C412: =IF(AND($K$1=0,ROW()-1<=$J$1),INDIRECT("Inventaires!I"&SMALL(Inventaires!$A$3:$A$2500,ROW()-1),1),IF(AND(ROW()-1<=$K$1,$K$1>0),INDIRECT("Inventaires!I"&SMALL(Inventaires!$B$3:$B$2500,ROW()-1),1),"")) | D412: =IF(AND($K$1=0,ROW()-1<=$J$1),INDIRECT("Inventaires!C"&SMALL(Inventaires!$A$3:$A$2500,ROW()-1),1),IF(AND(ROW()-1<=$K$1,$K$1>0),INDIRECT("Inventaires!C"&SMALL(Inventaires!$B$3:$B$2500,ROW()-1),1),"")) | E412: =IF(AND($K$1=0,ROW()-1<=$J$1),INDIRECT("Inventaires!Q"&SMALL(Inventaires!$A$3:$A$2500,ROW()-1),1),IF(AND(ROW()-1<=$K$1,$K$1>0),INDIRECT("Inventaires!Q"&SMALL(Inventaires!$B$3:$B$2500,ROW()-1),1),"")) | F412: =IF(AND($K$1=0,ROW()-1<=$J$1),INDIRECT("Inventaires!J"&SMALL(Inventaires!$A$3:$A$2500,ROW()-1),1),IF(AND(ROW()-1<=$K$1,$K$1>0),INDIRECT("Inventaires!J"&SMALL(Inventaires!$B$3:$B$2500,ROW()-1),1),"")) | G412: =IF(AND($K$1=0,ROW()-1<=$J$1),INDIRECT("Inventaires!K"&SMALL(Inventaires!$A$3:$A$2500,ROW()-1),1),IF(AND(ROW()-1<=$K$1,$K$1>0),INDIRECT("Inventaires!K"&SMALL(Inventaires!$B$3:$B$2500,ROW()-1),1),"")) | H412: =IF(AND($K$1=0,ROW()-1<=$J$1),INDIRECT("Inventaires!O"&SMALL(Inventaires!$A$3:$A$2500,ROW()-1),1),IF(AND(ROW()-1<=$K$1,$K$1>0),INDIRECT("Inventaires!O"&SMALL(Inventaires!$B$3:$B$2500,ROW()-1),1),"")) | I412: =IF(AND($K$1=0,ROW()-1<=$J$1),INDIRECT("Inventaires!M"&SMALL(Inventaires!$A$3:$A$2500,ROW()-1),1),IF(AND(ROW()-1<=$K$1,$K$1>0),INDIRECT("Inventaires!M"&SMALL(Inventaires!$B$3:$B$2500,ROW()-1),1),""))
B413: =IF(AND($K$1=0,ROW()-1<=$J$1),INDIRECT("Inventaires!D"&SMALL(Inventaires!$A$3:$A$2500,ROW()-1),1),IF(AND(ROW()-1<=$K$1,$K$1>0),INDIRECT("Inventaires!D"&SMALL(Inventaires!$B$3:$B$2500,ROW()-1),1),"")) | C413: =IF(AND($K$1=0,ROW()-1<=$J$1),INDIRECT("Inventaires!I"&SMALL(Inventaires!$A$3:$A$2500,ROW()-1),1),IF(AND(ROW()-1<=$K$1,$K$1>0),INDIRECT("Inventaires!I"&SMALL(Inventaires!$B$3:$B$2500,ROW()-1),1),"")) | D413: =IF(AND($K$1=0,ROW()-1<=$J$1),INDIRECT("Inventaires!C"&SMALL(Inventaires!$A$3:$A$2500,ROW()-1),1),IF(AND(ROW()-1<=$K$1,$K$1>0),INDIRECT("Inventaires!C"&SMALL(Inventaires!$B$3:$B$2500,ROW()-1),1),"")) | E413: =IF(AND($K$1=0,ROW()-1<=$J$1),INDIRECT("Inventaires!Q"&SMALL(Inventaires!$A$3:$A$2500,ROW()-1),1),IF(AND(ROW()-1<=$K$1,$K$1>0),INDIRECT("Inventaires!Q"&SMALL(Inventaires!$B$3:$B$2500,ROW()-1),1),"")) | F413: =IF(AND($K$1=0,ROW()-1<=$J$1),INDIRECT("Inventaires!J"&SMALL(Inventaires!$A$3:$A$2500,ROW()-1),1),IF(AND(ROW()-1<=$K$1,$K$1>0),INDIRECT("Inventaires!J"&SMALL(Inventaires!$B$3:$B$2500,ROW()-1),1),"")) | G413: =IF(AND($K$1=0,ROW()-1<=$J$1),INDIRECT("Inventaires!K"&SMALL(Inventaires!$A$3:$A$2500,ROW()-1),1),IF(AND(ROW()-1<=$K$1,$K$1>0),INDIRECT("Inventaires!K"&SMALL(Inventaires!$B$3:$B$2500,ROW()-1),1),"")) | H413: =IF(AND($K$1=0,ROW()-1<=$J$1),INDIRECT("Inventaires!O"&SMALL(Inventaires!$A$3:$A$2500,ROW()-1),1),IF(AND(ROW()-1<=$K$1,$K$1>0),INDIRECT("Inventaires!O"&SMALL(Inventaires!$B$3:$B$2500,ROW()-1),1),"")) | I413: =IF(AND($K$1=0,ROW()-1<=$J$1),INDIRECT("Inventaires!M"&SMALL(Inventaires!$A$3:$A$2500,ROW()-1),1),IF(AND(ROW()-1<=$K$1,$K$1>0),INDIRECT("Inventaires!M"&SMALL(Inventaires!$B$3:$B$2500,ROW()-1),1),""))
... B2501: =IF(AND($K$1=0,ROW()-1<=$J$1),INDIRECT("Inventaires!D"&SMALL(Inventaires!$A$3:$A$2500,ROW()-1),1),IF(AND(ROW()-1<=$K$1,$K$1>0),INDIRECT("Inventaires!D"&SMALL(Inventaires!$B$3:$B$2500,ROW()-1),1),"")) | C2501: =IF(AND($K$1=0,ROW()-1<=$J$1),INDIRECT("Inventaires!I"&SMALL(Inventaires!$A$3:$A$2500,ROW()-1),1),IF(AND(ROW()-1<=$K$1,$K$1>0),INDIRECT("Inventaires!I"&SMALL(Inventaires!$B$3:$B$2500,ROW()-1),1),"")) | D2501: =IF(AND($K$1=0,ROW()-1<=$J$1),INDIRECT("Inventaires!C"&SMALL(Inventaires!$A$3:$A$2500,ROW()-1),1),IF(AND(ROW()-1<=$K$1,$K$1>0),INDIRECT("Inventaires!C"&SMALL(Inventaires!$B$3:$B$2500,ROW()-1),1),"")) | E2501: =IF(AND($K$1=0,ROW()-1<=$J$1),INDIRECT("Inventaires!Q"&SMALL(Inventaires!$A$3:$A$2500,ROW()-1),1),IF(AND(ROW()-1<=$K$1,$K$1>0),INDIRECT("Inventaires!Q"&SMALL(Inventaires!$B$3:$B$2500,ROW()-1),1),"")) | F2501: =IF(AND($K$1=0,ROW()-1<=$J$1),INDIRECT("Inventaires!J"&SMALL(Inventaires!$A$3:$A$2500,ROW()-1),1),IF(AND(ROW()-1<=$K$1,$K$1>0),INDIRECT("Inventaires!J"&SMALL(Inventaires!$B$3:$B$2500,ROW()-1),1),"")) | G2501: =IF(AND($K$1=0,ROW()-1<=$J$1),INDIRECT("Inventaires!K"&SMALL(Inventaires!$A$3:$A$2500,ROW()-1),1),IF(AND(ROW()-1<=$K$1,$K$1>0),INDIRECT("Inventaires!K"&SMALL(Inventaires!$B$3:$B$2500,ROW()-1),1),"")) | H2501: =IF(AND($K$1=0,ROW()-1<=$J$1),INDIRECT("Inventaires!O"&SMALL(Inventaires!$A$3:$A$2500,ROW()-1),1),IF(AND(ROW()-1<=$K$1,$K$1>0),INDIRECT("Inventaires!O"&SMALL(Inventaires!$B$3:$B$2500,ROW()-1),1),"")) | I2501: =IF(AND($K$1=0,ROW()-1<=$J$1),INDIRECT("Inventaires!M"&SMALL(Inventaires!$A$3:$A$2500,ROW()-1),1),IF(AND(ROW()-1<=$K$1,$K$1>0),INDIRECT("Inventaires!M"&SMALL(Inventaires!$B$3:$B$2500,ROW()-1),1),""))

Sheet Inventaires
A1: =COUNTIF(A3:A2500,">=1") -> 17 | B1: =COUNTIF(B3:B2500,">=1") -> 0 | C1: =HYPERLINK("#C2:AB1000","INVENTAIRE GÉNERÉ LE 04/01/2018 21:07:26") -> INVENTAIRE GÉNERÉ LE 04/01/2018 21:07:26
C2: REFERENCE | D2: NOM DU PRODUIT | E2: DESCRIPTION | F2: NUMERO DE LOT | G2: FAMILLE | H2: CATEGORIE | I2: SOUS CATEGORIE | J2: QTE | K2: STATUT | L2: TARIF | M2: VALEUR | N2: LIMITE DE COMMANDE | O2: EMPLACEMENT | P2: UNITÉ | Q2: CODE-BARRES | R2: TVA | S2: COULEUR | T2: TAILLE | U2: DATE DE PEREMPTION
A3: =IF(H3=Rapport!$A$2,ROW(),B3) | B3: =IF(OR(AND(H3<>Rapport!$A$2,Rapport!$C$1=""),I3<>Rapport!$C$1),"",ROW()) | C3: 049-159 | D3: Atoma IBUPROFEN 200MG cplt 100 | H3: 0100 Analgésiques | K3: RUPTURE | Q3: 777747100873 | V3: =IF(K3="rupture",ROW(),"") -> 3
A4: =IF(H4=Rapport!$A$2,ROW(),B4) | B4: =IF(OR(AND(H4<>Rapport!$A$2,Rapport!$C$1=""),I4<>Rapport!$C$1),"",ROW()) | C4: 049-160 | D4: Atoma IBUPROFEN 200MG comp 100 | H4: 0100 Analgésiques | K4: RUPTURE | Q4: 777747100903 | V4: =IF(K4="rupture",ROW(),"") -> 4
A5: =IF(H5=Rapport!$A$2,ROW(),B5) | B5: =IF(OR(AND(H5<>Rapport!$A$2,Rapport!$C$1=""),I5<>Rapport!$C$1),"",ROW()) | C5: 049-199 | D5: Atoma IBUPROFEN 200MG gélule 16 | H5: 0100 Analgésiques | K5: RUPTURE | Q5: 777747101009 | V5: =IF(K5="rupture",ROW(),"") -> 5
A6: =IF(H6=Rapport!$A$2,ROW(),B6) | B6: =IF(OR(AND(H6<>Rapport!$A$2,Rapport!$C$1=""),I6<>Rapport!$C$1),"",ROW()) | C6: 049-200 | D6: Atoma IBUPROFEN 200MG gélule 72 | H6: 0100 Analgésiques | K6: RUPTURE | Q6: 777747101023 | V6: =IF(K6="rupture",ROW(),"") -> 6
A7: =IF(H7=Rapport!$A$2,ROW(),B7) | B7: =IF(OR(AND(H7<>Rapport!$A$2,Rapport!$C$1=""),I7<>Rapport!$C$1),"",ROW()) | C7: 050-311 | D7: Atoma ACET FAA 500MG 100 comp | H7: 0100 Analgésiques | K7: RUPTURE | Q7: 777747101900 | V7: =IF(K7="rupture",ROW(),"") -> 7
A8: =IF(H8=Rapport!$A$2,ROW(),B8) | B8: =IF(OR(AND(H8<>Rapport!$A$2,Rapport!$C$1=""),I8<>Rapport!$C$1),"",ROW()) | C8: 050-314 | D8: Atoma ACET FAO FAA 150 comp | H8: 0100 Analgésiques | K8: RUPTURE | Q8: 777747101917 | V8: =IF(K8="rupture",ROW(),"") -> 8
A9: =IF(H9=Rapport!$A$2,ROW(),B9) | B9: =IF(OR(AND(H9<>Rapport!$A$2,Rapport!$C$1=""),I9<>Rapport!$C$1),"",ROW()) | C9: 082-965 | D9: Atoma ACET CPLT 500MG 500 cplt | H9: 0100 Analgésiques | K9: RUPTURE | Q9: 777747109517 | V9: =IF(K9="rupture",ROW(),"") -> 9
A10: =IF(H10=Rapport!$A$2,ROW(),B10) | B10: =IF(OR(AND(H10<>Rapport!$A$2,Rapport!$C$1=""),I10<>Rapport!$C$1),"",ROW()) | C10: 105-813 | D10: Atoma Ibuprofen 32cap | H10: 0100 Analgésiques | K10: RUPTURE | Q10: 777747110322 | V10: =IF(K10="rupture",ROW(),"") -> 10
A11: =IF(H11=Rapport!$A$2,ROW(),B11) | B11: =IF(OR(AND(H11<>Rapport!$A$2,Rapport!$C$1=""),I11<>Rapport!$C$1),"",ROW()) | C11: 559-484 | D11: Laboratoire Suisse SUIS ARTRIKOR CR ANALG Boni | H11: 0100 Analgésiques | K11: RUPTURE | Q11: 776329547730 | V11: =IF(K11="rupture",ROW(),"") -> 11
A12: =IF(H12=Rapport!$A$2,ROW(),B12) | B12: =IF(OR(AND(H12<>Rapport!$A$2,Rapport!$C$1=""),I12<>Rapport!$C$1),"",ROW()) | C12: 667-931 | D12: Tylenol FAC/OUV 500MG 150cplt | H12: 0100 Analgésiques | K12: RUPTURE | Q12: 62600142290 | V12: =IF(K12="rupture",ROW(),"") -> 12
A13: =IF(H13=Rapport!$A$2,ROW(),B13) | B13: =IF(OR(AND(H13<>Rapport!$A$2,Rapport!$C$1=""),I13<>Rapport!$C$1),"",ROW()) | C13: 106-162 | D13: Relaxa 510g | E13: Relaxa 510 g Laxatif | H13: 0300 Laxatifs et Anti-Diarrheique | I13: 0320 laxatifs | J13: 50 | M13: 734.5 | Q13: 665982000143 | S13: Mauve | V13: =IF(K13="rupture",ROW(),"")
A14: =IF(H14=Rapport!$A$2,ROW(),B14) | B14: =IF(OR(AND(H14<>Rapport!$A$2,Rapport!$C$1=""),I14<>Rapport!$C$1),"",ROW()) | C14: 004-134 | D14: Relaxa 510g | H14: 0300 Laxatifs et Anti-Diarrheique | K14: RUPTURE | Q14: 830853005019 | V14: =IF(K14="rupture",ROW(),"") -> 14
A15: =IF(H15=Rapport!$A$2,ROW(),B15) | B15: =IF(OR(AND(H15<>Rapport!$A$2,Rapport!$C$1=""),I15<>Rapport!$C$1),"",ROW()) | C15: 822-544 | D15: Gluverna Liq Chocolat | H15: 0500 Diètétique | K15: RUPTURE | Q15: 55325036562 | V15: =IF(K15="rupture",ROW(),"") -> 15
A16: =IF(H16=Rapport!$A$2,ROW(),B16) | B16: =IF(OR(AND(H16<>Rapport!$A$2,Rapport!$C$1=""),I16<>Rapport!$C$1),"",ROW()) | C16: 823-468 | D16: Glucerna Liq Fruit Sauvage | H16: 0500 Diètétique | J16: 24 | M16: 239.76 | O16: ND | P16: U | Q16: 55325036586 | V16: =IF(K16="rupture",ROW(),"")
A17: =IF(H17=Rapport!$A$2,ROW(),B17) | B17: =IF(OR(AND(H17<>Rapport!$A$2,Rapport!$C$1=""),I17<>Rapport!$C$1),"",ROW()) | C17: 834-895 | D17: Glucerna Liq Fraise | H17: 0500 Diètétique | K17: RUPTURE | O17: ND | P17: U | Q17: 55325036579 | V17: =IF(K17="rupture",ROW(),"") -> 17
A18: =IF(H18=Rapport!$A$2,ROW(),B18) | B18: =IF(OR(AND(H18<>Rapport!$A$2,Rapport!$C$1=""),I18<>Rapport!$C$1),"",ROW()) | C18: 837-260 | D18: Glucerna Liq Vanille | H18: 0500 Diètétique | J18: 32 | M18: 319.68 | O18: ND | P18: U | Q18: 55325036555 | V18: =IF(K18="rupture",ROW(),"")
A19: =IF(H19=Rapport!$A$2,ROW(),B19) | B19: =IF(OR(AND(H19<>Rapport!$A$2,Rapport!$C$1=""),I19<>Rapport!$C$1),"",ROW()) | C19: 471-631 | D19: Jamieson JAM VIT C CRQ ASST BN 3 sav | H19: 0700 Vitamines | K19: RUPTURE | Q19: 64642028839 | V19: =IF(K19="rupture",ROW(),"") -> 19
A20: =IF(H20=Rapport!$A$2,ROW(),B20) -> 20 | B20: =IF(OR(AND(H20<>Rapport!$A$2,Rapport!$C$1=""),I20<>Rapport!$C$1),"",ROW()) | C20: 026-616 | D20: Helixia toux enfant 100ml | E20: Helixia toux prospan enfant 100ml | H20: 0900 Rhume et toux | I20: 0910 RHUME TOUX LIQUIDES | J20: 18 | M20: 93.96 | Q20: 625972013430 | S20: Vert | V20: =IF(K20="rupture",ROW(),"")
A21: =IF(H21=Rapport!$A$2,ROW(),B21) -> 21 | B21: =IF(OR(AND(H21<>Rapport!$A$2,Rapport!$C$1=""),I21<>Rapport!$C$1),"",ROW()) | C21: 026-619 | D21: Helixia Toux adulte 100ml | E21: Helixia Toux adulte prospan 100ml | H21: 0900 Rhume et toux | I21: 0910 RHUME TOUX LIQUIDES | J21: 17 | M21: 88.74 | Q21: 625972013324 | S21: Vert | V21: =IF(K21="rupture",ROW(),"")
A22: =IF(H22=Rapport!$A$2,ROW(),B22) -> 22 | B22: =IF(OR(AND(H22<>Rapport!$A$2,Rapport!$C$1=""),I22<>Rapport!$C$1),"",ROW()) | C22: 038-870 | D22: Helixia Toux enfants 200ml | E22: Helixia Toux prospan enfants 200ml | H22: 0900 Rhume et toux | I22: 0910 RHUME TOUX LIQUIDES | J22: 10 | M22: 70.8 | Q22: 625972019289 | S22: Vert | V22: =IF(K22="rupture",ROW(),"")
A23: =IF(H23=Rapport!$A$2,ROW(),B23) -> 23 | B23: =IF(OR(AND(H23<>Rapport!$A$2,Rapport!$C$1=""),I23<>Rapport!$C$1),"",ROW()) | C23: 038-873 | D23: Helixia toux adulte 200ml | E23: Helixia toux prospan adulte 200ml | H23: 0900 Rhume et toux | I23: 0910 RHUME TOUX LIQUIDES | J23: 10 | M23: 71.2 | Q23: 625972019272 | V23: =IF(K23="rupture",ROW(),"")
A24: =IF(H24=Rapport!$A$2,ROW(),B24) -> 24 | B24: =IF(OR(AND(H24<>Rapport!$A$2,Rapport!$C$1=""),I24<>Rapport!$C$1),"",ROW()) | C24: 050-296 | D24: Atoma Pastille Menthole Eucalyptus Citron | E24: Atoma Pastille Menthole Eucalyptus Citron 30 Pastille | H24: 0900 Rhume et toux | I24: 0920 RHUME TOUX PASTILLES | J24: 36 | M24: 40.32 | Q24: 777747101313 | S24: Jaune | V24: =IF(K24="rupture",ROW(),"")
A25: =IF(H25=Rapport!$A$2,ROW(),B25) -> 25 | B25: =IF(OR(AND(H25<>Rapport!$A$2,Rapport!$C$1=""),I25<>Rapport!$C$1),"",ROW()) | C25: 645-598 | D25: Neilmed Sinues Rinse 50u | H25: 0900 Rhume et toux | I25: 0950 RHUME TOUX GOUTTES VAP.NASAUX | J25: 23 | M25: 206.31 | O25: ND | Q25: 705928001008 | V25: =IF(K25="rupture",ROW(),"")
A26: =IF(H26=Rapport!$A$2,ROW(),B26) -> 26 | B26: =IF(OR(AND(H26<>Rapport!$A$2,Rapport!$C$1=""),I26<>Rapport!$C$1),"",ROW()) | C26: 006-067 | D26: Sucons au miel Labonté Rose | H26: 0900 Rhume et toux | K26: RUPTURE | Q26: 626665006067 | V26: =IF(K26="rupture",ROW(),"") -> 26
A27: =IF(H27=Rapport!$A$2,ROW(),B27) -> 27 | B27: =IF(OR(AND(H27<>Rapport!$A$2,Rapport!$C$1=""),I27<>Rapport!$C$1),"",ROW()) | C27: 006-159 | D27: Pastilles au miel Labonté | H27: 0900 Rhume et toux | K27: RUPTURE | Q27: 626665006159 | V27: =IF(K27="rupture",ROW(),"") -> 27
A28: =IF(H28=Rapport!$A$2,ROW(),B28) -> 28 | B28: =IF(OR(AND(H28<>Rapport!$A$2,Rapport!$C$1=""),I28<>Rapport!$C$1),"",ROW()) | C28: 006-166 | D28: Pastilles au miel Labonté Orange | H28: 0900 Rhume et toux | K28: RUPTURE | Q28: 626665006166 | V28: =IF(K28="rupture",ROW(),"") -> 28
A29: =IF(H29=Rapport!$A$2,ROW(),B29) -> 29 | B29: =IF(OR(AND(H29<>Rapport!$A$2,Rapport!$C$1=""),I29<>Rapport!$C$1),"",ROW()) | C29: 006-173 | D29: Pastilles au miel labonté Vert | H29: 0900 Rhume et toux | K29: RUPTURE | Q29: 626665006173 | V29: =IF(K29="rupture",ROW(),"") -> 29
A30: =IF(H30=Rapport!$A$2,ROW(),B30) -> 30 | B30: =IF(OR(AND(H30<>Rapport!$A$2,Rapport!$C$1=""),I30<>Rapport!$C$1),"",ROW()) | C30: 006-180 | D30: Pastilles au miel labonté Bleu | H30: 0900 Rhume et toux | K30: RUPTURE | Q30: 626665006180 | V30: =IF(K30="rupture",ROW(),"") -> 30
A31: =IF(H31=Rapport!$A$2,ROW(),B31) -> 31 | B31: =IF(OR(AND(H31<>Rapport!$A$2,Rapport!$C$1=""),I31<>Rapport!$C$1),"",ROW()) | C31: 006-265 | D31: Pastilles au miel labonté rouge | H31: 0900 Rhume et toux | K31: RUPTURE | Q31: 626665006265 | V31: =IF(K31="rupture",ROW(),"") -> 31
A32: =IF(H32=Rapport!$A$2,ROW(),B32) -> 32 | B32: =IF(OR(AND(H32<>Rapport!$A$2,Rapport!$C$1=""),I32<>Rapport!$C$1),"",ROW()) | C32: 049-230 | D32: Atoma LORATADINE 10MG comp 10 | H32: 0900 Rhume et toux | K32: RUPTURE | Q32: 777747101092 | V32: =IF(K32="rupture",ROW(),"") -> 32
A33: =IF(H33=Rapport!$A$2,ROW(),B33) -> 33 | B33: =IF(OR(AND(H33<>Rapport!$A$2,Rapport!$C$1=""),I33<>Rapport!$C$1),"",ROW()) | C33: 050-295 | D33: Atoma pastille Cerise Menthol Eucalyptus | E33: Atoma pastille Cerise Menthol Eucalyptus en 30. | H33: 0900 Rhume et toux | J33: 52 | M33: 65.52 | Q33: 777747101290 | S33: rouge | V33: =IF(K33="rupture",ROW(),"")
A34: =IF(H34=Rapport!$A$2,ROW(),B34) -> 34 | B34: =IF(OR(AND(H34<>Rapport!$A$2,Rapport!$C$1=""),I34<>Rapport!$C$1),"",ROW()) | C34: 054-352 | D34: Atoma SIR ALLRG ENF DP 100ml | H34: 0900 Rhume et toux | K34: RUPTURE | Q34: 777747104260 | V34: =IF(K34="rupture",ROW(),"") -> 34
A35: =IF(H35=Rapport!$A$2,ROW(),B35) -> 35 | B35: =IF(OR(AND(H35<>Rapport!$A$2,Rapport!$C$1=""),I35<>Rapport!$C$1),"",ROW()) | C35: 194-076 | D35: Benadryl ENF GOMME BAL 100ml | H35: 0900 Rhume et toux | K35: RUPTURE | Q35: 60093265809 | V35: =IF(K35="rupture",ROW(),"") -> 35
A36: =IF(H36=Rapport!$A$2,ROW(),B36) -> 36 | B36: =IF(OR(AND(H36<>Rapport!$A$2,Rapport!$C$1=""),I36<>Rapport!$C$1),"",ROW()) | C36: 417-667 | D36: Neilmed Sinus Rince 100u recharge | H36: 0900 Rhume et toux | J36: 14 | O36: ND | Q36: 705928002005 | V36: =IF(K36="rupture",ROW(),"")
A37: =IF(H37=Rapport!$A$2,ROW(),B37) | B37: =IF(OR(AND(H37<>Rapport!$A$2,Rapport!$C$1=""),I37<>Rapport!$C$1),"",ROW()) | C37: 825-562 | D37: Systane Ultra haute perf 10ml | H37: 1000 Yeux et Oreilles | K37: RUPTURE | Q37: 56394310119 | V37: =IF(K37="rupture",ROW(),"") -> 37
A38: =IF(H38=Rapport!$A$2,ROW(),B38) | B38: =IF(OR(AND(H38<>Rapport!$A$2,Rapport!$C$1=""),I38<>Rapport!$C$1),"",ROW()) | C38: 027-232 | D38: Sac Magique rectangle (allongé) | H38: 1200 Orthopédie | J38: 5 | Q38: 778314110011 | V38: =IF(K38="rupture",ROW(),"")
A39: =IF(H39=Rapport!$A$2,ROW(),B39) | B39: =IF(OR(AND(H39<>Rapport!$A$2,Rapport!$C$1=""),I39<>Rapport!$C$1),"",ROW()) | C39: 433-200 | D39: Trio-thermo sac | E39: Trio-thermo sac | H39: 1200 Orthopédie | J39: 18 | M39: 180 | O39: ND | Q39: 627843433200 | V39: =IF(K39="rupture",ROW(),"")
A40: =IF(H40=Rapport!$A$2,ROW(),B40) | B40: =IF(OR(AND(H40<>Rapport!$A$2,Rapport!$C$1=""),I40<>Rapport!$C$1),"",ROW()) | C40: 040-647 | D40: Elastoplast aqua protect 40u | H40: 1300 Premiers soins | K40: RUPTURE | Q40: 56594114715 | V40: =IF(K40="rupture",ROW(),"") -> 40
A41: =IF(H41=Rapport!$A$2,ROW(),B41) | B41: =IF(OR(AND(H41<>Rapport!$A$2,Rapport!$C$1=""),I41<>Rapport!$C$1),"",ROW()) | C41: 049-976 | D41: atoma alcool fric isop 70% 250 ml | H41: 1300 Premiers soins | J41: 2 | Q41: 777747101979 | V41: =IF(K41="rupture",ROW(),"")
A42: =IF(H42=Rapport!$A$2,ROW(),B42) | B42: =IF(OR(AND(H42<>Rapport!$A$2,Rapport!$C$1=""),I42<>Rapport!$C$1),"",ROW()) | C42: 049-998 | D42: Atoma ALC FRCT ISOP99% 500ml | H42: 1300 Premiers soins | J42: 5 | Q42: 777747101986 | V42: =IF(K42="rupture",ROW(),"")
A43: =IF(H43=Rapport!$A$2,ROW(),B43) | B43: =IF(OR(AND(H43<>Rapport!$A$2,Rapport!$C$1=""),I43<>Rapport!$C$1),"",ROW()) | C43: 050-002 | D43: Atoma Alcool friction iso 70% 500ml | H43: 1300 Premiers soins | K43: RUPTURE | Q43: 777747101993 | V43: =IF(K43="rupture",ROW(),"") -> 43
A44: =IF(H44=Rapport!$A$2,ROW(),B44) | B44: =IF(OR(AND(H44<>Rapport!$A$2,Rapport!$C$1=""),I44<>Rapport!$C$1),"",ROW()) | C44: 050-181 | D44: Atoma PEROXYDE HYD 10VOL 100ml | H44: 1300 Premiers soins | K44: RUPTURE | Q44: 777747102075 | V44: =IF(K44="rupture",ROW(),"") -> 44
A45: =IF(H45=Rapport!$A$2,ROW(),B45) | B45: =IF(OR(AND(H45<>Rapport!$A$2,Rapport!$C$1=""),I45<>Rapport!$C$1),"",ROW()) | C45: 050-185 | D45: Atoma PEROXYDE HYD 10VOL 250 ml | H45: 1300 Premiers soins | K45: RUPTURE | Q45: 777747102082 | V45: =IF(K45="rupture",ROW(),"") -> 45
A46: =IF(H46=Rapport!$A$2,ROW(),B46) | B46: =IF(OR(AND(H46<>Rapport!$A$2,Rapport!$C$1=""),I46<>Rapport!$C$1),"",ROW()) | C46: 050-191 | D46: atoma peroxyde hyd 10 vol 500 ml | H46: 1300 Premiers soins | K46: RUPTURE | Q46: 777747102099 | V46: =IF(K46="rupture",ROW(),"") -> 46
A47: =IF(H47=Rapport!$A$2,ROW(),B47) | B47: =IF(OR(AND(H47<>Rapport!$A$2,Rapport!$C$1=""),I47<>Rapport!$C$1),"",ROW()) | C47: 055-096 | D47: Atoma pansements en tissu flex 50u | H47: 1300 Premiers soins | K47: RUPTURE | Q47: 777747104895 | V47: =IF(K47="rupture",ROW(),"") -> 47
A48: =IF(H48=Rapport!$A$2,ROW(),B48) | B48: =IF(OR(AND(H48<>Rapport!$A$2,Rapport!$C$1=""),I48<>Rapport!$C$1),"",ROW()) | C48: 055-312 | D48: Atoma RUB TRNS 1ERS SN 1po | H48: 1300 Premiers soins | K48: RUPTURE | Q48: 777747105045 | V48: =IF(K48="rupture",ROW(),"") -> 48
A49: =IF(H49=Rapport!$A$2,ROW(),B49) | B49: =IF(OR(AND(H49<>Rapport!$A$2,Rapport!$C$1=""),I49<>Rapport!$C$1),"",ROW()) | C49: 150-045 | D49: Band-Aid tough-strips 20u | H49: 1300 Premiers soins | K49: RUPTURE | Q49: 381370044086 | V49: =IF(K49="rupture",ROW(),"") -> 49
A50: =IF(H50=Rapport!$A$2,ROW(),B50) | B50: =IF(OR(AND(H50<>Rapport!$A$2,Rapport!$C$1=""),I50<>Rapport!$C$1),"",ROW()) | C50: 255-562 | D50: Elastolpast pour les mains tissu 20 u | H50: 1300 Premiers soins | K50: RUPTURE | Q50: 4005800014246 | V50: =IF(K50="rupture",ROW(),"") -> 50
A51: =IF(H51=Rapport!$A$2,ROW(),B51) | B51: =IF(OR(AND(H51<>Rapport!$A$2,Rapport!$C$1=""),I51<>Rapport!$C$1),"",ROW()) | C51: 300-947 | D51: Band-Aid TISSU FLEX 80u | H51: 1300 Premiers soins | K51: RUPTURE | Q51: 62600130464 | V51: =IF(K51="rupture",ROW(),"") -> 51
A52: =IF(H52=Rapport!$A$2,ROW(),B52) | B52: =IF(OR(AND(H52<>Rapport!$A$2,Rapport!$C$1=""),I52<>Rapport!$C$1),"",ROW()) | C52: 345-827 | D52: Band-Aid compresses non-adhé 10u petite | H52: 1300 Premiers soins | K52: RUPTURE | Q52: 62600125569 | V52: =IF(K52="rupture",ROW(),"") -> 52
A53: =IF(H53=Rapport!$A$2,ROW(),B53) | B53: =IF(OR(AND(H53<>Rapport!$A$2,Rapport!$C$1=""),I53<>Rapport!$C$1),"",ROW()) | C53: 364-976 | D53: Elastoplast genoux et coudes tissu 10u | H53: 1300 Premiers soins | K53: RUPTURE | Q53: 72140459284 | V53: =IF(K53="rupture",ROW(),"") -> 53
A54: =IF(H54=Rapport!$A$2,ROW(),B54) | B54: =IF(OR(AND(H54<>Rapport!$A$2,Rapport!$C$1=""),I54<>Rapport!$C$1),"",ROW()) | C54: 550-277 | D54: Band-Aid disney cars 20u | H54: 1300 Premiers soins | K54: RUPTURE | Q54: 381371046461 | V54: =IF(K54="rupture",ROW(),"") -> 54
... A61: =IF(H61=Rapport!$A$2,ROW(),B61) | B61: =IF(OR(AND(H61<>Rapport!$A$2,Rapport!$C$1=""),I61<>Rapport!$C$1),"",ROW()) | C61: 977-942 | D61: Band-Aid tissu flex 10u grand format | H61: 1300 Premiers soins | K61: RUPTURE | Q61: 381370056850 | V61: =IF(K61="rupture",ROW(),"") -> 61
A62: =IF(H62=Rapport!$A$2,ROW(),B62) | B62: =IF(OR(AND(H62<>Rapport!$A$2,Rapport!$C$1=""),I62<>Rapport!$C$1),"",ROW()) | C62: 015-991 | D62: Gants Latex AMD Petit | E62: Gants Latex AMD Petit Boîte de 100 | H62: 1400 Soins à Domiciles | I62: 1460 | J62: 8 | L62: -0.01 | M62: 60 | Q62: 110686864015991 | S62: rouge | V62: =IF(K62="rupture",ROW(),"")
A63: =IF(H63=Rapport!$A$2,ROW(),B63) | B63: =IF(OR(AND(H63<>Rapport!$A$2,Rapport!$C$1=""),I63<>Rapport!$C$1),"",ROW()) | C63: 016-004 | D63: Gants Latex AMD Moyen | E63: Gants Latex AMD Moyen boîte de 100 | H63: 1400 Soins à Domiciles | I63: 1460 | J63: 8 | M63: 60 | Q63: 110686864016004 | S63: Mauve | V63: =IF(K63="rupture",ROW(),"")
A64: =IF(H64=Rapport!$A$2,ROW(),B64) | B64: =IF(OR(AND(H64<>Rapport!$A$2,Rapport!$C$1=""),I64<>Rapport!$C$1),"",ROW()) | C64: 016-011 | D64: Gants Latex Amd Grand | E64: Gants Latex Amd Grand Boîte de 100 | H64: 1400 Soins à Domiciles | I64: 1460 | J64: 8 | M64: 60 | Q64: 110686864016011 | S64: Bleu | V64: =IF(K64="rupture",ROW(),"")
A65: =IF(H65=Rapport!$A$2,ROW(),B65) | B65: =IF(OR(AND(H65<>Rapport!$A$2,Rapport!$C$1=""),I65<>Rapport!$C$1),"",ROW()) | C65: 044-915 | D65: Gants Nitrile AMD Large | E65: Gants Nitrile AMD Large Boite de 100 | H65: 1400 Soins à Domiciles | I65: 1460 | J65: 8 | M65: 60 | Q65: 110686864044915 | S65: Mauve | V65: =IF(K65="rupture",ROW(),"")
A66: =IF(H66=Rapport!$A$2,ROW(),B66) | B66: =IF(OR(AND(H66<>Rapport!$A$2,Rapport!$C$1=""),I66<>Rapport!$C$1),"",ROW()) | C66: 759-713 | D66: Gants Nitrile Amd Grand Noir | E66: Gants Nitrile Amd Grand Noir Boîte de 100 | H66: 1400 Soins à Domiciles | I66: 1460 | J66: 8 | L66: 9.3 | Q66: 686864759713 | V66: =IF(K66="rupture",ROW(),"")
A67: =IF(H67=Rapport!$A$2,ROW(),B67) | B67: =IF(OR(AND(H67<>Rapport!$A$2,Rapport!$C$1=""),I67<>Rapport!$C$1),"",ROW()) | C67: 686864015611 | D67: Amd Ritmed GANTS MEDICAL VINYLE SM | H67: 1400 Soins à Domiciles | J67: 25 | Q67: 686864015611 | V67: =IF(K67="rupture",ROW(),"")
A68: =IF(H68=Rapport!$A$2,ROW(),B68) | B68: =IF(OR(AND(H68<>Rapport!$A$2,Rapport!$C$1=""),I68<>Rapport!$C$1),"",ROW()) | C68: 686864015628 | D68: Amd Ritmed GANTS VINYLE MOY | H68: 1400 Soins à Domiciles | J68: 8 | Q68: 686864015628 | V68: =IF(K68="rupture",ROW(),"")
A69: =IF(H69=Rapport!$A$2,ROW(),B69) | B69: =IF(OR(AND(H69<>Rapport!$A$2,Rapport!$C$1=""),I69<>Rapport!$C$1),"",ROW()) | C69: 686864015635 | D69: Amd Ritmed GANTS VINYLE GR | H69: 1400 Soins à Domiciles | J69: 10 | Q69: 686864015635 | V69: =IF(K69="rupture",ROW(),"")
A70: =IF(H70=Rapport!$A$2,ROW(),B70) | B70: =IF(OR(AND(H70<>Rapport!$A$2,Rapport!$C$1=""),I70<>Rapport!$C$1),"",ROW()) | C70: 686864015642 | D70: Amd Ritmed GANTS MEDICAL VINYLE XL | H70: 1400 Soins à Domiciles | J70: 4 | Q70: 686864015642 | V70: =IF(K70="rupture",ROW(),"")
A71: =IF(H71=Rapport!$A$2,ROW(),B71) | B71: =IF(OR(AND(H71<>Rapport!$A$2,Rapport!$C$1=""),I71<>Rapport!$C$1),"",ROW()) | C71: 016-028 | D71: Gants Latex AMD Extra-Grand | E71: Gants Latex AMD Extra-Grand Boîte de 100 | H71: 1400 Soins à Domiciles | J71: 6 | Q71: 110686864016028 | S71: brun | V71: =IF(K71="rupture",ROW(),"")
A72: =IF(H72=Rapport!$A$2,ROW(),B72) | B72: =IF(OR(AND(H72<>Rapport!$A$2,Rapport!$C$1=""),I72<>Rapport!$C$1),"",ROW()) | C72: 044-098 | D72: Gants Nitrile AMD moyen | E72: Gants Nitrile AMD moyen Boîte de 100 | H72: 1400 Soins à Domiciles | J72: 14 | M72: 105 | Q72: 110686864044908 | V72: =IF(K72="rupture",ROW(),"")
A73: =IF(H73=Rapport!$A$2,ROW(),B73) | B73: =IF(OR(AND(H73<>Rapport!$A$2,Rapport!$C$1=""),I73<>Rapport!$C$1),"",ROW()) | C73: 069-041 | D73: Gants Nitrile AMD Extra-grand | E73: Gants Nitrile AMD Extra-grand boîte de 100 | H73: 1400 Soins à Domiciles | J73: 7 | M73: 52.5 | Q73: 686864069041 | S73: brun | V73: =IF(K73="rupture",ROW(),"")
A74: =IF(H74=Rapport!$A$2,ROW(),B74) | B74: =IF(OR(AND(H74<>Rapport!$A$2,Rapport!$C$1=""),I74<>Rapport!$C$1),"",ROW()) | C74: 082-964 | D74: Life source Tensiometre One size | H74: 1400 Soins à Domiciles | J74: 2 | Q74: 93764603471 | V74: =IF(K74="rupture",ROW(),"")
A75: =IF(H75=Rapport!$A$2,ROW(),B75) | B75: =IF(OR(AND(H75<>Rapport!$A$2,Rapport!$C$1=""),I75<>Rapport!$C$1),"",ROW()) | C75: 142-935 | D75: Formedica compresse non-tissees 2x2 200 u | H75: 1400 Soins à Domiciles | J75: 6 | Q75: 775604030622 | V75: =IF(K75="rupture",ROW(),"")
A76: =IF(H76=Rapport!$A$2,ROW(),B76) | B76: =IF(OR(AND(H76<>Rapport!$A$2,Rapport!$C$1=""),I76<>Rapport!$C$1),"",ROW()) | C76: 143-149 | D76: Formedica FORM COMP N/TIS 7.5X7.5CM 200u | H76: 1400 Soins à Domiciles | J76: 9 | Q76: 775604030639 | V76: =IF(K76="rupture",ROW(),"")
A77: =IF(H77=Rapport!$A$2,ROW(),B77) | B77: =IF(OR(AND(H77<>Rapport!$A$2,Rapport!$C$1=""),I77<>Rapport!$C$1),"",ROW()) | C77: 143-172 | D77: Formedica FORM COMP N/TIS 10X10CM 200u | H77: 1400 Soins à Domiciles | J77: 4 | Q77: 775604030646 | V77: =IF(K77="rupture",ROW(),"")
A78: =IF(H78=Rapport!$A$2,ROW(),B78) | B78: =IF(OR(AND(H78<>Rapport!$A$2,Rapport!$C$1=""),I78<>Rapport!$C$1),"",ROW()) | C78: 149-765 | D78: AMG ACCUFLX THERM DIG 10 sec | H78: 1400 Soins à Domiciles | J78: 12 | Q78: 57565166351 | V78: =IF(K78="rupture",ROW(),"")
A79: =IF(H79=Rapport!$A$2,ROW(),B79) | B79: =IF(OR(AND(H79<>Rapport!$A$2,Rapport!$C$1=""),I79<>Rapport!$C$1),"",ROW()) | C79: 335-919 | D79: Formedica FORM COUVRE-SONDES 40u | H79: 1400 Soins à Domiciles | K79: RUPTURE | Q79: 775604080801 | V79: =IF(K79="rupture",ROW(),"") -> 79
A80: =IF(H80=Rapport!$A$2,ROW(),B80) | B80: =IF(OR(AND(H80<>Rapport!$A$2,Rapport!$C$1=""),I80<>Rapport!$C$1),"",ROW()) | C80: 896-230 | D80: AMG ACCUFLX5 THERM DIG 5sec | H80: 1400 Soins à Domiciles | J80: 6 | Q80: 57565166375 | V80: =IF(K80="rupture",ROW(),"")
A81: =IF(H81=Rapport!$A$2,ROW(),B81) | B81: =IF(OR(AND(H81<>Rapport!$A$2,Rapport!$C$1=""),I81<>Rapport!$C$1),"",ROW()) | C81: 801-008 | D81: Lingette Facial Alibi 25 | E81: Lingette Facial Alibi en 25 | H81: 1500 Soins de la Peau | I81: 1505 | J81: 17 | M81: 21.08 | P81: U | Q81: 58242801008 | S81: blanche | V81: =IF(K81="rupture",ROW(),"")
A82: =IF(H82=Rapport!$A$2,ROW(),B82) | B82: =IF(OR(AND(H82<>Rapport!$A$2,Rapport!$C$1=""),I82<>Rapport!$C$1),"",ROW()) | C82: 528-448 | D82: Blistex B/LEV BAIE PAN 4.25g | H82: 1500 Soins de la Peau | K82: RUPTURE | Q82: 41388220215 | V82: =IF(K82="rupture",ROW(),"") -> 82
A83: =IF(H83=Rapport!$A$2,ROW(),B83) | B83: =IF(OR(AND(H83<>Rapport!$A$2,Rapport!$C$1=""),I83<>Rapport!$C$1),"",ROW()) | C83: 051-900 | D83: Atoma tampons demaquillants Carré 80 | H83: 3200 Cosmétique | J83: 72 | Q83: 777747104086 | V83: =IF(K83="rupture",ROW(),"")
A84: =IF(H84=Rapport!$A$2,ROW(),B84) | B84: =IF(OR(AND(H84<>Rapport!$A$2,Rapport!$C$1=""),I84<>Rapport!$C$1),"",ROW()) | C84: 051-901 | D84: Atoma tampons demaquillants ronds 125 | H84: 3200 Cosmétique | K84: RUPTURE | Q84: 777747104079 | V84: =IF(K84="rupture",ROW(),"") -> 84
A85: =IF(H85=Rapport!$A$2,ROW(),B85) | B85: =IF(OR(AND(H85<>Rapport!$A$2,Rapport!$C$1=""),I85<>Rapport!$C$1),"",ROW()) | C85: 087-422 | D85: Atoma cure-oreilles coton 500u | H85: 3200 Cosmétique | K85: RUPTURE | Q85: 777747109753 | V85: =IF(K85="rupture",ROW(),"") -> 85
A86: =IF(H86=Rapport!$A$2,ROW(),B86) | B86: =IF(OR(AND(H86<>Rapport!$A$2,Rapport!$C$1=""),I86<>Rapport!$C$1),"",ROW()) | C86: 020-786 | D86: Neolia Savon A Main Olive | E86: Neolia Savon A Main Olive 350 ml | H86: 3500 Hygiène corporelle | I86: 3510 | J86: 12 | M86: 37.68 | Q86: 772060840123 | S86: Blanc | V86: =IF(K86="rupture",ROW(),"")
A87: =IF(H87=Rapport!$A$2,ROW(),B87) | B87: =IF(OR(AND(H87<>Rapport!$A$2,Rapport!$C$1=""),I87<>Rapport!$C$1),"",ROW()) | C87: 050-733 | D87: Softsoap Antibacterien 1.65 L | E87: Softsoap Antibacterien Propreter Fraiche 1.65 L | H87: 3500 Hygiène corporelle | I87: 3510 | K87: RUPTURE | Q87: 58000311411 | S87: orange | V87: =IF(K87="rupture",ROW(),"") -> 87
A88: =IF(H88=Rapport!$A$2,ROW(),B88) | B88: =IF(OR(AND(H88<>Rapport!$A$2,Rapport!$C$1=""),I88<>Rapport!$C$1),"",ROW()) | C88: 840-130 | D88: Neolia Savon A Main Olive | E88: Neolian Savon A Main Fait Avec De L'huile D'olive 750 ml | H88: 3500 Hygiène corporelle | I88: 3510 | J88: 16 | M88: 78.24 | Q88: 772060840130 | S88: Blanc | V88: =IF(K88="rupture",ROW(),"")
A89: =IF(H89=Rapport!$A$2,ROW(),B89) | B89: =IF(OR(AND(H89<>Rapport!$A$2,Rapport!$C$1=""),I89<>Rapport!$C$1),"",ROW()) | C89: 840-192 | D89: Neolia Savon A Main Noix De Coco | E89: Neolia Savon A Main Noix De Coco 350 ml | H89: 3500 Hygiène corporelle | I89: 3510 | J89: 11 | M89: 34.54 | Q89: 772060840192 | S89: Blanc | V89: =IF(K89="rupture",ROW(),"")
A90: =IF(H90=Rapport!$A$2,ROW(),B90) | B90: =IF(OR(AND(H90<>Rapport!$A$2,Rapport!$C$1=""),I90<>Rapport!$C$1),"",ROW()) | C90: 009-122 | D90: eponge de toilette medpro | H90: 3500 Hygiène corporelle | J90: 82 | Q90: 57565091226 | V90: =IF(K90="rupture",ROW(),"")
A91: =IF(H91=Rapport!$A$2,ROW(),B91) | B91: =IF(OR(AND(H91<>Rapport!$A$2,Rapport!$C$1=""),I91<>Rapport!$C$1),"",ROW()) | C91: 101-903 | D91: Atoma cure oreille en 400 | H91: 3500 Hygiène corporelle | K91: RUPTURE | Q91: 777747110599 | V91: =IF(K91="rupture",ROW(),"") -> 91
A92: =IF(H92=Rapport!$A$2,ROW(),B92) | B92: =IF(OR(AND(H92<>Rapport!$A$2,Rapport!$C$1=""),I92<>Rapport!$C$1),"",ROW()) | C92: 163-816 | D92: Ivory simple bar aloes en 10 | H92: 3500 Hygiène corporelle | K92: RUPTURE | Q92: 37000218494 | V92: =IF(K92="rupture",ROW(),"") -> 92
A93: =IF(H93=Rapport!$A$2,ROW(),B93) | B93: =IF(OR(AND(H93<>Rapport!$A$2,Rapport!$C$1=""),I93<>Rapport!$C$1),"",ROW()) | C93: 261-883 | D93: Ivory bar savon original en 10 | H93: 3500 Hygiène corporelle | J93: 3 | Q93: 56100007067 | V93: =IF(K93="rupture",ROW(),"")
A94: =IF(H94=Rapport!$A$2,ROW(),B94) | B94: =IF(OR(AND(H94<>Rapport!$A$2,Rapport!$C$1=""),I94<>Rapport!$C$1),"",ROW()) | C94: 288-787 | D94: Dove go fresh 2x90g soins fraicheur | H94: 3500 Hygiène corporelle | K94: RUPTURE | Q94: 67238851477 | V94: =IF(K94="rupture",ROW(),"") -> 94
A95: =IF(H95=Rapport!$A$2,ROW(),B95) | B95: =IF(OR(AND(H95<>Rapport!$A$2,Rapport!$C$1=""),I95<>Rapport!$C$1),"",ROW()) | C95: 290-635 | D95: Dove blanc 2x90g | H95: 3500 Hygiène corporelle | K95: RUPTURE | Q95: 67238846275 | V95: =IF(K95="rupture",ROW(),"") -> 95
A96: =IF(H96=Rapport!$A$2,ROW(),B96) | B96: =IF(OR(AND(H96<>Rapport!$A$2,Rapport!$C$1=""),I96<>Rapport!$C$1),"",ROW()) | C96: 291-708 | D96: Dove peau sensible 2x90g | H96: 3500 Hygiène corporelle | K96: RUPTURE | Q96: 67238846282 | V96: =IF(K96="rupture",ROW(),"") -> 96
A97: =IF(H97=Rapport!$A$2,ROW(),B97) | B97: =IF(OR(AND(H97<>Rapport!$A$2,Rapport!$C$1=""),I97<>Rapport!$C$1),"",ROW()) | C97: 530-873 | D97: Irish pring savon pour le coprs en 6x90g | H97: 3500 Hygiène corporelle | J97: 12 | Q97: 58000301245 | V97: =IF(K97="rupture",ROW(),"")
A98: =IF(H98=Rapport!$A$2,ROW(),B98) | B98: =IF(OR(AND(H98<>Rapport!$A$2,Rapport!$C$1=""),I98<>Rapport!$C$1),"",ROW()) | C98: 928-812 | D98: Bacti Control BACTI CNT GLANTIBALM 20ml | H98: 3500 Hygiène corporelle | K98: RUPTURE | Q98: 854077000186 | V98: =IF(K98="rupture",ROW(),"") -> 98
A99: =IF(H99=Rapport!$A$2,ROW(),B99) | B99: =IF(OR(AND(H99<>Rapport!$A$2,Rapport!$C$1=""),I99<>Rapport!$C$1),"",ROW()) | C99: 6935485185161 | D99: Proxim PRX JUNA ETUI BR/DENT | H99: 3700 Hygiène Buccale | K99: RUPTURE | Q99: 6935485185161 | V99: =IF(K99="rupture",ROW(),"") -> 99
A100: =IF(H100=Rapport!$A$2,ROW(),B100) | B100: =IF(OR(AND(H100<>Rapport!$A$2,Rapport!$C$1=""),I100<>Rapport!$C$1),"",ROW()) | C100: 046-339 | D100: Novadent NETT DENT ORG Boni | H100: 3700 Hygiène Buccale | J100: 24 | Q100: 622027000162 | V100: =IF(K100="rupture",ROW(),"")
A101: =IF(H101=Rapport!$A$2,ROW(),B101) | B101: =IF(OR(AND(H101<>Rapport!$A$2,Rapport!$C$1=""),I101<>Rapport!$C$1),"",ROW()) | C101: 046-341 | D101: Novadent NETT DENT ULT-DX IP Boni | H101: 3700 Hygiène Buccale | J101: 62 | Q101: 622027000438 | V101: =IF(K101="rupture",ROW(),"")
A102: =IF(H102=Rapport!$A$2,ROW(),B102) | B102: =IF(OR(AND(H102<>Rapport!$A$2,Rapport!$C$1=""),I102<>Rapport!$C$1),"",ROW()) | C102: 751-669 | D102: Nova dent originale 56 lavages | H102: 3700 Hygiène Buccale | J102: 9 | M102: 59.67 | O102: ND | Q102: 622027000124 | V102: =IF(K102="rupture",ROW(),"")
A103: =IF(H103=Rapport!$A$2,ROW(),B103) | B103: =IF(OR(AND(H103<>Rapport!$A$2,Rapport!$C$1=""),I103<>Rapport!$C$1),"",ROW()) | C103: 752-485 | D103: Nova dent 4sachets | H103: 3700 Hygiène Buccale | K103: RUPTURE | Q103: 622027000216 | V103: =IF(K103="rupture",ROW(),"") -> 103
A104: =IF(H104=Rapport!$A$2,ROW(),B104) | B104: =IF(OR(AND(H104<>Rapport!$A$2,Rapport!$C$1=""),I104<>Rapport!$C$1),"",ROW()) | C104: 891-689 | D104: Nova dent IP regulier | H104: 3700 Hygiène Buccale | J104: 24 | M104: 152.88 | O104: ND | Q104: 622027000407 | V104: =IF(K104="rupture",ROW(),"")
A105: =IF(H105=Rapport!$A$2,ROW(),B105) | B105: =IF(OR(AND(H105<>Rapport!$A$2,Rapport!$C$1=""),I105<>Rapport!$C$1),"",ROW()) | C105: 337-105 | D105: Aqua Velva Class Ice Blue 235ml | H105: 3900 Rasage | K105: RUPTURE | Q105: 11509609304 | V105: =IF(K105="rupture",ROW(),"") -> 105
A106: =IF(H106=Rapport!$A$2,ROW(),B106) | B106: =IF(OR(AND(H106<>Rapport!$A$2,Rapport!$C$1=""),I106<>Rapport!$C$1),"",ROW()) | C106: 337-709 | D106: Aqua Velva Org Sport 235ml | H106: 3900 Rasage | K106: RUPTURE | Q106: 11509609700 | V106: =IF(K106="rupture",ROW(),"") -> 106
...

Sheet Rupture
A1: =IF(ISERROR(SMALL(Inventaires!$V$3:$V$318,ROW())),"",SMALL(Inventaires!$V$3:$V$318,ROW())) -> 3 | B1: =IF(A1="","",INDIRECT("Inventaires!D"&A1,1)) -> Atoma IBUPROFEN 200MG cplt 100 | C1: =IF(A1="","",INDIRECT("Inventaires!Q"&A1,1)) -> 777747100873 | D1: =IF(A1="","",INDIRECT("Inventaires!C"&A1,1)) -> 049-159 | E1: =COUNTIF(A:A,">=1")&" en rupture /"&COUNTA(Inventaires!C:C)-2 -> 149 en rupture /316
A2: =IF(ISERROR(SMALL(Inventaires!$V$3:$V$318,ROW())),"",SMALL(Inventaires!$V$3:$V$318,ROW())) -> 4 | B2: =IF(A2="","",INDIRECT("Inventaires!D"&A2,1)) -> Atoma IBUPROFEN 200MG comp 100 | C2: =IF(A2="","",INDIRECT("Inventaires!Q"&A2,1)) -> 777747100903 | D2: =IF(A2="","",INDIRECT("Inventaires!C"&A2,1)) -> 049-160
A3: =IF(ISERROR(SMALL(Inventaires!$V$3:$V$318,ROW())),"",SMALL(Inventaires!$V$3:$V$318,ROW())) -> 5 | B3: =IF(A3="","",INDIRECT("Inventaires!D"&A3,1)) -> Atoma IBUPROFEN 200MG gélule 16 | C3: =IF(A3="","",INDIRECT("Inventaires!Q"&A3,1)) -> 777747101009 | D3: =IF(A3="","",INDIRECT("Inventaires!C"&A3,1)) -> 049-199
A4: =IF(ISERROR(SMALL(Inventaires!$V$3:$V$318,ROW())),"",SMALL(Inventaires!$V$3:$V$318,ROW())) -> 6 | B4: =IF(A4="","",INDIRECT("Inventaires!D"&A4,1)) -> Atoma IBUPROFEN 200MG gélule 72 | C4: =IF(A4="","",INDIRECT("Inventaires!Q"&A4,1)) -> 777747101023 | D4: =IF(A4="","",INDIRECT("Inventaires!C"&A4,1)) -> 049-200
A5: =IF(ISERROR(SMALL(Inventaires!$V$3:$V$318,ROW())),"",SMALL(Inventaires!$V$3:$V$318,ROW())) -> 7 | B5: =IF(A5="","",INDIRECT("Inventaires!D"&A5,1)) -> Atoma ACET FAA 500MG 100 comp | C5: =IF(A5="","",INDIRECT("Inventaires!Q"&A5,1)) -> 777747101900 | D5: =IF(A5="","",INDIRECT("Inventaires!C"&A5,1)) -> 050-311
A6: =IF(ISERROR(SMALL(Inventaires!$V$3:$V$318,ROW())),"",SMALL(Inventaires!$V$3:$V$318,ROW())) -> 8 | B6: =IF(A6="","",INDIRECT("Inventaires!D"&A6,1)) -> Atoma ACET FAO FAA 150 comp | C6: =IF(A6="","",INDIRECT("Inventaires!Q"&A6,1)) -> 777747101917 | D6: =IF(A6="","",INDIRECT("Inventaires!C"&A6,1)) -> 050-314
A7: =IF(ISERROR(SMALL(Inventaires!$V$3:$V$318,ROW())),"",SMALL(Inventaires!$V$3:$V$318,ROW())) -> 9 | B7: =IF(A7="","",INDIRECT("Inventaires!D"&A7,1)) -> Atoma ACET CPLT 500MG 500 cplt | C7: =IF(A7="","",INDIRECT("Inventaires!Q"&A7,1)) -> 777747109517 | D7: =IF(A7="","",INDIRECT("Inventaires!C"&A7,1)) -> 082-965
A8: =IF(ISERROR(SMALL(Inventaires!$V$3:$V$318,ROW())),"",SMALL(Inventaires!$V$3:$V$318,ROW())) -> 10 | B8: =IF(A8="","",INDIRECT("Inventaires!D"&A8,1)) -> Atoma Ibuprofen 32cap | C8: =IF(A8="","",INDIRECT("Inventaires!Q"&A8,1)) -> 777747110322 | D8: =IF(A8="","",INDIRECT("Inventaires!C"&A8,1)) -> 105-813
A9: =IF(ISERROR(SMALL(Inventaires!$V$3:$V$318,ROW())),"",SMALL(Inventaires!$V$3:$V$318,ROW())) -> 11 | B9: =IF(A9="","",INDIRECT("Inventaires!D"&A9,1)) -> Laboratoire Suisse SUIS ARTRIKOR CR ANALG Boni | C9: =IF(A9="","",INDIRECT("Inventaires!Q"&A9,1)) -> 776329547730 | D9: =IF(A9="","",INDIRECT("Inventaires!C"&A9,1)) -> 559-484
A10: =IF(ISERROR(SMALL(Inventaires!$V$3:$V$318,ROW())),"",SMALL(Inventaires!$V$3:$V$318,ROW())) -> 12 | B10: =IF(A10="","",INDIRECT("Inventaires!D"&A10,1)) -> Tylenol FAC/OUV 500MG 150cplt | C10: =IF(A10="","",INDIRECT("Inventaires!Q"&A10,1)) -> 62600142290 | D10: =IF(A10="","",INDIRECT("Inventaires!C"&A10,1)) -> 667-931
A11: =IF(ISERROR(SMALL(Inventaires!$V$3:$V$318,ROW())),"",SMALL(Inventaires!$V$3:$V$318,ROW())) -> 14 | B11: =IF(A11="","",INDIRECT("Inventaires!D"&A11,1)) -> Relaxa 510g | C11: =IF(A11="","",INDIRECT("Inventaires!Q"&A11,1)) -> 830853005019 | D11: =IF(A11="","",INDIRECT("Inventaires!C"&A11,1)) -> 004-134
A12: =IF(ISERROR(SMALL(Inventaires!$V$3:$V$318,ROW())),"",SMALL(Inventaires!$V$3:$V$318,ROW())) -> 15 | B12: =IF(A12="","",INDIRECT("Inventaires!D"&A12,1)) -> Gluverna Liq Chocolat | C12: =IF(A12="","",INDIRECT("Inventaires!Q"&A12,1)) -> 55325036562 | D12: =IF(A12="","",INDIRECT("Inventaires!C"&A12,1)) -> 822-544
A13: =IF(ISERROR(SMALL(Inventaires!$V$3:$V$318,ROW())),"",SMALL(Inventaires!$V$3:$V$318,ROW())) -> 17 | B13: =IF(A13="","",INDIRECT("Inventaires!D"&A13,1)) -> Glucerna Liq Fraise | C13: =IF(A13="","",INDIRECT("Inventaires!Q"&A13,1)) -> 55325036579 | D13: =IF(A13="","",INDIRECT("Inventaires!C"&A13,1)) -> 834-895
... A2500: =IF(ISERROR(SMALL(Inventaires!$V$3:$V$318,ROW())),"",SMALL(Inventaires!$V$3:$V$318,ROW())) | B2500: =IF(A2500="","",INDIRECT("Inventaires!D"&A2500,1)) | C2500: =IF(A2500="","",INDIRECT("Inventaires!Q"&A2500,1)) | D2500: =IF(A2500="","",INDIRECT("Inventaires!C"&A2500,1))

Sheet LD
A1: CATÉGORIE | B1: SOUS-CATÉGORIE | E1: =COUNTIF(E2:E2500,">=1")+1 -> 28 | G1: =COUNTIF(G2:G2500,">=1") -> 17 | J1: =COUNTIF(J2:J2500,">=1") -> 4 | K1: 0 | L1: =IF(OR(K1="",K1=K2),"",ROW()) -> 1 | O1: Pour Graphique
A2: =IF(ISERROR(SMALL(E$2:E$2500,ROW()-1)),"",INDIRECT("D"&SMALL(E$2:E$2500,ROW()-1))) -> 0100 Analgésiques | B2: =IF(ISERROR(SMALL(L$1:L$2500,ROW()-1)),"",INDIRECT("K"&SMALL(L$1:L$2500,ROW()-1))) -> 0 | D2: =IF(Inventaires!H3="","",Inventaires!H3) -> 0100 Analgésiques | E2: =IF(OR(D2="",D2=D3),"",ROW()) | F2: =IF(OR(Inventaires!H3="",Rapport!A$2<>Inventaires!H3),"",Inventaires!I3) | G2: =IF(F2="","",ROW()) | H2: =IF(OR(F2<>Rapport!$C$1,F2=""),"",ROW()) | I2: =IF(COUNTIF($I1:I$3,F2)<1,F2,"") | J2: =IF(OR(I2=0,I2<>""),ROW(),"") | K2: =IF(Inventaires!I3="","",Inventaires!I3) | L2: =IF(OR(K2="",K2=K3),"",ROW())
A3: =IF(ISERROR(SMALL(E$2:E$2500,ROW()-1)),"",INDIRECT("D"&SMALL(E$2:E$2500,ROW()-1))) -> 0300 Laxatifs et Anti-Diarrheique | B3: =IF(ISERROR(SMALL(L$1:L$2500,ROW()-1)),"",INDIRECT("K"&SMALL(L$1:L$2500,ROW()-1))) -> 0320 laxatifs | D3: =IF(Inventaires!H4="","",Inventaires!H4) -> 0100 Analgésiques | E3: =IF(OR(D3="",D3=D4),"",ROW()) | F3: =IF(OR(Inventaires!H4="",Rapport!A$2<>Inventaires!H4),"",Inventaires!I4) | G3: =IF(F3="","",ROW()) | H3: =IF(OR(F3<>Rapport!$C$1,F3=""),"",ROW()) | I3: =IF(COUNTIF($I2:I$3,F3)<1,F3,"") | J3: =IF(OR(I3=0,I3<>""),ROW(),"") | K3: =IF(Inventaires!I4="","",Inventaires!I4) | L3: =IF(OR(K3="",K3=K4),"",ROW())
A4: =IF(ISERROR(SMALL(E$2:E$2500,ROW()-1)),"",INDIRECT("D"&SMALL(E$2:E$2500,ROW()-1))) -> 0500 Diètétique | B4: =IF(ISERROR(SMALL(L$1:L$2500,ROW()-1)),"",INDIRECT("K"&SMALL(L$1:L$2500,ROW()-1))) -> 0910 RHUME TOUX LIQUIDES | D4: =IF(Inventaires!H5="","",Inventaires!H5) -> 0100 Analgésiques | E4: =IF(OR(D4="",D4=D5),"",ROW()) | F4: =IF(OR(Inventaires!H5="",Rapport!A$2<>Inventaires!H5),"",Inventaires!I5) | G4: =IF(F4="","",ROW()) | H4: =IF(OR(F4<>Rapport!$C$1,F4=""),"",ROW()) | I4: =IF(COUNTIF($I3:I$3,F4)<1,F4,"") | J4: =IF(OR(I4=0,I4<>""),ROW(),"") | K4: =IF(Inventaires!I5="","",Inventaires!I5) | L4: =IF(OR(K4="",K4=K5),"",ROW()) | O4: TOTAL PAR SÉLECTION: | P4: =Rapport!A6 -> 636.85
A5: =IF(ISERROR(SMALL(E$2:E$2500,ROW()-1)),"",INDIRECT("D"&SMALL(E$2:E$2500,ROW()-1))) -> 0700 Vitamines | B5: =IF(ISERROR(SMALL(L$1:L$2500,ROW()-1)),"",INDIRECT("K"&SMALL(L$1:L$2500,ROW()-1))) -> 0920 RHUME TOUX PASTILLES | D5: =IF(Inventaires!H6="","",Inventaires!H6) -> 0100 Analgésiques | E5: =IF(OR(D5="",D5=D6),"",ROW()) | F5: =IF(OR(Inventaires!H6="",Rapport!A$2<>Inventaires!H6),"",Inventaires!I6) | G5: =IF(F5="","",ROW()) | H5: =IF(OR(F5<>Rapport!$C$1,F5=""),"",ROW()) | I5: =IF(COUNTIF($I$3:I4,F5)<1,F5,"") | J5: =IF(OR(I5=0,I5<>""),ROW(),"") | K5: =IF(Inventaires!I6="","",Inventaires!I6) | L5: =IF(OR(K5="",K5=K6),"",ROW()) | O5: TOTAL EN INVENTAIRE: | P5: =Rapport!A10 -> 7434.446
A6: =IF(ISERROR(SMALL(E$2:E$2500,ROW()-1)),"",INDIRECT("D"&SMALL(E$2:E$2500,ROW()-1))) -> 0900 Rhume et toux | B6: =IF(ISERROR(SMALL(L$1:L$2500,ROW()-1)),"",INDIRECT("K"&SMALL(L$1:L$2500,ROW()-1))) -> 0950 RHUME TOUX GOUTTES VAP.NASAUX | D6: =IF(Inventaires!H7="","",Inventaires!H7) -> 0100 Analgésiques | E6: =IF(OR(D6="",D6=D7),"",ROW()) | F6: =IF(OR(Inventaires!H7="",Rapport!A$2<>Inventaires!H7),"",Inventaires!I7) | G6: =IF(F6="","",ROW()) | H6: =IF(OR(F6<>Rapport!$C$1,F6=""),"",ROW()) | I6: =IF(COUNTIF($I$3:I5,F6)<1,F6,"") | J6: =IF(OR(I6=0,I6<>""),ROW(),"") | K6: =IF(Inventaires!I7="","",Inventaires!I7) | L6: =IF(OR(K6="",K6=K7),"",ROW()) | O6: ITEMS SÉLECTIONNÉS | P6: =Rapport!A8 -> 17
A7: =IF(ISERROR(SMALL(E$2:E$2500,ROW()-1)),"",INDIRECT("D"&SMALL(E$2:E$2500,ROW()-1))) -> 1000 Yeux et Oreilles | B7: =IF(ISERROR(SMALL(L$1:L$2500,ROW()-1)),"",INDIRECT("K"&SMALL(L$1:L$2500,ROW()-1))) -> 1460 | D7: =IF(Inventaires!H8="","",Inventaires!H8) -> 0100 Analgésiques | E7: =IF(OR(D7="",D7=D8),"",ROW()) | F7: =IF(OR(Inventaires!H8="",Rapport!A$2<>Inventaires!H8),"",Inventaires!I8) | G7: =IF(F7="","",ROW()) | H7: =IF(OR(F7<>Rapport!$C$1,F7=""),"",ROW()) | I7: =IF(COUNTIF($I$3:I6,F7)<1,F7,"") | J7: =IF(OR(I7=0,I7<>""),ROW(),"") | K7: =IF(Inventaires!I8="","",Inventaires!I8) | L7: =IF(OR(K7="",K7=K8),"",ROW()) | O7: ITEMS EN INVENTAIRE | P7: =Rapport!A12 -> 11248
A8: =IF(ISERROR(SMALL(E$2:E$2500,ROW()-1)),"",INDIRECT("D"&SMALL(E$2:E$2500,ROW()-1))) -> 1200 Orthopédie | B8: =IF(ISERROR(SMALL(L$1:L$2500,ROW()-1)),"",INDIRECT("K"&SMALL(L$1:L$2500,ROW()-1))) -> 1505 | D8: =IF(Inventaires!H9="","",Inventaires!H9) -> 0100 Analgésiques | E8: =IF(OR(D8="",D8=D9),"",ROW()) | F8: =IF(OR(Inventaires!H9="",Rapport!A$2<>Inventaires!H9),"",Inventaires!I9) | G8: =IF(F8="","",ROW()) | H8: =IF(OR(F8<>Rapport!$C$1,F8=""),"",ROW()) | I8: =IF(COUNTIF($I$3:I7,F8)<1,F8,"") | J8: =IF(OR(I8=0,I8<>""),ROW(),"") | K8: =IF(Inventaires!I9="","",Inventaires!I9) | L8: =IF(OR(K8="",K8=K9),"",ROW()) | O8: ITEMS EN RUPTURE PAR SÉLECTION | P8: =COUNTIF(Rapport!G:G,"RUPTURE") -> 9
A9: =IF(ISERROR(SMALL(E$2:E$2500,ROW()-1)),"",INDIRECT("D"&SMALL(E$2:E$2500,ROW()-1))) -> 1300 Premiers soins | B9: =IF(ISERROR(SMALL(L$1:L$2500,ROW()-1)),"",INDIRECT("K"&SMALL(L$1:L$2500,ROW()-1))) -> 3510 | D9: =IF(Inventaires!H10="","",Inventaires!H10) -> 0100 Analgésiques | E9: =IF(OR(D9="",D9=D10),"",ROW()) | F9: =IF(OR(Inventaires!H10="",Rapport!A$2<>Inventaires!H10),"",Inventaires!I10) | G9: =IF(F9="","",ROW()) | H9: =IF(OR(F9<>Rapport!$C$1,F9=""),"",ROW()) | I9: =IF(COUNTIF($I$3:I8,F9)<1,F9,"") | J9: =IF(OR(I9=0,I9<>""),ROW(),"") | K9: =IF(Inventaires!I10="","",Inventaires!I10) | L9: =IF(OR(K9="",K9=K10),"",ROW()) | O9: ITEMS EN RUPTURE | P9: =COUNT(Rupture!A:A) -> 149
A10: =IF(ISERROR(SMALL(E$2:E$2500,ROW()-1)),"",INDIRECT("D"&SMALL(E$2:E$2500,ROW()-1))) -> 1400 Soins à Domiciles | B10: =IF(ISERROR(SMALL(L$1:L$2500,ROW()-1)),"",INDIRECT("K"&SMALL(L$1:L$2500,ROW()-1))) -> 4260 | D10: =IF(Inventaires!H11="","",Inventaires!H11) -> 0100 Analgésiques | E10: =IF(OR(D10="",D10=D11),"",ROW()) | F10: =IF(OR(Inventaires!H11="",Rapport!A$2<>Inventaires!H11),"",Inventaires!I11) | G10: =IF(F10="","",ROW()) | H10: =IF(OR(F10<>Rapport!$C$1,F10=""),"",ROW()) | I10: =IF(COUNTIF($I$3:I9,F10)<1,F10,"") | J10: =IF(OR(I10=0,I10<>""),ROW(),"") | K10: =IF(Inventaires!I11="","",Inventaires!I11) | L10: =IF(OR(K10="",K10=K11),"",ROW())
A11: =IF(ISERROR(SMALL(E$2:E$2500,ROW()-1)),"",INDIRECT("D"&SMALL(E$2:E$2500,ROW()-1))) -> 1500 Soins de la Peau | B11: =IF(ISERROR(SMALL(L$1:L$2500,ROW()-1)),"",INDIRECT("K"&SMALL(L$1:L$2500,ROW()-1))) -> 4260 BEBE COUCHES A JETER | D11: =IF(Inventaires!H12="","",Inventaires!H12) -> 0100 Analgésiques | E11: =IF(OR(D11="",D11=D12),"",ROW()) -> 11 | F11: =IF(OR(Inventaires!H12="",Rapport!A$2<>Inventaires!H12),"",Inventaires!I12) | G11: =IF(F11="","",ROW()) | H11: =IF(OR(F11<>Rapport!$C$1,F11=""),"",ROW()) | I11: =IF(COUNTIF($I$3:I10,F11)<1,F11,"") | J11: =IF(OR(I11=0,I11<>""),ROW(),"") | K11: =IF(Inventaires!I12="","",Inventaires!I12) | L11: =IF(OR(K11="",K11=K12),"",ROW())
A12: =IF(ISERROR(SMALL(E$2:E$2500,ROW()-1)),"",INDIRECT("D"&SMALL(E$2:E$2500,ROW()-1))) -> 3200 Cosmétique | B12: =IF(ISERROR(SMALL(L$1:L$2500,ROW()-1)),"",INDIRECT("K"&SMALL(L$1:L$2500,ROW()-1))) -> 4560 ART. PERSON. VETEMENTS AUTRES | D12: =IF(Inventaires!H13="","",Inventaires!H13) -> 0300 Laxatifs et Anti-Diarrheique | E12: =IF(OR(D12="",D12=D13),"",ROW()) | F12: =IF(OR(Inventaires!H13="",Rapport!A$2<>Inventaires!H13),"",Inventaires!I13) | G12: =IF(F12="","",ROW()) | H12: =IF(OR(F12<>Rapport!$C$1,F12=""),"",ROW()) | I12: =IF(COUNTIF($I$3:I11,F12)<1,F12,"") | J12: =IF(OR(I12=0,I12<>""),ROW(),"") | K12: =IF(Inventaires!I13="","",Inventaires!I13) -> 0320 laxatifs | L12: =IF(OR(K12="",K12=K13),"",ROW()) -> 12
A13: =IF(ISERROR(SMALL(E$2:E$2500,ROW()-1)),"",INDIRECT("D"&SMALL(E$2:E$2500,ROW()-1))) -> 3500 Hygiène corporelle | B13: =IF(ISERROR(SMALL(L$1:L$2500,ROW()-1)),"",INDIRECT("K"&SMALL(L$1:L$2500,ROW()-1))) -> 4810 | D13: =IF(Inventaires!H14="","",Inventaires!H14) -> 0300 Laxatifs et Anti-Diarrheique | E13: =IF(OR(D13="",D13=D14),"",ROW()) -> 13 | F13: =IF(OR(Inventaires!H14="",Rapport!A$2<>Inventaires!H14),"",Inventaires!I14) | G13: =IF(F13="","",ROW()) | H13: =IF(OR(F13<>Rapport!$C$1,F13=""),"",ROW()) | I13: =IF(COUNTIF($I$3:I12,F13)<1,F13,"") | J13: =IF(OR(I13=0,I13<>""),ROW(),"") | K13: =IF(Inventaires!I14="","",Inventaires!I14) | L13: =IF(OR(K13="",K13=K14),"",ROW())
A14: =IF(ISERROR(SMALL(E$2:E$2500,ROW()-1)),"",INDIRECT("D"&SMALL(E$2:E$2500,ROW()-1))) -> 3700 Hygiène Buccale | B14: =IF(ISERROR(SMALL(L$1:L$2500,ROW()-1)),"",INDIRECT("K"&SMALL(L$1:L$2500,ROW()-1))) -> 4830 | D14: =IF(Inventaires!H15="","",Inventaires!H15) -> 0500 Diètétique | E14: =IF(OR(D14="",D14=D15),"",ROW()) | F14: =IF(OR(Inventaires!H15="",Rapport!A$2<>Inventaires!H15),"",Inventaires!I15) | G14: =IF(F14="","",ROW()) | H14: =IF(OR(F14<>Rapport!$C$1,F14=""),"",ROW()) | I14: =IF(COUNTIF($I$3:I13,F14)<1,F14,"") | J14: =IF(OR(I14=0,I14<>""),ROW(),"") | K14: =IF(Inventaires!I15="","",Inventaires!I15) | L14: =IF(OR(K14="",K14=K15),"",ROW())
A15: =IF(ISERROR(SMALL(E$2:E$2500,ROW()-1)),"",INDIRECT("D"&SMALL(E$2:E$2500,ROW()-1))) -> 3900 Rasage | B15: =IF(ISERROR(SMALL(L$1:L$2500,ROW()-1)),"",INDIRECT("K"&SMALL(L$1:L$2500,ROW()-1))) -> 4860 | D15: =IF(Inventaires!H16="","",Inventaires!H16) -> 0500 Diètétique | E15: =IF(OR(D15="",D15=D16),"",ROW()) | F15: =IF(OR(Inventaires!H16="",Rapport!A$2<>Inventaires!H16),"",Inventaires!I16) | G15: =IF(F15="","",ROW()) | H15: =IF(OR(F15<>Rapport!$C$1,F15=""),"",ROW()) | I15: =IF(COUNTIF($I$3:I14,F15)<1,F15,"") | J15: =IF(OR(I15=0,I15<>""),ROW(),"") | K15: =IF(Inventaires!I16="","",Inventaires!I16) | L15: =IF(OR(K15="",K15=K16),"",ROW())
A16: =IF(ISERROR(SMALL(E$2:E$2500,ROW()-1)),"",INDIRECT("D"&SMALL(E$2:E$2500,ROW()-1))) -> 4000 Serviettes Sanitaires | B16: =IF(ISERROR(SMALL(L$1:L$2500,ROW()-1)),"",INDIRECT("K"&SMALL(L$1:L$2500,ROW()-1))) -> 4820 P. MENAGERS DESODORISANTS | D16: =IF(Inventaires!H17="","",Inventaires!H17) -> 0500 Diètétique | E16: =IF(OR(D16="",D16=D17),"",ROW()) | F16: =IF(OR(Inventaires!H17="",Rapport!A$2<>Inventaires!H17),"",Inventaires!I17) | G16: =IF(F16="","",ROW()) | H16: =IF(OR(F16<>Rapport!$C$1,F16=""),"",ROW()) | I16: =IF(COUNTIF($I$3:I15,F16)<1,F16,"") | J16: =IF(OR(I16=0,I16<>""),ROW(),"") | K16: =IF(Inventaires!I17="","",Inventaires!I17) | L16: =IF(OR(K16="",K16=K17),"",ROW())
A17: =IF(ISERROR(SMALL(E$2:E$2500,ROW()-1)),"",INDIRECT("D"&SMALL(E$2:E$2500,ROW()-1))) -> 4100 INCONTINENCE | B17: =IF(ISERROR(SMALL(L$1:L$2500,ROW()-1)),"",INDIRECT("K"&SMALL(L$1:L$2500,ROW()-1))) -> 4860 P .MENAGERS DETERG. VAISSELLES | D17: =IF(Inventaires!H18="","",Inventaires!H18) -> 0500 Diètétique | E17: =IF(OR(D17="",D17=D18),"",ROW()) -> 17 | F17: =IF(OR(Inventaires!H18="",Rapport!A$2<>Inventaires!H18),"",Inventaires!I18) | G17: =IF(F17="","",ROW()) | H17: =IF(OR(F17<>Rapport!$C$1,F17=""),"",ROW()) | I17: =IF(COUNTIF($I$3:I16,F17)<1,F17,"") | J17: =IF(OR(I17=0,I17<>""),ROW(),"") | K17: =IF(Inventaires!I18="","",Inventaires!I18) | L17: =IF(OR(K17="",K17=K18),"",ROW())
A18: =IF(ISERROR(SMALL(E$2:E$2500,ROW()-1)),"",INDIRECT("D"&SMALL(E$2:E$2500,ROW()-1))) -> 4200 Bébé | B18: =IF(ISERROR(SMALL(L$1:L$2500,ROW()-1)),"",INDIRECT("K"&SMALL(L$1:L$2500,ROW()-1))) -> 5020 FOURNITURE BUREAU ET SCOLAIRES | D18: =IF(Inventaires!H19="","",Inventaires!H19) -> 0700 Vitamines | E18: =IF(OR(D18="",D18=D19),"",ROW()) -> 18 | F18: =IF(OR(Inventaires!H19="",Rapport!A$2<>Inventaires!H19),"",Inventaires!I19) | G18: =IF(F18="","",ROW()) | H18: =IF(OR(F18<>Rapport!$C$1,F18=""),"",ROW()) | I18: =IF(COUNTIF($I$3:I17,F18)<1,F18,"") | J18: =IF(OR(I18=0,I18<>""),ROW(),"") | K18: =IF(Inventaires!I19="","",Inventaires!I19) | L18: =IF(OR(K18="",K18=K19),"",ROW())
A19: =IF(ISERROR(SMALL(E$2:E$2500,ROW()-1)),"",INDIRECT("D"&SMALL(E$2:E$2500,ROW()-1))) -> 4300 Breuvage | B19: =IF(ISERROR(SMALL(L$1:L$2500,ROW()-1)),"",INDIRECT("K"&SMALL(L$1:L$2500,ROW()-1))) | D19: =IF(Inventaires!H20="","",Inventaires!H20) -> 0900 Rhume et toux | E19: =IF(OR(D19="",D19=D20),"",ROW()) | F19: =IF(OR(Inventaires!H20="",Rapport!A$2<>Inventaires!H20),"",Inventaires!I20) -> 0910 RHUME TOUX LIQUIDES | G19: =IF(F19="","",ROW()) -> 19 | H19: =IF(OR(F19<>Rapport!$C$1,F19=""),"",ROW()) | I19: =IF(COUNTIF($I$3:I18,F19)<1,F19,"") -> 0910 RHUME TOUX LIQUIDES | J19: =IF(OR(I19=0,I19<>""),ROW(),"") -> 19 | K19: =IF(Inventaires!I20="","",Inventaires!I20) -> 0910 RHUME TOUX LIQUIDES | L19: =IF(OR(K19="",K19=K20),"",ROW())
A20: =IF(ISERROR(SMALL(E$2:E$2500,ROW()-1)),"",INDIRECT("D"&SMALL(E$2:E$2500,ROW()-1))) -> 4500 Articles personnels | B20: =IF(ISERROR(SMALL(L$1:L$2500,ROW()-1)),"",INDIRECT("K"&SMALL(L$1:L$2500,ROW()-1))) | D20: =IF(Inventaires!H21="","",Inventaires!H21) -> 0900 Rhume et toux | E20: =IF(OR(D20="",D20=D21),"",ROW()) | F20: =IF(OR(Inventaires!H21="",Rapport!A$2<>Inventaires!H21),"",Inventaires!I21) -> 0910 RHUME TOUX LIQUIDES | G20: =IF(F20="","",ROW()) -> 20 | H20: =IF(OR(F20<>Rapport!$C$1,F20=""),"",ROW()) | I20: =IF(COUNTIF($I$3:I19,F20)<1,F20,"") | J20: =IF(OR(I20=0,I20<>""),ROW(),"") | K20: =IF(Inventaires!I21="","",Inventaires!I21) -> 0910 RHUME TOUX LIQUIDES | L20: =IF(OR(K20="",K20=K21),"",ROW())
A21: =IF(ISERROR(SMALL(E$2:E$2500,ROW()-1)),"",INDIRECT("D"&SMALL(E$2:E$2500,ROW()-1))) -> 4800 Produits Ménagers | B21: =IF(ISERROR(SMALL(L$1:L$2500,ROW()-1)),"",INDIRECT("K"&SMALL(L$1:L$2500,ROW()-1))) | D21: =IF(Inventaires!H22="","",Inventaires!H22) -> 0900 Rhume et toux | E21: =IF(OR(D21="",D21=D22),"",ROW()) | F21: =IF(OR(Inventaires!H22="",Rapport!A$2<>Inventaires!H22),"",Inventaires!I22) -> 0910 RHUME TOUX LIQUIDES | G21: =IF(F21="","",ROW()) -> 21 | H21: =IF(OR(F21<>Rapport!$C$1,F21=""),"",ROW()) | I21: =IF(COUNTIF($I$3:I20,F21)<1,F21,"") | J21: =IF(OR(I21=0,I21<>""),ROW(),"") | K21: =IF(Inventaires!I22="","",Inventaires!I22) -> 0910 RHUME TOUX LIQUIDES | L21: =IF(OR(K21="",K21=K22),"",ROW())
... A2500: =IF(ISERROR(SMALL(E$2:E$2500,ROW()-1)),"",INDIRECT("D"&SMALL(E$2:E$2500,ROW()-1))) | B2500: =IF(ISERROR(SMALL(L$1:L$2500,ROW()-1)),"",INDIRECT("K"&SMALL(L$1:L$2500,ROW()-1))) | D2500: =IF(Inventaires!H2501="","",Inventaires!H2501) | E2500: =IF(OR(D2500="",D2500=D2501),"",ROW()) | F2500: =IF(OR(Inventaires!H2501="",Rapport!A$2<>Inventaires!H2501),"",Inventaires!I2501) | G2500: =IF(F2500="","",ROW()) | H2500: =IF(OR(F2500<>Rapport!$C$1,F2500=""),"",ROW()) | I2500: =IF(COUNTIF($I$3:I2499,F2500)<1,F2500,"") | J2500: =IF(OR(I2500=0,I2500<>""),ROW(),"") | K2500: =IF(Inventaires!I2501="","",Inventaires!I2501) | L2500: =IF(OR(K2500="",K2500=K2501),"",ROW())

Sheet Info
A1: Rapport conçu pour 2500 items, catégorie est sous catégories
A2: Coller le rapports d'invetaire généré dans l'onglet inventaire en respectant l'ordre des colonnes,
A3: puis triez ces données par catégorie croissante, sous-catégories croissantes et par références croissantes.
A5: Pour l'utilisation, dans Rapport :
A6: 1) en A2 permet de choisir la catégorie voulue
A7: 2) en A3 permet de choisir la sous-catégorie voulue
A8: en mettant 0 dans sous-catégorie vous ne verrez apparaître que les produits sans sous-catégorie
A9: Vous devez remettre à sous-catégorie ou catégorie pour pourvoir utilisé l'une des 2 fonctions
A10: En choisissant une sous-catégorie ou catégorie vous verrez apparaître les produits y correspondant
A11: 3) les totals se recalcule en fonction des produits affichés
A13: Aussi dans option, Activé le calcul itératif pour ne pas avoir de message d'erreur. Mettre le Nb maximal d'itérations à 2
