Workbook
Name Categorie: INDIRECT("LD!A2:A"&LD!#REF!,1)

Sheet Rapport
A1: SÉLECTION | B1: NOM DU PRODUIT | C1: =A3 -> SOUS-CATÉGORIE | D1: REFERENCE | E1: CODE-BARRES | F1: QTE | G1: STATUT | H1: EMPLACEMENT | I1: Valeur | J1: =IF(K1>0,"",Inventaires!A1) -> 17 | K1: =Inventaires!B1 -> 0
A2: 0900 Rhume et toux | B2: =IF(AND($K$1=0,ROW()-1<=$J$1),INDIRECT("Inventaires!D"&SMALL(Inventaires!$A$3:$A$2500,ROW()-1),1),IF(AND(ROW()-1<=$K$1,$K$1>0),INDIRECT("Inventaires!D"&SMALL(Inventaires!$B$3:$B$2500,ROW()-1),1),"")) -> Helixia toux enfant 100ml | C2: =IF(AND($K$1=0,ROW()-1<=$J$1),INDIRECT("Inventaires!I"&SMALL(Inventaires!$A$3:$A$2500,ROW()-1),1),IF(AND(ROW()-1<=$K$1,$K$1>0),INDIRECT("Inventaires!I"&SMALL(Inventaires!$B$3:$B$2500,ROW()-1),1),"")) -> 0910 RHUME TOUX LIQUIDES | D2: =IF(AND($K$1=0,ROW()-1<=$J$1),INDIRECT("Inventaires!C"&SMALL(Inventaires!$A$3:$A$2500,ROW()-1),1),IF(AND(ROW()-1<=$K$1,$K$1>0),INDIRECT("Inventaires!C"&SMALL(Inventaires!$B$3:$B$2500,ROW()-1),1),"")) -> 026-616 | E2: =IF(AND($K$1=0,ROW()-1<=$J$1),INDIRECT("Inventaires!Q"&SMALL(Inventaires!$A$3:$A$2500,ROW()-1),1),IF(AND(ROW()-1<=$K$1,$K$1>0),INDIRECT("Inventaires!Q"&SMALL(Inventaires!$B$3:$B$2500,ROW()-1),1),"")) -> 625972013430 | F2: =IF(AND($K$1=0,ROW()-1<=$J$1),INDIRECT("Inventaires!J"&SMALL(Inventaires!$A$3:$A$2500,ROW()-1),1),IF(AND(ROW()-1<=$K$1,$K$1>0),INDIRECT("Inventaires!J"&SMALL(Inventaires!$B$3:$B$2500,ROW()-1),1),"")) -> 18 | G2: =IF(AND($K$1=0,ROW()-1<=$J$1),INDIRECT("Inventaires!K"&SMALL(Inventaires!$A$3:$A$2500,ROW()-1),1),IF(AND(ROW()-1<=$K$1,$K$1>0),INDIRECT("Inventaires!K"&SMALL(Inventaires!$B$3:$B$2500,ROW()-1),1),"")) -> 0 | H2: =IF(AND($K$1=0,ROW()-1<=$J$1),INDIRECT("Inventaires!O"&SMALL(Inventaires!$A$3:$A$2500,ROW()-1),1),IF(AND(ROW()-1<=$K$1,$K$1>0),INDIRECT("Inventaires!O"&SMALL(Inventaires!$B$3:$B$2500,ROW()-1),1),"")) -> 0 | I2: =IF(AND($K$1=0,ROW()-1<=$J$1),INDIRECT("Inventaires!M"&SMALL(Inventaires!$A$3:$A$2500,ROW()-1),1),IF(AND(ROW()-1<=$K$1,$K$1>0),INDIRECT("Inventaires!M"&SMALL(Inventaires!$B$3:$B$2500,ROW()-1),1),"")) -> 93.96 | K2: =IF(ROW()-1<=$K$1,ROW()-1,"")
A3: SOUS-CATÉGORIE | B3: =IF(AND($K$1=0,ROW()-1<=$J$1),INDIRECT("Inventaires!D"&SMALL(Inventaires!$A$3:$A$2500,ROW()-1),1),IF(AND(ROW()-1<=$K$1,$K$1>0),INDIRECT("Inventaires!D"&SMALL(Inventaires!$B$3:$B$2500,ROW()-1),1),"")) -> Helixia Toux adulte 100ml | C3: =IF(AND($K$1=0,ROW()-1<=$J$1),INDIRECT("Inventaires!I"&SMALL(Inventaires!$A$3:$A$2500,ROW()-1),1),IF(AND(ROW()-1<=$K$1,$K$1>0),INDIRECT("Inventaires!I"&SMALL(Inventaires!$B$3:$B$2500,ROW()-1),1),"")) -> 0910 RHUME TOUX LIQUIDES | D3: =IF(AND($K$1=0,ROW()-1<=$J$1),INDIRECT("Inventaires!C"&SMALL(Inventaires!$A$3:$A$2500,ROW()-1),1),IF(AND(ROW()-1<=$K$1,$K$1>0),INDIRECT("Inventaires!C"&SMALL(Inventaires!$B$3:$B$2500,ROW()-1),1),"")) -> 026-619 | E3: =IF(AND($K$1=0,ROW()-1<=$J$1),INDIRECT("Inventaires!Q"&SMALL(Inventaires!$A$3:$A$2500,ROW()-1),1),IF(AND(ROW()-1<=$K$1,$K$1>0),INDIRECT("Inventaires!Q"&SMALL(Inventaires!$B$3:$B$2500,ROW()-1),1),"")) -> 625972013324 | F3: =IF(AND($K$1=0,ROW()-1<=$J$1),INDIRECT("Inventaires!J"&SMALL(Inventaires!$A$3:$A$2500,ROW()-1),1),IF(AND(ROW()-1<=$K$1,$K$1>0),INDIRECT("Inventaires!J"&SMALL(Inventaires!$B$3:$B$2500,ROW()-1),1),"")) -> 17 | G3: =IF(AND($K$1=0,ROW()-1<=$J$1),INDIRECT("Inventaires!K"&SMALL(Inventaires!$A$3:$A$2500,ROW()-1),1),IF(AND(ROW()-1<=$K$1,$K$1>0),INDIRECT("Inventaires!K"&SMALL(Inventaires!$B$3:$B$2500,ROW()-1),1),"")) -> 0 | H3: =IF(AND($K$1=0,ROW()-1<=$J$1),INDIRECT("Inventaires!O"&SMALL(Inventaires!$A$3:$A$2500,ROW()-1),1),IF(AND(ROW()-1<=$K$1,$K$1>0),INDIRECT("Inventaires!O"&SMALL(Inventaires!$B$3:$B$2500,ROW()-1),1),"")) -> 0 | I3: =IF(AND($K$1=0,ROW()-1<=$J$1),INDIRECT("Inventaires!M"&SMALL(Inventaires!$A$3:$A$2500,ROW()-1),1),IF(AND(ROW()-1<=$K$1,$K$1>0),INDIRECT("Inventaires!M"&SMALL(Inventaires!$B$3:$B$2500,ROW()-1),1),"")) -> 88.74 | K3: =IF(ROW()-1<=$K$1,ROW()-1,"")
B4: =IF(AND($K$1=0,ROW()-1<=$J$1),INDIRECT("Inventaires!D"&SMALL(Inventaires!$A$3:$A$2500,ROW()-1),1),IF(AND(ROW()-1<=$K$1,$K$1>0),INDIRECT("Inventaires!D"&SMALL(Inventaires!$B$3:$B$2500,ROW()-1),1),"")) -> Helixia Toux enfants 200ml | C4: =IF(AND($K$1=0,ROW()-1<=$J$1),INDIRECT("Inventaires!I"&SMALL(Inventaires!$A$3:$A$2500,ROW()-1),1),IF(AND(ROW()-1<=$K$1,$K$1>0),INDIRECT("Inventaires!I"&SMALL(Inventaires!$B$3:$B$2500,ROW()-1),1),"")) -> 0910 RHUME TOUX LIQUIDES | D4: =IF(AND($K$1=0,ROW()-1<=$J$1),INDIRECT("Inventaires!C"&SMALL(Inventaires!$A$3:$A$2500,ROW()-1),1),IF(AND(ROW()-1<=$K$1,$K$1>0),INDIRECT("Inventaires!C"&SMALL(Inventaires!$B$3:$B$2500,ROW()-1),1),"")) -> 038-870 | E4: =IF(AND($K$1=0,ROW()-1<=$J$1),INDIRECT("Inventaires!Q"&SMALL(Inventaires!$A$3:$A$2500,ROW()-1),1),IF(AND(ROW()-1<=$K$1,$K$1>0),INDIRECT("Inventaires!Q"&SMALL(Inventaires!$B$3:$B$2500,ROW()-1),1),"")) -> 625972019289 | F4: =IF(AND($K$1=0,ROW()-1<=$J$1),INDIRECT("Inventaires!J"&SMALL(Inventaires!$A$3:$A$2500,ROW()-1),1),IF(AND(ROW()-1<=$K$1,$K$1>0),INDIRECT("Inventaires!J"&SMALL(Inventaires!$B$3:$B$2500,ROW()-1),1),"")) -> 10 | G4: =IF(AND($K$1=0,ROW()-1<=$J$1),INDIRECT("Inventaires!K"&SMALL(Inventaires!$A$3:$A$2500,ROW()-1),1),IF(AND(ROW()-1<=$K$1,$K$1>0),INDIRECT("Inventaires!K"&SMALL(Inventaires!$B$3:$B$2500,ROW()-1),1),"")) -> 0 | H4: =IF(AND($K$1=0,ROW()-1<=$J$1),INDIRECT("Inventaires!O"&SMALL(Inventaires!$A$3:$A$2500,ROW()-1),1),IF(AND(ROW()-1<=$K$1,$K$1>0),INDIRECT("Inventaires!O"&SMALL(Inventaires!$B$3:$B$2500,ROW()-1),1),"")) -> 0 | I4: =IF(AND($K$1=0,ROW()-1<=$J$1),INDIRECT("Inventaires!M"&SMALL(Inventaires!$A$3:$A$2500,ROW()-1),1),IF(AND(ROW()-1<=$K$1,$K$1>0),INDIRECT("Inventaires!M"&SMALL(Inventaires!$B$3:$B$2500,ROW()-1),1),"")) -> 70.8 | K4: =IF(ROW()-1<=$K$1,ROW()-1,"")
A5: TOTAL PAR SÉLECTION: | B5: =IF(AND($K$1=0,ROW()-1<=$J$1),INDIRECT("Inventaires!D"&SMALL(Inventaires!$A$3:$A$2500,ROW()-1),1),IF(AND(ROW()-1<=$K$1,$K$1>0),INDIRECT("Inventaires!D"&SMALL(Inventaires!$B$3:$B$2500,ROW()-1),1),"")) -> Helixia toux adulte 200ml | C5: =IF(AND($K$1=0,ROW()-1<=$J$1),INDIRECT("Inventaires!I"&SMALL(Inventaires!$A$3:$A$2500,ROW()-1),1),IF(AND(ROW()-1<=$K$1,$K$1>0),INDIRECT("Inventaires!I"&SMALL(Inventaires!$B$3:$B$2500,ROW()-1),1),"")) -> 0910 RHUME TOUX LIQUIDES | D5: =IF(AND($K$1=0,ROW()-1<=$J$1),INDIRECT("Inventaires!C"&SMALL(Inventaires!$A$3:$A$2500,ROW()-1),1),IF(AND(ROW()-1<=$K$1,$K$1>0),INDIRECT("Inventaires!C"&SMALL(Inventaires!$B$3:$B$2500,ROW()-1),1),"")) -> 038-873 | E5: =IF(AND($K$1=0,ROW()-1<=$J$1),INDIRECT("Inventaires!Q"&SMALL(Inventaires!$A$3:$A$2500,ROW()-1),1),IF(AND(ROW()-1<=$K$1,$K$1>0),INDIRECT("Inventaires!Q"&SMALL(Inventaires!$B$3:$B$2500,ROW()-1),1),"")) -> 625972019272 | F5: =IF(AND($K$1=0,ROW()-1<=$J$1),INDIRECT("Inventaires!J"&SMALL(Inventaires!$A$3:$A$2500,ROW()-1),1),IF(AND(ROW()-1<=$K$1,$K$1>0),INDIRECT("Inventaires!J"&SMALL(Inventaires!$B$3:$B$2500,ROW()-1),1),"")) -> 10 | G5: =IF(AND($K$1=0,ROW()-1<=$J$1),INDIRECT("Inventaires!K"&SMALL(Inventaires!$A$3:$A$2500,ROW()-1),1),IF(AND(ROW()-1<=$K$1,$K$1>0),INDIRECT("Inventaires!K"&SMALL(Inventaires!$B$3:$B$2500,ROW()-1),1),"")) -> 0 | H5: =IF(AND($K$1=0,ROW()-1<=$J$1),INDIRECT("Inventaires!O"&SMALL(Inventaires!$A$3:$A$2500,ROW()-1),1),IF(AND(ROW()-1<=$K$1,$K$1>0),INDIRECT("Inventaires!O"&SMALL(Inventaires!$B$3:$B$2500,ROW()-1),1),"")) -> 0 | I5: =IF(AND($K$1=0,ROW()-1<=$J$1),INDIRECT("Inventaires!M"&SMALL(Inventaires!$A$3:$A$2500,ROW()-1),1),IF(AND(ROW()-1<=$K$1,$K$1>0),INDIRECT("Inventaires!M"&SMALL(Inventaires!$B$3:$B$2500,ROW()-1),1),"")) -> 71.2 | K5: =IF(ROW()-1<=$K$1,ROW()-1,"")
A6: =SUM(I:I) -> 636.85 | B6: =IF(AND($K$1=0,ROW()-1<=$J$1),INDIRECT("Inventaires!D"&SMALL(Inventaires!$A$3:$A$2500,ROW()-1),1),IF(AND(ROW()-1<=$K$1,$K$1>0),INDIRECT("Inventaires!D"&SMALL(Inventaires!$B$3:$B$2500,ROW()-1),1),"")) -> Atoma Pastille Menthole Eucalyptus Citron | C6: =IF(AND($K$1=0,ROW()-1<=$J$1),INDIRECT("Inventaires!I"&SMALL(Inventaires!$A$3:$A$2500,ROW()-1),1),IF(AND(ROW()-1<=$K$1,$K$1>0),INDIRECT("Inventaires!I"&SMALL(Inventaires!$B$3:$B$2500,ROW()-1),1),"")) -> 0920 RHUME TOUX PASTILLES | D6: =IF(AND($K$1=0,ROW()-1<=$J$1),INDIRECT("Inventaires!C"&SMALL(Inventaires!$A$3:$A$2500,ROW()-1),1),IF(AND(ROW()-1<=$K$1,$K$1>0),INDIRECT("Inventaires!C"&SMALL(Inventaires!$B$3:$B$2500,ROW()-1),1),"")) -> 050-296 | E6: =IF(AND($K$1=0,ROW()-1<=$J$1),INDIRECT("Inventaires!Q"&SMALL(Inventaires!$A$3:$A$2500,ROW()-1),1),IF(AND(ROW()-1<=$K$1,$K$1>0),INDIRECT("Inventaires!Q"&SMALL(Inventaires!$B$3:$B$2500,ROW()-1),1),"")) -> 777747101313 | F6: =IF(AND($K$1=0,ROW()-1<=$J$1),INDIRECT("Inventaires!J"&SMALL(Inventaires!$A$3:$A$2500,ROW()-1),1),IF(AND(ROW()-1<=$K$1,$K$1>0),INDIRECT("Inventaires!J"&SMALL(Inventaires!$B$3:$B$2500,ROW()-1),1),"")) -> 36 | G6: =IF(AND($K$1=0,ROW()-1<=$J$1),INDIRECT("Inventaires!K"&SMALL(Inventaires!$A$3:$A$2500,ROW()-1),1),IF(AND(ROW()-1<=$K$1,$K$1>0),INDIRECT("Inventaires!K"&SMALL(Inventaires!$B$3:$B$2500,ROW()-1),1),"")) -> 0 | H6: =IF(AND($K$1=0,ROW()-1<=$J$1),INDIRECT("Inventaires!O"&SMALL(Inventaires!$A$3:$A$2500,ROW()-1),1),IF(AND(ROW()-1<=$K$1,$K$1>0),INDIRECT("Inventaires!O"&SMALL(Inventaires!$B$3:$B$2500,ROW()-1),1),"")) -> 0 | I6: =IF(AND($K$1=0,ROW()-1<=$J$1),INDIRECT("Inventaires!M"&SMALL(Inventaires!$A$3:$A$2500,ROW()-1),1),IF(AND(ROW()-1<=$K$1,$K$1>0),INDIRECT("Inventaires!M"&SMALL(Inventaires!$B$3:$B$2500,ROW()-1),1),"")) -> 40.32 | K6: =IF(ROW()-1<=$K$1,ROW()-1,"")
A7: NOMBRE D'ITEMS PAR SÉLECTION | B7: =IF(AND($K$1=0,ROW()-1<=$J$1),INDIRECT("Inventaires!D"&SMALL(Inventaires!$A$3:$A$2500,ROW()-1),1),IF(AND(ROW()-1<=$K$1,$K$1>0),INDIRECT("Inventaires!D"&SMALL(Inventaires!$B$3:$B$2500,ROW()-1),1),"")) -> Neilmed Sinues Rinse 50u | C7: =IF(AND($K$1=0,ROW()-1<=$J$1),INDIRECT("Inventaires!I"&SMALL(Inventaires!$A$3:$A$2500,ROW()-1),1),IF(AND(ROW()-1<=$K$1,$K$1>0),INDIRECT("Inventaires!I"&SMALL(Inventaires!$B$3:$B$2500,ROW()-1),1),"")) -> 0950 RHUME TOUX GOUTTES VAP.NASAUX | D7: =IF(AND($K$1=0,ROW()-1<=$J$1),INDIRECT("Inventaires!C"&SMALL(Inventaires!$A$3:$A$2500,ROW()-1),1),IF(AND(ROW()-1<=$K$1,$K$1>0),INDIRECT("Inventaires!C"&SMALL(Inventaires!$B$3:$B$2500,ROW()-1),1),"")) -> 645-598 | E7: =IF(AND($K$1=0,ROW()-1<=$J$1),INDIRECT("Inventaires!Q"&SMALL(Inventaires!$A$3:$A$2500,ROW()-1),1),IF(AND(ROW()-1<=$K$1,$K$1>0),INDIRECT("Inventaires!Q"&SMALL(Inventaires!$B$3:$B$2500,ROW()-1),1),"")) -> 705928001008 | F7: =IF(AND($K$1=0,ROW()-1<=$J$1),INDIRECT("Inventaires!J"&SMALL(Inventaires!$A$3:$A$2500,ROW()-1),1),IF(AND(ROW()-1<=$K$1,$K$1>0),INDIRECT("Inventaires!J"&SMALL(Inventaires!$B$3:$B$2500,ROW()-1),1),"")) -> 23 | G7: =IF(AND($K$1=0,ROW()-1<=$J$1),INDIRECT("Inventaires!K"&SMALL(Inventaires!$A$3:$A$2500,ROW()-1),1),IF(AND(ROW()-1<=$K$1,$K$1>0),INDIRECT("Inventaires!K"&SMALL(Inventaires!$B$3:$B$2500,ROW()-1),1),"")) -> 0 | H7: =IF(AND($K$1=0,ROW()-1<=$J$1),INDIRECT("Inventaires!O"&SMALL(Inventaires!$A$3:$A$2500,ROW()-1),1),IF(AND(ROW()-1<=$K$1,$K$1>0),INDIRECT("Inventaires!O"&SMALL(Inventaires!$B$3:$B$2500,ROW()-1),1),"")) -> ND | I7: =IF(AND($K$1=0,ROW()-1<=$J$1),INDIRECT("Inventaires!M"&SMALL(Inventaires!$A$3:$A$2500,ROW()-1),1),IF(AND(ROW()-1<=$K$1,$K$1>0),INDIRECT("Inventaires!M"&SMALL(Inventaires!$B$3:$B$2500,ROW()-1),1),"")) -> 206.31 | K7: =IF(ROW()-1<=$K$1,ROW()-1,"")
A8: =_xlfn.IFS(K1=0,J1,J1>0,K1) -> 17 | B8: =IF(AND($K$1=0,ROW()-1<=$J$1),INDIRECT("Inventaires!D"&SMALL(Inventaires!$A$3:$A$2500,ROW()-1),1),IF(AND(ROW()-1<=$K$1,$K$1>0),INDIRECT("Inventaires!D"&SMALL(Inventaires!$B$3:$B$2500,ROW()-1),1),"")) -> Sucons au miel Labonté Rose | C8: =IF(AND($K$1=0,ROW()-1<=$J$1),INDIRECT("Inventaires!I"&SMALL(Inventaires!$A$3:$A$2500,ROW()-1),1),IF(AND(ROW()-1<=$K$1,$K$1>0),INDIRECT("Inventaires!I"&SMALL(Inventaires!$B$3:$B$2500,ROW()-1),1),"")) -> 0 | D8: =IF(AND($K$1=0,ROW()-1<=$J$1),INDIRECT("Inventaires!C"&SMALL(Inventaires!$A$3:$A$2500,ROW()-1),1),IF(AND(ROW()-1<=$K$1,$K$1>0),INDIRECT("Inventaires!C"&SMALL(Inventaires!$B$3:$B$2500,ROW()-1),1),"")) -> 006-067 | E8: =IF(AND($K$1=0,ROW()-1<=$J$1),INDIRECT("Inventaires!Q"&SMALL(Inventaires!$A$3:$A$2500,ROW()-1),1),IF(AND(ROW()-1<=$K$1,$K$1>0),INDIRECT("Inventaires!Q"&SMALL(Inventaires!$B$3:$B$2500,ROW()-1),1),"")) -> 626665006067 | F8: =IF(AND($K$1=0,ROW()-1<=$J$1),INDIRECT("Inventaires!J"&SMALL(Inventaires!$A$3:$A$2500,ROW()-1),1),IF(AND(ROW()-1<=$K$1,$K$1>0),INDIRECT("Inventaires!J"&SMALL(Inventaires!$B$3:$B$2500,ROW()-1),1),"")) -> 0 | G8: =IF(AND($K$1=0,ROW()-1<=$J$1),INDIRECT("Inventaires!K"&SMALL(Inventaires!$A$3:$A$2500,ROW()-1),1),IF(AND(ROW()-1<=$K$1,$K$1>0),INDIRECT("Inventaires!K"&SMALL(Inventaires!$B$3:$B$2500,ROW()-1),1),"")) -> RUPTURE | H8: =IF(AND($K$1=0,ROW()-1<=$J$1),INDIRECT("Inventaires!O"&SMALL(Inventaires!$A$3:$A$2500,ROW()-1),1),IF(AND(ROW()-1<=$K$1,$K$1>0),INDIRECT("Inventaires!O"&SMALL(Inventaires!$B$3:$B$2500,ROW()-1),1),"")) -> 0 | I8: =IF(AND($K$1=0,ROW()-1<=$J$1),INDIRECT("Inventaires!M"&SMALL(Inventaires!$A$3:$A$2500,ROW()-1),1),IF(AND(ROW()-1<=$K$1,$K$1>0),INDIRECT("Inventaires!M"&SMALL(Inventaires!$B$3:$B$2500,ROW()-1),1),"")) -> 0 | K8: =IF(ROW()-1<=$K$1,ROW()-1,"")
A9: TOTAL EN INVENTAIRE: | B9: =IF(AND($K$1=0,ROW()-1<=$J$1),INDIRECT("Inventaires!D"&SMALL(Inventaires!$A$3:$A$2500,ROW()-1),1),IF(AND(ROW()-1<=$K$1,$K$1>0),INDIRECT("Inventaires!D"&SMALL(Inventaires!$B$3:$B$2500,ROW()-1),1),"")) -> Pastilles au miel Labonté | C9: =IF(AND($K$1=0,ROW()-1<=$J$1),INDIRECT("Inventaires!I"&SMALL(Inventaires!$A$3:$A$2500,ROW()-1),1),IF(AND(ROW()-1<=$K$1,$K$1>0),INDIRECT("Inventaires!I"&SMALL(Inventaires!$B$3:$B$2500,ROW()-1),1),"")) -> 0 | D9: =IF(AND($K$1=0,ROW()-1<=$J$1),INDIRECT("Inventaires!C"&SMALL(Inventaires!$A$3:$A$2500,ROW()-1),1),IF(AND(ROW()-1<=$K$1,$K$1>0),INDIRECT("Inventaires!C"&SMALL(Inventaires!$B$3:$B$2500,ROW()-1),1),"")) -> 006-159 | E9: =IF(AND($K$1=0,ROW()-1<=$J$1),INDIRECT("Inventaires!Q"&SMALL(Inventaires!$A$3:$A$2500,ROW()-1),1),IF(AND(ROW()-1<=$K$1,$K$1>0),INDIRECT("Inventaires!Q"&SMALL(Inventaires!$B$3:$B$2500,ROW()-1),1),"")) -> 626665006159 | F9: =IF(AND($K$1=0,ROW()-1<=$J$1),INDIRECT("Inventaires!J"&SMALL(Inventaires!$A$3:$A$2500,ROW()-1),1),IF(AND(ROW()-1<=$K$1,$K$1>0),INDIRECT("Inventaires!J"&SMALL(Inventaires!$B$3:$B$2500,ROW()-1),1),"")) -> 0 | G9: =IF(AND($K$1=0,ROW()-1<=$J$1),INDIRECT("Inventaires!K"&SMALL(Inventaires!$A$3:$A$2500,ROW()-1),1),IF(AND(ROW()-1<=$K$1,$K$1>0),INDIRECT("Inventaires!K"&SMALL(Inventaires!$B$3:$B$2500,ROW()-1),1),"")) -> RUPTURE | H9: =IF(AND($K$1=0,ROW()-1<=$J$1),INDIRECT("Inventaires!O"&SMALL(Inventaires!$A$3:$A$2500,ROW()-1),1),IF(AND(ROW()-1<=$K$1,$K$1>0),INDIRECT("Inventaires!O"&SMALL(Inventaires!$B$3:$B$2500,ROW()-1),1),"")) -> 0 | I9: =IF(AND($K$1=0,ROW()-1<=$J$1),INDIRECT("Inventaires!M"&SMALL(Inventaires!$A$3:$A$2500,ROW()-1),1),IF(AND(ROW()-1<=$K$1,$K$1>0),INDIRECT("Inventaires!M"&SMALL(Inventaires!$B$3:$B$2500,ROW()-1),1),"")) -> 0 | K9: =IF(ROW()-1<=$K$1,ROW()-1,"")
A10: =SUM(Inventaires!M:M) -> 7434.446 | B10: =IF(AND($K$1=0,ROW()-1<=$J$1),INDIRECT("Inventaires!D"&SMALL(Inventaires!$A$3:$A$2500,ROW()-1),1),IF(AND(ROW()-1<=$K$1,$K$1>0),INDIRECT("Inventaires!D"&SMALL(Inventaires!$B$3:$B$2500,ROW()-1),1),"")) -> Pastilles au miel Labonté Orange | C10: =IF(AND($K$1=0,ROW()-1<=$J$1),INDIRECT("Inventaires!I"&SMALL(Inventaires!$A$3:$A$2500,ROW()-1),1),IF(AND(ROW()-1<=$K$1,$K$1>0),INDIRECT("Inventaires!I"&SMALL(Inventaires!$B$3:$B$2500,ROW()-1),1),"")) -> 0 | D10: =IF(AND($K$1=0,ROW()-1<=$J$1),INDIRECT("Inventaires!C"&SMALL(Inventaires!$A$3:$A$2500,ROW()-1),1),IF(AND(ROW()-1<=$K$1,$K$1>0),INDIRECT("Inventaires!C"&SMALL(Inventaires!$B$3:$B$2500,ROW()-1),1),"")) -> 006-166 | E10: =IF(AND($K$1=0,ROW()-1<=$J$1),INDIRECT("Inventaires!Q"&SMALL(Inventaires!$A$3:$A$2500,ROW()-1),1),IF(AND(ROW()-1<=$K$1,$K$1>0),INDIRECT("Inventaires!Q"&SMALL(Inventaires!$B$3:$B$2500,ROW()-1),1),"")) -> 626665006166 | F10: =IF(AND($K$1=0,ROW()-1<=$J$1),INDIRECT("Inventaires!J"&SMALL(Inventaires!$A$3:$A$2500,ROW()-1),1),IF(AND(ROW()-1<=$K$1,$K$1>0),INDIRECT("Inventaires!J"&SMALL(Inventaires!$B$3:$B$2500,ROW()-1),1),"")) -> 0 | G10: =IF(AND($K$1=0,ROW()-1<=$J$1),INDIRECT("Inventaires!K"&SMALL(Inventaires!$A$3:$A$2500,ROW()-1),1),IF(AND(ROW()-1<=$K$1,$K$1>0),INDIRECT("Inventaires!K"&SMALL(Inventaires!$B$3:$B$2500,ROW()-1),1),"")) -> RUPTURE | H10: =IF(AND($K$1=0,ROW()-1<=$J$1),INDIRECT("Inventaires!O"&SMALL(Inventaires!$A$3:$A$2500,ROW()-1),1),IF(AND(ROW()-1<=$K$1,$K$1>0),INDIRECT("Inventaires!O"&SMALL(Inventaires!$B$3:$B$2500,ROW()-1),1),"")) -> 0 | I10: =IF(AND($K$1=0,ROW()-1<=$J$1),INDIRECT("Inventaires!M"&SMALL(Inventaires!$A$3:$A$2500,ROW()-1),1),IF(AND(ROW()-1<=$K$1,$K$1>0),INDIRECT("Inventaires!M"&SMALL(Inventaires!$B$3:$B$2500,ROW()-1),1),"")) -> 0 | K10: =IF(ROW()-1<=$K$1,ROW()-1,"")
A11: NOMBRE D'ITEMS EN INVENTAIRE | B11: =IF(AND($K$1=0,ROW()-1<=$J$1),INDIRECT("Inventaires!D"&SMALL(Inventaires!$A$3:$A$2500,ROW()-1),1),IF(AND(ROW()-1<=$K$1,$K$1>0),INDIRECT("Inventaires!D"&SMALL(Inventaires!$B$3:$B$2500,ROW()-1),1),"")) -> Pastilles au miel labonté Vert | C11: =IF(AND($K$1=0,ROW()-1<=$J$1),INDIRECT("Inventaires!I"&SMALL(Inventaires!$A$3:$A$2500,ROW()-1),1),IF(AND(ROW()-1<=$K$1,$K$1>0),INDIRECT("Inventaires!I"&SMALL(Inventaires!$B$3:$B$2500,ROW()-1),1),"")) -> 0 | D11: =IF(AND($K$1=0,ROW()-1<=$J$1),INDIRECT("Inventaires!C"&SMALL(Inventaires!$A$3:$A$2500,ROW()-1),1),IF(AND(ROW()-1<=$K$1,$K$1>0),INDIRECT("Inventaires!C"&SMALL(Inventaires!$B$3:$B$2500,ROW()-1),1),"")) -> 006-173 | E11: =IF(AND($K$1=0,ROW()-1<=$J$1),INDIRECT("Inventaires!Q"&SMALL(Inventaires!$A$3:$A$2500,ROW()-1),1),IF(AND(ROW()-1<=$K$1,$K$1>0),INDIRECT("Inventaires!Q"&SMALL(Inventaires!$B$3:$B$2500,ROW()-1),1),"")) -> 626665006173 | F11: =IF(AND($K$1=0,ROW()-1<=$J$1),INDIRECT("Inventaires!J"&SMALL(Inventaires!$A$3:$A$2500,ROW()-1),1),IF(AND(ROW()-1<=$K$1,$K$1>0),INDIRECT("Inventaires!J"&SMALL(Inventaires!$B$3:$B$2500,ROW()-1),1),"")) -> 0 | G11: =IF(AND($K$1=0,ROW()-1<=$J$1),INDIRECT("Inventaires!K"&SMALL(Inventaires!$A$3:$A$2500,ROW()-1),1),IF(AND(ROW()-1<=$K$1,$K$1>0),INDIRECT("Inventaires!K"&SMALL(Inventaires!$B$3:$B$2500,ROW()-1),1),"")) -> RUPTURE | H11: =IF(AND($K$1=0,ROW()-1<=$J$1),INDIRECT("Inventaires!O"&SMALL(Inventaires!$A$3:$A$2500,ROW()-1),1),IF(AND(ROW()-1<=$K$1,$K$1>0),INDIRECT("Inventaires!O"&SMALL(Inventaires!$B$3:$B$2500,ROW()-1),1),"")) -> 0 | I11: =IF(AND($K$1=0,ROW()-1<=$J$1),INDIRECT("Inventaires!M"&SMALL(Inventaires!$A$3:$A$2500,ROW()-1),1),IF(AND(ROW()-1<=$K$1,$K$1>0),INDIRECT("Inventaires!M"&SMALL(Inventaires!$B$3:$B$2500,ROW()-1),1),"")) -> 0 | K11: =IF(ROW()-1<=$K$1,ROW()-1,"")
A12: =SUM(Inventaires!J:J) -> 11248 | B12: =IF(AND($K$1=0,ROW()-1<=$J$1),INDIRECT("Inventaires!D"&SMALL(Inventaires!$A$3:$A$2500,ROW()-1),1),IF(AND(ROW()-1<=$K$1,$K$1>0),INDIRECT("Inventaires!D"&SMALL(Inventaires!$B$3:$B$2500,ROW()-1),1),"")) -> Pastilles au miel labonté Bleu | C12: =IF(AND($K$1=0,ROW()-1<=$J$1),INDIRECT("Inventaires!I"&SMALL(Inventaires!$A$3:$A$2500,ROW()-1),1),IF(AND(ROW()-1<=$K$1,$K$1>0),INDIRECT("Inventaires!I"&SMALL(Inventaires!$B$3:$B$2500,ROW()-1),1),"")) -> 0 | D12: =IF(AND($K$1=0,ROW()-1<=$J$1),INDIRECT("Inventaires!C"&SMALL(Inventaires!$A$3:$A$2500,ROW()-1),1),IF(AND(ROW()-1<=$K$1,$K$1>0),INDIRECT("Inventaires!C"&SMALL(Inventaires!$B$3:$B$2500,ROW()-1),1),"")) -> 006-180 | E12: =IF(AND($K$1=0,ROW()-1<=$J$1),INDIRECT("Inventaires!Q"&SMALL(Inventaires!$A$3:$A$2500,ROW()-1),1),IF(AND(ROW()-1<=$K$1,$K$1>0),INDIRECT("Inventaires!Q"&SMALL(Inventaires!$B$3:$B$2500,ROW()-1),1),"")) -> 626665006180 | F12: =IF(AND($K$1=0,ROW()-1<=$J$1),INDIRECT("Inventaires!J"&SMALL(Inventaires!$A$3:$A$2500,ROW()-1),1),IF(AND(ROW()-1<=$K$1,$K$1>0),INDIRECT("Inventaires!J"&SMALL(Inventaires!$B$3:$B$2500,ROW()-1),1),"")) -> 0 | G12: =IF(AND($K$1=0,ROW()-1<=$J$1),INDIRECT("Inventaires!K"&SMALL(Inventaires!$A$3:$A$2500,ROW()-1),1),IF(AND(ROW()-1<=$K$1,$K$1>0),INDIRECT("Inventaires!K"&SMALL(Inventaires!$B$3:$B$2500,ROW()-1),1),"")) -> RUPTURE | H12: =IF(AND($K$1=0,ROW()-1<=$J$1),INDIRECT("Inventaires!O"&SMALL(Inventaires!$A$3:$A$2500,ROW()-1),1),IF(AND(ROW()-1<=$K$1,$K$1>0),INDIRECT("Inventaires!O"&SMALL(Inventaires!$B$3:$B$2500,ROW()-1),1),"")) -> 0 | I12: =IF(AND($K$1=0,ROW()-1<=$J$1),INDIRECT("Inventaires!M"&SMALL(Inventaires!$A$3:$A$2500,ROW()-1),1),IF(AND(ROW()-1<=$K$1,$K$1>0),INDIRECT("Inventaires!M"&SMALL(Inventaires!$B$3:$B$2500,ROW()-1),1),"")) -> 0 | K12: =IF(ROW()-1<=$K$1,ROW()-1,"")
A13: ITEMS EN RUPTURE PAR SÉLECTION | B13: =IF(AND($K$1=0,ROW()-1<=$J$1),INDIRECT("Inventaires!D"&SMALL(Inventaires!$A$3:$A$2500,ROW()-1),1),IF(AND(ROW()-1<=$K$1,$K$1>0),INDIRECT("Inventaires!D"&SMALL(Inventaires!$B$3:$B$2500,ROW()-1),1),"")) -> Pastilles au miel labonté rouge | C13: =IF(AND($K$1=0,ROW()-1<=$J$1),INDIRECT("Inventaires!I"&SMALL(Inventaires!$A$3:$A$2500,ROW()-1),1),IF(AND(ROW()-1<=$K$1,$K$1>0),INDIRECT("Inventaires!I"&SMALL(Inventaires!$B$3:$B$2500,ROW()-1),1),"")) -> 0 | D13: =IF(AND($K$1=0,ROW()-1<=$J$1),INDIRECT("Inventaires!C"&SMALL(Inventaires!$A$3:$A$2500,ROW()-1),1),IF(AND(ROW()-1<=$K$1,$K$1>0),INDIRECT("Inventaires!C"&SMALL(Inventaires!$B$3:$B$2500,ROW()-1),1),"")) -> 006-265 | E13: =IF(AND($K$1=0,ROW()-1<=$J$1),INDIRECT("Inventaires!Q"&SMALL(Inventaires!$A$3:$A$2500,ROW()-1),1),IF(AND(ROW()-1<=$K$1,$K$1>0),INDIRECT("Inventaires!Q"&SMALL(Inventaires!$B$3:$B$2500,ROW()-1),1),"")) -> 626665006265 | F13: =IF(AND($K$1=0,ROW()-1<=$J$1),INDIRECT("Inventaires!J"&SMALL(Inventaires!$A$3:$A$2500,ROW()-1),1),IF(AND(ROW()-1<=$K$1,$K$1>0),INDIRECT("Inventaires!J"&SMALL(Inventaires!$B$3:$B$2500,ROW()-1),1),"")) -> 0 | G13: =IF(AND($K$1=0,ROW()-1<=$J$1),INDIRECT("Inventaires!K"&SMALL(Inventaires!$A$3:$A$2500,ROW()-1),1),IF(AND(ROW()-1<=$K$1,$K$1>0),INDIRECT("Inventaires!K"&SMALL(Inventaires!$B$3:$B$2500,ROW()-1),1),"")) -> RUPTURE | H13: =IF(AND($K$1=0,ROW()-1<=$J$1),INDIRECT("Inventaires!O"&SMALL(Inventaires!$A$3:$A$2500,ROW()-1),1),IF(AND(ROW()-1<=$K$1,$K$1>0),INDIRECT("Inventaires!O"&SMALL(Inventaires!$B$3:$B$2500,ROW()-1),1),"")) -> 0 | I13: =IF(AND($K$1=0,ROW()-1<=$J$1),INDIRECT("Inventaires!M"&SMALL(Inventaires!$A$3:$A$2500,ROW()-1),1),IF(AND(ROW()-1<=$K$1,$K$1>0),INDIRECT("Inventaires!M"&SMALL(Inventaires!$B$3:$B$2500,ROW()-1),1),"")) -> 0 | K13: =IF(ROW()-1<=$K$1,ROW()-1,"")
A14: =LD!P8 -> 9 | B14: =IF(AND($K$1=0,ROW()-1<=$J$1),INDIRECT("Inventaires!D"&SMALL(Inventaires!$A$3:$A$2500,ROW()-1),1),IF(AND(ROW()-1<=$K$1,$K$1>0),INDIRECT("Inventaires!D"&SMALL(Inventaires!$B$3:$B$2500,ROW()-1),1),"")) -> Atoma LORATADINE 10MG comp 10 | C14: =IF(AND($K$1=0,ROW()-1<=$J$1),INDIRECT("Inventaires!I"&SMALL(Inventaires!$A$3:$A$2500,ROW()-1),1),IF(AND(ROW()-1<=$K$1,$K$1>0),INDIRECT("Inventaires!I"&SMALL(Inventaires!$B$3:$B$2500,ROW()-1),1),"")) -> 0 | D14: =IF(AND($K$1=0,ROW()-1<=$J$1),INDIRECT("Inventaires!C"&SMALL(Inventaires!$A$3:$A$2500,ROW()-1),1),IF(AND(ROW()-1<=$K$1,$K$1>0),INDIRECT("Inventaires!C"&SMALL(Inventaires!$B$3:$B$2500,ROW()-1),1),"")) -> 049-230 | E14: =IF(AND($K$1=0,ROW()-1<=$J$1),INDIRECT("Inventaires!Q"&SMALL(Inventaires!$A$3:$A$2500,ROW()-1),1),IF(AND(ROW()-1<=$K$1,$K$1>0),INDIRECT("Inventaires!Q"&SMALL(Inventaires!$B$3:$B$2500,ROW()-1),1),"")) -> 777747101092 | F14: =IF(AND($K$1=0,ROW()-1<=$J$1),INDIRECT("Inventaires!J"&SMALL(Inventaires!$A$3:$A$2500,ROW()-1),1),IF(AND(ROW()-1<=$K$1,$K$1>0),INDIRECT("Inventaires!J"&SMALL(Inventaires!$B$3:$B$2500,ROW()-1),1),"")) -> 0 | G14: =IF(AND($K$1=0,ROW()-1<=$J$1),INDIRECT("Inventaires!K"&SMALL(Inventaires!$A$3:$A$2500,ROW()-1),1),IF(AND(ROW()-1<=$K$1,$K$1>0),INDIRECT("Inventaires!K"&SMALL(Inventaires!$B$3:$B$2500,ROW()-1),1),"")) -> RUPTURE | H14: =IF(AND($K$1=0,ROW()-1<=$J$1),INDIRECT("Inventaires!O"&SMALL(Inventaires!$A$3:$A$2500,ROW()-1),1),IF(AND(ROW()-1<=$K$1,$K$1>0),INDIRECT("Inventaires!O"&SMALL(Inventaires!$B$3:$B$2500,ROW()-1),1),"")) -> 0 | I14: =IF(AND($K$1=0,ROW()-1<=$J$1),INDIRECT("Inventaires!M"&SMALL(Inventaires!$A$3:$A$2500,ROW()-1),1),IF(AND(ROW()-1<=$K$1,$K$1>0),INDIRECT("Inventaires!M"&SMALL(Inventaires!$B$3:$B$2500,ROW()-1),1),"")) -> 0 | K14: =IF(ROW()-1<=$K$1,ROW()-1,"")
A15: ITEMS EN RUPTURE | B15: =IF(AND($K$1=0,ROW()-1<=$J$1),INDIRECT("Inventaires!D"&SMALL(Inventaires!$A$3:$A$2500,ROW()-1),1),IF(AND(ROW()-1<=$K$1,$K$1>0),INDIRECT("Inventaires!D"&SMALL(Inventaires!$B$3:$B$2500,ROW()-1),1),"")) -> Atoma pastille Cerise Menthol Eucalyptus | C15: =IF(AND($K$1=0,ROW()-1<=$J$1),INDIRECT("Inventaires!I"&SMALL(Inventaires!$A$3:$A$2500,ROW()-1),1),IF(AND(ROW()-1<=$K$1,$K$1>0),INDIRECT("Inventaires!I"&SMALL(Inventaires!$B$3:$B$2500,ROW()-1),1),"")) -> 0 | D15: =IF(AND($K$1=0,ROW()-1<=$J$1),INDIRECT("Inventaires!C"&SMALL(Inventaires!$A$3:$A$2500,ROW()-1),1),IF(AND(ROW()-1<=$K$1,$K$1>0),INDIRECT("Inventaires!C"&SMALL(Inventaires!$B$3:$B$2500,ROW()-1),1),"")) -> 050-295 | E15: =IF(AND($K$1=0,ROW()-1<=$J$1),INDIRECT("Inventaires!Q"&SMALL(Inventaires!$A$3:$A$2500,ROW()-1),1),IF(AND(ROW()-1<=$K$1,$K$1>0),INDIRECT("Inventaires!Q"&SMALL(Inventaires!$B$3:$B$2500,ROW()-1),1),"")) -> 777747101290 | F15: =IF(AND($K$1=0,ROW()-1<=$J$1),INDIRECT("Inventaires!J"&SMALL(Inventaires!$A$3:$A$2500,ROW()-1),1),IF(AND(ROW()-1<=$K$1,$K$1>0),INDIRECT("Inventaires!J"&SMALL(Inventaires!$B$3:$B$2500,ROW()-1),1),"")) -> 52 | G15: =IF(AND($K$1=0,ROW()-1<=$J$1),INDIRECT("Inventaires!K"&SMALL(Inventaires!$A$3:$A$2500,ROW()-1),1),IF(AND(ROW()-1<=$K$1,$K$1>0),INDIRECT("Inventaires!K"&SMALL(Inventaires!$B$3:$B$2500,ROW()-1),1),"")) -> 0 | H15: =IF(AND($K$1=0,ROW()-1<=$J$1),INDIRECT("Inventaires!O"&SMALL(Inventaires!$A$3:$A$2500,ROW()-1),1),IF(AND(ROW()-1<=$K$1,$K$1>0),INDIRECT("Inventaires!O"&SMALL(Inventaires!$B$3:$B$2500,ROW()-1),1),"")) -> 0 | I15: =IF(AND($K$1=0,ROW()-1<=$J$1),INDIRECT("Inventaires!M"&SMALL(Inventaires!$A$3:$A$2500,ROW()-1),1),IF(AND(ROW()-1<=$K$1,$K$1>0),INDIRECT("Inventaires!M"&SMALL(Inventaires!$B$3:$B$2500,ROW()-1),1),"")) -> 65.52 | K15: =IF(ROW()-1<=$K$1,ROW()-1,"")
A16: =COUNT(Rupture!A:A) -> 149 | B16: =IF(AND($K$1=0,ROW()-1<=$J$1),INDIRECT("Inventaires!D"&SMALL(Inventaires!$A$3:$A$2500,ROW()-1),1),IF(AND(ROW()-1<=$K$1,$K$1>0),INDIRECT("Inventaires!D"&SMALL(Inventaires!$B$3:$B$2500,ROW()-1),1),"")) -> Atoma SIR ALLRG ENF DP 100ml | C16: =IF(AND($K$1=0,ROW()-1<=$J$1),INDIRECT("Inventaires!I"&SMALL(Inventaires!$A$3:$A$2500,ROW()-1),1),IF(AND(ROW()-1<=$K$1,$K$1>0),INDIRECT("Inventaires!I"&SMALL(Inventaires!$B$3:$B$2500,ROW()-1),1),"")) -> 0 | D16: =IF(AND($K$1=0,ROW()-1<=$J$1),INDIRECT("Inventaires!C"&SMALL(Inventaires!$A$3:$A$2500,ROW()-1),1),IF(AND(ROW()-1<=$K$1,$K$1>0),INDIRECT("Inventaires!C"&SMALL(Inventaires!$B$3:$B$2500,ROW()-1),1),"")) -> 054-352 | E16: =IF(AND($K$1=0,ROW()-1<=$J$1),INDIRECT("Inventaires!Q"&SMALL(Inventaires!$A$3:$A$2500,ROW()-1),1),IF(AND(ROW()-1<=$K$1,$K$1>0),INDIRECT("Inventaires!Q"&SMALL(Inventaires!$B$3:$B$2500,ROW()-1),1),"")) -> 777747104260 | F16: =IF(AND($K$1=0,ROW()-1<=$J$1),INDIRECT("Inventaires!J"&SMALL(Inventaires!$A$3:$A$2500,ROW()-1),1),IF(AND(ROW()-1<=$K$1,$K$1>0),INDIRECT("Inventaires!J"&SMALL(Inventaires!$B$3:$B$2500,ROW()-1),1),"")) -> 0 | G16: =IF(AND($K$1=0,ROW()-1<=$J$1),INDIRECT("Inventaires!K"&SMALL(Inventaires!$A$3:$A$2500,ROW()-1),1),IF(AND(ROW()-1<=$K$1,$K$1>0),INDIRECT("Inventaires!K"&SMALL(Inventaires!$B$3:$B$2500,ROW()-1),1),"")) -> RUPTURE | H16: =IF(AND($K$1=0,ROW()-1<=$J$1),INDIRECT("Inventaires!O"&SMALL(Inventaires!$A$3:$A$2500,ROW()-1),1),IF(AND(ROW()-1<=$K$1,$K$1>0),INDIRECT("Inventaires!O"&SMALL(Inventaires!$B$3:$B$2500,ROW()-1),1),"")) -> 0 | I16: =IF(AND($K$1=0,ROW()-1<=$J$1),INDIRECT("Inventaires!M"&SMALL(Inventaires!$A$3:$A$2500,ROW()-1),1),IF(AND(ROW()-1<=$K$1,$K$1>0),INDIRECT("Inventaires!M"&SMALL(Inventaires!$B$3:$B$2500,ROW()-1),1),"")) -> 0 | K16: =IF(ROW()-1<=$K$1,ROW()-1,"")
B17: =IF(AND($K$1=0,ROW()-1<=$J$1),INDIRECT("Inventaires!D"&SMALL(Inventaires!$A$3:$A$2500,ROW()-1),1),IF(AND(ROW()-1<=$K$1,$K$1>0),INDIRECT("Inventaires!D"&SMALL(Inventaires!$B$3:$B$2500,ROW()-1),1),"")) -> Benadryl ENF GOMME BAL 100ml | C17: =IF(AND($K$1=0,ROW()-1<=$J$1),INDIRECT("Inventaires!I"&SMALL(Inventaires!$A$3:$A$2500,ROW()-1),1),IF(AND(ROW()-1<=$K$1,$K$1>0),INDIRECT("Inventaires!I"&SMALL(Inventaires!$B$3:$B$2500,ROW()-1),1),"")) -> 0 | D17: =IF(AND($K$1=0,ROW()-1<=$J$1),INDIRECT("Inventaires!C"&SMALL(Inventaires!$A$3:$A$2500,ROW()-1),1),IF(AND(ROW()-1<=$K$1,$K$1>0),INDIRECT("Inventaires!C"&SMALL(Inventaires!$B$3:$B$2500,ROW()-1),1),"")) -> 194-076 | E17: =IF(AND($K$1=0,ROW()-1<=$J$1),INDIRECT("Inventaires!Q"&SMALL(Inventaires!$A$3:$A$2500,ROW()-1),1),IF(AND(ROW()-1<=$K$1,$K$1>0),INDIRECT("Inventaires!Q"&SMALL(Inventaires!$B$3:$B$2500,ROW()-1),1),"")) -> 60093265809 | F17: =IF(AND($K$1=0,ROW()-1<=$J$1),INDIRECT("Inventaires!J"&SMALL(Inventaires!$A$3:$A$2500,ROW()-1),1),IF(AND(ROW()-1<=$K$1,$K$1>0),INDIRECT("Inventaires!J"&SMALL(Inventaires!$B$3:$B$2500,ROW()-1),1),"")) -> 0 | G17: =IF(AND($K$1=0,ROW()-1<=$J$1),INDIRECT("Inventaires!K"&SMALL(Inventaires!$A$3:$A$2500,ROW()-1),1),IF(AND(ROW()-1<=$K$1,$K$1>0),INDIRECT("Inventaires!K"&SMALL(Inventaires!$B$3:$B$2500,ROW()-1),1),"")) -> RUPTURE | H17: =IF(AND($K$1=0,ROW()-1<=$J$1),INDIRECT("Inventaires!O"&SMALL(Inventaires!$A$3:$A$2500,ROW()-1),1),IF(AND(ROW()-1<=$K$1,$K$1>0),INDIRECT("Inventaires!O"&SMALL(Inventaires!$B$3:$B$2500,ROW()-1),1),"")) -> 0 | I17: =IF(AND($K$1=0,ROW()-1<=$J$1),INDIRECT("Inventaires!M"&SMALL(Inventaires!$A$3:$A$2500,ROW()-1),1),IF(AND(ROW()-1<=$K$1,$K$1>0),INDIRECT("Inventaires!M"&SMALL(Inventaires!$B$3:$B$2500,ROW()-1),1),"")) -> 0 | K17: =IF(ROW()-1<=$K$1,ROW()-1,"")
B18: =IF(AND($K$1=0,ROW()-1<=$J$1),INDIRECT("Inventaires!D"&SMALL(Inventaires!$A$3:$A$2500,ROW()-1),1),IF(AND(ROW()-1<=$K$1,$K$1>0),INDIRECT("Inventaires!D"&SMALL(Inventaires!$B$3:$B$2500,ROW()-1),1),"")) -> Neilmed Sinus Rince 100u recharge | C18: =IF(AND($K$1=0,ROW()-1<=$J$1),INDIRECT("Inventaires!I"&SMALL(Inventaires!$A$3:$A$2500,ROW()-1),1),IF(AND(ROW()-1<=$K$1,$K$1>0),INDIRECT("Inventaires!I"&SMALL(Inventaires!$B$3:$B$2500,ROW()-1),1),"")) -> 0 | D18: =IF(AND($K$1=0,ROW()-1<=$J$1),INDIRECT("Inventaires!C"&SMALL(Inventaires!$A$3:$A$2500,ROW()-1),1),IF(AND(ROW()-1<=$K$1,$K$1>0),INDIRECT("Inventaires!C"&SMALL(Inventaires!$B$3:$B$2500,ROW()-1),1),"")) -> 417-667 | E18: =IF(AND($K$1=0,ROW()-1<=$J$1),INDIRECT("Inventaires!Q"&SMALL(Inventaires!$A$3:$A$2500,ROW()-1),1),IF(AND(ROW()-1<=$K$1,$K$1>0),INDIRECT("Inventaires!Q"&SMALL(Inventaires!$B$3:$B$2500,ROW()-1),1),"")) -> 705928002005 | F18: =IF(AND($K$1=0,ROW()-1<=$J$1),INDIRECT("Inventaires!J"&SMALL(Inventaires!$A$3:$A$2500,ROW()-1),1),IF(AND(ROW()-1<=$K$1,$K$1>0),INDIRECT("Inventaires!J"&SMALL(Inventaires!$B$3:$B$2500,ROW()-1),1),"")) -> 14 | G18: =IF(AND($K$1=0,ROW()-1<=$J$1),INDIRECT("Inventaires!K"&SMALL(Inventaires!$A$3:$A$2500,ROW()-1),1),IF(AND(ROW()-1<=$K$1,$K$1>0),INDIRECT("Inventaires!K"&SMALL(Inventaires!$B$3:$B$2500,ROW()-1),1),"")) -> 0 | H18: =IF(AND($K$1=0,ROW()-1<=$J$1),INDIRECT("Inventaires!O"&SMALL(Inventaires!$A$3:$A$2500,ROW()-1),1),IF(AND(ROW()-1<=$K$1,$K$1>0),INDIRECT("Inventaires!O"&SMALL(Inventaires!$B$3:$B$2500,ROW()-1),1),"")) -> ND | I18: =IF(AND($K$1=0,ROW()-1<=$J$1),INDIRECT("Inventaires!M"&SMALL(Inventaires!$A$3:$A$2500,ROW()-1),1),IF(AND(ROW()-1<=$K$1,$K$1>0),INDIRECT("Inventaires!M"&SMALL(Inventaires!$B$3:$B$2500,ROW()-1),1),"")) -> 0 | K18: =IF(ROW()-1<=$K$1,ROW()-1,"")
B19: =IF(AND($K$1=0,ROW()-1<=$J$1),INDIRECT("Inventaires!D"&SMALL(Inventaires!$A$3:$A$2500,ROW()-1),1),IF(AND(ROW()-1<=$K$1,$K$1>0),INDIRECT("Inventaires!D"&SMALL(Inventaires!$B$3:$B$2500,ROW()-1),1),"")) | C19: =IF(AND($K$1=0,ROW()-1<=$J$1),INDIRECT("Inventaires!I"&SMALL(Inventaires!$A$3:$A$2500,ROW()-1),1),IF(AND(ROW()-1<=$K$1,$K$1>0),INDIRECT("Inventaires!I"&SMALL(Inventaires!$B$3:$B$2500,ROW()-1),1),"")) | D19: =IF(AND($K$1=0,ROW()-1<=$J$1),INDIRECT("Inventaires!C"&SMALL(Inventaires!$A$3:$A$2500,ROW()-1),1),IF(AND(ROW()-1<=$K$1,$K$1>0),INDIRECT("Inventaires!C"&SMALL(Inventaires!$B$3:$B$2500,ROW()-1),1),"")) | E19: =IF(AND($K$1=0,ROW()-1<=$J$1),INDIRECT("Inventaires!Q"&SMALL(Inventaires!$A$3:$A$2500,ROW()-1),1),IF(AND(ROW()-1<=$K$1,$K$1>0),INDIRECT("Inventaires!Q"&SMALL(Inventaires!$B$3:$B$2500,ROW()-1),1),"")) | F19: =IF(AND($K$1=0,ROW()-1<=$J$1),INDIRECT("Inventaires!J"&SMALL(Inventaires!$A$3:$A$2500,ROW()-1),1),IF(AND(ROW()-1<=$K$1,$K$1>0),INDIRECT("Inventaires!J"&SMALL(Inventaires!$B$3:$B$2500,ROW()-1),1),"")) | G19: =IF(AND($K$1=0,ROW()-1<=$J$1),INDIRECT("Inventaires!K"&SMALL(Inventaires!$A$3:$A$2500,ROW()-1),1),IF(AND(ROW()-1<=$K$1,$K$1>0),INDIRECT("Inventaires!K"&SMALL(Inventaires!$B$3:$B$2500,ROW()-1),1),"")) | H19: =IF(AND($K$1=0,ROW()-1<=$J$1),INDIRECT("Inventaires!O"&SMALL(Inventaires!$A$3:$A$2500,ROW()-1),1),IF(AND(ROW()-1<=$K$1,$K$1>0),INDIRECT("Inventaires!O"&SMALL(Inventaires!$B$3:$B$2500,ROW()-1),1),"")) | I19: =IF(AND($K$1=0,ROW()-1<=$J$1),INDIRECT("Inventaires!M"&SMALL(Inventaires!$A$3:$A$2500,ROW()-1),1),IF(AND(ROW()-1<=$K$1,$K$1>0),INDIRECT("Inventaires!M"&SMALL(Inventaires!$B$3:$B$2500,ROW()-1),1),"")) | K19: =IF(ROW()-1<=$K$1,ROW()-1,"")
B20: =IF(AND($K$1=0,ROW()-1<=$J$1),INDIRECT("Inventaires!D"&SMALL(Inventaires!$A$3:$A$2500,ROW()-1),1),IF(AND(ROW()-1<=$K$1,$K$1>0),INDIRECT("Inventaires!D"&SMALL(Inventaires!$B$3:$B$2500,ROW()-1),1),"")) | C20: =IF(AND($K$1=0,ROW()-1<=$J$1),INDIRECT("Inventaires!I"&SMALL(Inventaires!$A$3:$A$2500,ROW()-1),1),IF(AND(ROW()-1<=$K$1,$K$1>0),INDIRECT("Inventaires!I"&SMALL(Inventaires!$B$3:$B$2500,ROW()-1),1),"")) | D20: =IF(AND($K$1=0,ROW()-1<=$J$1),INDIRECT("Inventaires!C"&SMALL(Inventaires!$A$3:$A$2500,ROW()-1),1),IF(AND(ROW()-1<=$K$1,$K$1>0),INDIRECT("Inventaires!C"&SMALL(Inventaires!$B$3:$B$2500,ROW()-1),1),"")) | E20: =IF(AND($K$1=0,ROW()-1<=$J$1),INDIRECT("Inventaires!Q"&SMALL(Inventaires!$A$3:$A$2500,ROW()-1),1),IF(AND(ROW()-1<=$K$1,$K$1>0),INDIRECT("Inventaires!Q"&SMALL(Inventaires!$B$3:$B$2500,ROW()-1),1),"")) | F20: =IF(AND($K$1=0,ROW()-1<=$J$1),INDIRECT("Inventaires!J"&SMALL(Inventaires!$A$3:$A$2500,ROW()-1),1),IF(AND(ROW()-1<=$K$1,$K$1>0),INDIRECT("Inventaires!J"&SMALL(Inventaires!$B$3:$B$2500,ROW()-1),1),"")) | G20: =IF(AND($K$1=0,ROW()-1<=$J$1),INDIRECT("Inventaires!K"&SMALL(Inventaires!$A$3:$A$2500,ROW()-1),1),IF(AND(ROW()-1<=$K$1,$K$1>0),INDIRECT("Inventaires!K"&SMALL(Inventaires!$B$3:$B$2500,ROW()-1),1),"")) | H20: =IF(AND($K$1=0,ROW()-1<=$J$1),INDIRECT("Inventaires!O"&SMALL(Inventaires!$A$3:$A$2500,ROW()-1),1),IF(AND(ROW()-1<=$K$1,$K$1>0),INDIRECT("Inventaires!O"&SMALL(Inventaires!$B$3:$B$2500,ROW()-1),1),"")) | I20: =IF(AND($K$1=0,ROW()-1<=$J$1),INDIRECT("Inventaires!M"&SMALL(Inventaires!$A$3:$A$2500,ROW()-1),1),IF(AND(ROW()-1<=$K$1,$K$1>0),INDIRECT("Inventaires!M"&SMALL(Inventaires!$B$3:$B$2500,ROW()-1),1),"")) | K20: =IF(ROW()-1<=$K$1,ROW()-1,"")
B21: =IF(AND($K$1=0,ROW()-1<=$J$1),INDIRECT("Inventaires!D"&SMALL(Inventaires!$A$3:$A$2500,ROW()-1),1),IF(AND(ROW()-1<=$K$1,$K$1>0),INDIRECT("Inventaires!D"&SMALL(Inventaires!$B$3:$B$2500,ROW()-1),1),"")) | C21: =IF(AND($K$1=0,ROW()-1<=$J$1),INDIRECT("Inventaires!I"&SMALL(Inventaires!$A$3:$A$2500,ROW()-1),1),IF(AND(ROW()-1<=$K$1,$K$1>0),INDIRECT("Inventaires!I"&SMALL(Inventaires!$B$3:$B$2500,ROW()-1),1),"")) | D21: =IF(AND($K$1=0,ROW()-1<=$J$1),INDIRECT("Inventaires!C"&SMALL(Inventaires!$A$3:$A$2500,ROW()-1),1),IF(AND(ROW()-1<=$K$1,$K$1>0),INDIRECT("Inventaires!C"&SMALL(Inventaires!$B$3:$B$2500,ROW()-1),1),"")) | E21: =IF(AND($K$1=0,ROW()-1<=$J$1),INDIRECT("Inventaires!Q"&SMALL(Inventaires!$A$3:$A$2500,ROW()-1),1),IF(AND(ROW()-1<=$K$1,$K$1>0),INDIRECT("Inventaires!Q"&SMALL(Inventaires!$B$3:$B$2500,ROW()-1),1),"")) | F21: =IF(AND($K$1=0,ROW()-1<=$J$1),INDIRECT("Inventaires!J"&SMALL(Inventaires!$A$3:$A$2500,ROW()-1),1),IF(AND(ROW()-1<=$K$1,$K$1>0),INDIRECT("Inventaires!J"&SMALL(Inventaires!$B$3:$B$2500,ROW()-1),1),"")) | G21: =IF(AND($K$1=0,ROW()-1<=$J$1),INDIRECT("Inventaires!K"&SMALL(Inventaires!$A$3:$A$2500,ROW()-1),1),IF(AND(ROW()-1<=$K$1,$K$1>0),INDIRECT("Inventaires!K"&SMALL(Inventaires!$B$3:$B$2500,ROW()-1),1),"")) | H21: =IF(AND($K$1=0,ROW()-1<=$J$1),INDIRECT("Inventaires!O"&SMALL(Inventaires!$A$3:$A$2500,ROW()-1),1),IF(AND(ROW()-1<=$K$1,$K$1>0),INDIRECT("Inventaires!O"&SMALL(Inventaires!$B$3:$B$2500,ROW()-1),1),"")) | I21: =IF(AND($K$1=0,ROW()-1<=$J$1),INDIRECT("Inventaires!M"&SMALL(Inventaires!$A$3:$A$2500,ROW()-1),1),IF(AND(ROW()-1<=$K$1,$K$1>0),INDIRECT("Inventaires!M"&SMALL(Inventaires!$B$3:$B$2500,ROW()-1),1),"")) | K21: =IF(ROW()-1<=$K$1,ROW()-1,"")
B22: =IF(AND($K$1=0,ROW()-1<=$J$1),INDIRECT("Inventaires!D"&SMALL(Inventaires!$A$3:$A$2500,ROW()-1),1),IF(AND(ROW()-1<=$K$1,$K$1>0),INDIRECT("Inventaires!D"&SMALL(Inventaires!$B$3:$B$2500,ROW()-1),1),"")) | C22: =IF(AND($K$1=0,ROW()-1<=$J$1),INDIRECT("Inventaires!I"&SMALL(Inventaires!$A$3:$A$2500,ROW()-1),1),IF(AND(ROW()-1<=$K$1,$K$1>0),INDIRECT("Inventaires!I"&SMALL(Inventaires!$B$3:$B$2500,ROW()-1),1),"")) | D22: =IF(AND($K$1=0,ROW()-1<=$J$1),INDIRECT("Inventaires!C"&SMALL(Inventaires!$A$3:$A$2500,ROW()-1),1),IF(AND(ROW()-1<=$K$1,$K$1>0),INDIRECT("Inventaires!C"&SMALL(Inventaires!$B$3:$B$2500,ROW()-1),1),"")) | E22: =IF(AND($K$1=0,ROW()-1<=$J$1),INDIRECT("Inventaires!Q"&SMALL(Inventaires!$A$3:$A$2500,ROW()-1),1),IF(AND(ROW()-1<=$K$1,$K$1>0),INDIRECT("Inventaires!Q"&SMALL(Inventaires!$B$3:$B$2500,ROW()-1),1),"")) | F22: =IF(AND($K$1=0,ROW()-1<=$J$1),INDIRECT("Inventaires!J"&SMALL(Inventaires!$A$3:$A$2500,ROW()-1),1),IF(AND(ROW()-1<=$K$1,$K$1>0),INDIRECT("Inventaires!J"&SMALL(Inventaires!$B$3:$B$2500,ROW()-1),1),"")) | G22: =IF(AND($K$1=0,ROW()-1<=$J$1),INDIRECT("Inventaires!K"&SMALL(Inventaires!$A$3:$A$2500,ROW()-1),1),IF(AND(ROW()-1<=$K$1,$K$1>0),INDIRECT("Inventaires!K"&SMALL(Inventaires!$B$3:$B$2500,ROW()-1),1),"")) | H22: =IF(AND($K$1=0,ROW()-1<=$J$1),INDIRECT("Inventaires!O"&SMALL(Inventaires!$A$3:$A$2500,ROW()-1),1),IF(AND(ROW()-1<=$K$1,$K$1>0),INDIRECT("Inventaires!O"&SMALL(Inventaires!$B$3:$B$2500,ROW()-1),1),"")) | I22: =IF(AND($K$1=0,ROW()-1<=$J$1),INDIRECT("Inventaires!M"&SMALL(Inventaires!$A$3:$A$2500,ROW()-1),1),IF(AND(ROW()-1<=$K$1,$K$1>0),INDIRECT("Inventaires!M"&SMALL(Inventaires!$B$3:$B$2500,ROW()-1),1),"")) | K22: =IF(ROW()-1<=$K$1,ROW()-1,"")
B23: =IF(AND($K$1=0,ROW()-1<=$J$1),INDIRECT("Inventaires!D"&SMALL(Inventaires!$A$3:$A$2500,ROW()-1),1),IF(AND(ROW()-1<=$K$1,$K$1>0),INDIRECT("Inventaires!D"&SMALL(Inventaires!$B$3:$B$2500,ROW()-1),1),"")) | C23: =IF(AND($K$1=0,ROW()-1<=$J$1),INDIRECT("Inventaires!I"&SMALL(Inventaires!$A$3:$A$2500,ROW()-1),1),IF(AND(ROW()-1<=$K$1,$K$1>0),INDIRECT("Inventaires!I"&SMALL(Inventaires!$B$3:$B$2500,ROW()-1),1),"")) | D23: =IF(AND($K$1=0,ROW()-1<=$J$1),INDIRECT("Inventaires!C"&SMALL(Inventaires!$A$3:$A$2500,ROW()-1),1),IF(AND(ROW()-1<=$K$1,$K$1>0),INDIRECT("Inventaires!C"&SMALL(Inventaires!$B$3:$B$2500,ROW()-1),1),"")) | E23: =IF(AND($K$1=0,ROW()-1<=$J$1),INDIRECT("Inventaires!Q"&SMALL(Inventaires!$A$3:$A$2500,ROW()-1),1),IF(AND(ROW()-1<=$K$1,$K$1>0),INDIRECT("Inventaires!Q"&SMALL(Inventaires!$B$3:$B$2500,ROW()-1),1),"")) | F23: =IF(AND($K$1=0,ROW()-1<=$J$1),INDIRECT("Inventaires!J"&SMALL(Inventaires!$A$3:$A$2500,ROW()-1),1),IF(AND(ROW()-1<=$K$1,$K$1>0),INDIRECT("Inventaires!J"&SMALL(Inventaires!$B$3:$B$2500,ROW()-1),1),"")) | G23: =IF(AND($K$1=0,ROW()-1<=$J$1),INDIRECT("Inventaires!K"&SMALL(Inventaires!$A$3:$A$2500,ROW()-1),1),IF(AND(ROW()-1<=$K$1,$K$1>0),INDIRECT("Inventaires!K"&SMALL(Inventaires!$B$3:$B$2500,ROW()-1),1),"")) | H23: =IF(AND($K$1=0,ROW()-1<=$J$1),INDIRECT("Inventaires!O"&SMALL(Inventaires!$A$3:$A$2500,ROW()-1),1),IF(AND(ROW()-1<=$K$1,$K$1>0),INDIRECT("Inventaires!O"&SMALL(Inventaires!$B$3:$B$2500,ROW()-1),1),"")) | I23: =IF(AND($K$1=0,ROW()-1<=$J$1),INDIRECT("Inventaires!M"&SMALL(Inventaires!$A$3:$A$2500,ROW()-1),1),IF(AND(ROW()-1<=$K$1,$K$1>0),INDIRECT("Inventaires!M"&SMALL(Inventaires!$B$3:$B$2500,ROW()-1),1),"")) | K23: =IF(ROW()-1<=$K$1,ROW()-1,"")
B24: =IF(AND($K$1=0,ROW()-1<=$J$1),INDIRECT("Inventaires!D"&SMALL(Inventaires!$A$3:$A$2500,ROW()-1),1),IF(AND(ROW()-1<=$K$1,$K$1>0),INDIRECT("Inventaires!D"&SMALL(Inventaires!$B$3:$B$2500,ROW()-1),1),"")) | C24: =IF(AND($K$1=0,ROW()-1<=$J$1),INDIRECT("Inventaires!I"&SMALL(Inventaires!$A$3:$A$2500,ROW()-1),1),IF(AND(ROW()-1<=$K$1,$K$1>0),INDIRECT("Inventaires!I"&SMALL(Inventaires!$B$3:$B$2500,ROW()-1),1),"")) | D24: =IF(AND($K$1=0,ROW()-1<=$J$1),INDIRECT("Inventaires!C"&SMALL(Inventaires!$A$3:$A$2500,ROW()-1),1),IF(AND(ROW()-1<=$K$1,$K$1>0),INDIRECT("Inventaires!C"&SMALL(Inventaires!$B$3:$B$2500,ROW()-1),1),"")) | E24: =IF(AND($K$1=0,ROW()-1<=$J$1),INDIRECT("Inventaires!Q"&SMALL(Inventaires!$A$3:$A$2500,ROW()-1),1),IF(AND(ROW()-1<=$K$1,$K$1>0),INDIRECT("Inventaires!Q"&SMALL(Inventaires!$B$3:$B$2500,ROW()-1),1),"")) | F24: =IF(AND($K$1=0,ROW()-1<=$J$1),INDIRECT("Inventaires!J"&SMALL(Inventaires!$A$3:$A$2500,ROW()-1),1),IF(AND(ROW()-1<=$K$1,$K$1>0),INDIRECT("Inventaires!J"&SMALL(Inventaires!$B$3:$B$2500,ROW()-1),1),"")) | G24: =IF(AND($K$1=0,ROW()-1<=$J$1),INDIRECT("Inventaires!K"&SMALL(Inventaires!$A$3:$A$2500,ROW()-1),1),IF(AND(ROW()-1<=$K$1,$K$1>0),INDIRECT("Inventaires!K"&SMALL(Inventaires!$B$3:$B$2500,ROW()-1),1),"")) | H24: =IF(AND($K$1=0,ROW()-1<=$J$1),INDIRECT("Inventaires!O"&SMALL(Inventaires!$A$3:$A$2500,ROW()-1),1),IF(AND(ROW()-1<=$K$1,$K$1>0),INDIRECT("Inventaires!O"&SMALL(Inventaires!$B$3:$B$2500,ROW()-1),1),"")) | I24: =IF(AND($K$1=0,ROW()-1<=$J$1),INDIRECT("Inventaires!M"&SMALL(Inventaires!$A$3:$A$2500,ROW()-1),1),IF(AND(ROW()-1<=$K$1,$K$1>0),INDIRECT("Inventaires!M"&SMALL(Inventaires!$B$3:$B$2500,ROW()-1),1),"")) | K24: =IF(ROW()-1<=$K$1,ROW()-1,"")
B25: =IF(AND($K$1=0,ROW()-1<=$J$1),INDIRECT("Inventaires!D"&SMALL(Inventaires!$A$3:$A$2500,ROW()-1),1),IF(AND(ROW()-1<=$K$1,$K$1>0),INDIRECT("Inventaires!D"&SMALL(Inventaires!$B$3:$B$2500,ROW()-1),1),"")) | C25: =IF(AND($K$1=0,ROW()-1<=$J$1),INDIRECT("Inventaires!I"&SMALL(Inventaires!$A$3:$A$2500,ROW()-1),1),IF(AND(ROW()-1<=$K$1,$K$1>0),INDIRECT("Inventaires!I"&SMALL(Inventaires!$B$3:$B$2500,ROW()-1),1),"")) | D25: =IF(AND($K$1=0,ROW()-1<=$J$1),INDIRECT("Inventaires!C"&SMALL(Inventaires!$A$3:$A$2500,ROW()-1),1),IF(AND(ROW()-1<=$K$1,$K$1>0),INDIRECT("Inventaires!C"&SMALL(Inventaires!$B$3:$B$2500,ROW()-1),1),"")) | E25: =IF(AND($K$1=0,ROW()-1<=$J$1),INDIRECT("Inventaires!Q"&SMALL(Inventaires!$A$3:$A$2500,ROW()-1),1),IF(AND(ROW()-1<=$K$1,$K$1>0),INDIRECT("Inventaires!Q"&SMALL(Inventaires!$B$3:$B$2500,ROW()-1),1),"")) | F25: =IF(AND($K$1=0,ROW()-1<=$J$1),INDIRECT("Inventaires!J"&SMALL(Inventaires!$A$3:$A$2500,ROW()-1),1),IF(AND(ROW()-1<=$K$1,$K$1>0),INDIRECT("Inventaires!J"&SMALL(Inventaires!$B$3:$B$2500,ROW()-1),1),"")) | G25: =IF(AND($K$1=0,ROW()-1<=$J$1),INDIRECT("Inventaires!K"&SMALL(Inventaires!$A$3:$A$2500,ROW()-1),1),IF(AND(ROW()-1<=$K$1,$K$1>0),INDIRECT("Inventaires!K"&SMALL(Inventaires!$B$3:$B$2500,ROW()-1),1),"")) | H25: =IF(AND($K$1=0,ROW()-1<=$J$1),INDIRECT("Inventaires!O"&SMALL(Inventaires!$A$3:$A$2500,ROW()-1),1),IF(AND(ROW()-1<=$K$1,$K$1>0),INDIRECT("Inventaires!O"&SMALL(Inventaires!$B$3:$B$2500,ROW()-1),1),"")) | I25: =IF(AND($K$1=0,ROW()-1<=$J$1),INDIRECT("Inventaires!M"&SMALL(Inventaires!$A$3:$A$2500,ROW()-1),1),IF(AND(ROW()-1<=$K$1,$K$1>0),INDIRECT("Inventaires!M"&SMALL(Inventaires!$B$3:$B$2500,ROW()-1),1),"")) | K25: =IF(ROW()-1<=$K$1,ROW()-1,"")
B26: =IF(AND($K$1=0,ROW()-1<=$J$1),INDIRECT("Inventaires!D"&SMALL(Inventaires!$A$3:$A$2500,ROW()-1),1),IF(AND(ROW()-1<=$K$1,$K$1>0),INDIRECT("Inventaires!D"&SMALL(Inventaires!$B$3:$B$2500,ROW()-1),1),"")) | C26: =IF(AND($K$1=0,ROW()-1<=$J$1),INDIRECT("Inventaires!I"&SMALL(Inventaires!$A$3:$A$2500,ROW()-1),1),IF(AND(ROW()-1<=$K$1,$K$1>0),INDIRECT("Inventaires!I"&SMALL(Inventaires!$B$3:$B$2500,ROW()-1),1),"")) | D26: =IF(AND($K$1=0,ROW()-1<=$J$1),INDIRECT("Inventaires!C"&SMALL(Inventaires!$A$3:$A$2500,ROW()-1),1),IF(AND(ROW()-1<=$K$1,$K$1>0),INDIRECT("Inventaires!C"&SMALL(Inventaires!$B$3:$B$2500,ROW()-1),1),"")) | E26: =IF(AND($K$1=0,ROW()-1<=$J$1),INDIRECT("Inventaires!Q"&SMALL(Inventaires!$A$3:$A$2500,ROW()-1),1),IF(AND(ROW()-1<=$K$1,$K$1>0),INDIRECT("Inventaires!Q"&SMALL(Inventaires!$B$3:$B$2500,ROW()-1),1),"")) | F26: =IF(AND($K$1=0,ROW()-1<=$J$1),INDIRECT("Inventaires!J"&SMALL(Inventaires!$A$3:$A$2500,ROW()-1),1),IF(AND(ROW()-1<=$K$1,$K$1>0),INDIRECT("Inventaires!J"&SMALL(Inventaires!$B$3:$B$2500,ROW()-1),1),"")) | G26: =IF(AND($K$1=0,ROW()-1<=$J$1),INDIRECT("Inventaires!K"&SMALL(Inventaires!$A$3:$A$2500,ROW()-1),1),IF(AND(ROW()-1<=$K$1,$K$1>0),INDIRECT("Inventaires!K"&SMALL(Inventaires!$B$3:$B$2500,ROW()-1),1),"")) | H26: =IF(AND($K$1=0,ROW()-1<=$J$1),INDIRECT("Inventaires!O"&SMALL(Inventaires!$A$3:$A$2500,ROW()-1),1),IF(AND(ROW()-1<=$K$1,$K$1>0),INDIRECT("Inventaires!O"&SMALL(Inventaires!$B$3:$B$2500,ROW()-1),1),"")) | I26: =IF(AND($K$1=0,ROW()-1<=$J$1),INDIRECT("Inventaires!M"&SMALL(Inventaires!$A$3:$A$2500,ROW()-1),1),IF(AND(ROW()-1<=$K$1,$K$1>0),INDIRECT("Inventaires!M"&SMALL(Inventaires!$B$3:$B$2500,ROW()-1),1),"")) | K26: =IF(ROW()-1<=$K$1,ROW()-1,"")
B27: =IF(AND($K$1=0,ROW()-1<=$J$1),INDIRECT("Inventaires!D"&SMALL(Inventaires!$A$3:$A$2500,ROW()-1),1),IF(AND(ROW()-1<=$K$1,$K$1>0),INDIRECT("Inventaires!D"&SMALL(Inventaires!$B$3:$B$2500,ROW()-1),1),"")) | C27: =IF(AND($K$1=0,ROW()-1<=$J$1),INDIRECT("Inventaires!I"&SMALL(Inventaires!$A$3:$A$2500,ROW()-1),1),IF(AND(ROW()-1<=$K$1,$K$1>0),INDIRECT("Inventaires!I"&SMALL(Inventaires!$B$3:$B$2500,ROW()-1),1),"")) | D27: =IF(AND($K$1=0,ROW()-1<=$J$1),INDIRECT("Inventaires!C"&SMALL(Inventaires!$A$3:$A$2500,ROW()-1),1),IF(AND(ROW()-1<=$K$1,$K$1>0),INDIRECT("Inventaires!C"&SMALL(Inventaires!$B$3:$B$2500,ROW()-1),1),"")) | E27: =IF(AND($K$1=0,ROW()-1<=$J$1),INDIRECT("Inventaires!Q"&SMALL(Inventaires!$A$3:$A$2500,ROW()-1),1),IF(AND(ROW()-1<=$K$1,$K$1>0),INDIRECT("Inventaires!Q"&SMALL(Inventaires!$B$3:$B$2500,ROW()-1),1),"")) | F27: =IF(AND($K$1=0,ROW()-1<=$J$1),INDIRECT("Inventaires!J"&SMALL(Inventaires!$A$3:$A$2500,ROW()-1),1),IF(AND(ROW()-1<=$K$1,$K$1>0),INDIRECT("Inventaires!J"&SMALL(Inventaires!$B$3:$B$2500,ROW()-1),1),"")) | G27: =IF(AND($K$1=0,ROW()-1<=$J$1),INDIRECT("Inventaires!K"&SMALL(Inventaires!$A$3:$A$2500,ROW()-1),1),IF(AND(ROW()-1<=$K$1,$K$1>0),INDIRECT("Inventaires!K"&SMALL(Inventaires!$B$3:$B$2500,ROW()-1),1),"")) | H27: =IF(AND($K$1=0,ROW()-1<=$J$1),INDIRECT("Inventaires!O"&SMALL(Inventaires!$A$3:$A$2500,ROW()-1),1),IF(AND(ROW()-1<=$K$1,$K$1>0),INDIRECT("Inventaires!O"&SMALL(Inventaires!$B$3:$B$2500,ROW()-1),1),"")) | I27: =IF(AND($K$1=0,ROW()-1<=$J$1),INDIRECT("Inventaires!M"&SMALL(Inventaires!$A$3:$A$2500,ROW()-1),1),IF(AND(ROW()-1<=$K$1,$K$1>0),INDIRECT("Inventaires!M"&SMALL(Inventaires!$B$3:$B$2500,ROW()-1),1),"")) | K27: =IF(ROW()-1<=$K$1,ROW()-1,"")
B28: =IF(AND($K$1=0,ROW()-1<=$J$1),INDIRECT("Inventaires!D"&SMALL(Inventaires!$A$3:$A$2500,ROW()-1),1),IF(AND(ROW()-1<=$K$1,$K$1>0),INDIRECT("Inventaires!D"&SMALL(Inventaires!$B$3:$B$2500,ROW()-1),1),"")) | C28: =IF(AND($K$1=0,ROW()-1<=$J$1),INDIRECT("Inventaires!I"&SMALL(Inventaires!$A$3:$A$2500,ROW()-1),1),IF(AND(ROW()-1<=$K$1,$K$1>0),INDIRECT("Inventaires!I"&SMALL(Inventaires!$B$3:$B$2500,ROW()-1),1),"")) | D28: =IF(AND($K$1=0,ROW()-1<=$J$1),INDIRECT("Inventaires!C"&SMALL(Inventaires!$A$3:$A$2500,ROW()-1),1),IF(AND(ROW()-1<=$K$1,$K$1>0),INDIRECT("Inventaires!C"&SMALL(Inventaires!$B$3:$B$2500,ROW()-1),1),"")) | E28: =IF(AND($K$1=0,ROW()-1<=$J$1),INDIRECT("Inventaires!Q"&SMALL(Inventaires!$A$3:$A$2500,ROW()-1),1),IF(AND(ROW()-1<=$K$1,$K$1>0),INDIRECT("Inventaires!Q"&SMALL(Inventaires!$B$3:$B$2500,ROW()-1),1),"")) | F28: =IF(AND($K$1=0,ROW()-1<=$J$1),INDIRECT("Inventaires!J"&SMALL(Inventaires!$A$3:$A$2500,ROW()-1),1),IF(AND(ROW()-1<=$K$1,$K$1>0),INDIRECT("Inventaires!J"&SMALL(Inventaires!$B$3:$B$2500,ROW()-1),1),"")) | G28: =IF(AND($K$1=0,ROW()-1<=$J$1),INDIRECT("Inventaires!K"&SMALL(Inventaires!$A$3:$A$2500,ROW()-1),1),IF(AND(ROW()-1<=$K$1,$K$1>0),INDIRECT("Inventaires!K"&SMALL(Inventaires!$B$3:$B$2500,ROW()-1),1),"")) | H28: =IF(AND($K$1=0,ROW()-1<=$J$1),INDIRECT("Inventaires!O"&SMALL(Inventaires!$A$3:$A$2500,ROW()-1),1),IF(AND(ROW()-1<=$K$1,$K$1>0),INDIRECT("Inventaires!O"&SMALL(Inventaires!$B$3:$B$2500,ROW()-1),1),"")) | I28: =IF(AND($K$1=0,ROW()-1<=$J$1),INDIRECT("Inventaires!M"&SMALL(Inventaires!$A$3:$A$2500,ROW()-1),1),IF(AND(ROW()-1<=$K$1,$K$1>0),INDIRECT("Inventaires!M"&SMALL(Inventaires!$B$3:$B$2500,ROW()-1),1),"")) | K28: =IF(ROW()-1<=$K$1,ROW()-1,"")
... B401: =IF(AND($K$1=0,ROW()-1<=$J$1),INDIRECT("Inventaires!D"&SMALL(Inventaires!$A$3:$A$2500,ROW()-1),1),IF(AND(ROW()-1<=$K$1,$K$1>0),INDIRECT("Inventaires!D"&SMALL(Inventaires!$B$3:$B$2500,ROW()-1),1),"")) | C401: =IF(AND($K$1=0,ROW()-1<=$J$1),INDIRECT("Inventaires!I"&SMALL(Inventaires!$A$3:$A$2500,ROW()-1),1),IF(AND(ROW()-1<=$K$1,$K$1>0),INDIRECT("Inventaires!I"&SMALL(Inventaires!$B$3:$B$2500,ROW()-1),1),"")) | D401: =IF(AND($K$1=0,ROW()-1<=$J$1),INDIRECT("Inventaires!C"&SMALL(Inventaires!$A$3:$A$2500,ROW()-1),1),IF(AND(ROW()-1<=$K$1,$K$1>0),INDIRECT("Inventaires!C"&SMALL(Inventaires!$B$3:$B$2500,ROW()-1),1),"")) | E401: =IF(AND($K$1=0,ROW()-1<=$J$1),INDIRECT("Inventaires!Q"&SMALL(Inventaires!$A$3:$A$2500,ROW()-1),1),IF(AND(ROW()-1<=$K$1,$K$1>0),INDIRECT("Inventaires!Q"&SMALL(Inventaires!$B$3:$B$2500,ROW()-1),1),"")) | F401: =IF(AND($K$1=0,ROW()-1<=$J$1),INDIRECT("Inventaires!J"&SMALL(Inventaires!$A$3:$A$2500,ROW()-1),1),IF(AND(ROW()-1<=$K$1,$K$1>0),INDIRECT("Inventaires!J"&SMALL(Inventaires!$B$3:$B$2500,ROW()-1),1),"")) | G401: =IF(AND($K$1=0,ROW()-1<=$J$1),INDIRECT("Inventaires!K"&SMALL(Inventaires!$A$3:$A$2500,ROW()-1),1),IF(AND(ROW()-1<=$K$1,$K$1>0),INDIRECT("Inventaires!K"&SMALL(Inventaires!$B$3:$B$2500,ROW()-1),1),"")) | H401: =IF(AND($K$1=0,ROW()-1<=$J$1),INDIRECT("Inventaires!O"&SMALL(Inventaires!$A$3:$A$2500,ROW()-1),1),IF(AND(ROW()-1<=$K$1,$K$1>0),INDIRECT("Inventaires!O"&SMALL(Inventaires!$B$3:$B$2500,ROW()-1),1),"")) | I401: =IF(AND($K$1=0,ROW()-1<=$J$1),INDIRECT("Inventaires!M"&SMALL(Inventaires!$A$3:$A$2500,ROW()-1),1),IF(AND(ROW()-1<=$K$1,$K$1>0),INDIRECT("Inventaires!M"&SMALL(Inventaires!$B$3:$B$2500,ROW()-1),1),"")) | K401: =IF(ROW()-1<=$K$1,ROW()-1,"")
B402: =IF(AND($K$1=0,ROW()-1<=$J$1),INDIRECT("Inventaires!D"&SMALL(Inventaires!$A$3:$A$2500,ROW()-1),1),IF(AND(ROW()-1<=$K$1,$K$1>0),INDIRECT("Inventaires!D"&SMALL(Inventaires!$B$3:$B$2500,ROW()-1),1),"")) | C402: =IF(AND($K$1=0,ROW()-1<=$J$1),INDIRECT("Inventaires!I"&SMALL(Inventaires!$A$3:$A$2500,ROW()-1),1),IF(AND(ROW()-1<=$K$1,$K$1>0),INDIRECT("Inventaires!I"&SMALL(Inventaires!$B$3:$B$2500,ROW()-1),1),"")) | D402: =IF(AND($K$1=0,ROW()-1<=$J$1),INDIRECT("Inventaires!C"&SMALL(Inventaires!$A$3:$A$2500,ROW()-1),1),IF(AND(ROW()-1<=$K$1,$K$1>0),INDIRECT("Inventaires!C"&SMALL(Inventaires!$B$3:$B$2500,ROW()-1),1),"")) | E402: =IF(AND($K$1=0,ROW()-1<=$J$1),INDIRECT("Inventaires!Q"&SMALL(Inventaires!$A$3:$A$2500,ROW()-1),1),IF(AND(ROW()-1<=$K$1,$K$1>0),INDIRECT("Inventaires!Q"&SMALL(Inventaires!$B$3:$B$2500,ROW()-1),1),"")) | F402: =IF(AND($K$1=0,ROW()-1<=$J$1),INDIRECT("Inventaires!J"&SMALL(Inventaires!$A$3:$A$2500,ROW()-1),1),IF(AND(ROW()-1<=$K$1,$K$1>0),INDIRECT("Inventaires!J"&SMALL(Inventaires!$B$3:$B$2500,ROW()-1),1),"")) | G402: =IF(AND($K$1=0,ROW()-1<=$J$1),INDIRECT("Inventaires!K"&SMALL(Inventaires!$A$3:$A$2500,ROW()-1),1),IF(AND(ROW()-1<=$K$1,$K$1>0),INDIRECT("Inventaires!K"&SMALL(Inventaires!$B$3:$B$2500,ROW()-1),1),"")) | H402: =IF(AND($K$1=0,ROW()-1<=$J$1),INDIRECT("Inventaires!O"&SMALL(Inventaires!$A$3:$A$2500,ROW()-1),1),IF(AND(ROW()-1<=$K$1,$K$1>0),INDIRECT("Inventaires!O"&SMALL(Inventaires!$B$3:$B$2500,ROW()-1),1),"")) | I402: =IF(AND($K$1=0,ROW()-1<=$J$1),INDIRECT("Inventaires!M"&SMALL(Inventaires!$A$3:$A$2500,ROW()-1),1),IF(AND(ROW()-1<=$K$1,$K$1>0),INDIRECT("Inventaires!M"&SMALL(Inventaires!$B$3:$B$2500,ROW()-1),1),""))
B403: =IF(AND($K$1=0,ROW()-1<=$J$1),INDIRECT("Inventaires!D"&SMALL(Inventaires!$A$3:$A$2500,ROW()-1),1),IF(AND(ROW()-1<=$K$1,$K$1>0),INDIRECT("Inventaires!D"&SMALL(Inventaires!$B$3:$B$2500,ROW()-1),1),"")) | C403: =IF(AND($K$1=0,ROW()-1<=$J$1),INDIRECT("Inventaires!I"&SMALL(Inventaires!$A$3:$A$2500,ROW()-1),1),IF(AND(ROW()-1<=$K$1,$K$1>0),INDIRECT("Inventaires!I"&SMALL(Inventaires!$B$3:$B$2500,ROW()-1),1),"")) | D403: =IF(AND($K$1=0,ROW()-1<=$J$1),INDIRECT("Inventaires!C"&SMALL(Inventaires!$A$3:$A$2500,ROW()-1),1),IF(AND(ROW()-1<=$K$1,$K$1>0),INDIRECT("Inventaires!C"&SMALL(Inventaires!$B$3:$B$2500,ROW()-1),1),"")) | E403: =IF(AND($K$1=0,ROW()-1<=$J$1),INDIRECT("Inventaires!Q"&SMALL(Inventaires!$A$3:$A$2500,ROW()-1),1),IF(AND(ROW()-1<=$K$1,$K$1>0),INDIRECT("Inventaires!Q"&SMALL(Inventaires!$B$3:$B$2500,ROW()-1),1),"")) | F403: =IF(AND($K$1=0,ROW()-1<=$J$1),INDIRECT("Inventaires!J"&SMALL(Inventaires!$A$3:$A$2500,ROW()-1),1),IF(AND(ROW()-1<=$K$1,$K$1>0),INDIRECT("Inventaires!J"&SMALL(Inventaires!$B$3:$B$2500,ROW()-1),1),"")) | G403: =IF(AND($K$1=0,ROW()-1<=$J$1),INDIRECT("Inventaires!K"&SMALL(Inventaires!$A$3:$A$2500,ROW()-1),1),IF(AND(ROW()-1<=$K$1,$K$1>0),INDIRECT("Inventaires!K"&SMALL(Inventaires!$B$3:$B$2500,ROW()-1),1),"")) | H403: =IF(AND($K$1=0,ROW()-1<=$J$1),INDIRECT("Inventaires!O"&SMALL(Inventaires!$A$3:$A$2500,ROW()-1),1),IF(AND(ROW()-1<=$K$1,$K$1>0),INDIRECT("Inventaires!O"&SMALL(Inventaires!$B$3:$B$2500,ROW()-1),1),"")) | I403: =IF(AND($K$1=0,ROW()-1<=$J$1),INDIRECT("Inventaires!M"&SMALL(Inventaires!$A$3:$A$2500,ROW()-1),1),IF(AND(ROW()-1<=$K$1,$K$1>0),INDIRECT("Inventaires!M"&SMALL(Inventaires!$B$3:$B$2500,ROW()-1),1),""))
B404: =IF(AND($K$1=0,ROW()-1<=$J$1),INDIRECT("Inventaires!D"&SMALL(Inventaires!$A$3:$A$2500,ROW()-1),1),IF(AND(ROW()-1<=$K$1,$K$1>0),INDIRECT("Inventaires!D"&SMALL(Inventaires!$B$3:$B$2500,ROW()-1),1),"")) | C404: =IF(AND($K$1=0,ROW()-1<=$J$1),INDIRECT("Inventaires!I"&SMALL(Inventaires!$A$3:$A$2500,ROW()-1),1),IF(AND(ROW()-1<=$K$1,$K$1>0),INDIRECT("Inventaires!I"&SMALL(Inventaires!$B$3:$B$2500,ROW()-1),1),"")) | D404: =IF(AND($K$1=0,ROW()-1<=$J$1),INDIRECT("Inventaires!C"&SMALL(Inventaires!$A$3:$A$2500,ROW()-1),1),IF(AND(ROW()-1<=$K$1,$K$1>0),INDIRECT("Inventaires!C"&SMALL(Inventaires!$B$3:$B$2500,ROW()-1),1),"")) | E404: =IF(AND($K$1=0,ROW()-1<=$J$1),INDIRECT("Inventaires!Q"&SMALL(Inventaires!$A$3:$A$2500,ROW()-1),1),IF(AND(ROW()-1<=$K$1,$K$1>0),INDIRECT("Inventaires!Q"&SMALL(Inventaires!$B$3:$B$2500,ROW()-1),1),"")) | F404: =IF(AND($K$1=0,ROW()-1<=$J$1),INDIRECT("Inventaires!J"&SMALL(Inventaires!$A$3:$A$2500,ROW()-1),1),IF(AND(ROW()-1<=$K$1,$K$1>0),INDIRECT("Inventaires!J"&SMALL(Inventaires!$B$3:$B$2500,ROW()-1),1),"")) | G404: =IF(AND($K$1=0,ROW()-1<=$J$1),INDIRECT("Inventaires!K"&SMALL(Inventaires!$A$3:$A$2500,ROW()-1),1),IF(AND(ROW()-1<=$K$1,$K$1>0),INDIRECT("Inventaires!K"&SMALL(Inventaires!$B$3:$B$2500,ROW()-1),1),"")) | H404: =IF(AND($K$1=0,ROW()-1<=$J$1),INDIRECT("Inventaires!O"&SMALL(Inventaires!$A$3:$A$2500,ROW()-1),1),IF(AND(ROW()-1<=$K$1,$K$1>0),INDIRECT("Inventaires!O"&SMALL(Inventaires!$B$3:$B$2500,ROW()-1),1),"")) | I404: =IF(AND($K$1=0,ROW()-1<=$J$1),INDIRECT("Inventaires!M"&SMALL(Inventaires!$A$3:$A$2500,ROW()-1),1),IF(AND(ROW()-1<=$K$1,$K$1>0),INDIRECT("Inventaires!M"&SMALL(Inventaires!$B$3:$B$2500,ROW()-1),1),""))
B405: =IF(AND($K$1=0,ROW()-1<=$J$1),INDIRECT("Inventaires!D"&SMALL(Inventaires!$A$3:$A$2500,ROW()-1),1),IF(AND(ROW()-1<=$K$1,$K$1>0),INDIRECT("Inventaires!D"&SMALL(Inventaires!$B$3:$B$2500,ROW()-1),1),"")) | C405: =IF(AND($K$1=0,ROW()-1<=$J$1),INDIRECT("Inventaires!I"&SMALL(Inventaires!$A$3:$A$2500,ROW()-1),1),IF(AND(ROW()-1<=$K$1,$K$1>0),INDIRECT("Inventaires!I"&SMALL(Inventaires!$B$3:$B$2500,ROW()-1),1),"")) | D405: =IF(AND($K$1=0,ROW()-1<=$J$1),INDIRECT("Inventaires!C"&SMALL(Inventaires!$A$3:$A$2500,ROW()-1),1),IF(AND(ROW()-1<=$K$1,$K$1>0),INDIRECT("Inventaires!C"&SMALL(Inventaires!$B$3:$B$2500,ROW()-1),1),"")) | E405: =IF(AND($K$1=0,ROW()-1<=$J$1),INDIRECT("Inventaires!Q"&SMALL(Inventaires!$A$3:$A$2500,ROW()-1),1),IF(AND(ROW()-1<=$K$1,$K$1>0),INDIRECT("Inventaires!Q"&SMALL(Inventaires!$B$3:$B$2500,ROW()-1),1),"")) | F405: =IF(AND($K$1=0,ROW()-1<=$J$1),INDIRECT("Inventaires!J"&SMALL(Inventaires!$A$3:$A$2500,ROW()-1),1),IF(AND(ROW()-1<=$K$1,$K$1>0),INDIRECT("Inventaires!J"&SMALL(Inventaires!$B$3:$B$2500,ROW()-1),1),"")) | G405: =IF(AND($K$1=0,ROW()-1<=$J$1),INDIRECT("Inventaires!K"&SMALL(Inventaires!$A$3:$A$2500,ROW()-1),1),IF(AND(ROW()-1<=$K$1,$K$1>0),INDIRECT("Inventaires!K"&SMALL(Inventaires!$B$3:$B$2500,ROW()-1),1),"")) | H405: =IF(AND($K$1=0,ROW()-1<=$J$1),INDIRECT("Inventaires!O"&SMALL(Inventaires!$A$3:$A$2500,ROW()-1),1),IF(AND(ROW()-1<=$K$1,$K$1>0),INDIRECT("Inventaires!O"&SMALL(Inventaires!$B$3:$B$2500,ROW()-1),1),"")) | I405: =IF(AND($K$1=0,ROW()-1<=$J$1),INDIRECT("Inventaires!M"&SMALL(Inventaires!$A$3:$A$2500,ROW()-1),1),IF(AND(ROW()-1<=$K$1,$K$1>0),INDIRECT("Inventaires!M"&SMALL(Inventaires!$B$3:$B$2500,ROW()-1),1),""))
B406: =IF(AND($K$1=0,ROW()-1<=$J$1),INDIRECT("Inventaires!D"&SMALL(Inventaires!$A$3:$A$2500,ROW()-1),1),IF(AND(ROW()-1<=$K$1,$K$1>0),INDIRECT("Inventaires!D"&SMALL(Inventaires!$B$3:$B$2500,ROW()-1),1),"")) | C406: =IF(AND($K$1=0,ROW()-1<=$J$1),INDIRECT("Inventaires!I"&SMALL(Inventaires!$A$3:$A$2500,ROW()-1),1),IF(AND(ROW()-1<=$K$1,$K$1>0),INDIRECT("Inventaires!I"&SMALL(Inventaires!$B$3:$B$2500,ROW()-1),1),"")) | D406: =IF(AND($K$1=0,ROW()-1<=$J$1),INDIRECT("Inventaires!C"&SMALL(Inventaires!$A$3:$A$2500,ROW()-1),1),IF(AND(ROW()-1<=$K$1,$K$1>0),INDIRECT("Inventaires!C"&SMALL(Inventaires!$B$3:$B$2500,ROW()-1),1),"")) | E406: =IF(AND($K$1=0,ROW()-1<=$J$1),INDIRECT("Inventaires!Q"&SMALL(Inventaires!$A$3:$A$2500,ROW()-1),1),IF(AND(ROW()-1<=$K$1,$K$1>0),INDIRECT("Inventaires!Q"&SMALL(Inventaires!$B$3:$B$2500,ROW()-1),1),"")) | F406: =IF(AND($K$1=0,ROW()-1<=$J$1),INDIRECT("Inventaires!J"&SMALL(Inventaires!$A$3:$A$2500,ROW()-1),1),IF(AND(ROW()-1<=$K$1,$K$1>0),INDIRECT("Inventaires!J"&SMALL(Inventaires!$B$3:$B$2500,ROW()-1),1),"")) | G406: =IF(AND($K$1=0,ROW()-1<=$J$1),INDIRECT("Inventaires!K"&SMALL(Inventaires!$A$3:$A$2500,ROW()-1),1),IF(AND(ROW()-1<=$K$1,$K$1>0),INDIRECT("Inventaires!K"&SMALL(Inventaires!$B$3:$B$2500,ROW()-1),1),"")) | H406: =IF(AND($K$1=0,ROW()-1<=$J$1),INDIRECT("Inventaires!O"&SMALL(Inventaires!$A$3:$A$2500,ROW()-1),1),IF(AND(ROW()-1<=$K$1,$K$1>0),INDIRECT("Inventaires!O"&SMALL(Inventaires!$B$3:$B$2500,ROW()-1),1),"")) | I406: =IF(AND($K$1=0,ROW()-1<=$J$1),INDIRECT("Inventaires!M"&SMALL(Inventaires!$A$3:$A$2500,ROW()-1),1),IF(AND(ROW()-1<=$K$1,$K$1>0),INDIRECT("Inventaires!M"&SMALL(Inventaires!$B$3:$B$2500,ROW()-1),1),""))
B407: =IF(AND($K$1=0,ROW()-1<=$J$1),INDIRECT("Inventaires!D"&SMALL(Inventaires!$A$3:$A$2500,ROW()-1),1),IF(AND(ROW()-1<=$K$1,$K$1>0),INDIRECT("Inventaires!D"&SMALL(Inventaires!$B$3:$B$2500,ROW()-1),1),"")) | C407: =IF(AND($K$1=0,ROW()-1<=$J$1),INDIRECT("Inventaires!I"&SMALL(Inventaires!$A$3:$A$2500,ROW()-1),1),IF(AND(ROW()-1<=$K$1,$K$1>0),INDIRECT("Inventaires!I"&SMALL(Inventaires!$B$3:$B$2500,ROW()-1),1),"")) | D407: =IF(AND($K$1=0,ROW()-1<=$J$1),INDIRECT("Inventaires!C"&SMALL(Inventaires!$A$3:$A$2500,ROW()-1),1),IF(AND(ROW()-1<=$K$1,$K$1>0),INDIRECT("Inventaires!C"&SMALL(Inventaires!$B$3:$B$2500,ROW()-1),1),"")) | E407: =IF(AND($K$1=0,ROW()-1<=$J$1),INDIRECT("Inventaires!Q"&SMALL(Inventaires!$A$3:$A$2500,ROW()-1),1),IF(AND(ROW()-1<=$K$1,$K$1>0),INDIRECT("Inventaires!Q"&SMALL(Inventaires!$B$3:$B$2500,ROW()-1),1),"")) | F407: =IF(AND($K$1=0,ROW()-1<=$J$1),INDIRECT("Inventaires!J"&SMALL(Inventaires!$A$3:$A$2500,ROW()-1),1),IF(AND(ROW()-1<=$K$1,$K$1>0),INDIRECT("Inventaires!J"&SMALL(Inventaires!$B$3:$B$2500,ROW()-1),1),"")) | G407: =IF(AND($K$1=0,ROW()-1<=$J$1),INDIRECT("Inventaires!K"&SMALL(Inventaires!$A$3:$A$2500,ROW()-1),1),IF(AND(ROW()-1<=$K$1,$K$1>0),INDIRECT("Inventaires!K"&SMALL(Inventaires!$B$3:$B$2500,ROW()-1),1),"")) | H407: =IF(AND($K$1=0,ROW()-1<=$J$1),INDIRECT("Inventaires!O"&SMALL(Inventaires!$A$3:$A$2500,ROW()-1),1),IF(AND(ROW()-1<=$K$1,$K$1>0),INDIRECT("Inventaires!O"&SMALL(Inventaires!$B$3:$B$2500,ROW()-1),1),"")) | I407: =IF(AND($K$1=0,ROW()-1<=$J$1),INDIRECT("Inventaires!M"&SMALL(Inventaires!$A$3:$A$2500,ROW()-1),1),IF(AND(ROW()-1<=$K$1,$K$1>0),INDIRECT("Inventaires!M"&SMALL(Inventaires!$B$3:$B$2500,ROW()-1),1),""))
