Workbook

Sheet Recherche
A1: Courtier | B1: Comnpagnie représenté | C1: Représentant | D1: Adresse email
A2: Advantage Solutions | B2: =IF(Dll!I:I>0,Dll!H:H,"")
B3: =IF(Dll!I:I>0,Dll!H:H,"")
B4: =IF(Dll!I:I>0,Dll!H:H,"")
B5: =IF(Dll!I:I>0,Dll!H:H,"")
B6: =IF(Dll!I:I>0,Dll!H:H,"")
B7: =IF(Dll!I:I>0,Dll!H:H,"")
B8: =IF(Dll!I:I>0,Dll!H:H,"")
B9: =IF(Dll!I:I>0,Dll!H:H,"")
B10: =IF(Dll!I:I>0,Dll!H:H,"")
B11: =IF(Dll!I:I>0,Dll!H:H,"")
B12: =IF(Dll!I:I>0,Dll!H:H,"")
B13: =IF(Dll!I:I>0,Dll!H:H,"")
B14: =IF(Dll!I:I>0,Dll!H:H,"")
... B349: =IF(Dll!I:I>0,Dll!H:H,"")
B385: =IF(A385=Dll!A:A,Dll!B:B,"") -> 0
B386: =IF(A386=Dll!A:A,Dll!B:B,"") -> 0
B387: =IF(A387=Dll!A:A,Dll!B:B,"") -> 0
B388: =IF(A388=Dll!A:A,Dll!B:B,"") -> 0
B389: =IF(A389=Dll!A:A,Dll!B:B,"") -> 0
B390: =IF(A390=Dll!A:A,Dll!B:B,"") -> 0
B391: =IF(A391=Dll!A:A,Dll!B:B,"") -> 0
B392: =IF(A392=Dll!A:A,Dll!B:B,"") -> 0
B393: =IF(A393=Dll!A:A,Dll!B:B,"") -> 0
B394: =IF(A394=Dll!A:A,Dll!B:B,"") -> 0
B395: =IF(A395=Dll!A:A,Dll!B:B,"") -> 0
B396: =IF(A396=Dll!A:A,Dll!B:B,"") -> 0
... B404: =IF(A404=Dll!A:A,Dll!B:B,"") -> 0
B405: =IF(OR(Dll!A405="",Recherche!A405<>Dll!A405),"",Dll!B405)
B406: =IF(OR(Dll!A406="",Recherche!A406<>Dll!A406),"",Dll!B406)
B407: =IF(OR(Dll!A407="",Recherche!A407<>Dll!A407),"",Dll!B407)
B408: =IF(OR(Dll!A408="",Recherche!A408<>Dll!A408),"",Dll!B408)
B409: =IF(OR(Dll!A409="",Recherche!A409<>Dll!A409),"",Dll!B409)
B410: =IF(OR(Dll!A410="",Recherche!A410<>Dll!A410),"",Dll!B410)
B411: =IF(OR(Dll!A411="",Recherche!A411<>Dll!A411),"",Dll!B411)
B412: =IF(OR(Dll!A412="",Recherche!A412<>Dll!A412),"",Dll!B412)
B413: =IF(OR(Dll!A413="",Recherche!A413<>Dll!A413),"",Dll!B413)
B414: =IF(OR(Dll!A414="",Recherche!A414<>Dll!A414),"",Dll!B414)
B415: =IF(OR(Dll!A415="",Recherche!A415<>Dll!A415),"",Dll!B415)
B416: =IF(OR(Dll!A416="",Recherche!A416<>Dll!A416),"",Dll!B416)
... B742: =IF(OR(Dll!A742="",Recherche!A742<>Dll!A742),"",Dll!B742)

Sheet Dll
G1: =COUNTIF(G2:G1000,">=1") -> 0
A2: Ac courtier | B2: Olegoxpress | C2: Arduino Corso (1-514-567-4975) | D2: accourtier@yahoo.ca | E2: =IF(ISERROR(SMALL(F$2:F$400,ROW()-1)),"",INDIRECT("A"&SMALL(F$2:F$400,ROW()-1))) -> Ac courtier | F2: =IF(OR(A2="",A2=A3),"",ROW()) | H2: =IF(OR(Dll!A2="",Recherche!A2<>Dll!A2),"",Dll!B2) | I2: =IF(A2=Recherche!$A$2,ROW(),J2) -> 0
A3: Ac courtier | B3: Carte au bois | C3: Arduino Corso (1-514-567-4975) | D3: accourtier@yahoo.ca | E3: =IF(ISERROR(SMALL(F$2:F$400,ROW()-1)),"",INDIRECT("A"&SMALL(F$2:F$400,ROW()-1))) -> Acosta | F3: =IF(OR(A3="",A3=A4),"",ROW()) | H3: =IF(OR(Dll!A3="",Recherche!A2<>Dll!A3),"",Dll!B3) | I3: =IF(A3=Recherche!$A$2,ROW(),J3) -> 0 | K3: =IF(I2>0,H2,"")
A4: Ac courtier | B4: Gertex Hosiery Inc. | C4: Arduino Corso (1-514-567-4975) | D4: accourtier@yahoo.ca | E4: =IF(ISERROR(SMALL(F$2:F$400,ROW()-1)),"",INDIRECT("A"&SMALL(F$2:F$400,ROW()-1))) -> Advantage Solutions | F4: =IF(OR(A4="",A4=A5),"",ROW()) | H4: =IF(OR(Dll!A4="",Recherche!A2<>Dll!A4),"",Dll!B4) | I4: =IF(A4=Recherche!$A$2,ROW(),J4) -> 0 | K4: =IF(I3>0,H3,"")
A5: Ac courtier | C5: Arduino Corso (1-514-567-4975) | D5: accourtier@yahoo.ca | E5: =IF(ISERROR(SMALL(F$2:F$400,ROW()-1)),"",INDIRECT("A"&SMALL(F$2:F$400,ROW()-1))) -> Agnece 2L | F5: =IF(OR(A5="",A5=A6),"",ROW()) | H5: =IF(OR(Dll!A5="",Recherche!A2<>Dll!A5),"",Dll!B5) | I5: =IF(A5=Recherche!$A$2,ROW(),J5) -> 0 | K5: =IF(I4>0,H4,"")
A6: Ac courtier | C6: Arduino Corso (1-514-567-4975) | D6: accourtier@yahoo.ca | E6: =IF(ISERROR(SMALL(F$2:F$400,ROW()-1)),"",INDIRECT("A"&SMALL(F$2:F$400,ROW()-1))) -> Airway | F6: =IF(OR(A6="",A6=A7),"",ROW()) | H6: =IF(OR(Dll!A6="",Recherche!A2<>Dll!A6),"",Dll!B6) | I6: =IF(A6=Recherche!$A$2,ROW(),J6) -> 0 | K6: =IF(I5>0,H5,"")
A7: Ac courtier | C7: Arduino Corso (1-514-567-4975) | D7: accourtier@yahoo.ca | E7: =IF(ISERROR(SMALL(F$2:F$400,ROW()-1)),"",INDIRECT("A"&SMALL(F$2:F$400,ROW()-1))) -> Alliance | F7: =IF(OR(A7="",A7=A8),"",ROW()) -> 7 | H7: =IF(OR(Dll!A7="",Recherche!A2<>Dll!A7),"",Dll!B7) | I7: =IF(A7=Recherche!$A$2,ROW(),J7) -> 0 | K7: =IF(I6>0,H6,"")
A8: Acosta | B8: Burt's Bees | C8: Lucie Fontaine (1-418-334-0888) | D8: lfontaine@acosta.com | E8: =IF(ISERROR(SMALL(F$2:F$400,ROW()-1)),"",INDIRECT("A"&SMALL(F$2:F$400,ROW()-1))) -> Biochala | F8: =IF(OR(A8="",A8=A9),"",ROW()) | H8: =IF(OR(Dll!A8="",Recherche!A2<>Dll!A8),"",Dll!B8) | I8: =IF(A8=Recherche!$A$2,ROW(),J8) -> 0 | K8: =IF(I7>0,H7,"")
A9: Acosta | B9: Canadian Salt Co. | C9: Lucie Fontaine (1-418-334-0888) | D9: lfontaine@acosta.com | E9: =IF(ISERROR(SMALL(F$2:F$400,ROW()-1)),"",INDIRECT("A"&SMALL(F$2:F$400,ROW()-1))) -> Bruno | F9: =IF(OR(A9="",A9=A10),"",ROW()) | H9: =IF(OR(Dll!A9="",Recherche!A2<>Dll!A9),"",Dll!B9) | I9: =IF(A9=Recherche!$A$2,ROW(),J9) -> 0 | K9: =IF(I8>0,H8,"")
A10: Acosta | B10: CB Powell | C10: Lucie Fontaine (1-418-334-0888) | D10: lfontaine@acosta.com | E10: =IF(ISERROR(SMALL(F$2:F$400,ROW()-1)),"",INDIRECT("A"&SMALL(F$2:F$400,ROW()-1))) -> Cavan | F10: =IF(OR(A10="",A10=A11),"",ROW()) | H10: =IF(OR(Dll!A10="",Recherche!A2<>Dll!A10),"",Dll!B10) | I10: =IF(A10=Recherche!$A$2,ROW(),J10) -> 0 | K10: =IF(I9>0,H9,"")
A11: Acosta | B11: Ganong | C11: Lucie Fontaine (1-418-334-0888) | D11: lfontaine@acosta.com | E11: =IF(ISERROR(SMALL(F$2:F$400,ROW()-1)),"",INDIRECT("A"&SMALL(F$2:F$400,ROW()-1))) -> Ciné Royal | F11: =IF(OR(A11="",A11=A12),"",ROW()) | H11: =IF(OR(Dll!A11="",Recherche!A2<>Dll!A11),"",Dll!B11) | I11: =IF(A11=Recherche!$A$2,ROW(),J11) -> 0 | K11: =IF(I10>0,H10,"")
A12: Acosta | B12: Kisko Products | C12: Lucie Fontaine (1-418-334-0888) | D12: lfontaine@acosta.com | E12: =IF(ISERROR(SMALL(F$2:F$400,ROW()-1)),"",INDIRECT("A"&SMALL(F$2:F$400,ROW()-1))) -> Courtier Pharma | F12: =IF(OR(A12="",A12=A13),"",ROW()) | H12: =IF(OR(Dll!A12="",Recherche!A2<>Dll!A12),"",Dll!B12) | I12: =IF(A12=Recherche!$A$2,ROW(),J12) -> 0 | K12: =IF(I11>0,H11,"")
A13: Acosta | B13: Oetker | C13: Lucie Fontaine (1-418-334-0888) | D13: lfontaine@acosta.com | E13: =IF(ISERROR(SMALL(F$2:F$400,ROW()-1)),"",INDIRECT("A"&SMALL(F$2:F$400,ROW()-1))) -> Fempro | F13: =IF(OR(A13="",A13=A14),"",ROW()) | H13: =IF(OR(Dll!A13="",Recherche!A2<>Dll!A13),"",Dll!B13) | I13: =IF(A13=Recherche!$A$2,ROW(),J13) -> 0 | K13: =IF(I12>0,H12,"")
A14: Acosta | B14: Mcneil Nutritional | C14: Lucie Fontaine (1-418-334-0888) | D14: lfontaine@acosta.com | E14: =IF(ISERROR(SMALL(F$2:F$400,ROW()-1)),"",INDIRECT("A"&SMALL(F$2:F$400,ROW()-1))) -> Galderma | F14: =IF(OR(A14="",A14=A15),"",ROW()) | H14: =IF(OR(Dll!A14="",Recherche!A2<>Dll!A14),"",Dll!B14) | I14: =IF(A14=Recherche!$A$2,ROW(),J14) -> 0 | K14: =IF(I13>0,H13,"")
A15: Acosta | B15: Natrel Baboo | C15: Lucie Fontaine (1-418-334-0888) | D15: lfontaine@acosta.com | E15: =IF(ISERROR(SMALL(F$2:F$400,ROW()-1)),"",INDIRECT("A"&SMALL(F$2:F$400,ROW()-1))) -> KW | F15: =IF(OR(A15="",A15=A16),"",ROW()) | H15: =IF(OR(Dll!A15="",Recherche!A2<>Dll!A15),"",Dll!B15) | I15: =IF(A15=Recherche!$A$2,ROW(),J15) -> 0
A16: Acosta | B16: Ocean Spray Int. | C16: Lucie Fontaine (1-418-334-0888) | D16: lfontaine@acosta.com | E16: =IF(ISERROR(SMALL(F$2:F$400,ROW()-1)),"",INDIRECT("A"&SMALL(F$2:F$400,ROW()-1))) -> Myriad Pharma | F16: =IF(OR(A16="",A16=A17),"",ROW()) | H16: =IF(OR(Dll!A16="",Recherche!A2<>Dll!A16),"",Dll!B16) | I16: =IF(A16=Recherche!$A$2,ROW(),J16) -> 0
A17: Acosta | B17: Perfetti Van Melle | C17: Lucie Fontaine (1-418-334-0888) | D17: lfontaine@acosta.com | E17: =IF(ISERROR(SMALL(F$2:F$400,ROW()-1)),"",INDIRECT("A"&SMALL(F$2:F$400,ROW()-1))) -> Norrizon | F17: =IF(OR(A17="",A17=A18),"",ROW()) | H17: =IF(OR(Dll!A17="",Recherche!A2<>Dll!A17),"",Dll!B17) | I17: =IF(A17=Recherche!$A$2,ROW(),J17) -> 0
A18: Acosta | B18: Smucker Foods of Canada | C18: Lucie Fontaine (1-418-334-0888) | D18: lfontaine@acosta.com | E18: =IF(ISERROR(SMALL(F$2:F$400,ROW()-1)),"",INDIRECT("A"&SMALL(F$2:F$400,ROW()-1))) -> Pro Action | F18: =IF(OR(A18="",A18=A19),"",ROW()) | H18: =IF(OR(Dll!A18="",Recherche!A2<>Dll!A18),"",Dll!B18) | I18: =IF(A18=Recherche!$A$2,ROW(),J18) -> 0
A19: Acosta | B19: Sun Products | C19: Lucie Fontaine (1-418-334-0888) | D19: lfontaine@acosta.com | E19: =IF(ISERROR(SMALL(F$2:F$400,ROW()-1)),"",INDIRECT("A"&SMALL(F$2:F$400,ROW()-1))) -> Prodex | F19: =IF(OR(A19="",A19=A20),"",ROW()) | H19: =IF(OR(Dll!A19="",Recherche!A2<>Dll!A19),"",Dll!B19) | I19: =IF(A19=Recherche!$A$2,ROW(),J19) -> 0
A20: Acosta | B20: Whiripool | C20: Lucie Fontaine (1-418-334-0888) | D20: lfontaine@acosta.com | E20: =IF(ISERROR(SMALL(F$2:F$400,ROW()-1)),"",INDIRECT("A"&SMALL(F$2:F$400,ROW()-1))) -> Rose & Associés | F20: =IF(OR(A20="",A20=A21),"",ROW()) | H20: =IF(OR(Dll!A20="",Recherche!A2<>Dll!A20),"",Dll!B20) | I20: =IF(A20=Recherche!$A$2,ROW(),J20) -> 0
A21: Acosta | B21: Allan Canddy | C21: Lucie Fontaine (1-418-334-0888) | D21: lfontaine@acosta.com | E21: =IF(ISERROR(SMALL(F$2:F$400,ROW()-1)),"",INDIRECT("A"&SMALL(F$2:F$400,ROW()-1))) | F21: =IF(OR(A21="",A21=A22),"",ROW()) | H21: =IF(OR(Dll!A21="",Recherche!A2<>Dll!A21),"",Dll!B21) | I21: =IF(A21=Recherche!$A$2,ROW(),J21) -> 0
A22: Acosta | B22: Clorox | C22: Lucie Fontaine (1-418-334-0888) | D22: lfontaine@acosta.com | E22: =IF(ISERROR(SMALL(F$2:F$400,ROW()-1)),"",INDIRECT("A"&SMALL(F$2:F$400,ROW()-1))) | F22: =IF(OR(A22="",A22=A23),"",ROW()) | H22: =IF(OR(Dll!A22="",Recherche!A2<>Dll!A22),"",Dll!B22) | I22: =IF(A22=Recherche!$A$2,ROW(),J22) -> 0
A23: Acosta | B23: Colgate | C23: Lucie Fontaine (1-418-334-0888) | D23: lfontaine@acosta.com | E23: =IF(ISERROR(SMALL(F$2:F$400,ROW()-1)),"",INDIRECT("A"&SMALL(F$2:F$400,ROW()-1))) | F23: =IF(OR(A23="",A23=A24),"",ROW()) | H23: =IF(OR(Dll!A23="",Recherche!A2<>Dll!A23),"",Dll!B23) | I23: =IF(A23=Recherche!$A$2,ROW(),J23) -> 0
A24: Acosta | B24: WD 40 | C24: Lucie Fontaine (1-418-334-0888) | D24: lfontaine@acosta.com | E24: =IF(ISERROR(SMALL(F$2:F$400,ROW()-1)),"",INDIRECT("A"&SMALL(F$2:F$400,ROW()-1))) | F24: =IF(OR(A24="",A24=A25),"",ROW()) | H24: =IF(OR(Dll!A24="",Recherche!A2<>Dll!A24),"",Dll!B24) | I24: =IF(A24=Recherche!$A$2,ROW(),J24) -> 0
A25: Acosta | B25: Weider | C25: Lucie Fontaine (1-418-334-0888) | D25: lfontaine@acosta.com | E25: =IF(ISERROR(SMALL(F$2:F$400,ROW()-1)),"",INDIRECT("A"&SMALL(F$2:F$400,ROW()-1))) | F25: =IF(OR(A25="",A25=A26),"",ROW()) -> 25 | H25: =IF(OR(Dll!A25="",Recherche!A2<>Dll!A25),"",Dll!B25) | I25: =IF(A25=Recherche!$A$2,ROW(),J25) -> 0
A26: Advantage Solutions | B26: Relaxa | C26: Lyne Malenfant (1-450-975-2525) (#513) | D26: lyne.malenfant@asmnet.com | E26: =IF(ISERROR(SMALL(F$2:F$400,ROW()-1)),"",INDIRECT("A"&SMALL(F$2:F$400,ROW()-1))) | F26: =IF(OR(A26="",A26=A27),"",ROW()) | H26: =IF(OR(Dll!A26="",Recherche!A2<>Dll!A26),"",Dll!B26) -> Relaxa | I26: =IF(A26=Recherche!$A$2,ROW(),J26) -> 26
A27: Advantage Solutions | B27: Antistax | C27: Lyne Malenfant (1-450-975-2525) (#513) | D27: lyne.malenfant@asmnet.com | E27: =IF(ISERROR(SMALL(F$2:F$400,ROW()-1)),"",INDIRECT("A"&SMALL(F$2:F$400,ROW()-1))) | F27: =IF(OR(A27="",A27=A28),"",ROW()) | H27: =IF(OR(Dll!A27="",Recherche!A2<>Dll!A27),"",Dll!B27) -> Antistax | I27: =IF(A27=Recherche!$A$2,ROW(),J27) -> 27
A28: Advantage Solutions | B28: Blistex | C28: Lyne Malenfant (1-450-975-2525) (#513) | D28: lyne.malenfant@asmnet.com | E28: =IF(ISERROR(SMALL(F$2:F$400,ROW()-1)),"",INDIRECT("A"&SMALL(F$2:F$400,ROW()-1))) | F28: =IF(OR(A28="",A28=A29),"",ROW()) | H28: =IF(OR(Dll!A28="",Recherche!A2<>Dll!A28),"",Dll!B28) -> Blistex | I28: =IF(A28=Recherche!$A$2,ROW(),J28) -> 28
A29: Advantage Solutions | B29: Glysomed | C29: Lyne Malenfant (1-450-975-2525) (#513) | D29: lyne.malenfant@asmnet.com | E29: =IF(ISERROR(SMALL(F$2:F$400,ROW()-1)),"",INDIRECT("A"&SMALL(F$2:F$400,ROW()-1))) | F29: =IF(OR(A29="",A29=A30),"",ROW()) | H29: =IF(OR(Dll!A29="",Recherche!A2<>Dll!A29),"",Dll!B29) -> Glysomed | I29: =IF(A29=Recherche!$A$2,ROW(),J29) -> 29
A30: Advantage Solutions | B30: Zantac | C30: Lyne Malenfant (1-450-975-2525) (#513) | D30: lyne.malenfant@asmnet.com | E30: =IF(ISERROR(SMALL(F$2:F$400,ROW()-1)),"",INDIRECT("A"&SMALL(F$2:F$400,ROW()-1))) | F30: =IF(OR(A30="",A30=A31),"",ROW()) | H30: =IF(OR(Dll!A30="",Recherche!A2<>Dll!A30),"",Dll!B30) -> Zantac | I30: =IF(A30=Recherche!$A$2,ROW(),J30) -> 30
A31: Advantage Solutions | B31: Trojan | C31: Lyne Malenfant (1-450-975-2525) (#513) | D31: lyne.malenfant@asmnet.com | E31: =IF(ISERROR(SMALL(F$2:F$400,ROW()-1)),"",INDIRECT("A"&SMALL(F$2:F$400,ROW()-1))) | F31: =IF(OR(A31="",A31=A32),"",ROW()) | H31: =IF(OR(Dll!A31="",Recherche!A2<>Dll!A31),"",Dll!B31) -> Trojan | I31: =IF(A31=Recherche!$A$2,ROW(),J31) -> 31
A32: Advantage Solutions | B32: Rub A535 Antiphlogistine | C32: Lyne Malenfant (1-450-975-2525) (#513) | D32: lyne.malenfant@asmnet.com | E32: =IF(ISERROR(SMALL(F$2:F$400,ROW()-1)),"",INDIRECT("A"&SMALL(F$2:F$400,ROW()-1))) | F32: =IF(OR(A32="",A32=A33),"",ROW()) | H32: =IF(OR(Dll!A32="",Recherche!A2<>Dll!A32),"",Dll!B32) -> Rub A535 Antiphlogistine | I32: =IF(A32=Recherche!$A$2,ROW(),J32) -> 32
A33: Advantage Solutions | B33: Gravol | C33: Lyne Malenfant (1-450-975-2525) (#513) | D33: lyne.malenfant@asmnet.com | E33: =IF(ISERROR(SMALL(F$2:F$400,ROW()-1)),"",INDIRECT("A"&SMALL(F$2:F$400,ROW()-1))) | F33: =IF(OR(A33="",A33=A34),"",ROW()) | H33: =IF(OR(Dll!A33="",Recherche!A2<>Dll!A33),"",Dll!B33) -> Gravol | I33: =IF(A33=Recherche!$A$2,ROW(),J33) -> 33
A34: Advantage Solutions | B34: Frist Réponse | C34: Lyne Malenfant (1-450-975-2525) (#513) | D34: lyne.malenfant@asmnet.com | E34: =IF(ISERROR(SMALL(F$2:F$400,ROW()-1)),"",INDIRECT("A"&SMALL(F$2:F$400,ROW()-1))) | F34: =IF(OR(A34="",A34=A35),"",ROW()) | H34: =IF(OR(Dll!A34="",Recherche!A2<>Dll!A34),"",Dll!B34) -> Frist Réponse | I34: =IF(A34=Recherche!$A$2,ROW(),J34) -> 34
A35: Advantage Solutions | B35: Atasol | C35: Lyne Malenfant (1-450-975-2525) (#513) | D35: lyne.malenfant@asmnet.com | E35: =IF(ISERROR(SMALL(F$2:F$400,ROW()-1)),"",INDIRECT("A"&SMALL(F$2:F$400,ROW()-1))) | F35: =IF(OR(A35="",A35=A36),"",ROW()) | H35: =IF(OR(Dll!A35="",Recherche!A2<>Dll!A35),"",Dll!B35) -> Atasol | I35: =IF(A35=Recherche!$A$2,ROW(),J35) -> 35
A36: Advantage Solutions | B36: Orajel | C36: Lyne Malenfant (1-450-975-2525) (#513) | D36: lyne.malenfant@asmnet.com | E36: =IF(ISERROR(SMALL(F$2:F$400,ROW()-1)),"",INDIRECT("A"&SMALL(F$2:F$400,ROW()-1))) | F36: =IF(OR(A36="",A36=A37),"",ROW()) | H36: =IF(OR(Dll!A36="",Recherche!A2<>Dll!A36),"",Dll!B36) -> Orajel | I36: =IF(A36=Recherche!$A$2,ROW(),J36) -> 36
A37: Advantage Solutions | B37: Pfizer | C37: Lyne Malenfant (1-450-975-2525) (#513) | D37: lyne.malenfant@asmnet.com | E37: =IF(ISERROR(SMALL(F$2:F$400,ROW()-1)),"",INDIRECT("A"&SMALL(F$2:F$400,ROW()-1))) | F37: =IF(OR(A37="",A37=A38),"",ROW()) | H37: =IF(OR(Dll!A37="",Recherche!A2<>Dll!A37),"",Dll!B37) -> Pfizer | I37: =IF(A37=Recherche!$A$2,ROW(),J37) -> 37
A38: Advantage Solutions | B38: Vicks | C38: Lyne Malenfant (1-450-975-2525) (#513) | D38: lyne.malenfant@asmnet.com | E38: =IF(ISERROR(SMALL(F$2:F$400,ROW()-1)),"",INDIRECT("A"&SMALL(F$2:F$400,ROW()-1))) | F38: =IF(OR(A38="",A38=A39),"",ROW()) | H38: =IF(OR(Dll!A38="",Recherche!A2<>Dll!A38),"",Dll!B38) -> Vicks | I38: =IF(A38=Recherche!$A$2,ROW(),J38) -> 38
A39: Advantage Solutions | B39: Church&Dwight Co. | C39: Lyne Malenfant (1-450-975-2525) (#513) | D39: lyne.malenfant@asmnet.com | E39: =IF(ISERROR(SMALL(F$2:F$400,ROW()-1)),"",INDIRECT("A"&SMALL(F$2:F$400,ROW()-1))) | F39: =IF(OR(A39="",A39=A40),"",ROW()) | H39: =IF(OR(Dll!A39="",Recherche!A2<>Dll!A39),"",Dll!B39) -> Church&Dwight Co. | I39: =IF(A39=Recherche!$A$2,ROW(),J39) -> 39
A40: Advantage Solutions | B40: Glaxo (GSK) | C40: Lyne Malenfant (1-450-975-2525) (#513) | D40: lyne.malenfant@asmnet.com | E40: =IF(ISERROR(SMALL(F$2:F$400,ROW()-1)),"",INDIRECT("A"&SMALL(F$2:F$400,ROW()-1))) | F40: =IF(OR(A40="",A40=A41),"",ROW()) -> 40 | H40: =IF(OR(Dll!A40="",Recherche!A2<>Dll!A40),"",Dll!B40) -> Glaxo (GSK) | I40: =IF(A40=Recherche!$A$2,ROW(),J40) -> 40
A41: Agnece 2L | B41: Jouet Kids | C41: François Frappier (1-438-888-7605) | D41: francois@agence2l.com | E41: =IF(ISERROR(SMALL(F$2:F$400,ROW()-1)),"",INDIRECT("A"&SMALL(F$2:F$400,ROW()-1))) | F41: =IF(OR(A41="",A41=A42),"",ROW()) | H41: =IF(OR(Dll!A41="",Recherche!A2<>Dll!A41),"",Dll!B41) | I41: =IF(A41=Recherche!$A$2,ROW(),J41) -> 0
A42: Agnece 2L | B42: Candle Company | C42: François Frappier (1-438-888-7605) | D42: francois@agence2l.com | E42: =IF(ISERROR(SMALL(F$2:F$400,ROW()-1)),"",INDIRECT("A"&SMALL(F$2:F$400,ROW()-1))) | F42: =IF(OR(A42="",A42=A43),"",ROW()) | H42: =IF(OR(Dll!A42="",Recherche!A2<>Dll!A42),"",Dll!B42) | I42: =IF(A42=Recherche!$A$2,ROW(),J42) -> 0
A43: Agnece 2L | B43: Ketto | C43: François Frappier (1-438-888-7605) | D43: francois@agence2l.com | E43: =IF(ISERROR(SMALL(F$2:F$400,ROW()-1)),"",INDIRECT("A"&SMALL(F$2:F$400,ROW()-1))) | F43: =IF(OR(A43="",A43=A44),"",ROW()) | H43: =IF(OR(Dll!A43="",Recherche!A2<>Dll!A43),"",Dll!B43) | I43: =IF(A43=Recherche!$A$2,ROW(),J43) -> 0
A44: Agnece 2L | B44: Chantal Lacroix | C44: François Frappier (1-438-888-7605) | D44: francois@agence2l.com | E44: =IF(ISERROR(SMALL(F$2:F$400,ROW()-1)),"",INDIRECT("A"&SMALL(F$2:F$400,ROW()-1))) | F44: =IF(OR(A44="",A44=A45),"",ROW()) | H44: =IF(OR(Dll!A44="",Recherche!A2<>Dll!A44),"",Dll!B44) | I44: =IF(A44=Recherche!$A$2,ROW(),J44) -> 0
A45: Agnece 2L | B45: Sweet Factory | C45: François Frappier (1-438-888-7605) | D45: francois@agence2l.com | E45: =IF(ISERROR(SMALL(F$2:F$400,ROW()-1)),"",INDIRECT("A"&SMALL(F$2:F$400,ROW()-1))) | F45: =IF(OR(A45="",A45=A46),"",ROW()) | H45: =IF(OR(Dll!A45="",Recherche!A2<>Dll!A45),"",Dll!B45) | I45: =IF(A45=Recherche!$A$2,ROW(),J45) -> 0
A46: Agnece 2L | B46: Ola Bamboo | C46: François Frappier (1-438-888-7605) | D46: francois@agence2l.com | E46: =IF(ISERROR(SMALL(F$2:F$400,ROW()-1)),"",INDIRECT("A"&SMALL(F$2:F$400,ROW()-1))) | F46: =IF(OR(A46="",A46=A47),"",ROW()) | H46: =IF(OR(Dll!A46="",Recherche!A2<>Dll!A46),"",Dll!B46) | I46: =IF(A46=Recherche!$A$2,ROW(),J46) -> 0
A47: Agnece 2L | B47: Simple Dream | C47: François Frappier (1-438-888-7605) | D47: francois@agence2l.com | E47: =IF(ISERROR(SMALL(F$2:F$400,ROW()-1)),"",INDIRECT("A"&SMALL(F$2:F$400,ROW()-1))) | F47: =IF(OR(A47="",A47=A48),"",ROW()) | H47: =IF(OR(Dll!A47="",Recherche!A2<>Dll!A47),"",Dll!B47) | I47: =IF(A47=Recherche!$A$2,ROW(),J47) -> 0
A48: Agnece 2L | B48: Style So Chic | C48: François Frappier (1-438-888-7605) | D48: francois@agence2l.com | E48: =IF(ISERROR(SMALL(F$2:F$400,ROW()-1)),"",INDIRECT("A"&SMALL(F$2:F$400,ROW()-1))) | F48: =IF(OR(A48="",A48=A49),"",ROW()) -> 48 | H48: =IF(OR(Dll!A48="",Recherche!A2<>Dll!A48),"",Dll!B48) | I48: =IF(A48=Recherche!$A$2,ROW(),J48) -> 0
A49: Airway | B49: Touch | C49: André Wilson (1-514-909-9625) | D49: andre.wilson@airwaysurgical.ca | E49: =IF(ISERROR(SMALL(F$2:F$400,ROW()-1)),"",INDIRECT("A"&SMALL(F$2:F$400,ROW()-1))) | F49: =IF(OR(A49="",A49=A50),"",ROW()) | H49: =IF(OR(Dll!A49="",Recherche!A2<>Dll!A49),"",Dll!B49) | I49: =IF(A49=Recherche!$A$2,ROW(),J49) -> 0
A50: Airway | B50: Truform | C50: André Wilson (1-514-909-9625) | D50: andre.wilson@airwaysurgical.ca | E50: =IF(ISERROR(SMALL(F$2:F$400,ROW()-1)),"",INDIRECT("A"&SMALL(F$2:F$400,ROW()-1))) | F50: =IF(OR(A50="",A50=A51),"",ROW()) | H50: =IF(OR(Dll!A50="",Recherche!A2<>Dll!A50),"",Dll!B50) | I50: =IF(A50=Recherche!$A$2,ROW(),J50) -> 0
A51: Airway | B51: PCP | C51: André Wilson (1-514-909-9625) | D51: andre.wilson@airwaysurgical.ca | E51: =IF(ISERROR(SMALL(F$2:F$400,ROW()-1)),"",INDIRECT("A"&SMALL(F$2:F$400,ROW()-1))) | F51: =IF(OR(A51="",A51=A52),"",ROW()) -> 51 | H51: =IF(OR(Dll!A51="",Recherche!A2<>Dll!A51),"",Dll!B51) | I51: =IF(A51=Recherche!$A$2,ROW(),J51) -> 0
A52: Alliance | B52: Nic-Hit | C52: Jean L'Heureux (1-514-250-1784) | D52: jheureux@allianceretail.ca | E52: =IF(ISERROR(SMALL(F$2:F$400,ROW()-1)),"",INDIRECT("A"&SMALL(F$2:F$400,ROW()-1))) | F52: =IF(OR(A52="",A52=A53),"",ROW()) -> 52 | H52: =IF(OR(Dll!A52="",Recherche!A2<>Dll!A52),"",Dll!B52) | I52: =IF(A52=Recherche!$A$2,ROW(),J52) -> 0
A53: Biochala | B53: Le petit Olivier | C53: Carl Beauregard (819-847-2556) | D53: biochala_carl@cooptel.qc.ca | E53: =IF(ISERROR(SMALL(F$2:F$400,ROW()-1)),"",INDIRECT("A"&SMALL(F$2:F$400,ROW()-1))) | F53: =IF(OR(A53="",A53=A54),"",ROW()) | H53: =IF(OR(Dll!A53="",Recherche!A2<>Dll!A53),"",Dll!B53) | I53: =IF(A53=Recherche!$A$2,ROW(),J53) -> 0
A54: Biochala | B54: Cottage | C54: Carl Beauregard (819-847-2556) | D54: biochala_carl@cooptel.qc.ca | E54: =IF(ISERROR(SMALL(F$2:F$400,ROW()-1)),"",INDIRECT("A"&SMALL(F$2:F$400,ROW()-1))) | F54: =IF(OR(A54="",A54=A55),"",ROW()) -> 54 | H54: =IF(OR(Dll!A54="",Recherche!A2<>Dll!A54),"",Dll!B54) | I54: =IF(A54=Recherche!$A$2,ROW(),J54) -> 0
A55: Bruno | B55: Amd ritmed Gang | C55: Bruno Bernier (1-450-230-1589) | D55: brunob51@hotmail.com | E55: =IF(ISERROR(SMALL(F$2:F$400,ROW()-1)),"",INDIRECT("A"&SMALL(F$2:F$400,ROW()-1))) | F55: =IF(OR(A55="",A55=A56),"",ROW()) -> 55 | H55: =IF(OR(Dll!A55="",Recherche!A2<>Dll!A55),"",Dll!B55) | I55: =IF(A55=Recherche!$A$2,ROW(),J55) -> 0
A56: Cavan | B56: Acc.cheveux Atoma | C56: Chantal Breton (1-418-283-3218) | D56: chantalbreton3@hotmail.com | E56: =IF(ISERROR(SMALL(F$2:F$400,ROW()-1)),"",INDIRECT("A"&SMALL(F$2:F$400,ROW()-1))) | F56: =IF(OR(A56="",A56=A57),"",ROW()) | H56: =IF(OR(Dll!A56="",Recherche!A2<>Dll!A56),"",Dll!B56) | I56: =IF(A56=Recherche!$A$2,ROW(),J56) -> 0
A57: Cavan | B57: Touchy | C57: Chantal Breton (1-418-283-3218) | D57: chantalbreton3@hotmail.com | E57: =IF(ISERROR(SMALL(F$2:F$400,ROW()-1)),"",INDIRECT("A"&SMALL(F$2:F$400,ROW()-1))) | F57: =IF(OR(A57="",A57=A58),"",ROW()) -> 57 | H57: =IF(OR(Dll!A57="",Recherche!A2<>Dll!A57),"",Dll!B57) | I57: =IF(A57=Recherche!$A$2,ROW(),J57) -> 0
A58: Ciné Royal | B58: Dvd | C58: Claude Boisvert (1-514-969-7450) | D58: claude@inetvideo.com | E58: =IF(ISERROR(SMALL(F$2:F$400,ROW()-1)),"",INDIRECT("A"&SMALL(F$2:F$400,ROW()-1))) | F58: =IF(OR(A58="",A58=A59),"",ROW()) -> 58 | H58: =IF(OR(Dll!A58="",Recherche!A2<>Dll!A58),"",Dll!B58) | I58: =IF(A58=Recherche!$A$2,ROW(),J58) -> 0
A59: Courtier Pharma | B59: Arthri-plus | C59: Jimmy Tardif (1-450-888-0120) | D59: jimmy.tardif@cgocable.ca | E59: =IF(ISERROR(SMALL(F$2:F$400,ROW()-1)),"",INDIRECT("A"&SMALL(F$2:F$400,ROW()-1))) | F59: =IF(OR(A59="",A59=A60),"",ROW()) | H59: =IF(OR(Dll!A59="",Recherche!A2<>Dll!A59),"",Dll!B59) | I59: =IF(A59=Recherche!$A$2,ROW(),J59) -> 0
A60: Courtier Pharma | B60: Genacol | C60: Jimmy Tardif (1-450-888-0120) | D60: jimmy.tardif@cgocable.ca | E60: =IF(ISERROR(SMALL(F$2:F$400,ROW()-1)),"",INDIRECT("A"&SMALL(F$2:F$400,ROW()-1))) | F60: =IF(OR(A60="",A60=A61),"",ROW()) | H60: =IF(OR(Dll!A60="",Recherche!A2<>Dll!A60),"",Dll!B60) | I60: =IF(A60=Recherche!$A$2,ROW(),J60) -> 0
A61: Courtier Pharma | B61: Progel | C61: Jimmy Tardif (1-450-888-0120) | D61: jimmy.tardif@cgocable.ca | E61: =IF(ISERROR(SMALL(F$2:F$400,ROW()-1)),"",INDIRECT("A"&SMALL(F$2:F$400,ROW()-1))) | F61: =IF(OR(A61="",A61=A62),"",ROW()) | H61: =IF(OR(Dll!A61="",Recherche!A2<>Dll!A61),"",Dll!B61) | I61: =IF(A61=Recherche!$A$2,ROW(),J61) -> 0
A62: Courtier Pharma | B62: Juna | C62: Jimmy Tardif (1-450-888-0120) | D62: jimmy.tardif@cgocable.ca | E62: =IF(ISERROR(SMALL(F$2:F$400,ROW()-1)),"",INDIRECT("A"&SMALL(F$2:F$400,ROW()-1))) | F62: =IF(OR(A62="",A62=A63),"",ROW()) | H62: =IF(OR(Dll!A62="",Recherche!A2<>Dll!A62),"",Dll!B62) | I62: =IF(A62=Recherche!$A$2,ROW(),J62) -> 0
A63: Courtier Pharma | B63: Cattier | C63: Jimmy Tardif (1-450-888-0120) | D63: jimmy.tardif@cgocable.ca | E63: =IF(ISERROR(SMALL(F$2:F$400,ROW()-1)),"",INDIRECT("A"&SMALL(F$2:F$400,ROW()-1))) | F63: =IF(OR(A63="",A63=A64),"",ROW()) | H63: =IF(OR(Dll!A63="",Recherche!A2<>Dll!A63),"",Dll!B63) | I63: =IF(A63=Recherche!$A$2,ROW(),J63) -> 0
A64: Courtier Pharma | B64: Bravodeli | C64: Jimmy Tardif (1-450-888-0120) | D64: jimmy.tardif@cgocable.ca | E64: =IF(ISERROR(SMALL(F$2:F$400,ROW()-1)),"",INDIRECT("A"&SMALL(F$2:F$400,ROW()-1))) | F64: =IF(OR(A64="",A64=A65),"",ROW()) | H64: =IF(OR(Dll!A64="",Recherche!A2<>Dll!A64),"",Dll!B64) | I64: =IF(A64=Recherche!$A$2,ROW(),J64) -> 0
A65: Courtier Pharma | B65: Chew Pod | C65: Jimmy Tardif (1-450-888-0120) | D65: jimmy.tardif@cgocable.ca | E65: =IF(ISERROR(SMALL(F$2:F$400,ROW()-1)),"",INDIRECT("A"&SMALL(F$2:F$400,ROW()-1))) | F65: =IF(OR(A65="",A65=A66),"",ROW()) | H65: =IF(OR(Dll!A65="",Recherche!A2<>Dll!A65),"",Dll!B65) | I65: =IF(A65=Recherche!$A$2,ROW(),J65) -> 0
A66: Courtier Pharma | B66: Diamangel | C66: Jimmy Tardif (1-450-888-0120) | D66: jimmy.tardif@cgocable.ca | E66: =IF(ISERROR(SMALL(F$2:F$400,ROW()-1)),"",INDIRECT("A"&SMALL(F$2:F$400,ROW()-1))) | F66: =IF(OR(A66="",A66=A67),"",ROW()) | H66: =IF(OR(Dll!A66="",Recherche!A2<>Dll!A66),"",Dll!B66) | I66: =IF(A66=Recherche!$A$2,ROW(),J66) -> 0
A67: Courtier Pharma | B67: Pissenlit&Coccinelle | C67: Jimmy Tardif (1-450-888-0120) | D67: jimmy.tardif@cgocable.ca | E67: =IF(ISERROR(SMALL(F$2:F$400,ROW()-1)),"",INDIRECT("A"&SMALL(F$2:F$400,ROW()-1))) | F67: =IF(OR(A67="",A67=A68),"",ROW()) | H67: =IF(OR(Dll!A67="",Recherche!A2<>Dll!A67),"",Dll!B67) | I67: =IF(A67=Recherche!$A$2,ROW(),J67) -> 0
A68: Courtier Pharma | B68: Le Savonneur | C68: Jimmy Tardif (1-450-888-0120) | D68: jimmy.tardif@cgocable.ca | E68: =IF(ISERROR(SMALL(F$2:F$400,ROW()-1)),"",INDIRECT("A"&SMALL(F$2:F$400,ROW()-1))) | F68: =IF(OR(A68="",A68=A69),"",ROW()) | H68: =IF(OR(Dll!A68="",Recherche!A2<>Dll!A68),"",Dll!B68) | I68: =IF(A68=Recherche!$A$2,ROW(),J68) -> 0
A69: Courtier Pharma | B69: Hot Pad | C69: Jimmy Tardif (1-450-888-0120) | D69: jimmy.tardif@cgocable.ca | E69: =IF(ISERROR(SMALL(F$2:F$400,ROW()-1)),"",INDIRECT("A"&SMALL(F$2:F$400,ROW()-1))) | F69: =IF(OR(A69="",A69=A70),"",ROW()) | H69: =IF(OR(Dll!A69="",Recherche!A2<>Dll!A69),"",Dll!B69) | I69: =IF(A69=Recherche!$A$2,ROW(),J69) -> 0
A70: Courtier Pharma | B70: Chocolat des Pères | C70: Jimmy Tardif (1-450-888-0120) | D70: jimmy.tardif@cgocable.ca | E70: =IF(ISERROR(SMALL(F$2:F$400,ROW()-1)),"",INDIRECT("A"&SMALL(F$2:F$400,ROW()-1))) | F70: =IF(OR(A70="",A70=A71),"",ROW()) | H70: =IF(OR(Dll!A70="",Recherche!A2<>Dll!A70),"",Dll!B70) | I70: =IF(A70=Recherche!$A$2,ROW(),J70) -> 0
A71: Courtier Pharma | B71: Béké Bobo | C71: Jimmy Tardif (1-450-888-0120) | D71: jimmy.tardif@cgocable.ca | E71: =IF(ISERROR(SMALL(F$2:F$400,ROW()-1)),"",INDIRECT("A"&SMALL(F$2:F$400,ROW()-1))) | F71: =IF(OR(A71="",A71=A72),"",ROW()) | H71: =IF(OR(Dll!A71="",Recherche!A2<>Dll!A71),"",Dll!B71) | I71: =IF(A71=Recherche!$A$2,ROW(),J71) -> 0
A72: Courtier Pharma | B72: Blue Skin | C72: Jimmy Tardif (1-450-888-0120) | D72: jimmy.tardif@cgocable.ca | E72: =IF(ISERROR(SMALL(F$2:F$400,ROW()-1)),"",INDIRECT("A"&SMALL(F$2:F$400,ROW()-1))) | F72: =IF(OR(A72="",A72=A73),"",ROW()) | H72: =IF(OR(Dll!A72="",Recherche!A2<>Dll!A72),"",Dll!B72) | I72: =IF(A72=Recherche!$A$2,ROW(),J72) -> 0
A73: Courtier Pharma | B73: Emu Dundee | C73: Jimmy Tardif (1-450-888-0120) | D73: jimmy.tardif@cgocable.ca | E73: =IF(ISERROR(SMALL(F$2:F$400,ROW()-1)),"",INDIRECT("A"&SMALL(F$2:F$400,ROW()-1))) | F73: =IF(OR(A73="",A73=A74),"",ROW()) | H73: =IF(OR(Dll!A73="",Recherche!A2<>Dll!A73),"",Dll!B73) | I73: =IF(A73=Recherche!$A$2,ROW(),J73) -> 0
A74: Courtier Pharma | B74: Bonté Distribution Inc. | C74: Jimmy Tardif (1-450-888-0120) | D74: jimmy.tardif@cgocable.ca | E74: =IF(ISERROR(SMALL(F$2:F$400,ROW()-1)),"",INDIRECT("A"&SMALL(F$2:F$400,ROW()-1))) | F74: =IF(OR(A74="",A74=A75),"",ROW()) | H74: =IF(OR(Dll!A74="",Recherche!A2<>Dll!A74),"",Dll!B74) | I74: =IF(A74=Recherche!$A$2,ROW(),J74) -> 0
A75: Courtier Pharma | B75: Barcelet Allergie enfants | C75: Jimmy Tardif (1-450-888-0120) | D75: jimmy.tardif@cgocable.ca | E75: =IF(ISERROR(SMALL(F$2:F$400,ROW()-1)),"",INDIRECT("A"&SMALL(F$2:F$400,ROW()-1))) | F75: =IF(OR(A75="",A75=A76),"",ROW()) -> 75 | H75: =IF(OR(Dll!A75="",Recherche!A2<>Dll!A75),"",Dll!B75) | I75: =IF(A75=Recherche!$A$2,ROW(),J75) -> 0
A76: Fempro | B76: Incognito | C76: Maryse ……. | E76: =IF(ISERROR(SMALL(F$2:F$400,ROW()-1)),"",INDIRECT("A"&SMALL(F$2:F$400,ROW()-1))) | F76: =IF(OR(A76="",A76=A77),"",ROW()) -> 76 | H76: =IF(OR(Dll!A76="",Recherche!A2<>Dll!A76),"",Dll!B76) | I76: =IF(A76=Recherche!$A$2,ROW(),J76) -> 0
A77: Galderma | B77: Cetaphil | C77: Marie-Noelle Chou (1-514-448-8358) | D77: marie-noellechou@imprespharma.ca | E77: =IF(ISERROR(SMALL(F$2:F$400,ROW()-1)),"",INDIRECT("A"&SMALL(F$2:F$400,ROW()-1))) | F77: =IF(OR(A77="",A77=A78),"",ROW()) -> 77 | H77: =IF(OR(Dll!A77="",Recherche!A2<>Dll!A77),"",Dll!B77) | I77: =IF(A77=Recherche!$A$2,ROW(),J77) -> 0
A78: KW | B78: A-Ligne | C78: Lissa St-Hilaire (1-450-461-2212) (#246) | D78: lsthilaire@courtierskw.ca | E78: =IF(ISERROR(SMALL(F$2:F$400,ROW()-1)),"",INDIRECT("A"&SMALL(F$2:F$400,ROW()-1))) | F78: =IF(OR(A78="",A78=A79),"",ROW()) | H78: =IF(OR(Dll!A78="",Recherche!A2<>Dll!A78),"",Dll!B78) | I78: =IF(A78=Recherche!$A$2,ROW(),J78) -> 0
A79: KW | B79: A.M.O | C79: Lissa St-Hilaire (1-450-461-2212) (#246) | D79: lsthilaire@courtierskw.ca | E79: =IF(ISERROR(SMALL(F$2:F$400,ROW()-1)),"",INDIRECT("A"&SMALL(F$2:F$400,ROW()-1))) | F79: =IF(OR(A79="",A79=A80),"",ROW()) | H79: =IF(OR(Dll!A79="",Recherche!A2<>Dll!A79),"",Dll!B79) | I79: =IF(A79=Recherche!$A$2,ROW(),J79) -> 0
A80: KW | B80: Beiersdorf | C80: Lissa St-Hilaire (1-450-461-2212) (#246) | D80: lsthilaire@courtierskw.ca | E80: =IF(ISERROR(SMALL(F$2:F$400,ROW()-1)),"",INDIRECT("A"&SMALL(F$2:F$400,ROW()-1))) | F80: =IF(OR(A80="",A80=A81),"",ROW()) | H80: =IF(OR(Dll!A80="",Recherche!A2<>Dll!A80),"",Dll!B80) | I80: =IF(A80=Recherche!$A$2,ROW(),J80) -> 0
A81: KW | B81: Combe Inc. | C81: Lissa St-Hilaire (1-450-461-2212) (#246) | D81: lsthilaire@courtierskw.ca | E81: =IF(ISERROR(SMALL(F$2:F$400,ROW()-1)),"",INDIRECT("A"&SMALL(F$2:F$400,ROW()-1))) | F81: =IF(OR(A81="",A81=A82),"",ROW()) | H81: =IF(OR(Dll!A81="",Recherche!A2<>Dll!A81),"",Dll!B81) | I81: =IF(A81=Recherche!$A$2,ROW(),J81) -> 0
A82: KW | B82: Confiserie Régal | C82: Lissa St-Hilaire (1-450-461-2212) (#246) | D82: lsthilaire@courtierskw.ca | E82: =IF(ISERROR(SMALL(F$2:F$400,ROW()-1)),"",INDIRECT("A"&SMALL(F$2:F$400,ROW()-1))) | F82: =IF(OR(A82="",A82=A83),"",ROW()) | H82: =IF(OR(Dll!A82="",Recherche!A2<>Dll!A82),"",Dll!B82) | I82: =IF(A82=Recherche!$A$2,ROW(),J82) -> 0
A83: KW | B83: Guru | C83: Lissa St-Hilaire (1-450-461-2212) (#246) | D83: lsthilaire@courtierskw.ca | E83: =IF(ISERROR(SMALL(F$2:F$400,ROW()-1)),"",INDIRECT("A"&SMALL(F$2:F$400,ROW()-1))) | F83: =IF(OR(A83="",A83=A84),"",ROW()) | H83: =IF(OR(Dll!A83="",Recherche!A2<>Dll!A83),"",Dll!B83) | I83: =IF(A83=Recherche!$A$2,ROW(),J83) -> 0
A84: KW | B84: Humm | C84: Lissa St-Hilaire (1-450-461-2212) (#246) | D84: lsthilaire@courtierskw.ca | E84: =IF(ISERROR(SMALL(F$2:F$400,ROW()-1)),"",INDIRECT("A"&SMALL(F$2:F$400,ROW()-1))) | F84: =IF(OR(A84="",A84=A85),"",ROW()) | H84: =IF(OR(Dll!A84="",Recherche!A2<>Dll!A84),"",Dll!B84) | I84: =IF(A84=Recherche!$A$2,ROW(),J84) -> 0
A85: KW | B85: Magtar | C85: Lissa St-Hilaire (1-450-461-2212) (#246) | D85: lsthilaire@courtierskw.ca | E85: =IF(ISERROR(SMALL(F$2:F$400,ROW()-1)),"",INDIRECT("A"&SMALL(F$2:F$400,ROW()-1))) | F85: =IF(OR(A85="",A85=A86),"",ROW()) | H85: =IF(OR(Dll!A85="",Recherche!A2<>Dll!A85),"",Dll!B85) | I85: =IF(A85=Recherche!$A$2,ROW(),J85) -> 0
A86: KW | B86: Nergy Santé Inc. | C86: Lissa St-Hilaire (1-450-461-2212) (#246) | D86: lsthilaire@courtierskw.ca | E86: =IF(ISERROR(SMALL(F$2:F$400,ROW()-1)),"",INDIRECT("A"&SMALL(F$2:F$400,ROW()-1))) | F86: =IF(OR(A86="",A86=A87),"",ROW()) | H86: =IF(OR(Dll!A86="",Recherche!A2<>Dll!A86),"",Dll!B86) | I86: =IF(A86=Recherche!$A$2,ROW(),J86) -> 0
A87: KW | B87: Santrel Intrenational Inc | C87: Lissa St-Hilaire (1-450-461-2212) (#246) | D87: lsthilaire@courtierskw.ca | E87: =IF(ISERROR(SMALL(F$2:F$400,ROW()-1)),"",INDIRECT("A"&SMALL(F$2:F$400,ROW()-1))) | F87: =IF(OR(A87="",A87=A88),"",ROW()) | H87: =IF(OR(Dll!A87="",Recherche!A2<>Dll!A87),"",Dll!B87) | I87: =IF(A87=Recherche!$A$2,ROW(),J87) -> 0
A88: KW | B88: Pro Santé | C88: Lissa St-Hilaire (1-450-461-2212) (#246) | D88: lsthilaire@courtierskw.ca | E88: =IF(ISERROR(SMALL(F$2:F$400,ROW()-1)),"",INDIRECT("A"&SMALL(F$2:F$400,ROW()-1))) | F88: =IF(OR(A88="",A88=A89),"",ROW()) | H88: =IF(OR(Dll!A88="",Recherche!A2<>Dll!A88),"",Dll!B88) | I88: =IF(A88=Recherche!$A$2,ROW(),J88) -> 0
A89: KW | B89: Sapin Fortin | C89: Lissa St-Hilaire (1-450-461-2212) (#246) | D89: lsthilaire@courtierskw.ca | E89: =IF(ISERROR(SMALL(F$2:F$400,ROW()-1)),"",INDIRECT("A"&SMALL(F$2:F$400,ROW()-1))) | F89: =IF(OR(A89="",A89=A90),"",ROW()) | H89: =IF(OR(Dll!A89="",Recherche!A2<>Dll!A89),"",Dll!B89) | I89: =IF(A89=Recherche!$A$2,ROW(),J89) -> 0
A90: KW | B90: Innuscience | C90: Lissa St-Hilaire (1-450-461-2212) (#246) | D90: lsthilaire@courtierskw.ca | E90: =IF(ISERROR(SMALL(F$2:F$400,ROW()-1)),"",INDIRECT("A"&SMALL(F$2:F$400,ROW()-1))) | F90: =IF(OR(A90="",A90=A91),"",ROW()) | H90: =IF(OR(Dll!A90="",Recherche!A2<>Dll!A90),"",Dll!B90) | I90: =IF(A90=Recherche!$A$2,ROW(),J90) -> 0
A91: KW | B91: Speedo | C91: Lissa St-Hilaire (1-450-461-2212) (#246) | D91: lsthilaire@courtierskw.ca | E91: =IF(ISERROR(SMALL(F$2:F$400,ROW()-1)),"",INDIRECT("A"&SMALL(F$2:F$400,ROW()-1))) | F91: =IF(OR(A91="",A91=A92),"",ROW()) | H91: =IF(OR(Dll!A91="",Recherche!A2<>Dll!A91),"",Dll!B91) | I91: =IF(A91=Recherche!$A$2,ROW(),J91) -> 0
A92: KW | B92: Bad Monkey | C92: Lissa St-Hilaire (1-450-461-2212) (#246) | D92: lsthilaire@courtierskw.ca | E92: =IF(ISERROR(SMALL(F$2:F$400,ROW()-1)),"",INDIRECT("A"&SMALL(F$2:F$400,ROW()-1))) | F92: =IF(OR(A92="",A92=A93),"",ROW()) | H92: =IF(OR(Dll!A92="",Recherche!A2<>Dll!A92),"",Dll!B92) | I92: =IF(A92=Recherche!$A$2,ROW(),J92) -> 0
A93: KW | B93: Euro Excellance | C93: Lissa St-Hilaire (1-450-461-2212) (#246) | D93: lsthilaire@courtierskw.ca | E93: =IF(ISERROR(SMALL(F$2:F$400,ROW()-1)),"",INDIRECT("A"&SMALL(F$2:F$400,ROW()-1))) | F93: =IF(OR(A93="",A93=A94),"",ROW()) -> 93 | H93: =IF(OR(Dll!A93="",Recherche!A2<>Dll!A93),"",Dll!B93) | I93: =IF(A93=Recherche!$A$2,ROW(),J93) -> 0
A94: Myriad Pharma | B94: Paladin | C94: Line Caron (819-473-3596) | D94: lcaron@myriadepharma.ca | E94: =IF(ISERROR(SMALL(F$2:F$400,ROW()-1)),"",INDIRECT("A"&SMALL(F$2:F$400,ROW()-1))) | F94: =IF(OR(A94="",A94=A95),"",ROW()) | H94: =IF(OR(Dll!A94="",Recherche!A2<>Dll!A94),"",Dll!B94) | I94: =IF(A94=Recherche!$A$2,ROW(),J94) -> 0
A95: Myriad Pharma | B95: Cutibase | C95: Line Caron (819-473-3596) | D95: lcaron@myriadepharma.ca | E95: =IF(ISERROR(SMALL(F$2:F$400,ROW()-1)),"",INDIRECT("A"&SMALL(F$2:F$400,ROW()-1))) | F95: =IF(OR(A95="",A95=A96),"",ROW()) | H95: =IF(OR(Dll!A95="",Recherche!A2<>Dll!A95),"",Dll!B95) | I95: =IF(A95=Recherche!$A$2,ROW(),J95) -> 0
A96: Myriad Pharma | B96: Denta | C96: Line Caron (819-473-3596) | D96: lcaron@myriadepharma.ca | E96: =IF(ISERROR(SMALL(F$2:F$400,ROW()-1)),"",INDIRECT("A"&SMALL(F$2:F$400,ROW()-1))) | F96: =IF(OR(A96="",A96=A97),"",ROW()) | H96: =IF(OR(Dll!A96="",Recherche!A2<>Dll!A96),"",Dll!B96) | I96: =IF(A96=Recherche!$A$2,ROW(),J96) -> 0
A97: Myriad Pharma | B97: Pediapharm | C97: Line Caron (819-473-3596) | D97: lcaron@myriadepharma.ca | E97: =IF(ISERROR(SMALL(F$2:F$400,ROW()-1)),"",INDIRECT("A"&SMALL(F$2:F$400,ROW()-1))) | F97: =IF(OR(A97="",A97=A98),"",ROW()) | H97: =IF(OR(Dll!A97="",Recherche!A2<>Dll!A97),"",Dll!B97) | I97: =IF(A97=Recherche!$A$2,ROW(),J97) -> 0
A98: Myriad Pharma | B98: Erfa Canada | C98: Line Caron (819-473-3596) | D98: lcaron@myriadepharma.ca | E98: =IF(ISERROR(SMALL(F$2:F$400,ROW()-1)),"",INDIRECT("A"&SMALL(F$2:F$400,ROW()-1))) | F98: =IF(OR(A98="",A98=A99),"",ROW()) | H98: =IF(OR(Dll!A98="",Recherche!A2<>Dll!A98),"",Dll!B98) | I98: =IF(A98=Recherche!$A$2,ROW(),J98) -> 0
A99: Myriad Pharma | B99: Corine de Farme | C99: Line Caron (819-473-3596) | D99: lcaron@myriadepharma.ca | E99: =IF(ISERROR(SMALL(F$2:F$400,ROW()-1)),"",INDIRECT("A"&SMALL(F$2:F$400,ROW()-1))) | F99: =IF(OR(A99="",A99=A100),"",ROW()) -> 99 | H99: =IF(OR(Dll!A99="",Recherche!A2<>Dll!A99),"",Dll!B99) | I99: =IF(A99=Recherche!$A$2,ROW(),J99) -> 0
A100: Norrizon | B100: Puressentiel | C100: Louise Pierre (1-800-254-9026) (#754) | D100: louisep@norrizon.com | E100: =IF(ISERROR(SMALL(F$2:F$400,ROW()-1)),"",INDIRECT("A"&SMALL(F$2:F$400,ROW()-1))) | F100: =IF(OR(A100="",A100=A101),"",ROW()) | H100: =IF(OR(Dll!A100="",Recherche!A2<>Dll!A100),"",Dll!B100) | I100: =IF(A100=Recherche!$A$2,ROW(),J100) -> 0
...

Sheet Feuil3

Sheet Feuil4

Sheet Feuil5

Sheet Feuil6

Sheet Feuil7

Sheet Feuil8
