Workbook

Sheet Rapport
A1: Catégorie | B1: NOM DU PRODUIT | C1: SOUS CATEGORIE | D1: REFERENCE | E1: CODE-BARRES | F1: QTE | G1: STATUT | H1: EMPLACEMENT | I1: Valeur | J1: =IF(K1>0,"",[1]Inventaires!A1) -> 22 | K1: =[1]Inventaires!B1 -> 0
A2: 4800 Produits Ménagers | B2: =IF(AND($K$1=0,ROW()-1<=$J$1),INDIRECT("Inventaires!D"&SMALL([1]Inventaires!$A$3:$A$400,ROW()-1),1),IF(AND(ROW()-1<=$K$1,$K$1>0),INDIRECT("Inventaires!D"&SMALL([1]Inventaires!$B$3:$B$400,ROW()-1),1),"")) -> 0 | C2: =IF(AND($K$1=0,ROW()-1<=$J$1),INDIRECT("Inventaires!I"&SMALL([1]Inventaires!$A$3:$A$400,ROW()-1),1),IF(AND(ROW()-1<=$K$1,$K$1>0),INDIRECT("Inventaires!I"&SMALL([1]Inventaires!$B$3:$B$400,ROW()-1),1),"")) -> 0 | D2: =IF(AND($K$1=0,ROW()-1<=$J$1),INDIRECT("Inventaires!C"&SMALL([1]Inventaires!$A$3:$A$400,ROW()-1),1),IF(AND(ROW()-1<=$K$1,$K$1>0),INDIRECT("Inventaires!C"&SMALL([1]Inventaires!$B$3:$B$400,ROW()-1),1),"")) -> 0 | E2: =IF(AND($K$1=0,ROW()-1<=$J$1),INDIRECT("Inventaires!Q"&SMALL([1]Inventaires!$A$3:$A$400,ROW()-1),1),IF(AND(ROW()-1<=$K$1,$K$1>0),INDIRECT("Inventaires!Q"&SMALL([1]Inventaires!$B$3:$B$400,ROW()-1),1),"")) -> 0 | F2: =IF(AND($K$1=0,ROW()-1<=$J$1),INDIRECT("Inventaires!J"&SMALL([1]Inventaires!$A$3:$A$400,ROW()-1),1),IF(AND(ROW()-1<=$K$1,$K$1>0),INDIRECT("Inventaires!J"&SMALL([1]Inventaires!$B$3:$B$400,ROW()-1),1),"")) -> 0 | G2: =IF(AND($K$1=0,ROW()-1<=$J$1),INDIRECT("Inventaires!K"&SMALL([1]Inventaires!$A$3:$A$400,ROW()-1),1),IF(AND(ROW()-1<=$K$1,$K$1>0),INDIRECT("Inventaires!K"&SMALL([1]Inventaires!$B$3:$B$400,ROW()-1),1),"")) -> 0 | H2: =IF(AND($K$1=0,ROW()-1<=$J$1),INDIRECT("Inventaires!O"&SMALL([1]Inventaires!$A$3:$A$400,ROW()-1),1),IF(AND(ROW()-1<=$K$1,$K$1>0),INDIRECT("Inventaires!O"&SMALL([1]Inventaires!$B$3:$B$400,ROW()-1),1),"")) -> 064267086740 | I2: =IF(AND($K$1=0,ROW()-1<=$J$1),INDIRECT("Inventaires!L"&SMALL([1]Inventaires!$A$3:$A$400,ROW()-1),1),IF(AND(ROW()-1<=$K$1,$K$1>0),INDIRECT("Inventaires!L"&SMALL([1]Inventaires!$B$3:$B$400,ROW()-1),1),"")) -> 0 | K2: =IF(ROW()-1<=$K$1,ROW()-1,"")
B3: =IF(AND($K$1=0,ROW()-1<=$J$1),INDIRECT("Inventaires!D"&SMALL([1]Inventaires!$A$3:$A$400,ROW()-1),1),IF(AND(ROW()-1<=$K$1,$K$1>0),INDIRECT("Inventaires!D"&SMALL([1]Inventaires!$B$3:$B$400,ROW()-1),1),"")) -> 0 | C3: =IF(AND($K$1=0,ROW()-1<=$J$1),INDIRECT("Inventaires!I"&SMALL([1]Inventaires!$A$3:$A$400,ROW()-1),1),IF(AND(ROW()-1<=$K$1,$K$1>0),INDIRECT("Inventaires!I"&SMALL([1]Inventaires!$B$3:$B$400,ROW()-1),1),"")) -> RUPTURE | D3: =IF(AND($K$1=0,ROW()-1<=$J$1),INDIRECT("Inventaires!C"&SMALL([1]Inventaires!$A$3:$A$400,ROW()-1),1),IF(AND(ROW()-1<=$K$1,$K$1>0),INDIRECT("Inventaires!C"&SMALL([1]Inventaires!$B$3:$B$400,ROW()-1),1),"")) -> 0 | E3: =IF(AND($K$1=0,ROW()-1<=$J$1),INDIRECT("Inventaires!Q"&SMALL([1]Inventaires!$A$3:$A$400,ROW()-1),1),IF(AND(ROW()-1<=$K$1,$K$1>0),INDIRECT("Inventaires!Q"&SMALL([1]Inventaires!$B$3:$B$400,ROW()-1),1),"")) -> 0 | F3: =IF(AND($K$1=0,ROW()-1<=$J$1),INDIRECT("Inventaires!J"&SMALL([1]Inventaires!$A$3:$A$400,ROW()-1),1),IF(AND(ROW()-1<=$K$1,$K$1>0),INDIRECT("Inventaires!J"&SMALL([1]Inventaires!$B$3:$B$400,ROW()-1),1),"")) -> 0 | G3: =IF(AND($K$1=0,ROW()-1<=$J$1),INDIRECT("Inventaires!K"&SMALL([1]Inventaires!$A$3:$A$400,ROW()-1),1),IF(AND(ROW()-1<=$K$1,$K$1>0),INDIRECT("Inventaires!K"&SMALL([1]Inventaires!$B$3:$B$400,ROW()-1),1),"")) -> 0 | H3: =IF(AND($K$1=0,ROW()-1<=$J$1),INDIRECT("Inventaires!O"&SMALL([1]Inventaires!$A$3:$A$400,ROW()-1),1),IF(AND(ROW()-1<=$K$1,$K$1>0),INDIRECT("Inventaires!O"&SMALL([1]Inventaires!$B$3:$B$400,ROW()-1),1),"")) -> 061328392086 | I3: =IF(AND($K$1=0,ROW()-1<=$J$1),INDIRECT("Inventaires!L"&SMALL([1]Inventaires!$A$3:$A$400,ROW()-1),1),IF(AND(ROW()-1<=$K$1,$K$1>0),INDIRECT("Inventaires!L"&SMALL([1]Inventaires!$B$3:$B$400,ROW()-1),1),"")) -> 0 | K3: =IF(ROW()-1<=$K$1,ROW()-1,"")
B4: =IF(AND($K$1=0,ROW()-1<=$J$1),INDIRECT("Inventaires!D"&SMALL([1]Inventaires!$A$3:$A$400,ROW()-1),1),IF(AND(ROW()-1<=$K$1,$K$1>0),INDIRECT("Inventaires!D"&SMALL([1]Inventaires!$B$3:$B$400,ROW()-1),1),"")) -> 0 | C4: =IF(AND($K$1=0,ROW()-1<=$J$1),INDIRECT("Inventaires!I"&SMALL([1]Inventaires!$A$3:$A$400,ROW()-1),1),IF(AND(ROW()-1<=$K$1,$K$1>0),INDIRECT("Inventaires!I"&SMALL([1]Inventaires!$B$3:$B$400,ROW()-1),1),"")) -> RUPTURE | D4: =IF(AND($K$1=0,ROW()-1<=$J$1),INDIRECT("Inventaires!C"&SMALL([1]Inventaires!$A$3:$A$400,ROW()-1),1),IF(AND(ROW()-1<=$K$1,$K$1>0),INDIRECT("Inventaires!C"&SMALL([1]Inventaires!$B$3:$B$400,ROW()-1),1),"")) -> 0 | E4: =IF(AND($K$1=0,ROW()-1<=$J$1),INDIRECT("Inventaires!Q"&SMALL([1]Inventaires!$A$3:$A$400,ROW()-1),1),IF(AND(ROW()-1<=$K$1,$K$1>0),INDIRECT("Inventaires!Q"&SMALL([1]Inventaires!$B$3:$B$400,ROW()-1),1),"")) -> 0 | F4: =IF(AND($K$1=0,ROW()-1<=$J$1),INDIRECT("Inventaires!J"&SMALL([1]Inventaires!$A$3:$A$400,ROW()-1),1),IF(AND(ROW()-1<=$K$1,$K$1>0),INDIRECT("Inventaires!J"&SMALL([1]Inventaires!$B$3:$B$400,ROW()-1),1),"")) -> 0 | G4: =IF(AND($K$1=0,ROW()-1<=$J$1),INDIRECT("Inventaires!K"&SMALL([1]Inventaires!$A$3:$A$400,ROW()-1),1),IF(AND(ROW()-1<=$K$1,$K$1>0),INDIRECT("Inventaires!K"&SMALL([1]Inventaires!$B$3:$B$400,ROW()-1),1),"")) -> 0 | H4: =IF(AND($K$1=0,ROW()-1<=$J$1),INDIRECT("Inventaires!O"&SMALL([1]Inventaires!$A$3:$A$400,ROW()-1),1),IF(AND(ROW()-1<=$K$1,$K$1>0),INDIRECT("Inventaires!O"&SMALL([1]Inventaires!$B$3:$B$400,ROW()-1),1),"")) -> 061328352080 | I4: =IF(AND($K$1=0,ROW()-1<=$J$1),INDIRECT("Inventaires!L"&SMALL([1]Inventaires!$A$3:$A$400,ROW()-1),1),IF(AND(ROW()-1<=$K$1,$K$1>0),INDIRECT("Inventaires!L"&SMALL([1]Inventaires!$B$3:$B$400,ROW()-1),1),"")) -> 0 | K4: =IF(ROW()-1<=$K$1,ROW()-1,"")
B5: =IF(AND($K$1=0,ROW()-1<=$J$1),INDIRECT("Inventaires!D"&SMALL([1]Inventaires!$A$3:$A$400,ROW()-1),1),IF(AND(ROW()-1<=$K$1,$K$1>0),INDIRECT("Inventaires!D"&SMALL([1]Inventaires!$B$3:$B$400,ROW()-1),1),"")) -> 0 | C5: =IF(AND($K$1=0,ROW()-1<=$J$1),INDIRECT("Inventaires!I"&SMALL([1]Inventaires!$A$3:$A$400,ROW()-1),1),IF(AND(ROW()-1<=$K$1,$K$1>0),INDIRECT("Inventaires!I"&SMALL([1]Inventaires!$B$3:$B$400,ROW()-1),1),"")) -> 0 | D5: =IF(AND($K$1=0,ROW()-1<=$J$1),INDIRECT("Inventaires!C"&SMALL([1]Inventaires!$A$3:$A$400,ROW()-1),1),IF(AND(ROW()-1<=$K$1,$K$1>0),INDIRECT("Inventaires!C"&SMALL([1]Inventaires!$B$3:$B$400,ROW()-1),1),"")) -> 0 | E5: =IF(AND($K$1=0,ROW()-1<=$J$1),INDIRECT("Inventaires!Q"&SMALL([1]Inventaires!$A$3:$A$400,ROW()-1),1),IF(AND(ROW()-1<=$K$1,$K$1>0),INDIRECT("Inventaires!Q"&SMALL([1]Inventaires!$B$3:$B$400,ROW()-1),1),"")) -> 0 | F5: =IF(AND($K$1=0,ROW()-1<=$J$1),INDIRECT("Inventaires!J"&SMALL([1]Inventaires!$A$3:$A$400,ROW()-1),1),IF(AND(ROW()-1<=$K$1,$K$1>0),INDIRECT("Inventaires!J"&SMALL([1]Inventaires!$B$3:$B$400,ROW()-1),1),"")) -> 0 | G5: =IF(AND($K$1=0,ROW()-1<=$J$1),INDIRECT("Inventaires!K"&SMALL([1]Inventaires!$A$3:$A$400,ROW()-1),1),IF(AND(ROW()-1<=$K$1,$K$1>0),INDIRECT("Inventaires!K"&SMALL([1]Inventaires!$B$3:$B$400,ROW()-1),1),"")) -> 0 | H5: =IF(AND($K$1=0,ROW()-1<=$J$1),INDIRECT("Inventaires!O"&SMALL([1]Inventaires!$A$3:$A$400,ROW()-1),1),IF(AND(ROW()-1<=$K$1,$K$1>0),INDIRECT("Inventaires!O"&SMALL([1]Inventaires!$B$3:$B$400,ROW()-1),1),"")) -> 622027000162 | I5: =IF(AND($K$1=0,ROW()-1<=$J$1),INDIRECT("Inventaires!L"&SMALL([1]Inventaires!$A$3:$A$400,ROW()-1),1),IF(AND(ROW()-1<=$K$1,$K$1>0),INDIRECT("Inventaires!L"&SMALL([1]Inventaires!$B$3:$B$400,ROW()-1),1),"")) -> 0 | K5: =IF(ROW()-1<=$K$1,ROW()-1,"")
B6: =IF(AND($K$1=0,ROW()-1<=$J$1),INDIRECT("Inventaires!D"&SMALL([1]Inventaires!$A$3:$A$400,ROW()-1),1),IF(AND(ROW()-1<=$K$1,$K$1>0),INDIRECT("Inventaires!D"&SMALL([1]Inventaires!$B$3:$B$400,ROW()-1),1),"")) -> 0 | C6: =IF(AND($K$1=0,ROW()-1<=$J$1),INDIRECT("Inventaires!I"&SMALL([1]Inventaires!$A$3:$A$400,ROW()-1),1),IF(AND(ROW()-1<=$K$1,$K$1>0),INDIRECT("Inventaires!I"&SMALL([1]Inventaires!$B$3:$B$400,ROW()-1),1),"")) -> 0 | D6: =IF(AND($K$1=0,ROW()-1<=$J$1),INDIRECT("Inventaires!C"&SMALL([1]Inventaires!$A$3:$A$400,ROW()-1),1),IF(AND(ROW()-1<=$K$1,$K$1>0),INDIRECT("Inventaires!C"&SMALL([1]Inventaires!$B$3:$B$400,ROW()-1),1),"")) -> 0 | E6: =IF(AND($K$1=0,ROW()-1<=$J$1),INDIRECT("Inventaires!Q"&SMALL([1]Inventaires!$A$3:$A$400,ROW()-1),1),IF(AND(ROW()-1<=$K$1,$K$1>0),INDIRECT("Inventaires!Q"&SMALL([1]Inventaires!$B$3:$B$400,ROW()-1),1),"")) -> 0 | F6: =IF(AND($K$1=0,ROW()-1<=$J$1),INDIRECT("Inventaires!J"&SMALL([1]Inventaires!$A$3:$A$400,ROW()-1),1),IF(AND(ROW()-1<=$K$1,$K$1>0),INDIRECT("Inventaires!J"&SMALL([1]Inventaires!$B$3:$B$400,ROW()-1),1),"")) -> 0 | G6: =IF(AND($K$1=0,ROW()-1<=$J$1),INDIRECT("Inventaires!K"&SMALL([1]Inventaires!$A$3:$A$400,ROW()-1),1),IF(AND(ROW()-1<=$K$1,$K$1>0),INDIRECT("Inventaires!K"&SMALL([1]Inventaires!$B$3:$B$400,ROW()-1),1),"")) -> 0 | H6: =IF(AND($K$1=0,ROW()-1<=$J$1),INDIRECT("Inventaires!O"&SMALL([1]Inventaires!$A$3:$A$400,ROW()-1),1),IF(AND(ROW()-1<=$K$1,$K$1>0),INDIRECT("Inventaires!O"&SMALL([1]Inventaires!$B$3:$B$400,ROW()-1),1),"")) -> 622027000438 | I6: =IF(AND($K$1=0,ROW()-1<=$J$1),INDIRECT("Inventaires!L"&SMALL([1]Inventaires!$A$3:$A$400,ROW()-1),1),IF(AND(ROW()-1<=$K$1,$K$1>0),INDIRECT("Inventaires!L"&SMALL([1]Inventaires!$B$3:$B$400,ROW()-1),1),"")) -> 0 | K6: =IF(ROW()-1<=$K$1,ROW()-1,"")
B7: =IF(AND($K$1=0,ROW()-1<=$J$1),INDIRECT("Inventaires!D"&SMALL([1]Inventaires!$A$3:$A$400,ROW()-1),1),IF(AND(ROW()-1<=$K$1,$K$1>0),INDIRECT("Inventaires!D"&SMALL([1]Inventaires!$B$3:$B$400,ROW()-1),1),"")) -> 0 | C7: =IF(AND($K$1=0,ROW()-1<=$J$1),INDIRECT("Inventaires!I"&SMALL([1]Inventaires!$A$3:$A$400,ROW()-1),1),IF(AND(ROW()-1<=$K$1,$K$1>0),INDIRECT("Inventaires!I"&SMALL([1]Inventaires!$B$3:$B$400,ROW()-1),1),"")) -> RUPTURE | D7: =IF(AND($K$1=0,ROW()-1<=$J$1),INDIRECT("Inventaires!C"&SMALL([1]Inventaires!$A$3:$A$400,ROW()-1),1),IF(AND(ROW()-1<=$K$1,$K$1>0),INDIRECT("Inventaires!C"&SMALL([1]Inventaires!$B$3:$B$400,ROW()-1),1),"")) -> 0 | E7: =IF(AND($K$1=0,ROW()-1<=$J$1),INDIRECT("Inventaires!Q"&SMALL([1]Inventaires!$A$3:$A$400,ROW()-1),1),IF(AND(ROW()-1<=$K$1,$K$1>0),INDIRECT("Inventaires!Q"&SMALL([1]Inventaires!$B$3:$B$400,ROW()-1),1),"")) -> 0 | F7: =IF(AND($K$1=0,ROW()-1<=$J$1),INDIRECT("Inventaires!J"&SMALL([1]Inventaires!$A$3:$A$400,ROW()-1),1),IF(AND(ROW()-1<=$K$1,$K$1>0),INDIRECT("Inventaires!J"&SMALL([1]Inventaires!$B$3:$B$400,ROW()-1),1),"")) -> 0 | G7: =IF(AND($K$1=0,ROW()-1<=$J$1),INDIRECT("Inventaires!K"&SMALL([1]Inventaires!$A$3:$A$400,ROW()-1),1),IF(AND(ROW()-1<=$K$1,$K$1>0),INDIRECT("Inventaires!K"&SMALL([1]Inventaires!$B$3:$B$400,ROW()-1),1),"")) -> 0 | H7: =IF(AND($K$1=0,ROW()-1<=$J$1),INDIRECT("Inventaires!O"&SMALL([1]Inventaires!$A$3:$A$400,ROW()-1),1),IF(AND(ROW()-1<=$K$1,$K$1>0),INDIRECT("Inventaires!O"&SMALL([1]Inventaires!$B$3:$B$400,ROW()-1),1),"")) -> 777747100873 | I7: =IF(AND($K$1=0,ROW()-1<=$J$1),INDIRECT("Inventaires!L"&SMALL([1]Inventaires!$A$3:$A$400,ROW()-1),1),IF(AND(ROW()-1<=$K$1,$K$1>0),INDIRECT("Inventaires!L"&SMALL([1]Inventaires!$B$3:$B$400,ROW()-1),1),"")) -> 0 | K7: =IF(ROW()-1<=$K$1,ROW()-1,"")
B8: =IF(AND($K$1=0,ROW()-1<=$J$1),INDIRECT("Inventaires!D"&SMALL([1]Inventaires!$A$3:$A$400,ROW()-1),1),IF(AND(ROW()-1<=$K$1,$K$1>0),INDIRECT("Inventaires!D"&SMALL([1]Inventaires!$B$3:$B$400,ROW()-1),1),"")) -> 0 | C8: =IF(AND($K$1=0,ROW()-1<=$J$1),INDIRECT("Inventaires!I"&SMALL([1]Inventaires!$A$3:$A$400,ROW()-1),1),IF(AND(ROW()-1<=$K$1,$K$1>0),INDIRECT("Inventaires!I"&SMALL([1]Inventaires!$B$3:$B$400,ROW()-1),1),"")) -> RUPTURE | D8: =IF(AND($K$1=0,ROW()-1<=$J$1),INDIRECT("Inventaires!C"&SMALL([1]Inventaires!$A$3:$A$400,ROW()-1),1),IF(AND(ROW()-1<=$K$1,$K$1>0),INDIRECT("Inventaires!C"&SMALL([1]Inventaires!$B$3:$B$400,ROW()-1),1),"")) -> 0 | E8: =IF(AND($K$1=0,ROW()-1<=$J$1),INDIRECT("Inventaires!Q"&SMALL([1]Inventaires!$A$3:$A$400,ROW()-1),1),IF(AND(ROW()-1<=$K$1,$K$1>0),INDIRECT("Inventaires!Q"&SMALL([1]Inventaires!$B$3:$B$400,ROW()-1),1),"")) -> 0 | F8: =IF(AND($K$1=0,ROW()-1<=$J$1),INDIRECT("Inventaires!J"&SMALL([1]Inventaires!$A$3:$A$400,ROW()-1),1),IF(AND(ROW()-1<=$K$1,$K$1>0),INDIRECT("Inventaires!J"&SMALL([1]Inventaires!$B$3:$B$400,ROW()-1),1),"")) -> 0 | G8: =IF(AND($K$1=0,ROW()-1<=$J$1),INDIRECT("Inventaires!K"&SMALL([1]Inventaires!$A$3:$A$400,ROW()-1),1),IF(AND(ROW()-1<=$K$1,$K$1>0),INDIRECT("Inventaires!K"&SMALL([1]Inventaires!$B$3:$B$400,ROW()-1),1),"")) -> 0 | H8: =IF(AND($K$1=0,ROW()-1<=$J$1),INDIRECT("Inventaires!O"&SMALL([1]Inventaires!$A$3:$A$400,ROW()-1),1),IF(AND(ROW()-1<=$K$1,$K$1>0),INDIRECT("Inventaires!O"&SMALL([1]Inventaires!$B$3:$B$400,ROW()-1),1),"")) -> 777747100903 | I8: =IF(AND($K$1=0,ROW()-1<=$J$1),INDIRECT("Inventaires!L"&SMALL([1]Inventaires!$A$3:$A$400,ROW()-1),1),IF(AND(ROW()-1<=$K$1,$K$1>0),INDIRECT("Inventaires!L"&SMALL([1]Inventaires!$B$3:$B$400,ROW()-1),1),"")) -> 0 | K8: =IF(ROW()-1<=$K$1,ROW()-1,"")
B9: =IF(AND($K$1=0,ROW()-1<=$J$1),INDIRECT("Inventaires!D"&SMALL([1]Inventaires!$A$3:$A$400,ROW()-1),1),IF(AND(ROW()-1<=$K$1,$K$1>0),INDIRECT("Inventaires!D"&SMALL([1]Inventaires!$B$3:$B$400,ROW()-1),1),"")) -> 0 | C9: =IF(AND($K$1=0,ROW()-1<=$J$1),INDIRECT("Inventaires!I"&SMALL([1]Inventaires!$A$3:$A$400,ROW()-1),1),IF(AND(ROW()-1<=$K$1,$K$1>0),INDIRECT("Inventaires!I"&SMALL([1]Inventaires!$B$3:$B$400,ROW()-1),1),"")) -> RUPTURE | D9: =IF(AND($K$1=0,ROW()-1<=$J$1),INDIRECT("Inventaires!C"&SMALL([1]Inventaires!$A$3:$A$400,ROW()-1),1),IF(AND(ROW()-1<=$K$1,$K$1>0),INDIRECT("Inventaires!C"&SMALL([1]Inventaires!$B$3:$B$400,ROW()-1),1),"")) -> 0 | E9: =IF(AND($K$1=0,ROW()-1<=$J$1),INDIRECT("Inventaires!Q"&SMALL([1]Inventaires!$A$3:$A$400,ROW()-1),1),IF(AND(ROW()-1<=$K$1,$K$1>0),INDIRECT("Inventaires!Q"&SMALL([1]Inventaires!$B$3:$B$400,ROW()-1),1),"")) -> 0 | F9: =IF(AND($K$1=0,ROW()-1<=$J$1),INDIRECT("Inventaires!J"&SMALL([1]Inventaires!$A$3:$A$400,ROW()-1),1),IF(AND(ROW()-1<=$K$1,$K$1>0),INDIRECT("Inventaires!J"&SMALL([1]Inventaires!$B$3:$B$400,ROW()-1),1),"")) -> 0 | G9: =IF(AND($K$1=0,ROW()-1<=$J$1),INDIRECT("Inventaires!K"&SMALL([1]Inventaires!$A$3:$A$400,ROW()-1),1),IF(AND(ROW()-1<=$K$1,$K$1>0),INDIRECT("Inventaires!K"&SMALL([1]Inventaires!$B$3:$B$400,ROW()-1),1),"")) -> 0 | H9: =IF(AND($K$1=0,ROW()-1<=$J$1),INDIRECT("Inventaires!O"&SMALL([1]Inventaires!$A$3:$A$400,ROW()-1),1),IF(AND(ROW()-1<=$K$1,$K$1>0),INDIRECT("Inventaires!O"&SMALL([1]Inventaires!$B$3:$B$400,ROW()-1),1),"")) -> 777747101009 | I9: =IF(AND($K$1=0,ROW()-1<=$J$1),INDIRECT("Inventaires!L"&SMALL([1]Inventaires!$A$3:$A$400,ROW()-1),1),IF(AND(ROW()-1<=$K$1,$K$1>0),INDIRECT("Inventaires!L"&SMALL([1]Inventaires!$B$3:$B$400,ROW()-1),1),"")) -> 0 | K9: =IF(ROW()-1<=$K$1,ROW()-1,"")
B10: =IF(AND($K$1=0,ROW()-1<=$J$1),INDIRECT("Inventaires!D"&SMALL([1]Inventaires!$A$3:$A$400,ROW()-1),1),IF(AND(ROW()-1<=$K$1,$K$1>0),INDIRECT("Inventaires!D"&SMALL([1]Inventaires!$B$3:$B$400,ROW()-1),1),"")) -> 0 | C10: =IF(AND($K$1=0,ROW()-1<=$J$1),INDIRECT("Inventaires!I"&SMALL([1]Inventaires!$A$3:$A$400,ROW()-1),1),IF(AND(ROW()-1<=$K$1,$K$1>0),INDIRECT("Inventaires!I"&SMALL([1]Inventaires!$B$3:$B$400,ROW()-1),1),"")) -> RUPTURE | D10: =IF(AND($K$1=0,ROW()-1<=$J$1),INDIRECT("Inventaires!C"&SMALL([1]Inventaires!$A$3:$A$400,ROW()-1),1),IF(AND(ROW()-1<=$K$1,$K$1>0),INDIRECT("Inventaires!C"&SMALL([1]Inventaires!$B$3:$B$400,ROW()-1),1),"")) -> 0 | E10: =IF(AND($K$1=0,ROW()-1<=$J$1),INDIRECT("Inventaires!Q"&SMALL([1]Inventaires!$A$3:$A$400,ROW()-1),1),IF(AND(ROW()-1<=$K$1,$K$1>0),INDIRECT("Inventaires!Q"&SMALL([1]Inventaires!$B$3:$B$400,ROW()-1),1),"")) -> 0 | F10: =IF(AND($K$1=0,ROW()-1<=$J$1),INDIRECT("Inventaires!J"&SMALL([1]Inventaires!$A$3:$A$400,ROW()-1),1),IF(AND(ROW()-1<=$K$1,$K$1>0),INDIRECT("Inventaires!J"&SMALL([1]Inventaires!$B$3:$B$400,ROW()-1),1),"")) -> 0 | G10: =IF(AND($K$1=0,ROW()-1<=$J$1),INDIRECT("Inventaires!K"&SMALL([1]Inventaires!$A$3:$A$400,ROW()-1),1),IF(AND(ROW()-1<=$K$1,$K$1>0),INDIRECT("Inventaires!K"&SMALL([1]Inventaires!$B$3:$B$400,ROW()-1),1),"")) -> 0 | H10: =IF(AND($K$1=0,ROW()-1<=$J$1),INDIRECT("Inventaires!O"&SMALL([1]Inventaires!$A$3:$A$400,ROW()-1),1),IF(AND(ROW()-1<=$K$1,$K$1>0),INDIRECT("Inventaires!O"&SMALL([1]Inventaires!$B$3:$B$400,ROW()-1),1),"")) -> 777747101023 | I10: =IF(AND($K$1=0,ROW()-1<=$J$1),INDIRECT("Inventaires!L"&SMALL([1]Inventaires!$A$3:$A$400,ROW()-1),1),IF(AND(ROW()-1<=$K$1,$K$1>0),INDIRECT("Inventaires!L"&SMALL([1]Inventaires!$B$3:$B$400,ROW()-1),1),"")) -> 0 | K10: =IF(ROW()-1<=$K$1,ROW()-1,"")
B11: =IF(AND($K$1=0,ROW()-1<=$J$1),INDIRECT("Inventaires!D"&SMALL([1]Inventaires!$A$3:$A$400,ROW()-1),1),IF(AND(ROW()-1<=$K$1,$K$1>0),INDIRECT("Inventaires!D"&SMALL([1]Inventaires!$B$3:$B$400,ROW()-1),1),"")) -> 0 | C11: =IF(AND($K$1=0,ROW()-1<=$J$1),INDIRECT("Inventaires!I"&SMALL([1]Inventaires!$A$3:$A$400,ROW()-1),1),IF(AND(ROW()-1<=$K$1,$K$1>0),INDIRECT("Inventaires!I"&SMALL([1]Inventaires!$B$3:$B$400,ROW()-1),1),"")) -> RUPTURE | D11: =IF(AND($K$1=0,ROW()-1<=$J$1),INDIRECT("Inventaires!C"&SMALL([1]Inventaires!$A$3:$A$400,ROW()-1),1),IF(AND(ROW()-1<=$K$1,$K$1>0),INDIRECT("Inventaires!C"&SMALL([1]Inventaires!$B$3:$B$400,ROW()-1),1),"")) -> 0 | E11: =IF(AND($K$1=0,ROW()-1<=$J$1),INDIRECT("Inventaires!Q"&SMALL([1]Inventaires!$A$3:$A$400,ROW()-1),1),IF(AND(ROW()-1<=$K$1,$K$1>0),INDIRECT("Inventaires!Q"&SMALL([1]Inventaires!$B$3:$B$400,ROW()-1),1),"")) -> 0 | F11: =IF(AND($K$1=0,ROW()-1<=$J$1),INDIRECT("Inventaires!J"&SMALL([1]Inventaires!$A$3:$A$400,ROW()-1),1),IF(AND(ROW()-1<=$K$1,$K$1>0),INDIRECT("Inventaires!J"&SMALL([1]Inventaires!$B$3:$B$400,ROW()-1),1),"")) -> 0 | G11: =IF(AND($K$1=0,ROW()-1<=$J$1),INDIRECT("Inventaires!K"&SMALL([1]Inventaires!$A$3:$A$400,ROW()-1),1),IF(AND(ROW()-1<=$K$1,$K$1>0),INDIRECT("Inventaires!K"&SMALL([1]Inventaires!$B$3:$B$400,ROW()-1),1),"")) -> 0 | H11: =IF(AND($K$1=0,ROW()-1<=$J$1),INDIRECT("Inventaires!O"&SMALL([1]Inventaires!$A$3:$A$400,ROW()-1),1),IF(AND(ROW()-1<=$K$1,$K$1>0),INDIRECT("Inventaires!O"&SMALL([1]Inventaires!$B$3:$B$400,ROW()-1),1),"")) -> 777747101948 | I11: =IF(AND($K$1=0,ROW()-1<=$J$1),INDIRECT("Inventaires!L"&SMALL([1]Inventaires!$A$3:$A$400,ROW()-1),1),IF(AND(ROW()-1<=$K$1,$K$1>0),INDIRECT("Inventaires!L"&SMALL([1]Inventaires!$B$3:$B$400,ROW()-1),1),"")) -> 0 | K11: =IF(ROW()-1<=$K$1,ROW()-1,"")
B12: =IF(AND($K$1=0,ROW()-1<=$J$1),INDIRECT("Inventaires!D"&SMALL([1]Inventaires!$A$3:$A$400,ROW()-1),1),IF(AND(ROW()-1<=$K$1,$K$1>0),INDIRECT("Inventaires!D"&SMALL([1]Inventaires!$B$3:$B$400,ROW()-1),1),"")) -> 0 | C12: =IF(AND($K$1=0,ROW()-1<=$J$1),INDIRECT("Inventaires!I"&SMALL([1]Inventaires!$A$3:$A$400,ROW()-1),1),IF(AND(ROW()-1<=$K$1,$K$1>0),INDIRECT("Inventaires!I"&SMALL([1]Inventaires!$B$3:$B$400,ROW()-1),1),"")) -> RUPTURE | D12: =IF(AND($K$1=0,ROW()-1<=$J$1),INDIRECT("Inventaires!C"&SMALL([1]Inventaires!$A$3:$A$400,ROW()-1),1),IF(AND(ROW()-1<=$K$1,$K$1>0),INDIRECT("Inventaires!C"&SMALL([1]Inventaires!$B$3:$B$400,ROW()-1),1),"")) -> 0 | E12: =IF(AND($K$1=0,ROW()-1<=$J$1),INDIRECT("Inventaires!Q"&SMALL([1]Inventaires!$A$3:$A$400,ROW()-1),1),IF(AND(ROW()-1<=$K$1,$K$1>0),INDIRECT("Inventaires!Q"&SMALL([1]Inventaires!$B$3:$B$400,ROW()-1),1),"")) -> 0 | F12: =IF(AND($K$1=0,ROW()-1<=$J$1),INDIRECT("Inventaires!J"&SMALL([1]Inventaires!$A$3:$A$400,ROW()-1),1),IF(AND(ROW()-1<=$K$1,$K$1>0),INDIRECT("Inventaires!J"&SMALL([1]Inventaires!$B$3:$B$400,ROW()-1),1),"")) -> 0 | G12: =IF(AND($K$1=0,ROW()-1<=$J$1),INDIRECT("Inventaires!K"&SMALL([1]Inventaires!$A$3:$A$400,ROW()-1),1),IF(AND(ROW()-1<=$K$1,$K$1>0),INDIRECT("Inventaires!K"&SMALL([1]Inventaires!$B$3:$B$400,ROW()-1),1),"")) -> 0 | H12: =IF(AND($K$1=0,ROW()-1<=$J$1),INDIRECT("Inventaires!O"&SMALL([1]Inventaires!$A$3:$A$400,ROW()-1),1),IF(AND(ROW()-1<=$K$1,$K$1>0),INDIRECT("Inventaires!O"&SMALL([1]Inventaires!$B$3:$B$400,ROW()-1),1),"")) -> 777747101092 | I12: =IF(AND($K$1=0,ROW()-1<=$J$1),INDIRECT("Inventaires!L"&SMALL([1]Inventaires!$A$3:$A$400,ROW()-1),1),IF(AND(ROW()-1<=$K$1,$K$1>0),INDIRECT("Inventaires!L"&SMALL([1]Inventaires!$B$3:$B$400,ROW()-1),1),"")) -> 0 | K12: =IF(ROW()-1<=$K$1,ROW()-1,"")
B13: =IF(AND($K$1=0,ROW()-1<=$J$1),INDIRECT("Inventaires!D"&SMALL([1]Inventaires!$A$3:$A$400,ROW()-1),1),IF(AND(ROW()-1<=$K$1,$K$1>0),INDIRECT("Inventaires!D"&SMALL([1]Inventaires!$B$3:$B$400,ROW()-1),1),"")) -> 0 | C13: =IF(AND($K$1=0,ROW()-1<=$J$1),INDIRECT("Inventaires!I"&SMALL([1]Inventaires!$A$3:$A$400,ROW()-1),1),IF(AND(ROW()-1<=$K$1,$K$1>0),INDIRECT("Inventaires!I"&SMALL([1]Inventaires!$B$3:$B$400,ROW()-1),1),"")) -> 0 | D13: =IF(AND($K$1=0,ROW()-1<=$J$1),INDIRECT("Inventaires!C"&SMALL([1]Inventaires!$A$3:$A$400,ROW()-1),1),IF(AND(ROW()-1<=$K$1,$K$1>0),INDIRECT("Inventaires!C"&SMALL([1]Inventaires!$B$3:$B$400,ROW()-1),1),"")) -> 0 | E13: =IF(AND($K$1=0,ROW()-1<=$J$1),INDIRECT("Inventaires!Q"&SMALL([1]Inventaires!$A$3:$A$400,ROW()-1),1),IF(AND(ROW()-1<=$K$1,$K$1>0),INDIRECT("Inventaires!Q"&SMALL([1]Inventaires!$B$3:$B$400,ROW()-1),1),"")) -> 0 | F13: =IF(AND($K$1=0,ROW()-1<=$J$1),INDIRECT("Inventaires!J"&SMALL([1]Inventaires!$A$3:$A$400,ROW()-1),1),IF(AND(ROW()-1<=$K$1,$K$1>0),INDIRECT("Inventaires!J"&SMALL([1]Inventaires!$B$3:$B$400,ROW()-1),1),"")) -> 0 | G13: =IF(AND($K$1=0,ROW()-1<=$J$1),INDIRECT("Inventaires!K"&SMALL([1]Inventaires!$A$3:$A$400,ROW()-1),1),IF(AND(ROW()-1<=$K$1,$K$1>0),INDIRECT("Inventaires!K"&SMALL([1]Inventaires!$B$3:$B$400,ROW()-1),1),"")) -> 0 | H13: =IF(AND($K$1=0,ROW()-1<=$J$1),INDIRECT("Inventaires!O"&SMALL([1]Inventaires!$A$3:$A$400,ROW()-1),1),IF(AND(ROW()-1<=$K$1,$K$1>0),INDIRECT("Inventaires!O"&SMALL([1]Inventaires!$B$3:$B$400,ROW()-1),1),"")) -> 777747101986 | I13: =IF(AND($K$1=0,ROW()-1<=$J$1),INDIRECT("Inventaires!L"&SMALL([1]Inventaires!$A$3:$A$400,ROW()-1),1),IF(AND(ROW()-1<=$K$1,$K$1>0),INDIRECT("Inventaires!L"&SMALL([1]Inventaires!$B$3:$B$400,ROW()-1),1),"")) -> 0 | K13: =IF(ROW()-1<=$K$1,ROW()-1,"")
B14: =IF(AND($K$1=0,ROW()-1<=$J$1),INDIRECT("Inventaires!D"&SMALL([1]Inventaires!$A$3:$A$400,ROW()-1),1),IF(AND(ROW()-1<=$K$1,$K$1>0),INDIRECT("Inventaires!D"&SMALL([1]Inventaires!$B$3:$B$400,ROW()-1),1),"")) -> 0 | C14: =IF(AND($K$1=0,ROW()-1<=$J$1),INDIRECT("Inventaires!I"&SMALL([1]Inventaires!$A$3:$A$400,ROW()-1),1),IF(AND(ROW()-1<=$K$1,$K$1>0),INDIRECT("Inventaires!I"&SMALL([1]Inventaires!$B$3:$B$400,ROW()-1),1),"")) -> RUPTURE | D14: =IF(AND($K$1=0,ROW()-1<=$J$1),INDIRECT("Inventaires!C"&SMALL([1]Inventaires!$A$3:$A$400,ROW()-1),1),IF(AND(ROW()-1<=$K$1,$K$1>0),INDIRECT("Inventaires!C"&SMALL([1]Inventaires!$B$3:$B$400,ROW()-1),1),"")) -> 0 | E14: =IF(AND($K$1=0,ROW()-1<=$J$1),INDIRECT("Inventaires!Q"&SMALL([1]Inventaires!$A$3:$A$400,ROW()-1),1),IF(AND(ROW()-1<=$K$1,$K$1>0),INDIRECT("Inventaires!Q"&SMALL([1]Inventaires!$B$3:$B$400,ROW()-1),1),"")) -> 0 | F14: =IF(AND($K$1=0,ROW()-1<=$J$1),INDIRECT("Inventaires!J"&SMALL([1]Inventaires!$A$3:$A$400,ROW()-1),1),IF(AND(ROW()-1<=$K$1,$K$1>0),INDIRECT("Inventaires!J"&SMALL([1]Inventaires!$B$3:$B$400,ROW()-1),1),"")) -> 0 | G14: =IF(AND($K$1=0,ROW()-1<=$J$1),INDIRECT("Inventaires!K"&SMALL([1]Inventaires!$A$3:$A$400,ROW()-1),1),IF(AND(ROW()-1<=$K$1,$K$1>0),INDIRECT("Inventaires!K"&SMALL([1]Inventaires!$B$3:$B$400,ROW()-1),1),"")) -> 0 | H14: =IF(AND($K$1=0,ROW()-1<=$J$1),INDIRECT("Inventaires!O"&SMALL([1]Inventaires!$A$3:$A$400,ROW()-1),1),IF(AND(ROW()-1<=$K$1,$K$1>0),INDIRECT("Inventaires!O"&SMALL([1]Inventaires!$B$3:$B$400,ROW()-1),1),"")) -> 777747101993 | I14: =IF(AND($K$1=0,ROW()-1<=$J$1),INDIRECT("Inventaires!L"&SMALL([1]Inventaires!$A$3:$A$400,ROW()-1),1),IF(AND(ROW()-1<=$K$1,$K$1>0),INDIRECT("Inventaires!L"&SMALL([1]Inventaires!$B$3:$B$400,ROW()-1),1),"")) -> 0 | K14: =IF(ROW()-1<=$K$1,ROW()-1,"")
... B400: =IF(AND($K$1=0,ROW()-1<=$J$1),INDIRECT("Inventaires!D"&SMALL([1]Inventaires!$A$3:$A$400,ROW()-1),1),IF(AND(ROW()-1<=$K$1,$K$1>0),INDIRECT("Inventaires!D"&SMALL([1]Inventaires!$B$3:$B$400,ROW()-1),1),"")) | C400: =IF(AND($K$1=0,ROW()-1<=$J$1),INDIRECT("Inventaires!I"&SMALL([1]Inventaires!$A$3:$A$400,ROW()-1),1),IF(AND(ROW()-1<=$K$1,$K$1>0),INDIRECT("Inventaires!I"&SMALL([1]Inventaires!$B$3:$B$400,ROW()-1),1),"")) | D400: =IF(AND($K$1=0,ROW()-1<=$J$1),INDIRECT("Inventaires!C"&SMALL([1]Inventaires!$A$3:$A$400,ROW()-1),1),IF(AND(ROW()-1<=$K$1,$K$1>0),INDIRECT("Inventaires!C"&SMALL([1]Inventaires!$B$3:$B$400,ROW()-1),1),"")) | E400: =IF(AND($K$1=0,ROW()-1<=$J$1),INDIRECT("Inventaires!Q"&SMALL([1]Inventaires!$A$3:$A$400,ROW()-1),1),IF(AND(ROW()-1<=$K$1,$K$1>0),INDIRECT("Inventaires!Q"&SMALL([1]Inventaires!$B$3:$B$400,ROW()-1),1),"")) | F400: =IF(AND($K$1=0,ROW()-1<=$J$1),INDIRECT("Inventaires!J"&SMALL([1]Inventaires!$A$3:$A$400,ROW()-1),1),IF(AND(ROW()-1<=$K$1,$K$1>0),INDIRECT("Inventaires!J"&SMALL([1]Inventaires!$B$3:$B$400,ROW()-1),1),"")) | G400: =IF(AND($K$1=0,ROW()-1<=$J$1),INDIRECT("Inventaires!K"&SMALL([1]Inventaires!$A$3:$A$400,ROW()-1),1),IF(AND(ROW()-1<=$K$1,$K$1>0),INDIRECT("Inventaires!K"&SMALL([1]Inventaires!$B$3:$B$400,ROW()-1),1),"")) | H400: =IF(AND($K$1=0,ROW()-1<=$J$1),INDIRECT("Inventaires!O"&SMALL([1]Inventaires!$A$3:$A$400,ROW()-1),1),IF(AND(ROW()-1<=$K$1,$K$1>0),INDIRECT("Inventaires!O"&SMALL([1]Inventaires!$B$3:$B$400,ROW()-1),1),"")) | I400: =IF(AND($K$1=0,ROW()-1<=$J$1),INDIRECT("Inventaires!L"&SMALL([1]Inventaires!$A$3:$A$400,ROW()-1),1),IF(AND(ROW()-1<=$K$1,$K$1>0),INDIRECT("Inventaires!L"&SMALL([1]Inventaires!$B$3:$B$400,ROW()-1),1),"")) | K400: =IF(ROW()-1<=$K$1,ROW()-1,"")
B401: =IF(ROW()-1>$J$1,"",INDIRECT("Inventaires!D"&SMALL([1]Inventaires!$A$3:$A$400,ROW()-1),1)) | C401: =IF(ROW()-1>$J$1,"",INDIRECT("Inventaires!I"&SMALL([1]Inventaires!$A$3:$A$400,ROW()-1),1)) | D401: =IF(ROW()-1>$J$1,"",INDIRECT("Inventaires!C"&SMALL([1]Inventaires!$A$3:$A$400,ROW()-1),1)) | E401: =IF(ROW()-1>$J$1,"",INDIRECT("Inventaires!Q"&SMALL([1]Inventaires!$A$3:$A$400,ROW()-1),1)) | F401: =IF(ROW()-1>$J$1,"",INDIRECT("Inventaires!J"&SMALL([1]Inventaires!$A$3:$A$400,ROW()-1),1)) | G401: =IF(ROW()-1>$J$1,"",INDIRECT("Inventaires!K"&SMALL([1]Inventaires!$A$3:$A$400,ROW()-1),1)) | H401: =IF(ROW()-1>$J$1,"",INDIRECT("Inventaires!O"&SMALL([1]Inventaires!$A$3:$A$400,ROW()-1),1)) | I401: =IF(ROW()-1>$J$1,"",INDIRECT("Inventaires!L"&SMALL([1]Inventaires!$A$3:$A$400,ROW()-1),1))
B402: =IF(ROW()-1>$J$1,"",INDIRECT("Inventaires!D"&SMALL([1]Inventaires!$A$3:$A$400,ROW()-1),1)) | C402: =IF(ROW()-1>$J$1,"",INDIRECT("Inventaires!I"&SMALL([1]Inventaires!$A$3:$A$400,ROW()-1),1)) | D402: =IF(ROW()-1>$J$1,"",INDIRECT("Inventaires!C"&SMALL([1]Inventaires!$A$3:$A$400,ROW()-1),1)) | E402: =IF(ROW()-1>$J$1,"",INDIRECT("Inventaires!Q"&SMALL([1]Inventaires!$A$3:$A$400,ROW()-1),1)) | F402: =IF(ROW()-1>$J$1,"",INDIRECT("Inventaires!J"&SMALL([1]Inventaires!$A$3:$A$400,ROW()-1),1)) | G402: =IF(ROW()-1>$J$1,"",INDIRECT("Inventaires!K"&SMALL([1]Inventaires!$A$3:$A$400,ROW()-1),1)) | H402: =IF(ROW()-1>$J$1,"",INDIRECT("Inventaires!O"&SMALL([1]Inventaires!$A$3:$A$400,ROW()-1),1)) | I402: =IF(ROW()-1>$J$1,"",INDIRECT("Inventaires!L"&SMALL([1]Inventaires!$A$3:$A$400,ROW()-1),1))
B403: =IF(ROW()-1>$J$1,"",INDIRECT("Inventaires!D"&SMALL([1]Inventaires!$A$3:$A$400,ROW()-1),1)) | C403: =IF(ROW()-1>$J$1,"",INDIRECT("Inventaires!I"&SMALL([1]Inventaires!$A$3:$A$400,ROW()-1),1)) | D403: =IF(ROW()-1>$J$1,"",INDIRECT("Inventaires!C"&SMALL([1]Inventaires!$A$3:$A$400,ROW()-1),1)) | E403: =IF(ROW()-1>$J$1,"",INDIRECT("Inventaires!Q"&SMALL([1]Inventaires!$A$3:$A$400,ROW()-1),1)) | F403: =IF(ROW()-1>$J$1,"",INDIRECT("Inventaires!J"&SMALL([1]Inventaires!$A$3:$A$400,ROW()-1),1)) | G403: =IF(ROW()-1>$J$1,"",INDIRECT("Inventaires!K"&SMALL([1]Inventaires!$A$3:$A$400,ROW()-1),1)) | H403: =IF(ROW()-1>$J$1,"",INDIRECT("Inventaires!O"&SMALL([1]Inventaires!$A$3:$A$400,ROW()-1),1)) | I403: =IF(ROW()-1>$J$1,"",INDIRECT("Inventaires!L"&SMALL([1]Inventaires!$A$3:$A$400,ROW()-1),1))
B404: =IF(ROW()-1>$J$1,"",INDIRECT("Inventaires!D"&SMALL([1]Inventaires!$A$3:$A$400,ROW()-1),1)) | C404: =IF(ROW()-1>$J$1,"",INDIRECT("Inventaires!I"&SMALL([1]Inventaires!$A$3:$A$400,ROW()-1),1)) | D404: =IF(ROW()-1>$J$1,"",INDIRECT("Inventaires!C"&SMALL([1]Inventaires!$A$3:$A$400,ROW()-1),1)) | E404: =IF(ROW()-1>$J$1,"",INDIRECT("Inventaires!Q"&SMALL([1]Inventaires!$A$3:$A$400,ROW()-1),1)) | F404: =IF(ROW()-1>$J$1,"",INDIRECT("Inventaires!J"&SMALL([1]Inventaires!$A$3:$A$400,ROW()-1),1)) | G404: =IF(ROW()-1>$J$1,"",INDIRECT("Inventaires!K"&SMALL([1]Inventaires!$A$3:$A$400,ROW()-1),1)) | H404: =IF(ROW()-1>$J$1,"",INDIRECT("Inventaires!O"&SMALL([1]Inventaires!$A$3:$A$400,ROW()-1),1)) | I404: =IF(ROW()-1>$J$1,"",INDIRECT("Inventaires!L"&SMALL([1]Inventaires!$A$3:$A$400,ROW()-1),1))
B405: =IF(ROW()-1>$J$1,"",INDIRECT("Inventaires!D"&SMALL([1]Inventaires!$A$3:$A$400,ROW()-1),1)) | C405: =IF(ROW()-1>$J$1,"",INDIRECT("Inventaires!I"&SMALL([1]Inventaires!$A$3:$A$400,ROW()-1),1)) | D405: =IF(ROW()-1>$J$1,"",INDIRECT("Inventaires!C"&SMALL([1]Inventaires!$A$3:$A$400,ROW()-1),1)) | E405: =IF(ROW()-1>$J$1,"",INDIRECT("Inventaires!Q"&SMALL([1]Inventaires!$A$3:$A$400,ROW()-1),1)) | F405: =IF(ROW()-1>$J$1,"",INDIRECT("Inventaires!J"&SMALL([1]Inventaires!$A$3:$A$400,ROW()-1),1)) | G405: =IF(ROW()-1>$J$1,"",INDIRECT("Inventaires!K"&SMALL([1]Inventaires!$A$3:$A$400,ROW()-1),1)) | H405: =IF(ROW()-1>$J$1,"",INDIRECT("Inventaires!O"&SMALL([1]Inventaires!$A$3:$A$400,ROW()-1),1)) | I405: =IF(ROW()-1>$J$1,"",INDIRECT("Inventaires!L"&SMALL([1]Inventaires!$A$3:$A$400,ROW()-1),1))
B406: =IF(ROW()-1>$J$1,"",INDIRECT("Inventaires!D"&SMALL([1]Inventaires!$A$3:$A$400,ROW()-1),1)) | C406: =IF(ROW()-1>$J$1,"",INDIRECT("Inventaires!I"&SMALL([1]Inventaires!$A$3:$A$400,ROW()-1),1)) | D406: =IF(ROW()-1>$J$1,"",INDIRECT("Inventaires!C"&SMALL([1]Inventaires!$A$3:$A$400,ROW()-1),1)) | E406: =IF(ROW()-1>$J$1,"",INDIRECT("Inventaires!Q"&SMALL([1]Inventaires!$A$3:$A$400,ROW()-1),1)) | F406: =IF(ROW()-1>$J$1,"",INDIRECT("Inventaires!J"&SMALL([1]Inventaires!$A$3:$A$400,ROW()-1),1)) | G406: =IF(ROW()-1>$J$1,"",INDIRECT("Inventaires!K"&SMALL([1]Inventaires!$A$3:$A$400,ROW()-1),1)) | H406: =IF(ROW()-1>$J$1,"",INDIRECT("Inventaires!O"&SMALL([1]Inventaires!$A$3:$A$400,ROW()-1),1)) | I406: =IF(ROW()-1>$J$1,"",INDIRECT("Inventaires!L"&SMALL([1]Inventaires!$A$3:$A$400,ROW()-1),1))
B407: =IF(ROW()-1>$J$1,"",INDIRECT("Inventaires!D"&SMALL([1]Inventaires!$A$3:$A$400,ROW()-1),1)) | C407: =IF(ROW()-1>$J$1,"",INDIRECT("Inventaires!I"&SMALL([1]Inventaires!$A$3:$A$400,ROW()-1),1)) | D407: =IF(ROW()-1>$J$1,"",INDIRECT("Inventaires!C"&SMALL([1]Inventaires!$A$3:$A$400,ROW()-1),1)) | E407: =IF(ROW()-1>$J$1,"",INDIRECT("Inventaires!Q"&SMALL([1]Inventaires!$A$3:$A$400,ROW()-1),1)) | F407: =IF(ROW()-1>$J$1,"",INDIRECT("Inventaires!J"&SMALL([1]Inventaires!$A$3:$A$400,ROW()-1),1)) | G407: =IF(ROW()-1>$J$1,"",INDIRECT("Inventaires!K"&SMALL([1]Inventaires!$A$3:$A$400,ROW()-1),1)) | H407: =IF(ROW()-1>$J$1,"",INDIRECT("Inventaires!O"&SMALL([1]Inventaires!$A$3:$A$400,ROW()-1),1)) | I407: =IF(ROW()-1>$J$1,"",INDIRECT("Inventaires!L"&SMALL([1]Inventaires!$A$3:$A$400,ROW()-1),1))
B408: =IF(ROW()-1>$J$1,"",INDIRECT("Inventaires!D"&SMALL([1]Inventaires!$A$3:$A$400,ROW()-1),1)) | C408: =IF(ROW()-1>$J$1,"",INDIRECT("Inventaires!I"&SMALL([1]Inventaires!$A$3:$A$400,ROW()-1),1)) | D408: =IF(ROW()-1>$J$1,"",INDIRECT("Inventaires!C"&SMALL([1]Inventaires!$A$3:$A$400,ROW()-1),1)) | E408: =IF(ROW()-1>$J$1,"",INDIRECT("Inventaires!Q"&SMALL([1]Inventaires!$A$3:$A$400,ROW()-1),1)) | F408: =IF(ROW()-1>$J$1,"",INDIRECT("Inventaires!J"&SMALL([1]Inventaires!$A$3:$A$400,ROW()-1),1)) | G408: =IF(ROW()-1>$J$1,"",INDIRECT("Inventaires!K"&SMALL([1]Inventaires!$A$3:$A$400,ROW()-1),1)) | H408: =IF(ROW()-1>$J$1,"",INDIRECT("Inventaires!O"&SMALL([1]Inventaires!$A$3:$A$400,ROW()-1),1)) | I408: =IF(ROW()-1>$J$1,"",INDIRECT("Inventaires!L"&SMALL([1]Inventaires!$A$3:$A$400,ROW()-1),1))
B409: =IF(ROW()-1>$J$1,"",INDIRECT("Inventaires!D"&SMALL([1]Inventaires!$A$3:$A$400,ROW()-1),1)) | C409: =IF(ROW()-1>$J$1,"",INDIRECT("Inventaires!I"&SMALL([1]Inventaires!$A$3:$A$400,ROW()-1),1)) | D409: =IF(ROW()-1>$J$1,"",INDIRECT("Inventaires!C"&SMALL([1]Inventaires!$A$3:$A$400,ROW()-1),1)) | E409: =IF(ROW()-1>$J$1,"",INDIRECT("Inventaires!Q"&SMALL([1]Inventaires!$A$3:$A$400,ROW()-1),1)) | F409: =IF(ROW()-1>$J$1,"",INDIRECT("Inventaires!J"&SMALL([1]Inventaires!$A$3:$A$400,ROW()-1),1)) | G409: =IF(ROW()-1>$J$1,"",INDIRECT("Inventaires!K"&SMALL([1]Inventaires!$A$3:$A$400,ROW()-1),1)) | H409: =IF(ROW()-1>$J$1,"",INDIRECT("Inventaires!O"&SMALL([1]Inventaires!$A$3:$A$400,ROW()-1),1)) | I409: =IF(ROW()-1>$J$1,"",INDIRECT("Inventaires!L"&SMALL([1]Inventaires!$A$3:$A$400,ROW()-1),1))
B410: =IF(ROW()-1>$J$1,"",INDIRECT("Inventaires!D"&SMALL([1]Inventaires!$A$3:$A$400,ROW()-1),1)) | C410: =IF(ROW()-1>$J$1,"",INDIRECT("Inventaires!I"&SMALL([1]Inventaires!$A$3:$A$400,ROW()-1),1)) | D410: =IF(ROW()-1>$J$1,"",INDIRECT("Inventaires!C"&SMALL([1]Inventaires!$A$3:$A$400,ROW()-1),1)) | E410: =IF(ROW()-1>$J$1,"",INDIRECT("Inventaires!Q"&SMALL([1]Inventaires!$A$3:$A$400,ROW()-1),1)) | F410: =IF(ROW()-1>$J$1,"",INDIRECT("Inventaires!J"&SMALL([1]Inventaires!$A$3:$A$400,ROW()-1),1)) | G410: =IF(ROW()-1>$J$1,"",INDIRECT("Inventaires!K"&SMALL([1]Inventaires!$A$3:$A$400,ROW()-1),1)) | H410: =IF(ROW()-1>$J$1,"",INDIRECT("Inventaires!O"&SMALL([1]Inventaires!$A$3:$A$400,ROW()-1),1)) | I410: =IF(ROW()-1>$J$1,"",INDIRECT("Inventaires!L"&SMALL([1]Inventaires!$A$3:$A$400,ROW()-1),1))
B411: =IF(ROW()-1>$J$1,"",INDIRECT("Inventaires!D"&SMALL([1]Inventaires!$A$3:$A$400,ROW()-1),1)) | C411: =IF(ROW()-1>$J$1,"",INDIRECT("Inventaires!I"&SMALL([1]Inventaires!$A$3:$A$400,ROW()-1),1)) | D411: =IF(ROW()-1>$J$1,"",INDIRECT("Inventaires!C"&SMALL([1]Inventaires!$A$3:$A$400,ROW()-1),1)) | E411: =IF(ROW()-1>$J$1,"",INDIRECT("Inventaires!Q"&SMALL([1]Inventaires!$A$3:$A$400,ROW()-1),1)) | F411: =IF(ROW()-1>$J$1,"",INDIRECT("Inventaires!J"&SMALL([1]Inventaires!$A$3:$A$400,ROW()-1),1)) | G411: =IF(ROW()-1>$J$1,"",INDIRECT("Inventaires!K"&SMALL([1]Inventaires!$A$3:$A$400,ROW()-1),1)) | H411: =IF(ROW()-1>$J$1,"",INDIRECT("Inventaires!O"&SMALL([1]Inventaires!$A$3:$A$400,ROW()-1),1)) | I411: =IF(ROW()-1>$J$1,"",INDIRECT("Inventaires!L"&SMALL([1]Inventaires!$A$3:$A$400,ROW()-1),1))
B412: =IF(ROW()-1>$J$1,"",INDIRECT("Inventaires!D"&SMALL([1]Inventaires!$A$3:$A$400,ROW()-1),1)) | C412: =IF(ROW()-1>$J$1,"",INDIRECT("Inventaires!I"&SMALL([1]Inventaires!$A$3:$A$400,ROW()-1),1)) | D412: =IF(ROW()-1>$J$1,"",INDIRECT("Inventaires!C"&SMALL([1]Inventaires!$A$3:$A$400,ROW()-1),1)) | E412: =IF(ROW()-1>$J$1,"",INDIRECT("Inventaires!Q"&SMALL([1]Inventaires!$A$3:$A$400,ROW()-1),1)) | F412: =IF(ROW()-1>$J$1,"",INDIRECT("Inventaires!J"&SMALL([1]Inventaires!$A$3:$A$400,ROW()-1),1)) | G412: =IF(ROW()-1>$J$1,"",INDIRECT("Inventaires!K"&SMALL([1]Inventaires!$A$3:$A$400,ROW()-1),1)) | H412: =IF(ROW()-1>$J$1,"",INDIRECT("Inventaires!O"&SMALL([1]Inventaires!$A$3:$A$400,ROW()-1),1)) | I412: =IF(ROW()-1>$J$1,"",INDIRECT("Inventaires!L"&SMALL([1]Inventaires!$A$3:$A$400,ROW()-1),1))
... B1000: =IF(ROW()-1>$J$1,"",INDIRECT("Inventaires!D"&SMALL([1]Inventaires!$A$3:$A$400,ROW()-1),1)) | C1000: =IF(ROW()-1>$J$1,"",INDIRECT("Inventaires!I"&SMALL([1]Inventaires!$A$3:$A$400,ROW()-1),1)) | D1000: =IF(ROW()-1>$J$1,"",INDIRECT("Inventaires!C"&SMALL([1]Inventaires!$A$3:$A$400,ROW()-1),1)) | E1000: =IF(ROW()-1>$J$1,"",INDIRECT("Inventaires!Q"&SMALL([1]Inventaires!$A$3:$A$400,ROW()-1),1)) | F1000: =IF(ROW()-1>$J$1,"",INDIRECT("Inventaires!J"&SMALL([1]Inventaires!$A$3:$A$400,ROW()-1),1)) | G1000: =IF(ROW()-1>$J$1,"",INDIRECT("Inventaires!K"&SMALL([1]Inventaires!$A$3:$A$400,ROW()-1),1)) | H1000: =IF(ROW()-1>$J$1,"",INDIRECT("Inventaires!O"&SMALL([1]Inventaires!$A$3:$A$400,ROW()-1),1)) | I1000: =IF(ROW()-1>$J$1,"",INDIRECT("Inventaires!L"&SMALL([1]Inventaires!$A$3:$A$400,ROW()-1),1))

Sheet LD
A1: CATEGORIE | B1: SOUS CATEGORIE | G1: =COUNTIF(G2:G1000,">=1") -> 22 | J1: =COUNTIF(J2:J1000,">=1") -> 6
A2: =IF(ISERROR(SMALL(E$2:E$400,ROW()-1)),"",INDIRECT("D"&SMALL(E$2:E$400,ROW()-1))) -> 0100 Analgésiques | B2: =IF(ROW()-1<=J$1,INDIRECT("LD!I"&SMALL(J$2:J$1000,ROW()-1),1),"") -> 4810 | D2: =IF([1]Inventaires!H3="","",[1]Inventaires!H3) -> 0100 Analgésiques | E2: =IF(OR(D2="",D2=D3),"",ROW()) | F2: =IF(OR([1]Inventaires!H3="",[1]Rapport!A$2<>[1]Inventaires!H3),"",[1]Inventaires!I3) | G2: =IF(F2="","",ROW()) | H2: =IF(OR(F2<>[1]Rapport!$C$1,F2=""),"",ROW()) | I2: =IF(COUNTIF($I1:I$3,F2)<1,F2,"") | J2: =IF(OR(I2=0,I2<>""),ROW(),"")
A3: =IF(ISERROR(SMALL(E$2:E$400,ROW()-1)),"",INDIRECT("D"&SMALL(E$2:E$400,ROW()-1))) -> 0300 Laxatifs et Anti-diarrhéique | B3: =IF(ROW()-1<=J$1,INDIRECT("LD!I"&SMALL(J$2:J$1000,ROW()-1),1),"") -> 4830 | D3: =IF([1]Inventaires!H4="","",[1]Inventaires!H4) -> 0100 Analgésiques | E3: =IF(OR(D3="",D3=D4),"",ROW()) | F3: =IF(OR([1]Inventaires!H4="",[1]Rapport!A$2<>[1]Inventaires!H4),"",[1]Inventaires!I4) | G3: =IF(F3="","",ROW()) | H3: =IF(OR(F3<>[1]Rapport!$C$1,F3=""),"",ROW()) | I3: =IF(COUNTIF($I2:I$3,F3)<1,F3,"") | J3: =IF(OR(I3=0,I3<>""),ROW(),"")
A4: =IF(ISERROR(SMALL(E$2:E$400,ROW()-1)),"",INDIRECT("D"&SMALL(E$2:E$400,ROW()-1))) -> 0500 Diététique | B4: =IF(ROW()-1<=J$1,INDIRECT("LD!I"&SMALL(J$2:J$1000,ROW()-1),1),"") -> 4860 | D4: =IF([1]Inventaires!H5="","",[1]Inventaires!H5) -> 0100 Analgésiques | E4: =IF(OR(D4="",D4=D5),"",ROW()) | F4: =IF(OR([1]Inventaires!H5="",[1]Rapport!A$2<>[1]Inventaires!H5),"",[1]Inventaires!I5) | G4: =IF(F4="","",ROW()) | H4: =IF(OR(F4<>[1]Rapport!$C$1,F4=""),"",ROW()) | I4: =IF(COUNTIF($I3:I$3,F4)<1,F4,"") | J4: =IF(OR(I4=0,I4<>""),ROW(),"")
A5: =IF(ISERROR(SMALL(E$2:E$400,ROW()-1)),"",INDIRECT("D"&SMALL(E$2:E$400,ROW()-1))) -> 0700 Vitamines | B5: =IF(ROW()-1<=J$1,INDIRECT("LD!I"&SMALL(J$2:J$1000,ROW()-1),1),"") -> 4820 P. MENAGERS DESODORISANTS | D5: =IF([1]Inventaires!H6="","",[1]Inventaires!H6) -> 0100 Analgésiques | E5: =IF(OR(D5="",D5=D6),"",ROW()) | F5: =IF(OR([1]Inventaires!H6="",[1]Rapport!A$2<>[1]Inventaires!H6),"",[1]Inventaires!I6) | G5: =IF(F5="","",ROW()) | H5: =IF(OR(F5<>[1]Rapport!$C$1,F5=""),"",ROW()) | I5: =IF(COUNTIF($I$3:I4,F5)<1,F5,"") | J5: =IF(OR(I5=0,I5<>""),ROW(),"")
A6: =IF(ISERROR(SMALL(E$2:E$400,ROW()-1)),"",INDIRECT("D"&SMALL(E$2:E$400,ROW()-1))) -> 0900 Rhume et toux | B6: =IF(ROW()-1<=J$1,INDIRECT("LD!I"&SMALL(J$2:J$1000,ROW()-1),1),"") -> 4860 P .MENAGERS DETERG. VAISSELLES | D6: =IF([1]Inventaires!H7="","",[1]Inventaires!H7) -> 0100 Analgésiques | E6: =IF(OR(D6="",D6=D7),"",ROW()) | F6: =IF(OR([1]Inventaires!H7="",[1]Rapport!A$2<>[1]Inventaires!H7),"",[1]Inventaires!I7) | G6: =IF(F6="","",ROW()) | H6: =IF(OR(F6<>[1]Rapport!$C$1,F6=""),"",ROW()) | I6: =IF(COUNTIF($I$3:I5,F6)<1,F6,"") | J6: =IF(OR(I6=0,I6<>""),ROW(),"")
A7: =IF(ISERROR(SMALL(E$2:E$400,ROW()-1)),"",INDIRECT("D"&SMALL(E$2:E$400,ROW()-1))) -> 1000 Yeux et Oreilles | B7: =IF(ROW()-1<=J$1,INDIRECT("LD!I"&SMALL(J$2:J$1000,ROW()-1),1),"") -> 0 | D7: =IF([1]Inventaires!H8="","",[1]Inventaires!H8) -> 0100 Analgésiques | E7: =IF(OR(D7="",D7=D8),"",ROW()) | F7: =IF(OR([1]Inventaires!H8="",[1]Rapport!A$2<>[1]Inventaires!H8),"",[1]Inventaires!I8) | G7: =IF(F7="","",ROW()) | H7: =IF(OR(F7<>[1]Rapport!$C$1,F7=""),"",ROW()) | I7: =IF(COUNTIF($I$3:I6,F7)<1,F7,"") | J7: =IF(OR(I7=0,I7<>""),ROW(),"")
A8: =IF(ISERROR(SMALL(E$2:E$400,ROW()-1)),"",INDIRECT("D"&SMALL(E$2:E$400,ROW()-1))) -> 1200 Orthopédie | B8: =IF(ROW()-1<=J$1,INDIRECT("LD!I"&SMALL(J$2:J$1000,ROW()-1),1),"") | D8: =IF([1]Inventaires!H9="","",[1]Inventaires!H9) -> 0100 Analgésiques | E8: =IF(OR(D8="",D8=D9),"",ROW()) | F8: =IF(OR([1]Inventaires!H9="",[1]Rapport!A$2<>[1]Inventaires!H9),"",[1]Inventaires!I9) | G8: =IF(F8="","",ROW()) | H8: =IF(OR(F8<>[1]Rapport!$C$1,F8=""),"",ROW()) | I8: =IF(COUNTIF($I$3:I7,F8)<1,F8,"") | J8: =IF(OR(I8=0,I8<>""),ROW(),"")
A9: =IF(ISERROR(SMALL(E$2:E$400,ROW()-1)),"",INDIRECT("D"&SMALL(E$2:E$400,ROW()-1))) -> 1300 Premiers soins | B9: =IF(ROW()-1<=J$1,INDIRECT("LD!I"&SMALL(J$2:J$1000,ROW()-1),1),"") | D9: =IF([1]Inventaires!H10="","",[1]Inventaires!H10) -> 0100 Analgésiques | E9: =IF(OR(D9="",D9=D10),"",ROW()) | F9: =IF(OR([1]Inventaires!H10="",[1]Rapport!A$2<>[1]Inventaires!H10),"",[1]Inventaires!I10) | G9: =IF(F9="","",ROW()) | H9: =IF(OR(F9<>[1]Rapport!$C$1,F9=""),"",ROW()) | I9: =IF(COUNTIF($I$3:I8,F9)<1,F9,"") | J9: =IF(OR(I9=0,I9<>""),ROW(),"")
A10: =IF(ISERROR(SMALL(E$2:E$400,ROW()-1)),"",INDIRECT("D"&SMALL(E$2:E$400,ROW()-1))) -> 1400 Soins à Domiciles | B10: =IF(ROW()-1<=J$1,INDIRECT("LD!I"&SMALL(J$2:J$1000,ROW()-1),1),"") | D10: =IF([1]Inventaires!H11="","",[1]Inventaires!H11) -> 0100 Analgésiques | E10: =IF(OR(D10="",D10=D11),"",ROW()) | F10: =IF(OR([1]Inventaires!H11="",[1]Rapport!A$2<>[1]Inventaires!H11),"",[1]Inventaires!I11) | G10: =IF(F10="","",ROW()) | H10: =IF(OR(F10<>[1]Rapport!$C$1,F10=""),"",ROW()) | I10: =IF(COUNTIF($I$3:I9,F10)<1,F10,"") | J10: =IF(OR(I10=0,I10<>""),ROW(),"")
A11: =IF(ISERROR(SMALL(E$2:E$400,ROW()-1)),"",INDIRECT("D"&SMALL(E$2:E$400,ROW()-1))) -> 1500 Soins de la Peau | B11: =IF(ROW()-1<=J$1,INDIRECT("LD!I"&SMALL(J$2:J$1000,ROW()-1),1),"") | D11: =IF([1]Inventaires!H12="","",[1]Inventaires!H12) -> 0100 Analgésiques | E11: =IF(OR(D11="",D11=D12),"",ROW()) -> 11 | F11: =IF(OR([1]Inventaires!H12="",[1]Rapport!A$2<>[1]Inventaires!H12),"",[1]Inventaires!I12) | G11: =IF(F11="","",ROW()) | H11: =IF(OR(F11<>[1]Rapport!$C$1,F11=""),"",ROW()) | I11: =IF(COUNTIF($I$3:I10,F11)<1,F11,"") | J11: =IF(OR(I11=0,I11<>""),ROW(),"")
A12: =IF(ISERROR(SMALL(E$2:E$400,ROW()-1)),"",INDIRECT("D"&SMALL(E$2:E$400,ROW()-1))) -> 3200 Cosmétique | B12: =IF(ROW()-1<=J$1,INDIRECT("LD!I"&SMALL(J$2:J$1000,ROW()-1),1),"") | D12: =IF([1]Inventaires!H13="","",[1]Inventaires!H13) -> 0300 Laxatifs et Anti-diarrhéique | E12: =IF(OR(D12="",D12=D13),"",ROW()) | F12: =IF(OR([1]Inventaires!H13="",[1]Rapport!A$2<>[1]Inventaires!H13),"",[1]Inventaires!I13) | G12: =IF(F12="","",ROW()) | H12: =IF(OR(F12<>[1]Rapport!$C$1,F12=""),"",ROW()) | I12: =IF(COUNTIF($I$3:I11,F12)<1,F12,"") | J12: =IF(OR(I12=0,I12<>""),ROW(),"")
A13: =IF(ISERROR(SMALL(E$2:E$400,ROW()-1)),"",INDIRECT("D"&SMALL(E$2:E$400,ROW()-1))) -> 3500 Hygiène corporelle | B13: =IF(ROW()-1<=J$1,INDIRECT("LD!I"&SMALL(J$2:J$1000,ROW()-1),1),"") | D13: =IF([1]Inventaires!H14="","",[1]Inventaires!H14) -> 0300 Laxatifs et Anti-diarrhéique | E13: =IF(OR(D13="",D13=D14),"",ROW()) -> 13 | F13: =IF(OR([1]Inventaires!H14="",[1]Rapport!A$2<>[1]Inventaires!H14),"",[1]Inventaires!I14) | G13: =IF(F13="","",ROW()) | H13: =IF(OR(F13<>[1]Rapport!$C$1,F13=""),"",ROW()) | I13: =IF(COUNTIF($I$3:I12,F13)<1,F13,"") | J13: =IF(OR(I13=0,I13<>""),ROW(),"")
A14: =IF(ISERROR(SMALL(E$2:E$400,ROW()-1)),"",INDIRECT("D"&SMALL(E$2:E$400,ROW()-1))) -> 3700 Hygiène Buccale | B14: =IF(ROW()-1<=J$1,INDIRECT("LD!I"&SMALL(J$2:J$1000,ROW()-1),1),"") | D14: =IF([1]Inventaires!H15="","",[1]Inventaires!H15) -> 0500 Diététique | E14: =IF(OR(D14="",D14=D15),"",ROW()) | F14: =IF(OR([1]Inventaires!H15="",[1]Rapport!A$2<>[1]Inventaires!H15),"",[1]Inventaires!I15) | G14: =IF(F14="","",ROW()) | H14: =IF(OR(F14<>[1]Rapport!$C$1,F14=""),"",ROW()) | I14: =IF(COUNTIF($I$3:I13,F14)<1,F14,"") | J14: =IF(OR(I14=0,I14<>""),ROW(),"")
A15: =IF(ISERROR(SMALL(E$2:E$400,ROW()-1)),"",INDIRECT("D"&SMALL(E$2:E$400,ROW()-1))) -> 3900 Rasage | B15: =IF(ROW()-1<=J$1,INDIRECT("LD!I"&SMALL(J$2:J$1000,ROW()-1),1),"") | D15: =IF([1]Inventaires!H16="","",[1]Inventaires!H16) -> 0500 Diététique | E15: =IF(OR(D15="",D15=D16),"",ROW()) | F15: =IF(OR([1]Inventaires!H16="",[1]Rapport!A$2<>[1]Inventaires!H16),"",[1]Inventaires!I16) | G15: =IF(F15="","",ROW()) | H15: =IF(OR(F15<>[1]Rapport!$C$1,F15=""),"",ROW()) | I15: =IF(COUNTIF($I$3:I14,F15)<1,F15,"") | J15: =IF(OR(I15=0,I15<>""),ROW(),"")
A16: =IF(ISERROR(SMALL(E$2:E$400,ROW()-1)),"",INDIRECT("D"&SMALL(E$2:E$400,ROW()-1))) -> 4000 Serviettes Sanitaires | B16: =IF(ROW()-1<=J$1,INDIRECT("LD!I"&SMALL(J$2:J$1000,ROW()-1),1),"") | D16: =IF([1]Inventaires!H17="","",[1]Inventaires!H17) -> 0500 Diététique | E16: =IF(OR(D16="",D16=D17),"",ROW()) | F16: =IF(OR([1]Inventaires!H17="",[1]Rapport!A$2<>[1]Inventaires!H17),"",[1]Inventaires!I17) | G16: =IF(F16="","",ROW()) | H16: =IF(OR(F16<>[1]Rapport!$C$1,F16=""),"",ROW()) | I16: =IF(COUNTIF($I$3:I15,F16)<1,F16,"") | J16: =IF(OR(I16=0,I16<>""),ROW(),"")
... A400: =IF(ISERROR(SMALL(E$2:E$400,ROW()-1)),"",INDIRECT("D"&SMALL(E$2:E$400,ROW()-1))) | B400: =IF(ROW()-1<=J$1,INDIRECT("LD!I"&SMALL(J$2:J$1000,ROW()-1),1),"") | D400: =IF([1]Inventaires!H401="","",[1]Inventaires!H401) | E400: =IF(OR(D400="",D400=D401),"",ROW()) | F400: =IF(OR([1]Inventaires!H401="",[1]Rapport!A$2<>[1]Inventaires!H401),"",[1]Inventaires!I401) | G400: =IF(F400="","",ROW()) | H400: =IF(OR(F400<>[1]Rapport!$C$1,F400=""),"",ROW()) | I400: =IF(COUNTIF($I$3:I399,F400)<1,F400,"") | J400: =IF(OR(I400=0,I400<>""),ROW(),"")
B401: =IF(ROW()-1<=G$1,INDIRECT("LD!I"&SMALL(G$2:G$1000,ROW()-1),1),"") | D401: =IF([1]Inventaires!H402="","",[1]Inventaires!H402) | E401: =IF(OR(D401="",D401=D402),"",ROW()) | F401: =IF(OR([1]Inventaires!H402="",[1]Rapport!A$2<>[1]Inventaires!H402),"",[1]Inventaires!I402) | G401: =IF(F401="","",ROW()) | H401: =IF(OR(F401<>[1]Rapport!$C$1,F401=""),"",ROW()) | I401: =IF(ROW()-1<=H$1,INDIRECT("Inventaires!d"&SMALL(H$2:H$1000,ROW()-1)+1,1),"")
B402: =IF(ROW()-1<=G$1,INDIRECT("LD!I"&SMALL(G$2:G$1000,ROW()-1),1),"") | D402: =IF([1]Inventaires!H403="","",[1]Inventaires!H403) | E402: =IF(OR(D402="",D402=D403),"",ROW()) | F402: =IF(OR([1]Inventaires!H403="",[1]Rapport!A$2<>[1]Inventaires!H403),"",[1]Inventaires!I403) | G402: =IF(F402="","",ROW()) | H402: =IF(OR(F402<>[1]Rapport!$C$1,F402=""),"",ROW()) | I402: =IF(ROW()-1<=H$1,INDIRECT("Inventaires!d"&SMALL(H$2:H$1000,ROW()-1)+1,1),"")
B403: =IF(ROW()-1<=G$1,INDIRECT("LD!I"&SMALL(G$2:G$1000,ROW()-1),1),"") | D403: =IF([1]Inventaires!H404="","",[1]Inventaires!H404) | E403: =IF(OR(D403="",D403=D404),"",ROW()) | F403: =IF(OR([1]Inventaires!H404="",[1]Rapport!A$2<>[1]Inventaires!H404),"",[1]Inventaires!I404) | G403: =IF(F403="","",ROW()) | H403: =IF(OR(F403<>[1]Rapport!$C$1,F403=""),"",ROW()) | I403: =IF(ROW()-1<=H$1,INDIRECT("Inventaires!d"&SMALL(H$2:H$1000,ROW()-1)+1,1),"")
B404: =IF(ROW()-1<=G$1,INDIRECT("LD!I"&SMALL(G$2:G$1000,ROW()-1),1),"") | D404: =IF([1]Inventaires!H405="","",[1]Inventaires!H405) | E404: =IF(OR(D404="",D404=D405),"",ROW()) | F404: =IF(OR([1]Inventaires!H405="",[1]Rapport!A$2<>[1]Inventaires!H405),"",[1]Inventaires!I405) | G404: =IF(F404="","",ROW()) | H404: =IF(OR(F404<>[1]Rapport!$C$1,F404=""),"",ROW()) | I404: =IF(ROW()-1<=H$1,INDIRECT("Inventaires!d"&SMALL(H$2:H$1000,ROW()-1)+1,1),"")
B405: =IF(ROW()-1<=G$1,INDIRECT("LD!I"&SMALL(G$2:G$1000,ROW()-1),1),"") | D405: =IF([1]Inventaires!H406="","",[1]Inventaires!H406) | E405: =IF(OR(D405="",D405=D406),"",ROW()) | F405: =IF(OR([1]Inventaires!H406="",[1]Rapport!A$2<>[1]Inventaires!H406),"",[1]Inventaires!I406) | G405: =IF(F405="","",ROW()) | H405: =IF(OR(F405<>[1]Rapport!$C$1,F405=""),"",ROW()) | I405: =IF(ROW()-1<=H$1,INDIRECT("Inventaires!d"&SMALL(H$2:H$1000,ROW()-1)+1,1),"")
B406: =IF(ROW()-1<=G$1,INDIRECT("LD!I"&SMALL(G$2:G$1000,ROW()-1),1),"") | D406: =IF([1]Inventaires!H407="","",[1]Inventaires!H407) | E406: =IF(OR(D406="",D406=D407),"",ROW()) | F406: =IF(OR([1]Inventaires!H407="",[1]Rapport!A$2<>[1]Inventaires!H407),"",[1]Inventaires!I407) | G406: =IF(F406="","",ROW()) | H406: =IF(OR(F406<>[1]Rapport!$C$1,F406=""),"",ROW()) | I406: =IF(ROW()-1<=H$1,INDIRECT("Inventaires!d"&SMALL(H$2:H$1000,ROW()-1)+1,1),"")
B407: =IF(ROW()-1<=G$1,INDIRECT("LD!I"&SMALL(G$2:G$1000,ROW()-1),1),"") | D407: =IF([1]Inventaires!H408="","",[1]Inventaires!H408) | E407: =IF(OR(D407="",D407=D408),"",ROW()) | F407: =IF(OR([1]Inventaires!H408="",[1]Rapport!A$2<>[1]Inventaires!H408),"",[1]Inventaires!I408) | G407: =IF(F407="","",ROW()) | H407: =IF(OR(F407<>[1]Rapport!$C$1,F407=""),"",ROW()) | I407: =IF(ROW()-1<=H$1,INDIRECT("Inventaires!d"&SMALL(H$2:H$1000,ROW()-1)+1,1),"")
B408: =IF(ROW()-1<=G$1,INDIRECT("LD!I"&SMALL(G$2:G$1000,ROW()-1),1),"") | D408: =IF([1]Inventaires!H409="","",[1]Inventaires!H409) | E408: =IF(OR(D408="",D408=D409),"",ROW()) | F408: =IF(OR([1]Inventaires!H409="",[1]Rapport!A$2<>[1]Inventaires!H409),"",[1]Inventaires!I409) | G408: =IF(F408="","",ROW()) | H408: =IF(OR(F408<>[1]Rapport!$C$1,F408=""),"",ROW()) | I408: =IF(ROW()-1<=H$1,INDIRECT("Inventaires!d"&SMALL(H$2:H$1000,ROW()-1)+1,1),"")
B409: =IF(ROW()-1<=G$1,INDIRECT("LD!I"&SMALL(G$2:G$1000,ROW()-1),1),"") | D409: =IF([1]Inventaires!H410="","",[1]Inventaires!H410) | E409: =IF(OR(D409="",D409=D410),"",ROW()) | F409: =IF(OR([1]Inventaires!H410="",[1]Rapport!A$2<>[1]Inventaires!H410),"",[1]Inventaires!I410) | G409: =IF(F409="","",ROW()) | H409: =IF(OR(F409<>[1]Rapport!$C$1,F409=""),"",ROW()) | I409: =IF(ROW()-1<=H$1,INDIRECT("Inventaires!d"&SMALL(H$2:H$1000,ROW()-1)+1,1),"")
B410: =IF(ROW()-1<=G$1,INDIRECT("LD!I"&SMALL(G$2:G$1000,ROW()-1),1),"") | D410: =IF([1]Inventaires!H411="","",[1]Inventaires!H411) | E410: =IF(OR(D410="",D410=D411),"",ROW()) | F410: =IF(OR([1]Inventaires!H411="",[1]Rapport!A$2<>[1]Inventaires!H411),"",[1]Inventaires!I411) | G410: =IF(F410="","",ROW()) | H410: =IF(OR(F410<>[1]Rapport!$C$1,F410=""),"",ROW()) | I410: =IF(ROW()-1<=H$1,INDIRECT("Inventaires!d"&SMALL(H$2:H$1000,ROW()-1)+1,1),"")
B411: =IF(ROW()-1<=G$1,INDIRECT("LD!I"&SMALL(G$2:G$1000,ROW()-1),1),"") | D411: =IF([1]Inventaires!H412="","",[1]Inventaires!H412) | E411: =IF(OR(D411="",D411=D412),"",ROW()) | F411: =IF(OR([1]Inventaires!H412="",[1]Rapport!A$2<>[1]Inventaires!H412),"",[1]Inventaires!I412) | G411: =IF(F411="","",ROW()) | H411: =IF(OR(F411<>[1]Rapport!$C$1,F411=""),"",ROW()) | I411: =IF(ROW()-1<=H$1,INDIRECT("Inventaires!d"&SMALL(H$2:H$1000,ROW()-1)+1,1),"")
B412: =IF(ROW()-1<=G$1,INDIRECT("LD!I"&SMALL(G$2:G$1000,ROW()-1),1),"") | D412: =IF([1]Inventaires!H413="","",[1]Inventaires!H413) | E412: =IF(OR(D412="",D412=D413),"",ROW()) | F412: =IF(OR([1]Inventaires!H413="",[1]Rapport!A$2<>[1]Inventaires!H413),"",[1]Inventaires!I413) | G412: =IF(F412="","",ROW()) | H412: =IF(OR(F412<>[1]Rapport!$C$1,F412=""),"",ROW()) | I412: =IF(ROW()-1<=H$1,INDIRECT("Inventaires!d"&SMALL(H$2:H$1000,ROW()-1)+1,1),"")
... B1000: =IF(ROW()-1<=G$1,INDIRECT("LD!I"&SMALL(G$2:G$1000,ROW()-1),1),"") | D1000: =IF([1]Inventaires!H1001="","",[1]Inventaires!H1001) | E1000: =IF(OR(D1000="",D1000=D1001),"",ROW()) | F1000: =IF(OR([1]Inventaires!H1001="",[1]Rapport!A$2<>[1]Inventaires!H1001),"",[1]Inventaires!I1001) | G1000: =IF(F1000="","",ROW()) | H1000: =IF(OR(F1000<>[1]Rapport!$C$1,F1000=""),"",ROW()) | I1000: =IF(ROW()-1<=H$1,INDIRECT("Inventaires!d"&SMALL(H$2:H$1000,ROW()-1)+1,1),"")

Sheet Rupture
A1: =IF(ISERROR(SMALL(Inventaires!$V$3:$V$318,ROW())),"",SMALL(Inventaires!$V$3:$V$318,ROW())) -> 3 | B1: =IF(A1="","",INDIRECT("Inventaires!B"&A1,1)) -> P Prud Homme AMP. DEL 60 W 2 amp | C1: =IF(A1="","",INDIRECT("Inventaires!O"&A1,1)) -> 621139600673 | D1: =COUNTIF(A:A,">=1")&" en rupture /"&COUNTA(Inventaires!C:C)-2 -> 148 en rupture /55
A2: =IF(ISERROR(SMALL(Inventaires!$V$3:$V$318,ROW())),"",SMALL(Inventaires!$V$3:$V$318,ROW())) -> 4 | B2: =IF(A2="","",INDIRECT("Inventaires!B"&A2,1)) -> HRS GLOBAL LOUPE/ LUMIERE DEL | C2: =IF(A2="","",INDIRECT("Inventaires!O"&A2,1)) -> 624274530829
A3: =IF(ISERROR(SMALL(Inventaires!$V$3:$V$318,ROW())),"",SMALL(Inventaires!$V$3:$V$318,ROW())) -> 9 | B3: =IF(A3="","",INDIRECT("Inventaires!B"&A3,1)) -> Sac au sol résidus organiques cuisine 10unités | C3: =IF(A3="","",INDIRECT("Inventaires!O"&A3,1)) -> 777080001011
A4: =IF(ISERROR(SMALL(Inventaires!$V$3:$V$318,ROW())),"",SMALL(Inventaires!$V$3:$V$318,ROW())) -> 10 | B4: =IF(A4="","",INDIRECT("Inventaires!B"&A4,1)) -> Proxim PRX JUNA ETUI BR/DENT | C4: =IF(A4="","",INDIRECT("Inventaires!O"&A4,1)) -> 6935485185161
A5: =IF(ISERROR(SMALL(Inventaires!$V$3:$V$318,ROW())),"",SMALL(Inventaires!$V$3:$V$318,ROW())) -> 11 | B5: =IF(A5="","",INDIRECT("Inventaires!B"&A5,1)) -> Relaxa 510g | C5: =IF(A5="","",INDIRECT("Inventaires!O"&A5,1)) -> 830853005019
A6: =IF(ISERROR(SMALL(Inventaires!$V$3:$V$318,ROW())),"",SMALL(Inventaires!$V$3:$V$318,ROW())) -> 12 | B6: =IF(A6="","",INDIRECT("Inventaires!B"&A6,1)) -> M.Net multi usage febreze 800ml | C6: =IF(A6="","",INDIRECT("Inventaires!O"&A6,1)) -> 037000163510
A7: =IF(ISERROR(SMALL(Inventaires!$V$3:$V$318,ROW())),"",SMALL(Inventaires!$V$3:$V$318,ROW())) -> 13 | B7: =IF(A7="","",INDIRECT("Inventaires!B"&A7,1)) -> Sucons au miel Labonté Rose | C7: =IF(A7="","",INDIRECT("Inventaires!O"&A7,1)) -> 626665006067
A8: =IF(ISERROR(SMALL(Inventaires!$V$3:$V$318,ROW())),"",SMALL(Inventaires!$V$3:$V$318,ROW())) -> 14 | B8: =IF(A8="","",INDIRECT("Inventaires!B"&A8,1)) -> Pastilles au miel Labonté | C8: =IF(A8="","",INDIRECT("Inventaires!O"&A8,1)) -> 626665006159
A9: =IF(ISERROR(SMALL(Inventaires!$V$3:$V$318,ROW())),"",SMALL(Inventaires!$V$3:$V$318,ROW())) -> 15 | B9: =IF(A9="","",INDIRECT("Inventaires!B"&A9,1)) -> Pastilles au miel Labonté Orange | C9: =IF(A9="","",INDIRECT("Inventaires!O"&A9,1)) -> 626665006166
A10: =IF(ISERROR(SMALL(Inventaires!$V$3:$V$318,ROW())),"",SMALL(Inventaires!$V$3:$V$318,ROW())) -> 16 | B10: =IF(A10="","",INDIRECT("Inventaires!B"&A10,1)) -> Pastilles au miel labonté Vert | C10: =IF(A10="","",INDIRECT("Inventaires!O"&A10,1)) -> 626665006173
A11: =IF(ISERROR(SMALL(Inventaires!$V$3:$V$318,ROW())),"",SMALL(Inventaires!$V$3:$V$318,ROW())) -> 17 | B11: =IF(A11="","",INDIRECT("Inventaires!B"&A11,1)) -> Pastilles au miel labonté Bleu | C11: =IF(A11="","",INDIRECT("Inventaires!O"&A11,1)) -> 626665006180
A12: =IF(ISERROR(SMALL(Inventaires!$V$3:$V$318,ROW())),"",SMALL(Inventaires!$V$3:$V$318,ROW())) -> 18 | B12: =IF(A12="","",INDIRECT("Inventaires!B"&A12,1)) -> Pastilles au miel labonté rouge | C12: =IF(A12="","",INDIRECT("Inventaires!O"&A12,1)) -> 626665006265
A13: =IF(ISERROR(SMALL(Inventaires!$V$3:$V$318,ROW())),"",SMALL(Inventaires!$V$3:$V$318,ROW())) -> 20 | B13: =IF(A13="","",INDIRECT("Inventaires!B"&A13,1)) -> Palmolive OXY 739 ml | C13: =IF(A13="","",INDIRECT("Inventaires!O"&A13,1)) -> 058000309746
... A416: =IF(ISERROR(SMALL(Inventaires!$V$3:$V$318,ROW())),"",SMALL(Inventaires!$V$3:$V$318,ROW())) | B416: =IF(A416="","",INDIRECT("Inventaires!B"&A416,1)) | C416: =IF(A416="","",INDIRECT("Inventaires!O"&A416,1))
A417: =IF(ISERROR(SMALL(Inventaires!$V$3:$V$318,ROW())),"",SMALL(Inventaires!$V$3:$V$318,ROW())) | C417: =IF(A417="","",INDIRECT("Inventaires!O"&A417,1))
A418: =IF(ISERROR(SMALL(Inventaires!$V$3:$V$318,ROW())),"",SMALL(Inventaires!$V$3:$V$318,ROW())) | C418: =IF(A418="","",INDIRECT("Inventaires!O"&A418,1))
A419: =IF(ISERROR(SMALL(Inventaires!$V$3:$V$318,ROW())),"",SMALL(Inventaires!$V$3:$V$318,ROW())) | C419: =IF(A419="","",INDIRECT("Inventaires!O"&A419,1))
A420: =IF(ISERROR(SMALL(Inventaires!$V$3:$V$318,ROW())),"",SMALL(Inventaires!$V$3:$V$318,ROW())) | C420: =IF(A420="","",INDIRECT("Inventaires!O"&A420,1))
A421: =IF(ISERROR(SMALL(Inventaires!$V$3:$V$318,ROW())),"",SMALL(Inventaires!$V$3:$V$318,ROW())) | C421: =IF(A421="","",INDIRECT("Inventaires!O"&A421,1))
A422: =IF(ISERROR(SMALL(Inventaires!$V$3:$V$318,ROW())),"",SMALL(Inventaires!$V$3:$V$318,ROW()))

Sheet Inventaires
A1: INVENTAIRE GÉNERÉ LE 08/01/2018 15:43:20
A2: REFERENCE | B2: NOM DU PRODUIT | C2: DESCRIPTION | D2: NUMERO DE LOT | E2: FAMILLE | F2: CATEGORIE | G2: SOUS CATEGORIE | H2: QTE | I2: STATUT | J2: TARIF | K2: VALEUR | L2: LIMITE DE COMMANDE | M2: EMPLACEMENT | N2: UNITÉ | O2: CODE-BARRES | P2: TVA | Q2: COULEUR | R2: TAILLE | S2: DATE DE PEREMPTION
A3: 621139600673 | B3: P Prud Homme AMP. DEL 60 W 2 amp | F3: 5500 Articles électriques | I3: RUPTURE | O3: 621139600673 | V3: =IF(I3="rupture",ROW(),"") -> 3
A4: 624274530829 | B4: HRS GLOBAL LOUPE/ LUMIERE DEL | F4: 5500 Articles électriques | I4: RUPTURE | O4: 624274530829 | V4: =IF(I4="rupture",ROW(),"") -> 4
A5: 686864015611 | B5: Amd Ritmed GANTS MEDICAL VINYLE SM | F5: 1400 Soins à Domiciles | H5: 25 | O5: 686864015611 | V5: =IF(I5="rupture",ROW(),"")
A6: 686864015628 | B6: Amd Ritmed GANTS VINYLE MOY | F6: 1400 Soins à Domiciles | H6: 8 | O6: 686864015628 | V6: =IF(I6="rupture",ROW(),"")
A7: 686864015635 | B7: Amd Ritmed GANTS VINYLE GR | F7: 1400 Soins à Domiciles | H7: 10 | O7: 686864015635 | V7: =IF(I7="rupture",ROW(),"")
A8: 686864015642 | B8: Amd Ritmed GANTS MEDICAL VINYLE XL | F8: 1400 Soins à Domiciles | H8: 4 | O8: 686864015642 | V8: =IF(I8="rupture",ROW(),"")
A9: 777080000000 | B9: Sac au sol résidus organiques cuisine 10unités | F9: 6200 Produits Écolo | I9: RUPTURE | O9: 777080001011 | V9: =IF(I9="rupture",ROW(),"") -> 9
A10: 6935485185161 | B10: Proxim PRX JUNA ETUI BR/DENT | F10: 3700 Hygiène Buccale | I10: RUPTURE | O10: 6935485185161 | V10: =IF(I10="rupture",ROW(),"") -> 10
A11: 004-134 | B11: Relaxa 510g | F11: 0300 Laxatifs et Anti-Diarrheique | I11: RUPTURE | O11: 830853005019 | V11: =IF(I11="rupture",ROW(),"") -> 11
A12: 005-782 | B12: M.Net multi usage febreze 800ml | F12: 4800 Produits Ménagers | I12: RUPTURE | O12: 037000163510 | V12: =IF(I12="rupture",ROW(),"") -> 12
A13: 006-067 | B13: Sucons au miel Labonté Rose | F13: 0900 Rhume et toux | I13: RUPTURE | O13: 626665006067 | V13: =IF(I13="rupture",ROW(),"") -> 13
A14: 006-159 | B14: Pastilles au miel Labonté | F14: 0900 Rhume et toux | I14: RUPTURE | O14: 626665006159 | V14: =IF(I14="rupture",ROW(),"") -> 14
A15: 006-166 | B15: Pastilles au miel Labonté Orange | F15: 0900 Rhume et toux | I15: RUPTURE | O15: 626665006166 | V15: =IF(I15="rupture",ROW(),"") -> 15
A16: 006-173 | B16: Pastilles au miel labonté Vert | F16: 0900 Rhume et toux | I16: RUPTURE | O16: 626665006173 | V16: =IF(I16="rupture",ROW(),"") -> 16
A17: 006-180 | B17: Pastilles au miel labonté Bleu | F17: 0900 Rhume et toux | I17: RUPTURE | O17: 626665006180 | V17: =IF(I17="rupture",ROW(),"") -> 17
A18: 006-265 | B18: Pastilles au miel labonté rouge | F18: 0900 Rhume et toux | I18: RUPTURE | O18: 626665006265 | V18: =IF(I18="rupture",ROW(),"") -> 18
A19: 007-234 | B19: Paperline Papier d'imprimante 8.5x11 | F19: 5000 Papeterie et Fournitures | H19: 190 | K19: 568.1 | M19: ND | O19: 612668141188 | V19: =IF(I19="rupture",ROW(),"")
A20: 007-697 | B20: Palmolive OXY 739 ml | F20: 4800 Produits Ménagers | I20: RUPTURE | O20: 058000309746 | V20: =IF(I20="rupture",ROW(),"") -> 20
A21: 008-422 | B21: Hertel MLT YLANG&JASM 800ml | F21: 4800 Produits Ménagers | H21: 10 | O21: 064267885060 | V21: =IF(I21="rupture",ROW(),"")
A22: 008-428 | B22: Hertel PL VAP AGR&LAV 700ml | F22: 4800 Produits Ménagers | H22: 7 | O22: 064267885053 | V22: =IF(I22="rupture",ROW(),"")
A23: 008-430 | B23: Hertel plus Agrumes et lavande rech 1L | F23: 4800 Produits Ménagers | H23: 13 | O23: 064267885077 | V23: =IF(I23="rupture",ROW(),"")
A24: 008-432 | B24: Hertel Jasmin et Lavande 700ml | F24: 4800 Produits Ménagers | H24: 6 | O24: 064267886159 | V24: =IF(I24="rupture",ROW(),"")
A25: 009-122 | B25: eponge de toilette medpro | F25: 3500 Hygiène corporelle | H25: 82 | O25: 057565091226 | V25: =IF(I25="rupture",ROW(),"")
A26: 014-651 | B26: La Parisienne LA PARIS ASS AZURA | F26: 4800 Produits Ménagers | I26: RUPTURE | O26: 069045269537 | V26: =IF(I26="rupture",ROW(),"") -> 26
A27: 014-756 | B27: La Parisienne LA PARIS ASSOUP INSPRA | F27: 4800 Produits Ménagers | I27: RUPTURE | O27: 069045269520 | V27: =IF(I27="rupture",ROW(),"") -> 27
A28: 019-682 | B28: Sunlight vaiselle Antibactérien orange 740ML | F28: 4800 Produits Ménagers | I28: RUPTURE | O28: 072613171071 | V28: =IF(I28="rupture",ROW(),"") -> 28
A29: 019-686 | B29: Sunlight Vaiselle citron frais 950ML | F29: 4800 Produits Ménagers | I29: RUPTURE | O29: 885967206272 | V29: =IF(I29="rupture",ROW(),"") -> 29
A30: 022-500 | B30: Cascade P/H ROUL DBL 8roul | F30: 4900 Produits de Papiers | I30: RUPTURE | O30: 771913771805 | V30: =IF(I30="rupture",ROW(),"") -> 30
A31: 024-449 | B31: Fiole Fle #30 Clr Proxim caisse de 130 | F31: 7200 Fournitures Commerce | H31: 5 | O31: 061025050210 | V31: =IF(I31="rupture",ROW(),"")
A32: 027-232 | B32: Sac Magique rectangle (allongé) | F32: 1200 Orthopédie | H32: 5 | O32: 778314110011 | V32: =IF(I32="rupture",ROW(),"")
A33: 028-969 | B33: royale P/HYG 200F CONF 3 epais | F33: 4900 Produits de Papiers | I33: RUPTURE | O33: 063435701201 | V33: =IF(I33="rupture",ROW(),"") -> 33
A34: 035-228 | B34: M.Net multi usage gain 800ml | F34: 4800 Produits Ménagers | I34: RUPTURE | O34: 056100075301 | V34: =IF(I34="rupture",ROW(),"") -> 34
